{"text_format":"1","workbook":"xlsx","n_sheets":6,"sheets":["Notes","InputPriceData","InputIndexData","CalculationsAndCharts","Follow","Transaction Summary"],"not_rendered":{"charts":3,"images":0,"macros":1,"external_links":1,"defined_names":52,"comments":4,"pivot_tables":0},"unopened":[],"bounds":{"document_bytes":16777216,"sheet_cells":100000,"rows_first":2000,"rows_last":500,"rows_between":2000,"halvings":0,"cell_chars":16384,"cell_head_chars":4096},"cells_cut":0,"cells_raw":0,"read":"whole","date_system":"1900"}

{"sheet":"Notes","index":0,"n_rows":60,"n_cols":3,"rows_kept":60,"cut":false,"hidden":false,"merged":[]}
["SimplifyIt.xlsm"]
["Coded beginning 2015-Nov-02 by Ronald McAllister (rpmac_xltt@sprynet.com)"]
[]
["This Workbook demonstrates an EXCEL version of the ideas presented"]
["by James E. Rich with John B. Rich in an article titled \"Simplify It\""]
["which appears in the January 2016 issue of"]
["\"Technical Analysis of Stocks and Commodities\" magazine."]
[]
["CalculationsAndCharts construction Notes:"]
[]
[null,"Functionality Note: To keep the index bars in sync with the stock price bars, I took the simple route of refreshing the index history "]
[null,"every time one asks for a stock price history retrieval."]
[]
[null,"Trend determination for the Index uses a very simple process. "]
[null,"Take a bar by bar delta of the Index SMA. If the delta is positive assign a 1, if negative assign a -1."]
[null,"Take a small bar count SMA of these assignments. If the result is positive assign TRUE (Up), if negative assign FALSE (Down)."]
[null,"In the rare possibility of a zero SMA of the assignments, propagate the TRUE or FALSE trend value from the previous bar."]
[null,"There are better trend determiners out there but this was quick and generally agreed with Eyeball Mark I."]
[]
[null,"To approximate figure 1 from the article: use data for Symbol HUM, plot dates 9/16/2014 to 4/20/2015."]
[null,"To approximate figure 2 from the article: use data for Symbol NOV, plot dates 8/27/2014 to 3/31/2015."]
[]
[null,"Changing the Trade Setup Entry Allowed screening controls will dramatically change which potential transactions make the cut."]
[null,"As will, to a lesser degree, the various SMA and Index Trend controls."]
[]
["Note re: Transaction Simulation "]
[null,"Signals are generated in this workbook by the closing price of a bar. "]
[null,null,"Logically, one cannot trade on that Closed bar so this simulation uses the OPEN price of the Next bar when initiating or exiting a position."]
[null,null,"The Long and Short shading seen on the Price chart reflect this one bar delay after signals."]
[]
[null,"The Transaction Summary tab lists the Long and Short trades displayed on the CalculationsAndCharts tab."]
[null,null,"The one exception happens when an active position appears at the left edge of the chart where the position was initiated on a bar"]
[null,null,"that occurred before the left edge of the chart. This logically incomplete position will be reflected in the listing on the "]
[null,null,"Transaction Summary tab but will not be included in the totals."]
[]
[null,"Currently, I do not have a good way to capture earnings dates from the web. So this simulation can not exit a transaction before an earnings release as described by the authors."]
[]
["Development Notes:"]
[null,null,"This workbook contains and uses VBA macros and VBA Class structures."]
[null,null,"Input Data"]
[null,null,"The data in this workbook is sorted date descending (most recent date at the top). All formulas and "]
[null,null,"VBA routines are built accordingly."]
[]
["Calculation and Chart Worksheet Usage Comments:"]
[null,null,"In General, Items in Bolded BLUE are items you may freely change to play what-if games. "]
[null,null,"Be sure to have a backup copy of the spreadsheet before you alter anything else."]
[]
["Features carried forward from the October 2015 TradersTips Template"]
[null,"Improved automation: changes to any of the following will automatically initiate calculations appropriate to reflect a change."]
[null,null,"Changing either of cells A11 (pan) or A12 (zoom) will automatically initiate the same chart sizing macros that the manual "]
[null,null,"\"Set Chart\" button uses."]
[null,"Added fail-over capability to attempt to retrieve company name and basic last trade info via screen scraper logic "]
[null,null,"using the Yahoo stock Summary page. Until now, the way I have been doing this reports that ^DJI is Not Found!"]
[null,null,"when there is history available. Will still report correctly for a truly Not Found Symbol"]
[null,null,"Minor drawbacks to the screen scrape of the stock summary page include: "]
[null,null,"Only date on the page is the date we request the page. I will use this date for now as the last trade date…"]
[null,null,"but the user should be aware that this is not necessarily the correct date if you are making the inquiry on"]
[null,null,"a weekend or market holiday. "]
[null,null,"This is not a big issue as the last real trade will already be accounted for in the history download by about 6 pm on the real date of the trade."]
[null,null,"Note: Failover is only used if what I have been doing all along reports a \"not found\"."]

{"sheet":"InputPriceData","index":1,"n_rows":523,"n_cols":244,"rows_kept":523,"cut":false,"hidden":false,"merged":[[4,31,8,31],[13,1,13,6],[13,10,13,14],[13,17,13,18],[11,22,14,22],[11,24,14,24],[11,25,14,25],[11,26,14,26],[11,27,14,27],[11,28,14,28],[11,29,14,29],[11,23,14,23],[10,22,10,29]]}
["Humana Inc. Common Stock (HUM) -NYQ (Daily)"]
["Last Trade:","2015-11-06",176.02,177.81,174.62,176.74,268101,"11:02am",-2.31,{"$f":"IFERROR(OFFSET(J2,0,-1,1,1)/(OFFSET(J2,0,-4,1,1)-OFFSET(J2,0,-1,1,1)),\"\")","v":-1.2901424183189052E-2},null,"Notes:","Online Yahoo Finance Query Interfaces used in the VBA code to obtain this data: ",null,null,null,null,null,null,null,null,null,null,null,null,null,null,null,null,null,null,null,null,null,null,null,null,null,null,null,null,null,null,null,null,null,null,null,null,null,null,null,null,null,null,null,null,null,null,null,null,null,null,null,null,null,null,null,null,null,null,null,null,null,null,null,null,null,null,null,null,null,null,null,null,null,null,null,null,null,null,null,null,null,null,null,null,null,null,null,null,null,null,null,null,null,null,null,null,null,null,null,null,null,null,null,null,null,null,null,null,null,null,null,null,null,null,null,null,null,null,null,null,null,null,null,null,null,null,null,null,null,null,null,null,null,null,null,null,null,null,null,null,null,null,null,null,null,null,null,null,null,null,null,null,null,null,null,null,null,null,null,null,null,null,null,null,null,null,null,null,null,null,null,null,null,null,null,null,null,null,null,null,null,null,null,null,null,null,null,null,null,null,null,null,null,null,null,null,null,null,null,null,null,null,null,null,null,null,null,null,null,null,null,null,null,null,null,null,null,null,null,null,null,null,null,null,null,null,null,null,null,null,241.79]
["Request Online Yahoo History for:",null,null,null,null,null,null,null,null,null,null,null,"A.) Price History Only: \"http://ichart.finance.yahoo.com/table.csv\""]
["Symbol","HUM",null,"Valid",null,null,null,null,{"$f":"OFFSET(I4,-2,0,1,1)","v":-2.31},null,null,null,"B.) Price History w/ imbedded divs n splits: \"http://ichart.finance.yahoo.com/x\""]
["From","1977-01-07",null,"Data",null,null,null,null,null,null,null,null,null,null,null,null,null,null,null,null,null,null,null,null,null,null,null,null,null,null,null,"Trailing 12 Div return (Cur Close)"]
["To",{"$f":"TODAY()","v":"2015-11-06"},null,"Types",{"$f":"VLOOKUP(B7,D7:E10,2,FALSE)","v":"d"},null,null,null,null,null,null,null,"C.) Fundamentals (in this case name and exchange):"]
["Data Type","Daily",null,"Daily","d",null,null,null,null,null,null,null," \"http://download.finance.yahoo.com/d/quotes.csv?\""]
[null,null,null,"Weekly","w",null,null,null,null,null,null,null,"For some how-to doc regarding this particular interface, including a list of the "]
["Available Data",null,null,"Monthly","m",null,null,null,null,null,null,null,"specific fields you can include in a request to this interface see:"]
["Bar Count: ",{"$f":"COUNTA(B15:B61303)-1","v":508},null,null,null,null,null,null,null,null,null,null,"http://www.gummy-stuff.org/Yahoo-data.htm",null,null,null,null,null,null,null,null,null,null,null,null,null,null,null,null,null,null,{"$f":"OFFSET(AC15,1,0,1,1)/OFFSET(N15,1,0,1,1)","v":6.4501527667760556E-3}]
["From: ",{"$f":"IF(B10<=0,\"\",OFFSET(B15,B10,IF(HistReqDataType=\"v\",1,0),1,1))","v":"2013-11-01"},null,null,null,null,null,null,null,null,null,null,"This web site includes a downloadable working EXCEL/VBA example ",null,null,null,null,null,null,null,null,null,"Trailing 12 Month Dividend Returns"]
["To: ",{"$f":"IF(B10<=0,\"\",IF(HistReqDataType=\"v\",OFFSET(B15,2,1,1,1),OFFSET(B15,1,0,1,1)))","v":"2015-11-06"},null,null,null,null,null,null,null,null,null,null,"of the capabilities of this interface.",null,null,null,null,null,null,null,null,null,"Raw Close price on Dividend date","Div Year and Month","Looking for year ago Div Year and Month","Year ago Div Date we found","row offset to year ago div Date","Same month flag","Trailing 12 Div Total","Trailing 12 Div return"]
[null,null,null,null,null,null,null,null,null,null,null,null,null,null,null,null,"Split History",null,{"$f":"COUNT(Q16:Q11303)","v":4},"Running","Dividend History"]
[null,"Raw Data Values",null,null,null,null,null,"Adjusted","Price Adjust","Vol Adjust","Adjusted Values",null,null,null,null,"Last","Effective","Shares",null,"Vol Adjust ",null,{"$f":"COUNT(U16:U11303)","v":63}]
["RelRow","Date","Open","High","Low","Close","Volume","Close","Factor","Factor","Open","High","Low","Close","Volume","Trade",42315,"New","Old",1,"Date","$ / Share"]
[1,"2015-11-06",176.02,177.81,174.62,176.74,268101,176.74,{"$f":"H16/F16","v":1},{"$f":"INDEX(OFFSET($T$15,0,0,$S$13+1,1),MATCH(B16,OFFSET($Q$15,0,0,$S$13+1,1),-1))","v":1},{"$f":"ROUND($I16*C16,2)","v":176.02},{"$f":"ROUND($I16*D16,2)","v":177.81},{"$f":"ROUND($I16*E16,2)","v":174.62},{"$f":"ROUND($I16*F16,2)","v":176.74},{"$f":"G16*J16","v":268101},"11:02am","1991-08-01",3,2,1.5,"2015-09-28",0.28999999999999998,{"$f":"(INDEX(OFFSET($F$15,1,0,$B$10,1),MATCH(U16,OFFSET($B$15,1,0,$B$10,1),-1)))","v":174.16000399999999},{"$f":"YEAR(U16)&RIGHT(\"0\"&MONTH(U16),2)","v":"201509"},{"$f":"YEAR(U16)-1&RIGHT(\"0\"&MONTH(U16),2)","v":"201409"},{"$f":"OFFSET(U15,AA16,0,1,1)","v":"2014-09-26"},{"$f":"MATCH(Y16,OFFSET($X$15,A16,0,$V$14+1-A16,1),-1)","v":5},{"$f":"IF(OR(AND(YEAR(U16)=YEAR(Z16),MONTH(U16)=MONTH(Z16)),MONTH(U16)=MONTH(Z16)),1,0)","v":1},{"$f":"(V16+IF(AA16-AB16=0,0,IFERROR(SUM(OFFSET(V16,1,0,AA16-AB16-1,1)),0)))","v":1.1400000000000001},{"$f":"AC16/(INDEX(OFFSET($F$15,1,0,$B$10,1),MATCH(U16,OFFSET($B$15,1,0,$B$10,1),-1)))","v":6.5457049484220278E-3}]
[2,"2015-11-05",177,179.979996,176.320007,179.050003,810900,179.050003,{"$f":"H17/F17","v":1},{"$f":"INDEX(OFFSET($T$15,0,0,$S$13+1,1),MATCH(B17,OFFSET($Q$15,0,0,$S$13+1,1),-1))","v":1},177,179.98,176.32,179.05,{"$f":"G17*J17","v":810900},null,"1984-02-01",6,5,1.8,"2015-06-26",0.28999999999999998,{"$f":"(INDEX(OFFSET($F$15,1,0,$B$10,1),MATCH(U17,OFFSET($B$15,1,0,$B$10,1),-1)))","v":195.5},{"$f":"YEAR(U17)&RIGHT(\"0\"&MONTH(U17),2)","v":"201506"},{"$f":"YEAR(U17)-1&RIGHT(\"0\"&MONTH(U17),2)","v":"201406"},{"$f":"OFFSET(U16,AA17,0,1,1)","v":"2014-06-26"},{"$f":"MATCH(Y17,OFFSET($X$15,A17,0,$V$14+1-A17,1),-1)","v":5},{"$f":"IF(OR(AND(YEAR(U17)=YEAR(Z17),MONTH(U17)=MONTH(Z17)),MONTH(U17)=MONTH(Z17)),1,0)","v":1},{"$f":"(V17+IF(AA17-AB17=0,0,IFERROR(SUM(OFFSET(V17,1,0,AA17-AB17-1,1)),0)))","v":1.1300000000000001},{"$f":"AC17/(INDEX(OFFSET($F$15,1,0,$B$10,1),MATCH(U17,OFFSET($B$15,1,0,$B$10,1),-1)))","v":5.7800511508951415E-3}]
[3,"2015-11-04",178.66999799999999,179.009995,176.009995,176.88000500000001,737900,176.88000500000001,{"$f":"H18/F18","v":1},{"$f":"INDEX(OFFSET($T$15,0,0,$S$13+1,1),MATCH(B18,OFFSET($Q$15,0,0,$S$13+1,1),-1))","v":1},178.67,179.01,176.01,176.88,{"$f":"G18*J18","v":737900},null,"1983-02-01",4,3,2.4,"2015-03-27",0.28000000000000003,177.520004,"201503","201403","2014-03-27",5,1,1.1200000000000001,6.3091481228222598E-3]
[4,"2015-11-03",179.979996,181.5,177.009995,178.529999,621900,178.529999,1,1,179.98,181.5,177.01,178.53,621900,null,"1982-02-01",3,2,3.5999999999999996,"2014-12-29",0.28000000000000003,144.479996,"201412","201312","2013-12-27",5,1,1.1100000000000001,7.6827244651917082E-3]
[5,"2015-11-02",179.949997,181.86999499999999,178.21000699999999,180.63999899999999,739000,180.63999899999999,1,1,179.95,181.87,178.21,180.64,739000,null,null,null,null,null,"2014-09-26",0.28000000000000003,131.729996,"201409","201309","2013-09-26",5,1,1.1000000000000001,8.3504139786051475E-3]
[6,"2015-10-30",180.80999800000001,182.11999499999999,178.55999800000001,178.63000500000001,950200,178.63000500000001,1,1,180.81,182.12,178.56,178.63,950200,null,null,null,null,null,"2014-06-26",0.28000000000000003,127.800003,"201406","201306","2013-06-26",5,1,1.0900000000000001,8.528951286487842E-3]
[7,"2015-10-29",178,183.300003,175.41000399999999,180.570007,1431700,180.570007,1,1,178,183.3,175.41,180.57,1431700,null,null,null,null,null,"2014-03-27",0.27,112.05999799999999,"201403","201303","2013-03-26",5,1,1.08,9.6376942644600099E-3]
[8,"2015-10-28",174.91000399999999,178.199997,171.30999800000001,178,1021700,178,1,1,174.91,178.2,171.31,178,1021700,null,null,null,null,null,"2013-12-27",0.27,103.050003,"201312","201212","2012-12-27",5,1,1.07,1.0383308770985674E-2]
[9,"2015-10-27",170.240005,177.029999,169.509995,175.16000399999999,1478100,175.16000399999999,1,1,170.24,177.03,169.51,175.16,1478100,null,null,null,null,null,"2013-09-26",0.27,93.010002,"201309","201209","2012-09-26",5,1,1.06,1.1396623773860365E-2]
[10,"2015-10-26",168.41000399999999,170.91999799999999,167.550003,170.240005,1672100,170.240005,1,1,168.41,170.92,167.55,170.24,1672100,null,null,null,null,null,"2013-06-26",0.27,93.010002,"201306","201206","2012-06-27",5,1,1.05,1.128910845523904E-2]
[11,"2015-10-23",165.029999,169.78999300000001,165.029999,168.199997,2746600,168.199997,1,1,165.03,169.79,165.03,168.2,2746600,null,null,null,null,null,"2013-03-26",0.26,93.010002,"201303","201203","2012-03-28",5,1,1.04,1.1181593136617715E-2]
[12,"2015-10-22",176.86000100000001,178.19000199999999,162.21000699999999,165.11000100000001,3516200,165.11000100000001,1,1,176.86,178.19,162.21,165.11,3516200,null,null,null,null,null,"2012-12-27",0.26,93.010002,"201212","201112","2011-12-28",5,1,1.03,1.1074077817996391E-2]
[13,"2015-10-21",186.58000200000001,186.85000600000001,170.75,177.14999399999999,2951700,177.14999399999999,1,1,186.58,186.85,170.75,177.15,2951700,null,null,null,null,null,"2012-09-26",0.26,93.010002,"201209","201109","2011-09-28",5,1,1.02,1.0966562499375068E-2]
[14,"2015-10-20",186.820007,187.449997,184.979996,185.91999799999999,845100,185.91999799999999,1,1,186.82,187.45,184.98,185.92,845100,null,null,null,null,null,"2012-06-27",0.26,93.010002,"201206","201106","2011-06-28",5,1,1.01,1.0859047180753744E-2]
[15,"2015-10-19",183.89999399999999,186.800003,183.89999399999999,186.66999799999999,1054000,186.66999799999999,1,1,183.9,186.8,183.9,186.67,1054000,null,null,null,null,null,"2012-03-28",0.25,93.010002,"201203","201103","2011-06-28",4,0,1,1.0751531862132419E-2]
[16,"2015-10-16",184,185.08000200000001,182.83000200000001,184.199997,1104200,184.199997,1,1,184,185.08,182.83,184.2,1104200,null,null,null,null,null,"2011-12-28",0.25,93.010002,"201112","201012","2011-06-28",3,0,0.75,8.0636488965993135E-3]
[17,"2015-10-15",181.13000500000001,183.36999499999999,180.199997,183.25,1081800,183.25,1,1,181.13,183.37,180.2,183.25,1081800,null,null,null,null,null,"2011-09-28",0.25,93.010002,"201109","201009","2011-06-28",2,0,0.5,5.3757659310662096E-3]
[18,"2015-10-14",184.60000600000001,185.69000199999999,181.300003,182.520004,716300,182.520004,1,1,184.6,185.69,181.3,182.52,716300,null,null,null,null,null,"2011-06-28",0.25,93.010002,"201106","201006","2011-06-28",1,1,0.25,2.6878829655331048E-3]
[19,"2015-10-13",180.529999,185.990005,180.529999,184.449997,1243300,184.449997,1,1,180.53,185.99,180.53,184.45,1243300,null,null,null,null,null,"1993-03-08",13.875,93.010002,"199303","199203","1992-03-26",5,1,14.55,0.15643478859402671]
[20,"2015-10-12",180.94000199999999,181.91000399999999,180.13000500000001,181.509995,479700,181.509995,1,1,180.94,181.91,180.13,181.51,479700,null,null,null,null,null,"1992-12-28",0.22500000000000001,93.010002,"199212","199112","1991-12-26",5,1,0.9,9.6763786759191776E-3]
[21,"2015-10-09",179.55999800000001,182.41999799999999,179.55999800000001,181.03999300000001,502000,181.03999300000001,1,1,179.56,182.42,179.56,181.04,502000,null,null,null,null,null,"1992-09-25",0.22500000000000001,93.010002,"199209","199109","1991-09-25",5,1,0.9,9.6763786759191776E-3]
[22,"2015-10-08",180.550003,181.220001,178.979996,180.300003,1096200,180.300003,1,1,180.55,181.22,178.98,180.3,1096200,null,null,null,null,null,"1992-06-25",0.22500000000000001,93.010002,"199206","199106","1991-06-25",5,1,0.9,9.6763786759191776E-3]
[23,"2015-10-07",179.46000699999999,181.050003,178.279999,180.91999799999999,851700,180.91999799999999,1,1,179.46,181.05,178.28,180.92,851700,null,null,null,null,null,"1992-03-26",0.22500000000000001,93.010002,"199203","199103","1991-03-25",5,1,0.89966999999999997,9.6728306704046731E-3]
[24,"2015-10-06",183.53999300000001,183.86000100000001,178.61000100000001,178.89999399999999,1332100,178.89999399999999,1,1,183.54,183.86,178.61,178.9,1332100,null,null,null,null,null,"1991-12-26",0.22500000000000001,93.010002,"199112","199012","1990-12-26",5,1,0.87466999999999995,9.4040423738513627E-3]
[25,"2015-10-05",184.61999499999999,185.25,181.64999399999999,183.36000100000001,877800,183.36000100000001,1,1,184.62,185.25,181.65,183.36,877800,null,null,null,null,null,"1991-09-25",0.22500000000000001,93.010002,"199109","199009","1990-09-25",5,1,0.84967000000000004,9.1352540772980523E-3]
[26,"2015-10-02",178.429993,183.58000200000001,176.5,183.509995,604000,183.509995,1,1,178.43,183.58,176.5,183.51,604000,null,null,null,null,null,"1991-06-25",0.22467000000000001,93.010002,"199106","199006","1990-06-26",5,1,0.82467000000000013,8.8664657807447436E-3]
[27,"2015-10-01",178.770004,180.550003,175.970001,180.070007,1131800,180.070007,1,1,178.77,180.55,175.97,180.07,1131800,null,null,null,null,null,"1991-03-25",0.2,93.010002,"199103","199003","1990-03-27",5,1,0.8,8.6012254897059361E-3]
[28,"2015-09-30",177.08999600000001,179.449997,175.720001,179,1853100,179,1,1,177.09,179.45,175.72,179,1853100,null,null,null,null,null,"1990-12-26",0.2,93.010002,"199012","198912","1989-12-26",5,1,0.77333000000000007,8.314482134942864E-3]
[29,"2015-09-29",174.35000600000001,177.300003,173.28999300000001,175.759995,1305600,175.759995,1,1,174.35,177.3,173.29,175.76,1305600,null,null,null,null,null,"1990-09-25",0.2,93.010002,"199009","198909","1989-09-27",5,1,0.7466600000000001,8.0277387801797936E-3]
[30,"2015-09-28",180.28999300000001,180.929993,172.71000699999999,174.16000399999999,1755800,174.16000399999999,1,1,180.29,180.93,172.71,174.16,1755800,null,null,null,null,null,"1990-06-26",0.2,93.010002,"199006","198906","1989-06-27",5,1,0.71999000000000013,7.7409954254167215E-3]
[31,"2015-09-25",186.88999899999999,187.58000200000001,180.679993,181.14999399999999,1305000,180.85999799999999,0.9983991387821961,1,186.59,187.28,180.39,180.86,1305000,null,null,null,null,null,"1990-03-27",0.17333000000000001,93.010002,"199003","198903","1989-03-28",5,1,0.69332000000000005,7.4542520706536494E-3]
[32,"2015-09-24",187.61999499999999,188.33000200000001,184.64999399999999,185.970001,607800,185.67228900000001,0.99839913965478766,1,187.32,188.03,184.35,185.67,607800,null,null,null,null,null,"1989-12-26",0.17333000000000001,93.010002,"198912","198812","1988-12-23",5,1,0.67332000000000003,7.2392214334110003E-3]
[33,"2015-09-23",188.470001,189.60000600000001,187.11000100000001,188.679993,569100,188.37794199999999,0.99839913604406372,1,188.17,189.3,186.81,188.38,569100,null,null,null,null,null,"1989-09-27",0.17333000000000001,93.010002,"198909","198809","1988-09-27",5,1,0.65332000000000001,7.0241907961683522E-3]
[34,"2015-09-22",187.66999799999999,189.19000199999999,185.13999899999999,188.64999399999999,478600,188.34799100000001,0.9983991359151595,1,187.37,188.89,184.84,188.35,478600,null,null,null,null,null,"1989-06-27",0.17333000000000001,93.010002,"198906","198806","1988-06-27",5,1,0.63331999999999999,6.8091601589257032E-3]
[35,"2015-09-21",188.61999499999999,190.199997,186.88999899999999,188.83999600000001,546200,188.53769,0.9983991420969951,1,188.32,189.9,186.59,188.54,546200,null,null,null,null,null,"1989-03-28",0.15332999999999999,93.010002,"198903","198803","1988-03-25",5,1,0.61331999999999998,6.5941295216830551E-3]
[36,"2015-09-18",187.71000699999999,188.69000199999999,187.199997,187.88999899999999,1042300,187.589214,0.99839914310713263,1,187.41,188.39,186.9,187.59,1042300,null,null,null,null,null,"1988-12-23",0.15332999999999999,93.010002,"198812","198712","1987-12-28",5,1,0.59331999999999996,6.379098884440406E-3]
[37,"2015-09-17",188.10000600000001,190.10000600000001,187.25,188.58999600000001,906700,188.28809000000001,0.9983991409597357,1,187.8,189.8,186.95,188.29,906700,null,null,null,null,null,"1988-09-27",0.15332999999999999,93.010002,"198809","198709","1987-09-28",5,1,0.57332000000000005,6.1640682471977588E-3]
[38,"2015-09-16",188.14999399999999,188.36000100000001,187.070007,187.61999499999999,631900,187.31964099999999,0.99839913650994394,1,187.85,188.06,186.77,187.32,631900,null,null,null,null,null,"1988-06-27",0.15332999999999999,93.010002,"198806","198706","1987-06-25",5,1,0.55332000000000003,5.9490376099551106E-3]
[39,"2015-09-15",187.199997,189.11999499999999,186.300003,187.69000199999999,590600,187.38953699999999,0.99839914221962656,1,186.9,188.82,186,187.39,590600,null,null,null,null,null,"1988-03-25",0.13333,93.010002,"198803","198703","1987-03-27",5,1,0.53332000000000002,5.7340069727124616E-3]
[40,"2015-09-14",186.5,187.429993,185.66999799999999,187,423800,186.700639,0.99839913903743316,1,186.2,187.13,185.37,186.7,423800,null,null,null,null,null,"1987-12-28",0.13333,93.010002,"198712","198612","1986-12-26",5,1,0.52666000000000002,5.6624017705106597E-3]
[41,"2015-09-11",184.63000500000001,187.38000500000001,184.279999,187.320007,574600,187.02013400000001,0.99839914056804413,1,184.33,187.08,183.98,187.02,574600,null,null,null,null,null,"1987-09-28",0.13333,93.010002,"198709","198609","1986-09-29",5,1,0.52,5.5907965683088577E-3]
[42,"2015-09-10",185.38999899999999,185.96000699999999,184.25,185.21000699999999,853600,184.913511,0.99839913617626508,1,185.09,185.66,183.96,184.91,853600,null,null,null,null,null,"1987-06-25",0.13333,93.010002,"198706","198606","1986-06-27",5,1,0.51334000000000002,5.5191913661070558E-3]
[43,"2015-09-09",185.91999799999999,188.240005,184.83999600000001,185.14999399999999,817100,184.85359399999999,0.99839913578393091,1,185.62,187.94,184.54,184.85,817100,null,null,null,null,null,"1987-03-27",0.12667,93.010002,"198703","198603","1986-03-26",5,1,0.50668000000000002,5.4475861639052539E-3]
[44,"2015-09-08",183.979996,185.25,183.240005,184.979996,600600,184.68386799999999,0.99839913500700905,1,183.69,184.95,182.95,184.68,600600,null,null,null,null,null,"1986-12-26",0.12667,93.010002,"198612","198512","1985-12-27",5,1,0.50668000000000002,5.4475861639052539E-3]
[45,"2015-09-04",180.300003,182.949997,179.5,181.520004,650000,181.22941599999999,0.99839914062584523,1,180.01,182.66,179.21,181.23,650000,null,null,null,null,null,"1986-09-29",0.12667,93.010002,"198609","198509","1985-09-30",5,1,0.50668000000000002,5.4475861639052539E-3]
[46,"2015-09-03",182.35000600000001,184.429993,181.03999300000001,182.16000399999999,743200,181.868391,0.99839913815548675,1,182.06,184.13,180.75,181.87,743200,null,null,null,null,null,"1986-06-27",0.12667,93.010002,"198606","198506","1985-06-27",5,1,0.49334,5.3041607288644077E-3]
[47,"2015-09-02",181.10000600000001,181.699997,178.83000200000001,181.699997,1074900,181.40912,0.99839913591192853,1,180.81,181.41,178.54,181.41,1074900,null,null,null,null,null,"1986-03-26",0.12667,93.010002,"198603","198503","1985-03-27",5,1,0.48,5.1607352938235606E-3]
[48,"2015-09-01",179.88000500000001,181.679993,178.470001,179.25,1026800,178.96304599999999,0.99839914086471404,1,179.59,181.39,178.18,178.96,1026800,null,null,null,null,null,"1985-12-27",0.12667,93.010002,"198512","198412","1984-12-28",5,1,0.46666000000000002,5.0173098587827144E-3]
[49,"2015-08-31",184.10000600000001,186.179993,182.720001,182.78999300000001,921100,182.49737200000001,0.99839914102956395,1,183.81,185.88,182.43,182.5,921100,null,null,null,null,null,"1985-09-30",0.11333,93.010002,"198509","198409","1984-09-27",5,1,0.45332,4.8738844237418682E-3]
[50,"2015-08-28",184.070007,185.05999800000001,183.08999600000001,184.009995,506400,183.71541999999999,0.99839913587302687,1,183.78,184.76,182.8,183.72,506400,null,null,null,null,null,"1985-06-27",0.11333,93.010002,"198506","198406","1984-06-27",5,1,0.43998999999999999,4.7305665040196431E-3]
[51,"2015-08-27",181.03999300000001,184.89999399999999,180.800003,184.80999800000001,1030600,184.51414199999999,0.99839913422865778,1,180.75,184.6,180.51,184.51,1030600,null,null,null,null,null,"1985-03-27",0.11333,93.010002,"198503","198403","1984-03-27",5,1,0.42665999999999998,4.5872485842974172E-3]
[52,"2015-08-26",178.929993,181.08999600000001,176.16999799999999,180.729996,1383600,180.44067200000001,0.99839913679852021,1,178.64,180.8,175.89,180.44,1383600,null,null,null,null,null,"1984-12-28",0.11333,93.010002,"198412","198312","1983-12-28",5,1,0.41333000000000003,4.4439306645751931E-3]
[53,"2015-08-25",177.69000199999999,181.63000500000001,175.449997,175.46000699999999,1161800,175.17912000000001,0.99839913946885928,1,177.41,181.34,175.17,175.18,1161800,null,null,null,null,null,"1984-09-27",0.1,93.010002,"198409","198309","1983-09-27",5,1,0.4,4.300612744852968E-3]
[54,"2015-08-24",170.759995,180.36000100000001,169.39999399999999,175.179993,1895400,174.89955399999999,0.99839913796548674,1,170.49,180.07,169.13,174.9,1895400,null,null,null,null,null,"1984-06-27",0.1,93.010002,"198406","198306","1983-06-29",5,1,0.38333000000000006,4.1213847087112204E-3]
[55,"2015-08-21",184.929993,185.970001,181.729996,181.729996,1270800,181.43907100000001,0.99839913604576325,1,184.63,185.67,181.44,181.44,1270800,null,null,null,null,null,"1984-03-27",0.1,93.010002,"198403","198303","1983-03-28",5,1,0.36665999999999999,3.9421566725694728E-3]
[56,"2015-08-20",188.08999600000001,189.58000200000001,185.449997,186.08999600000001,1223600,185.792092,0.9983991401665675,1,187.79,189.28,185.15,185.79,1223600,null,null,null,null,null,"1983-12-28",0.1,93.010002,"198312","198212","1982-12-29",5,1,0.34999000000000002,3.7629286364277256E-3]
[57,"2015-08-19",189.570007,190.60000600000001,188.60000600000001,189.39999399999999,623700,189.096791,0.998399139336826,1,189.27,190.29,188.3,189.1,623700,null,null,null,null,null,"1983-09-27",8.3330000000000001E-2,93.010002,"198309","198209","1982-09-28",5,1,0.33332000000000001,3.583700600285978E-3]
[58,"2015-08-18",188.990005,192.490005,188.259995,190.529999,915400,190.224987,0.99839913923476165,1,188.69,192.18,187.96,190.22,915400,null,null,null,null,null,"1983-06-29",8.3330000000000001E-2,93.010002,"198306","198206","1982-06-29",5,1,0.31248999999999999,3.3597461915977596E-3]
[59,"2015-08-17",185.470001,190.33000200000001,185.10000600000001,189.75,1168400,189.446237,0.99839914097496707,1,185.17,190.03,184.8,189.45,1168400,null,null,null,null,null,"1983-03-28",8.3330000000000001E-2,93.010002,"198303","198203","1982-03-29",5,1,0.29166000000000003,3.1357917829095416E-3]
[60,"2015-08-14",185.529999,188.14999399999999,185.05999800000001,186.509995,1122200,186.21141800000001,0.99839913673259173,1,185.23,187.85,184.76,186.21,1122200,null,null,null,null,null,"1982-12-29",8.3330000000000001E-2,93.010002,"198212","198112","1982-03-29",4,0,0.27083000000000002,2.9118373742213232E-3]
[61,"2015-08-13",186,187.30999800000001,185.25,186.05999800000001,564800,185.76214100000001,0.9983991346705271,1,185.7,187.01,184.95,185.76,564800,null,null,null,null,null,"1982-09-28",6.25E-2,93.010002,"198209","198109","1982-03-29",3,0,0.1875,2.0159122241498284E-3]
[62,"2015-08-12",185.30999800000001,186.179993,182.679993,186.08999600000001,1088100,185.792092,0.9983991401665675,1,185.01,185.88,182.39,185.79,1088100,null,null,null,null,null,"1982-06-29",6.25E-2,93.010002,"198206","198106","1982-03-29",2,0,0.125,1.3439414827665524E-3]
[63,"2015-08-11",185.21000699999999,186.60000600000001,184.529999,185.820007,1085800,185.522535,0.99839913901197952,1,184.91,186.3,184.23,185.52,1085800,null,null,null,null,null,"1982-03-29",6.25E-2,93.010002,"198203","198103","1982-03-29",1,1,6.25E-2,6.719707413832762E-4]
[64,"2015-08-10",184.53999300000001,186.550003,183.970001,186.259995,719800,185.96181799999999,0.99839913557390569,1,184.24,186.25,183.68,185.96,719800]
[65,"2015-08-07",184.779999,184.779999,182.55999800000001,184.05999800000001,718200,183.765343,0.99839913613386,1,{"$f":"ROUND($I80*C80,2)","v":184.48},{"$f":"ROUND($I80*D80,2)","v":184.48},{"$f":"ROUND($I80*E80,2)","v":182.27},{"$f":"ROUND($I80*F80,2)","v":183.77},718200]
[66,"2015-08-06",185.759995,186.990005,184.38999899999999,184.520004,1114000,184.22461300000001,0.99839913833949412,1,185.46,186.69,184.09,184.22,1114000]
[67,"2015-08-05",183.28999300000001,186.08999600000001,182.94000199999999,185.53999300000001,1314900,185.24296899999999,{"$f":"H82/F82","v":0.99839913759186127},{"$f":"INDEX(OFFSET($T$15,0,0,$S$13+1,1),MATCH(B82,OFFSET($Q$15,0,0,$S$13+1,1),-1))","v":1},183,185.79,182.65,185.24,{"$f":"G82*J82","v":1314900}]
[68,"2015-08-04",182.929993,184.38000500000001,181.41000399999999,182.33000200000001,1117800,182.038117,0.99839913894148913,1,182.64,184.08,181.12,182.04,1117800]
[69,"2015-08-03",182.5,184.21000699999999,181.33000200000001,182.39999399999999,1012300,182.10799700000001,0.99839913920172618,1,182.21,183.92,181.04,182.11,1012300]
[70,"2015-07-31",184.14999399999999,184.91999799999999,181.279999,182.08999600000001,1357700,181.798495,0.99839913775383893,1,183.86,184.62,180.99,181.8,1357700]
[71,"2015-07-30",184.96000699999999,186,183.199997,183.699997,740500,183.40591900000001,0.99839913987587059,1,184.66,185.7,182.91,183.41,740500]
[72,"2015-07-29",183.83999600000001,184.88999899999999,182.28999300000001,184.41000399999999,1077200,184.114789,0.99839913782551637,1,183.55,184.59,182,184.11,1077200]
[73,"2015-07-28",184.16000399999999,184.86000100000001,181.86000100000001,184.520004,1214600,184.22461300000001,0.99839913833949412,1,183.87,184.56,181.57,184.22,1214600]
[74,"2015-07-27",181.009995,184.229996,180.28999300000001,183.91000399999999,1184400,183.615589,0.99839913548150439,1,180.72,183.94,180,183.62,1184400]
[75,"2015-07-24",184.009995,184.08999600000001,181.020004,181.759995,1506300,181.469022,0.99839913617955367,1,183.72,183.8,180.73,181.47,1506300]
[76,"2015-07-23",186.21000699999999,186.479996,184.21000699999999,184.729996,1506700,184.434269,0.99839913924969714,1,185.91,186.18,183.92,184.43,1506700]
[77,"2015-07-22",185.85000600000001,186.88000500000001,184.91000399999999,186.10000600000001,1803800,185.802086,0.99839914029879184,1,185.55,186.58,184.61,185.8,1803800]
[78,"2015-07-21",186.259995,187.220001,184.529999,185.85000600000001,1234200,185.55248599999999,0.99839913914234679,1,185.96,186.92,184.23,185.55,1234200]
[79,"2015-07-20",188.070007,188.240005,185.759995,186.16000399999999,1285300,185.861987,0.99839913518695467,1,187.77,187.94,185.46,185.86,1285300]
[80,"2015-07-17",186.38000500000001,187.770004,185.990005,187.44000199999999,1545300,187.139937,0.99839914107555339,1,186.08,187.47,185.69,187.14,1545300]
[81,"2015-07-16",187.89999399999999,187.979996,185.720001,186.41999799999999,1806800,186.121566,0.99839914170581634,1,187.6,187.68,185.42,186.12,1806800]
[82,"2015-07-15",186.029999,187.990005,185.39999399999999,187.479996,1635200,187.179866,0.99839913587367479,1,185.73,187.69,185.1,187.18,1635200]
[83,"2015-07-14",186.16999799999999,186.979996,185.050003,186.13999899999999,1506200,185.842015,0.99839914042333278,1,185.87,186.68,184.75,185.84,1506200]
[84,"2015-07-13",188.25,188.25,183.679993,185.10000600000001,2691100,184.803687,0.99839914105675387,1,187.95,187.95,183.39,184.8,2691100]
[85,"2015-07-10",188,188.14999399999999,186.020004,187.25,2234900,186.95023900000001,0.99839914018691589,1,187.7,187.85,185.72,186.95,2234900]
[86,"2015-07-09",187.259995,188.13999899999999,186.16000399999999,186.16000399999999,3591300,185.861987,0.99839913518695467,1,186.96,187.84,185.86,185.86,3591300]
[87,"2015-07-08",186.009995,187.740005,185.46000699999999,185.86000100000001,3527800,185.56246400000001,0.99839913376520428,1,185.71,187.44,185.16,185.56,3527800]
[88,"2015-07-07",188.39999399999999,189.39999399999999,181.820007,187.10000600000001,6097700,186.80048500000001,0.99839913954893189,1,188.1,189.1,181.53,186.8,6097700]
[89,"2015-07-06",190,195,187.61999499999999,188.96000699999999,13944900,188.65750800000001,0.99839913744287712,1,189.7,194.69,187.32,188.66,13944900]
[90,"2015-07-02",192.020004,192.929993,185.009995,187.5,3720400,187.199838,0.99839913599999996,1,191.71,192.62,184.71,187.2,3720400]
[91,"2015-07-01",191.86999499999999,194.11000100000001,189.779999,193.13999899999999,1884200,192.83080899999999,0.99839914051154155,1,191.56,193.8,189.48,192.83,1884200]
[92,"2015-06-30",193.86999499999999,196.300003,191.03999300000001,191.279999,3055100,190.97378599999999,0.99839913738184405,1,193.56,195.99,190.73,190.97,3055100]
[93,"2015-06-29",193,194.39999399999999,189.259995,192.89999399999999,3176800,192.59118799999999,0.99839913940069902,1,192.69,194.09,188.96,192.59,3176800]
[94,"2015-06-26",199.009995,200,194.14999399999999,195.5,8626300,195.18703199999999,0.9983991406649616,1,198.69,199.68,193.84,195.19,8626300]
[95,"2015-06-25",184.83000200000001,199.990005,184.38000500000001,197.36999499999999,8331700,196.76449299999999,0.99693214766509974,1,184.26,199.38,183.81,196.76,8331700]
[96,"2015-06-24",188.990005,189.83999600000001,184.229996,184.229996,2980000,183.664806,0.99693214996324486,1,188.41,189.26,183.66,183.66,2980000]
[97,"2015-06-23",189.470001,193.69000199999999,185.11000100000001,189.86000100000001,5301700,189.27753799999999,0.99693214475438663,1,188.89,193.1,184.54,189.28,5301700]
[98,"2015-06-22",207,207.570007,189.029999,189.94000199999999,7556000,189.35729499999999,0.99693215229091137,1,206.36,206.93,188.45,189.36,7556000]
[99,"2015-06-19",199.61999499999999,202.679993,198.429993,202.30999800000001,1951900,201.68934100000001,0.99693214865238644,1,199.01,202.06,197.82,201.69,1951900]
[100,"2015-06-18",201.300003,202.83999600000001,198.91000399999999,199.300003,1864200,198.68858,0.99693214756248649,1,200.68,202.22,198.3,198.69,1864200]
[101,"2015-06-17",200.5,205.300003,200.5,200.88999899999999,3082000,200.27369899999999,0.99693215190866724,1,199.88,204.67,199.88,200.27,3082000]
[102,"2015-06-16",202.94000199999999,206.259995,199.38999899999999,199.60000600000001,6326700,198.987663,0.99693214939081709,1,202.32,205.63,198.78,198.99,6326700]
[103,"2015-06-15",211.66000399999999,217.770004,198.800003,206.58000200000001,8060500,205.946245,0.99693214738181679,1,211.01,217.1,198.19,205.95,8060500]
[104,"2015-06-12",213.009995,215.36999499999999,212.21000699999999,212.470001,2334100,211.818175,0.99693215043567496,1,212.36,214.71,211.56,211.82,2334100]
[105,"2015-06-11",215.070007,216.66000399999999,213.36999499999999,214.16999799999999,1692800,213.512957,0.99693215200011354,1,214.41,216,212.72,213.51,1692800]
[106,"2015-06-10",212.36999499999999,215.550003,211.550003,214.449997,2558500,213.79209599999999,0.99693214731077839,1,211.72,214.89,210.9,213.79,2558500]
[107,"2015-06-09",211.94000199999999,213.740005,211.39999399999999,212.470001,1897200,211.818175,0.99693215043567496,1,211.29,213.08,210.75,211.82,1897200]
[108,"2015-06-08",216.550003,219.479996,212.029999,212.33000200000001,2782500,211.678605,0.99693214810029529,1,215.89,218.81,211.38,211.68,2782500]
[109,"2015-06-05",212.479996,214.800003,211.13999899999999,214.38000500000001,1736000,213.722319,0.99693214859286894,1,211.83,214.14,210.49,213.72,1736000]
[110,"2015-06-04",212.5,214,211.46000699999999,213,1725200,212.34654800000001,0.9969321502347418,1,211.85,213.34,210.81,212.35,1725200]
[111,"2015-06-03",214.5,215.10000600000001,212.300003,213.61000100000001,2662300,212.954677,0.99693214738573965,1,213.84,214.44,211.65,212.95,2662300]
[112,"2015-06-02",214.66000399999999,216.020004,213.550003,214.740005,2159500,214.08121499999999,0.99693215057902229,1,214,215.36,212.89,214.08,2159500]
[113,"2015-06-01",213.14999399999999,217,210.33000200000001,214.91999799999999,5087400,214.26065600000001,0.99693215146968328,1,212.5,216.33,209.68,214.26,5087400]
[114,"2015-05-29",178.61999499999999,219.78999300000001,176.41000399999999,214.64999399999999,9938100,213.99148,0.99693214992589285,1,178.07,219.12,175.87,213.99,9938100]
[115,"2015-05-28",178.08000200000001,179.75,177.270004,178.41000399999999,1105200,177.86266800000001,0.99693214512791573,1,177.53,179.2,176.73,177.86,1105200]
[116,"2015-05-27",178.740005,180.16999799999999,177.820007,178.520004,1046500,177.972331,0.99693214772726535,1,178.19,179.62,177.27,177.97,1046500]
[117,"2015-05-26",178.10000600000001,178.83999600000001,176.529999,177.88000500000001,1099400,177.33429599999999,0.99693215097447285,1,177.55,178.29,175.99,177.33,1099400]
[118,"2015-05-22",178.33999600000001,179.509995,177.21000699999999,179,1144000,178.45085499999999,0.99693215083798881,1,177.79,178.96,176.67,178.45,1144000]
[119,"2015-05-21",177.88000500000001,179.38999899999999,177.020004,178.759995,904500,178.21158500000001,0.99693214357048965,1,177.33,178.84,176.48,178.21,904500]
[120,"2015-05-20",177.75,179.25,176.96000699999999,178.53999300000001,684100,177.99225899999999,0.99693214953805886,1,177.2,178.7,176.42,177.99,684100]
[121,"2015-05-19",176.35000600000001,178.96000699999999,176.300003,177.740005,1224800,177.194726,0.99693215379396438,1,175.81,178.41,175.76,177.19,1224800]
[122,"2015-05-18",175.300003,177.30999800000001,175.25,176.61000100000001,1143100,176.06818699999999,0.99693214429006194,1,174.76,176.77,174.71,176.07,1143100]
[123,"2015-05-15",175.009995,175.91000399999999,173.46000699999999,175.89999399999999,743200,175.36035899999999,0.99693214884362069,1,174.47,175.37,172.93,175.36,743200]
[124,"2015-05-14",174.770004,176.240005,173.86000100000001,174.25,1264900,173.71542700000001,0.9969321492109039,1,174.23,175.7,173.33,173.72,1264900]
[125,"2015-05-13",173.08000200000001,173.88000500000001,171.5,173.5,1727600,172.96772799999999,0.99693214985590772,1,172.55,173.35,170.97,172.97,1727600]
[126,"2015-05-12",166.63000500000001,174,166.520004,173.38000500000001,3630200,172.84810100000001,0.99693214912526973,1,166.12,173.47,166.01,172.85,3630200]
[127,"2015-05-11",167.55999800000001,168.63999899999999,166.429993,166.61999499999999,1064000,166.10883000000001,0.99693215091021947,1,167.05,168.12,165.92,166.11,1064000]
[128,"2015-05-08",165.86000100000001,168.199997,165.08999600000001,167.89999399999999,1282700,167.38490200000001,0.99693214997970769,1,165.35,167.68,164.58,167.38,1282700]
[129,"2015-05-07",162.63000500000001,166.270004,162.63000500000001,164.53999300000001,917900,164.03520900000001,0.99693215010650937,1,{"$f":"ROUND($I144*C144,2)","v":162.13},{"$f":"ROUND($I144*D144,2)","v":165.76},{"$f":"ROUND($I144*E144,2)","v":162.13},{"$f":"ROUND($I144*F144,2)","v":164.04},917900]
[130,"2015-05-06",165.28999300000001,165.38000500000001,162.35000600000001,163.070007,1579600,162.56973300000001,0.99693215196832619,1,164.78,164.87,161.85,162.57,1579600]
[131,"2015-05-05",167.41999799999999,168.39999399999999,163.94000199999999,164.25,1466900,163.746105,{"$f":"H146/F146","v":0.9969321461187215},{"$f":"INDEX(OFFSET($T$15,0,0,$S$13+1,1),MATCH(B146,OFFSET($Q$15,0,0,$S$13+1,1),-1))","v":1},166.91,167.88,163.44,163.75,{"$f":"G146*J146","v":1466900}]
[132,"2015-05-04",166.28999300000001,169.970001,165.800003,168.64999399999999,1115300,168.13260099999999,0.99693214931273588,1,165.78,169.45,165.29,168.13,1115300]
[133,"2015-05-01",167,167.990005,165.070007,166.36000100000001,1102900,165.84963300000001,0.99693214716919842,1,166.49,167.47,164.56,165.85,1102900]
[134,"2015-04-30",167.21000699999999,167.80999800000001,164.94000199999999,165.60000600000001,2279700,165.09197,0.9969321498696081,1,166.7,167.3,164.43,165.09,2279700]
[135,"2015-04-29",175.80999800000001,177.449997,165.83999600000001,168.050003,4526900,167.53445099999999,0.99693215120025902,1,175.27,176.91,165.33,167.53,4526900]
[136,"2015-04-28",180.490005,182.050003,177.78999300000001,181.11000100000001,1546400,180.554382,0.99693214622642512,1,179.94,181.49,177.24,180.55,1546400]
[137,"2015-04-27",182.5,182.96000699999999,179.78999300000001,180.11999499999999,1234800,179.56741400000001,0.99693215070320218,1,181.94,182.4,179.24,179.57,1234800]
[138,"2015-04-24",181.60000600000001,182.41000399999999,181.5,182.35000600000001,806700,181.790583,0.99693214707105626,1,181.04,181.85,180.94,181.79,806700]
[139,"2015-04-23",179.05999800000001,182.050003,178.61000100000001,181.91000399999999,1070500,181.35193100000001,0.99693214783283723,1,178.51,181.49,178.06,181.35,1070500]
[140,"2015-04-22",180.070007,180.5,178.83000200000001,180.009995,710000,179.457751,0.99693214812877473,1,179.52,179.95,178.28,179.46,710000]
[141,"2015-04-21",179.199997,180.44000199999999,178.96000699999999,180.13000500000001,613400,179.577393,0.99693214908865402,1,178.65,179.89,178.41,179.58,613400]
[142,"2015-04-20",178.679993,179.25,178.41000399999999,178.699997,621600,178.15177199999999,0.99693214880132308,1,178.13,178.7,177.86,178.15,621600]
[143,"2015-04-17",176.25,177.63999899999999,176.070007,177.479996,992700,176.93551400000001,0.99693215003227753,1,175.71,177.1,175.53,176.94,992700]
[144,"2015-04-16",180,180.570007,176.10000600000001,177.679993,1510900,177.134897,0.99693214756036153,1,179.45,180.02,175.56,177.13,1510900]
[145,"2015-04-15",179.990005,180.679993,175.490005,176.729996,1390800,176.187814,0.99693214501062966,1,179.44,180.13,174.95,176.19,1390800]
[146,"2015-04-14",178.38999899999999,180,178.08999600000001,179.550003,752800,178.99916999999999,0.99693214708551126,1,177.84,179.45,177.54,179,752800]
[147,"2015-04-13",178.83000200000001,181.050003,178.520004,178.58000200000001,561400,178.03214500000001,0.99693214809125164,1,178.28,180.49,177.97,178.03,561400]
[148,"2015-04-10",177.63999899999999,178.55999800000001,176.94000199999999,178.479996,648200,177.932446,0.99693214919166628,1,177.1,178.01,176.4,177.93,648200]
[149,"2015-04-09",178.13000500000001,179.13999899999999,176.33999600000001,177.729996,1382200,177.18474699999999,0.99693214982123779,1,177.58,178.59,175.8,177.18,1382200]
[150,"2015-04-08",178.71000699999999,179.58000200000001,177.83999600000001,178.729996,767200,178.181679,0.99693214898298321,1,178.16,179.03,177.29,178.18,767200]
[151,"2015-04-07",182,182,176.970001,178.10000600000001,973400,177.55362199999999,0.99693215058061246,1,181.44,181.44,176.43,177.55,973400]
[152,"2015-04-06",177.19000199999999,178.929993,176.60000600000001,178.259995,515300,177.71311900000001,0.9969321439731893,1,176.65,178.38,176.06,177.71,515300]
[153,"2015-04-02",177.83999600000001,180.13999899999999,177.070007,177.979996,677400,177.43397999999999,0.99693214961079102,1,177.29,179.59,176.53,177.43,677400]
[154,"2015-04-01",177.83000200000001,178.33999600000001,174.699997,177.63999899999999,822800,177.09502599999999,0.99693214927343021,1,177.28,177.79,174.16,177.1,822800]
[155,"2015-03-31",180.029999,181.36999499999999,178.020004,178.020004,1303500,177.47386499999999,0.99693214814218289,1,179.48,180.81,177.47,177.47,1303500]
[156,"2015-03-30",179.979996,181.38000500000001,179.490005,181.179993,1365300,180.62415899999999,0.99693214470981906,1,179.43,180.82,178.94,180.62,1365300]
[157,"2015-03-27",175.759995,177.770004,175.39999399999999,177.520004,1492000,176.97539900000001,0.9969321485594379,1,175.22,177.22,174.86,176.98,1492000]
[158,"2015-03-26",176.800003,177.550003,174.80999800000001,175.720001,1473000,174.90177299999999,0.99534356934131818,1,175.98,176.72,174,174.9,1473000]
[159,"2015-03-25",181.479996,182.83000200000001,177.16999799999999,177.33000200000001,1427100,176.504276,0.99534356290144288,1,180.63,181.98,176.35,176.5,1427100]
[160,"2015-03-24",182.03999300000001,182.979996,180.41000399999999,180.41000399999999,966600,179.56993600000001,0.9953435619900548,1,181.19,182.13,179.57,179.57,966600]
[161,"2015-03-23",182.78999300000001,183.050003,181.36999499999999,182.10000600000001,974200,181.25206900000001,0.99534356412926206,1,181.94,182.2,180.53,181.25,974200]
[162,"2015-03-20",182.30999800000001,183.009995,180.08000200000001,182.78999300000001,2256300,181.93884399999999,0.99534356894471776,1,181.46,182.16,179.24,181.94,2256300]
[163,"2015-03-19",178.58000200000001,182.970001,178.279999,180.96000699999999,1703200,180.117378,0.99534356229329723,1,177.75,182.12,177.45,180.12,1703200]
[164,"2015-03-18",174.35000600000001,179.55999800000001,173.699997,178.63000500000001,1850000,177.798226,0.9953435650410466,1,173.54,178.72,172.89,177.8,1850000]
[165,"2015-03-17",172.64999399999999,174.970001,172.63999899999999,174,1647000,173.18978000000001,0.9953435632183909,1,171.85,174.16,171.84,173.19,1647000]
[166,"2015-03-16",167.66999799999999,175.300003,167.21000699999999,174.30999800000001,2796100,173.498335,0.99534356600703988,1,166.89,174.48,166.43,173.5,2796100]
[167,"2015-03-13",163.490005,166.58999600000001,162.63000500000001,166.5,1525600,165.724704,0.99534356756756759,1,162.72999999999999,165.81,161.87,165.72,1525600]
[168,"2015-03-12",161.86999499999999,164.38000500000001,161.11000100000001,164.279999,992500,163.51504,0.99534356583481598,1,161.12,163.61000000000001,160.36000000000001,163.52000000000001,992500]
[169,"2015-03-11",159.58000200000001,161.33999600000001,159,161,956700,160.250314,0.99534356521739131,1,158.84,160.59,158.26,160.25,956700]
[170,"2015-03-10",160.61999499999999,160.69000199999999,158.16000399999999,159,2359000,158.25962699999999,0.99534356603773577,1,159.87,159.94,157.41999999999999,158.26,2359000]
[171,"2015-03-09",160.08999600000001,163.05999800000001,159.820007,162.33999600000001,1046600,161.58407099999999,0.99534356893787268,1,159.34,162.30000000000001,159.08000000000001,161.58000000000001,1046600]
[172,"2015-03-06",160.949997,162.070007,159.14999399999999,159.729996,1245400,158.98622399999999,0.99534356715316008,1,160.19999999999999,161.32,158.41,158.99,1245400]
[173,"2015-03-05",160.16999799999999,162.80999800000001,160.16999799999999,162.11000100000001,972900,161.35514599999999,0.99534356304149296,1,159.41999999999999,162.05000000000001,159.41999999999999,161.36000000000001,972900]
[174,"2015-03-04",159.220001,161.35000600000001,158.75,160.220001,2300900,159.47394700000001,0.99534356512705313,1,158.47999999999999,160.6,158.01,159.47,2300900]
[175,"2015-03-03",161.63000500000001,162,159.58000200000001,160.25,1223500,159.503806,0.99534356318252726,1,160.88,161.25,158.84,159.5,1223500]
[176,"2015-03-02",164.38000500000001,164.85000600000001,161.240005,162,2140400,161.24565799999999,0.99534356790123457,1,163.61000000000001,164.08,160.49,161.25,2140400]
[177,"2015-02-27",162.699997,165.75,162.699997,164.38000500000001,1495300,163.61457999999999,0.99534356383551625,1,161.94,164.98,161.94,163.61000000000001,1495300]
[178,"2015-02-26",163.970001,164.5,162.36000100000001,163.35000600000001,1720000,162.58937800000001,0.99534356919460421,1,163.21,163.72999999999999,161.6,162.59,1720000]
[179,"2015-02-25",164.44000199999999,166.199997,163.88000500000001,165.36999499999999,804000,164.59996100000001,0.99534356882577169,1,163.66999999999999,165.43,163.12,164.6,804000]
[180,"2015-02-24",164.509995,165.64999399999999,163.63999899999999,164.44000199999999,1024500,163.67429799999999,0.99534356609895935,1,163.74,164.88,162.88,163.66999999999999,1024500]
[181,"2015-02-23",156.55999800000001,165.520004,156.53999300000001,164.520004,3259700,163.753928,0.99534356928413403,1,155.83000000000001,164.75,155.81,163.75,3259700]
[182,"2015-02-20",153.08000200000001,156.83999600000001,152.66000399999999,156.11999499999999,1293400,155.393033,0.99534356890031939,1,152.37,156.11000000000001,151.94999999999999,155.38999999999999,1293400]
[183,"2015-02-19",154.39999399999999,155.279999,153.13000500000001,153.279999,1064100,152.566261,0.99534356729738749,1,153.68,154.56,152.41999999999999,152.57,1064100]
[184,"2015-02-18",154.63000500000001,155.449997,154.25,155.39999399999999,724000,154.67638400000001,0.99534356481377995,1,153.91,154.72999999999999,153.53,154.68,724000]
[185,"2015-02-17",152.61999499999999,154.88000500000001,152.39999399999999,154.86000100000001,914900,154.13890499999999,0.99534356195697027,1,151.91,154.16,151.69,154.13999999999999,914900]
[186,"2015-02-13",153.300003,153.61999499999999,151.78999300000001,152.66999799999999,727100,151.95910000000001,0.99534356448999239,1,152.59,152.9,151.08000000000001,151.96,727100]
[187,"2015-02-12",154,154.759995,152.820007,153.729996,655800,153.014162,0.99534356326920093,1,153.28,154.04,152.11000000000001,153.01,655800]
[188,"2015-02-11",151.449997,153.770004,150.91999799999999,153.320007,717100,152.60608300000001,0.99534356921859524,1,150.74,153.05000000000001,150.22,152.61000000000001,717100]
[189,"2015-02-10",148.729996,151.88999899999999,148,151.64999399999999,784700,150.94384600000001,0.99534356724076112,1,148.04,151.18,147.31,150.94,784700]
[190,"2015-02-09",147.270004,149.229996,146.63999899999999,147.14999399999999,756700,146.4648,0.99534356759810672,1,146.58000000000001,148.54,145.96,146.46,756700]
[191,"2015-02-06",150.28999300000001,150.58999600000001,147.36000100000001,147.740005,1159000,147.052064,0.99534356994234574,1,149.59,149.88999999999999,146.66999999999999,147.05000000000001,1159000]
[192,"2015-02-05",153.5,153.91000399999999,149.63999899999999,150.36000100000001,1203700,149.65985900000001,0.99534356214855302,1,152.79,153.19,148.94,149.66,1203700]
[193,"2015-02-04",148.16999799999999,152.88000500000001,145.270004,150.53999300000001,1784300,149.83901399999999,0.99534356959881076,1,{"$f":"ROUND($I208*C208,2)","v":147.47999999999999},{"$f":"ROUND($I208*D208,2)","v":152.16999999999999},{"$f":"ROUND($I208*E208,2)","v":144.59},{"$f":"ROUND($I208*F208,2)","v":149.84},1784300]
[194,"2015-02-03",145.96000699999999,148.75,144.36999499999999,148.58000200000001,1241400,147.888149,0.99534356581850092,1,145.28,148.06,143.69999999999999,147.88999999999999,1241400]
[195,"2015-02-02",146.88000500000001,147.11000100000001,143.44000199999999,145.979996,1538800,145.30025000000001,{"$f":"H210/F210","v":0.99534356748441066},{"$f":"INDEX(OFFSET($T$15,0,0,$S$13+1,1),MATCH(B210,OFFSET($Q$15,0,0,$S$13+1,1),-1))","v":1},146.19999999999999,146.41999999999999,142.77000000000001,145.30000000000001,{"$f":"G210*J210","v":1538800}]
[196,"2015-01-30",148.020004,149.64999399999999,145.96000699999999,146.44000199999999,1005800,145.75811400000001,0.99534356739492547,1,147.33000000000001,148.94999999999999,145.28,145.76,1005800]
[197,"2015-01-29",149,149.96000699999999,146.199997,149.61999499999999,915300,148.92329899999999,0.99534356353908449,1,148.31,149.26,145.52000000000001,148.91999999999999,915300]
[198,"2015-01-28",151.60000600000001,152.300003,148.490005,148.91000399999999,982100,148.21661399999999,0.99534356335119034,1,150.88999999999999,151.59,147.80000000000001,148.22,982100]
[199,"2015-01-27",151.050003,152.050003,150.050003,150.75,634100,150.04804300000001,0.99534356882255393,1,150.35,151.34,149.35,150.05000000000001,634100]
[200,"2015-01-26",150.970001,152.30999800000001,148.89999399999999,152,822700,151.29222200000001,0.99534356578947369,1,150.27000000000001,151.6,148.21,151.29,822700]
[201,"2015-01-23",153.94000199999999,155.300003,151.36999499999999,151.470001,659400,150.764691,0.99534356641352373,1,153.22,154.58000000000001,150.66999999999999,150.76,659400]
[202,"2015-01-22",153.71000699999999,154.46000699999999,151.60000600000001,153.64999399999999,988800,152.93453299999999,0.99534356636551513,1,152.99,153.74,150.88999999999999,152.93,988800]
[203,"2015-01-21",149.429993,154.38000500000001,149.13000500000001,153.279999,1642900,152.566261,0.99534356729738749,1,148.72999999999999,153.66,148.44,152.57,1642900]
[204,"2015-01-20",150.86000100000001,151.11999499999999,146.990005,148.970001,1659000,148.276332,0.99534356584987871,1,150.16,150.41999999999999,146.31,148.28,1659000]
[205,"2015-01-16",147.83000200000001,150.05999800000001,146.83000200000001,149.94000199999999,816300,149.241817,0.99534357082374858,1,147.13999999999999,149.36000000000001,146.15,149.24,816300]
[206,"2015-01-15",147.89999399999999,149.759995,147.449997,147.91999799999999,882400,147.23121800000001,0.99534356402573787,1,147.21,149.06,146.76,147.22999999999999,882400]
[207,"2015-01-14",145.25,147.729996,144.490005,147.550003,945600,146.86294599999999,0.99534356498793153,1,144.57,147.04,143.82,146.86000000000001,945600]
[208,"2015-01-13",147.25,149.220001,145.779999,146.83999600000001,794100,146.15624600000001,0.99534357110715255,1,146.56,148.53,145.1,146.16,794100]
[209,"2015-01-12",146.66000399999999,147.699997,144.86999499999999,145.509995,788100,144.832437,0.99534356385621481,1,145.97999999999999,147.01,144.19999999999999,144.83000000000001,788100]
[210,"2015-01-09",147.33999600000001,148.05999800000001,146.570007,146.75,1221300,146.06666799999999,0.99534356388415668,1,146.65,147.37,145.88999999999999,146.07,1221300]
[211,"2015-01-08",143.61999499999999,148.38999899999999,143.61999499999999,147.83000200000001,1350000,147.14164099999999,0.99534356361572651,1,142.94999999999999,147.69999999999999,142.94999999999999,147.13999999999999,1350000]
[212,"2015-01-07",139.729996,142.240005,139.729996,141.729996,877400,141.07003900000001,0.99534356157041037,1,139.08000000000001,141.58000000000001,139.08000000000001,141.07,877400]
[213,"2015-01-06",140.21000699999999,141.490005,137.449997,139.08999600000001,1770100,138.44233299999999,0.99534356877830366,1,139.56,140.83000000000001,136.81,138.44,1770100]
[214,"2015-01-05",141.69000199999999,142.759995,138.69000199999999,139.199997,1686700,138.55182099999999,0.99534356311803651,1,141.03,142.1,138.04,138.55000000000001,1686700]
[215,"2015-01-02",144.949997,146.509995,141.38999899999999,142.990005,982800,142.32418200000001,0.99534356964320692,1,144.28,145.83000000000001,140.72999999999999,142.32,982800]
[216,"2014-12-31",145.80999800000001,148.13999899999999,143.479996,143.63000500000001,662700,142.96120099999999,0.9953435634845238,1,145.13,147.44999999999999,142.81,142.96,662700]
[217,"2014-12-30",144.35000600000001,146.13999899999999,144.14999399999999,145.770004,689400,145.09123600000001,0.99534356876329655,1,143.68,145.46,143.47999999999999,145.09,689400]
[218,"2014-12-29",144.75,145.429993,143.050003,144.479996,536000,143.80723399999999,0.99534356299400784,1,144.08000000000001,144.75,142.38,143.81,536000]
[219,"2014-12-26",145.11999499999999,145.740005,144.30999800000001,145.070007,693700,144.115802,0.99342245154782405,1,144.16999999999999,144.78,143.36000000000001,144.12,693700]
[220,"2014-12-24",145.16000399999999,145.229996,144.19000199999999,144.38000500000001,267300,143.43033800000001,0.99342244793522483,1,144.21,144.27000000000001,143.24,143.43,267300]
[221,"2014-12-23",147.490005,148.03999300000001,143.740005,144.69000199999999,1300900,143.73829699999999,0.9934224549945061,1,146.52000000000001,147.07,142.79,143.74,1300900]
[222,"2014-12-22",146.240005,147.86000100000001,146.229996,146.33999600000001,1188500,145.37743699999999,0.99342244754468878,1,145.28,146.88999999999999,145.27000000000001,145.38,1188500]
[223,"2014-12-19",149.83999600000001,151.520004,146.41999799999999,146.470001,2094000,145.506587,0.993422448327832,1,148.85,150.52000000000001,145.46,145.51,2094000]
[224,"2014-12-18",144.80999800000001,149.08999600000001,143.36999499999999,149.070007,1393800,148.08949200000001,0.99342245284794284,1,143.86000000000001,148.11000000000001,142.43,148.09,1393800]
[225,"2014-12-17",141.21000699999999,144.470001,141.21000699999999,143.33000200000001,1194700,142.38724099999999,0.99342244479979835,1,140.28,143.52000000000001,140.28,142.38999999999999,1194700]
[226,"2014-12-16",142.71000699999999,145.60000600000001,141,141.14999399999999,1409100,140.22157300000001,0.99342245101335258,1,141.77000000000001,144.63999999999999,140.07,140.22,1409100]
[227,"2014-12-15",144,144.53999300000001,141.009995,143.08000200000001,1051800,142.13888600000001,0.99342244907153421,1,143.05000000000001,143.59,140.08000000000001,142.13999999999999,1051800]
[228,"2014-12-12",141.720001,146,141.64999399999999,143.60000600000001,1421400,142.65547000000001,0.99342245152830988,1,140.79,145.04,140.72,142.66,1421400]
[229,"2014-12-11",141.66999799999999,144.490005,141.66999799999999,142.479996,777200,141.54282599999999,0.99342244507081534,1,140.74,143.54,140.74,141.54,777200]
[230,"2014-12-10",142.25,142.78999300000001,140.39999399999999,141.44000199999999,1333100,140.50967399999999,0.99342245484413949,1,141.31,141.85,139.47999999999999,140.51,1333100]
[231,"2014-12-09",142.229996,143.91999799999999,142.020004,143.449997,699700,142.50644700000001,0.99342244670803315,1,141.29,142.97,141.09,142.51,699700]
[232,"2014-12-08",143.970001,145.259995,143.759995,144.570007,1121100,143.619091,0.9934224531095166,1,143.02000000000001,144.30000000000001,142.81,143.62,1121100]
[233,"2014-12-05",141.61999499999999,145.759995,141.470001,144.320007,2356100,143.370735,0.99342245042989774,1,140.69,144.80000000000001,140.54,143.37,2356100]
[234,"2014-12-04",141.11999499999999,141.58000200000001,139.520004,141.11999499999999,983000,140.19177099999999,0.99342244874654373,1,140.19,140.65,138.6,140.19,983000]
[235,"2014-12-03",141.11999499999999,144.300003,140.55999800000001,141.71000699999999,1475400,140.77790200000001,0.99342244757633824,1,140.19,143.35,139.63999999999999,140.78,1475400]
[236,"2014-12-02",138.36000100000001,140.220001,137.179993,140.11999499999999,1041500,139.19834900000001,0.99342245194913126,1,137.44999999999999,139.30000000000001,136.28,139.19999999999999,1041500]
[237,"2014-12-01",137.64999399999999,140.61999499999999,137.259995,139.08000200000001,1114800,138.16519600000001,0.99342244760680976,1,136.74,139.69999999999999,136.36000000000001,138.16999999999999,1114800]
[238,"2014-11-28",137.53999300000001,138.979996,137.449997,137.970001,814500,137.06249600000001,0.99342244695642212,1,136.63999999999999,138.07,136.55000000000001,137.06,814500]
[239,"2014-11-26",138.179993,138.69000199999999,136.66999799999999,137.490005,806200,136.585658,0.993422452781204,1,137.27000000000001,137.78,135.77000000000001,136.59,806200]
[240,"2014-11-25",139.83999600000001,140.91999799999999,137.63000500000001,137.69000199999999,1667400,136.78433899999999,0.99342244907513322,1,138.91999999999999,139.99,136.72,136.78,1667400]
[241,"2014-11-24",137.300003,140.46000699999999,136.71000699999999,139.83999600000001,1388800,138.92019199999999,0.99342245404526452,1,136.4,139.54,135.81,138.91999999999999,1388800]
[242,"2014-11-21",137.5,137.78999300000001,136.020004,136.41999799999999,1118200,135.52268900000001,0.99342245262311191,1,136.6,136.88,135.13,135.52000000000001,1118200]
[243,"2014-11-20",136.11999499999999,136.71000699999999,135.38000500000001,136.199997,982600,135.304134,0.99342244478904074,1,135.22,135.81,134.49,135.30000000000001,982600]
[244,"2014-11-19",139.020004,139.44000199999999,136.16999799999999,136.55999800000001,1041000,135.661767,0.9934224442504751,1,138.11000000000001,138.52000000000001,135.27000000000001,135.66,1041000]
[245,"2014-11-18",137.91000399999999,140.759995,137.55999800000001,139.28999300000001,1114700,138.373806,0.99342244923510037,1,137,139.83000000000001,136.66,138.37,1114700]
[246,"2014-11-17",136,138.08999600000001,135.570007,137.470001,721900,136.56578500000001,0.99342244858207285,1,135.11000000000001,137.18,134.68,136.57,721900]
[247,"2014-11-14",138.11000100000001,138.429993,135.41000399999999,135.770004,1179800,134.87697,0.9934224499249481,1,137.19999999999999,137.52000000000001,134.52000000000001,134.88,1179800]
[248,"2014-11-13",137.490005,139.300003,136.96000699999999,138.41000399999999,1485700,137.499605,0.99342244799010349,1,136.59,138.38,136.06,137.5,1485700]
[249,"2014-11-12",136.08999600000001,137.75,134.44000199999999,137.25,1376100,136.34723099999999,0.99342244808743163,1,135.19,136.84,133.56,136.35,1376100]
[250,"2014-11-11",132.949997,136.58999600000001,132.949997,136.44000199999999,1411100,135.54256100000001,0.99342244952473702,1,132.08000000000001,135.69,132.08000000000001,135.54,1411100]
[251,"2014-11-10",131.509995,133.21000699999999,131.16000399999999,132.46000699999999,2620300,131.58874399999999,0.9934224448591491,1,130.63999999999999,132.33000000000001,130.30000000000001,131.59,2620300]
[252,"2014-11-07",131.39999399999999,135.75,129.30999800000001,130.58000200000001,5468300,129.72110499999999,0.99342244611085229,1,130.54,134.86000000000001,128.46,129.72,5468300]
[253,"2014-11-06",139.05999800000001,140.64999399999999,138.729996,139.86999499999999,1395500,138.94999300000001,0.99342244918218536,1,138.15,139.72,137.82,138.94999999999999,1395500]
[254,"2014-11-05",139.449997,139.94000199999999,137.13000500000001,138.94000199999999,1582000,138.026117,0.99342244863361961,1,138.53,139.02000000000001,136.22999999999999,138.03,1582000]
[255,"2014-11-04",138.5,139.64999399999999,137.220001,137.75,1138300,136.843942,0.99342244646097999,1,137.59,138.72999999999999,136.32,136.84,1138300]
[256,"2014-11-03",139,139.75,137.63999899999999,138.479996,818000,137.56913599999999,0.99342244348418374,1,138.09,138.83000000000001,136.72999999999999,137.57,818000]
[257,"2014-10-31",138.929993,139.86999499999999,138.30999800000001,138.85000600000001,1219100,137.936713,0.99342244896986165,1,{"$f":"ROUND($I272*C272,2)","v":138.02000000000001},{"$f":"ROUND($I272*D272,2)","v":138.94999999999999},{"$f":"ROUND($I272*E272,2)","v":137.4},{"$f":"ROUND($I272*F272,2)","v":137.94},1219100]
[258,"2014-10-30",134.509995,138,134.509995,137.179993,847500,136.27768399999999,0.9934224446271841,1,133.63,137.09,133.63,136.28,847500]
[259,"2014-10-29",135,136.60000600000001,134.259995,134.949997,741500,134.06235599999999,{"$f":"H274/F274","v":0.99342244520390766},{"$f":"INDEX(OFFSET($T$15,0,0,$S$13+1,1),MATCH(B274,OFFSET($Q$15,0,0,$S$13+1,1),-1))","v":1},134.11000000000001,135.69999999999999,133.38,134.06,{"$f":"G274*J274","v":741500}]
[260,"2014-10-28",131.13999899999999,134.91000399999999,130.509995,134.729996,806800,133.84380200000001,0.99342244469449859,1,130.28,134.02000000000001,129.65,133.84,806800]
[261,"2014-10-27",133.10000600000001,133.71000699999999,132.44000199999999,132.729996,1092600,131.85695699999999,0.99342244386114498,1,132.22,132.83000000000001,131.57,131.86000000000001,1092600]
[262,"2014-10-24",132.720001,133.16000399999999,131.61999499999999,133.11000100000001,610000,132.23446300000001,0.99342244764914389,1,131.85,132.28,130.75,132.22999999999999,610000]
[263,"2014-10-23",132.88000500000001,133.38000500000001,132.25,132.63000500000001,727300,131.75762399999999,0.99342244615009989,1,132.01,132.5,131.38,131.76,727300]
[264,"2014-10-22",133.75,133.779999,131.10000600000001,131.470001,1497800,130.60525100000001,0.99342245384177041,1,132.87,132.9,130.24,130.61000000000001,1497800]
[265,"2014-10-21",131.44000199999999,133.779999,130.240005,133.270004,924300,132.39341400000001,0.99342245086148573,1,130.58000000000001,132.9,129.38,132.38999999999999,924300]
[266,"2014-10-20",128.13999899999999,130.16999799999999,128.10000600000001,130.10000600000001,868400,129.24426700000001,0.99342245226337655,1,127.3,129.31,127.26,129.24,868400]
[267,"2014-10-17",126.779999,128.53999300000001,125.660004,128.229996,1004500,127.386556,0.99342244384067513,1,125.95,127.69,124.83,127.39,1004500]
[268,"2014-10-16",122.959999,129.479996,122.959999,125.730003,1668200,124.903008,0.99342245303215337,1,122.15,128.63,122.15,124.9,1668200]
[269,"2014-10-15",122.75,124.83000199999999,121.040001,124.16999800000001,1340100,123.353264,0.99342245298256338,1,121.94,124.01,120.24,123.35,1340100]
[270,"2014-10-14",125.07,125.07,122.33000199999999,124.199997,1338200,123.383065,0.99342244750617836,1,124.25,124.25,121.53,123.38,1338200]
[271,"2014-10-13",126.300003,128.39999399999999,124.510002,124.629997,1135700,123.810237,0.99342245029501197,1,125.47,127.56,123.69,123.81,1135700]
[272,"2014-10-10",125.370003,127.870003,125.16999800000001,126.389999,1536200,125.558663,0.99342245425605225,1,124.55,127.03,124.35,125.56,1536200]
[273,"2014-10-09",127.349998,128.46000699999999,124.699997,125.029999,1024200,124.20760799999999,0.99342245055924527,1,126.51,127.62,123.88,124.21,1024200]
[274,"2014-10-08",125.209999,127.459999,124.910004,127.41999800000001,1123600,126.58188699999999,0.99342245320079181,1,124.39,126.62,124.09,126.58,1123600]
[275,"2014-10-07",125.900002,126.660004,124.68,124.730003,1351700,123.90958500000001,0.99342244864693874,1,125.07,125.83,123.86,123.91,1351700]
[276,"2014-10-06",129.820007,130.449997,126.230003,126.239998,1171100,125.409648,0.99342244919870804,1,128.97,129.59,125.4,125.41,1171100]
[277,"2014-10-03",128.08999600000001,129.570007,127.470001,128.91999799999999,982600,128.07202000000001,0.99342244792774526,1,127.25,128.72,126.63,128.07,982600]
[278,"2014-10-02",127.099998,128.21000699999999,125.900002,127.150002,1323300,126.313666,0.99342244603346519,1,126.26,127.37,125.07,126.31,1323300]
[279,"2014-10-01",130.279999,130.60000600000001,127.489998,127.989998,1312300,127.14813700000001,0.99342244696339477,1,129.41999999999999,129.74,126.65,127.15,1312300]
[280,"2014-09-30",132,132.25,130.28999300000001,130.28999300000001,1069200,129.43300400000001,0.9934224495660231,1,131.13,131.38,129.43,129.43,1069200]
[281,"2014-09-29",130.63000500000001,132.14999399999999,130.41999799999999,131.89999399999999,700500,131.03241499999999,0.99342244852566097,1,129.77000000000001,131.28,129.56,131.03,700500]
[282,"2014-09-26",131.91999799999999,132.179993,130.449997,131.729996,662100,130.86353500000001,0.99342244723062179,1,131.05000000000001,131.31,129.59,130.86000000000001,662100]
[283,"2014-09-25",134.570007,134.570007,131.009995,131.279999,1573100,130.13834600000001,0.99130367909280692,1,133.4,133.4,129.87,130.13999999999999,1573100]
[284,"2014-09-24",132.16999799999999,135.759995,132.16999799999999,135.509995,838500,134.331557,0.99130368206419017,1,131.02000000000001,134.58000000000001,131.02000000000001,134.33000000000001,838500]
[285,"2014-09-23",134.19000199999999,134.479996,131.86999499999999,132.35000600000001,1278000,131.199048,0.99130368003156721,1,133.02000000000001,133.31,130.72,131.19999999999999,1278000]
[286,"2014-09-22",134.14999399999999,135.86000100000001,134.14999399999999,134.779999,1543200,133.60790900000001,0.99130368000670488,1,132.97999999999999,134.68,132.97999999999999,133.61000000000001,1543200]
[287,"2014-09-19",133.970001,135.10000600000001,133.19000199999999,134.91000399999999,1234300,133.736783,0.99130367678293163,1,132.80000000000001,133.93,132.03,133.74,1234300]
[288,"2014-09-18",133.020004,134,132.570007,133.179993,798600,132.021817,0.99130367877403325,1,131.86000000000001,132.83000000000001,131.41999999999999,132.02000000000001,798600]
[289,"2014-09-17",132.60000600000001,133.509995,131.729996,132.520004,1945300,131.36756800000001,0.99130368272551517,1,131.44999999999999,132.35,130.58000000000001,131.37,1945300]
[290,"2014-09-16",128.279999,132.479996,127.720001,132.36999499999999,1514300,131.218864,0.99130368630745969,1,127.16,131.33000000000001,126.61,131.22,1514300]
[291,"2014-09-15",128.179993,128.88000500000001,127.57,127.660004,549200,126.54983199999999,0.99130368192687812,1,127.07,127.76,126.46,126.55,549200]
[292,"2014-09-12",129.71000699999999,129.970001,127.83000199999999,128.259995,565800,127.144605,0.99130367968593791,1,128.58000000000001,128.84,126.72,127.14,565800]
[293,"2014-09-11",128.679993,129.61999499999999,127.279999,129.39999399999999,834400,128.27468999999999,0.99130367811299902,1,127.56,128.49,126.17,128.27000000000001,834400]
[294,"2014-09-10",131.050003,131.050003,128.050003,128.96000699999999,864900,127.83853000000001,0.99130368378469469,1,129.91,129.91,126.94,127.84,864900]
[295,"2014-09-09",129.470001,131.14999399999999,128.929993,130.449997,1031100,129.315562,0.99130367937072472,1,128.34,130.01,127.81,129.32,1031100]
[296,"2014-09-08",129,130.229996,128.5,129.550003,1030500,128.423395,0.99130368217745235,1,127.88,129.1,127.38,128.41999999999999,1030500]
[297,"2014-09-05",127.110001,130.03999300000001,126.68,129.199997,1186200,128.07643300000001,0.99130368400859958,1,126,128.91,125.58,128.08000000000001,1186200]
[298,"2014-09-04",127.349998,129.75,126.510002,126.879997,1298000,125.776608,0.99130368043750816,1,126.24,128.62,125.41,125.78,1298000]
[299,"2014-09-03",128.229996,128.38000500000001,127.18,127.25,1137100,126.143394,0.9913036856581533,1,127.11,127.26,126.07,126.14,1137100]
[300,"2014-09-02",129.14999399999999,129.490005,126.660004,127.449997,2102400,126.341651,0.99130367966976096,1,128.03,128.36000000000001,125.56,126.34,2102400]
[301,"2014-08-29",127.93,129.58999600000001,127.900002,128.740005,811400,127.620442,0.99130368994470675,1,126.82,128.46,126.79,127.62,811400]
[302,"2014-08-28",126.870003,128.529999,126.58000199999999,127.639999,801800,126.530001,0.9913036821631438,1,125.77,127.41,125.48,126.53,801800]
[303,"2014-08-27",124.910004,127.639999,124.879997,127.32,923100,126.212785,0.99130368363179389,1,123.82,126.53,123.79,126.21,923100]
[304,"2014-08-26",124.389999,125.480003,124.199997,125.050003,700300,123.962529,0.99130368673401792,1,123.31,124.39,123.12,123.96,700300]
[305,"2014-08-25",123.83000199999999,124.709999,123.300003,124.220001,570000,123.139745,0.99130368707693062,1,122.75,123.63,122.23,123.14,570000]
[306,"2014-08-22",123.41999800000001,123.849998,122.660004,123.19000200000001,637200,122.118703,0.99130368550525705,1,122.35,122.77,121.59,122.12,637200]
[307,"2014-08-21",122.889999,123.879997,122.849998,123.449997,693100,122.376437,0.99130368549138159,1,121.82,122.8,121.78,122.38,693100]
[308,"2014-08-20",123,123.349998,122.110001,123.150002,432500,122.07905,0.99130367858215707,1,121.93,122.28,121.05,122.08,432500]
[309,"2014-08-19",121.949997,123.349998,121.32,122.93,1060500,121.860962,0.99130368502399735,1,120.89,122.28,120.26,121.86,1060500]
[310,"2014-08-18",121.19000200000001,122.099998,120.07,121.93,792400,120.869658,0.99130368244074463,1,120.14,121.04,119.03,120.87,792400]
[311,"2014-08-15",120.349998,121.05999799999999,118.94000200000001,120.449997,1284000,119.40252599999999,0.99130368596024121,1,119.3,120.01,117.91,119.4,1284000]
[312,"2014-08-14",120.110001,120.290001,119.44000200000001,120.129997,1041400,119.085309,0.99130368745451636,1,119.07,119.24,118.4,119.09,1041400]
[313,"2014-08-13",117.660004,120.16999800000001,117.489998,119.5,1279900,118.46079,0.99130368200836827,1,116.64,119.12,116.47,118.46,1279900]
[314,"2014-08-12",117.44000200000001,118.239998,117.010002,117.660004,750700,116.63679500000001,0.99130368039083194,1,116.42,117.21,115.99,116.64,750700]
[315,"2014-08-11",118.110001,118.379997,117.050003,117.239998,908100,116.22044200000001,0.9913036846008817,1,117.08,117.35,116.03,116.22,908100]
[316,"2014-08-08",116.290001,118.33000199999999,115.660004,118.110001,1094400,117.08287900000001,0.99130368308099504,1,115.28,117.3,114.65,117.08,1094400]
[317,"2014-08-07",119.94000200000001,119.94000200000001,115.510002,115.970001,1697800,114.961489,0.99130368206170838,1,118.9,118.9,114.51,114.96,1697800]
[318,"2014-08-06",119.050003,121.209999,119.050003,120.07,800200,119.02583300000001,0.99130368118597501,1,118.01,120.16,118.01,119.03,800200]
[319,"2014-08-05",119.150002,120.099998,118.529999,119.510002,1784300,118.470705,0.99130368184580897,1,118.11,119.06,117.5,118.47,1784300]
[320,"2014-08-04",118.699997,120.769997,118.260002,120.360001,1279500,119.313312,0.99130368069704489,1,117.67,119.72,117.23,119.31,1279500]
[321,"2014-08-01",117.300003,119.110001,117.300003,118.800003,1466100,117.76688,0.99130367867078251,1,{"$f":"ROUND($I336*C336,2)","v":116.28},{"$f":"ROUND($I336*D336,2)","v":118.07},{"$f":"ROUND($I336*E336,2)","v":116.28},{"$f":"ROUND($I336*F336,2)","v":117.77},1466100]
[322,"2014-07-31",120.68,120.68,116.379997,117.650002,3028600,116.62688,0.99130368055582352,1,119.63,119.63,115.37,116.63,3028600]
[323,"2014-07-30",125,125,118.529999,120.339996,3908200,119.293482,{"$f":"H338/F338","v":0.99130368925722745},{"$f":"INDEX(OFFSET($T$15,0,0,$S$13+1,1),MATCH(B338,OFFSET($Q$15,0,0,$S$13+1,1),-1))","v":1},123.91,123.91,117.5,119.29,{"$f":"G338*J338","v":3908200}]
[324,"2014-07-29",130.570007,130.979996,126.58000199999999,127.519997,1621800,126.41104199999999,0.99130367764986693,1,129.43,129.84,125.48,126.41,1621800]
[325,"2014-07-28",129.029999,131.08999600000001,128.94000199999999,130.929993,1121400,129.79138399999999,0.99130368089151277,1,127.91,129.94999999999999,127.82,129.79,1121400]
[326,"2014-07-25",127.019997,129.820007,127.019997,128.550003,1361100,127.432091,0.99130367970508715,1,125.92,128.69,125.92,127.43,1361100]
[327,"2014-07-24",133.509995,134.38000500000001,132.570007,132.89999399999999,1081700,131.74425299999999,0.99130367906562877,1,132.35,133.21,131.41999999999999,131.74,1081700]
[328,"2014-07-23",133.91000399999999,134.21000699999999,132.5,133.05999800000001,534200,131.90286599999999,0.99130368241851308,1,132.75,133.04,131.35,131.9,534200]
[329,"2014-07-22",133.38999899999999,134.929993,133.240005,133.55999800000001,707100,132.398517,0.9913036761201508,1,132.22999999999999,133.76,132.08000000000001,132.4,707100]
[330,"2014-07-21",131.78999300000001,133.21000699999999,130.89999399999999,133.020004,802200,131.86322000000001,0.99130368391809709,1,130.63999999999999,132.05000000000001,129.76,131.86000000000001,802200]
[331,"2014-07-18",131.429993,132.89999399999999,130.75,132.60000600000001,837600,131.44687400000001,0.99130368063482588,1,130.29,131.74,129.61000000000001,131.44999999999999,837600]
[332,"2014-07-17",127.07,133.64999399999999,127.07,131.16999799999999,1779100,130.029302,0.99130368211181952,1,125.96,132.49,125.96,130.03,1779100]
[333,"2014-07-16",128.990005,128.990005,127.360001,127.43,676700,126.32182899999999,0.99130368829945847,1,127.87,127.87,126.25,126.32,676700]
[334,"2014-07-15",128.5,129.64999399999999,125.239998,128.63999899999999,979100,127.521305,0.99130368463389062,1,127.38,128.52000000000001,124.15,127.52,979100]
[335,"2014-07-14",127.849998,128.979996,127.730003,128.5,1107400,127.38252300000001,0.99130368093385224,1,126.74,127.86,126.62,127.38,1107400]
[336,"2014-07-11",127.07,127.790001,126.57,127.400002,506500,126.292091,0.9913036814552012,1,125.96,126.68,125.47,126.29,506500]
[337,"2014-07-10",126.019997,127.68,125.860001,127.08000199999999,669700,125.974874,0.99130368285641046,1,124.92,126.57,124.77,125.97,669700]
[338,"2014-07-09",128.14999399999999,128.949997,127.510002,127.699997,792700,126.589477,0.99130368029687588,1,127.04,127.83,126.4,126.59,792700]
[339,"2014-07-08",127.58000199999999,127.93,126.889999,127.410004,813400,126.30200600000001,0.99130368130276492,1,126.47,126.82,125.79,126.3,813400]
[340,"2014-07-07",129.89999399999999,129.89999399999999,128.03999300000001,128.270004,905400,127.154528,0.99130368780529543,1,128.77000000000001,128.77000000000001,126.93,127.15,905400]
[341,"2014-07-03",129.60000600000001,130.41999799999999,128.89999399999999,130.21000699999999,438900,129.07765900000001,0.99130367914042139,1,128.47,129.29,127.78,129.08000000000001,438900]
[342,"2014-07-02",128.85000600000001,129.66000399999999,127.209999,129.60000600000001,1587600,128.47296299999999,0.99130368095816279,1,127.73,128.53,126.1,128.47,1587600]
[343,"2014-07-01",128.220001,129.89999399999999,127.94000200000001,129.28999300000001,1369100,128.16564600000001,0.9913036811750775,1,127.1,128.77000000000001,126.83,128.16999999999999,1369100]
[344,"2014-06-30",127.25,129.36000100000001,126.860001,127.720001,1008900,126.609308,0.99130368782255174,1,126.14,128.24,125.76,126.61,1008900]
[345,"2014-06-27",127.470001,127.989998,126.389999,127.410004,965600,126.30200600000001,0.99130368130276492,1,126.36,126.88,125.29,126.3,965600]
[346,"2014-06-26",128.85000600000001,128.86999499999999,126.19000200000001,127.800003,613600,126.688614,0.99130368565014826,1,127.73,127.75,125.09,126.69,613600]
[347,"2014-06-25",127,129.13999899999999,127,128.949997,698300,127.551042,0.98915118237652999,1,125.62,127.74,125.62,127.55,698300]
[348,"2014-06-24",127.07,128,127.029999,127.07,672600,125.69144,0.98915117651688056,1,125.69,126.61,125.65,125.69,672600]
[349,"2014-06-23",127.239998,127.66999800000001,126.66999800000001,127.32,450400,125.938728,0.98915117813383602,1,125.86,126.28,125.3,125.94,450400]
[350,"2014-06-20",126.120003,127.220001,125.410004,127.150002,1156900,125.770574,0.98915117594728785,1,124.75,125.84,124.05,125.77,1156900]
[351,"2014-06-19",124.910004,126.699997,124.529999,126.58000199999999,640000,125.20675799999999,0.98915117729260271,1,123.55,125.33,123.18,125.21,640000]
[352,"2014-06-18",123.260002,124.989998,122.400002,124.860001,765000,123.50541699999999,0.98915117740548475,1,121.92,123.63,121.07,123.51,765000]
[353,"2014-06-17",123.209999,123.470001,122.360001,122.93,857900,121.596355,0.98915118360042298,1,121.87,122.13,121.03,121.6,857900]
[354,"2014-06-16",124.779999,124.779999,122.870003,123.050003,987700,121.715056,0.98915118271065783,1,123.43,123.43,121.54,121.72,987700]
[355,"2014-06-13",125.160004,125.339996,124.010002,124.660004,1044300,123.30759,0.98915117955555343,1,123.8,123.98,122.66,123.31,1044300]
[356,"2014-06-12",126.510002,126.839996,124.93,125.239998,879200,123.881292,0.98915118155782789,1,125.14,125.46,123.57,123.88,879200]
[357,"2014-06-11",126.540001,127.16999800000001,125.30999799999999,126.889999,711800,125.51339299999999,0.98915118598117402,1,125.17,125.79,123.95,125.51,711800]
[358,"2014-06-10",124.91999800000001,126.540001,124.199997,126.540001,657000,125.167191,0.98915117757901705,1,123.56,125.17,122.85,125.17,657000]
[359,"2014-06-09",126.33000199999999,126.989998,125.19000200000001,125.379997,617100,124.019772,0.98915118015196635,1,124.96,125.61,123.83,124.02,617100]
[360,"2014-06-06",125.58000199999999,126.75,125.349998,126.379997,1125600,125.008923,0.98915117872648783,1,124.22,125.37,123.99,125.01,1125600]
[361,"2014-06-05",125.230003,125.230003,123.849998,124.349998,995600,123.00094799999999,0.98915118599358554,1,123.87,123.87,122.51,123,995600]
[362,"2014-06-04",124.650002,125.599998,124.029999,125.239998,1344700,123.881292,0.98915118155782789,1,123.3,124.24,122.68,123.88,1344700]
[363,"2014-06-03",124.910004,125.660004,123.839996,124.400002,1422200,123.050408,0.989151173807859,1,123.55,124.3,122.5,123.05,1422200]
[364,"2014-06-02",124.959999,126.279999,124.470001,125.400002,1017900,124.039559,0.98915117242183137,1,123.6,124.91,123.12,124.04,1017900]
[365,"2014-05-30",124.720001,125.480003,123.379997,124.459999,1039100,123.10975500000001,0.98915118101519517,1,123.37,124.12,122.04,123.11,1039100]
[366,"2014-05-29",124.889999,125.349998,123.550003,124.55999799999999,814000,123.208669,0.98915117997994839,1,123.54,123.99,122.21,123.21,814000]
[367,"2014-05-28",125.150002,125.980003,124.199997,124.32,670900,122.97127399999999,0.98915117438867439,1,123.79,124.61,122.85,122.97,670900]
[368,"2014-05-27",124.980003,126.44000200000001,124.650002,125.25,1122800,123.89118499999999,0.9891511776447105,1,123.62,125.07,123.3,123.89,1122800]
[369,"2014-05-23",123.779999,124.80999799999999,123.029999,124.489998,1010000,123.139428,0.9891511766270572,1,122.44,123.46,121.7,123.14,1010000]
[370,"2014-05-22",122.410004,123.529999,121.389999,123.30999799999999,1268700,121.97223,0.98915117977700395,1,121.08,122.19,120.07,121.97,1268700]
[371,"2014-05-21",121.389999,122.709999,121.209999,122.410004,847300,121.08199999999999,0.98915118081362041,1,120.07,121.38,119.9,121.08,847300]
[372,"2014-05-20",121.07,122.139999,119.989998,121.33000199999999,1030100,120.01371399999999,0.98915117466164715,1,119.76,120.81,118.69,120.01,1030100]
[373,"2014-05-19",118.779999,121.510002,118.779999,121.339996,1737400,120.023601,0.98915118639034738,1,117.49,120.19,117.49,120.02,1737400]
[374,"2014-05-16",119.68,120.239998,118.019997,119,1164100,117.70899,0.98915117647058826,1,118.38,118.94,116.74,117.71,1164100]
[375,"2014-05-15",119.80999799999999,120.879997,117.80999799999999,119.55999799999999,1454600,118.262913,0.98915117914270967,1,118.51,119.57,116.53,118.26,1454600]
[376,"2014-05-14",121.989998,121.989998,119.699997,119.989998,1444000,118.688248,0.98915117908410999,1,120.67,120.67,118.4,118.69,1444000]
[377,"2014-05-13",123.629997,123.94000200000001,121.879997,121.91999800000001,1249800,120.59730999999999,0.98915118092439591,1,122.29,122.6,120.56,120.6,1249800]
[378,"2014-05-12",120.19000200000001,123.94000200000001,120.18,123.620003,1707000,122.27887200000001,0.98915118130194524,1,118.89,122.6,118.88,122.28,1707000]
[379,"2014-05-09",116.730003,120.089996,116.30999799999999,120.040001,1293100,118.737709,0.98915118302939697,1,115.46,118.79,115.05,118.74,1293100]
[380,"2014-05-08",119.050003,119.120003,116.08000199999999,116.720001,2055400,115.453727,0.98915118240960265,1,117.76,117.83,114.82,115.45,2055400]
[381,"2014-05-07",110.019997,119.860001,107.989998,119.050003,4073200,117.75845099999999,0.98915118044978112,1,108.83,118.56,106.82,117.76,4073200]
[382,"2014-05-06",110.220001,111,109.69000200000001,109.790001,2836000,108.59890900000001,0.98915117962336119,1,109.02,109.8,108.5,108.6,2836000]
[383,"2014-05-05",108.739998,110.55999799999999,108.160004,110.120003,1944100,108.925331,0.98915118082588505,1,107.56,109.36,106.99,108.93,1944100]
[384,"2014-05-02",109.550003,110.260002,108.699997,108.889999,1170500,107.708671,0.98915117999036806,1,108.36,109.06,107.52,107.71,1170500]
[385,"2014-05-01",110.519997,111.050003,109.019997,109.41999800000001,1207000,108.23291999999999,0.9891511787452234,1,{"$f":"ROUND($I400*C400,2)","v":109.32},{"$f":"ROUND($I400*D400,2)","v":109.85},{"$f":"ROUND($I400*E400,2)","v":107.84},{"$f":"ROUND($I400*F400,2)","v":108.23},1207000]
[386,"2014-04-30",109.32,112.220001,108.879997,109.75,1334200,108.559342,0.98915117995444191,1,108.13,111,107.7,108.56,1334200]
[387,"2014-04-29",109.540001,109.650002,108.43,109.050003,882000,107.866939,{"$f":"H402/F402","v":0.98915117865700564},{"$f":"INDEX(OFFSET($T$15,0,0,$S$13+1,1),MATCH(B402,OFFSET($Q$15,0,0,$S$13+1,1),-1))","v":1},108.35,108.46,107.25,107.87,{"$f":"G402*J402","v":882000}]
[388,"2014-04-28",109.540001,109.589996,107.910004,108.970001,1214200,107.78780500000001,0.98915117932319752,1,108.35,108.4,106.74,107.79,1214200]
[389,"2014-04-25",108.32,109.400002,108.050003,109.18,901400,107.995526,0.98915118153507964,1,107.14,108.21,106.88,108,901400]
[390,"2014-04-24",108.970001,109.80999799999999,108.370003,108.82,1179400,107.639431,0.98915117625436511,1,107.79,108.62,107.19,107.64,1179400]
[391,"2014-04-23",107.449997,109,106.370003,107.870003,1341900,106.69974000000001,0.98915117300960864,1,106.28,107.82,105.22,106.7,1341900]
[392,"2014-04-22",105.519997,108.349998,105.519997,107.879997,1559100,106.709627,0.98915118620183118,1,104.38,107.17,104.38,106.71,1559100]
[393,"2014-04-21",105.230003,106.239998,104.08000199999999,105.379997,2237200,104.236749,0.98915118587448814,1,104.09,105.09,102.95,104.24,2237200]
[394,"2014-04-17",105.550003,107.18,103.889999,104.739998,3110500,103.603692,0.98915117412929487,1,104.4,106.02,102.76,103.6,3110500]
[395,"2014-04-16",110.129997,110.550003,108.18,108.800003,925700,107.619651,0.98915117676972864,1,108.94,109.35,107.01,107.62,925700]
[396,"2014-04-15",109.519997,110.010002,108.18,109.650002,1268400,108.46042799999999,0.98915117210850567,1,108.33,108.82,107.01,108.46,1268400]
[397,"2014-04-14",108.57,109.32,107.610001,109.25,1360400,108.06476600000001,0.98915117620137305,1,107.39,108.13,106.44,108.06,1360400]
[398,"2014-04-11",108.470001,109.779999,107.900002,108.160004,1277000,106.98659499999999,0.98915117458760438,1,107.29,108.59,106.73,106.99,1277000]
[399,"2014-04-10",113.80999799999999,114.389999,109.209999,109.660004,2023700,108.470322,0.98915117675903053,1,112.58,113.15,108.03,108.47,2023700]
[400,"2014-04-09",111.66999800000001,114.18,111.400002,113.900002,1514300,112.664321,0.98915117666108554,1,110.46,112.94,110.19,112.66,1514300]
[401,"2014-04-08",112.199997,113.129997,108.650002,111.269997,2467600,110.062848,0.98915117253036322,1,110.98,111.9,107.47,110.06,2467600]
[402,"2014-04-07",112.199997,114.07,111.75,112,1798100,110.784932,0.98915117857142854,1,110.98,112.83,110.54,110.78,1798100]
[403,"2014-04-04",114.360001,114.889999,111.75,112.209999,1653200,110.992653,0.98915118072499053,1,113.12,113.64,110.54,110.99,1653200]
[404,"2014-04-03",112.55999799999999,114.139999,111.970001,114.089996,1260100,112.852254,0.98915117851349565,1,111.34,112.9,110.76,112.85,1260100]
[405,"2014-04-02",113.55999799999999,113.55999799999999,111.83000199999999,112.16999800000001,1337400,110.953086,0.9891511810493212,1,112.33,112.33,110.62,110.95,1337400]
[406,"2014-04-01",112.769997,115.010002,112.44000200000001,113.269997,1503100,112.041151,0.98915117831247046,1,111.55,113.76,111.22,112.04,1503100]
[407,"2014-03-31",113.769997,113.879997,111.150002,112.720001,1267100,111.497122,0.98915118001107905,1,112.54,112.64,109.94,111.5,1267100]
[408,"2014-03-28",112.55999799999999,113.949997,112.389999,113.08000199999999,617800,111.853217,0.98915117635035066,1,111.34,112.71,111.17,111.85,617800]
[409,"2014-03-27",113.099998,113.5,111.599998,112.05999799999999,719000,110.844279,0.98915117774676387,1,111.87,112.27,110.39,110.84,719000]
[410,"2014-03-26",114.82,115.08000199999999,112.389999,112.93,813900,111.437771,0.98678624811830329,1,113.3,113.56,110.9,111.44,813900]
[411,"2014-03-25",113.75,115.790001,113.389999,114.199997,923000,112.690986,0.98678624308545293,1,112.25,114.26,111.89,112.69,923000]
[412,"2014-03-24",117.199997,117.629997,113.760002,113.790001,1714600,112.28640799999999,0.98678624671072801,1,115.65,116.08,112.26,112.29,1714600]
[413,"2014-03-21",119.68,119.80999799999999,116.970001,116.989998,2034800,115.444121,0.98678624646185564,1,118.1,118.23,115.42,115.44,2034800]
[414,"2014-03-20",116.949997,119.93,116.80999799999999,118.779999,1702900,117.210469,0.98678624336408693,1,115.4,118.35,115.27,117.21,1702900]
[415,"2014-03-19",113.529999,117.510002,113.370003,116.959999,2083500,115.414518,0.98678624304707807,1,112.03,115.96,111.87,115.41,2083500]
[416,"2014-03-18",111.41999800000001,113.699997,111.41999800000001,113.449997,1005800,111.950897,0.98678624909968049,1,109.95,112.2,109.95,111.95,1005800]
[417,"2014-03-17",109.949997,112,109.889999,111.540001,861100,110.06613900000001,0.98678624720471364,1,108.5,110.52,108.44,110.07,861100]
[418,"2014-03-14",109.720001,110.58000199999999,109.209999,109.489998,3355800,108.043224,0.98678624507783808,1,108.27,109.12,107.77,108.04,3355800]
[419,"2014-03-13",111.16999800000001,111.260002,109.459999,109.620003,1782300,108.171511,0.98678624374786783,1,109.7,109.79,108.01,108.17,1782300]
[420,"2014-03-12",110.110001,111.269997,109.80999799999999,110.989998,1363700,109.523403,0.98678624176567697,1,108.66,109.8,108.36,109.52,1363700]
[421,"2014-03-11",111.19000200000001,111.19000200000001,110.199997,110.360001,1170000,108.901731,0.98678624513604341,1,109.72,109.72,108.74,108.9,1170000]
[422,"2014-03-10",110.709999,110.970001,110.110001,110.879997,989400,109.414856,0.98678624603498133,1,109.25,109.5,108.66,109.41,989400]
[423,"2014-03-07",110.769997,111.230003,109.839996,110.91999800000001,1446700,109.454329,0.9867862511140687,1,109.31,109.76,108.39,109.45,1446700]
[424,"2014-03-06",112.389999,113.290001,111.18,111.470001,1463400,109.99706399999999,0.98678624753937161,1,110.9,111.79,109.71,110,1463400]
[425,"2014-03-05",111.760002,112.93,110.959999,111.959999,1143100,110.480587,0.98678624496950917,1,110.28,111.44,109.49,110.48,1143100]
[426,"2014-03-04",113.07,113.519997,111.779999,112.349998,1761400,110.865433,0.98678624809588333,1,111.58,112.02,110.3,110.87,1761400]
[427,"2014-03-03",114.199997,115,111.620003,112.220001,1942600,110.737154,0.98678625034052536,1,112.69,113.48,110.15,110.74,1942600]
[428,"2014-02-28",110.790001,113.089996,110.459999,112.459999,1718100,110.97398,0.98678624388036851,1,109.33,111.6,109,110.97,1718100]
[429,"2014-02-27",110.260002,111.279999,109.779999,110.620003,1255100,109.158297,0.98678624154439776,1,108.8,109.81,108.33,109.16,1255100]
[430,"2014-02-26",108.139999,112.720001,108.139999,110.30999799999999,2554700,108.852388,0.98678623854204051,1,106.71,111.23,106.71,108.85,2554700]
[431,"2014-02-25",113.370003,114.110001,109.91999800000001,110.489998,3411100,109.03001,0.98678624285973837,1,111.87,112.6,108.47,109.03,3411100]
[432,"2014-02-24",102.860001,114.760002,102.709999,113.69000200000001,6568800,112.187731,0.98678625232146622,1,101.5,113.24,101.35,112.19,6568800]
[433,"2014-02-21",102.720001,104.110001,102.370003,102.82,3455300,101.46136199999999,0.98678624781170976,1,101.36,102.73,101.02,101.46,3455300]
[434,"2014-02-20",100.910004,102.91999800000001,100.910004,102.239998,1846600,100.88902400000001,0.98678624778533353,1,99.58,101.56,99.58,100.89,1846600]
[435,"2014-02-19",101.93,102.94000200000001,101.760002,101.980003,1607600,100.632465,0.98678625259503083,1,100.58,101.58,100.42,100.63,1607600]
[436,"2014-02-18",100.730003,103.959999,100.349998,102.30999799999999,2349000,100.95809800000001,0.98678623764609996,1,99.4,102.59,99.02,100.96,2349000]
[437,"2014-02-14",96.860000999999997,101.610001,96.860000999999997,100.230003,2759000,98.905589000000006,0.98678625201677395,1,95.58,100.27,95.58,98.91,2759000]
[438,"2014-02-13",95.519997000000004,97.230002999999996,95.279999000000004,97.019997000000004,1510500,95.737998000000005,0.98678623954193689,1,94.26,95.95,94.02,95.74,1510500]
[439,"2014-02-12",97.300003000000004,98.230002999999996,95.389999000000003,95.589995999999999,1417200,94.326893999999996,0.98678625323930336,1,96.01,96.93,94.13,94.33,1417200]
[440,"2014-02-11",96.540001000000004,97.540001000000004,94.879997000000003,97.269997000000004,1382500,95.984695000000002,0.98678624406660564,1,95.26,96.25,93.63,95.98,1382500]
[441,"2014-02-10",95.779999000000004,96.470000999999996,94.709998999999996,96.470000999999996,1662500,95.195269999999994,0.98678624456529229,1,94.51,95.2,93.46,95.2,1662500]
[442,"2014-02-07",96.010002,96.57,94.559997999999993,95.970000999999996,2251600,94.701876999999996,0.98678624583946806,1,94.74,95.29,93.31,94.7,2251600]
[443,"2014-02-06",95.57,96.809997999999993,94.699996999999996,96.660004000000001,2161400,95.382762,0.98678624097718848,1,94.31,95.53,93.45,95.38,2161400]
[444,"2014-02-05",91,96.879997000000003,91,95.709998999999996,4642900,94.445311000000004,0.98678624999254261,1,89.8,95.6,89.8,94.45,4642900]
[445,"2014-02-04",96.470000999999996,97.580001999999993,95.309997999999993,97.470000999999996,2046400,96.182057,0.98678625231572537,1,95.2,96.29,94.05,96.18,2046400]
[446,"2014-02-03",97.190002000000007,97.330001999999993,95.879997000000003,96.360000999999997,2038800,95.086723000000006,0.98678623924049158,1,95.91,96.04,94.61,95.09,2038800]
[447,"2014-01-31",97.029999000000004,97.68,96.800003000000004,97.300003000000004,1410100,96.014304999999993,0.98678624912272606,1,95.75,96.39,95.52,96.01,1410100]
[448,"2014-01-30",96.919998000000007,98.919998000000007,96.809997999999993,98.169998000000007,1083600,96.872804000000002,0.98678624807550663,1,95.64,97.61,95.53,96.87,1083600]
[449,"2014-01-29",95.18,98.589995999999999,94.199996999999996,96.519997000000004,2280400,95.244605000000007,0.98678624078282973,1,{"$f":"ROUND($I464*C464,2)","v":93.92},{"$f":"ROUND($I464*D464,2)","v":97.29},{"$f":"ROUND($I464*E464,2)","v":92.96},{"$f":"ROUND($I464*F464,2)","v":95.24},2280400]
[450,"2014-01-28",96,96.739998,95.699996999999996,96.019997000000004,1192600,94.751211999999995,0.98678624203664567,1,94.73,95.46,94.44,94.75,1192600]
[451,"2014-01-27",96.120002999999997,96.769997000000004,94.849997999999999,96.040001000000004,1585200,94.770951999999994,{"$f":"H466/F466","v":0.98678624545203819},{"$f":"INDEX(OFFSET($T$15,0,0,$S$13+1,1),MATCH(B466,OFFSET($Q$15,0,0,$S$13+1,1),-1))","v":1},94.85,95.49,93.6,94.77,{"$f":"G466*J466","v":1585200}]
[452,"2014-01-24",95.300003000000004,96.32,94.910004000000001,96,1729400,94.731480000000005,0.98678625000000009,1,94.04,95.05,93.66,94.73,1729400]
[453,"2014-01-23",95.910004000000001,97.839995999999999,95.800003000000004,96.190002000000007,1744300,94.918970999999999,0.98678624624625744,1,94.64,96.55,94.53,94.92,1744300]
[454,"2014-01-22",96.139999000000003,96.489998,95.559997999999993,96.139999000000003,1346100,94.869629000000003,0.98678624908244483,1,94.87,95.22,94.3,94.87,1346100]
[455,"2014-01-21",96.690002000000007,96.940002000000007,95.269997000000004,95.660004000000001,1407600,94.395976000000005,0.98678624349628929,1,95.41,95.66,94.01,94.4,1407600]
[456,"2014-01-17",96,97.169998000000007,95.830001999999993,96.57,1597200,95.293948,0.9867862483172829,1,94.73,95.89,94.56,95.29,1597200]
[457,"2014-01-16",96.720000999999996,97.099997999999999,95.129997000000003,96.160004000000001,1130900,94.889369000000002,0.98678624223018963,1,95.44,95.82,93.87,94.89,1130900]
[458,"2014-01-15",96.790001000000004,97.650002000000001,96.519997000000004,97.129997000000003,1440500,95.846545000000006,0.98678624483021449,1,95.51,96.36,95.24,95.85,1440500]
[459,"2014-01-14",96.040001000000004,96.910004000000001,95.5,96.790001000000004,1005900,95.511042000000003,0.98678624871591847,1,94.77,95.63,94.24,95.51,1005900]
[460,"2014-01-13",96.940002000000007,97.75,95.970000999999996,96.029999000000004,1863600,94.761082000000002,0.98678624374451984,1,95.66,96.46,94.7,94.76,1863600]
[461,"2014-01-10",97,98.769997000000004,95.010002,96.959998999999996,4074500,95.678793999999996,0.98678625192642588,1,95.72,97.46,93.75,95.68,4074500]
[462,"2014-01-09",99.800003000000004,100.400002,98.989998,98.989998,2261100,97.681967999999998,0.98678624076747634,1,98.48,99.07,97.68,97.68,2261100]
[463,"2014-01-08",100.660004,100.660004,98.949996999999996,99.400002000000001,2332700,98.086554000000007,0.98678623769041784,1,99.33,99.33,97.64,98.09,2332700]
[464,"2014-01-07",98.720000999999996,101.349998,98.5,100.550003,2561700,99.221360000000004,0.98678624604317511,1,97.42,100.01,97.2,99.22,2561700]
[465,"2014-01-06",102.300003,102.379997,99.959998999999996,100.760002,1850200,99.428584000000001,0.98678624480376653,1,100.95,101.03,98.64,99.43,1850200]
[466,"2014-01-03",102.860001,103.040001,101.58000199999999,101.760002,1234400,100.41537099999999,0.98678625222511285,1,101.5,101.68,100.24,100.42,1234400]
[467,"2014-01-02",102.760002,103.879997,102.300003,102.839996,1393500,101.481094,0.98678624997223841,1,101.4,102.51,100.95,101.48,1393500]
[468,"2013-12-31",102.66999800000001,103.529999,102.050003,103.220001,856800,101.856078,0.98678625279222776,1,101.31,102.16,100.7,101.86,856800]
[469,"2013-12-30",103.150002,103.41999800000001,102.32,102.480003,553100,101.12585799999999,0.98678625136261944,1,101.79,102.05,100.97,101.13,553100]
[470,"2013-12-27",103.16999800000001,103.980003,102.779999,103.050003,480400,101.688326,0.98678624977817808,1,101.81,102.61,101.42,101.69,480400]
[471,"2013-12-26",103.290001,103.779999,102.849998,103.529999,403300,101.895545,0.98421274977506756,1,101.66,102.14,101.23,101.9,403300]
[472,"2013-12-24",103.209999,103.790001,103.08000199999999,103.260002,351400,101.629811,0.9842127545184437,1,101.58,102.15,101.45,101.63,351400]
[473,"2013-12-23",102.389999,103.599998,102.019997,103.07,714200,101.442808,0.98421274861744457,1,100.77,101.96,100.41,101.44,714200]
[474,"2013-12-20",101.949997,102.589996,101.110001,101.889999,1065000,100.281437,0.98421275870264746,1,100.34,100.97,99.51,100.28,1065000]
[475,"2013-12-19",100.220001,101.860001,99.199996999999996,101.69000200000001,1853600,100.084598,0.98421276459410423,1,98.64,100.25,97.63,100.08,1853600]
[476,"2013-12-18",99.629997000000003,101.110001,98.620002999999997,100.730003,992700,99.139753999999996,0.9842127573449988,1,98.06,99.51,97.06,99.14,992700]
[477,"2013-12-17",100.18,100.25,98.760002,99.07,763100,97.505956999999995,0.98421274856162311,1,98.6,98.67,97.2,97.51,763100]
[478,"2013-12-16",99.900002000000001,100.849998,98.989998,100.110001,907700,98.529539999999997,0.98421275612613368,1,98.32,99.26,97.43,98.53,907700]
[479,"2013-12-13",100.849998,102.029999,99.620002999999997,99.910004000000001,862000,98.332700000000003,0.98421275210838743,1,99.26,100.42,98.05,98.33,862000]
[480,"2013-12-12",101.68,102.400002,99.690002000000007,100.470001,1482500,98.883857000000006,0.98421276018500303,1,100.07,100.78,98.12,98.88,1482500]
[481,"2013-12-11",103.989998,104.739998,101.699997,101.93,1627900,100.320807,0.98421276366133614,1,102.35,103.09,100.09,100.32,1627900]
[482,"2013-12-10",104.040001,104.470001,103.44000200000001,103.629997,1061300,101.993965,0.98421275646664352,1,102.4,102.82,101.81,101.99,1061300]
[483,"2013-12-09",103.779999,104.949997,103.779999,104.41999800000001,1004400,102.771494,0.98421275587459789,1,102.14,103.29,102.14,102.77,1004400]
[484,"2013-12-06",103.029999,104.150002,102.870003,104,1261800,102.358127,0.98421275961538457,1,101.4,102.51,101.25,102.36,1261800]
[485,"2013-12-05",103.489998,104.05999799999999,101.82,101.910004,1264500,100.301126,0.98421275697329969,1,101.86,102.42,100.21,100.3,1264500]
[486,"2013-12-04",104.639999,104.730003,102.449997,103.760002,1356600,102.12191799999999,0.98421276052018569,1,102.99,103.08,100.83,102.12,1356600]
[487,"2013-12-03",104.900002,105.120003,103.900002,104.760002,1162500,103.10612999999999,0.98421275326054303,1,103.24,103.46,102.26,103.11,1162500]
[488,"2013-12-02",104.010002,105.800003,103.80999799999999,105.25,993500,103.588393,0.9842127600950118,1,102.37,104.13,102.17,103.59,993500]
[489,"2013-11-29",103.80999799999999,104.69000200000001,103.80999799999999,103.989998,427900,102.348282,0.98421275092244931,1,102.17,103.04,102.17,102.35,427900]
[490,"2013-11-27",103.519997,104.050003,103.029999,103.779999,1068400,102.141599,0.98421275760467097,1,101.89,102.41,101.4,102.14,1068400]
[491,"2013-11-26",103.599998,104.589996,103.379997,103.889999,1585700,102.249863,0.98421276334789454,1,101.96,102.94,101.75,102.25,1585700]
[492,"2013-11-25",101.519997,103.5,101.349998,103.480003,870900,101.846339,0.98421275654582274,1,99.92,101.87,99.75,101.85,870900]
[493,"2013-11-22",99.800003000000004,101.589996,99.760002,101.25,1628200,99.651542000000006,0.98421276049382722,1,98.22,99.99,98.19,99.65,1628200]
[494,"2013-11-21",100.19000200000001,101.599998,99.620002999999997,99.720000999999996,2007400,98.145696999999998,0.98421275587432056,1,98.61,100,98.05,98.15,2007400]
[495,"2013-11-20",99.050003000000004,101.410004,98.699996999999996,100.279999,2011100,98.696854000000002,0.98421275413056197,1,97.49,99.81,97.14,98.7,2011100]
[496,"2013-11-19",98.93,99.400002000000001,97.809997999999993,98.639999000000003,2012800,97.082746,0.98421276342470354,1,97.37,97.83,96.27,97.08,2012800]
[497,"2013-11-18",98.260002,98.919998000000007,97.650002000000001,98.639999000000003,863600,97.082746,0.98421276342470354,1,96.71,97.36,96.11,97.08,863600]
[498,"2013-11-15",97.400002000000001,98.279999000000004,97.080001999999993,98.269997000000004,1116900,96.718584000000007,0.98421275010316733,1,95.86,96.73,95.55,96.72,1116900]
[499,"2013-11-14",96.849997999999999,97.669998000000007,96.669998000000007,97.459998999999996,1129100,95.921374,0.98421275378835171,1,95.32,96.13,95.14,95.92,1129100]
[500,"2013-11-13",95.910004000000001,96.599997999999999,95.540001000000004,96.57,947800,95.045426000000006,0.98421275758517146,1,94.4,95.07,94.03,95.05,947800]
[501,"2013-11-12",95.900002000000001,96.629997000000003,95.599997999999999,96.379997000000003,1068400,94.858423000000002,0.98421276149240799,1,94.39,95.1,94.09,94.86,1068400]
[502,"2013-11-11",95.370002999999997,96.739998,95.129997000000003,96.150002000000001,980100,94.632058000000001,0.98421275123842433,1,93.86,95.21,93.63,94.63,980100]
[503,"2013-11-08",95.650002000000001,96.290001000000004,94.360000999999997,95.190002000000007,1590300,93.687214999999995,0.98421276427749194,1,94.14,94.77,92.87,93.69,1590300]
[504,"2013-11-07",97,97,95.010002,95.480002999999996,1626600,93.972637000000006,0.9842127570942788,1,95.47,95.47,93.51,93.97,1626600]
[505,"2013-11-06",91.839995999999999,97.360000999999997,91.339995999999999,95.870002999999997,2782100,94.356480000000005,0.98421275735226599,1,90.39,95.82,89.9,94.36,2782100]
[506,"2013-11-05",93.690002000000007,94.669998000000007,93.220000999999996,93.949996999999996,1457600,92.466785000000002,0.98421275095942795,1,92.21,93.18,91.75,92.47,1457600]
[507,"2013-11-04",93.349997999999999,94.690002000000007,93.230002999999996,94.129997000000003,1461200,92.643944000000005,0.98421275844723555,1,91.88,93.2,91.76,92.64,1461200]
[508,"2013-11-01",92.309997999999993,93.110000999999997,91.919998000000007,93.010002,1019200,91.541630999999995,0.98421276240806865,1,90.85,91.64,90.47,91.54,1019200]

{"sheet":"InputIndexData","index":2,"n_rows":523,"n_cols":244,"rows_kept":523,"cut":false,"hidden":false,"merged":[[13,1,13,6],[13,10,13,14],[13,17,13,18],[4,31,8,31],[10,22,10,29],[11,22,14,22],[11,23,14,23],[11,24,14,24],[11,25,14,25],[11,26,14,26],[11,27,14,27],[11,28,14,28],[11,29,14,29]]}
["SPDR S&P 500 (SPY) -PCX (Daily)"]
["Last Trade:","2015-11-06",209.74,210.32,208.46,209.23,111171282,"11:03am",-0.92,{"$f":"IFERROR(OFFSET(J2,0,-1,1,1)/(OFFSET(J2,0,-4,1,1)-OFFSET(J2,0,-1,1,1)),\"\")","v":-4.3778253628360703E-3},null,"Notes:","Online Yahoo Finance Query Interfaces used in the VBA code to obtain this data: ",null,null,null,null,null,null,null,null,null,null,null,null,null,null,null,null,null,null,null,null,null,null,null,null,null,null,null,null,null,null,null,null,null,null,null,null,null,null,null,null,null,null,null,null,null,null,null,null,null,null,null,null,null,null,null,null,null,null,null,null,null,null,null,null,null,null,null,null,null,null,null,null,null,null,null,null,null,null,null,null,null,null,null,null,null,null,null,null,null,null,null,null,null,null,null,null,null,null,null,null,null,null,null,null,null,null,null,null,null,null,null,null,null,null,null,null,null,null,null,null,null,null,null,null,null,null,null,null,null,null,null,null,null,null,null,null,null,null,null,null,null,null,null,null,null,null,null,null,null,null,null,null,null,null,null,null,null,null,null,null,null,null,null,null,null,null,null,null,null,null,null,null,null,null,null,null,null,null,null,null,null,null,null,null,null,null,null,null,null,null,null,null,null,null,null,null,null,null,null,null,null,null,null,null,null,null,null,null,null,null,null,null,null,null,null,null,null,null,null,null,null,null,null,null,null,null,null,null,null,null,241.79]
["Request Online Yahoo History for:",null,null,null,null,null,null,null,null,null,null,null,"A.) Price History Only: \"http://ichart.finance.yahoo.com/table.csv\""]
["Symbol","SPY",null,"Valid",null,null,null,null,{"$f":"OFFSET(I4,-2,0,1,1)","v":-0.92},null,null,null,"B.) Price History w/ imbedded divs n splits: \"http://ichart.finance.yahoo.com/x\""]
["From","1977-01-07",null,"Data",null,null,null,null,null,null,null,null,null,null,null,null,null,null,null,null,null,null,null,null,null,null,null,null,null,null,null,"Trailing 12 Div return (Cur Close)"]
["To",{"$f":"TODAY()","v":"2015-11-06"},null,"Types",{"$f":"VLOOKUP(B7,D7:E10,2,FALSE)","v":"d"},null,null,null,null,null,null,null,"C.) Fundamentals (in this case name and exchange):"]
["Data Type","Daily",null,"Daily","d",null,null,null,null,null,null,null," \"http://download.finance.yahoo.com/d/quotes.csv?\""]
[null,null,null,"Weekly","w",null,null,null,null,null,null,null,"For some how-to doc regarding this particular interface, including a list of the "]
["Available Data",null,null,"Monthly","m",null,null,null,null,null,null,null,"specific fields you can include in a request to this interface see:"]
["Bar Count: ",{"$f":"COUNTA(B15:B64738)-1","v":508},null,null,null,null,null,null,null,null,null,null,"http://www.gummy-stuff.org/Yahoo-data.htm",null,null,null,null,null,null,null,null,null,null,null,null,null,null,null,null,null,null,{"$f":"OFFSET(AC15,1,0,1,1)/OFFSET(N15,1,0,1,1)","v":1.9734263728910767E-2}]
["From: ",{"$f":"IF(B10<=0,\"\",OFFSET(B15,B10,IF(HistReqDataType=\"v\",1,0),1,1))","v":"2013-11-01"},null,null,null,null,null,null,null,null,null,null,"This web site includes a downloadable working EXCEL/VBA example ",null,null,null,null,null,null,null,null,null,"Trailing 12 Month Dividend Returns"]
["To: ",{"$f":"IF(B10<=0,\"\",IF(HistReqDataType=\"v\",OFFSET(B15,2,1,1,1),OFFSET(B15,1,0,1,1)))","v":"2015-11-06"},null,null,null,null,null,null,null,null,null,null,"of the capabilities of this interface.",null,null,null,null,null,null,null,null,null,"Raw Close price on Dividend date","Div Year and Month","Looking for year ago Div Year and Month","Year ago Div Date we found","row offset to year ago div Date","Same month flag","Trailing 12 Div Total","Trailing 12 Div return"]
[null,null,null,null,null,null,null,null,null,null,null,null,null,null,null,null,"Split History",null,{"$f":"COUNT(Q16:Q14738)","v":0},"Running","Dividend History"]
[null,"Raw Data Values",null,null,null,null,null,"Adjusted","Price Adjust","Vol Adjust","Adjusted Values",null,null,null,null,"Last","Effective","Shares",null,"Vol Adjust ",null,{"$f":"COUNT(U16:U14738)","v":95}]
["RelRow","Date","Open","High","Low","Close","Volume","Close","Factor","Factor","Open","High","Low","Close","Volume","Trade",42315,"New","Old",1,"Date","$ / Share"]
[1,"2015-11-06",209.74,210.32,208.46,209.23,111171282,209.23,{"$f":"H16/F16","v":1},{"$f":"INDEX(OFFSET($T$15,0,0,$S$13+1,1),MATCH(B16,OFFSET($Q$15,0,0,$S$13+1,1),-1))","v":1},{"$f":"ROUND($I16*C16,2)","v":209.74},{"$f":"ROUND($I16*D16,2)","v":210.32},{"$f":"ROUND($I16*E16,2)","v":208.46},{"$f":"ROUND($I16*F16,2)","v":209.23},{"$f":"G16*J16","v":111171282},"11:03am",null,null,null,null,"2015-09-18",1.0329999999999999,{"$f":"(INDEX(OFFSET($F$15,1,0,$B$10,1),MATCH(U16,OFFSET($B$15,1,0,$B$10,1),-1)))","v":195.36000100000001},{"$f":"YEAR(U16)&RIGHT(\"0\"&MONTH(U16),2)","v":"201509"},{"$f":"YEAR(U16)-1&RIGHT(\"0\"&MONTH(U16),2)","v":"201409"},{"$f":"OFFSET(U15,AA16,0,1,1)","v":"2014-09-19"},{"$f":"MATCH(Y16,OFFSET($X$15,A16,0,$V$14+1-A16,1),-1)","v":5},{"$f":"IF(OR(AND(YEAR(U16)=YEAR(Z16),MONTH(U16)=MONTH(Z16)),MONTH(U16)=MONTH(Z16)),1,0)","v":1},{"$f":"(V16+IF(AA16-AB16=0,0,IFERROR(SUM(OFFSET(V16,1,0,AA16-AB16-1,1)),0)))","v":4.1289999999999996},{"$f":"AC16/(INDEX(OFFSET($F$15,1,0,$B$10,1),MATCH(U16,OFFSET($B$15,1,0,$B$10,1),-1)))","v":2.1135339777153254E-2}]
[2,"2015-11-05",210.429993,210.979996,209.08999600000001,210.11999499999999,75834200,210.11999499999999,{"$f":"H17/F17","v":1},{"$f":"INDEX(OFFSET($T$15,0,0,$S$13+1,1),MATCH(B17,OFFSET($Q$15,0,0,$S$13+1,1),-1))","v":1},210.43,210.98,209.09,210.12,{"$f":"G17*J17","v":75834200},null,null,null,null,null,"2015-06-19",1.03,{"$f":"(INDEX(OFFSET($F$15,1,0,$B$10,1),MATCH(U17,OFFSET($B$15,1,0,$B$10,1),-1)))","v":210.80999800000001},{"$f":"YEAR(U17)&RIGHT(\"0\"&MONTH(U17),2)","v":"201506"},{"$f":"YEAR(U17)-1&RIGHT(\"0\"&MONTH(U17),2)","v":"201406"},{"$f":"OFFSET(U16,AA17,0,1,1)","v":"2014-06-20"},{"$f":"MATCH(Y17,OFFSET($X$15,A17,0,$V$14+1-A17,1),-1)","v":5},{"$f":"IF(OR(AND(YEAR(U17)=YEAR(Z17),MONTH(U17)=MONTH(Z17)),MONTH(U17)=MONTH(Z17)),1,0)","v":1},{"$f":"(V17+IF(AA17-AB17=0,0,IFERROR(SUM(OFFSET(V17,1,0,AA17-AB17-1,1)),0)))","v":4.0350000000000001},{"$f":"AC17/(INDEX(OFFSET($F$15,1,0,$B$10,1),MATCH(U17,OFFSET($B$15,1,0,$B$10,1),-1)))","v":1.9140458414121327E-2}]
[3,"2015-11-04",211.35000600000001,211.5,209.720001,210.38000500000001,90967700,210.38000500000001,{"$f":"H18/F18","v":1},{"$f":"INDEX(OFFSET($T$15,0,0,$S$13+1,1),MATCH(B18,OFFSET($Q$15,0,0,$S$13+1,1),-1))","v":1},211.35,211.5,209.72,210.38,{"$f":"G18*J18","v":90967700},null,null,null,null,null,"2015-03-20",0.93100000000000005,210.41000399999999,"201503","201403","2014-03-21",5,1,3.9420000000000002,1.8734850649021424E-2]
[4,"2015-11-03",209.970001,211.66000399999999,209.699997,210.949997,94524100,210.949997,1,1,209.97,211.66,209.7,210.95,94524100,null,null,null,null,null,"2014-12-19",1.135,206.520004,"201412","201312","2013-12-20",5,1,3.8359999999999994,1.8574471846320512E-2]
[5,"2015-11-02",208.320007,210.61999499999999,208.16999799999999,210.33000200000001,82533600,210.33000200000001,1,1,208.32,210.62,208.17,210.33,82533600,null,null,null,null,null,"2014-09-19",0.93899999999999995,200.699997,"201409","201309","2013-09-20",5,1,3.681,1.8340807449040472E-2]
[6,"2015-10-30",209.05999800000001,209.44000199999999,207.740005,207.86999499999999,125338300,207.86999499999999,1,1,209.06,209.44,207.74,207.87,125338300,null,null,null,null,null,"2014-06-20",0.93700000000000006,195.94000199999999,"201406","201306","2013-06-21",5,1,3.58,1.8270899068379105E-2]
[7,"2015-10-29",208.35000600000001,209.270004,208.21000699999999,208.88999899999999,84727800,208.88999899999999,1,1,208.35,209.27,208.21,208.89,84727800,null,null,null,null,null,"2014-03-21",0.82499999999999996,186.199997,"201403","201303","2013-03-15",5,1,3.4820000000000002,1.8700322535450956E-2]
[8,"2015-10-28",207,208.979996,206.21000699999999,208.94000199999999,132528000,208.94000199999999,1,1,207,208.98,206.21,208.94,132528000,null,null,null,null,null,"2013-12-20",0.98,181.55999800000001,"201312","201212","2012-12-21",5,1,3.351,1.8456708729419572E-2]
[9,"2015-10-27",206.199997,207,205.78999300000001,206.570007,74930600,206.570007,1,1,206.2,207,205.79,206.57,74930600,null,null,null,null,null,"2013-09-20",0.83799999999999997,176.21000699999999,"201309","201209","2012-09-21",5,1,3.3929999999999998,1.9255433092400933E-2]
[10,"2015-10-26",207.300003,207.36999499999999,206.55999800000001,206.990005,66254500,206.990005,1,1,207.3,207.37,206.56,206.99,66254500,null,null,null,null,null,"2013-06-21",0.83899999999999997,176.21000699999999,"201306","201206","2012-06-15",5,1,3.3340000000000001,1.8920605343373038E-2]
[11,"2015-10-23",207.25,207.949997,206.300003,207.520004,138355700,207.520004,1,1,207.25,207.95,206.3,207.52,138355700,null,null,null,null,null,"2013-03-15",0.69399999999999995,176.21000699999999,"201303","201203","2012-03-16",5,1,3.1829999999999998,1.8063673307725368E-2]
[12,"2015-10-22",202.979996,205.509995,201.85000600000001,205.21000699999999,164941500,205.21000699999999,1,1,202.98,205.51,201.85,205.21,164941500,null,null,null,null,null,"2012-12-21",1.022,176.21000699999999,"201212","201112","2011-12-16",5,1,3.1029999999999998,1.7609669580229914E-2]
[13,"2015-10-21",203.61000100000001,203.78999300000001,201.64999399999999,201.86999499999999,99149500,201.86999499999999,1,1,203.61,203.79,201.65,201.87,99149500,null,null,null,null,null,"2012-09-21",0.77900000000000003,176.21000699999999,"201209","201109","2011-09-16",5,1,2.851,1.6179557838619234E-2]
[14,"2015-10-20",202.85000600000001,203.83999600000001,202.550003,203.08999600000001,75598000,203.08999600000001,1,1,202.85,203.84,202.55,203.09,75598000,null,null,null,null,null,"2012-06-15",0.68799999999999994,176.21000699999999,"201206","201106","2011-06-17",5,1,2.6970000000000001,1.5305600663190486E-2]
[15,"2015-10-19",202.5,203.36999499999999,202.13000500000001,203.320007,73106800,203.320007,1,1,202.5,203.37,202.13,203.32,73106800,null,null,null,null,null,"2012-03-16",0.61399999999999999,176.21000699999999,"201203","201103","2011-03-18",5,1,2.637,1.4965097867568895E-2]
[16,"2015-10-16",202.83000200000001,203.28999300000001,201.91999799999999,203.270004,109692900,203.270004,1,1,202.83,203.29,201.92,203.27,109692900,null,null,null,null,null,"2011-12-16",0.77,176.21000699999999,"201112","201012","2010-12-17",5,1,2.5760000000000001,1.4618920025353612E-2]
[17,"2015-10-15",200.08000200000001,202.36000100000001,199.63999899999999,202.28999300000001,125812600,202.28999300000001,1,1,200.08,202.36,199.64,202.29,125812600,null,null,null,null,null,"2011-09-16",0.625,176.21000699999999,"201109","201009","2010-09-17",5,1,2.4590000000000001,1.3954939573891512E-2]
[18,"2015-10-14",200.179993,200.86999499999999,198.94000199999999,199.300003,95532400,199.300003,1,1,200.18,200.87,198.94,199.3,95532400,null,null,null,null,null,"2011-06-17",0.628,176.21000699999999,"201106","201006","2010-06-18",5,1,2.4359999999999999,1.3824413502236567E-2]
[19,"2015-10-13",200.64999399999999,202.16000399999999,200.050003,200.179993,83578000,200.179993,1,1,200.65,202.16,200.05,200.18,83578000,null,null,null,null,null,"2011-03-18",0.55300000000000005,176.21000699999999,"201103","201003","2010-03-19",5,1,2.339,1.3273933982648331E-2]
[20,"2015-10-12",201.41999799999999,201.759995,200.91000399999999,201.58999600000001,55425200,201.58999600000001,1,1,201.42,201.76,200.91,201.59,55425200,null,null,null,null,null,"2010-12-17",0.65300000000000002,176.21000699999999,"201012","200912","2009-12-18",5,1,2.266,1.2859655581308728E-2]
[21,"2015-10-09",201.38000500000001,201.89999399999999,200.58000200000001,201.39999399999999,94899000,201.39999399999999,1,1,201.38,201.9,200.58,201.4,94899000,null,null,null,null,null,"2010-09-17",0.60199999999999998,176.21000699999999,"201009","200909","2009-09-18",5,1,2.2029999999999998,1.2502127645906058E-2]
[22,"2015-10-08",199.41000399999999,201.550003,198.58999600000001,201.199997,148387100,201.199997,1,1,199.41,201.55,198.59,201.2,148387100,null,null,null,null,null,"2010-06-18",0.53100000000000003,176.21000699999999,"201006","200906","2009-06-19",5,1,2.109,1.1968673266098901E-2]
[23,"2015-10-07",198.89999399999999,199.83000200000001,197.479996,199.429993,120246700,199.429993,1,1,198.9,199.83,197.48,199.43,120246700,null,null,null,null,null,"2010-03-19",0.48,176.21000699999999,"201003","200903","2009-03-20",5,1,2.0960000000000001,1.189489766038089E-2]
[24,"2015-10-06",198.30999800000001,198.979996,197,197.80999800000001,106144200,197.80999800000001,1,1,198.31,198.98,197,197.81,106144200,null,null,null,null,null,"2009-12-18",0.59,176.21000699999999,"200912","200812","2008-12-19",5,1,2.177,1.2354576434470037E-2]
[25,"2015-10-05",196.46000699999999,198.740005,196.33000200000001,198.479996,122213200,198.479996,1,1,196.46,198.74,196.33,198.48,122213200,null,null,null,null,null,"2009-09-18",0.50800000000000001,176.21000699999999,"200909","200809","2008-09-19",5,1,2.306,1.3086657445056455E-2]
[26,"2015-10-02",189.770004,195.029999,189.11999499999999,194.990005,206129500,194.990005,1,1,189.77,195.03,189.12,194.99,206129500,null,null,null,null,null,"2009-06-19",0.51800000000000002,176.21000699999999,"200906","200806","2008-06-20",5,1,2.4889999999999999,1.4125190971702305E-2]
[27,"2015-10-01",192.08000200000001,192.490005,189.820007,192.16000399999999,127828700,192.16000399999999,1,1,192.08,192.49,189.82,192.16,127828700,null,null,null,null,null,"2009-03-20",0.56100000000000005,176.21000699999999,"200903","200803","2008-03-20",5,1,2.6399999999999997,1.4982123007349973E-2]
[28,"2015-09-30",190.36999499999999,191.83000200000001,189.44000199999999,191.58999600000001,152593200,191.58999600000001,1,1,190.37,191.83,189.44,191.59,152593200,null,null,null,null,null,"2008-12-19",0.71899999999999997,176.21000699999999,"200812","200712","2007-12-21",5,1,2.7209999999999996,1.544180178143912E-2]
[29,"2015-09-29",188.270004,189.740005,186.929993,188.08000200000001,152279900,188.08000200000001,1,1,188.27,189.74,186.93,188.08,152279900,null,null,null,null,null,"2008-09-19",0.69099999999999995,176.21000699999999,"200809","200709","2007-09-21",5,1,2.7769999999999997,1.5759604390685938E-2]
[30,"2015-09-28",191.779999,191.91000399999999,187.63999899999999,187.91000399999999,158514500,187.91000399999999,1,1,191.78,191.91,187.64,187.91,158514500,null,null,null,null,null,"2008-06-20",0.66900000000000004,176.21000699999999,"200806","200706","2007-06-15",5,1,2.8050000000000002,1.5918505695309348E-2]
[31,"2015-09-25",194.63999899999999,195,191.80999800000001,192.86999499999999,142052900,192.86999499999999,1,1,194.64,195,191.81,192.87,142052900,null,null,null,null,null,"2008-03-20",0.64200000000000002,176.21000699999999,"200803","200703","2007-03-16",5,1,2.7919999999999998,1.5844730089591336E-2]
[32,"2015-09-24",192.14999399999999,193.449997,190.55999800000001,192.929993,159378800,192.929993,1,1,192.15,193.45,190.56,192.93,159378800,null,null,null,null,null,"2007-12-21",0.77500000000000002,176.21000699999999,"200712","200612","2006-12-15",5,1,2.7010000000000001,1.532830084956526E-2]
[33,"2015-09-23",194.11000100000001,194.66999799999999,192.91000399999999,193.60000600000001,92790600,193.60000600000001,1,1,194.11,194.67,192.91,193.6,92790600,null,null,null,null,null,"2007-09-21",0.71899999999999997,176.21000699999999,"200709","200609","2006-09-15",5,1,2.7189999999999999,1.5430451688251735E-2]
[34,"2015-09-22",193.88000500000001,194.46000699999999,192.55999800000001,193.89999399999999,153890900,193.89999399999999,1,1,193.88,194.46,192.56,193.9,153890900,null,null,null,null,null,"2007-06-15",0.65600000000000003,176.21000699999999,"200706","200606","2006-06-16",5,1,2.5790000000000002,1.4635945165134693E-2]
[35,"2015-09-21",196.44000199999999,197.679993,195.21000699999999,196.44000199999999,105726200,196.44000199999999,1,1,196.44,197.68,195.21,196.44,105726200,null,null,null,null,null,"2007-03-16",0.55100000000000005,176.21000699999999,"200703","200603","2006-03-17",5,1,2.4780000000000002,1.4062765459171683E-2]
[36,"2015-09-18",195.71000699999999,198.679993,194.96000699999999,195.36000100000001,223657500,195.36000100000001,1,1,195.71,198.68,194.96,195.36,223657500,null,null,null,null,null,"2006-12-15",0.79300000000000004,176.21000699999999,"200612","200512","2005-12-16",5,1,2.4460000000000002,1.38811639681735E-2]
[37,"2015-09-17",200.020004,202.88999899999999,199.279999,199.699997,276046600,198.66700299999999,0.99482727082865208,1,198.99,201.84,198.25,198.67,276046600,null,null,null,null,null,"2006-09-15",0.57899999999999996,176.21000699999999,"200609","200509","2005-09-16",5,1,2.3250000000000002,1.3194483330336626E-2]
[38,"2015-09-16",198.820007,200.41000399999999,198.41000399999999,200.13999899999999,99581600,199.10472899999999,0.99482727088451717,1,197.79,199.37,197.38,199.1,99581600,null,null,null,null,null,"2006-06-16",0.55500000000000005,176.21000699999999,"200606","200506","2005-06-17",5,1,2.2680000000000002,1.2871005674496117E-2]
[39,"2015-09-15",196.61000100000001,198.990005,195.96000699999999,198.449997,113806200,197.42346900000001,0.99482727127478876,1,195.59,197.96,194.95,197.42,113806200,null,null,null,null,null,"2006-03-17",0.51900000000000002,176.21000699999999,"200603","200503","2005-03-18",5,1,2.2010000000000001,1.2490777552718673E-2]
[40,"2015-09-14",196.949997,197.009995,195.429993,195.979996,79452000,194.96624399999999,0.99482726798300369,1,195.93,195.99,194.42,194.97,79452000,null,null,null,null,null,"2005-12-16",0.67200000000000004,176.21000699999999,"200512","200412","2004-12-17",5,1,2.149,1.2195675129846628E-2]
[41,"2015-09-11",195.38000500000001,196.820007,194.529999,196.80999800000001,119691200,195.79195300000001,0.99482726990322923,1,194.37,195.8,193.52,195.79,119691200,null,null,null,null,null,"2005-09-16",0.52200000000000002,176.21000699999999,"200509","200409","2004-09-17",6,1,2.3959999999999999,1.359741163848884E-2]
[42,"2015-09-10",194.55999800000001,197.220001,194.25,195.85000600000001,158611100,194.836927,0.99482727102903434,1,193.55,196.2,193.25,194.84,158611100,null,null,null,null,null,"2005-06-17",0.48799999999999999,176.21000699999999,"200506","200406","2004-06-18",6,1,2.343,1.3296634169023103E-2]
[43,"2015-09-09",199.320007,199.470001,194.35000600000001,194.759995,149347700,193.752554,0.99482726932705046,1,198.29,198.44,193.34,193.75,149347700,null,null,null,null,null,"2005-03-18",0.46700000000000003,176.21000699999999,"200503","200403","2004-03-19",6,1,2.2689999999999997,1.2876680721089806E-2]
[44,"2015-09-08",195.94000199999999,197.61000100000001,195.16999799999999,197.46000699999999,116025700,196.43860000000001,0.99482727152946981,1,194.93,196.59,194.16,196.44,116025700,null,null,null,null,null,"2004-12-17",0.56799999999999995,176.21000699999999,"200412","200312","2003-12-19",6,1,2.1970000000000001,1.2468077366343901E-2]
[45,"2015-09-04",192.85000600000001,193.86000100000001,191.61000100000001,192.58999600000001,207081000,191.59378000000001,0.994827270259666,1,191.85,192.86,190.62,191.59,207081000,null,null,null,null,null,"2004-11-15",0.35099999999999998,176.21000699999999,"200411","200311","2003-12-19",5,0,2.145,1.2172974943471854E-2]
[46,"2015-09-03",196.259995,198.050003,194.96000699999999,195.64999399999999,152087800,194.63794899999999,0.99482726792212428,1,195.24,197.03,193.95,194.64,152087800,null,null,null,null,null,"2004-09-17",0.46899999999999997,176.21000699999999,"200409","200309","2003-09-19",5,1,1.794,1.0181033589085552E-2]
[47,"2015-09-02",194.61999499999999,195.46000699999999,191.770004,195.36000100000001,160269300,194.349456,0.99482726763499552,1,193.61,194.45,190.78,194.35,160269300,null,null,null,null,null,"2004-06-18",0.41399999999999998,176.21000699999999,"200406","200306","2003-06-20",5,1,1.7249999999999999,9.7894553741207212E-3]
[48,"2015-09-01",193.11999499999999,194.770004,190.729996,191.91999799999999,256000400,190.92724799999999,0.99482727172600327,1,192.12,193.76,189.74,190.93,256000400,null,null,null,null,null,"2004-03-19",0.39500000000000002,176.21000699999999,"200403","200303","2003-03-21",5,1,1.671,9.4830028580612912E-3]
[49,"2015-08-31",198.11000100000001,199.13000500000001,197.009995,197.53999300000001,163298800,196.51817199999999,0.9948272702429426,1,197.09,198.1,195.99,196.52,163298800,null,null,null,null,null,"2003-12-19",0.51600000000000001,176.21000699999999,"200312","200212","2002-12-20",5,1,1.63,9.2503259477198698E-3]
[50,"2015-08-28",198.5,199.83999600000001,197.91999799999999,199.240005,160414400,198.20939100000001,0.99482727376964286,1,197.47,198.81,196.9,198.21,160414400,null,null,null,null,null,"2003-09-19",0.4,176.21000699999999,"200309","200209","2002-09-20",5,1,1.5499999999999998,8.7963222202244156E-3]
[51,"2015-08-27",197.020004,199.41999799999999,195.21000699999999,199.16000399999999,274143900,198.12980300000001,0.9948272696359256,1,196,198.39,194.2,198.13,274143900,null,null,null,null,null,"2003-06-20",0.36,176.21000699999999,"200306","200206","2002-06-21",5,1,1.528,8.6714711951631669E-3]
[52,"2015-08-26",192.08000200000001,194.78999300000001,188.36999499999999,194.679993,339257000,193.672966,0.9948272702064459,1,191.09,193.78,187.4,193.67,339257000,null,null,null,null,null,"2003-03-21",0.35399999999999998,176.21000699999999,"200303","200203","2002-03-15",5,1,1.5209999999999999,8.6317458690073155E-3]
[53,"2015-08-25",195.429993,195.449997,186.91999799999999,187.229996,369833100,186.261506,0.99482727116011904,1,194.42,194.44,185.95,186.26,369833100,null,null,null,null,null,"2002-12-20",0.436,176.21000699999999,"200212","200112","2001-12-21",5,1,1.498,8.5012197973523725E-3]
[54,"2015-08-24",197.63000500000001,197.63000500000001,182.39999399999999,189.550003,507244300,188.569512,0.99482726993151249,1,196.61,196.61,181.46,188.57,507244300,null,null,null,null,null,"2002-09-20",0.378,176.21000699999999,"200209","200109","2001-09-21",5,1,1.4550000000000001,8.2571927938235659E-3]
[55,"2015-08-21",201.729996,203.94000199999999,197.520004,197.63000500000001,346588500,196.60771800000001,0.99482726825817769,1,200.69,202.89,196.5,196.61,346588500,null,null,null,null,null,"2002-06-21",0.35299999999999998,176.21000699999999,"200206","200106","2001-06-15",5,1,1.446,8.2061173744803276E-3]
[56,"2015-08-20",206.509995,208.28999300000001,203.89999399999999,204.009995,194327900,202.95470599999999,0.99482726814438671,1,205.44,207.21,202.85,202.95,194327900,null,null,null,null,null,"2002-03-15",0.33100000000000002,176.21000699999999,"200203","200103","2001-03-16",5,1,1.4390000000000001,8.1663920483244761E-3]
[57,"2015-08-19",209.08999600000001,210.009995,207.35000600000001,208.279999,167316300,207.20262299999999,0.99482727095653567,1,208.01,208.92,206.28,207.2,167316300,null,null,null,null,null,"2001-12-21",0.39300000000000002,176.21000699999999,"200112","200012","2000-12-27",5,1,1.4239999999999999,8.0812663494190771E-3]
[58,"2015-08-18",210.259995,210.679993,209.699997,209.929993,71692700,208.84408199999999,0.9948272708226118,1,209.17,209.59,208.62,208.84,71692700,null,null,null,null,null,"2001-09-21",0.36899999999999999,176.21000699999999,"200109","200009","2000-09-15",6,1,1.4419999999999999,8.1834171881055538E-3]
[59,"2015-08-17",208.71000699999999,210.58999600000001,208.16000399999999,210.55999800000001,79072600,209.47082800000001,0.99482727008764504,1,207.63,209.5,207.08,209.47,79072600,null,null,null,null,null,"2001-06-15",0.34599999999999997,176.21000699999999,"200106","200006","2000-06-16",7,1,1.448,8.2174674676677127E-3]
[60,"2015-08-14",208.429993,209.509995,208.259995,209.36000100000001,72786500,208.277038,0.99482726884396599,1,207.35,208.43,207.18,208.28,72786500,null,null,null,null,null,"2001-03-16",0.316,176.21000699999999,"200103","200003","2000-03-17",7,1,1.45,8.2288175608550996E-3]
[61,"2015-08-13",208.729996,209.550003,208.009995,208.699997,89383300,207.62044800000001,0.99482726873254346,1,207.65,208.47,206.93,207.62,89383300,null,null,null,null,null,"2000-12-27",0,176.21000699999999,"200012","199912","1999-12-17",7,1,1.5049999999999999,8.5409451235082239E-3]
[62,"2015-08-12",207.11000100000001,209.13999899999999,205.36000100000001,208.83000200000001,168996000,207.74978100000001,0.99482727103550961,1,206.04,208.06,204.3,207.75,168996000,null,null,null,null,null,"2000-12-15",0.41099999999999998,176.21000699999999,"200012","199912","1999-12-17",6,1,1.5049999999999999,8.5409451235082239E-3]
[63,"2015-08-11",208.970001,209.470001,207.759995,208.66000399999999,126081400,207.58066199999999,0.99482726934098975,1,207.89,208.39,206.69,207.58,126081400,null,null,null,null,null,"2000-09-15",0.375,176.21000699999999,"200009","199909","1999-09-17",6,1,1.4419999999999999,8.1834171881055538E-3]
[64,"2015-08-10",209.279999,210.66999799999999,209.279999,210.63000500000001,80270700,209.54047299999999,0.99482727069203636,1,208.2,209.58,208.2,209.54,80270700,null,null,null,null,null,"2000-09-14",0,176.21000699999999,"200009","199909","1999-09-17",5,1,1.0669999999999999,6.0552747154706144E-3]
[65,"2015-08-07",208.16000399999999,208.33999600000001,206.86999499999999,207.91999799999999,117858000,206.84448399999999,0.99482727005412919,1,{"$f":"ROUND($I80*C80,2)","v":207.08},{"$f":"ROUND($I80*D80,2)","v":207.26},{"$f":"ROUND($I80*E80,2)","v":205.8},{"$f":"ROUND($I80*F80,2)","v":206.84},117858000,null,null,null,null,null,"2000-06-16",0.34799999999999998,176.21000699999999,"200006","199906","1999-06-18",5,1,1.4390000000000001,8.1663920483244761E-3]
[66,"2015-08-06",210.28999300000001,210.41999799999999,207.64999399999999,208.35000600000001,116030800,207.272268,0.99482727156724915,1,209.2,209.33,206.58,207.27,116030800,null,null,null,null,null,"2000-03-17",0.371,{"$f":"(INDEX(OFFSET($F$15,1,0,$B$10,1),MATCH(U81,OFFSET($B$15,1,0,$B$10,1),-1)))","v":176.21000699999999},{"$f":"YEAR(U81)&RIGHT(\"0\"&MONTH(U81),2)","v":"200003"},{"$f":"YEAR(U81)-1&RIGHT(\"0\"&MONTH(U81),2)","v":"199903"},{"$f":"OFFSET(U80,AA81,0,1,1)","v":"1999-03-19"},{"$f":"MATCH(Y81,OFFSET($X$15,A81,0,$V$14+1-A81,1),-1)","v":5},{"$f":"IF(OR(AND(YEAR(U81)=YEAR(Z81),MONTH(U81)=MONTH(Z81)),MONTH(U81)=MONTH(Z81)),1,0)","v":1},{"$f":"(V81+IF(AA81-AB81=0,0,IFERROR(SUM(OFFSET(V81,1,0,AA81-AB81-1,1)),0)))","v":1.496},{"$f":"AC81/(INDEX(OFFSET($F$15,1,0,$B$10,1),MATCH(U81,OFFSET($B$15,1,0,$B$10,1),-1)))","v":8.4898697041649856E-3}]
[67,"2015-08-05",210.449997,211.30999800000001,209.729996,210.10000600000001,85786800,209.013216,{"$f":"H82/F82","v":0.99482727287499451},{"$f":"INDEX(OFFSET($T$15,0,0,$S$13+1,1),MATCH(B82,OFFSET($Q$15,0,0,$S$13+1,1),-1))","v":1},209.36,210.22,208.65,209.01,{"$f":"G82*J82","v":85786800},null,null,null,null,null,"1999-12-17",0.34799999999999998,176.21000699999999,"199912","199812","1998-12-18",5,1,1.4449999999999998,8.2004423278866333E-3]
[68,"2015-08-04",209.699997,210.25,208.800003,209.320007,81820800,208.23725200000001,0.9948272742031774,1,208.62,209.16,207.72,208.24,81820800,null,null,null,null,null,"1999-09-17",0.372,176.21000699999999,"199909","199809","1998-09-18",5,1,1.4889999999999999,8.4501443780091324E-3]
[69,"2015-08-03",210.46000699999999,210.529999,208.64999399999999,209.729996,113965700,208.64511899999999,0.99482726829404022,1,209.37,209.44,207.57,208.65,113965700,null,null,null,null,null,"1999-06-18",0.40500000000000003,176.21000699999999,"199906","199806","1998-06-19",5,1,1.476,8.376368772291122E-3]
[70,"2015-07-31",211.41999799999999,211.449997,210.16000399999999,210.449997,103266900,209.36139600000001,0.99482727006168603,1,210.33,210.36,209.07,209.36,103266900,null,null,null,null,null,"1999-03-19",0.32,176.21000699999999,"199903","199803","1998-03-20",5,1,1.423,8.0755913028253846E-3]
[71,"2015-07-30",210.16000399999999,211.020004,209.41999799999999,210.820007,91304400,209.72949199999999,0.99482726988050996,1,209.07,209.93,208.34,209.73,91304400,null,null,null,null,null,"1998-12-18",0.39200000000000002,176.21000699999999,"199812","199712","1997-12-19",5,1,1.4159999999999999,8.0358659766695314E-3]
[72,"2015-07-29",209.479996,211.03999300000001,209.30999800000001,210.770004,105791300,209.67974799999999,0.99482727153148409,1,208.4,209.95,208.23,209.68,105791300,null,null,null,null,null,"1998-09-18",0.35899999999999999,176.21000699999999,"199809","199709","1997-09-19",5,1,1.4039999999999999,7.9677654175452136E-3]
[73,"2015-07-28",207.78999300000001,209.5,206.800003,209.30999800000001,123544800,208.227294,0.99482727050620867,1,206.72,208.42,205.73,208.23,123544800,null,null,null,null,null,"1998-06-19",0.35199999999999998,176.21000699999999,"199806","199706","1997-06-20",5,1,1.3929999999999998,7.9053399050145884E-3]
[74,"2015-07-27",208,208,206.259995,206.740005,132361100,205.67059499999999,0.99482727109346836,1,206.92,206.92,205.19,205.67,132361100,null,null,null,null,null,"1998-03-20",0.313,176.21000699999999,"199803","199703","1997-03-21",5,1,1.3909999999999998,7.8939898118272015E-3]
[75,"2015-07-24",210.300003,210.36999499999999,207.60000600000001,207.94000199999999,117755000,206.864385,0.99482727233983581,1,209.21,209.28,206.53,206.86,117755000,null,null,null,null,null,"1997-12-19",0.38,176.21000699999999,"199712","199612","1996-12-20",5,1,1.3769999999999998,7.8145391595154969E-3]
[76,"2015-07-23",211.529999,211.64999399999999,209.75,210.13999899999999,90509100,209.05300199999999,0.99482727227004508,1,210.44,210.56,208.67,209.05,90509100,null,null,null,null,null,"1997-09-19",0.34799999999999998,176.21000699999999,"199709","199609","1996-09-20",5,1,1.3639999999999999,7.7407635537974865E-3]
[77,"2015-07-22",210.929993,211.770004,210.88999899999999,211.28999300000001,88667900,210.197047,0.99482727040461394,1,209.84,210.67,209.8,210.2,88667900,null,null,null,null,null,"1997-06-20",0.35,176.21000699999999,"199706","199606","1996-06-21",5,1,1.3679999999999999,7.7634637401722594E-3]
[78,"2015-07-21",212.429993,212.740005,211.38999899999999,211.759995,77965000,210.66461699999999,0.99482726659490139,1,211.33,211.64,210.3,210.66,77965000,null,null,null,null,null,"1997-03-21",0.29899999999999999,176.21000699999999,"199703","199603","1996-03-15",5,1,1.3689999999999998,7.769138786765952E-3]
[79,"2015-07-20",212.75,213.179993,212.21000699999999,212.61999499999999,70446800,211.52016900000001,0.99482726918510189,1,211.65,212.08,211.11,211.52,70446800,null,null,null,null,null,"1996-12-20",0.36699999999999999,176.21000699999999,"199612","199512","1995-12-15",5,1,1.355,7.6896881344542482E-3]
[80,"2015-07-17",212.28999300000001,212.550003,211.800003,212.470001,89030000,211.37095099999999,0.99482726975654312,1,211.19,211.45,210.7,211.37,89030000,null,null,null,null,null,"1996-09-20",0.35199999999999998,176.21000699999999,"199609","199509","1995-09-15",5,1,1.3699999999999997,7.7748138333596445E-3]
[81,"2015-07-16",211.86999499999999,212.300003,211.58000200000001,212.270004,106683300,211.171989,0.9948272719682052,1,210.77,211.2,210.49,211.17,106683300,null,null,null,null,null,"1996-06-21",0.35099999999999998,176.21000699999999,"199606","199506","1995-06-16",5,1,1.33,7.54781196961192E-3]
[82,"2015-07-15",210.729996,211.279999,210.03999300000001,210.63000500000001,97914100,209.54047299999999,0.99482727069203636,1,209.64,210.19,208.95,209.54,97914100,null,null,null,null,null,"1996-03-15",0.28499999999999998,176.21000699999999,"199603","199503","1995-03-17",5,1,1.2949999999999999,7.3491853388326575E-3]
[83,"2015-07-14",209.720001,211.050003,209.64999399999999,210.720001,81709600,209.63000400000001,0.99482727318324193,1,208.64,209.96,208.57,209.63,81709600,null,null,null,null,null,"1995-12-15",0.38200000000000001,176.21000699999999,"199512","199412","1994-12-16",5,1,1.278,7.2527095467398743E-3]
[84,"2015-07-13",208.990005,209.89999399999999,208.94000199999999,209.759995,106069400,208.67496299999999,0.99482726913680553,1,207.91,208.81,207.86,208.67,106069400,null,null,null,null,null,"1995-09-15",0.312,176.21000699999999,"199509","199409","1994-09-19",5,1,1.2590000000000001,7.144883661459705E-3]
[85,"2015-07-10",207.28999300000001,207.979996,204.949997,207.479996,129456900,206.406758,0.99482726999859783,1,206.22,206.9,203.89,206.41,129456900,null,null,null,null,null,"1995-06-16",0.316,176.21000699999999,"199506","199406","1994-06-17",6,1,1.2350000000000001,7.0086825432110686E-3]
[86,"2015-07-09",207.03999300000001,207.35000600000001,204.770004,204.800003,139210600,203.74062799999999,0.99482727058358478,1,205.97,206.28,203.71,203.74,139210600,null,null,null,null,null,"1995-03-17",0.26800000000000002,176.21000699999999,"199503","199403","1994-03-18",6,1,1.224,6.9462570306804425E-3]
[87,"2015-07-08",206.41999799999999,206.759995,204.25,204.529999,164020100,203.47201999999999,0.99482726736824545,1,205.35,205.69,203.19,203.47,164020100,null,null,null,null,null,"1994-12-16",0.36299999999999999,176.21000699999999,"199412","199312","1993-12-17",6,1,1.2269999999999999,6.963282170461522E-3]
[88,"2015-07-07",206.96000699999999,208.16999799999999,204.11000100000001,208.009995,173820200,206.93401499999999,0.99482726779547292,1,205.89,207.09,203.05,206.93,173820200,null,null,null,null,null,"1994-09-19",0,176.21000699999999,"199409","199309","1993-09-17",6,1,1.181,6.7022300271516368E-3]
[89,"2015-07-06",205.770004,207.64999399999999,205.529999,206.66999799999999,117975400,205.60095000000001,0.99482727047783692,1,204.71,206.58,204.47,205.6,117975400,null,null,null,null,null,"1994-09-16",0.28799999999999998,176.21000699999999,"199409","199309","1993-09-17",5,1,1.181,6.7022300271516368E-3]
[90,"2015-07-02",208.070007,208.270004,206.80999800000001,207.320007,104373700,206.24759700000001,0.99482727202493293,1,206.99,207.19,205.74,206.25,104373700,null,null,null,null,null,"1994-06-17",0.30499999999999999,176.21000699999999,"199406","199306","1993-06-18",5,1,1.179,6.6908799339642508E-3]
[91,"2015-07-01",207.729996,208.029999,206.55999800000001,207.570007,135979900,206.49630400000001,0.99482727290171558,1,206.66,206.95,205.49,206.5,135979900,null,null,null,null,null,"1994-03-18",0.27100000000000002,176.21000699999999,"199403","199303","1993-03-19",5,1,1.1920000000000002,6.764655539682262E-3]
[92,"2015-06-30",207.259995,207.320007,205.279999,205.88999899999999,182925100,204.824986,0.99482727181906494,1,206.19,206.25,204.22,204.82,182925100,null,null,null,null,null,"1993-12-17",0.317,176.21000699999999,"199312","199212","1993-03-19",4,0,1.1339999999999999,6.4355028372480565E-3]
[93,"2015-06-29",208.050003,209.83000200000001,205.33000200000001,205.470001,202621300,204.40716,0.99482726921289111,1,206.97,208.74,204.27,204.41,202621300,null,null,null,null,null,"1993-09-17",0.28599999999999998,176.21000699999999,"199309","199209","1993-03-19",3,0,0.81699999999999995,4.6365130670473218E-3]
[94,"2015-06-26",210.28999300000001,210.58000200000001,209.16000399999999,209.89999399999999,104174800,208.81423799999999,0.99482726998076998,1,209.2,209.49,208.08,208.81,104174800,null,null,null,null,null,"1993-06-18",0.318,176.21000699999999,"199306","199206","1993-03-19",2,0,0.53100000000000003,3.0134497412510745E-3]
[95,"2015-06-25",211.10000600000001,211.25,209.770004,209.83000200000001,97107400,208.744608,0.99482726974381863,1,210.01,210.16,208.68,208.74,97107400,null,null,null,null,null,"1993-03-19",0.21299999999999999,176.21000699999999,"199303","199203","1993-03-19",1,1,0.21299999999999999,1.2087849244566456E-3]
[96,"2015-06-24",211.720001,212.16999799999999,210.470001,210.509995,92307300,209.42108300000001,0.99482726699033941,1,210.62,211.07,209.38,209.42,92307300]
[97,"2015-06-23",212.13999899999999,212.44000199999999,211.570007,212.050003,68476800,210.953126,0.99482727194302367,1,211.04,211.34,210.48,210.95,68476800]
[98,"2015-06-22",211.91000399999999,212.58999600000001,211.63999899999999,211.88999899999999,70696000,210.79395,0.99482727356093859,1,210.81,211.49,210.55,210.79,70696000]
[99,"2015-06-19",211.46000699999999,211.550003,210.36000100000001,210.80999800000001,130478700,209.71953400000001,0.99482726620964157,1,210.37,210.46,209.27,209.72,130478700]
[100,"2015-06-18",211.30999800000001,213.33999600000001,210.63000500000001,212.71000699999999,165867900,210.58503899999999,0.99001002336481525,1,209.2,211.21,208.53,210.59,165867900]
[101,"2015-06-17",210.58999600000001,211.320007,209.36000100000001,210.58999600000001,126708600,208.48620700000001,0.99001002402792193,1,208.49,209.21,207.27,208.49,126708600]
[102,"2015-06-16",208.929993,210.35000600000001,208.720001,210.25,85308200,208.149607,0.99001002140309158,1,206.84,208.25,206.63,208.15,85308200]
[103,"2015-06-15",208.63999899999999,209.449997,207.78999300000001,209.10000600000001,124384200,207.01110199999999,0.99001002419866013,1,206.56,207.36,205.71,207.01,124384200]
[104,"2015-06-12",210.63999899999999,211.479996,209.679993,209.929993,135382400,207.832797,0.99001002205530486,1,208.54,209.37,207.59,207.83,135382400]
[105,"2015-06-11",211.479996,212.08999600000001,211.199997,211.64999399999999,73876400,209.53561500000001,0.99001002097831392,1,209.37,209.97,209.09,209.54,73876400]
[106,"2015-06-10",209.36999499999999,211.41000399999999,209.300003,210.96000699999999,134551300,208.852521,0.99001002118851844,1,207.28,209.3,207.21,208.85,134551300]
[107,"2015-06-09",208.449997,209.10000600000001,207.69000199999999,208.449997,105034700,206.36758599999999,0.99001002144413552,1,206.37,207.01,205.62,206.37,105034700]
[108,"2015-06-08",209.63999899999999,209.820007,208.38999899999999,208.41999799999999,89063300,206.33788699999999,0.99001002293455542,1,207.55,207.72,206.31,206.34,89063300]
[109,"2015-06-05",209.949997,210.58000200000001,208.979996,209.770004,121704700,207.674407,0.99001002545626116,1,207.85,208.48,206.89,207.67,121704700]
[110,"2015-06-04",211.070007,211.86000100000001,209.75,210.13000500000001,151882800,208.030811,0.99001002260481552,1,208.96,209.74,207.65,208.03,151882800]
[111,"2015-06-03",212,212.66999799999999,211.33000200000001,211.91999799999999,86954600,209.802922,0.99001002255577597,1,209.88,210.55,209.22,209.8,86954600]
[112,"2015-06-02",211.020004,212.19000199999999,210.270004,211.36000100000001,91531000,209.24851899999999,0.99001002086482759,1,208.91,210.07,208.17,209.25,91531000]
[113,"2015-06-01",211.94000199999999,212.33999600000001,210.61999499999999,211.570007,93338800,209.45642799999999,0.99001002538133864,1,209.82,210.22,208.52,209.46,93338800]
[114,"2015-05-29",212.38000500000001,212.429993,210.820007,211.13999899999999,124919600,209.03071600000001,0.99001002647537206,1,210.26,210.31,208.71,209.03,124919600]
[115,"2015-05-28",212.33000200000001,212.58999600000001,211.63000500000001,212.46000699999999,74974600,210.337536,0.99001002103892433,1,210.21,210.47,209.52,210.34,74974600]
[116,"2015-05-27",211.25,212.979996,210.759995,212.699997,93214000,210.575129,0.99001002336638499,1,209.14,210.85,208.65,210.58,93214000]
[117,"2015-05-26",212.39999399999999,212.91000399999999,210.199997,210.699997,124308600,208.59510900000001,0.99001002358818269,1,210.28,210.78,208.1,208.6,124308600]
[118,"2015-05-22",213.03999300000001,213.53999300000001,212.91000399999999,212.990005,57433500,210.86224000000001,0.99001002417930373,1,210.91,211.41,210.78,210.86,57433500]
[119,"2015-05-21",212.71000699999999,213.75,212.509995,213.5,64764600,211.36714000000001,0.99001002341920374,1,210.59,211.61,210.39,211.37,64764600]
[120,"2015-05-20",213.14999399999999,213.779999,212.5,212.88000500000001,76857500,210.75333900000001,0.99001002466154586,1,211.02,211.64,210.38,210.75,76857500]
[121,"2015-05-19",213.240005,213.570007,212.69000199999999,213.029999,72114600,210.90183400000001,0.99001002201572563,1,211.11,211.44,210.57,210.9,72114600]
[122,"2015-05-18",212.240005,213.39999399999999,212.16000399999999,213.10000600000001,74549700,210.97114199999999,0.99001002374443847,1,210.12,211.27,210.04,210.97,74549700]
[123,"2015-05-15",212.44000199999999,212.61000100000001,211.86000100000001,212.44000199999999,76510100,210.31773200000001,0.99001002645443403,1,210.32,210.49,209.74,210.32,76510100]
[124,"2015-05-14",211.240005,212.320007,210.91000399999999,212.21000699999999,95934000,210.090034,0.99001002341986644,1,209.13,210.2,208.8,210.09,95934000]
[125,"2015-05-13",210.470001,211.220001,209.740005,210.020004,94667900,207.921909,0.99001002304523333,1,208.37,209.11,207.64,207.92,94667900]
[126,"2015-05-12",209.61000100000001,210.63000500000001,208.61999499999999,209.979996,119727600,207.88229999999999,0.99001001981160142,1,207.52,208.53,206.54,207.88,119727600]
[127,"2015-05-11",211.570007,211.88999899999999,210.520004,210.61000100000001,75708100,208.506012,0.99001002331318533,1,209.46,209.77,208.42,208.51,75708100]
[128,"2015-05-08",210.88000500000001,211.86000100000001,210.779999,211.61999499999999,155877300,209.50591600000001,0.99001002244613046,1,208.77,209.74,208.67,209.51,155877300]
[129,"2015-05-07",207.91999799999999,209.38000500000001,207.520004,208.86999499999999,88244900,206.783389,0.99001002513549163,1,{"$f":"ROUND($I144*C144,2)","v":205.84},{"$f":"ROUND($I144*D144,2)","v":207.29},{"$f":"ROUND($I144*E144,2)","v":205.45},{"$f":"ROUND($I144*F144,2)","v":206.78},88244900]
[130,"2015-05-06",209.55999800000001,209.929993,206.759995,208.03999300000001,135060200,205.961679,0.99001002658176396,1,207.47,207.83,204.69,205.96,135060200]
[131,"2015-05-05",211.029999,211.46000699999999,208.729996,208.89999399999999,113326200,206.81308799999999,{"$f":"H146/F146","v":0.9900100236479662},{"$f":"INDEX(OFFSET($T$15,0,0,$S$13+1,1),MATCH(B146,OFFSET($Q$15,0,0,$S$13+1,1),-1))","v":1},208.92,209.35,206.64,206.81,{"$f":"G146*J146","v":113326200}]
[132,"2015-05-04",211.229996,212.020004,211.10000600000001,211.320007,70927200,209.20892499999999,0.99001002304528596,1,209.12,209.9,208.99,209.21,70927200]
[133,"2015-05-01",209.39999399999999,210.770004,209.279999,210.720001,103399700,208.614913,0.99001002282645212,1,207.31,208.66,207.19,208.61,103399700]
[134,"2015-04-30",209.88000500000001,210.35000600000001,207.61999499999999,208.46000699999999,161304900,206.37749600000001,0.99001002144262629,1,207.78,208.25,205.55,206.38,161304900]
[135,"2015-04-29",211.44000199999999,211.44000199999999,209.60000600000001,210.570007,125684900,208.466418,0.990010025501875,1,209.33,209.33,207.51,208.47,125684900]
[136,"2015-04-28",210.740005,211.5,209.33000200000001,211.44000199999999,86863500,209.32772199999999,0.99001002657954951,1,208.63,209.39,207.24,209.33,86863500]
[137,"2015-04-27",212.33000200000001,212.479996,210.53999300000001,210.770004,79358100,208.66441699999999,0.99001002533548366,1,210.21,210.36,208.44,208.66,79358100]
[138,"2015-04-24",211.66000399999999,211.970001,211.11000100000001,211.64999399999999,61327400,209.53561500000001,0.99001002097831392,1,209.55,209.85,209,209.54,61327400]
[139,"2015-04-23",210.14999399999999,211.94000199999999,210.009995,211.16000399999999,102585900,209.05052000000001,0.99001002102651992,1,208.05,209.82,207.91,209.05,102585900]
[140,"2015-04-22",210.009995,210.85000600000001,208.89999399999999,210.63000500000001,78264600,208.52581599999999,0.99001002255115544,1,207.91,208.74,206.81,208.53,78264600]
[141,"2015-04-21",209.85000600000001,210.86000100000001,209.240005,209.60000600000001,72559800,207.50610699999999,0.99001002414093431,1,207.75,208.75,207.15,207.51,72559800]
[142,"2015-04-20",209.05999800000001,210.25,208.96000699999999,209.85000600000001,92189500,207.75360900000001,0.99001002172952046,1,206.97,208.15,206.87,207.75,92189500]
[143,"2015-04-17",208.94000199999999,209.229996,207.009995,207.949997,191113200,205.872581,0.99001002149569639,1,206.85,207.14,204.94,205.87,191113200]
[144,"2015-04-16",210.029999,210.979996,209.78999300000001,210.36999499999999,68934900,208.268404,0.99001002495626822,1,207.93,208.87,207.69,208.27,68934900]
[145,"2015-04-15",210.050003,211.03999300000001,209.949997,210.429993,99529300,208.32780199999999,0.99001002200289956,1,207.95,208.93,207.85,208.33,99529300]
[146,"2015-04-14",208.85000600000001,209.71000699999999,208.10000600000001,209.490005,75099900,207.39720500000001,0.99001002458327314,1,206.76,207.62,206.02,207.4,75099900]
[147,"2015-04-13",209.86999499999999,210.63000500000001,209.029999,209.08999600000001,74436600,207.001192,0.99001002420029693,1,207.77,208.53,206.94,207,74436600]
[148,"2015-04-10",209.199997,210.08999600000001,208.96000699999999,210.03999300000001,72722900,207.941699,0.99001002632865254,1,207.11,207.99,206.87,207.94,72722900]
[149,"2015-04-09",207.779999,209.179993,207.19000199999999,208.89999399999999,85548900,206.81308799999999,0.9900100236479662,1,205.7,207.09,205.12,206.81,85548900]
[150,"2015-04-08",207.550003,208.509995,207.08000200000001,207.979996,89351900,205.90227999999999,0.99001002000211591,1,205.48,206.43,205.01,205.9,89351900]
[151,"2015-04-07",207.86000100000001,208.759995,207.240005,207.279999,81236300,205.20927599999999,0.99001002021425133,1,205.78,206.67,205.17,205.21,81236300]
[152,"2015-04-06",206.44000199999999,208.449997,205.21000699999999,207.83000200000001,114368200,205.75378499999999,0.99001002271077299,1,204.38,206.37,203.16,205.75,114368200]
[153,"2015-04-02",205.61999499999999,206.979996,205.39999399999999,206.44000199999999,86900900,204.37767199999999,0.99001002722330911,1,203.57,204.91,203.35,204.38,86900900]
[154,"2015-04-01",206.429993,206.429993,204.509995,205.699997,137303600,203.645059,0.99001002416154638,1,204.37,204.37,202.47,203.65,137303600]
[155,"2015-03-31",207.259995,208.10000600000001,206.36000100000001,206.429993,126768700,204.367762,0.9900100224292504,1,205.19,206.02,204.3,204.37,126768700]
[156,"2015-03-30",206.979996,208.61000100000001,206.96000699999999,208.25,96180400,206.16958700000001,0.99001002160864349,1,204.91,206.53,204.89,206.17,96180400]
[157,"2015-03-27",205.13000500000001,205.949997,204.89999399999999,205.740005,118939000,203.68466799999999,0.99001002746160127,1,203.08,203.89,202.85,203.68,118939000]
[158,"2015-03-26",204.96000699999999,206.36999499999999,204.11999499999999,205.270004,153067200,203.21936199999999,0.99001002601432209,1,202.91,204.31,202.08,203.22,153067200]
[159,"2015-03-25",209.070007,209.35000600000001,205.71000699999999,205.759995,159521700,203.70445699999999,0.9900100211413787,1,206.98,207.26,203.65,203.7,159521700]
[160,"2015-03-24",209.85000600000001,210.39999399999999,208.740005,208.820007,77805300,206.73390000000001,0.99001002332118493,1,207.75,208.3,206.65,206.73,77805300]
[161,"2015-03-23",210.41999799999999,211.11000100000001,210,210,71784500,207.90210500000001,0.99001002380952385,1,208.32,209,207.9,207.9,71784500]
[162,"2015-03-20",209.71000699999999,211.020004,209.490005,210.41000399999999,177715100,208.30801299999999,0.990010023477781,1,207.62,208.91,207.4,208.31,177715100]
[163,"2015-03-19",209.96000699999999,210.470001,209.029999,209.5,117917300,206.48539700000001,0.98561048687350838,1,206.94,207.44,206.02,206.49,117917300]
[164,"2015-03-18",207.38999899999999,211.270004,206.61999499999999,210.46000699999999,228808500,207.431589,0.98561048228036985,1,204.41,208.23,203.65,207.43,228808500]
[165,"2015-03-17",207.69000199999999,208.41999799999999,206.979996,207.96000699999999,94510400,204.96756300000001,0.98561048326950684,1,204.7,205.42,204,204.97,94510400]
[166,"2015-03-16",206.71000699999999,208.69000199999999,205.86000100000001,208.58000200000001,136099200,205.57863699999999,0.98561048532351625,1,203.74,205.69,202.9,205.58,136099200]
[167,"2015-03-13",206.770004,207.929993,204.58000200000001,205.83000200000001,162410900,202.86820800000001,0.98561048452013333,1,203.79,204.94,201.64,202.87,162410900]
[168,"2015-03-12",205.259995,207.179993,205.199997,207.10000600000001,93993500,204.11993699999999,0.98561048327540846,1,202.31,204.2,202.25,204.12,93993500]
[169,"2015-03-11",205.28999300000001,205.5,204.39999399999999,204.5,110145700,201.557344,0.98561048410757945,1,202.34,202.54,201.46,201.56,110145700]
[170,"2015-03-10",206.71000699999999,206.80999800000001,204.929993,204.979996,157121300,202.03043299999999,0.98561048366885518,1,203.74,203.83,201.98,202.03,157121300]
[171,"2015-03-09",207.740005,208.78999300000001,207.550003,208.36000100000001,89818900,205.36180100000001,0.98561048192738299,1,204.75,205.79,204.56,205.36,89818900]
[172,"2015-03-06",209.41999799999999,209.94000199999999,207.10000600000001,207.5,188128000,204.51417599999999,0.98561048674698792,1,206.41,206.92,204.12,204.51,188128000]
[173,"2015-03-05",210.61999499999999,210.800003,209.85000600000001,210.46000699999999,76873000,207.431589,0.98561048228036985,1,207.59,207.77,206.83,207.43,76873000]
[174,"2015-03-04",210.39999399999999,210.490005,209.05999800000001,210.229996,114497200,207.20488800000001,0.98561048348210034,1,207.37,207.46,206.05,207.2,114497200]
[175,"2015-03-03",211.470001,212.050003,210.08000200000001,211.11999499999999,110325800,208.08208099999999,0.98561048658607631,1,208.43,209,207.06,208.08,110325800]
[176,"2015-03-02",210.779999,212.05999800000001,210.720001,211.990005,87491400,208.939572,0.98561048668308682,1,207.75,209.01,207.69,208.94,87491400]
[177,"2015-02-27",211.259995,211.58000200000001,210.60000600000001,210.66000399999999,108076000,207.62870799999999,0.9856104816175737,1,208.22,208.54,207.57,207.63,108076000]
[178,"2015-02-26",211.520004,211.71000699999999,210.64999399999999,211.38000500000001,72697900,208.33834899999999,0.98561048382982097,1,208.48,208.66,207.62,208.34,72697900]
[179,"2015-02-25",211.66000399999999,212.240005,211.220001,211.63000500000001,73061700,208.58475200000001,0.98561048562088349,1,208.61,209.19,208.18,208.58,73061700]
[180,"2015-02-24",211.11999499999999,212.050003,210.759995,211.80999800000001,72472300,208.76215400000001,0.98561048095567239,1,208.08,209,207.73,208.76,72472300]
[181,"2015-02-23",210.94000199999999,211.21000699999999,210.479996,211.21000699999999,74411100,208.17079699999999,0.98561048293511966,1,207.9,208.17,207.45,208.17,74411100]
[182,"2015-02-20",209.479996,211.33000200000001,208.729996,211.240005,140896400,208.20036400000001,0.98561048604406165,1,206.47,208.29,205.73,208.2,140896400]
[183,"2015-02-19",209.41000399999999,210.41999799999999,209.240005,209.979996,91462500,206.958485,0.98561048167654974,1,206.4,207.39,206.23,206.96,91462500]
[184,"2015-02-18",209.66000399999999,210.220001,209.33999600000001,210.13000500000001,80652900,207.106336,0.98561048432849929,1,206.64,207.2,206.33,207.11,80652900]
[185,"2015-02-17",209.39999399999999,210.320007,209.10000600000001,210.11000100000001,76968200,207.08662000000001,0.98561048505254156,1,206.39,207.29,206.09,207.09,76968200]
[186,"2015-02-13",209.070007,209.83999600000001,208.759995,209.779999,93670400,206.76136600000001,0.98561048234155058,1,206.06,206.82,205.76,206.76,93670400]
[187,"2015-02-12",207.88999899999999,208.990005,206.970001,208.91999799999999,97545900,205.91374099999999,0.98561048713010224,1,204.9,205.98,203.99,205.91,97545900]
[188,"2015-02-11",206.61000100000001,207.449997,205.83000200000001,206.929993,91087800,203.95237,0.98561048131867479,1,203.64,204.46,202.87,203.95,91087800]
[189,"2015-02-10",205.88000500000001,207.11999499999999,204.679993,206.80999800000001,96164200,203.834102,0.98561048291291986,1,202.92,204.14,201.73,203.83,96164200]
[190,"2015-02-09",204.770004,205.63999899999999,204.13999899999999,204.63000500000001,87219000,201.68547799999999,0.98561048268556695,1,201.82,202.68,201.2,201.69,87219000]
[191,"2015-02-06",206.55999800000001,207.240005,204.91999799999999,205.550003,125672000,202.59223800000001,0.98561048427715181,1,203.59,204.26,201.97,202.59,125672000]
[192,"2015-02-05",204.86000100000001,206.300003,204.770004,206.11999499999999,97953200,203.15402800000001,0.9856104838349139,1,201.91,203.33,201.82,203.15,97953200]
[193,"2015-02-04",203.91999799999999,205.38000500000001,203.509995,204.05999800000001,134306700,201.123673,0.98561048207008206,1,{"$f":"ROUND($I208*C208,2)","v":200.99},{"$f":"ROUND($I208*D208,2)","v":202.42},{"$f":"ROUND($I208*E208,2)","v":200.58},{"$f":"ROUND($I208*F208,2)","v":201.12},134306700]
[194,"2015-02-03",203,204.85000600000001,202.550003,204.83999600000001,124212900,201.892448,0.98561048595216716,1,200.08,201.9,199.64,201.89,124212900]
[195,"2015-02-02",200.050003,202.029999,197.86000100000001,201.91999799999999,163107000,199.014467,{"$f":"H210/F210","v":0.9856104842077108},{"$f":"INDEX(OFFSET($T$15,0,0,$S$13+1,1),MATCH(B210,OFFSET($Q$15,0,0,$S$13+1,1),-1))","v":1},197.17,199.12,195.01,199.01,{"$f":"G210*J210","v":163107000}]
[196,"2015-01-30",200.570007,202.16999799999999,199.13000500000001,199.449997,197729700,196.58000799999999,0.98561048361409598,1,197.68,199.26,196.26,196.58,197729700]
[197,"2015-01-29",200.38000500000001,202.300003,198.679993,201.990005,173585400,199.08346700000001,0.98561048602380108,1,197.5,199.39,195.82,199.08,173585400]
[198,"2015-01-28",204.16999799999999,204.28999300000001,199.91000399999999,200.13999899999999,168514300,197.26008200000001,0.98561048758674186,1,201.23,201.35,197.03,197.26,168514300]
[199,"2015-01-27",202.970001,204.11999499999999,201.740005,202.740005,134044600,199.822675,0.98561048669205664,1,200.05,201.18,198.84,199.82,134044600]
[200,"2015-01-26",204.71000699999999,205.55999800000001,203.85000600000001,205.449997,92009700,202.49367100000001,0.98561048409263308,1,201.76,202.6,200.92,202.49,92009700]
[201,"2015-01-23",205.78999300000001,206.10000600000001,204.80999800000001,204.970001,117516800,202.02058199999999,0.9856104845313437,1,202.83,203.13,201.86,202.02,117516800]
[202,"2015-01-22",203.990005,206.259995,202.33000200000001,206.10000600000001,174356000,203.13432700000001,0.98561048562026732,1,201.05,203.29,199.42,203.13,174356000]
[203,"2015-01-21",201.5,203.66000399999999,200.94000199999999,203.08000200000001,122942700,200.157779,0.98561048369499227,1,198.6,200.73,198.05,200.16,122942700]
[204,"2015-01-20",202.39999399999999,202.720001,200.16999799999999,202.05999800000001,130991100,199.15245200000001,0.98561048189261091,1,199.49,199.8,197.29,199.15,130991100]
[205,"2015-01-16",198.770004,201.820007,198.550003,201.63000500000001,211879600,198.728647,0.98561048490773973,1,195.91,198.92,195.69,198.73,211879600]
[206,"2015-01-15",201.63000500000001,202.009995,198.88000500000001,199.020004,176613900,196.156203,0.98561048667248552,1,198.73,199.1,196.02,196.16,176613900]
[207,"2015-01-14",199.64999399999999,201.10000600000001,198.570007,200.86000100000001,190552900,197.96972299999999,0.9856104849865055,1,196.78,198.21,195.71,197.97,190552900]
[208,"2015-01-13",204.11999499999999,205.479996,200.509995,202.08000200000001,214553300,199.172169,0.98561048608857393,1,201.18,202.52,197.62,199.17,214553300]
[209,"2015-01-12",204.41000399999999,204.60000600000001,201.91999799999999,202.64999399999999,144396100,199.733959,0.98561048563366849,1,201.47,201.66,199.01,199.73,144396100]
[210,"2015-01-09",206.39999399999999,206.41999799999999,203.509995,204.25,158567300,201.31094200000001,0.98561048714810284,1,203.43,203.45,200.58,201.31,158567300]
[211,"2015-01-08",204.009995,206.16000399999999,203.990005,205.89999399999999,147217800,202.93719300000001,0.98561048525334105,1,201.07,203.19,201.05,202.94,147217800]
[212,"2015-01-07",201.41999799999999,202.720001,200.88000500000001,202.30999800000001,125346700,199.398855,0.98561048376857774,1,198.52,199.8,197.99,199.4,125346700]
[213,"2015-01-06",202.08999600000001,202.720001,198.86000100000001,199.820007,209151400,196.944694,0.98561048494007908,1,199.18,199.8,196,196.94,209151400]
[214,"2015-01-05",204.16999799999999,204.36999499999999,201.35000600000001,201.720001,169632600,198.81734800000001,0.98561048490179226,1,201.23,201.43,198.45,198.82,169632600]
[215,"2015-01-02",206.38000500000001,206.88000500000001,204.179993,205.429993,121465900,202.47395499999999,0.98561048483314695,1,203.41,203.9,201.24,202.47,121465900]
[216,"2014-12-31",207.990005,208.19000199999999,205.38999899999999,205.53999300000001,130333800,202.58237199999999,0.98561048408715268,1,205,205.19,202.43,202.58,130333800]
[217,"2014-12-30",208.21000699999999,208.36999499999999,207.509995,207.60000600000001,73540800,204.61274299999999,0.98561048692840592,1,205.21,205.37,204.52,204.61,73540800]
[218,"2014-12-29",208.220001,208.970001,208.13999899999999,208.720001,79643900,205.716622,0.98561048780370597,1,205.22,205.96,205.14,205.72,79643900]
[219,"2014-12-26",208.30999800000001,208.85000600000001,208.25,208.44000199999999,57326700,205.440652,0.98561048756850433,1,205.31,205.84,205.25,205.44,57326700]
[220,"2014-12-24",208.020004,208.33999600000001,207.720001,207.770004,42963400,204.780295,0.98561048783538552,1,205.03,205.34,204.73,204.78,42963400]
[221,"2014-12-23",208.16999799999999,208.229996,207.39999399999999,207.75,122167900,204.76057800000001,0.98561048375451266,1,205.17,205.23,204.42,204.76,122167900]
[222,"2014-12-22",206.75,207.470001,206.46000699999999,207.470001,148318900,204.48460900000001,0.98561048833272047,1,203.77,204.48,203.49,204.48,148318900]
[223,"2014-12-19",206.429993,207.33000200000001,205.61000100000001,206.520004,245084600,203.548282,0.98561048836702525,1,203.46,204.35,202.65,203.55,245084600]
[224,"2014-12-18",204.740005,212.970001,203.91999799999999,206.779999,247780600,202.68586400000001,0.98020052703453198,1,200.69,208.75,199.88,202.69,247780600]
[225,"2014-12-17",198.44000199999999,202.33999600000001,198.28999300000001,201.78999300000001,253754500,197.794658,0.98020052956739034,1,194.51,198.33,194.36,197.79,253754500]
[226,"2014-12-16",199.509995,202.39999399999999,197.86000100000001,197.91000399999999,259543800,193.99149,0.98020052589155626,1,195.56,198.39,193.94,193.99,259543800]
[227,"2014-12-15",201.979996,202.529999,198.779999,199.509995,189965800,195.55980199999999,0.98020052579320649,1,197.98,198.52,194.84,195.56,189965800]
[228,"2014-12-12",202.63999899999999,203.820007,200.85000600000001,200.88999899999999,202330200,196.91248400000001,0.98020053253123873,1,198.63,199.78,196.87,196.91,202330200]
[229,"2014-12-11",203.88000500000001,206.19000199999999,203.71000699999999,204.19000199999999,159012800,200.14714799999999,0.98020052911307576,1,199.84,202.11,199.68,200.15,159012800]
[230,"2014-12-10",205.91000399999999,205.979996,202.929993,203.16000399999999,154761600,199.13754299999999,0.98020052706831018,1,201.83,201.9,198.91,199.14,154761600]
[231,"2014-12-09",204.36999499999999,206.60000600000001,203.91000399999999,206.470001,125180100,202.38200399999999,0.98020052801762714,1,200.32,202.51,199.87,202.38,125180100]
[232,"2014-12-08",207.520004,208.11999499999999,205.929993,206.61000100000001,108588200,202.51923199999999,0.98020052765983956,1,203.41,204,201.85,202.52,108588200]
[233,"2014-12-05",207.86999499999999,208.470001,207.550003,208,91025500,203.88171,0.98020052884615383,1,203.75,204.34,203.44,203.88,91025500]
[234,"2014-12-04",207.53999300000001,208.270004,206.699997,207.66000399999999,89928200,203.54844499999999,0.98020052527784796,1,203.43,204.15,202.61,203.55,89928200]
[235,"2014-12-03",207.300003,208.14999399999999,207.10000600000001,207.88999899999999,69450000,203.773887,0.98020052903074006,1,203.2,204.03,203,203.77,69450000]
[236,"2014-12-02",205.80999800000001,207.33999600000001,205.779999,207.08999600000001,74507200,202.989724,0.9802005307875904,1,201.74,203.23,201.71,202.99,74507200]
[237,"2014-12-01",206.39999399999999,206.53999300000001,205.38000500000001,205.759995,103968400,201.68605500000001,0.98020052440222893,1,202.31,202.45,201.31,201.69,103968400]
[238,"2014-11-28",207.490005,207.86999499999999,206.91000399999999,207.199997,57890100,203.09754699999999,0.98020053060135903,1,203.38,203.75,202.81,203.1,57890100]
[239,"2014-11-26",207.28999300000001,207.759995,207.029999,207.63999899999999,61928400,203.52883700000001,0.98020052966769677,1,203.19,203.65,202.93,203.53,61928400]
[240,"2014-11-25",207.53999300000001,207.78999300000001,206.800003,207.11000100000001,79108000,203.009332,0.98020052638597588,1,203.43,203.68,202.71,203.01,79108000]
[241,"2014-11-24",207.16999799999999,207.38999899999999,206.91000399999999,207.259995,65881000,203.15635599999999,0.98020052543183733,1,203.07,203.28,202.81,203.16,65881000]
[242,"2014-11-21",207.63999899999999,207.83999600000001,205.979996,206.679993,142327000,202.587838,0.980200526714746,1,203.53,203.72,201.9,202.59,142327000]
[243,"2014-11-20",204.259995,205.71000699999999,204.179993,205.58000200000001,72840000,201.50962699999999,0.98020053039983912,1,200.22,201.64,200.14,201.51,72840000]
[244,"2014-11-19",205.30999800000001,205.550003,204.300003,205.220001,82373000,201.15675400000001,0.98020053123379536,1,201.24,201.48,200.25,201.16,82373000]
[245,"2014-11-18",204.44000199999999,205.91999799999999,204.44000199999999,205.550003,76068000,201.480222,0.98020053057357526,1,200.39,201.84,200.39,201.48,76068000]
[246,"2014-11-17",203.85000600000001,204.58000200000001,203.64999399999999,204.36999499999999,80441000,200.323577,0.9802005279688929,1,199.81,200.53,199.62,200.32,80441000]
[247,"2014-11-14",204.10000600000001,204.490005,203.720001,204.240005,80418000,200.19616099999999,0.98020052927437007,1,200.06,200.44,199.69,200.2,80418000]
[248,"2014-11-13",204.16000399999999,204.83000200000001,203.21000699999999,204.19000199999999,85358000,200.14714799999999,0.98020052911307576,1,200.12,200.77,199.19,200.15,85358000]
[249,"2014-11-12",203.35000600000001,204.240005,203.30999800000001,203.96000699999999,90120000,199.921706,0.98020052529219615,1,199.32,200.2,199.28,199.92,90120000]
[250,"2014-11-11",204.05999800000001,204.30999800000001,203.64999399999999,204.179993,54499000,200.137337,0.98020052826625381,1,200.02,200.26,199.62,200.14,54499000]
[251,"2014-11-10",203.38000500000001,204.03999300000001,203.13000500000001,203.979996,66319000,199.94130000000001,0.98020052907541,1,199.35,200,199.11,199.94,66319000]
[252,"2014-11-07",203.16999799999999,203.60000600000001,202.61000100000001,203.33999600000001,89540000,199.31397200000001,0.98020053074064184,1,199.15,199.57,198.6,199.31,89540000]
[253,"2014-11-06",202.38999899999999,203.259995,201.63999899999999,203.14999399999999,107089000,199.12773200000001,0.98020053104210292,1,198.38,199.24,197.65,199.13,107089000]
[254,"2014-11-05",202.53999300000001,202.58999600000001,201.449997,202.33999600000001,91709000,198.33377100000001,0.98020052842147931,1,198.53,198.58,197.46,198.33,91709000]
[255,"2014-11-04",201.229996,201.60000600000001,200.05999800000001,201.070007,93343000,197.08892800000001,0.98020053284227526,1,197.25,197.61,196.1,197.09,93343000]
[256,"2014-11-03",201.91999799999999,202.449997,201.30999800000001,201.770004,93600000,197.77506500000001,0.98020053069930069,1,197.92,198.44,197.32,197.78,93600000]
[257,"2014-10-31",201.779999,201.820007,200.770004,201.66000399999999,146903000,197.66724199999999,0.98020052602994101,1,{"$f":"ROUND($I272*C272,2)","v":197.78},{"$f":"ROUND($I272*D272,2)","v":197.82},{"$f":"ROUND($I272*E272,2)","v":196.79},{"$f":"ROUND($I272*F272,2)","v":197.67},146903000]
[258,"2014-10-30",197.58000200000001,199.949997,197.39999399999999,199.38000500000001,113330000,195.43238600000001,0.98020052712908701,1,193.67,195.99,193.49,195.43,113330000]
[259,"2014-10-29",198.550003,199.11999499999999,196.800003,198.11000100000001,142557000,194.18752699999999,{"$f":"H274/F274","v":0.980200525060822},{"$f":"INDEX(OFFSET($T$15,0,0,$S$13+1,1),MATCH(B274,OFFSET($Q$15,0,0,$S$13+1,1),-1))","v":1},194.62,195.18,192.9,194.19,{"$f":"G274*J274","v":142557000}]
[260,"2014-10-28",196.820007,198.41999799999999,196.729996,198.41000399999999,106736000,194.48159100000001,0.98020052960636006,1,192.92,194.49,192.83,194.48,106736000]
[261,"2014-10-27",195.729996,196.449997,195.029999,196.16000399999999,82954000,192.276139,0.98020052548530745,1,191.85,192.56,191.17,192.28,82954000]
[262,"2014-10-24",195.25,196.490005,194.490005,196.429993,117927000,192.540783,0.98020052874511887,1,191.38,192.6,190.64,192.54,117927000]
[263,"2014-10-23",194.61999499999999,196.199997,194.259995,194.929993,154944000,191.070482,0.98020052768380284,1,190.77,192.32,190.41,191.07,154944000]
[264,"2014-10-22",194.41000399999999,194.91000399999999,192.61000100000001,192.69000199999999,151822000,188.874842,0.98020052955316284,1,190.56,191.05,188.8,188.87,151822000]
[265,"2014-10-21",191.679993,194.199997,191.479996,194.070007,154949000,190.22752399999999,0.98020053145048835,1,187.88,190.35,187.69,190.23,154949000]
[266,"2014-10-20",188.13000500000001,190.449997,188.070007,190.300003,130011000,186.53216399999999,0.9802005310530657,1,184.41,186.68,184.35,186.53,130011000]
[267,"2014-10-17",188.41999799999999,189.75,187.61999499999999,188.470001,214625000,184.738395,0.98020053069347624,1,184.69,185.99,183.91,184.74,214625000]
[268,"2014-10-16",183.05999800000001,187.58000200000001,182.88999899999999,186.270004,270391000,182.58195699999999,0.98020053191172951,1,179.44,183.87,179.27,182.58,270391000]
[269,"2014-10-15",185.16000399999999,187.69000199999999,181.91999799999999,186.429993,380715000,182.738777,0.9802005249230471,1,181.49,183.97,178.32,182.74,380715000]
[270,"2014-10-14",188.41999799999999,189.820007,187.03999300000001,187.699997,215847000,183.98363599999999,0.98020052712094607,1,184.69,186.06,183.34,183.98,215847000]
[271,"2014-10-13",190.46000699999999,191.14999399999999,187.300003,187.41000399999999,230939000,183.69938500000001,0.98020052867615337,1,186.69,187.37,183.59,183.7,230939000]
[272,"2014-10-10",192.69000199999999,193.64999399999999,190.490005,190.53999300000001,221909000,186.767402,0.98020052934503887,1,188.87,189.82,186.72,186.77,221909000]
[273,"2014-10-09",196.33000200000001,196.60000600000001,192.58000200000001,192.740005,210705000,188.923855,0.98020052972396676,1,192.44,192.71,188.77,188.92,210705000]
[274,"2014-10-08",193.36999499999999,196.91999799999999,192.36000100000001,196.63999899999999,186461000,192.74663100000001,0.98020052878458375,1,189.54,193.02,188.55,192.75,186461000]
[275,"2014-10-07",195.279999,195.720001,193.220001,193.259995,147913000,189.433549,0.98020052727415208,1,191.41,191.84,189.39,189.43,147913000]
[276,"2014-10-06",197.33999600000001,197.60000600000001,195.58000200000001,196.28999300000001,104778000,192.40355500000001,0.98020052912223599,1,193.43,193.69,191.71,192.4,104778000]
[277,"2014-10-03",195.679993,196.94000199999999,195.08000200000001,196.520004,121569000,192.62901199999999,0.98020052961122461,1,191.81,193.04,191.22,192.63,121569000]
[278,"2014-10-02",194.179993,195.05999800000001,192.35000600000001,194.38000500000001,157285000,190.531384,0.9802005303992043,1,190.34,191.2,188.54,190.53,157285000]
[279,"2014-10-01",196.699997,196.770004,193.91000399999999,194.35000600000001,177798000,190.50197900000001,0.98020053058295253,1,192.81,192.87,190.07,190.5,177798000]
[280,"2014-09-30",197.69000199999999,198.300003,196.61000100000001,197.020004,131302000,193.119112,0.9802005282671703,1,193.78,194.37,192.72,193.12,131302000]
[281,"2014-09-29",196.199997,197.88999899999999,196.050003,197.53999300000001,95112000,193.628806,0.9802005308363051,1,192.32,193.97,192.17,193.63,95112000]
[282,"2014-09-26",196.699997,198.38999899999999,196.41999799999999,197.89999399999999,103547000,193.98167900000001,0.98020052997070839,1,192.81,194.46,192.53,193.98,103547000]
[283,"2014-09-25",199.03999300000001,199.050003,196.270004,196.33999600000001,150300000,192.45256800000001,0.98020052929001789,1,195.1,195.11,192.38,192.45,150300000]
[284,"2014-09-24",198.03999300000001,199.69000199999999,197.520004,199.55999800000001,107276000,195.60881499999999,0.98020052595911522,1,194.12,195.74,193.61,195.61,107276000]
[285,"2014-09-23",198.429993,199.259995,197.949997,198.009995,111393000,194.08950100000001,0.98020052472603725,1,194.5,195.31,194.03,194.09,111393000]
[286,"2014-09-22",200.35000600000001,200.38000500000001,198.729996,199.14999399999999,125553000,195.206929,0.98020052664425394,1,196.38,196.41,194.8,195.21,125553000]
[287,"2014-09-19",201.520004,201.89999399999999,200.28999300000001,200.699997,121649000,196.72624300000001,0.9802005278555137,1,197.53,197.9,196.32,196.73,121649000]
[288,"2014-09-18",201.36000100000001,201.85000600000001,201.10000600000001,201.820007,94990000,196.903672,0.97564000183589328,1,196.45,196.93,196.2,196.9,94990000]
[289,"2014-09-17",200.770004,201.679993,199.75,200.75,151266000,195.85973000000001,0.97564000000000006,1,195.88,196.77,194.88,195.86,151266000]
[290,"2014-09-16",198.61000100000001,200.83999600000001,198.5,200.479996,116201000,195.59630300000001,0.97563999851636074,1,193.77,195.95,193.66,195.6,116201000]
[291,"2014-09-15",199.16000399999999,199.320007,198.38000500000001,198.979996,76401000,194.13284300000001,0.97563999850517646,1,194.31,194.46,193.55,194.13,76401000]
[292,"2014-09-12",200.10000600000001,200.11999499999999,198.55999800000001,199.13000500000001,117409300,194.27919800000001,0.97563999960729175,1,195.23,195.25,193.72,194.28,117409300]
[293,"2014-09-11",199.270004,200.33000200000001,199.11999499999999,200.300003,66774400,195.42069499999999,0.97564000036485266,1,194.42,195.45,194.27,195.42,66774400]
[294,"2014-09-10",199.429993,200.199997,198.770004,200.070007,67251000,195.196302,0.97564000185195177,1,194.57,195.32,193.93,195.2,67251000]
[295,"2014-09-09",200.41000399999999,200.550003,198.91000399999999,199.320007,88591000,194.464572,0.9756400018589203,1,195.53,195.66,194.06,194.46,88591000]
[296,"2014-09-08",200.91999799999999,201.21000699999999,200,200.58999600000001,64146000,195.70362399999999,0.97564000150835029,1,196.03,196.31,195.13,195.7,64146000]
[297,"2014-09-05",200.16999799999999,201.19000199999999,199.41000399999999,201.11000100000001,102177000,196.210961,0.9756399981321664,1,195.29,196.29,194.55,196.21,102177000]
[298,"2014-09-04",200.83999600000001,201.58000200000001,199.66000399999999,200.21000699999999,85236000,195.33289099999999,0.97563999885380359,1,195.95,196.67,194.8,195.33,85236000]
[299,"2014-09-03",201.38000500000001,201.41000399999999,200.220001,200.5,57462000,195.61582000000001,0.97564000000000006,1,196.47,196.5,195.34,195.62,57462000]
[300,"2014-09-02",200.970001,201,199.86000100000001,200.61000100000001,72426000,195.723141,0.97563999812751101,1,196.07,196.1,194.99,195.72,72426000]
[301,"2014-08-29",200.449997,200.729996,199.820007,200.71000699999999,65907000,195.82071099999999,0.97563999885665886,1,195.57,195.84,194.95,195.82,65907000]
[302,"2014-08-28",199.58999600000001,200.270004,199.38999899999999,200.13999899999999,58330000,195.264589,0.97564000187688626,1,194.73,195.39,194.53,195.26,58330000]
[303,"2014-08-27",200.429993,200.570007,199.94000199999999,200.25,47874000,195.37191000000001,0.97564000000000006,1,195.55,195.68,195.07,195.37,47874000]
[304,"2014-08-26",200.33000200000001,200.820007,200.279999,200.33000200000001,47298000,195.449963,0.97563999924484601,1,195.45,195.93,195.4,195.45,47298000]
[305,"2014-08-25",200.13999899999999,200.58999600000001,199.14999399999999,200.199997,63855000,195.323125,0.97563999963496506,1,195.26,195.7,194.3,195.32,63855000]
[306,"2014-08-22",199.33999600000001,199.69000199999999,198.740005,199.19000199999999,76107000,194.33773400000001,0.97564000225272363,1,194.48,194.83,193.9,194.34,76107000]
[307,"2014-08-21",199.08999600000001,199.759995,198.929993,199.5,67791000,194.64017999999999,0.97563999999999995,1,194.24,194.89,194.08,194.64,67791000]
[308,"2014-08-20",198.11999499999999,199.16000399999999,198.08000200000001,198.91999799999999,72763000,194.074307,0.97564000076050683,1,193.29,194.31,193.25,194.07,72763000]
[309,"2014-08-19",197.83999600000001,198.53999300000001,197.44000199999999,198.38999899999999,59135000,193.557219,0.97564000189344224,1,193.02,193.7,192.63,193.56,59135000]
[310,"2014-08-18",196.800003,197.449997,196.69000199999999,197.36000100000001,75424000,192.552311,0.97563999809667612,1,192.01,192.64,191.9,192.55,75424000]
[311,"2014-08-15",196.470001,196.64999399999999,194.30999800000001,195.720001,139951000,190.95226199999999,0.97564000114633143,1,191.68,191.86,189.58,190.95,139951000]
[312,"2014-08-14",195.16000399999999,195.759995,194.979996,195.759995,57371000,190.99128099999999,0.97563999733449103,1,190.41,190.99,190.23,190.99,57371000]
[313,"2014-08-13",194.28999300000001,195.05999800000001,193.96000699999999,194.83999600000001,69047000,190.093694,0.9756400015528639,1,189.56,190.31,189.24,190.09,69047000]
[314,"2014-08-12",193.61000100000001,194.14999399999999,192.94000199999999,193.529999,73632000,188.815608,0.97563999884069652,1,188.89,189.42,188.24,188.82,73632000]
[315,"2014-08-11",193.970001,194.66000399999999,193.71000699999999,193.800003,74544000,189.079035,0.97564000037708976,1,189.24,189.92,188.99,189.08,74544000]
[316,"2014-08-08",191.46000699999999,193.36999499999999,190.949997,193.240005,117014000,188.532679,0.97564000270026907,1,186.8,188.66,186.3,188.53,117014000]
[317,"2014-08-07",192.94000199999999,193.13000500000001,190.550003,191.029999,135733000,186.376508,0.97563999882552477,1,188.24,188.43,185.91,186.38,135733000]
[318,"2014-08-06",191.11000100000001,192.88999899999999,191.08000200000001,192.070007,94818000,187.39118199999999,0.97564000192908817,1,186.45,188.19,186.43,187.39,94818000]
[319,"2014-08-05",193.10000600000001,193.60000600000001,191.30999800000001,192.009995,152690000,187.33263099999999,0.97563999728243311,1,188.4,188.88,186.65,187.33,152690000]
[320,"2014-08-04",192.86999499999999,194.300003,192.050003,193.88999899999999,91340000,189.16683900000001,0.97564000193738731,1,188.17,189.57,187.37,189.17,91340000]
[321,"2014-08-01",192.55999800000001,193.759995,191.570007,192.5,189261000,187.8107,0.97563999999999995,1,{"$f":"ROUND($I336*C336,2)","v":187.87},{"$f":"ROUND($I336*D336,2)","v":189.04},{"$f":"ROUND($I336*E336,2)","v":186.9},{"$f":"ROUND($I336*F336,2)","v":187.81},189261000]
[322,"2014-07-31",195.61000100000001,195.779999,192.970001,193.08999600000001,183479000,188.386324,0.97564000156693764,1,190.84,191.01,188.27,188.39,183479000]
[323,"2014-07-30",197.64999399999999,197.91000399999999,196.16000399999999,196.979996,104222000,192.18156300000001,{"$f":"H338/F338","v":0.97563999848999905},{"$f":"INDEX(OFFSET($T$15,0,0,$S$13+1,1),MATCH(B338,OFFSET($Q$15,0,0,$S$13+1,1),-1))","v":1},192.84,193.09,191.38,192.18,{"$f":"G338*J338","v":104222000}]
[324,"2014-07-29",198.16999799999999,198.449997,196.91999799999999,196.949997,80466000,192.15229500000001,0.97563999962894143,1,193.34,193.62,192.12,192.15,80466000]
[325,"2014-07-28",197.759995,198.08999600000001,196.61999499999999,197.800003,69259000,192.981595,0.97564000036946408,1,192.94,193.26,191.83,192.98,69259000]
[326,"2014-07-25",198.08999600000001,198.259995,197.33000200000001,197.720001,76837000,192.90354199999999,0.97564000113473592,1,193.26,193.43,192.52,192.9,76837000]
[327,"2014-07-24",198.83000200000001,199.05999800000001,198.449997,198.64999399999999,56888000,193.81088,0.97563999926423361,1,193.99,194.21,193.62,193.81,56888000]
[328,"2014-07-23",198.5,198.85000600000001,198.10000600000001,198.63999899999999,65612000,193.801129,0.97564000189105926,1,193.66,194.01,193.27,193.8,65612000]
[329,"2014-07-22",198.009995,198.55999800000001,197.86999499999999,198.199997,67678000,193.37184500000001,0.97563999963128156,1,193.19,193.72,193.05,193.37,67678000]
[330,"2014-07-21",197.08999600000001,197.5,196.429993,197.33999600000001,67592000,192.532794,0.97564000153319141,1,192.29,192.69,191.64,192.53,67592000]
[331,"2014-07-18",196.35000600000001,197.91000399999999,196.240005,197.71000699999999,124330000,192.89379099999999,0.97563999883931019,1,191.57,193.09,191.46,192.89,124330000]
[332,"2014-07-17",197.35000600000001,198.10000600000001,195.429993,195.71000699999999,145398000,190.942511,0.9756399988274489,1,192.54,193.27,190.67,190.94,145398000]
[333,"2014-07-16",198.11000100000001,198.259995,197.41999799999999,197.96000699999999,79986400,193.13770099999999,0.97563999884077601,1,193.28,193.43,192.61,193.14,79986400]
[334,"2014-07-15",197.720001,198.10000600000001,196.36000100000001,197.229996,111307000,192.42547300000001,0.97563999849191307,1,192.9,193.27,191.58,192.43,111307000]
[335,"2014-07-14",197.61000100000001,197.86000100000001,197.44000199999999,197.60000600000001,58658000,192.78647000000001,0.97564000073967605,1,192.8,193.04,192.63,192.79,58658000]
[336,"2014-07-11",196.220001,196.75,195.779999,196.61000100000001,64243000,191.820581,0.97563999808941559,1,191.44,191.96,191.01,191.82,64243000]
[337,"2014-07-10",195.220001,196.86000100000001,195.05999800000001,196.33999600000001,99040000,191.557154,0.97564000154100028,1,190.46,192.06,190.31,191.56,99040000]
[338,"2014-07-09",196.729996,197.300003,196.30999800000001,197.11999499999999,72992000,192.318152,0.97564000039671273,1,191.94,192.49,191.53,192.32,72992000]
[339,"2014-07-08",197.14999399999999,197.220001,195.759995,196.240005,108143000,191.459599,0.97564000265898898,1,192.35,192.42,190.99,191.46,108143000]
[340,"2014-07-07",197.820007,197.979996,197.220001,197.509995,61696000,192.69865100000001,0.97563999735810847,1,193,193.16,192.42,192.7,61696000]
[341,"2014-07-03",197.78999300000001,198.28999300000001,197.63999899999999,198.199997,52938800,193.37184500000001,0.97563999963128156,1,192.97,193.46,192.83,193.37,52938800]
[342,"2014-07-02",197.050003,197.479996,196.96000699999999,197.229996,52475000,192.42547300000001,0.97563999849191307,1,192.25,192.67,192.16,192.43,52475000]
[343,"2014-07-01",196.199997,197.63000500000001,196.13000500000001,197.029999,90470000,192.23034799999999,0.97563999886129005,1,191.42,192.82,191.35,192.23,90470000]
[344,"2014-06-30",195.699997,196.16999799999999,195.529999,195.720001,70201200,190.95226199999999,0.97564000114633143,1,190.93,191.39,190.77,190.95,70201200]
[345,"2014-06-27",194.979996,195.88000500000001,194.88999899999999,195.820007,71445100,191.04983200000001,0.97564000189214584,1,190.23,191.11,190.14,191.05,71445100]
[346,"2014-06-26",195.61000100000001,195.63000500000001,194.13000500000001,195.44000199999999,84312000,190.67908399999999,0.97564000229594761,1,190.84,190.86,189.4,190.68,84312000]
[347,"2014-06-25",194.28999300000001,195.779999,194.25,195.58000200000001,82782000,190.815673,0.97563999922650579,1,189.56,191.01,189.52,190.82,82782000]
[348,"2014-06-24",195.529999,196.5,194.479996,194.699997,96237000,189.95710500000001,0.97563999962465342,1,190.77,191.71,189.74,189.96,96237000]
[349,"2014-06-23",195.990005,196.050003,195.520004,195.88000500000001,70611000,191.10836800000001,0.97563999960077596,1,191.22,191.27,190.76,191.11,70611000]
[350,"2014-06-20",196.029999,196.10000600000001,195.699997,195.94000199999999,100587000,191.16690399999999,0.97564000229008874,1,191.25,191.32,190.93,191.17,100587000]
[351,"2014-06-19",196.429993,196.60000600000001,195.800003,196.479996,85929000,190.779573,0.97098726019925208,1,190.73,190.9,190.12,190.78,85929000]
[352,"2014-06-18",194.83000200000001,196.36999499999999,194.39999399999999,196.259995,105267000,190.565954,0.97098725596115498,1,189.18,190.67,188.76,190.57,105267000]
[353,"2014-06-17",194.020004,194.970001,193.80999800000001,194.83000200000001,84834000,189.17744999999999,0.97098726098663179,1,188.39,189.31,188.19,189.18,84834000]
[354,"2014-06-16",193.88999899999999,194.699997,193.66000399999999,194.28999300000001,87424000,188.653108,0.97098726026512339,1,188.26,189.05,188.04,188.65,87424000]
[355,"2014-06-13",193.91999799999999,194.320007,193.300003,194.13000500000001,82017000,188.49776199999999,0.97098726186093687,1,188.29,188.68,187.69,188.5,82017000]
[356,"2014-06-12",194.69000199999999,194.800003,193.11000100000001,193.53999300000001,106350000,187.924868,0.97098726256541712,1,189.04,189.15,187.51,187.92,106350000]
[357,"2014-06-11",194.89999399999999,195.11999499999999,194.479996,194.91999799999999,68772000,189.26483500000001,0.97098726114290235,1,189.25,189.46,188.84,189.26,68772000]
[358,"2014-06-10",195.33999600000001,195.63999899999999,194.91999799999999,195.60000600000001,57129000,189.92511400000001,0.97098726060366281,1,189.67,189.96,189.26,189.93,57129000]
[359,"2014-06-09",195.35000600000001,196.050003,195.16999799999999,195.58000200000001,65119000,189.90568999999999,0.97098725870756453,1,189.68,190.36,189.51,189.91,65119000]
[360,"2014-06-06",194.86999499999999,195.429993,194.779999,195.38000500000001,78696000,189.71149600000001,0.97098726146516379,1,189.22,189.76,189.13,189.71,78696000]
[361,"2014-06-05",193.41000399999999,194.64999399999999,192.699997,194.449997,92103000,188.80847,0.97098726105920175,1,187.8,189,187.11,188.81,92103000]
[362,"2014-06-04",192.470001,193.300003,192.270004,193.19000199999999,55529000,187.58503099999999,0.97098726154576054,1,186.89,187.69,186.69,187.59,55529000]
[363,"2014-06-03",192.429993,192.89999399999999,192.25,192.800003,65047000,187.20634699999999,0.97098726186223139,1,186.85,187.3,186.67,187.21,65047000]
[364,"2014-06-02",192.949997,192.990005,191.970001,192.89999399999999,64656000,187.303437,0.97098726192806417,1,187.35,187.39,186.4,187.3,64656000]
[365,"2014-05-30",192.19000199999999,192.800003,192.029999,192.679993,76316000,187.08981800000001,0.97098725761319704,1,186.61,187.21,186.46,187.09,76316000]
[366,"2014-05-29",191.820007,192.39999399999999,191.33000200000001,192.36999499999999,64377000,186.788815,0.97098726337233632,1,186.25,186.82,185.78,186.79,64377000]
[367,"2014-05-28",191.520004,191.820007,191.05999800000001,191.38000500000001,66723000,185.82754700000001,0.9709872617047951,1,185.96,186.25,185.52,185.83,66723000]
[368,"2014-05-27",191.05999800000001,191.58000200000001,190.949997,191.520004,72010000,185.96348399999999,0.97098726042215411,1,185.52,186.02,185.41,185.96,72010000]
[369,"2014-05-23",189.759995,190.479996,189.58999600000001,190.35000600000001,61092800,184.82743099999999,0.97098726122446244,1,184.25,184.95,184.09,184.83,61092800]
[370,"2014-05-22",189.179993,189.979996,188.86000100000001,189.58999600000001,61549000,184.089471,0.97098726137427627,1,183.69,184.47,183.38,184.09,61549000]
[371,"2014-05-21",188.08999600000001,189.220001,188.05999800000001,189.13000500000001,89093000,183.64282499999999,0.97098725820897624,1,182.63,183.73,182.6,183.64,89093000]
[372,"2014-05-20",188.64999399999999,188.66999799999999,187.070007,187.550003,111644000,182.108664,0.97098726252752976,1,183.18,183.2,181.64,182.11,111644000]
[373,"2014-05-19",187.69000199999999,188.88999899999999,187.520004,188.740005,63839000,183.264141,0.97098726366993582,1,182.24,183.41,182.08,183.26,63839000]
[374,"2014-05-16",187.509995,188.13000500000001,186.720001,188.050003,97458000,182.594157,0.97098725917063666,1,182.07,182.67,181.3,182.59,97458000]
[375,"2014-05-15",188.679993,188.720001,186.479996,187.39999399999999,154956000,181.963007,0.97098726161111837,1,183.21,183.24,181.07,181.96,154956000]
[376,"2014-05-14",189.78999300000001,189.88000500000001,188.78999300000001,189.05999800000001,72367000,183.574849,0.97098725770641336,1,184.28,184.37,183.31,183.57,72367000]
[377,"2014-05-13",190.03999300000001,190.41999799999999,189.770004,189.96000699999999,66454000,184.448746,0.97098725628073923,1,184.53,184.9,184.26,184.45,66454000]
[378,"2014-05-12",188.800003,189.88000500000001,188,189.78999300000001,86940000,184.28366600000001,0.97098726380162736,1,183.32,184.37,182.55,184.28,86940000]
[379,"2014-05-09",187.71000699999999,188.03999300000001,186.83000200000001,187.96000699999999,83679000,182.50677200000001,0.97098725900771021,1,182.26,182.58,181.41,182.51,83679000]
[380,"2014-05-08",187.71000699999999,189.050003,187.08000200000001,187.679993,93618000,182.234882,0.97098725914807549,1,182.26,183.57,181.65,182.23,93618000]
[381,"2014-05-07",187.41000399999999,187.970001,186.009995,187.88000500000001,106500000,182.429091,0.97098725859625135,1,181.97,182.52,180.61,182.43,106500000]
[382,"2014-05-06",188,188.13000500000001,186.740005,186.779999,85454000,181.36099899999999,0.97098725758104321,1,182.55,182.67,181.32,181.36,85454000]
[383,"2014-05-05",187.13999899999999,188.550003,186.61999499999999,188.41999799999999,75883000,182.953418,0.97098726219071507,1,181.71,183.08,181.21,182.95,75883000]
[384,"2014-05-02",188.30999800000001,189.13999899999999,187.779999,188.05999800000001,98122000,182.60386199999999,0.97098725907675476,1,182.85,183.65,182.33,182.6,98122000]
[385,"2014-05-01",188.220001,188.83999600000001,187.729996,188.33000200000001,93019000,182.86603299999999,0.97098726202955166,1,{"$f":"ROUND($I400*C400,2)","v":182.76},{"$f":"ROUND($I400*D400,2)","v":183.36},{"$f":"ROUND($I400*E400,2)","v":182.28},{"$f":"ROUND($I400*F400,2)","v":182.87},93019000]
[386,"2014-04-30",187.44000199999999,188.5,187.179993,188.30999800000001,101508000,182.846609,0.97098726006040315,1,182,183.03,181.75,182.85,101508000]
[387,"2014-04-29",187.479996,188.03999300000001,187.08000200000001,187.75,84098000,182.30285799999999,{"$f":"H402/F402","v":0.97098725965379484},{"$f":"INDEX(OFFSET($T$15,0,0,$S$13+1,1),MATCH(B402,OFFSET($Q$15,0,0,$S$13+1,1),-1))","v":1},182.04,182.58,181.65,182.3,{"$f":"G402*J402","v":84098000}]
[388,"2014-04-28",187.050003,187.69000199999999,184.96000699999999,186.88000500000001,135121000,181.45810399999999,0.9709872599800069,1,181.62,182.24,179.59,181.46,135121000]
[389,"2014-04-25",187.220001,187.33000200000001,185.86999499999999,186.28999300000001,100380000,180.88521,0.97098726070594676,1,181.79,181.9,180.48,180.89,100380000]
[390,"2014-04-24",188.36999499999999,188.38999899999999,186.929993,187.83000200000001,88170000,182.380539,0.97098726006508795,1,182.9,182.92,181.51,182.38,88170000]
[391,"2014-04-23",187.820007,187.91999799999999,187.300003,187.449997,73869000,182.01155900000001,0.97098726013849979,1,182.37,182.47,181.87,182.01,73869000]
[392,"2014-04-22",187.229996,188.39999399999999,187.13000500000001,187.88999899999999,85790000,182.438796,0.97098726367016486,1,181.8,182.93,181.7,182.44,85790000]
[393,"2014-04-21",186.44000199999999,187.10000600000001,186.21000699999999,187.03999300000001,68329000,181.613451,0.97098726367039578,1,181.03,181.67,180.81,181.61,68329000]
[394,"2014-04-17",185.88000500000001,186.91000399999999,185.55999800000001,186.38999899999999,105255000,180.982315,0.97098726310954064,1,180.49,181.49,180.18,180.98,105255000]
[395,"2014-04-16",185.470001,186.13999899999999,184.64999399999999,186.13000500000001,105197000,180.72986399999999,0.97098726237072841,1,180.09,180.74,179.29,180.73,105197000]
[396,"2014-04-15",183.320007,184.33000200000001,181.509995,184.199997,157093000,178.85585,0.97098725794224638,1,178,178.98,176.24,178.86,157093000]
[397,"2014-04-14",182.929993,183.36999499999999,181.44000199999999,182.94000199999999,132382000,177.63241199999999,0.97098726390087164,1,177.62,178.05,176.18,177.63,132382000]
[398,"2014-04-11",182.13999899999999,183.41999799999999,181.30999800000001,181.509995,167251000,176.24389199999999,0.97098725610124104,1,176.86,178.1,176.05,176.24,167251000]
[399,"2014-04-10",187.08000200000001,187.16999799999999,182.929993,183.16000399999999,172959000,177.84603000000001,0.97098725767662697,1,181.65,181.74,177.62,177.85,172959000]
[400,"2014-04-09",185.60000600000001,187.14999399999999,185.05999800000001,187.08999600000001,100254000,181.662003,0.97098726219439324,1,180.22,181.72,179.69,181.66,100254000]
[401,"2014-04-08",184.259995,185.39999399999999,183.58999600000001,185.10000600000001,112660000,179.729748,0.97098726188047768,1,178.91,180.02,178.26,179.73,112660000]
[402,"2014-04-07",185.949997,186.259995,183.96000699999999,184.33999600000001,140803000,178.99178800000001,0.97098726203726293,1,180.56,180.86,178.62,178.99,140803000]
[403,"2014-04-04",189.66000399999999,189.699997,186.10000600000001,186.39999399999999,169381000,180.992019,0.97098725764980442,1,184.16,184.2,180.7,180.99,169381000]
[404,"2014-04-03",189.16999799999999,189.220001,188.050003,188.63000500000001,77435000,183.157332,0.97098726154410053,1,183.68,183.73,182.59,183.16,77435000]
[405,"2014-04-02",188.490005,189.13000500000001,188.13999899999999,188.88000500000001,78774000,183.40007800000001,0.97098725722714796,1,183.02,183.64,182.68,183.4,78774000]
[406,"2014-04-01",187.61999499999999,188.36000100000001,187,188.25,89193000,182.788352,0.97098726162018589,1,182.18,182.9,181.57,182.79,89193000]
[407,"2014-03-31",186.66999799999999,187.300003,185.520004,187.009995,99745000,181.58432199999999,0.9709872565902159,1,181.25,181.87,180.14,181.58,99745000]
[408,"2014-03-28",185.11000100000001,186.41999799999999,185,185.490005,101642000,180.10843199999999,0.97098726155083126,1,179.74,181.01,179.63,180.11,101642000]
[409,"2014-03-27",184.75,185.33999600000001,183.89999399999999,184.58000200000001,142383000,179.22483,0.97098725787206341,1,179.39,179.96,178.56,179.22,142383000]
[410,"2014-03-26",187.03999300000001,187.33999600000001,184.91999799999999,184.970001,119843000,179.60351499999999,0.97098726295622384,1,181.61,181.9,179.55,179.6,119843000]
[411,"2014-03-25",186.36999499999999,186.94000199999999,185.270004,186.30999800000001,103852000,180.90463399999999,0.97098725748470016,1,180.96,181.52,179.89,180.9,103852000]
[412,"2014-03-24",186.83999600000001,187.070007,184.61999499999999,185.429993,121411000,180.050161,0.97098726094435006,1,181.42,181.64,179.26,180.05,121411000]
[413,"2014-03-21",187.71000699999999,189.020004,186.029999,186.199997,163128000,180.79782499999999,0.97098726054222217,1,182.26,183.54,180.63,180.8,163128000]
[414,"2014-03-20",186.25,187.88999899999999,185.91999799999999,187.75,117241000,181.501789,0.96672058055925436,1,180.05,181.64,179.73,181.5,117241000]
[415,"2014-03-19",187.679993,187.94000199999999,185.470001,186.66000399999999,176267300,180.44806700000001,0.96672057823378177,1,181.43,181.69,179.3,180.45,176267300]
[416,"2014-03-18",186.71000699999999,187.91000399999999,186.509995,187.66000399999999,101804600,181.41478799999999,0.96672058048128362,1,180.5,181.66,180.3,181.41,101804600]
[417,"2014-03-17",185.58999600000001,186.770004,185.509995,186.33000200000001,98359500,180.12904800000001,0.9667205821207473,1,179.41,180.55,179.34,180.13,98359500]
[418,"2014-03-14",184.85000600000001,185.800003,184.44000199999999,184.66000399999999,153919600,178.51462599999999,0.96672057908110953,1,178.7,179.62,178.3,178.51,153919600]
[419,"2014-03-13",187.83999600000001,187.990005,184.66000399999999,185.179993,155014300,179.01731000000001,0.96672057871824202,1,181.59,181.73,178.51,179.02,155014300]
[420,"2014-03-12",186.320007,187.35000600000001,185.89999399999999,187.279999,104824400,181.04742899999999,0.96672057863477445,1,180.12,181.12,179.71,181.05,104824400]
[421,"2014-03-11",188.44000199999999,188.71000699999999,186.800003,187.229996,99009100,180.99909,0.96672057825606106,1,182.17,182.43,180.58,181,99009100]
[422,"2014-03-10",187.970001,188.229996,187.08000200000001,188.16000399999999,74939200,181.89814799999999,0.96672057893876318,1,181.71,181.97,180.85,181.9,74939200]
[423,"2014-03-07",188.96000699999999,188.96000699999999,187.429993,188.259995,114513500,181.994811,0.96672057704027881,1,182.67,182.67,181.19,181.99,114513500]
[424,"2014-03-06",188.21000699999999,188.61000100000001,187.779999,188.179993,82516500,181.917472,0.96672058012033191,1,181.95,182.33,181.53,181.92,82516500]
[425,"2014-03-05",187.740005,188.070007,187.449997,187.75,88376900,181.501789,0.96672058055925436,1,181.49,181.81,181.21,181.5,88376900]
[426,"2014-03-04",186.78999300000001,187.979996,186.75,187.58000200000001,167545900,181.33744799999999,0.96672057824159741,1,180.57,181.72,180.54,181.34,167545900]
[427,"2014-03-03",184.64999399999999,185.449997,183.75,184.979996,167748500,178.82396900000001,0.96672057988367566,1,178.5,179.28,177.63,178.82,167748500]
[428,"2014-02-28",185.78999300000001,187.14999399999999,185.050003,186.28999300000001,150842000,180.090371,0.96672058493233182,1,179.61,180.92,178.89,180.09,150842000]
[429,"2014-02-27",184.58000200000001,185.86999499999999,184.36999499999999,185.820007,93880800,179.63602499999999,0.96672058030866392,1,178.44,179.68,178.23,179.64,93880800]
[430,"2014-02-26",185.11000100000001,185.60000600000001,184.33000200000001,184.85000600000001,98677200,178.698305,0.96672057992792271,1,178.95,179.42,178.2,178.7,98677200]
[431,"2014-02-25",185.05999800000001,185.58999600000001,184.229996,184.83999600000001,117085000,178.68862899999999,0.9667205846509539,1,178.9,179.41,178.1,178.69,117085000]
[432,"2014-02-24",184.279999,186.14999399999999,184.199997,184.91000399999999,114063900,178.756306,0.96672057829818669,1,178.15,179.96,178.07,178.76,114063900]
[433,"2014-02-21",184.449997,184.88999899999999,183.800003,183.88999899999999,118116400,177.77024700000001,0.96672058277622819,1,178.31,178.74,177.68,177.77,118116400]
[434,"2014-02-20",183.270004,184.520004,182.60000600000001,184.10000600000001,104998100,177.973265,0.96672058229047531,1,177.17,178.38,176.52,177.97,104998100]
[435,"2014-02-19",183.759995,184.949997,182.86999499999999,183.020004,126524300,176.929205,0.96672058317734488,1,177.64,178.79,176.78,176.93,126524300]
[436,"2014-02-18",184.179993,184.490005,183.64999399999999,184.240005,80460900,178.10860500000001,0.96672058275291517,1,178.05,178.35,177.54,178.11,80460900]
[437,"2014-02-14",182.83999600000001,184.36000100000001,182.66999799999999,184.020004,96498400,177.89592500000001,0.96672058000824734,1,176.76,178.22,176.59,177.9,96498400]
[438,"2014-02-13",180.83999600000001,183.199997,180.83000200000001,183.009995,100542200,176.91952800000001,0.9667205772012617,1,174.82,177.1,174.81,176.92,100542200]
[439,"2014-02-12",182.25,182.83000200000001,181.71000699999999,182.070007,94717700,176.01082299999999,0.96672058127618998,1,176.18,176.75,175.66,176.01,94717700]
[440,"2014-02-11",180.16000399999999,182.44000199999999,180.03999300000001,181.979996,117814100,175.92380700000001,0.96672057845302961,1,174.16,176.37,174.05,175.92,117814100]
[441,"2014-02-10",179.699997,180.070007,179.21000699999999,180.009995,92218800,174.01936599999999,0.96672057571025427,1,173.72,174.08,173.25,174.02,92218800]
[442,"2014-02-07",178.30999800000001,179.86999499999999,177.729996,179.679993,170787200,173.70034699999999,0.96672057973644288,1,172.38,173.88,171.82,173.7,170787200]
[443,"2014-02-06",175.58000200000001,177.479996,175.220001,177.479996,132877600,171.573565,0.96672058185081322,1,169.74,171.57,169.39,171.57,132877600]
[444,"2014-02-05",174.779999,175.55999800000001,173.71000699999999,175.16999799999999,164230500,169.340442,0.96672057962802516,1,168.96,169.72,167.93,169.34,164230500]
[445,"2014-02-04",174.949997,175.83999600000001,174.11000100000001,175.38999899999999,165012400,169.553122,0.96672058251166315,1,169.13,169.99,168.32,169.55,165012400]
[446,"2014-02-03",177.970001,178.36999499999999,173.83000200000001,174.16999799999999,254837100,168.37372199999999,0.96672058295596919,1,172.05,172.43,168.05,168.37,254837100]
[447,"2014-01-31",177.009995,179.28999300000001,176.91999799999999,178.179993,194677900,172.25026600000001,0.96672057900462494,1,171.12,173.32,171.03,172.25,194677900]
[448,"2014-01-30",178.83000200000001,179.80999800000001,178.259995,179.229996,118938100,173.26532599999999,0.96672058174905051,1,172.88,173.83,172.33,173.27,118938100]
[449,"2014-01-29",177.58000200000001,178.550003,176.88000500000001,177.35000600000001,216597300,171.447901,0.96672058189837329,1,{"$f":"ROUND($I464*C464,2)","v":171.67},{"$f":"ROUND($I464*D464,2)","v":172.61},{"$f":"ROUND($I464*E464,2)","v":170.99},{"$f":"ROUND($I464*F464,2)","v":171.45},216597300]
[450,"2014-01-28",178.13999899999999,179.300003,178.11999499999999,179.070007,110463200,173.11066199999999,0.96672058543003236,1,172.21,173.33,172.19,173.11,110463200]
[451,"2014-01-27",179.05999800000001,179.520004,177.11999499999999,178.009995,180843100,172.085925,{"$f":"H466/F466","v":0.96672057656088362},{"$f":"INDEX(OFFSET($T$15,0,0,$S$13+1,1),MATCH(B466,OFFSET($Q$15,0,0,$S$13+1,1),-1))","v":1},173.1,173.55,171.23,172.09,{"$f":"G466*J466","v":180843100}]
[452,"2014-01-24",181.60000600000001,181.66000399999999,178.83000200000001,178.88999899999999,208677100,172.936644,0.96672058229482138,1,175.56,175.61,172.88,172.94,208677100]
[453,"2014-01-23",183.36999499999999,183.39999399999999,181.820007,182.78999300000001,132496900,176.70684900000001,0.96672058519089721,1,177.27,177.3,175.77,176.71,132496900]
[454,"2014-01-22",184.490005,184.570007,183.91000399999999,184.300003,61270900,178.166606,0.96672058111686521,1,178.35,178.43,177.79,178.17,61270900]
[455,"2014-01-21",184.699997,184.770004,183.050003,184.179993,88621200,178.05059,0.96672058186037613,1,178.55,178.62,176.96,178.05,88621200]
[456,"2014-01-17",184.10000600000001,184.449997,183.320007,183.63999899999999,107848700,177.52856700000001,0.966720583569596,1,177.97,178.31,177.22,177.53,107848700]
[457,"2014-01-16",184.279999,184.66000399999999,183.83000200000001,184.41999799999999,72290600,178.28260800000001,0.96672058308990994,1,178.15,178.51,177.71,178.28,72290600]
[458,"2014-01-15",184.10000600000001,184.94000199999999,183.71000699999999,184.66000399999999,98525800,178.51462599999999,0.96672057908110953,1,177.97,178.79,177.6,178.51,98525800]
[459,"2014-01-14",182.28999300000001,183.770004,181.949997,183.66999799999999,105016100,177.55756700000001,0.96672058002635797,1,176.22,177.65,175.89,177.56,105016100]
[460,"2014-01-13",183.66999799999999,184.179993,181.33999600000001,181.69000199999999,149892000,175.64346499999999,0.96672058487841284,1,177.56,178.05,175.31,175.64,149892000]
[461,"2014-01-10",183.949997,184.220001,183.009995,184.13999899999999,102026400,178.01192699999999,0.96672058198501454,1,177.83,178.09,176.92,178.01,102026400]
[462,"2014-01-09",184.11000100000001,184.13000500000001,182.800003,183.63999899999999,90683400,177.52856700000001,0.966720583569596,1,177.98,178,176.72,177.53,90683400]
[463,"2014-01-08",183.449997,183.83000200000001,182.88999899999999,183.520004,96582300,177.412565,0.96672058158847907,1,177.34,177.71,176.8,177.41,96582300]
[464,"2014-01-07",183.08999600000001,183.78999300000001,182.949997,183.479996,86144200,177.37388799999999,0.96672057917420051,1,177,177.67,176.86,177.37,86144200]
[465,"2014-01-06",183.490005,183.55999800000001,182.08000200000001,182.36000100000001,108028200,176.291166,0.9667205803535831,1,177.38,177.45,176.02,176.29,108028200]
[466,"2014-01-03",183.229996,183.60000600000001,182.63000500000001,182.88999899999999,81390600,176.80352600000001,0.96672058049494558,1,177.13,177.49,176.55,176.8,81390600]
[467,"2014-01-02",183.979996,184.070007,182.479996,182.91999799999999,119636900,176.832527,0.96672058240455483,1,177.86,177.94,176.41,176.83,119636900]
[468,"2013-12-31",184.070007,184.69000199999999,183.929993,184.69000199999999,86119900,178.54362599999999,0.96672058079245671,1,177.94,178.54,177.81,178.54,86119900]
[469,"2013-12-30",183.86999499999999,184.020004,183.58000200000001,183.820007,56857000,177.702584,0.96672058118243898,1,177.75,177.9,177.47,177.7,56857000]
[470,"2013-12-27",184.10000600000001,184.179993,183.66000399999999,183.85000600000001,61814000,177.731585,0.96672058308227626,1,177.97,178.05,177.55,177.73,61814000]
[471,"2013-12-26",183.33999600000001,183.96000699999999,183.320007,183.86000100000001,63365000,177.74124699999999,0.96672058105775804,1,177.24,177.84,177.22,177.74,63365000]
[472,"2013-12-24",182.53999300000001,183.009995,182.529999,182.929993,45368800,176.84218899999999,0.96672058036978115,1,176.47,176.92,176.46,176.84,45368800]
[473,"2013-12-23",182.449997,182.63999899999999,182.070007,182.529999,85598000,176.45550600000001,0.96672057725700211,1,176.38,176.56,176.01,176.46,85598000]
[474,"2013-12-20",180.69000199999999,181.990005,180.570007,181.55999800000001,197087000,175.517786,0.96672057685305768,1,174.68,175.93,174.56,175.52,197087000]
[475,"2013-12-19",181.179993,181.699997,180.71000699999999,181.490005,136531200,174.502736,0.96150053001541325,1,174.2,174.7,173.75,174.5,136531200]
[476,"2013-12-18",178.91999799999999,181.729996,177.320007,181.699997,234906000,174.704643,0.96150052770776884,1,172.03,174.73,170.49,174.7,234906000]
[477,"2013-12-17",179.38000500000001,179.41000399999999,178.25,178.64999399999999,89886000,171.772063,0.96150052487547244,1,172.47,172.5,171.39,171.77,89886000]
[478,"2013-12-16",178.949997,179.80999800000001,178.89999399999999,179.220001,96195000,172.32012499999999,0.96150052470985081,1,172.06,172.89,172.01,172.32,96195000]
[479,"2013-12-13",178.5,178.66000399999999,177.770004,178.11000100000001,107808000,171.252859,0.96150052236538919,1,171.63,171.78,170.93,171.25,107808000]
[480,"2013-12-12",178.63999899999999,178.86000100000001,177.759995,178.13000500000001,115565000,171.27209300000001,0.96150052317126478,1,171.76,171.97,170.92,171.27,115565000]
[481,"2013-12-11",180.820007,180.85000600000001,178.5,178.720001,130591000,171.83937499999999,0.96150052617781712,1,173.86,173.89,171.63,171.84,130591000]
[482,"2013-12-10",180.979996,181.36000100000001,180.63999899999999,180.75,80976000,173.79122000000001,0.9615005255878285,1,174.01,174.38,173.69,173.79,80976000]
[483,"2013-12-09",181.470001,181.66999799999999,181.16000399999999,181.39999399999999,70124000,174.416189,0.96150052243110884,1,174.48,174.68,174.19,174.42,70124000]
[484,"2013-12-06",180.66999799999999,181.11000100000001,180.14999399999999,180.94000199999999,127728000,173.973907,0.96150052546147313,1,173.71,174.14,173.21,173.97,127728000]
[485,"2013-12-05",179.41000399999999,179.740005,178.770004,178.94000199999999,106934000,172.050906,0.96150052574605427,1,172.5,172.82,171.89,172.05,106934000]
[486,"2013-12-04",179.10000600000001,180.479996,178.35000600000001,179.729996,123033000,172.810485,0.96150052214990311,1,172.2,173.53,171.48,172.81,123033000]
[487,"2013-12-03",179.94000199999999,180.38999899999999,179.16999799999999,179.75,116563000,172.82971900000001,0.96150052294853972,1,173.01,173.45,172.27,172.83,116563000]
[488,"2013-12-02",181.08999600000001,181.429993,180.25,180.529999,99726000,173.579689,0.96150052601506963,1,174.12,174.45,173.31,173.58,99726000]
[489,"2013-11-29",181.320007,181.75,180.800003,181,55870900,174.03159500000001,0.96150052486187854,1,174.34,174.75,173.84,174.03,55870900]
[490,"2013-11-27",180.86999499999999,181.240005,180.64999399999999,181.11999499999999,58800000,174.14697000000001,0.96150052345131753,1,173.91,174.26,173.7,174.15,58800000]
[491,"2013-11-26",180.720001,181.220001,180.41000399999999,180.679993,86994000,173.72390799999999,0.96150052429988753,1,173.76,174.24,173.46,173.72,86994000]
[492,"2013-11-25",181.13000500000001,181.16999799999999,180.36999499999999,180.63000500000001,79486000,173.67584500000001,0.96150052700269817,1,174.16,174.2,173.43,173.68,79486000]
[493,"2013-11-22",179.979996,180.83000200000001,179.770004,180.80999800000001,81296000,173.84890799999999,0.96150052498756178,1,173.05,173.87,172.85,173.85,81296000]
[494,"2013-11-21",178.970001,180.050003,178.86000100000001,179.91000399999999,92841000,172.983563,0.96150052333943592,1,172.08,173.12,171.97,172.98,92841000]
[495,"2013-11-20",179.38999899999999,179.929993,177.979996,178.470001,124909000,171.59899999999999,0.96150052691488463,1,172.48,173,171.13,171.6,124909000]
[496,"2013-11-19",179.33000200000001,179.86999499999999,178.720001,179.029999,93891000,172.137438,0.96150052483662252,1,172.43,172.95,171.84,172.14,93891000]
[497,"2013-11-18",180.35000600000001,180.5,179.020004,179.41999799999999,104796000,172.51242300000001,0.96150052905473793,1,173.41,173.55,172.13,172.51,104796000]
[498,"2013-11-15",179.55999800000001,180.11999499999999,179.33000200000001,180.050003,102818000,173.11817300000001,0.96150052827269328,1,172.65,173.19,172.43,173.12,102818000]
[499,"2013-11-14",178.53999300000001,179.41999799999999,178.25,179.270004,103435000,172.36820299999999,0.9615005252077754,1,171.67,172.51,171.39,172.37,103435000]
[500,"2013-11-13",176.08999600000001,178.429993,176.08999600000001,178.38000500000001,103844000,171.51246800000001,0.96150052243803896,1,169.31,171.56,169.31,171.51,103844000]
[501,"2013-11-12",176.94000199999999,177.36000100000001,176.36999499999999,176.96000699999999,83990000,170.14713900000001,0.96150052141442344,1,170.13,170.53,169.58,170.15,83990000]
[502,"2013-11-11",177.11999499999999,177.529999,176.91000399999999,177.320007,62614000,170.49328,0.96150052599535485,1,170.3,170.7,170.1,170.49,62614000]
[503,"2013-11-08",174.86999499999999,177.30999800000001,174.85000600000001,177.28999300000001,136713000,170.46442200000001,0.96150052868466185,1,168.14,170.48,168.12,170.46,136713000]
[504,"2013-11-07",177.5,177.63999899999999,174.759995,174.929993,157000000,168.19528,0.96150052438406031,1,170.67,170.8,168.03,168.2,157000000]
[505,"2013-11-06",177.029999,177.5,176.53999300000001,177.16999799999999,87348000,170.34904599999999,0.96150052448496381,1,170.21,170.67,169.74,170.35,87348000]
[506,"2013-11-05",176.13999899999999,176.75,175.570007,176.270004,85825000,169.48370199999999,0.96150052847335266,1,169.36,169.95,168.81,169.48,85825000]
[507,"2013-11-04",176.69000199999999,176.89999399999999,175.979996,176.83000200000001,85677000,170.02214000000001,0.96150052636429872,1,169.89,170.09,169.2,170.02,85677000]
[508,"2013-11-01",176.020004,176.61000100000001,175.220001,176.21000699999999,142805000,169.42601400000001,0.96150052363371175,1,169.24,169.81,168.47,169.43,142805000]

{"sheet":"CalculationsAndCharts","index":3,"n_rows":2533,"n_cols":55,"rows_kept":1125,"cut":true,"hidden":false,"merged":[[31,53,31,54],[29,51,30,52],[30,7,31,7],[30,8,31,8],[30,9,31,9],[30,11,31,11],[30,12,31,12],[30,13,31,13],[30,14,31,14],[30,10,31,10],[30,16,31,16],[30,22,31,22],[30,43,31,43],[30,44,31,44],[30,42,31,42],[30,36,31,36],[31,49,31,50],[28,47,30,48],[30,19,31,19],[30,28,31,28],[30,20,31,20],[30,29,31,29],[30,21,31,21],[30,23,31,23],[30,30,31,30],[30,31,31,31],[30,32,31,32],[30,38,31,38],[30,39,31,39],[15,0,15,1],[17,17,21,18],[30,15,31,15],[30,17,30,18],[30,35,31,35],[30,0,31,0],[22,3,22,5],[28,16,28,17],[30,26,30,27],[24,35,29,39],[30,37,31,37]],"bounds":{"rows_first":500,"rows_last":125,"rows_between":500,"halvings":2}}
["Simplify It",null,null,null,null,null,null,null,null,null,null,null,null,null,null,null,null," Price Chart"]
[{"$f":"InputPriceData!A1","v":"Humana Inc. Common Stock (HUM) -NYQ (Daily)"},null,null,null,null,null,null,null,null,null,null,null,null,null,null,null,null,"    Clutter Controls"]
[null,null,null,null,null,null,null,null,null,null,null,null,null,null,null,null,null,true]
["User Charting Controls",null,null,null,null,null,null,null,null,null,null,null,null,null,null,null,null,true]
["Data Control",null,null,null,null,null,null,null,null,null,null,null,null,null,null,null,null,true]
[{"$f":"InputPriceData!$B$10","v":508}," Available Input Data Rows",null,null,"Earliest: ",{"$f":"OFFSET(InputPriceData!B15,CalculationsAndCharts!A6,0,1,1)","v":"2013-11-01"},null,null,null,null,null,null,null,null,null,null,null,true]
[null,"Use Close Adjusted:",true,null,"Latest: ",{"$f":"OFFSET(InputPriceData!B15,1,0,1,1)","v":"2015-11-06"}]
[{"$f":"MIN(A6-A11,COUNTA(B33:B9983))","v":367}," Logically Available for Calc / Plot",null,null,"$ Change:",{"$f":"InputPriceData!I4","v":-2.31},null,null,null,null,null,null,null,null,null,null,null,"Trade Setup: "]
[null,null,null,null,null,null,null,null,null,null,null,null,null,null,null,null,null,"\"Entry Allowed\" Columns"]
["Price Chart Windowing Controls",null,null,null,null,"Y-axis Range",null,null,null,null,null,null,null,null,null,null,null,"Rule Parts Controls",null,"For Long Entry Allowed, all of:",null,"For Short Entry Allowed, all of:"]
[141,"Input Data Offset (Pan)",null,null,"Max High+",{"$f":"CEILING(MAX(MAX(OFFSET($E$33,0,0,$A$12,1)),MAX(OFFSET($H$33,0,0,$A$12,1)))+2*F14,0.1)","v":189.20000000000002},null,null,null,null,null,null,null,null,null,null,null,true,null,{"$f":"IF($R$11,\"Index trending up\",\"\")","v":"Index trending up"},null,{"$f":"IF($R$11,\"Index trending Down\",\"\")","v":"Index trending Down"}]
[149,"Data Points to Plot (Zoom)",null,null,"Min Low-",{"$f":"FLOOR(MIN(MIN(OFFSET($F$33,0,0,$A$12,1)),MIN(OFFSET($H$33,0,0,$A$12,1)))-2*F14,0.1)","v":106},null,null,null,null,null,null,null,null,null,null,null,true,null,{"$f":"IF($R$12,\"SMA(\" & $A$18 & \") >= SMA(\" & $A$17 & \")\",\"\")","v":"SMA(50) >= SMA(200)"},null,{"$f":"IF($R$12,\"SMA(\" & $A$18 & \") <= SMA(\" & $A$17 & \")\",\"\")","v":"SMA(50) <= SMA(200)"}]
[null,"First: ",{"$f":"OFFSET(B32,A12,0,1,1)","v":"2014-09-16"},null,"White space %:",0.05,null,null,null,null,null,null,null,null,null,null,null,true,null,{"$f":"IF($R$13,\"SMA(\" & $A$19 & \") >= SMA(\" & $A$18 & \")\",\"\")","v":"SMA(20) >= SMA(50)"},null,{"$f":"IF($R$13,\"SMA(\" & $A$19 & \") <= SMA(\" & $A$18 & \")\",\"\")","v":"SMA(20) <= SMA(50)"}]
[null,{"$f":"\"Last: \"&OFFSET(InputPriceData!P15,1+A11,0,1,1)","v":"Last: "},{"$f":"B33","v":"2015-04-20"},null,"Allowance:",{"$f":"FLOOR((CEILING(MAX(MAX(OFFSET($E$33,0,0,$A$12,1)),MAX(OFFSET($H$33,0,0,$A$12,1))),1)-FLOOR(MIN(MIN(OFFSET($F$33,0,0,$A$12,1)),MIN(OFFSET($H$33,0,0,$A$12,1))),1))*F13,0.01)","v":3.5},null,null,null,null,null,null,null,null,null,null,null,true,null,{"$f":"IF($R$14,\"Close >= SMA(\" & $A$18 & \")\",\"\")","v":"Close >= SMA(50)"},null,{"$f":"IF($R$14,\"Close <= SMA(\" & $A$18 & \")\",\"\")","v":"Close <= SMA(50)"}]
["User Controls for Indicator Calculations"]
["Stock Indicators",null,null,"Index Trend Indicator Controls"]
[200,"Bar SMA period",null,50,"Bar SMA period"]
[50,"Bar SMA period",null,4,"Bar Trend period",null,null,null,null,null,null,null,null,null,null,null,null," ",null,"For Long Entry Signal:",null,"For Short Entry Signal:"]
[20,"Bar SMA period",null,null,null,null,null,null,null,null,null,null,null,null,null,null,null,null,null,"Long Entry Allowed, and ",null,"Short Entry Allowed, and "]
[8,"High Band SMA Length",null,null,null,null,null,null,null,null,null,null,null,null,null,null,null,null,null,"Close above Upper Band",null,"Close below Lower Band"]
[8,"Low Band SMA Length"]
[]
["Help! I would like to plot data",null,null,null,null,null,null,null,null,null,null,null,null,null,null,null,null,null,null,"Long",null,"Short"]
["From","2014-09-16",{"$f":"OFFSET(InputPriceData!$A$15,MATCH(B24,OFFSET(InputPriceData!B15,1,0,InputPriceData!$B$10,1),0),0,1,1)-C25","v":149},null,69,null,null,null,null,null,null,null,null,null,null,null,null,null,null,{"$f":"'Transaction Summary'!$B$6&\" Winners\"","v":"2 Winners"},{"$f":"'Transaction Summary'!$I$6","v":4.7400000000000091},{"$f":"'Transaction Summary'!$K$6 & \" Winners\"","v":"0 Winners"},{"$f":"'Transaction Summary'!$R$6","v":0},null,null,null,null,null,null,null,null,null,null,null,null,null,null,null,null,null,null,"IndexChart"]
["To","2015-04-20",{"$f":"OFFSET(InputPriceData!$A$15,MATCH(B25,OFFSET(InputPriceData!$B$15,1,0,InputPriceData!$B$10,1),0),0,1,1)-1","v":141},null,{"$f":"$A$12-$E$24+1","v":81},null,null,null,null,null,null,null,null,null,null,null,null,null,null,{"$f":"'Transaction Summary'!$B$7&\" Loosers\"","v":"2 Loosers"},{"$f":"'Transaction Summary'!$I$7","v":-4.9699999999999704},{"$f":"'Transaction Summary'!$K$7 & \" Loosers\"","v":"0 Loosers"},{"$f":"'Transaction Summary'!$R$7","v":0},null,null,null,"and(OR(W39,Y39),OR(AF39,AH39))",null,null,null,null,null,null,null,null,"This copy of the values is used for charting so as to not disturb the values used in the signal computations when I turn a series plot off. \n\n#NA is an on purpose result that prevents plotting of a data point thus allowing one to effectively shut off a plot for a data series by way of a cell formula.",null,null,null,null,null,"Vertical Axis Calculations"]
[null,"Long",null,"Short",null,null,null,null,null,null,null,null,null,null,null,null,null,null,null,null,{"$f":"U24+U25","v":-0.22999999999996135},null,{"$f":"W24+W25","v":0},null,null,null,null,null,null,null,null,null,null,null,null,null,null,null,null,null,null,"MAX",{"$f":"MAX(MAX(OFFSET(AP33,0,0,$A$12,1)),MAX(OFFSET(AQ33,0,0,$A$12,1)))","v":208.94},{"$f":"CEILING(AQ26+2*AQ28,1)","v":212}]
[null,{"$f":"'Transaction Summary'!$B$6&\" Winners\"","v":"2 Winners"},{"$f":"'Transaction Summary'!$I$6","v":4.7400000000000091},{"$f":"'Transaction Summary'!$K$6 & \" Winners\"","v":"0 Winners"},{"$f":"'Transaction Summary'!$R$6","v":0},null,null,null,null,null,null,null,null,null,null,null,null,null,null,null,"Transaction Summary Net",{"$f":"U26+W26","v":-0.22999999999996135},null,null,null,null,null,null,null,null,null,null,null,null,null,null,null,null,null,null,null,"MIN",{"$f":"MIN(MIN(OFFSET(AP33,0,0,$A$12,1)),MIN(OFFSET(AQ33,0,0,$A$12,1)))","v":182.58},{"$f":"FLOOR(AQ27-2*AQ28,1)","v":179}]
[null,{"$f":"'Transaction Summary'!$B$7&\" Loosers\"","v":"2 Loosers"},{"$f":"'Transaction Summary'!$I$7","v":-4.9699999999999704},{"$f":"'Transaction Summary'!$K$7 & \" Loosers\"","v":"0 Loosers"},{"$f":"'Transaction Summary'!$R$7","v":0},null,null,"@ Cursor =>",{"$f":"OFFSET(A32,$E$25,0,1,1)&\"(RR)\"","v":"81(RR)"},{"$f":"OFFSET($B$32,E25,0,1,1)","v":"2014-12-22"},{"$f":"TEXT(OFFSET(D32,$E$25,0,1,1),\"#,##0.00\")&\"(o)\"","v":"145.28(o)"},{"$f":"TEXT(OFFSET(E32,$E$25,0,1,1),\"#,##0.00\")&\"(h)\"","v":"146.89(h)"},{"$f":"TEXT(OFFSET(F32,$E$25,0,1,1),\"#,##0.00\")&\"(l)\"","v":"145.27(l)"},{"$f":"TEXT(OFFSET(G32,$E$25,0,1,1),\"#,##0.00\")&\"(c)\"","v":"145.38(c)"},null,null,null,null,null,null,null,null,null,null,null,null,null,null,null,null,null,null,null,null,null,null,null,null,null,null,null,"Allowance",{"$f":"(AQ26-AQ27)*$F$13","v":1.3179999999999994}]
[null,null,{"$f":"C27+C28","v":-0.22999999999996135},null,{"$f":"E27+E28","v":0},null,null,null,null,null,null,null,null,null,null,null,"<== Cursor      ",null,null,null,null,null,null,null,null,null,null,null,null,null,null,null,null,null,null,null,null,null,null,null,null,null,null,null,null,null,null,"These columns provide background shading on the index chart"]
[null,null,"Transaction Summary Net",{"$f":"C29+E29","v":-0.22999999999996135},null,null,null,null,null,null,null,null,null,null,null,null,null,null,null,null,null,null,null,null,null,null,null,null,null,null,null,null,null,null,null,null,null,null,null,null,null,null,null,null,null,null,null,null,null,null,null,"Volume Cursor"]
["Rel Row",null,null,null,null,null,null,{"$f":"\"SMA(\" & $A$17 & \") of Close\"","v":"SMA(200) of Close"},{"$f":"\"SMA(\" & $A$18 & \") of Close\"","v":"SMA(50) of Close"},{"$f":"\"SMA(\" & $A$19 & \") of Close\"","v":"SMA(20) of Close"},{"$f":"\"SMA(\" & $A$20 & \") of Highs\"","v":"SMA(8) of Highs"},{"$f":"\"SMA(\" & $A$21 & \") of Lows\"","v":"SMA(8) of Lows"},"Up Bar Volume","Down Bar Volume","Upper Band Cross Over","\"Cross Over\" Status","Lower Band Cross Over","Signal Points",null,"LONG Entry Allowed","Long Entry Signal","Long Entry","Long Active","Long Exit Signal",null,"Shading","L/S Overlap",null,"Short Entry Allowed","Short Entry Signal","Short Entry","Short Active","Short Exit Signal",null,"Shading",{"$f":"H31","v":"SMA(200) of Close"},{"$f":"I31","v":"SMA(50) of Close"},{"$f":"J31","v":"SMA(20) of Close"},{"$f":"K31","v":"SMA(8) of Highs"},{"$f":"L31","v":"SMA(8) of Lows"},null,"Close of",{"$f":"\"SMA(\" & $D$17 & \") of \" & AP32","v":"SMA(50) of SPY"},{"$f":"\"1 day Delta of SMA(\" & $D$17 & \")\"","v":"1 day Delta of SMA(50)"},{"$f":"\"SMA(\"&$D$18&\") of 1 day Deltas\"","v":"SMA(4) of 1 day Deltas"}]
[null,"Date","Volume","Open","High","Low","Close",null,null,null,null,null,null,null,null,null,null,"Cross Up","Cross Down",null,null,null,null,null,"Long Exit","Long","Signal","Shading",null,null,null,null,null,"Short Exit","Short",null,null,null,null,null,null,{"$f":"UPPER(InputIndexData!$B$4)","v":"SPY"},null,null,null,"UP?",null,"Up","Down","Index Cursor",null,{"$f":"MAX(OFFSET(C33,0,0,$A$12,1))","v":5468300},0,"Price Chart Cursor"]
[1,{"$f":"OFFSET(InputPriceData!B$15,CalculationsAndCharts!$A33+$A$11,0,1,1)","v":"2015-04-20"},{"$f":"OFFSET(InputPriceData!G$15,CalculationsAndCharts!$A33+$A$11,IF($C$7,8,0),1,1)","v":621600},{"$f":"OFFSET(InputPriceData!C$15,CalculationsAndCharts!$A33+$A$11,IF($C$7,8,0),1,1)","v":178.13},{"$f":"OFFSET(InputPriceData!D$15,CalculationsAndCharts!$A33+$A$11,IF($C$7,8,0),1,1)","v":178.7},{"$f":"OFFSET(InputPriceData!E$15,CalculationsAndCharts!$A33+$A$11,IF($C$7,8,0),1,1)","v":177.86},{"$f":"OFFSET(InputPriceData!F$15,CalculationsAndCharts!$A33+$A$11,IF($C$7,8,0),1,1)","v":178.15},{"$f":"AVERAGE(OFFSET(G33,0,0,$A$17,1))","v":142.0682000000001},{"$f":"AVERAGE(OFFSET(G33,0,0,$A$18,1))","v":167.78579999999999},{"$f":"AVERAGE(OFFSET(G33,0,0,$A$19,1))","v":177.79050000000001},{"$f":"AVERAGE(OFFSET(E33,0,0,$A$20,1))","v":179.06124999999997},{"$f":"AVERAGE(OFFSET(F33,0,0,$A$21,1))","v":176.45125000000002},{"$f":"IF(D33<=G33,C33,NA())","v":621600},{"$f":"IF(D33<=G33,NA(),C33)","v":{"$error":"#N/A"}},{"$f":"AND(G34<=K34,G33>K33,OR(P34=\"DOWN\",P34=0))","v":false},{"$f":"IF(AND(OR(P34=0,P34=\"UP\"),Q33),\"DOWN\",IF(AND(OR(P34=0,P34=\"DOWN\"),O33),\"UP\",P34))","v":"DOWN"},{"$f":"AND(G34>=L34,G33<L33,OR(P34=0,P34=\"UP\"))","v":false},{"$f":"IF(O33,G33,NA())","v":{"$error":"#N/A"}},{"$f":"IF(Q33,G33,NA())","v":{"$error":"#N/A"}},{"$f":"AND(OR(NOT($R$11),AT33),OR(NOT($R$12),J33<=I33),OR(NOT($R$13),I33<=H33),OR(NOT($R$14),G33<=I33))","v":false},{"$f":"AND(T33,O33)","v":false},{"$f":"U34","v":false},{"$f":"IF(V33,TRUE,IF(X34,FALSE,W34))","v":false},{"$f":"AND(W33,Q33)","v":false},{"$f":"X34","v":false},{"$f":"IF(AND(NOT(AA33),OR(W33,Y33)),$F$11,NA())","v":{"$error":"#N/A"}},{"$f":"AND(OR(W33,Y33),OR(AF33,AH33))","v":false},{"$f":"IF(AA33,$F$11,NA())","v":{"$error":"#N/A"}},{"$f":"AND(   OR(NOT($R$11),NOT(AT33)),   OR(NOT($R$12),J33<=I33),   OR(NOT($R$13),I33<=H33),   OR(NOT($R$14),G33<=I33)   )","v":false},{"$f":"AND(AC33,Q33)","v":false},{"$f":"AD34","v":false},{"$f":"IF(AE33,TRUE,IF(AG34,FALSE,AF34))","v":false},{"$f":"AND(AF33,O33)","v":false},{"$f":"AG34","v":false},{"$f":"IF(AND(NOT(AA33),OR(AF33,AH33)),$F$11,NA())","v":{"$error":"#N/A"}},{"$f":"IF($R$3,H33,NA())","v":142.0682000000001},{"$f":"IF($R$4,I33,NA())","v":167.78579999999999},{"$f":"IF($R$5,J33,NA())","v":177.79050000000001},{"$f":"IF($R$6,K33,NA())","v":179.06124999999997},{"$f":"IF($R$6,L33,NA())","v":176.45125000000002},null,{"$f":"OFFSET(InputIndexData!F$15,CalculationsAndCharts!$A33+$A$11,IF($C$7,8,0),1,1)","v":207.75},{"$f":"AVERAGE(OFFSET(AP33,0,0,$D$17,1))","v":206.00960000000003},{"$f":"IF(AQ33-AQ34>=0,1,-1)","v":1},{"$f":"AVERAGE(OFFSET(AR33,0,0,$D$18,1))","v":1},{"$f":"OR(AS33>0,AND(AS33=0,AS34>0))","v":true},null,{"$f":"IF(AT33,$AR$26,NA())","v":212},{"$f":"IF(AT33,NA(),$AR$26)","v":{"$error":"#N/A"}},{"$f":"$E$25","v":81},{"$f":"AR26","v":212},{"$f":"$E$25","v":81},{"$f":"AZ32*1.1","v":6015130.0000000009},{"$f":"$E$25","v":81},{"$f":"$F$11","v":189.20000000000002}]
[2,{"$f":"OFFSET(InputPriceData!B$15,CalculationsAndCharts!$A34+$A$11,0,1,1)","v":"2015-04-17"},{"$f":"OFFSET(InputPriceData!G$15,CalculationsAndCharts!$A34+$A$11,IF($C$7,8,0),1,1)","v":992700},{"$f":"OFFSET(InputPriceData!C$15,CalculationsAndCharts!$A34+$A$11,IF($C$7,8,0),1,1)","v":175.71},{"$f":"OFFSET(InputPriceData!D$15,CalculationsAndCharts!$A34+$A$11,IF($C$7,8,0),1,1)","v":177.1},{"$f":"OFFSET(InputPriceData!E$15,CalculationsAndCharts!$A34+$A$11,IF($C$7,8,0),1,1)","v":175.53},{"$f":"OFFSET(InputPriceData!F$15,CalculationsAndCharts!$A34+$A$11,IF($C$7,8,0),1,1)","v":176.94},141.81980000000013,167.21600000000001,177.98000000000002,179.10249999999999,176.38,{"$f":"IF(D34<=G34,C34,NA())","v":992700},{"$f":"IF(D34<=G34,NA(),C34)","v":{"$error":"#N/A"}},false,"DOWN",false,{"$error":"#N/A"},{"$error":"#N/A"},{"$f":"AND(OR(NOT($R$11),AT34),OR(NOT($R$12),J34<=I34),OR(NOT($R$13),I34<=H34),OR(NOT($R$14),G34<=I34))","v":false},false,false,false,false,false,{"$error":"#N/A"},false,{"$error":"#N/A"},{"$f":"AND(   OR(NOT($R$11),NOT(AT34)),   OR(NOT($R$12),J34<=I34),   OR(NOT($R$13),I34<=H34),   OR(NOT($R$14),G34<=I34)   )","v":false},false,false,{"$f":"IF(AE34,TRUE,IF(AG35,FALSE,AF35))","v":false},{"$f":"AND(AF34,O34)","v":false},false,{"$error":"#N/A"},{"$f":"IF($R$3,H34,NA())","v":141.81980000000013},{"$f":"IF($R$4,I34,NA())","v":167.21600000000001},{"$f":"IF($R$5,J34,NA())","v":177.98000000000002},{"$f":"IF($R$6,K34,NA())","v":179.10249999999999},{"$f":"IF($R$6,L34,NA())","v":176.38},null,{"$f":"OFFSET(InputIndexData!F$15,CalculationsAndCharts!$A34+$A$11,IF($C$7,8,0),1,1)","v":205.87},{"$f":"AVERAGE(OFFSET(AP34,0,0,$D$17,1))","v":205.91760000000002},{"$f":"IF(AQ34-AQ35>=0,1,-1)","v":1},{"$f":"AVERAGE(OFFSET(AR34,0,0,$D$18,1))","v":1},{"$f":"OR(AS34>0,AND(AS34=0,AS35>0))","v":true},null,212,{"$error":"#N/A"},{"$f":"$E$25","v":81},{"$f":"AR27","v":179},{"$f":"$E$25","v":81},0,{"$f":"$E$25","v":81},{"$f":"$F$12","v":106}]
[3,{"$f":"OFFSET(InputPriceData!B$15,CalculationsAndCharts!$A35+$A$11,0,1,1)","v":"2015-04-16"},{"$f":"OFFSET(InputPriceData!G$15,CalculationsAndCharts!$A35+$A$11,IF($C$7,8,0),1,1)","v":1510900},{"$f":"OFFSET(InputPriceData!C$15,CalculationsAndCharts!$A35+$A$11,IF($C$7,8,0),1,1)","v":179.45},{"$f":"OFFSET(InputPriceData!D$15,CalculationsAndCharts!$A35+$A$11,IF($C$7,8,0),1,1)","v":180.02},{"$f":"OFFSET(InputPriceData!E$15,CalculationsAndCharts!$A35+$A$11,IF($C$7,8,0),1,1)","v":175.56},{"$f":"OFFSET(InputPriceData!F$15,CalculationsAndCharts!$A35+$A$11,IF($C$7,8,0),1,1)","v":177.13},141.57595000000009,166.67400000000001,178.13900000000001,179.64499999999998,176.49250000000001,{"$error":"#N/A"},1510900,false,"DOWN",false,{"$error":"#N/A"},{"$error":"#N/A"},false,false,false,false,false,false,{"$error":"#N/A"},false,{"$error":"#N/A"},false,false,false,false,false,false,{"$error":"#N/A"},141.57595000000009,166.67400000000001,178.13900000000001,179.64499999999998,176.49250000000001,null,{"$f":"OFFSET(InputIndexData!F$15,CalculationsAndCharts!$A35+$A$11,IF($C$7,8,0),1,1)","v":208.27},205.82260000000005,1,1,true,null,212,{"$error":"#N/A"}]
[4,{"$f":"OFFSET(InputPriceData!B$15,CalculationsAndCharts!$A36+$A$11,0,1,1)","v":"2015-04-15"},{"$f":"OFFSET(InputPriceData!G$15,CalculationsAndCharts!$A36+$A$11,IF($C$7,8,0),1,1)","v":1390800},{"$f":"OFFSET(InputPriceData!C$15,CalculationsAndCharts!$A36+$A$11,IF($C$7,8,0),1,1)","v":179.44},{"$f":"OFFSET(InputPriceData!D$15,CalculationsAndCharts!$A36+$A$11,IF($C$7,8,0),1,1)","v":180.13},{"$f":"OFFSET(InputPriceData!E$15,CalculationsAndCharts!$A36+$A$11,IF($C$7,8,0),1,1)","v":174.95},{"$f":"OFFSET(InputPriceData!F$15,CalculationsAndCharts!$A36+$A$11,IF($C$7,8,0),1,1)","v":176.19},141.32335000000012,166.08920000000001,178.17250000000004,179.44,176.55500000000001,{"$error":"#N/A"},1390800,false,"DOWN",false,{"$error":"#N/A"},{"$error":"#N/A"},false,false,false,false,false,false,{"$error":"#N/A"},false,{"$error":"#N/A"},false,false,false,false,false,false,{"$error":"#N/A"},141.32335000000012,166.08920000000001,178.17250000000004,179.44,176.55500000000001,null,{"$f":"OFFSET(InputIndexData!F$15,CalculationsAndCharts!$A36+$A$11,IF($C$7,8,0),1,1)","v":208.33},205.69500000000005,1,1,true,null,212,{"$error":"#N/A"}]
[5,{"$f":"OFFSET(InputPriceData!B$15,CalculationsAndCharts!$A37+$A$11,0,1,1)","v":"2015-04-14"},{"$f":"OFFSET(InputPriceData!G$15,CalculationsAndCharts!$A37+$A$11,IF($C$7,8,0),1,1)","v":752800},{"$f":"OFFSET(InputPriceData!C$15,CalculationsAndCharts!$A37+$A$11,IF($C$7,8,0),1,1)","v":177.84},{"$f":"OFFSET(InputPriceData!D$15,CalculationsAndCharts!$A37+$A$11,IF($C$7,8,0),1,1)","v":179.45},{"$f":"OFFSET(InputPriceData!E$15,CalculationsAndCharts!$A37+$A$11,IF($C$7,8,0),1,1)","v":177.54},{"$f":"OFFSET(InputPriceData!F$15,CalculationsAndCharts!$A37+$A$11,IF($C$7,8,0),1,1)","v":179},141.07390000000012,165.47140000000002,178.02250000000004,179.37249999999997,176.7525,752800,{"$error":"#N/A"},false,"DOWN",false,{"$error":"#N/A"},{"$error":"#N/A"},false,false,false,false,false,false,{"$error":"#N/A"},false,{"$error":"#N/A"},false,false,false,false,false,false,{"$error":"#N/A"},141.07390000000012,165.47140000000002,178.02250000000004,179.37249999999997,176.7525,null,{"$f":"OFFSET(InputIndexData!F$15,CalculationsAndCharts!$A37+$A$11,IF($C$7,8,0),1,1)","v":207.4},205.5086,1,1,true,null,212,{"$error":"#N/A"}]
[6,{"$f":"OFFSET(InputPriceData!B$15,CalculationsAndCharts!$A38+$A$11,0,1,1)","v":"2015-04-13"},{"$f":"OFFSET(InputPriceData!G$15,CalculationsAndCharts!$A38+$A$11,IF($C$7,8,0),1,1)","v":561400},{"$f":"OFFSET(InputPriceData!C$15,CalculationsAndCharts!$A38+$A$11,IF($C$7,8,0),1,1)","v":178.28},{"$f":"OFFSET(InputPriceData!D$15,CalculationsAndCharts!$A38+$A$11,IF($C$7,8,0),1,1)","v":180.49},{"$f":"OFFSET(InputPriceData!E$15,CalculationsAndCharts!$A38+$A$11,IF($C$7,8,0),1,1)","v":177.97},{"$f":"OFFSET(InputPriceData!F$15,CalculationsAndCharts!$A38+$A$11,IF($C$7,8,0),1,1)","v":178.03},140.81235000000012,164.80660000000003,177.74750000000003,179.16499999999999,176.33,{"$error":"#N/A"},561400,false,"DOWN",false,{"$error":"#N/A"},{"$error":"#N/A"},false,false,false,false,false,false,{"$error":"#N/A"},false,{"$error":"#N/A"},false,false,false,false,false,false,{"$error":"#N/A"},140.81235000000012,164.80660000000003,177.74750000000003,179.16499999999999,176.33,null,{"$f":"OFFSET(InputIndexData!F$15,CalculationsAndCharts!$A38+$A$11,IF($C$7,8,0),1,1)","v":207},205.29219999999998,1,1,true,null,212,{"$error":"#N/A"}]
[7,{"$f":"OFFSET(InputPriceData!B$15,CalculationsAndCharts!$A39+$A$11,0,1,1)","v":"2015-04-10"},{"$f":"OFFSET(InputPriceData!G$15,CalculationsAndCharts!$A39+$A$11,IF($C$7,8,0),1,1)","v":648200},{"$f":"OFFSET(InputPriceData!C$15,CalculationsAndCharts!$A39+$A$11,IF($C$7,8,0),1,1)","v":177.1},{"$f":"OFFSET(InputPriceData!D$15,CalculationsAndCharts!$A39+$A$11,IF($C$7,8,0),1,1)","v":178.01},{"$f":"OFFSET(InputPriceData!E$15,CalculationsAndCharts!$A39+$A$11,IF($C$7,8,0),1,1)","v":176.4},{"$f":"OFFSET(InputPriceData!F$15,CalculationsAndCharts!$A39+$A$11,IF($C$7,8,0),1,1)","v":177.93},140.5599500000001,164.22440000000003,177.13200000000001,179.20499999999998,176.26750000000001,648200,{"$error":"#N/A"},false,"DOWN",false,{"$error":"#N/A"},{"$error":"#N/A"},false,false,false,false,false,false,{"$error":"#N/A"},{"$f":"AND(OR(W39,Y39),OR(AF39,AH39))","v":false},{"$f":"IF(AA39,$F$11,NA())","v":{"$error":"#N/A"}},false,false,false,false,false,false,{"$error":"#N/A"},140.5599500000001,164.22440000000003,177.13200000000001,179.20499999999998,176.26750000000001,null,{"$f":"OFFSET(InputIndexData!F$15,CalculationsAndCharts!$A39+$A$11,IF($C$7,8,0),1,1)","v":207.94},205.13380000000001,1,1,true,null,212,{"$error":"#N/A"}]
[8,{"$f":"OFFSET(InputPriceData!B$15,CalculationsAndCharts!$A40+$A$11,0,1,1)","v":"2015-04-09"},{"$f":"OFFSET(InputPriceData!G$15,CalculationsAndCharts!$A40+$A$11,IF($C$7,8,0),1,1)","v":1382200},{"$f":"OFFSET(InputPriceData!C$15,CalculationsAndCharts!$A40+$A$11,IF($C$7,8,0),1,1)","v":177.58},{"$f":"OFFSET(InputPriceData!D$15,CalculationsAndCharts!$A40+$A$11,IF($C$7,8,0),1,1)","v":178.59},{"$f":"OFFSET(InputPriceData!E$15,CalculationsAndCharts!$A40+$A$11,IF($C$7,8,0),1,1)","v":175.8},{"$f":"OFFSET(InputPriceData!F$15,CalculationsAndCharts!$A40+$A$11,IF($C$7,8,0),1,1)","v":177.18},140.2987500000001,163.63020000000003,176.41150000000002,179.55624999999998,176.58500000000001,{"$error":"#N/A"},1382200,false,"DOWN",false,{"$f":"IF(O40,G40,NA())","v":{"$error":"#N/A"}},{"$f":"IF(Q40,G40,NA())","v":{"$error":"#N/A"}},false,false,false,false,false,false,{"$error":"#N/A"},false,{"$f":"IF(AA40,$F$11,NA())","v":{"$error":"#N/A"}},false,false,false,false,false,false,{"$error":"#N/A"},140.2987500000001,163.63020000000003,176.41150000000002,179.55624999999998,176.58500000000001,null,{"$f":"OFFSET(InputIndexData!F$15,CalculationsAndCharts!$A40+$A$11,IF($C$7,8,0),1,1)","v":206.81},204.92019999999999,1,1,true,null,212,{"$error":"#N/A"}]
[9,{"$f":"OFFSET(InputPriceData!B$15,CalculationsAndCharts!$A41+$A$11,0,1,1)","v":"2015-04-08"},{"$f":"OFFSET(InputPriceData!G$15,CalculationsAndCharts!$A41+$A$11,IF($C$7,8,0),1,1)","v":767200},{"$f":"OFFSET(InputPriceData!C$15,CalculationsAndCharts!$A41+$A$11,IF($C$7,8,0),1,1)","v":178.16},{"$f":"OFFSET(InputPriceData!D$15,CalculationsAndCharts!$A41+$A$11,IF($C$7,8,0),1,1)","v":179.03},{"$f":"OFFSET(InputPriceData!E$15,CalculationsAndCharts!$A41+$A$11,IF($C$7,8,0),1,1)","v":177.29},{"$f":"OFFSET(InputPriceData!F$15,CalculationsAndCharts!$A41+$A$11,IF($C$7,8,0),1,1)","v":178.18},140.04255000000012,163.08760000000004,175.565,179.38499999999999,176.46749999999997,767200,{"$error":"#N/A"},false,"DOWN",false,{"$f":"IF(O41,G41,NA())","v":{"$error":"#N/A"}},{"$f":"IF(Q41,G41,NA())","v":{"$error":"#N/A"}},{"$f":"AND(OR(NOT($R$11),AT41),OR(NOT($R$12),J41>=I41),OR(NOT($R$13),I41>=H41),OR(NOT($R$14),G41>=I41))","v":true},false,false,false,false,false,{"$error":"#N/A"},false,{"$error":"#N/A"},false,false,false,false,false,false,{"$error":"#N/A"},140.04255000000012,163.08760000000004,175.565,179.38499999999999,176.46749999999997,null,{"$f":"OFFSET(InputIndexData!F$15,CalculationsAndCharts!$A41+$A$11,IF($C$7,8,0),1,1)","v":205.9},204.78040000000001,1,1,true,null,212,{"$error":"#N/A"}]
[10,{"$f":"OFFSET(InputPriceData!B$15,CalculationsAndCharts!$A42+$A$11,0,1,1)","v":"2015-04-07"},{"$f":"OFFSET(InputPriceData!G$15,CalculationsAndCharts!$A42+$A$11,IF($C$7,8,0),1,1)","v":973400},{"$f":"OFFSET(InputPriceData!C$15,CalculationsAndCharts!$A42+$A$11,IF($C$7,8,0),1,1)","v":181.44},{"$f":"OFFSET(InputPriceData!D$15,CalculationsAndCharts!$A42+$A$11,IF($C$7,8,0),1,1)","v":181.44},{"$f":"OFFSET(InputPriceData!E$15,CalculationsAndCharts!$A42+$A$11,IF($C$7,8,0),1,1)","v":176.43},{"$f":"OFFSET(InputPriceData!F$15,CalculationsAndCharts!$A42+$A$11,IF($C$7,8,0),1,1)","v":177.55},139.78050000000013,162.54980000000003,174.56900000000002,179.09625,176.05624999999998,{"$error":"#N/A"},973400,false,"DOWN",false,{"$error":"#N/A"},{"$error":"#N/A"},true,false,false,false,false,false,{"$error":"#N/A"},false,{"$error":"#N/A"},false,false,false,false,false,false,{"$error":"#N/A"},139.78050000000013,162.54980000000003,174.56900000000002,179.09625,176.05624999999998,null,{"$f":"OFFSET(InputIndexData!F$15,CalculationsAndCharts!$A42+$A$11,IF($C$7,8,0),1,1)","v":205.21},204.71219999999997,1,1,true,null,212,{"$error":"#N/A"}]
[11,{"$f":"OFFSET(InputPriceData!B$15,CalculationsAndCharts!$A43+$A$11,0,1,1)","v":"2015-04-06"},{"$f":"OFFSET(InputPriceData!G$15,CalculationsAndCharts!$A43+$A$11,IF($C$7,8,0),1,1)","v":515300},{"$f":"OFFSET(InputPriceData!C$15,CalculationsAndCharts!$A43+$A$11,IF($C$7,8,0),1,1)","v":176.65},{"$f":"OFFSET(InputPriceData!D$15,CalculationsAndCharts!$A43+$A$11,IF($C$7,8,0),1,1)","v":178.38},{"$f":"OFFSET(InputPriceData!E$15,CalculationsAndCharts!$A43+$A$11,IF($C$7,8,0),1,1)","v":176.06},{"$f":"OFFSET(InputPriceData!F$15,CalculationsAndCharts!$A43+$A$11,IF($C$7,8,0),1,1)","v":177.71},139.51880000000011,162.01400000000004,173.7705,179.16374999999999,176.04624999999999,515300,{"$error":"#N/A"},false,"DOWN",false,{"$error":"#N/A"},{"$error":"#N/A"},true,false,false,false,false,false,{"$error":"#N/A"},false,{"$error":"#N/A"},false,false,false,false,false,false,{"$error":"#N/A"},139.51880000000011,162.01400000000004,173.7705,179.16374999999999,176.04624999999999,null,{"$f":"OFFSET(InputIndexData!F$15,CalculationsAndCharts!$A43+$A$11,IF($C$7,8,0),1,1)","v":205.75},204.64839999999995,1,1,true,null,212,{"$error":"#N/A"}]
[12,{"$f":"OFFSET(InputPriceData!B$15,CalculationsAndCharts!$A44+$A$11,0,1,1)","v":"2015-04-02"},{"$f":"OFFSET(InputPriceData!G$15,CalculationsAndCharts!$A44+$A$11,IF($C$7,8,0),1,1)","v":677400},{"$f":"OFFSET(InputPriceData!C$15,CalculationsAndCharts!$A44+$A$11,IF($C$7,8,0),1,1)","v":177.29},{"$f":"OFFSET(InputPriceData!D$15,CalculationsAndCharts!$A44+$A$11,IF($C$7,8,0),1,1)","v":179.59},{"$f":"OFFSET(InputPriceData!E$15,CalculationsAndCharts!$A44+$A$11,IF($C$7,8,0),1,1)","v":176.53},{"$f":"OFFSET(InputPriceData!F$15,CalculationsAndCharts!$A44+$A$11,IF($C$7,8,0),1,1)","v":177.43},139.2478000000001,161.51840000000004,172.83449999999999,179.63249999999999,176.48499999999999,677400,{"$error":"#N/A"},false,"DOWN",false,{"$error":"#N/A"},{"$error":"#N/A"},true,false,false,false,false,false,{"$error":"#N/A"},false,{"$error":"#N/A"},false,false,false,false,false,false,{"$error":"#N/A"},139.2478000000001,161.51840000000004,172.83449999999999,179.63249999999999,176.48499999999999,null,{"$f":"OFFSET(InputIndexData!F$15,CalculationsAndCharts!$A44+$A$11,IF($C$7,8,0),1,1)","v":204.38},204.59599999999998,1,1,true,null,212,{"$error":"#N/A"}]
[13,{"$f":"OFFSET(InputPriceData!B$15,CalculationsAndCharts!$A45+$A$11,0,1,1)","v":"2015-04-01"},{"$f":"OFFSET(InputPriceData!G$15,CalculationsAndCharts!$A45+$A$11,IF($C$7,8,0),1,1)","v":822800},{"$f":"OFFSET(InputPriceData!C$15,CalculationsAndCharts!$A45+$A$11,IF($C$7,8,0),1,1)","v":177.28},{"$f":"OFFSET(InputPriceData!D$15,CalculationsAndCharts!$A45+$A$11,IF($C$7,8,0),1,1)","v":177.79},{"$f":"OFFSET(InputPriceData!E$15,CalculationsAndCharts!$A45+$A$11,IF($C$7,8,0),1,1)","v":174.16},{"$f":"OFFSET(InputPriceData!F$15,CalculationsAndCharts!$A45+$A$11,IF($C$7,8,0),1,1)","v":177.1},138.96865000000008,161.02120000000002,172.03099999999998,179.95875000000004,176.98499999999999,{"$error":"#N/A"},822800,false,"DOWN",false,{"$error":"#N/A"},{"$error":"#N/A"},true,false,false,false,false,false,{"$error":"#N/A"},false,{"$error":"#N/A"},false,false,false,false,false,false,{"$error":"#N/A"},138.96865000000008,161.02120000000002,172.03099999999998,179.95875000000004,176.98499999999999,null,{"$f":"OFFSET(InputIndexData!F$15,CalculationsAndCharts!$A45+$A$11,IF($C$7,8,0),1,1)","v":203.65},204.51159999999996,1,1,true,null,212,{"$error":"#N/A"}]
[14,{"$f":"OFFSET(InputPriceData!B$15,CalculationsAndCharts!$A46+$A$11,0,1,1)","v":"2015-03-31"},{"$f":"OFFSET(InputPriceData!G$15,CalculationsAndCharts!$A46+$A$11,IF($C$7,8,0),1,1)","v":1303500},{"$f":"OFFSET(InputPriceData!C$15,CalculationsAndCharts!$A46+$A$11,IF($C$7,8,0),1,1)","v":179.48},{"$f":"OFFSET(InputPriceData!D$15,CalculationsAndCharts!$A46+$A$11,IF($C$7,8,0),1,1)","v":180.81},{"$f":"OFFSET(InputPriceData!E$15,CalculationsAndCharts!$A46+$A$11,IF($C$7,8,0),1,1)","v":177.47},{"$f":"OFFSET(InputPriceData!F$15,CalculationsAndCharts!$A46+$A$11,IF($C$7,8,0),1,1)","v":177.47},138.6917500000001,160.44480000000004,171.14949999999999,180.50500000000002,177.62,{"$error":"#N/A"},1303500,false,"DOWN",false,{"$error":"#N/A"},{"$error":"#N/A"},true,false,false,false,false,false,{"$error":"#N/A"},false,{"$error":"#N/A"},false,false,false,false,false,false,{"$error":"#N/A"},138.6917500000001,160.44480000000004,171.14949999999999,180.50500000000002,177.62,null,{"$f":"OFFSET(InputIndexData!F$15,CalculationsAndCharts!$A46+$A$11,IF($C$7,8,0),1,1)","v":204.37},204.42159999999996,1,1,true,null,212,{"$error":"#N/A"}]
[15,{"$f":"OFFSET(InputPriceData!B$15,CalculationsAndCharts!$A47+$A$11,0,1,1)","v":"2015-03-30"},{"$f":"OFFSET(InputPriceData!G$15,CalculationsAndCharts!$A47+$A$11,IF($C$7,8,0),1,1)","v":1365300},{"$f":"OFFSET(InputPriceData!C$15,CalculationsAndCharts!$A47+$A$11,IF($C$7,8,0),1,1)","v":179.43},{"$f":"OFFSET(InputPriceData!D$15,CalculationsAndCharts!$A47+$A$11,IF($C$7,8,0),1,1)","v":180.82},{"$f":"OFFSET(InputPriceData!E$15,CalculationsAndCharts!$A47+$A$11,IF($C$7,8,0),1,1)","v":178.94},{"$f":"OFFSET(InputPriceData!F$15,CalculationsAndCharts!$A47+$A$11,IF($C$7,8,0),1,1)","v":180.62},138.42095000000009,159.88020000000003,170.25099999999998,180.66874999999999,177.61750000000001,1365300,{"$error":"#N/A"},false,"DOWN",false,{"$error":"#N/A"},{"$error":"#N/A"},true,false,false,false,false,false,{"$error":"#N/A"},false,{"$error":"#N/A"},false,false,false,false,false,false,{"$error":"#N/A"},138.42095000000009,159.88020000000003,170.25099999999998,180.66874999999999,177.61750000000001,null,{"$f":"OFFSET(InputIndexData!F$15,CalculationsAndCharts!$A47+$A$11,IF($C$7,8,0),1,1)","v":206.17},204.30879999999993,1,1,true,null,212,{"$error":"#N/A"}]
[16,{"$f":"OFFSET(InputPriceData!B$15,CalculationsAndCharts!$A48+$A$11,0,1,1)","v":"2015-03-27"},{"$f":"OFFSET(InputPriceData!G$15,CalculationsAndCharts!$A48+$A$11,IF($C$7,8,0),1,1)","v":1492000},{"$f":"OFFSET(InputPriceData!C$15,CalculationsAndCharts!$A48+$A$11,IF($C$7,8,0),1,1)","v":175.22},{"$f":"OFFSET(InputPriceData!D$15,CalculationsAndCharts!$A48+$A$11,IF($C$7,8,0),1,1)","v":177.22},{"$f":"OFFSET(InputPriceData!E$15,CalculationsAndCharts!$A48+$A$11,IF($C$7,8,0),1,1)","v":174.86},{"$f":"OFFSET(InputPriceData!F$15,CalculationsAndCharts!$A48+$A$11,IF($C$7,8,0),1,1)","v":176.98},138.13725000000011,159.2124,169.28249999999997,180.40625000000003,176.86124999999998,1492000,{"$error":"#N/A"},false,"DOWN",false,{"$error":"#N/A"},{"$error":"#N/A"},true,false,false,false,false,false,{"$error":"#N/A"},{"$f":"AND(OR(W48,Y48),OR(AF48,AH48))","v":false},{"$error":"#N/A"},false,false,false,false,false,false,{"$error":"#N/A"},138.13725000000011,159.2124,169.28249999999997,180.40625000000003,176.86124999999998,null,{"$f":"OFFSET(InputIndexData!F$15,CalculationsAndCharts!$A48+$A$11,IF($C$7,8,0),1,1)","v":203.68},204.10859999999997,1,1,true,null,212,{"$error":"#N/A"}]
[17,{"$f":"OFFSET(InputPriceData!B$15,CalculationsAndCharts!$A49+$A$11,0,1,1)","v":"2015-03-26"},{"$f":"OFFSET(InputPriceData!G$15,CalculationsAndCharts!$A49+$A$11,IF($C$7,8,0),1,1)","v":1473000},{"$f":"OFFSET(InputPriceData!C$15,CalculationsAndCharts!$A49+$A$11,IF($C$7,8,0),1,1)","v":175.98},{"$f":"OFFSET(InputPriceData!D$15,CalculationsAndCharts!$A49+$A$11,IF($C$7,8,0),1,1)","v":176.72},{"$f":"OFFSET(InputPriceData!E$15,CalculationsAndCharts!$A49+$A$11,IF($C$7,8,0),1,1)","v":174},{"$f":"OFFSET(InputPriceData!F$15,CalculationsAndCharts!$A49+$A$11,IF($C$7,8,0),1,1)","v":174.9},137.87990000000008,158.61000000000001,168.614,180.02375000000001,176.48375000000001,{"$error":"#N/A"},1473000,false,"DOWN",true,{"$error":"#N/A"},174.9,true,false,false,false,false,false,{"$error":"#N/A"},false,{"$error":"#N/A"},false,false,false,false,false,false,{"$error":"#N/A"},137.87990000000008,158.61000000000001,168.614,180.02375000000001,176.48375000000001,null,{"$f":"OFFSET(InputIndexData!F$15,CalculationsAndCharts!$A49+$A$11,IF($C$7,8,0),1,1)","v":203.22},203.99439999999996,1,1,true,null,212,{"$error":"#N/A"}]
[18,{"$f":"OFFSET(InputPriceData!B$15,CalculationsAndCharts!$A50+$A$11,0,1,1)","v":"2015-03-25"},{"$f":"OFFSET(InputPriceData!G$15,CalculationsAndCharts!$A50+$A$11,IF($C$7,8,0),1,1)","v":1427100},{"$f":"OFFSET(InputPriceData!C$15,CalculationsAndCharts!$A50+$A$11,IF($C$7,8,0),1,1)","v":180.63},{"$f":"OFFSET(InputPriceData!D$15,CalculationsAndCharts!$A50+$A$11,IF($C$7,8,0),1,1)","v":181.98},{"$f":"OFFSET(InputPriceData!E$15,CalculationsAndCharts!$A50+$A$11,IF($C$7,8,0),1,1)","v":176.35},{"$f":"OFFSET(InputPriceData!F$15,CalculationsAndCharts!$A50+$A$11,IF($C$7,8,0),1,1)","v":176.5},137.63125000000008,158.0352,167.99849999999998,179.74375000000001,175.53749999999997,{"$error":"#N/A"},1427100,false,"UP",false,{"$error":"#N/A"},{"$error":"#N/A"},true,false,false,false,false,false,{"$error":"#N/A"},false,{"$error":"#N/A"},false,false,false,false,false,false,{"$error":"#N/A"},137.63125000000008,158.0352,167.99849999999998,179.74375000000001,175.53749999999997,null,{"$f":"OFFSET(InputIndexData!F$15,CalculationsAndCharts!$A50+$A$11,IF($C$7,8,0),1,1)","v":203.7},203.91339999999994,1,1,true,null,212,{"$error":"#N/A"}]
[19,{"$f":"OFFSET(InputPriceData!B$15,CalculationsAndCharts!$A51+$A$11,0,1,1)","v":"2015-03-24"},{"$f":"OFFSET(InputPriceData!G$15,CalculationsAndCharts!$A51+$A$11,IF($C$7,8,0),1,1)","v":966600},{"$f":"OFFSET(InputPriceData!C$15,CalculationsAndCharts!$A51+$A$11,IF($C$7,8,0),1,1)","v":181.19},{"$f":"OFFSET(InputPriceData!D$15,CalculationsAndCharts!$A51+$A$11,IF($C$7,8,0),1,1)","v":182.13},{"$f":"OFFSET(InputPriceData!E$15,CalculationsAndCharts!$A51+$A$11,IF($C$7,8,0),1,1)","v":179.57},{"$f":"OFFSET(InputPriceData!F$15,CalculationsAndCharts!$A51+$A$11,IF($C$7,8,0),1,1)","v":179.57},137.36885000000007,157.40180000000001,167.40350000000004,177.7225,173.72750000000002,{"$error":"#N/A"},966600,false,"UP",false,{"$error":"#N/A"},{"$error":"#N/A"},true,false,false,false,false,false,{"$error":"#N/A"},false,{"$error":"#N/A"},false,false,false,false,false,false,{"$error":"#N/A"},137.36885000000007,157.40180000000001,167.40350000000004,177.7225,173.72750000000002,null,{"$f":"OFFSET(InputIndexData!F$15,CalculationsAndCharts!$A51+$A$11,IF($C$7,8,0),1,1)","v":206.73},203.83399999999995,1,1,true,null,212,{"$error":"#N/A"}]
[20,{"$f":"OFFSET(InputPriceData!B$15,CalculationsAndCharts!$A52+$A$11,0,1,1)","v":"2015-03-23"},{"$f":"OFFSET(InputPriceData!G$15,CalculationsAndCharts!$A52+$A$11,IF($C$7,8,0),1,1)","v":974200},{"$f":"OFFSET(InputPriceData!C$15,CalculationsAndCharts!$A52+$A$11,IF($C$7,8,0),1,1)","v":181.94},{"$f":"OFFSET(InputPriceData!D$15,CalculationsAndCharts!$A52+$A$11,IF($C$7,8,0),1,1)","v":182.2},{"$f":"OFFSET(InputPriceData!E$15,CalculationsAndCharts!$A52+$A$11,IF($C$7,8,0),1,1)","v":180.53},{"$f":"OFFSET(InputPriceData!F$15,CalculationsAndCharts!$A52+$A$11,IF($C$7,8,0),1,1)","v":181.25},137.09605000000005,156.73179999999999,166.60849999999999,175.40749999999997,171.32625000000002,{"$error":"#N/A"},974200,false,"UP",false,{"$error":"#N/A"},{"$error":"#N/A"},true,false,false,false,false,false,{"$error":"#N/A"},false,{"$error":"#N/A"},false,false,false,false,false,false,{"$error":"#N/A"},137.09605000000005,156.73179999999999,166.60849999999999,175.40749999999997,171.32625000000002,null,{"$f":"OFFSET(InputIndexData!F$15,CalculationsAndCharts!$A52+$A$11,IF($C$7,8,0),1,1)","v":207.9},203.7255999999999,1,1,true,null,212,{"$error":"#N/A"}]
[21,{"$f":"OFFSET(InputPriceData!B$15,CalculationsAndCharts!$A53+$A$11,0,1,1)","v":"2015-03-20"},{"$f":"OFFSET(InputPriceData!G$15,CalculationsAndCharts!$A53+$A$11,IF($C$7,8,0),1,1)","v":2256300},{"$f":"OFFSET(InputPriceData!C$15,CalculationsAndCharts!$A53+$A$11,IF($C$7,8,0),1,1)","v":181.46},{"$f":"OFFSET(InputPriceData!D$15,CalculationsAndCharts!$A53+$A$11,IF($C$7,8,0),1,1)","v":182.16},{"$f":"OFFSET(InputPriceData!E$15,CalculationsAndCharts!$A53+$A$11,IF($C$7,8,0),1,1)","v":179.24},{"$f":"OFFSET(InputPriceData!F$15,CalculationsAndCharts!$A53+$A$11,IF($C$7,8,0),1,1)","v":181.94},136.80480000000006,156.0496,165.73349999999999,172.70624999999998,168.54249999999999,2256300,{"$error":"#N/A"},false,"UP",false,{"$error":"#N/A"},{"$error":"#N/A"},true,false,false,false,false,false,{"$error":"#N/A"},false,{"$error":"#N/A"},false,false,false,false,false,false,{"$error":"#N/A"},136.80480000000006,156.0496,165.73349999999999,172.70624999999998,168.54249999999999,null,{"$f":"OFFSET(InputIndexData!F$15,CalculationsAndCharts!$A53+$A$11,IF($C$7,8,0),1,1)","v":208.31},203.62639999999993,1,1,true,null,212,{"$error":"#N/A"}]
[22,{"$f":"OFFSET(InputPriceData!B$15,CalculationsAndCharts!$A54+$A$11,0,1,1)","v":"2015-03-19"},{"$f":"OFFSET(InputPriceData!G$15,CalculationsAndCharts!$A54+$A$11,IF($C$7,8,0),1,1)","v":1703200},{"$f":"OFFSET(InputPriceData!C$15,CalculationsAndCharts!$A54+$A$11,IF($C$7,8,0),1,1)","v":177.75},{"$f":"OFFSET(InputPriceData!D$15,CalculationsAndCharts!$A54+$A$11,IF($C$7,8,0),1,1)","v":182.12},{"$f":"OFFSET(InputPriceData!E$15,CalculationsAndCharts!$A54+$A$11,IF($C$7,8,0),1,1)","v":177.45},{"$f":"OFFSET(InputPriceData!F$15,CalculationsAndCharts!$A54+$A$11,IF($C$7,8,0),1,1)","v":180.12},136.51450000000006,155.23220000000001,164.40600000000001,169.92875000000001,165.815,1703200,{"$error":"#N/A"},false,"UP",false,{"$error":"#N/A"},{"$error":"#N/A"},true,false,false,false,false,false,{"$error":"#N/A"},false,{"$error":"#N/A"},false,false,false,false,false,false,{"$error":"#N/A"},136.51450000000006,155.23220000000001,164.40600000000001,169.92875000000001,165.815,null,{"$f":"OFFSET(InputIndexData!F$15,CalculationsAndCharts!$A54+$A$11,IF($C$7,8,0),1,1)","v":206.49},203.44819999999996,1,1,true,null,212,{"$error":"#N/A"}]
[23,{"$f":"OFFSET(InputPriceData!B$15,CalculationsAndCharts!$A55+$A$11,0,1,1)","v":"2015-03-18"},{"$f":"OFFSET(InputPriceData!G$15,CalculationsAndCharts!$A55+$A$11,IF($C$7,8,0),1,1)","v":1850000},{"$f":"OFFSET(InputPriceData!C$15,CalculationsAndCharts!$A55+$A$11,IF($C$7,8,0),1,1)","v":173.54},{"$f":"OFFSET(InputPriceData!D$15,CalculationsAndCharts!$A55+$A$11,IF($C$7,8,0),1,1)","v":178.72},{"$f":"OFFSET(InputPriceData!E$15,CalculationsAndCharts!$A55+$A$11,IF($C$7,8,0),1,1)","v":172.89},{"$f":"OFFSET(InputPriceData!F$15,CalculationsAndCharts!$A55+$A$11,IF($C$7,8,0),1,1)","v":177.8},136.22915000000006,154.39860000000002,163.02850000000004,167.45125000000002,163.51874999999998,1850000,{"$error":"#N/A"},false,"UP",false,{"$error":"#N/A"},{"$error":"#N/A"},true,false,false,false,false,false,{"$error":"#N/A"},false,{"$error":"#N/A"},false,false,false,false,false,false,{"$error":"#N/A"},136.22915000000006,154.39860000000002,163.02850000000004,167.45125000000002,163.51874999999998,null,{"$f":"OFFSET(InputIndexData!F$15,CalculationsAndCharts!$A55+$A$11,IF($C$7,8,0),1,1)","v":207.43},203.25719999999998,1,0.5,true,null,212,{"$error":"#N/A"}]
[24,{"$f":"OFFSET(InputPriceData!B$15,CalculationsAndCharts!$A56+$A$11,0,1,1)","v":"2015-03-17"},{"$f":"OFFSET(InputPriceData!G$15,CalculationsAndCharts!$A56+$A$11,IF($C$7,8,0),1,1)","v":1647000},{"$f":"OFFSET(InputPriceData!C$15,CalculationsAndCharts!$A56+$A$11,IF($C$7,8,0),1,1)","v":171.85},{"$f":"OFFSET(InputPriceData!D$15,CalculationsAndCharts!$A56+$A$11,IF($C$7,8,0),1,1)","v":174.16},{"$f":"OFFSET(InputPriceData!E$15,CalculationsAndCharts!$A56+$A$11,IF($C$7,8,0),1,1)","v":171.84},{"$f":"OFFSET(InputPriceData!F$15,CalculationsAndCharts!$A56+$A$11,IF($C$7,8,0),1,1)","v":173.19},135.96035000000003,153.61359999999999,161.8725,165.27625,161.70875000000001,1647000,{"$error":"#N/A"},false,"UP",false,{"$error":"#N/A"},{"$error":"#N/A"},false,false,false,false,false,false,{"$error":"#N/A"},false,{"$error":"#N/A"},false,false,false,false,false,false,{"$error":"#N/A"},135.96035000000003,153.61359999999999,161.8725,165.27625,161.70875000000001,null,{"$f":"OFFSET(InputIndexData!F$15,CalculationsAndCharts!$A56+$A$11,IF($C$7,8,0),1,1)","v":204.97},203.08499999999995,1,0,false,null,{"$error":"#N/A"},212]
[25,{"$f":"OFFSET(InputPriceData!B$15,CalculationsAndCharts!$A57+$A$11,0,1,1)","v":"2015-03-16"},{"$f":"OFFSET(InputPriceData!G$15,CalculationsAndCharts!$A57+$A$11,IF($C$7,8,0),1,1)","v":2796100},{"$f":"OFFSET(InputPriceData!C$15,CalculationsAndCharts!$A57+$A$11,IF($C$7,8,0),1,1)","v":166.89},{"$f":"OFFSET(InputPriceData!D$15,CalculationsAndCharts!$A57+$A$11,IF($C$7,8,0),1,1)","v":174.48},{"$f":"OFFSET(InputPriceData!E$15,CalculationsAndCharts!$A57+$A$11,IF($C$7,8,0),1,1)","v":166.43},{"$f":"OFFSET(InputPriceData!F$15,CalculationsAndCharts!$A57+$A$11,IF($C$7,8,0),1,1)","v":173.5},135.70995000000005,152.99619999999999,160.92000000000002,163.76249999999999,160.15625000000003,2796100,{"$error":"#N/A"},false,"UP",false,{"$error":"#N/A"},{"$error":"#N/A"},false,false,false,false,false,false,{"$error":"#N/A"},false,{"$error":"#N/A"},false,false,false,false,false,false,{"$error":"#N/A"},135.70995000000005,152.99619999999999,160.92000000000002,163.76249999999999,160.15625000000003,null,{"$f":"OFFSET(InputIndexData!F$15,CalculationsAndCharts!$A57+$A$11,IF($C$7,8,0),1,1)","v":205.58},203.03499999999997,1,-0.5,false,null,{"$error":"#N/A"},212]
[26,{"$f":"OFFSET(InputPriceData!B$15,CalculationsAndCharts!$A58+$A$11,0,1,1)","v":"2015-03-13"},{"$f":"OFFSET(InputPriceData!G$15,CalculationsAndCharts!$A58+$A$11,IF($C$7,8,0),1,1)","v":1525600},{"$f":"OFFSET(InputPriceData!C$15,CalculationsAndCharts!$A58+$A$11,IF($C$7,8,0),1,1)","v":162.72999999999999},{"$f":"OFFSET(InputPriceData!D$15,CalculationsAndCharts!$A58+$A$11,IF($C$7,8,0),1,1)","v":165.81},{"$f":"OFFSET(InputPriceData!E$15,CalculationsAndCharts!$A58+$A$11,IF($C$7,8,0),1,1)","v":161.87},{"$f":"OFFSET(InputPriceData!F$15,CalculationsAndCharts!$A58+$A$11,IF($C$7,8,0),1,1)","v":165.72},135.45850000000004,152.3854,159.84300000000002,162.02749999999997,159.10374999999999,1525600,{"$error":"#N/A"},false,"UP",false,{"$error":"#N/A"},{"$error":"#N/A"},false,false,false,false,false,false,{"$error":"#N/A"},false,{"$error":"#N/A"},false,false,false,false,false,false,{"$error":"#N/A"},135.45850000000004,152.3854,159.84300000000002,162.02749999999997,159.10374999999999,null,{"$f":"OFFSET(InputIndexData!F$15,CalculationsAndCharts!$A58+$A$11,IF($C$7,8,0),1,1)","v":202.87},202.97499999999994,-1,-1,false,null,{"$error":"#N/A"},212]
[27,{"$f":"OFFSET(InputPriceData!B$15,CalculationsAndCharts!$A59+$A$11,0,1,1)","v":"2015-03-12"},{"$f":"OFFSET(InputPriceData!G$15,CalculationsAndCharts!$A59+$A$11,IF($C$7,8,0),1,1)","v":992500},{"$f":"OFFSET(InputPriceData!C$15,CalculationsAndCharts!$A59+$A$11,IF($C$7,8,0),1,1)","v":161.12},{"$f":"OFFSET(InputPriceData!D$15,CalculationsAndCharts!$A59+$A$11,IF($C$7,8,0),1,1)","v":163.61000000000001},{"$f":"OFFSET(InputPriceData!E$15,CalculationsAndCharts!$A59+$A$11,IF($C$7,8,0),1,1)","v":160.36000000000001},{"$f":"OFFSET(InputPriceData!F$15,CalculationsAndCharts!$A59+$A$11,IF($C$7,8,0),1,1)","v":163.52000000000001},135.24475000000004,151.97279999999998,159.20749999999998,161.45749999999998,158.72499999999999,992500,{"$error":"#N/A"},true,"UP",false,163.52000000000001,{"$error":"#N/A"},false,false,false,false,false,false,{"$error":"#N/A"},false,{"$error":"#N/A"},false,false,false,false,false,false,{"$error":"#N/A"},135.24475000000004,151.97279999999998,159.20749999999998,161.45749999999998,158.72499999999999,null,{"$f":"OFFSET(InputIndexData!F$15,CalculationsAndCharts!$A59+$A$11,IF($C$7,8,0),1,1)","v":204.12},203.00979999999996,-1,-0.5,false,null,{"$error":"#N/A"},212]
[28,{"$f":"OFFSET(InputPriceData!B$15,CalculationsAndCharts!$A60+$A$11,0,1,1)","v":"2015-03-11"},{"$f":"OFFSET(InputPriceData!G$15,CalculationsAndCharts!$A60+$A$11,IF($C$7,8,0),1,1)","v":956700},{"$f":"OFFSET(InputPriceData!C$15,CalculationsAndCharts!$A60+$A$11,IF($C$7,8,0),1,1)","v":158.84},{"$f":"OFFSET(InputPriceData!D$15,CalculationsAndCharts!$A60+$A$11,IF($C$7,8,0),1,1)","v":160.59},{"$f":"OFFSET(InputPriceData!E$15,CalculationsAndCharts!$A60+$A$11,IF($C$7,8,0),1,1)","v":158.26},{"$f":"OFFSET(InputPriceData!F$15,CalculationsAndCharts!$A60+$A$11,IF($C$7,8,0),1,1)","v":160.25},135.04660000000004,151.57859999999999,158.66200000000001,161.51625000000001,158.74124999999998,956700,{"$error":"#N/A"},false,"DOWN",false,{"$error":"#N/A"},{"$error":"#N/A"},true,false,false,false,false,false,{"$error":"#N/A"},false,{"$error":"#N/A"},false,false,false,false,false,false,{"$error":"#N/A"},135.04660000000004,151.57859999999999,158.66200000000001,161.51625000000001,158.74124999999998,null,{"$f":"OFFSET(InputIndexData!F$15,CalculationsAndCharts!$A60+$A$11,IF($C$7,8,0),1,1)","v":201.56},203.04179999999997,-1,0,true,null,212,{"$error":"#N/A"}]
[29,{"$f":"OFFSET(InputPriceData!B$15,CalculationsAndCharts!$A61+$A$11,0,1,1)","v":"2015-03-10"},{"$f":"OFFSET(InputPriceData!G$15,CalculationsAndCharts!$A61+$A$11,IF($C$7,8,0),1,1)","v":2359000},{"$f":"OFFSET(InputPriceData!C$15,CalculationsAndCharts!$A61+$A$11,IF($C$7,8,0),1,1)","v":159.87},{"$f":"OFFSET(InputPriceData!D$15,CalculationsAndCharts!$A61+$A$11,IF($C$7,8,0),1,1)","v":159.94},{"$f":"OFFSET(InputPriceData!E$15,CalculationsAndCharts!$A61+$A$11,IF($C$7,8,0),1,1)","v":157.41999999999999},{"$f":"OFFSET(InputPriceData!F$15,CalculationsAndCharts!$A61+$A$11,IF($C$7,8,0),1,1)","v":158.26},134.86105000000003,151.25599999999997,158.19650000000001,162.065,159.20125000000002,{"$error":"#N/A"},2359000,false,"DOWN",false,{"$error":"#N/A"},{"$error":"#N/A"},true,false,false,false,false,false,{"$error":"#N/A"},false,{"$error":"#N/A"},false,false,false,false,false,false,{"$error":"#N/A"},134.86105000000003,151.25599999999997,158.19650000000001,162.065,159.20125000000002,null,{"$f":"OFFSET(InputIndexData!F$15,CalculationsAndCharts!$A61+$A$11,IF($C$7,8,0),1,1)","v":202.03},203.11939999999996,-1,0.5,true,null,212,{"$error":"#N/A"}]
[30,{"$f":"OFFSET(InputPriceData!B$15,CalculationsAndCharts!$A62+$A$11,0,1,1)","v":"2015-03-09"},{"$f":"OFFSET(InputPriceData!G$15,CalculationsAndCharts!$A62+$A$11,IF($C$7,8,0),1,1)","v":1046600},{"$f":"OFFSET(InputPriceData!C$15,CalculationsAndCharts!$A62+$A$11,IF($C$7,8,0),1,1)","v":159.34},{"$f":"OFFSET(InputPriceData!D$15,CalculationsAndCharts!$A62+$A$11,IF($C$7,8,0),1,1)","v":162.30000000000001},{"$f":"OFFSET(InputPriceData!E$15,CalculationsAndCharts!$A62+$A$11,IF($C$7,8,0),1,1)","v":159.08000000000001},{"$f":"OFFSET(InputPriceData!F$15,CalculationsAndCharts!$A62+$A$11,IF($C$7,8,0),1,1)","v":161.58000000000001},134.67960000000005,150.95939999999999,157.60650000000001,162.53874999999999,159.72375,1046600,{"$error":"#N/A"},false,"DOWN",false,{"$error":"#N/A"},{"$error":"#N/A"},true,false,false,false,false,false,{"$error":"#N/A"},false,{"$error":"#N/A"},false,false,false,false,false,false,{"$error":"#N/A"},134.67960000000005,150.95939999999999,157.60650000000001,162.53874999999999,159.72375,null,{"$f":"OFFSET(InputIndexData!F$15,CalculationsAndCharts!$A62+$A$11,IF($C$7,8,0),1,1)","v":205.36},203.17439999999999,1,1,true,null,212,{"$error":"#N/A"}]
[31,{"$f":"OFFSET(InputPriceData!B$15,CalculationsAndCharts!$A63+$A$11,0,1,1)","v":"2015-03-06"},{"$f":"OFFSET(InputPriceData!G$15,CalculationsAndCharts!$A63+$A$11,IF($C$7,8,0),1,1)","v":1245400},{"$f":"OFFSET(InputPriceData!C$15,CalculationsAndCharts!$A63+$A$11,IF($C$7,8,0),1,1)","v":160.19999999999999},{"$f":"OFFSET(InputPriceData!D$15,CalculationsAndCharts!$A63+$A$11,IF($C$7,8,0),1,1)","v":161.32},{"$f":"OFFSET(InputPriceData!E$15,CalculationsAndCharts!$A63+$A$11,IF($C$7,8,0),1,1)","v":158.41},{"$f":"OFFSET(InputPriceData!F$15,CalculationsAndCharts!$A63+$A$11,IF($C$7,8,0),1,1)","v":158.99},134.47710000000004,150.6026,156.88000000000002,162.93,160.22874999999999,{"$error":"#N/A"},1245400,false,"DOWN",false,{"$error":"#N/A"},{"$error":"#N/A"},true,false,false,false,false,false,{"$error":"#N/A"},false,{"$error":"#N/A"},false,false,false,false,false,false,{"$error":"#N/A"},134.47710000000004,150.6026,156.88000000000002,162.93,160.22874999999999,null,{"$f":"OFFSET(InputIndexData!F$15,CalculationsAndCharts!$A63+$A$11,IF($C$7,8,0),1,1)","v":204.51},203.16239999999999,1,1,true,null,212,{"$error":"#N/A"}]
[32,{"$f":"OFFSET(InputPriceData!B$15,CalculationsAndCharts!$A64+$A$11,0,1,1)","v":"2015-03-05"},{"$f":"OFFSET(InputPriceData!G$15,CalculationsAndCharts!$A64+$A$11,IF($C$7,8,0),1,1)","v":972900},{"$f":"OFFSET(InputPriceData!C$15,CalculationsAndCharts!$A64+$A$11,IF($C$7,8,0),1,1)","v":159.41999999999999},{"$f":"OFFSET(InputPriceData!D$15,CalculationsAndCharts!$A64+$A$11,IF($C$7,8,0),1,1)","v":162.05000000000001},{"$f":"OFFSET(InputPriceData!E$15,CalculationsAndCharts!$A64+$A$11,IF($C$7,8,0),1,1)","v":159.41999999999999},{"$f":"OFFSET(InputPriceData!F$15,CalculationsAndCharts!$A64+$A$11,IF($C$7,8,0),1,1)","v":161.36000000000001},134.28220000000005,150.33039999999997,156.41350000000003,163.375,160.78750000000002,972900,{"$error":"#N/A"},false,"DOWN",false,{"$error":"#N/A"},{"$error":"#N/A"},true,false,false,false,false,false,{"$error":"#N/A"},false,{"$error":"#N/A"},false,false,false,false,false,false,{"$error":"#N/A"},134.28220000000005,150.33039999999997,156.41350000000003,163.375,160.78750000000002,null,{"$f":"OFFSET(InputIndexData!F$15,CalculationsAndCharts!$A64+$A$11,IF($C$7,8,0),1,1)","v":207.43},203.16179999999997,1,1,true,null,212,{"$error":"#N/A"}]
[33,{"$f":"OFFSET(InputPriceData!B$15,CalculationsAndCharts!$A65+$A$11,0,1,1)","v":"2015-03-04"},{"$f":"OFFSET(InputPriceData!G$15,CalculationsAndCharts!$A65+$A$11,IF($C$7,8,0),1,1)","v":2300900},{"$f":"OFFSET(InputPriceData!C$15,CalculationsAndCharts!$A65+$A$11,IF($C$7,8,0),1,1)","v":158.47999999999999},{"$f":"OFFSET(InputPriceData!D$15,CalculationsAndCharts!$A65+$A$11,IF($C$7,8,0),1,1)","v":160.6},{"$f":"OFFSET(InputPriceData!E$15,CalculationsAndCharts!$A65+$A$11,IF($C$7,8,0),1,1)","v":158.01},{"$f":"OFFSET(InputPriceData!F$15,CalculationsAndCharts!$A65+$A$11,IF($C$7,8,0),1,1)","v":159.47},134.07550000000003,150.01339999999999,155.83750000000001,163.71250000000003,160.33625000000001,2300900,{"$error":"#N/A"},false,"DOWN",false,{"$error":"#N/A"},{"$error":"#N/A"},true,false,false,false,false,false,{"$error":"#N/A"},false,{"$error":"#N/A"},false,false,false,false,false,false,{"$error":"#N/A"},134.07550000000003,150.01339999999999,155.83750000000001,163.71250000000003,160.33625000000001,null,{"$f":"OFFSET(InputIndexData!F$15,CalculationsAndCharts!$A65+$A$11,IF($C$7,8,0),1,1)","v":207.2},203.08419999999998,1,1,true,null,212,{"$error":"#N/A"}]
[34,{"$f":"OFFSET(InputPriceData!B$15,CalculationsAndCharts!$A66+$A$11,0,1,1)","v":"2015-03-03"},{"$f":"OFFSET(InputPriceData!G$15,CalculationsAndCharts!$A66+$A$11,IF($C$7,8,0),1,1)","v":1223500},{"$f":"OFFSET(InputPriceData!C$15,CalculationsAndCharts!$A66+$A$11,IF($C$7,8,0),1,1)","v":160.88},{"$f":"OFFSET(InputPriceData!D$15,CalculationsAndCharts!$A66+$A$11,IF($C$7,8,0),1,1)","v":161.25},{"$f":"OFFSET(InputPriceData!E$15,CalculationsAndCharts!$A66+$A$11,IF($C$7,8,0),1,1)","v":158.84},{"$f":"OFFSET(InputPriceData!F$15,CalculationsAndCharts!$A66+$A$11,IF($C$7,8,0),1,1)","v":159.5},133.86670000000004,149.78579999999999,155.25850000000003,163.15125,159.57875000000001,{"$error":"#N/A"},1223500,false,"DOWN",true,{"$error":"#N/A"},159.5,true,false,false,false,false,false,{"$error":"#N/A"},false,{"$error":"#N/A"},false,false,false,false,false,false,{"$error":"#N/A"},133.86670000000004,149.78579999999999,155.25850000000003,163.15125,159.57875000000001,null,{"$f":"OFFSET(InputIndexData!F$15,CalculationsAndCharts!$A66+$A$11,IF($C$7,8,0),1,1)","v":208.08},202.99399999999997,1,1,true,null,212,{"$error":"#N/A"}]
[35,{"$f":"OFFSET(InputPriceData!B$15,CalculationsAndCharts!$A67+$A$11,0,1,1)","v":"2015-03-02"},{"$f":"OFFSET(InputPriceData!G$15,CalculationsAndCharts!$A67+$A$11,IF($C$7,8,0),1,1)","v":2140400},{"$f":"OFFSET(InputPriceData!C$15,CalculationsAndCharts!$A67+$A$11,IF($C$7,8,0),1,1)","v":163.61000000000001},{"$f":"OFFSET(InputPriceData!D$15,CalculationsAndCharts!$A67+$A$11,IF($C$7,8,0),1,1)","v":164.08},{"$f":"OFFSET(InputPriceData!E$15,CalculationsAndCharts!$A67+$A$11,IF($C$7,8,0),1,1)","v":160.49},{"$f":"OFFSET(InputPriceData!F$15,CalculationsAndCharts!$A67+$A$11,IF($C$7,8,0),1,1)","v":161.25},133.66050000000004,149.44359999999998,154.54850000000002,162.315,158.77625,{"$error":"#N/A"},2140400,false,"UP",false,{"$error":"#N/A"},{"$error":"#N/A"},true,false,false,false,false,false,{"$error":"#N/A"},false,{"$error":"#N/A"},false,false,false,false,false,false,{"$error":"#N/A"},133.66050000000004,149.44359999999998,154.54850000000002,162.315,158.77625,null,{"$f":"OFFSET(InputIndexData!F$15,CalculationsAndCharts!$A67+$A$11,IF($C$7,8,0),1,1)","v":208.94},202.78819999999999,1,1,true,null,212,{"$error":"#N/A"}]
[36,{"$f":"OFFSET(InputPriceData!B$15,CalculationsAndCharts!$A68+$A$11,0,1,1)","v":"2015-02-27"},{"$f":"OFFSET(InputPriceData!G$15,CalculationsAndCharts!$A68+$A$11,IF($C$7,8,0),1,1)","v":1495300},{"$f":"OFFSET(InputPriceData!C$15,CalculationsAndCharts!$A68+$A$11,IF($C$7,8,0),1,1)","v":161.94},{"$f":"OFFSET(InputPriceData!D$15,CalculationsAndCharts!$A68+$A$11,IF($C$7,8,0),1,1)","v":164.98},{"$f":"OFFSET(InputPriceData!E$15,CalculationsAndCharts!$A68+$A$11,IF($C$7,8,0),1,1)","v":161.94},{"$f":"OFFSET(InputPriceData!F$15,CalculationsAndCharts!$A68+$A$11,IF($C$7,8,0),1,1)","v":163.61000000000001},133.44770000000003,149.023,153.77400000000003,161.14625000000001,157.90625,1495300,{"$error":"#N/A"},false,"UP",false,{"$error":"#N/A"},{"$error":"#N/A"},true,false,false,false,false,false,{"$error":"#N/A"},false,{"$error":"#N/A"},false,false,false,false,false,false,{"$error":"#N/A"},133.44770000000003,149.023,153.77400000000003,161.14625000000001,157.90625,null,{"$f":"OFFSET(InputIndexData!F$15,CalculationsAndCharts!$A68+$A$11,IF($C$7,8,0),1,1)","v":207.63},202.48919999999998,1,1,true,null,212,{"$error":"#N/A"}]
[37,{"$f":"OFFSET(InputPriceData!B$15,CalculationsAndCharts!$A69+$A$11,0,1,1)","v":"2015-02-26"},{"$f":"OFFSET(InputPriceData!G$15,CalculationsAndCharts!$A69+$A$11,IF($C$7,8,0),1,1)","v":1720000},{"$f":"OFFSET(InputPriceData!C$15,CalculationsAndCharts!$A69+$A$11,IF($C$7,8,0),1,1)","v":163.21},{"$f":"OFFSET(InputPriceData!D$15,CalculationsAndCharts!$A69+$A$11,IF($C$7,8,0),1,1)","v":163.72999999999999},{"$f":"OFFSET(InputPriceData!E$15,CalculationsAndCharts!$A69+$A$11,IF($C$7,8,0),1,1)","v":161.6},{"$f":"OFFSET(InputPriceData!F$15,CalculationsAndCharts!$A69+$A$11,IF($C$7,8,0),1,1)","v":162.59},133.23265000000001,148.59359999999998,153.0395,159.79375000000002,156.62500000000003,{"$error":"#N/A"},1720000,false,"UP",false,{"$error":"#N/A"},{"$error":"#N/A"},true,false,false,false,false,false,{"$error":"#N/A"},false,{"$error":"#N/A"},false,false,false,false,false,false,{"$error":"#N/A"},133.23265000000001,148.59359999999998,153.0395,159.79375000000002,156.62500000000003,null,{"$f":"OFFSET(InputIndexData!F$15,CalculationsAndCharts!$A69+$A$11,IF($C$7,8,0),1,1)","v":208.34},202.24779999999996,1,1,true,null,212,{"$error":"#N/A"}]
[38,{"$f":"OFFSET(InputPriceData!B$15,CalculationsAndCharts!$A70+$A$11,0,1,1)","v":"2015-02-25"},{"$f":"OFFSET(InputPriceData!G$15,CalculationsAndCharts!$A70+$A$11,IF($C$7,8,0),1,1)","v":804000},{"$f":"OFFSET(InputPriceData!C$15,CalculationsAndCharts!$A70+$A$11,IF($C$7,8,0),1,1)","v":163.66999999999999},{"$f":"OFFSET(InputPriceData!D$15,CalculationsAndCharts!$A70+$A$11,IF($C$7,8,0),1,1)","v":165.43},{"$f":"OFFSET(InputPriceData!E$15,CalculationsAndCharts!$A70+$A$11,IF($C$7,8,0),1,1)","v":163.12},{"$f":"OFFSET(InputPriceData!F$15,CalculationsAndCharts!$A70+$A$11,IF($C$7,8,0),1,1)","v":164.6},133.03110000000001,148.19500000000002,152.32100000000003,158.44000000000003,155.30999999999997,804000,{"$error":"#N/A"},false,"UP",false,{"$error":"#N/A"},{"$error":"#N/A"},true,false,false,false,false,false,{"$error":"#N/A"},false,{"$error":"#N/A"},false,false,false,false,false,false,{"$error":"#N/A"},133.03110000000001,148.19500000000002,152.32100000000003,158.44000000000003,155.30999999999997,null,{"$f":"OFFSET(InputIndexData!F$15,CalculationsAndCharts!$A70+$A$11,IF($C$7,8,0),1,1)","v":208.58},202.01919999999998,1,1,true,null,212,{"$error":"#N/A"}]
[39,{"$f":"OFFSET(InputPriceData!B$15,CalculationsAndCharts!$A71+$A$11,0,1,1)","v":"2015-02-24"},{"$f":"OFFSET(InputPriceData!G$15,CalculationsAndCharts!$A71+$A$11,IF($C$7,8,0),1,1)","v":1024500},{"$f":"OFFSET(InputPriceData!C$15,CalculationsAndCharts!$A71+$A$11,IF($C$7,8,0),1,1)","v":163.74},{"$f":"OFFSET(InputPriceData!D$15,CalculationsAndCharts!$A71+$A$11,IF($C$7,8,0),1,1)","v":164.88},{"$f":"OFFSET(InputPriceData!E$15,CalculationsAndCharts!$A71+$A$11,IF($C$7,8,0),1,1)","v":162.88},{"$f":"OFFSET(InputPriceData!F$15,CalculationsAndCharts!$A71+$A$11,IF($C$7,8,0),1,1)","v":163.66999999999999},132.80180000000001,147.73380000000003,151.59350000000001,157.01624999999999,153.93374999999997,{"$error":"#N/A"},1024500,false,"UP",false,{"$error":"#N/A"},{"$error":"#N/A"},true,false,false,false,false,false,{"$error":"#N/A"},false,{"$error":"#N/A"},false,false,false,false,false,false,{"$error":"#N/A"},132.80180000000001,147.73380000000003,151.59350000000001,157.01624999999999,153.93374999999997,null,{"$f":"OFFSET(InputIndexData!F$15,CalculationsAndCharts!$A71+$A$11,IF($C$7,8,0),1,1)","v":208.76},201.85059999999993,1,1,true,null,212,{"$error":"#N/A"}]
[40,{"$f":"OFFSET(InputPriceData!B$15,CalculationsAndCharts!$A72+$A$11,0,1,1)","v":"2015-02-23"},{"$f":"OFFSET(InputPriceData!G$15,CalculationsAndCharts!$A72+$A$11,IF($C$7,8,0),1,1)","v":3259700},{"$f":"OFFSET(InputPriceData!C$15,CalculationsAndCharts!$A72+$A$11,IF($C$7,8,0),1,1)","v":155.83000000000001},{"$f":"OFFSET(InputPriceData!D$15,CalculationsAndCharts!$A72+$A$11,IF($C$7,8,0),1,1)","v":164.75},{"$f":"OFFSET(InputPriceData!E$15,CalculationsAndCharts!$A72+$A$11,IF($C$7,8,0),1,1)","v":155.81},{"$f":"OFFSET(InputPriceData!F$15,CalculationsAndCharts!$A72+$A$11,IF($C$7,8,0),1,1)","v":163.75},132.56070000000003,147.27060000000003,150.97450000000001,155.53749999999999,152.35124999999999,3259700,{"$error":"#N/A"},false,"UP",false,{"$error":"#N/A"},{"$error":"#N/A"},true,false,false,false,false,false,{"$error":"#N/A"},false,{"$error":"#N/A"},false,false,false,false,false,false,{"$error":"#N/A"},132.56070000000003,147.27060000000003,150.97450000000001,155.53749999999999,152.35124999999999,null,{"$f":"OFFSET(InputIndexData!F$15,CalculationsAndCharts!$A72+$A$11,IF($C$7,8,0),1,1)","v":208.17},201.65819999999994,1,1,true,null,212,{"$error":"#N/A"}]
[41,{"$f":"OFFSET(InputPriceData!B$15,CalculationsAndCharts!$A73+$A$11,0,1,1)","v":"2015-02-20"},{"$f":"OFFSET(InputPriceData!G$15,CalculationsAndCharts!$A73+$A$11,IF($C$7,8,0),1,1)","v":1293400},{"$f":"OFFSET(InputPriceData!C$15,CalculationsAndCharts!$A73+$A$11,IF($C$7,8,0),1,1)","v":152.37},{"$f":"OFFSET(InputPriceData!D$15,CalculationsAndCharts!$A73+$A$11,IF($C$7,8,0),1,1)","v":156.11000000000001},{"$f":"OFFSET(InputPriceData!E$15,CalculationsAndCharts!$A73+$A$11,IF($C$7,8,0),1,1)","v":151.94999999999999},{"$f":"OFFSET(InputPriceData!F$15,CalculationsAndCharts!$A73+$A$11,IF($C$7,8,0),1,1)","v":155.38999999999999},132.33074999999999,146.84580000000003,150.32499999999999,153.84125,151.28874999999999,1293400,{"$error":"#N/A"},false,"UP",false,{"$error":"#N/A"},{"$error":"#N/A"},true,false,false,false,false,false,{"$error":"#N/A"},false,{"$error":"#N/A"},false,false,false,false,false,false,{"$error":"#N/A"},132.33074999999999,146.84580000000003,150.32499999999999,153.84125,151.28874999999999,null,{"$f":"OFFSET(InputIndexData!F$15,CalculationsAndCharts!$A73+$A$11,IF($C$7,8,0),1,1)","v":208.2},201.5423999999999,1,1,true,null,212,{"$error":"#N/A"}]
[42,{"$f":"OFFSET(InputPriceData!B$15,CalculationsAndCharts!$A74+$A$11,0,1,1)","v":"2015-02-19"},{"$f":"OFFSET(InputPriceData!G$15,CalculationsAndCharts!$A74+$A$11,IF($C$7,8,0),1,1)","v":1064100},{"$f":"OFFSET(InputPriceData!C$15,CalculationsAndCharts!$A74+$A$11,IF($C$7,8,0),1,1)","v":153.68},{"$f":"OFFSET(InputPriceData!D$15,CalculationsAndCharts!$A74+$A$11,IF($C$7,8,0),1,1)","v":154.56},{"$f":"OFFSET(InputPriceData!E$15,CalculationsAndCharts!$A74+$A$11,IF($C$7,8,0),1,1)","v":152.41999999999999},{"$f":"OFFSET(InputPriceData!F$15,CalculationsAndCharts!$A74+$A$11,IF($C$7,8,0),1,1)","v":152.57},132.0968,146.61040000000003,150.20199999999997,152.89499999999998,150.54000000000002,{"$error":"#N/A"},1064100,false,"UP",false,{"$error":"#N/A"},{"$error":"#N/A"},true,false,false,false,false,false,{"$error":"#N/A"},false,{"$error":"#N/A"},false,false,false,false,false,false,{"$error":"#N/A"},132.0968,146.61040000000003,150.20199999999997,152.89499999999998,150.54000000000002,null,{"$f":"OFFSET(InputIndexData!F$15,CalculationsAndCharts!$A74+$A$11,IF($C$7,8,0),1,1)","v":206.96},201.42879999999994,1,1,true,null,212,{"$error":"#N/A"}]
[43,{"$f":"OFFSET(InputPriceData!B$15,CalculationsAndCharts!$A75+$A$11,0,1,1)","v":"2015-02-18"},{"$f":"OFFSET(InputPriceData!G$15,CalculationsAndCharts!$A75+$A$11,IF($C$7,8,0),1,1)","v":724000},{"$f":"OFFSET(InputPriceData!C$15,CalculationsAndCharts!$A75+$A$11,IF($C$7,8,0),1,1)","v":153.91},{"$f":"OFFSET(InputPriceData!D$15,CalculationsAndCharts!$A75+$A$11,IF($C$7,8,0),1,1)","v":154.72999999999999},{"$f":"OFFSET(InputPriceData!E$15,CalculationsAndCharts!$A75+$A$11,IF($C$7,8,0),1,1)","v":153.53},{"$f":"OFFSET(InputPriceData!F$15,CalculationsAndCharts!$A75+$A$11,IF($C$7,8,0),1,1)","v":154.68},131.87860000000003,146.42640000000003,150.202,152.31124999999997,149.82125000000002,724000,{"$error":"#N/A"},false,"UP",false,{"$error":"#N/A"},{"$error":"#N/A"},true,false,false,false,false,false,{"$error":"#N/A"},false,{"$error":"#N/A"},false,false,false,false,false,false,{"$error":"#N/A"},131.87860000000003,146.42640000000003,150.202,152.31124999999997,149.82125000000002,null,{"$f":"OFFSET(InputIndexData!F$15,CalculationsAndCharts!$A75+$A$11,IF($C$7,8,0),1,1)","v":207.11},201.36719999999991,1,1,true,null,212,{"$error":"#N/A"}]
[44,{"$f":"OFFSET(InputPriceData!B$15,CalculationsAndCharts!$A76+$A$11,0,1,1)","v":"2015-02-17"},{"$f":"OFFSET(InputPriceData!G$15,CalculationsAndCharts!$A76+$A$11,IF($C$7,8,0),1,1)","v":914900},{"$f":"OFFSET(InputPriceData!C$15,CalculationsAndCharts!$A76+$A$11,IF($C$7,8,0),1,1)","v":151.91},{"$f":"OFFSET(InputPriceData!D$15,CalculationsAndCharts!$A76+$A$11,IF($C$7,8,0),1,1)","v":154.16},{"$f":"OFFSET(InputPriceData!E$15,CalculationsAndCharts!$A76+$A$11,IF($C$7,8,0),1,1)","v":151.69},{"$f":"OFFSET(InputPriceData!F$15,CalculationsAndCharts!$A76+$A$11,IF($C$7,8,0),1,1)","v":154.13999999999999},131.64375000000001,146.13660000000002,149.88200000000001,152.11875000000003,149.24750000000003,914900,{"$error":"#N/A"},false,"UP",false,{"$error":"#N/A"},{"$error":"#N/A"},true,false,false,false,false,false,{"$error":"#N/A"},false,{"$error":"#N/A"},false,false,false,false,false,false,{"$error":"#N/A"},131.64375000000001,146.13660000000002,149.88200000000001,152.11875000000003,149.24750000000003,null,{"$f":"OFFSET(InputIndexData!F$15,CalculationsAndCharts!$A76+$A$11,IF($C$7,8,0),1,1)","v":207.09},201.29599999999988,1,1,true,null,212,{"$error":"#N/A"}]
[45,{"$f":"OFFSET(InputPriceData!B$15,CalculationsAndCharts!$A77+$A$11,0,1,1)","v":"2015-02-13"},{"$f":"OFFSET(InputPriceData!G$15,CalculationsAndCharts!$A77+$A$11,IF($C$7,8,0),1,1)","v":727100},{"$f":"OFFSET(InputPriceData!C$15,CalculationsAndCharts!$A77+$A$11,IF($C$7,8,0),1,1)","v":152.59},{"$f":"OFFSET(InputPriceData!D$15,CalculationsAndCharts!$A77+$A$11,IF($C$7,8,0),1,1)","v":152.9},{"$f":"OFFSET(InputPriceData!E$15,CalculationsAndCharts!$A77+$A$11,IF($C$7,8,0),1,1)","v":151.08000000000001},{"$f":"OFFSET(InputPriceData!F$15,CalculationsAndCharts!$A77+$A$11,IF($C$7,8,0),1,1)","v":151.96},131.41420000000002,145.86940000000004,149.63700000000003,151.87,148.35999999999999,{"$error":"#N/A"},727100,false,"UP",false,{"$error":"#N/A"},{"$error":"#N/A"},true,false,false,false,false,false,{"$error":"#N/A"},false,{"$error":"#N/A"},false,false,false,false,false,false,{"$error":"#N/A"},131.41420000000002,145.86940000000004,149.63700000000003,151.87,148.35999999999999,null,{"$f":"OFFSET(InputIndexData!F$15,CalculationsAndCharts!$A77+$A$11,IF($C$7,8,0),1,1)","v":206.76},201.22959999999992,1,1,true,null,212,{"$error":"#N/A"}]
[46,{"$f":"OFFSET(InputPriceData!B$15,CalculationsAndCharts!$A78+$A$11,0,1,1)","v":"2015-02-12"},{"$f":"OFFSET(InputPriceData!G$15,CalculationsAndCharts!$A78+$A$11,IF($C$7,8,0),1,1)","v":655800},{"$f":"OFFSET(InputPriceData!C$15,CalculationsAndCharts!$A78+$A$11,IF($C$7,8,0),1,1)","v":153.28},{"$f":"OFFSET(InputPriceData!D$15,CalculationsAndCharts!$A78+$A$11,IF($C$7,8,0),1,1)","v":154.04},{"$f":"OFFSET(InputPriceData!E$15,CalculationsAndCharts!$A78+$A$11,IF($C$7,8,0),1,1)","v":152.11000000000001},{"$f":"OFFSET(InputPriceData!F$15,CalculationsAndCharts!$A78+$A$11,IF($C$7,8,0),1,1)","v":153.01},131.19720000000004,145.61420000000004,149.40050000000002,151.26500000000001,147.4375,{"$error":"#N/A"},655800,false,"UP",false,{"$error":"#N/A"},{"$error":"#N/A"},true,false,false,false,false,false,{"$error":"#N/A"},false,{"$error":"#N/A"},false,false,false,false,false,false,{"$error":"#N/A"},131.19720000000004,145.61420000000004,149.40050000000002,151.26500000000001,147.4375,null,{"$f":"OFFSET(InputIndexData!F$15,CalculationsAndCharts!$A78+$A$11,IF($C$7,8,0),1,1)","v":205.91},201.15419999999992,1,0.5,true,null,212,{"$error":"#N/A"}]
[47,{"$f":"OFFSET(InputPriceData!B$15,CalculationsAndCharts!$A79+$A$11,0,1,1)","v":"2015-02-11"},{"$f":"OFFSET(InputPriceData!G$15,CalculationsAndCharts!$A79+$A$11,IF($C$7,8,0),1,1)","v":717100},{"$f":"OFFSET(InputPriceData!C$15,CalculationsAndCharts!$A79+$A$11,IF($C$7,8,0),1,1)","v":150.74},{"$f":"OFFSET(InputPriceData!D$15,CalculationsAndCharts!$A79+$A$11,IF($C$7,8,0),1,1)","v":153.05000000000001},{"$f":"OFFSET(InputPriceData!E$15,CalculationsAndCharts!$A79+$A$11,IF($C$7,8,0),1,1)","v":150.22},{"$f":"OFFSET(InputPriceData!F$15,CalculationsAndCharts!$A79+$A$11,IF($C$7,8,0),1,1)","v":152.61000000000001},130.97150000000002,145.31740000000002,149.09300000000002,150.3125,146.26999999999998,717100,{"$error":"#N/A"},false,"UP",false,{"$error":"#N/A"},{"$error":"#N/A"},false,false,false,false,false,false,{"$error":"#N/A"},false,{"$error":"#N/A"},false,false,false,false,false,false,{"$error":"#N/A"},130.97150000000002,145.31740000000002,149.09300000000002,150.3125,146.26999999999998,null,{"$f":"OFFSET(InputIndexData!F$15,CalculationsAndCharts!$A79+$A$11,IF($C$7,8,0),1,1)","v":203.95},201.06979999999993,1,0,false,null,{"$error":"#N/A"},212]
[48,{"$f":"OFFSET(InputPriceData!B$15,CalculationsAndCharts!$A80+$A$11,0,1,1)","v":"2015-02-10"},{"$f":"OFFSET(InputPriceData!G$15,CalculationsAndCharts!$A80+$A$11,IF($C$7,8,0),1,1)","v":784700},{"$f":"OFFSET(InputPriceData!C$15,CalculationsAndCharts!$A80+$A$11,IF($C$7,8,0),1,1)","v":148.04},{"$f":"OFFSET(InputPriceData!D$15,CalculationsAndCharts!$A80+$A$11,IF($C$7,8,0),1,1)","v":151.18},{"$f":"OFFSET(InputPriceData!E$15,CalculationsAndCharts!$A80+$A$11,IF($C$7,8,0),1,1)","v":147.31},{"$f":"OFFSET(InputPriceData!F$15,CalculationsAndCharts!$A80+$A$11,IF($C$7,8,0),1,1)","v":150.94},130.74740000000003,145.00640000000004,148.77050000000003,149.80000000000001,145.65249999999997,784700,{"$error":"#N/A"},true,"UP",false,150.94,{"$error":"#N/A"},false,false,false,false,false,false,{"$error":"#N/A"},false,{"$error":"#N/A"},false,false,false,false,false,false,{"$error":"#N/A"},130.74740000000003,145.00640000000004,148.77050000000003,149.80000000000001,145.65249999999997,null,{"$f":"OFFSET(InputIndexData!F$15,CalculationsAndCharts!$A80+$A$11,IF($C$7,8,0),1,1)","v":203.83},201.05279999999991,1,0,false,null,{"$error":"#N/A"},212]
[49,{"$f":"OFFSET(InputPriceData!B$15,CalculationsAndCharts!$A81+$A$11,0,1,1)","v":"2015-02-09"},{"$f":"OFFSET(InputPriceData!G$15,CalculationsAndCharts!$A81+$A$11,IF($C$7,8,0),1,1)","v":756700},{"$f":"OFFSET(InputPriceData!C$15,CalculationsAndCharts!$A81+$A$11,IF($C$7,8,0),1,1)","v":146.58000000000001},{"$f":"OFFSET(InputPriceData!D$15,CalculationsAndCharts!$A81+$A$11,IF($C$7,8,0),1,1)","v":148.54},{"$f":"OFFSET(InputPriceData!E$15,CalculationsAndCharts!$A81+$A$11,IF($C$7,8,0),1,1)","v":145.96},{"$f":"OFFSET(InputPriceData!F$15,CalculationsAndCharts!$A81+$A$11,IF($C$7,8,0),1,1)","v":146.46},130.53270000000003,144.71940000000004,148.465,149.55999999999997,145.42874999999998,{"$error":"#N/A"},756700,false,"DOWN",false,{"$error":"#N/A"},{"$error":"#N/A"},false,false,false,false,false,false,{"$error":"#N/A"},false,{"$error":"#N/A"},false,false,false,false,false,false,{"$error":"#N/A"},130.53270000000003,144.71940000000004,148.465,149.55999999999997,145.42874999999998,null,{"$f":"OFFSET(InputIndexData!F$15,CalculationsAndCharts!$A81+$A$11,IF($C$7,8,0),1,1)","v":201.69},201.04679999999993,-1,-0.5,false,null,{"$error":"#N/A"},212]
[50,{"$f":"OFFSET(InputPriceData!B$15,CalculationsAndCharts!$A82+$A$11,0,1,1)","v":"2015-02-06"},{"$f":"OFFSET(InputPriceData!G$15,CalculationsAndCharts!$A82+$A$11,IF($C$7,8,0),1,1)","v":1159000},{"$f":"OFFSET(InputPriceData!C$15,CalculationsAndCharts!$A82+$A$11,IF($C$7,8,0),1,1)","v":149.59},{"$f":"OFFSET(InputPriceData!D$15,CalculationsAndCharts!$A82+$A$11,IF($C$7,8,0),1,1)","v":149.88999999999999},{"$f":"OFFSET(InputPriceData!E$15,CalculationsAndCharts!$A82+$A$11,IF($C$7,8,0),1,1)","v":146.66999999999999},{"$f":"OFFSET(InputPriceData!F$15,CalculationsAndCharts!$A82+$A$11,IF($C$7,8,0),1,1)","v":147.05000000000001},130.33860000000001,144.52580000000003,148.44550000000001,149.94124999999997,145.65875,{"$error":"#N/A"},1159000,false,"DOWN",false,{"$error":"#N/A"},{"$error":"#N/A"},false,false,false,false,false,false,{"$error":"#N/A"},false,{"$error":"#N/A"},false,false,false,false,false,false,{"$error":"#N/A"},130.33860000000001,144.52580000000003,148.44550000000001,149.94124999999997,145.65875,null,{"$f":"OFFSET(InputIndexData!F$15,CalculationsAndCharts!$A82+$A$11,IF($C$7,8,0),1,1)","v":202.59},201.07319999999996,-1,0,false,null,{"$error":"#N/A"},212]
[51,{"$f":"OFFSET(InputPriceData!B$15,CalculationsAndCharts!$A83+$A$11,0,1,1)","v":"2015-02-05"},{"$f":"OFFSET(InputPriceData!G$15,CalculationsAndCharts!$A83+$A$11,IF($C$7,8,0),1,1)","v":1203700},{"$f":"OFFSET(InputPriceData!C$15,CalculationsAndCharts!$A83+$A$11,IF($C$7,8,0),1,1)","v":152.79},{"$f":"OFFSET(InputPriceData!D$15,CalculationsAndCharts!$A83+$A$11,IF($C$7,8,0),1,1)","v":153.19},{"$f":"OFFSET(InputPriceData!E$15,CalculationsAndCharts!$A83+$A$11,IF($C$7,8,0),1,1)","v":148.94},{"$f":"OFFSET(InputPriceData!F$15,CalculationsAndCharts!$A83+$A$11,IF($C$7,8,0),1,1)","v":149.66},130.13685000000001,144.36320000000003,148.44999999999999,150.12249999999997,145.99374999999998,{"$error":"#N/A"},1203700,false,"DOWN",false,{"$error":"#N/A"},{"$error":"#N/A"},false,false,false,false,false,false,{"$error":"#N/A"},false,{"$error":"#N/A"},false,false,false,false,false,false,{"$error":"#N/A"},130.13685000000001,144.36320000000003,148.44999999999999,150.12249999999997,145.99374999999998,null,{"$f":"OFFSET(InputIndexData!F$15,CalculationsAndCharts!$A83+$A$11,IF($C$7,8,0),1,1)","v":203.15},201.08459999999997,1,0,false,null,{"$error":"#N/A"},212]
[52,{"$f":"OFFSET(InputPriceData!B$15,CalculationsAndCharts!$A84+$A$11,0,1,1)","v":"2015-02-04"},{"$f":"OFFSET(InputPriceData!G$15,CalculationsAndCharts!$A84+$A$11,IF($C$7,8,0),1,1)","v":1784300},{"$f":"OFFSET(InputPriceData!C$15,CalculationsAndCharts!$A84+$A$11,IF($C$7,8,0),1,1)","v":147.47999999999999},{"$f":"OFFSET(InputPriceData!D$15,CalculationsAndCharts!$A84+$A$11,IF($C$7,8,0),1,1)","v":152.16999999999999},{"$f":"OFFSET(InputPriceData!E$15,CalculationsAndCharts!$A84+$A$11,IF($C$7,8,0),1,1)","v":144.59},{"$f":"OFFSET(InputPriceData!F$15,CalculationsAndCharts!$A84+$A$11,IF($C$7,8,0),1,1)","v":149.84},129.9221,144.08040000000003,148.0205,149.92374999999998,145.90249999999997,1784300,{"$error":"#N/A"},false,"DOWN",false,{"$error":"#N/A"},{"$error":"#N/A"},false,false,false,false,false,false,{"$error":"#N/A"},false,{"$error":"#N/A"},false,false,false,false,false,false,{"$error":"#N/A"},129.9221,144.08040000000003,148.0205,149.92374999999998,145.90249999999997,null,{"$f":"OFFSET(InputIndexData!F$15,CalculationsAndCharts!$A84+$A$11,IF($C$7,8,0),1,1)","v":201.12},201.07339999999999,-1,-0.5,false,null,{"$error":"#N/A"},212]
[53,{"$f":"OFFSET(InputPriceData!B$15,CalculationsAndCharts!$A85+$A$11,0,1,1)","v":"2015-02-03"},{"$f":"OFFSET(InputPriceData!G$15,CalculationsAndCharts!$A85+$A$11,IF($C$7,8,0),1,1)","v":1241400},{"$f":"OFFSET(InputPriceData!C$15,CalculationsAndCharts!$A85+$A$11,IF($C$7,8,0),1,1)","v":145.28},{"$f":"OFFSET(InputPriceData!D$15,CalculationsAndCharts!$A85+$A$11,IF($C$7,8,0),1,1)","v":148.06},{"$f":"OFFSET(InputPriceData!E$15,CalculationsAndCharts!$A85+$A$11,IF($C$7,8,0),1,1)","v":143.69999999999999},{"$f":"OFFSET(InputPriceData!F$15,CalculationsAndCharts!$A85+$A$11,IF($C$7,8,0),1,1)","v":147.88999999999999},129.69410000000002,143.78960000000004,147.45050000000001,150.22499999999999,146.66249999999999,1241400,{"$error":"#N/A"},false,"DOWN",false,{"$error":"#N/A"},{"$error":"#N/A"},false,false,false,false,false,false,{"$error":"#N/A"},false,{"$error":"#N/A"},false,false,false,false,false,false,{"$error":"#N/A"},129.69410000000002,143.78960000000004,147.45050000000001,150.22499999999999,146.66249999999999,null,{"$f":"OFFSET(InputIndexData!F$15,CalculationsAndCharts!$A85+$A$11,IF($C$7,8,0),1,1)","v":201.89},201.08120000000002,1,-0.5,false,null,{"$error":"#N/A"},212]
[54,{"$f":"OFFSET(InputPriceData!B$15,CalculationsAndCharts!$A86+$A$11,0,1,1)","v":"2015-02-02"},{"$f":"OFFSET(InputPriceData!G$15,CalculationsAndCharts!$A86+$A$11,IF($C$7,8,0),1,1)","v":1538800},{"$f":"OFFSET(InputPriceData!C$15,CalculationsAndCharts!$A86+$A$11,IF($C$7,8,0),1,1)","v":146.19999999999999},{"$f":"OFFSET(InputPriceData!D$15,CalculationsAndCharts!$A86+$A$11,IF($C$7,8,0),1,1)","v":146.41999999999999},{"$f":"OFFSET(InputPriceData!E$15,CalculationsAndCharts!$A86+$A$11,IF($C$7,8,0),1,1)","v":142.77000000000001},{"$f":"OFFSET(InputPriceData!F$15,CalculationsAndCharts!$A86+$A$11,IF($C$7,8,0),1,1)","v":145.30000000000001},129.47264999999999,143.54500000000004,146.98349999999999,150.935,147.56125000000003,{"$error":"#N/A"},1538800,false,"DOWN",false,{"$error":"#N/A"},{"$error":"#N/A"},false,false,false,false,false,false,{"$error":"#N/A"},false,{"$error":"#N/A"},false,false,false,false,false,false,{"$error":"#N/A"},129.47264999999999,143.54500000000004,146.98349999999999,150.935,147.56125000000003,null,{"$f":"OFFSET(InputIndexData!F$15,CalculationsAndCharts!$A86+$A$11,IF($C$7,8,0),1,1)","v":199.01},201.06660000000002,-1,-1,false,null,{"$error":"#N/A"},212]
[55,{"$f":"OFFSET(InputPriceData!B$15,CalculationsAndCharts!$A87+$A$11,0,1,1)","v":"2015-01-30"},{"$f":"OFFSET(InputPriceData!G$15,CalculationsAndCharts!$A87+$A$11,IF($C$7,8,0),1,1)","v":1005800},{"$f":"OFFSET(InputPriceData!C$15,CalculationsAndCharts!$A87+$A$11,IF($C$7,8,0),1,1)","v":147.33000000000001},{"$f":"OFFSET(InputPriceData!D$15,CalculationsAndCharts!$A87+$A$11,IF($C$7,8,0),1,1)","v":148.94999999999999},{"$f":"OFFSET(InputPriceData!E$15,CalculationsAndCharts!$A87+$A$11,IF($C$7,8,0),1,1)","v":145.28},{"$f":"OFFSET(InputPriceData!F$15,CalculationsAndCharts!$A87+$A$11,IF($C$7,8,0),1,1)","v":145.76},129.28424999999999,143.40640000000005,146.83450000000005,151.84,148.27000000000001,{"$error":"#N/A"},1005800,false,"DOWN",false,{"$error":"#N/A"},{"$error":"#N/A"},false,false,false,false,false,false,{"$error":"#N/A"},false,{"$error":"#N/A"},false,false,false,false,false,false,{"$error":"#N/A"},129.28424999999999,143.40640000000005,146.83450000000005,151.84,148.27000000000001,null,{"$f":"OFFSET(InputIndexData!F$15,CalculationsAndCharts!$A87+$A$11,IF($C$7,8,0),1,1)","v":196.58},201.11600000000007,-1,-1,false,null,{"$error":"#N/A"},212]
[56,{"$f":"OFFSET(InputPriceData!B$15,CalculationsAndCharts!$A88+$A$11,0,1,1)","v":"2015-01-29"},{"$f":"OFFSET(InputPriceData!G$15,CalculationsAndCharts!$A88+$A$11,IF($C$7,8,0),1,1)","v":915300},{"$f":"OFFSET(InputPriceData!C$15,CalculationsAndCharts!$A88+$A$11,IF($C$7,8,0),1,1)","v":148.31},{"$f":"OFFSET(InputPriceData!D$15,CalculationsAndCharts!$A88+$A$11,IF($C$7,8,0),1,1)","v":149.26},{"$f":"OFFSET(InputPriceData!E$15,CalculationsAndCharts!$A88+$A$11,IF($C$7,8,0),1,1)","v":145.52000000000001},{"$f":"OFFSET(InputPriceData!F$15,CalculationsAndCharts!$A88+$A$11,IF($C$7,8,0),1,1)","v":148.91999999999999},129.09774999999999,143.22260000000003,146.69450000000001,152.02375000000004,148.39875000000001,915300,{"$error":"#N/A"},false,"DOWN",false,{"$error":"#N/A"},{"$error":"#N/A"},false,false,false,false,false,true,189.20000000000002,false,{"$error":"#N/A"},false,false,false,false,false,false,{"$error":"#N/A"},129.09774999999999,143.22260000000003,146.69450000000001,152.02375000000004,148.39875000000001,null,{"$f":"OFFSET(InputIndexData!F$15,CalculationsAndCharts!$A88+$A$11,IF($C$7,8,0),1,1)","v":199.08},201.19080000000002,-1,-0.5,false,null,{"$error":"#N/A"},212]
[57,{"$f":"OFFSET(InputPriceData!B$15,CalculationsAndCharts!$A89+$A$11,0,1,1)","v":"2015-01-28"},{"$f":"OFFSET(InputPriceData!G$15,CalculationsAndCharts!$A89+$A$11,IF($C$7,8,0),1,1)","v":982100},{"$f":"OFFSET(InputPriceData!C$15,CalculationsAndCharts!$A89+$A$11,IF($C$7,8,0),1,1)","v":150.88999999999999},{"$f":"OFFSET(InputPriceData!D$15,CalculationsAndCharts!$A89+$A$11,IF($C$7,8,0),1,1)","v":151.59},{"$f":"OFFSET(InputPriceData!E$15,CalculationsAndCharts!$A89+$A$11,IF($C$7,8,0),1,1)","v":147.80000000000001},{"$f":"OFFSET(InputPriceData!F$15,CalculationsAndCharts!$A89+$A$11,IF($C$7,8,0),1,1)","v":148.22},128.89344999999997,142.9418,146.50300000000001,152.03625,148.47749999999999,{"$error":"#N/A"},982100,false,"DOWN",true,{"$error":"#N/A"},148.22,true,false,false,true,true,false,189.20000000000002,false,{"$error":"#N/A"},false,false,false,false,false,false,{"$error":"#N/A"},128.89344999999997,142.9418,146.50300000000001,152.03625,148.47749999999999,null,{"$f":"OFFSET(InputIndexData!F$15,CalculationsAndCharts!$A89+$A$11,IF($C$7,8,0),1,1)","v":197.26},201.2132,-1,0,true,null,212,{"$error":"#N/A"}]
[58,{"$f":"OFFSET(InputPriceData!B$15,CalculationsAndCharts!$A90+$A$11,0,1,1)","v":"2015-01-27"},{"$f":"OFFSET(InputPriceData!G$15,CalculationsAndCharts!$A90+$A$11,IF($C$7,8,0),1,1)","v":634100},{"$f":"OFFSET(InputPriceData!C$15,CalculationsAndCharts!$A90+$A$11,IF($C$7,8,0),1,1)","v":150.35},{"$f":"OFFSET(InputPriceData!D$15,CalculationsAndCharts!$A90+$A$11,IF($C$7,8,0),1,1)","v":151.34},{"$f":"OFFSET(InputPriceData!E$15,CalculationsAndCharts!$A90+$A$11,IF($C$7,8,0),1,1)","v":149.35},{"$f":"OFFSET(InputPriceData!F$15,CalculationsAndCharts!$A90+$A$11,IF($C$7,8,0),1,1)","v":150.05000000000001},128.68729999999996,142.72740000000002,146.28250000000003,151.71999999999997,148.3475,{"$error":"#N/A"},634100,false,"UP",false,{"$error":"#N/A"},{"$error":"#N/A"},true,false,false,true,false,false,189.20000000000002,false,{"$error":"#N/A"},false,false,false,false,false,false,{"$error":"#N/A"},128.68729999999996,142.72740000000002,146.28250000000003,151.71999999999997,148.3475,null,{"$f":"OFFSET(InputIndexData!F$15,CalculationsAndCharts!$A90+$A$11,IF($C$7,8,0),1,1)","v":199.82},201.27100000000002,-1,0.5,true,null,212,{"$error":"#N/A"}]
[59,{"$f":"OFFSET(InputPriceData!B$15,CalculationsAndCharts!$A91+$A$11,0,1,1)","v":"2015-01-26"},{"$f":"OFFSET(InputPriceData!G$15,CalculationsAndCharts!$A91+$A$11,IF($C$7,8,0),1,1)","v":822700},{"$f":"OFFSET(InputPriceData!C$15,CalculationsAndCharts!$A91+$A$11,IF($C$7,8,0),1,1)","v":150.27000000000001},{"$f":"OFFSET(InputPriceData!D$15,CalculationsAndCharts!$A91+$A$11,IF($C$7,8,0),1,1)","v":151.6},{"$f":"OFFSET(InputPriceData!E$15,CalculationsAndCharts!$A91+$A$11,IF($C$7,8,0),1,1)","v":148.21},{"$f":"OFFSET(InputPriceData!F$15,CalculationsAndCharts!$A91+$A$11,IF($C$7,8,0),1,1)","v":151.29},128.47939999999997,142.45339999999999,145.98599999999999,151.1825,147.65624999999997,822700,{"$error":"#N/A"},false,"UP",false,{"$error":"#N/A"},{"$error":"#N/A"},true,false,false,true,false,false,189.20000000000002,false,{"$error":"#N/A"},false,false,false,false,false,false,{"$error":"#N/A"},128.47939999999997,142.45339999999999,145.98599999999999,151.1825,147.65624999999997,null,{"$f":"OFFSET(InputIndexData!F$15,CalculationsAndCharts!$A91+$A$11,IF($C$7,8,0),1,1)","v":202.49},201.273,1,1,true,null,212,{"$error":"#N/A"}]
[60,{"$f":"OFFSET(InputPriceData!B$15,CalculationsAndCharts!$A92+$A$11,0,1,1)","v":"2015-01-23"},{"$f":"OFFSET(InputPriceData!G$15,CalculationsAndCharts!$A92+$A$11,IF($C$7,8,0),1,1)","v":659400},{"$f":"OFFSET(InputPriceData!C$15,CalculationsAndCharts!$A92+$A$11,IF($C$7,8,0),1,1)","v":153.22},{"$f":"OFFSET(InputPriceData!D$15,CalculationsAndCharts!$A92+$A$11,IF($C$7,8,0),1,1)","v":154.58000000000001},{"$f":"OFFSET(InputPriceData!E$15,CalculationsAndCharts!$A92+$A$11,IF($C$7,8,0),1,1)","v":150.66999999999999},{"$f":"OFFSET(InputPriceData!F$15,CalculationsAndCharts!$A92+$A$11,IF($C$7,8,0),1,1)","v":150.76},128.28624999999997,142.13839999999999,145.59299999999999,150.79874999999998,147.26749999999998,{"$error":"#N/A"},659400,false,"UP",false,{"$error":"#N/A"},{"$error":"#N/A"},true,false,false,true,false,false,189.20000000000002,false,{"$error":"#N/A"},false,false,false,false,false,false,{"$error":"#N/A"},128.28624999999997,142.13839999999999,145.59299999999999,150.79874999999998,147.26749999999998,null,{"$f":"OFFSET(InputIndexData!F$15,CalculationsAndCharts!$A92+$A$11,IF($C$7,8,0),1,1)","v":202.02},201.226,1,1,true,null,212,{"$error":"#N/A"}]
[61,{"$f":"OFFSET(InputPriceData!B$15,CalculationsAndCharts!$A93+$A$11,0,1,1)","v":"2015-01-22"},{"$f":"OFFSET(InputPriceData!G$15,CalculationsAndCharts!$A93+$A$11,IF($C$7,8,0),1,1)","v":988800},{"$f":"OFFSET(InputPriceData!C$15,CalculationsAndCharts!$A93+$A$11,IF($C$7,8,0),1,1)","v":152.99},{"$f":"OFFSET(InputPriceData!D$15,CalculationsAndCharts!$A93+$A$11,IF($C$7,8,0),1,1)","v":153.74},{"$f":"OFFSET(InputPriceData!E$15,CalculationsAndCharts!$A93+$A$11,IF($C$7,8,0),1,1)","v":150.88999999999999},{"$f":"OFFSET(InputPriceData!F$15,CalculationsAndCharts!$A93+$A$11,IF($C$7,8,0),1,1)","v":152.93},128.08274999999995,141.755,145.24199999999996,149.85249999999999,146.45874999999998,{"$error":"#N/A"},988800,false,"UP",false,{"$error":"#N/A"},{"$error":"#N/A"},true,false,false,true,false,false,189.20000000000002,false,{"$error":"#N/A"},false,false,false,false,false,false,{"$error":"#N/A"},128.08274999999995,141.755,145.24199999999996,149.85249999999999,146.45874999999998,null,{"$f":"OFFSET(InputIndexData!F$15,CalculationsAndCharts!$A93+$A$11,IF($C$7,8,0),1,1)","v":203.13},201.18439999999998,1,1,true,null,212,{"$error":"#N/A"}]
[62,{"$f":"OFFSET(InputPriceData!B$15,CalculationsAndCharts!$A94+$A$11,0,1,1)","v":"2015-01-21"},{"$f":"OFFSET(InputPriceData!G$15,CalculationsAndCharts!$A94+$A$11,IF($C$7,8,0),1,1)","v":1642900},{"$f":"OFFSET(InputPriceData!C$15,CalculationsAndCharts!$A94+$A$11,IF($C$7,8,0),1,1)","v":148.72999999999999},{"$f":"OFFSET(InputPriceData!D$15,CalculationsAndCharts!$A94+$A$11,IF($C$7,8,0),1,1)","v":153.66},{"$f":"OFFSET(InputPriceData!E$15,CalculationsAndCharts!$A94+$A$11,IF($C$7,8,0),1,1)","v":148.44},{"$f":"OFFSET(InputPriceData!F$15,CalculationsAndCharts!$A94+$A$11,IF($C$7,8,0),1,1)","v":152.57},127.87199999999996,141.29079999999999,144.86449999999999,149.05624999999998,145.83375000000001,1642900,{"$error":"#N/A"},false,"UP",false,{"$error":"#N/A"},{"$error":"#N/A"},true,false,false,true,false,false,189.20000000000002,false,{"$error":"#N/A"},false,false,false,false,false,false,{"$error":"#N/A"},127.87199999999996,141.29079999999999,144.86449999999999,149.05624999999998,145.83375000000001,null,{"$f":"OFFSET(InputIndexData!F$15,CalculationsAndCharts!$A94+$A$11,IF($C$7,8,0),1,1)","v":200.16},201.108,1,0.5,true,null,212,{"$error":"#N/A"}]
[63,{"$f":"OFFSET(InputPriceData!B$15,CalculationsAndCharts!$A95+$A$11,0,1,1)","v":"2015-01-20"},{"$f":"OFFSET(InputPriceData!G$15,CalculationsAndCharts!$A95+$A$11,IF($C$7,8,0),1,1)","v":1659000},{"$f":"OFFSET(InputPriceData!C$15,CalculationsAndCharts!$A95+$A$11,IF($C$7,8,0),1,1)","v":150.16},{"$f":"OFFSET(InputPriceData!D$15,CalculationsAndCharts!$A95+$A$11,IF($C$7,8,0),1,1)","v":150.41999999999999},{"$f":"OFFSET(InputPriceData!E$15,CalculationsAndCharts!$A95+$A$11,IF($C$7,8,0),1,1)","v":146.31},{"$f":"OFFSET(InputPriceData!F$15,CalculationsAndCharts!$A95+$A$11,IF($C$7,8,0),1,1)","v":148.28},127.66409999999996,141.01839999999999,144.51149999999998,148.31125,145.14749999999998,{"$error":"#N/A"},1659000,false,"UP",false,{"$error":"#N/A"},{"$error":"#N/A"},true,false,false,true,false,false,189.20000000000002,false,{"$error":"#N/A"},false,false,false,false,false,false,{"$error":"#N/A"},127.66409999999996,141.01839999999999,144.51149999999998,148.31125,145.14749999999998,null,{"$f":"OFFSET(InputIndexData!F$15,CalculationsAndCharts!$A95+$A$11,IF($C$7,8,0),1,1)","v":199.15},201.0874,1,0.5,true,null,212,{"$error":"#N/A"}]
[64,{"$f":"OFFSET(InputPriceData!B$15,CalculationsAndCharts!$A96+$A$11,0,1,1)","v":"2015-01-16"},{"$f":"OFFSET(InputPriceData!G$15,CalculationsAndCharts!$A96+$A$11,IF($C$7,8,0),1,1)","v":816300},{"$f":"OFFSET(InputPriceData!C$15,CalculationsAndCharts!$A96+$A$11,IF($C$7,8,0),1,1)","v":147.13999999999999},{"$f":"OFFSET(InputPriceData!D$15,CalculationsAndCharts!$A96+$A$11,IF($C$7,8,0),1,1)","v":149.36000000000001},{"$f":"OFFSET(InputPriceData!E$15,CalculationsAndCharts!$A96+$A$11,IF($C$7,8,0),1,1)","v":146.15},{"$f":"OFFSET(InputPriceData!F$15,CalculationsAndCharts!$A96+$A$11,IF($C$7,8,0),1,1)","v":149.24},127.48694999999994,140.81339999999997,144.50200000000001,147.20624999999998,144.24374999999998,816300,{"$error":"#N/A"},false,"UP",false,{"$error":"#N/A"},{"$error":"#N/A"},true,false,false,true,false,false,189.20000000000002,false,{"$error":"#N/A"},false,false,false,false,false,false,{"$error":"#N/A"},127.48694999999994,140.81339999999997,144.50200000000001,147.20624999999998,144.24374999999998,null,{"$f":"OFFSET(InputIndexData!F$15,CalculationsAndCharts!$A96+$A$11,IF($C$7,8,0),1,1)","v":198.73},201.071,1,0.5,true,null,212,{"$error":"#N/A"}]
[65,{"$f":"OFFSET(InputPriceData!B$15,CalculationsAndCharts!$A97+$A$11,0,1,1)","v":"2015-01-15"},{"$f":"OFFSET(InputPriceData!G$15,CalculationsAndCharts!$A97+$A$11,IF($C$7,8,0),1,1)","v":882400},{"$f":"OFFSET(InputPriceData!C$15,CalculationsAndCharts!$A97+$A$11,IF($C$7,8,0),1,1)","v":147.21},{"$f":"OFFSET(InputPriceData!D$15,CalculationsAndCharts!$A97+$A$11,IF($C$7,8,0),1,1)","v":149.06},{"$f":"OFFSET(InputPriceData!E$15,CalculationsAndCharts!$A97+$A$11,IF($C$7,8,0),1,1)","v":146.76},{"$f":"OFFSET(InputPriceData!F$15,CalculationsAndCharts!$A97+$A$11,IF($C$7,8,0),1,1)","v":147.22999999999999},{"$f":"AVERAGE(OFFSET(G97,0,0,$A$17,1))","v":127.29549999999993},{"$f":"AVERAGE(OFFSET(G97,0,0,$A$18,1))","v":140.56539999999998},{"$f":"AVERAGE(OFFSET(G97,0,0,$A$19,1))","v":144.15950000000001},{"$f":"AVERAGE(OFFSET(E97,0,0,$A$20,1))","v":146.13999999999999},{"$f":"AVERAGE(OFFSET(F97,0,0,$A$21,1))","v":143.07624999999999},882400,{"$error":"#N/A"},{"$f":"AND(G98<=K98,G97>K97,OR(P98=\"DOWN\",P98=0))","v":false},{"$f":"IF(AND(OR(P98=0,P98=\"UP\"),Q97),\"DOWN\",IF(AND(OR(P98=0,P98=\"DOWN\"),O97),\"UP\",P98))","v":"UP"},{"$f":"AND(G98>=L98,G97<L97,OR(P98=0,P98=\"UP\"))","v":false},{"$error":"#N/A"},{"$error":"#N/A"},true,{"$f":"AND(T97,O97)","v":false},{"$f":"U98","v":false},{"$f":"IF(V97,TRUE,IF(X98,FALSE,W98))","v":true},{"$f":"AND(W97,Q97)","v":false},{"$f":"X98","v":false},{"$f":"IF(AND(NOT(AA97),OR(W97,Y97)),$F$11,NA())","v":189.20000000000002},false,{"$error":"#N/A"},false,{"$f":"AND(AC97,Q97)","v":false},{"$f":"AD98","v":false},false,false,{"$f":"AG98","v":false},{"$f":"IF(AND(NOT(AA97),OR(AF97,AH97)),$F$11,NA())","v":{"$error":"#N/A"}},127.29549999999993,140.56539999999998,144.15950000000001,146.13999999999999,143.07624999999999,null,{"$f":"OFFSET(InputIndexData!F$15,CalculationsAndCharts!$A97+$A$11,IF($C$7,8,0),1,1)","v":196.16},201.03819999999999,-1,0.5,true,null,{"$f":"IF(AT97,$AR$26,NA())","v":212},{"$f":"IF(AT97,NA(),$AR$26)","v":{"$error":"#N/A"}}]
[66,{"$f":"OFFSET(InputPriceData!B$15,CalculationsAndCharts!$A98+$A$11,0,1,1)","v":"2015-01-14"},{"$f":"OFFSET(InputPriceData!G$15,CalculationsAndCharts!$A98+$A$11,IF($C$7,8,0),1,1)","v":945600},{"$f":"OFFSET(InputPriceData!C$15,CalculationsAndCharts!$A98+$A$11,IF($C$7,8,0),1,1)","v":144.57},{"$f":"OFFSET(InputPriceData!D$15,CalculationsAndCharts!$A98+$A$11,IF($C$7,8,0),1,1)","v":147.04},{"$f":"OFFSET(InputPriceData!E$15,CalculationsAndCharts!$A98+$A$11,IF($C$7,8,0),1,1)","v":143.82},{"$f":"OFFSET(InputPriceData!F$15,CalculationsAndCharts!$A98+$A$11,IF($C$7,8,0),1,1)","v":146.86000000000001},127.11954999999995,140.37220000000002,143.80900000000003,145.27000000000001,141.98625000000001,{"$f":"IF(D98<=G98,C98,NA())","v":945600},{"$f":"IF(D98<=G98,NA(),C98)","v":{"$error":"#N/A"}},false,"UP",false,{"$error":"#N/A"},{"$error":"#N/A"},{"$f":"AND(OR(NOT($R$11),AT98),OR(NOT($R$12),J98>=I98),OR(NOT($R$13),I98>=H98),OR(NOT($R$14),G98>=I98))","v":true},false,false,true,false,false,189.20000000000002,false,{"$error":"#N/A"},{"$f":"AND(   OR(NOT($R$11),NOT(AT98)),   OR(NOT($R$12),J98<=I98),   OR(NOT($R$13),I98<=H98),   OR(NOT($R$14),G98<=I98)   )","v":false},false,false,{"$f":"IF(AE98,TRUE,IF(AG99,FALSE,AF99))","v":false},{"$f":"AND(AF98,O98)","v":false},false,{"$error":"#N/A"},{"$f":"IF($R$3,H98,NA())","v":127.11954999999995},{"$f":"IF($R$4,I98,NA())","v":140.37220000000002},{"$f":"IF($R$5,J98,NA())","v":143.80900000000003},{"$f":"IF($R$6,K98,NA())","v":145.27000000000001},{"$f":"IF($R$6,L98,NA())","v":141.98625000000001},null,{"$f":"OFFSET(InputIndexData!F$15,CalculationsAndCharts!$A98+$A$11,IF($C$7,8,0),1,1)","v":197.97},{"$f":"AVERAGE(OFFSET(AP98,0,0,$D$17,1))","v":201.07060000000001},{"$f":"IF(AQ98-AQ99>=0,1,-1)","v":1},{"$f":"AVERAGE(OFFSET(AR98,0,0,$D$18,1))","v":1},{"$f":"OR(AS98>0,AND(AS98=0,AS99>0))","v":true},null,212,{"$error":"#N/A"}]
[67,{"$f":"OFFSET(InputPriceData!B$15,CalculationsAndCharts!$A99+$A$11,0,1,1)","v":"2015-01-13"},{"$f":"OFFSET(InputPriceData!G$15,CalculationsAndCharts!$A99+$A$11,IF($C$7,8,0),1,1)","v":794100},{"$f":"OFFSET(InputPriceData!C$15,CalculationsAndCharts!$A99+$A$11,IF($C$7,8,0),1,1)","v":146.56},{"$f":"OFFSET(InputPriceData!D$15,CalculationsAndCharts!$A99+$A$11,IF($C$7,8,0),1,1)","v":148.53},{"$f":"OFFSET(InputPriceData!E$15,CalculationsAndCharts!$A99+$A$11,IF($C$7,8,0),1,1)","v":145.1},{"$f":"OFFSET(InputPriceData!F$15,CalculationsAndCharts!$A99+$A$11,IF($C$7,8,0),1,1)","v":146.16},126.94274999999995,140.19379999999998,143.57299999999998,145.11875000000001,141.6,{"$error":"#N/A"},794100,false,"UP",false,{"$error":"#N/A"},{"$error":"#N/A"},true,false,false,true,false,false,189.20000000000002,false,{"$error":"#N/A"},false,false,false,false,false,false,{"$error":"#N/A"},126.94274999999995,140.19379999999998,143.57299999999998,145.11875000000001,141.6,null,{"$f":"OFFSET(InputIndexData!F$15,CalculationsAndCharts!$A99+$A$11,IF($C$7,8,0),1,1)","v":199.17},201.06459999999998,1,1,true,null,212,{"$error":"#N/A"}]
[68,{"$f":"OFFSET(InputPriceData!B$15,CalculationsAndCharts!$A100+$A$11,0,1,1)","v":"2015-01-12"},{"$f":"OFFSET(InputPriceData!G$15,CalculationsAndCharts!$A100+$A$11,IF($C$7,8,0),1,1)","v":788100},{"$f":"OFFSET(InputPriceData!C$15,CalculationsAndCharts!$A100+$A$11,IF($C$7,8,0),1,1)","v":145.97999999999999},{"$f":"OFFSET(InputPriceData!D$15,CalculationsAndCharts!$A100+$A$11,IF($C$7,8,0),1,1)","v":147.01},{"$f":"OFFSET(InputPriceData!E$15,CalculationsAndCharts!$A100+$A$11,IF($C$7,8,0),1,1)","v":144.19999999999999},{"$f":"OFFSET(InputPriceData!F$15,CalculationsAndCharts!$A100+$A$11,IF($C$7,8,0),1,1)","v":144.83000000000001},126.77119999999995,139.99619999999999,143.39799999999997,144.98375000000001,141.31375,{"$error":"#N/A"},788100,false,"UP",false,{"$error":"#N/A"},{"$error":"#N/A"},true,false,false,true,false,false,189.20000000000002,false,{"$error":"#N/A"},false,false,false,false,false,false,{"$error":"#N/A"},126.77119999999995,139.99619999999999,143.39799999999997,144.98375000000001,141.31375,null,{"$f":"OFFSET(InputIndexData!F$15,CalculationsAndCharts!$A100+$A$11,IF($C$7,8,0),1,1)","v":199.73},200.9898,1,1,true,null,212,{"$error":"#N/A"}]
[69,{"$f":"OFFSET(InputPriceData!B$15,CalculationsAndCharts!$A101+$A$11,0,1,1)","v":"2015-01-09"},{"$f":"OFFSET(InputPriceData!G$15,CalculationsAndCharts!$A101+$A$11,IF($C$7,8,0),1,1)","v":1221300},{"$f":"OFFSET(InputPriceData!C$15,CalculationsAndCharts!$A101+$A$11,IF($C$7,8,0),1,1)","v":146.65},{"$f":"OFFSET(InputPriceData!D$15,CalculationsAndCharts!$A101+$A$11,IF($C$7,8,0),1,1)","v":147.37},{"$f":"OFFSET(InputPriceData!E$15,CalculationsAndCharts!$A101+$A$11,IF($C$7,8,0),1,1)","v":145.88999999999999},{"$f":"OFFSET(InputPriceData!F$15,CalculationsAndCharts!$A101+$A$11,IF($C$7,8,0),1,1)","v":146.07},126.60124999999995,139.7808,143.23349999999996,144.79000000000002,141.22375,{"$error":"#N/A"},1221300,false,"UP",false,{"$error":"#N/A"},{"$error":"#N/A"},true,false,true,true,false,false,189.20000000000002,false,{"$error":"#N/A"},false,false,false,false,false,false,{"$error":"#N/A"},126.60124999999995,139.7808,143.23349999999996,144.79000000000002,141.22375,null,{"$f":"OFFSET(InputIndexData!F$15,CalculationsAndCharts!$A101+$A$11,IF($C$7,8,0),1,1)","v":201.31},200.87900000000002,1,1,true,null,212,{"$error":"#N/A"}]
[70,{"$f":"OFFSET(InputPriceData!B$15,CalculationsAndCharts!$A102+$A$11,0,1,1)","v":"2015-01-08"},{"$f":"OFFSET(InputPriceData!G$15,CalculationsAndCharts!$A102+$A$11,IF($C$7,8,0),1,1)","v":1350000},{"$f":"OFFSET(InputPriceData!C$15,CalculationsAndCharts!$A102+$A$11,IF($C$7,8,0),1,1)","v":142.94999999999999},{"$f":"OFFSET(InputPriceData!D$15,CalculationsAndCharts!$A102+$A$11,IF($C$7,8,0),1,1)","v":147.69999999999999},{"$f":"OFFSET(InputPriceData!E$15,CalculationsAndCharts!$A102+$A$11,IF($C$7,8,0),1,1)","v":142.94999999999999},{"$f":"OFFSET(InputPriceData!F$15,CalculationsAndCharts!$A102+$A$11,IF($C$7,8,0),1,1)","v":147.13999999999999},126.42809999999994,139.53619999999998,142.95549999999997,144.46250000000001,140.78500000000003,1350000,{"$error":"#N/A"},true,"UP",false,147.13999999999999,{"$error":"#N/A"},true,true,false,false,false,false,{"$error":"#N/A"},false,{"$error":"#N/A"},false,false,false,false,false,false,{"$error":"#N/A"},126.42809999999994,139.53619999999998,142.95549999999997,144.46250000000001,140.78500000000003,null,{"$f":"OFFSET(InputIndexData!F$15,CalculationsAndCharts!$A102+$A$11,IF($C$7,8,0),1,1)","v":202.94},200.74239999999998,1,1,true,null,212,{"$error":"#N/A"}]
[71,{"$f":"OFFSET(InputPriceData!B$15,CalculationsAndCharts!$A103+$A$11,0,1,1)","v":"2015-01-07"},{"$f":"OFFSET(InputPriceData!G$15,CalculationsAndCharts!$A103+$A$11,IF($C$7,8,0),1,1)","v":877400},{"$f":"OFFSET(InputPriceData!C$15,CalculationsAndCharts!$A103+$A$11,IF($C$7,8,0),1,1)","v":139.08000000000001},{"$f":"OFFSET(InputPriceData!D$15,CalculationsAndCharts!$A103+$A$11,IF($C$7,8,0),1,1)","v":141.58000000000001},{"$f":"OFFSET(InputPriceData!E$15,CalculationsAndCharts!$A103+$A$11,IF($C$7,8,0),1,1)","v":139.08000000000001},{"$f":"OFFSET(InputPriceData!F$15,CalculationsAndCharts!$A103+$A$11,IF($C$7,8,0),1,1)","v":141.07},126.25584999999994,139.23059999999998,142.72399999999999,144.0975,140.83625000000001,877400,{"$error":"#N/A"},false,"DOWN",false,{"$error":"#N/A"},{"$error":"#N/A"},true,false,false,false,false,false,{"$error":"#N/A"},false,{"$error":"#N/A"},false,false,false,false,false,false,{"$error":"#N/A"},126.25584999999994,139.23059999999998,142.72399999999999,144.0975,140.83625000000001,null,{"$f":"OFFSET(InputIndexData!F$15,CalculationsAndCharts!$A103+$A$11,IF($C$7,8,0),1,1)","v":199.4},200.52920000000003,1,1,true,null,212,{"$error":"#N/A"}]
[72,{"$f":"OFFSET(InputPriceData!B$15,CalculationsAndCharts!$A104+$A$11,0,1,1)","v":"2015-01-06"},{"$f":"OFFSET(InputPriceData!G$15,CalculationsAndCharts!$A104+$A$11,IF($C$7,8,0),1,1)","v":1770100},{"$f":"OFFSET(InputPriceData!C$15,CalculationsAndCharts!$A104+$A$11,IF($C$7,8,0),1,1)","v":139.56},{"$f":"OFFSET(InputPriceData!D$15,CalculationsAndCharts!$A104+$A$11,IF($C$7,8,0),1,1)","v":140.83000000000001},{"$f":"OFFSET(InputPriceData!E$15,CalculationsAndCharts!$A104+$A$11,IF($C$7,8,0),1,1)","v":136.81},{"$f":"OFFSET(InputPriceData!F$15,CalculationsAndCharts!$A104+$A$11,IF($C$7,8,0),1,1)","v":138.44},126.11194999999994,139.0538,142.85149999999999,144.43375,141.35625000000002,{"$error":"#N/A"},1770100,false,"DOWN",false,{"$error":"#N/A"},{"$error":"#N/A"},false,false,false,false,false,false,{"$error":"#N/A"},false,{"$f":"IF(AA104,$F$11,NA())","v":{"$error":"#N/A"}},false,false,false,false,false,false,{"$error":"#N/A"},126.11194999999994,139.0538,142.85149999999999,144.43375,141.35625000000002,null,{"$f":"OFFSET(InputIndexData!F$15,CalculationsAndCharts!$A104+$A$11,IF($C$7,8,0),1,1)","v":196.94},200.39200000000005,1,1,true,null,212,{"$error":"#N/A"}]
[73,{"$f":"OFFSET(InputPriceData!B$15,CalculationsAndCharts!$A105+$A$11,0,1,1)","v":"2015-01-05"},{"$f":"OFFSET(InputPriceData!G$15,CalculationsAndCharts!$A105+$A$11,IF($C$7,8,0),1,1)","v":1686700},{"$f":"OFFSET(InputPriceData!C$15,CalculationsAndCharts!$A105+$A$11,IF($C$7,8,0),1,1)","v":141.03},{"$f":"OFFSET(InputPriceData!D$15,CalculationsAndCharts!$A105+$A$11,IF($C$7,8,0),1,1)","v":142.1},{"$f":"OFFSET(InputPriceData!E$15,CalculationsAndCharts!$A105+$A$11,IF($C$7,8,0),1,1)","v":138.04},{"$f":"OFFSET(InputPriceData!F$15,CalculationsAndCharts!$A105+$A$11,IF($C$7,8,0),1,1)","v":138.55000000000001},125.99694999999993,138.92019999999999,143.09800000000001,145.21375,142.10374999999999,{"$error":"#N/A"},1686700,false,"DOWN",false,{"$f":"IF(O105,G105,NA())","v":{"$error":"#N/A"}},{"$f":"IF(Q105,G105,NA())","v":{"$error":"#N/A"}},false,false,false,false,false,false,{"$error":"#N/A"},false,{"$error":"#N/A"},false,false,false,false,false,false,{"$error":"#N/A"},125.99694999999993,138.92019999999999,143.09800000000001,145.21375,142.10374999999999,null,{"$f":"OFFSET(InputIndexData!F$15,CalculationsAndCharts!$A105+$A$11,IF($C$7,8,0),1,1)","v":198.82},200.27460000000008,1,1,true,null,212,{"$error":"#N/A"}]
[74,{"$f":"OFFSET(InputPriceData!B$15,CalculationsAndCharts!$A106+$A$11,0,1,1)","v":"2015-01-02"},{"$f":"OFFSET(InputPriceData!G$15,CalculationsAndCharts!$A106+$A$11,IF($C$7,8,0),1,1)","v":982800},{"$f":"OFFSET(InputPriceData!C$15,CalculationsAndCharts!$A106+$A$11,IF($C$7,8,0),1,1)","v":144.28},{"$f":"OFFSET(InputPriceData!D$15,CalculationsAndCharts!$A106+$A$11,IF($C$7,8,0),1,1)","v":145.83000000000001},{"$f":"OFFSET(InputPriceData!E$15,CalculationsAndCharts!$A106+$A$11,IF($C$7,8,0),1,1)","v":140.72999999999999},{"$f":"OFFSET(InputPriceData!F$15,CalculationsAndCharts!$A106+$A$11,IF($C$7,8,0),1,1)","v":142.32},125.89024999999992,138.76139999999998,143.18,145.8125,143.00749999999999,{"$error":"#N/A"},982800,false,"DOWN",false,{"$error":"#N/A"},{"$error":"#N/A"},true,false,false,false,false,true,189.20000000000002,false,{"$error":"#N/A"},false,false,false,false,false,false,{"$error":"#N/A"},125.89024999999992,138.76139999999998,143.18,145.8125,143.00749999999999,null,{"$f":"OFFSET(InputIndexData!F$15,CalculationsAndCharts!$A106+$A$11,IF($C$7,8,0),1,1)","v":202.47},200.07560000000004,1,1,true,null,212,{"$error":"#N/A"}]
[75,{"$f":"OFFSET(InputPriceData!B$15,CalculationsAndCharts!$A107+$A$11,0,1,1)","v":"2014-12-31"},{"$f":"OFFSET(InputPriceData!G$15,CalculationsAndCharts!$A107+$A$11,IF($C$7,8,0),1,1)","v":662700},{"$f":"OFFSET(InputPriceData!C$15,CalculationsAndCharts!$A107+$A$11,IF($C$7,8,0),1,1)","v":145.13},{"$f":"OFFSET(InputPriceData!D$15,CalculationsAndCharts!$A107+$A$11,IF($C$7,8,0),1,1)","v":147.44999999999999},{"$f":"OFFSET(InputPriceData!E$15,CalculationsAndCharts!$A107+$A$11,IF($C$7,8,0),1,1)","v":142.81},{"$f":"OFFSET(InputPriceData!F$15,CalculationsAndCharts!$A107+$A$11,IF($C$7,8,0),1,1)","v":142.96},125.75569999999992,138.56280000000001,143.10300000000001,146.39875000000001,143.59875,{"$error":"#N/A"},662700,false,"DOWN",true,{"$error":"#N/A"},142.96,true,false,false,true,true,false,189.20000000000002,false,{"$error":"#N/A"},false,false,false,false,false,false,{"$error":"#N/A"},125.75569999999992,138.56280000000001,143.10300000000001,146.39875000000001,143.59875,null,{"$f":"OFFSET(InputIndexData!F$15,CalculationsAndCharts!$A107+$A$11,IF($C$7,8,0),1,1)","v":202.58},199.83080000000007,1,1,true,null,212,{"$error":"#N/A"}]
[76,{"$f":"OFFSET(InputPriceData!B$15,CalculationsAndCharts!$A108+$A$11,0,1,1)","v":"2014-12-30"},{"$f":"OFFSET(InputPriceData!G$15,CalculationsAndCharts!$A108+$A$11,IF($C$7,8,0),1,1)","v":689400},{"$f":"OFFSET(InputPriceData!C$15,CalculationsAndCharts!$A108+$A$11,IF($C$7,8,0),1,1)","v":143.68},{"$f":"OFFSET(InputPriceData!D$15,CalculationsAndCharts!$A108+$A$11,IF($C$7,8,0),1,1)","v":145.46},{"$f":"OFFSET(InputPriceData!E$15,CalculationsAndCharts!$A108+$A$11,IF($C$7,8,0),1,1)","v":143.47999999999999},{"$f":"OFFSET(InputPriceData!F$15,CalculationsAndCharts!$A108+$A$11,IF($C$7,8,0),1,1)","v":145.09},125.60064999999992,138.2884,142.91500000000002,146.48124999999999,143.55125000000001,689400,{"$error":"#N/A"},false,"UP",false,{"$error":"#N/A"},{"$error":"#N/A"},true,false,false,true,false,false,189.20000000000002,false,{"$error":"#N/A"},false,false,false,false,false,false,{"$error":"#N/A"},125.60064999999992,138.2884,142.91500000000002,146.48124999999999,143.55125000000001,null,{"$f":"OFFSET(InputIndexData!F$15,CalculationsAndCharts!$A108+$A$11,IF($C$7,8,0),1,1)","v":204.61},199.50980000000004,1,1,true,null,212,{"$error":"#N/A"}]
[77,{"$f":"OFFSET(InputPriceData!B$15,CalculationsAndCharts!$A109+$A$11,0,1,1)","v":"2014-12-29"},{"$f":"OFFSET(InputPriceData!G$15,CalculationsAndCharts!$A109+$A$11,IF($C$7,8,0),1,1)","v":536000},{"$f":"OFFSET(InputPriceData!C$15,CalculationsAndCharts!$A109+$A$11,IF($C$7,8,0),1,1)","v":144.08000000000001},{"$f":"OFFSET(InputPriceData!D$15,CalculationsAndCharts!$A109+$A$11,IF($C$7,8,0),1,1)","v":144.75},{"$f":"OFFSET(InputPriceData!E$15,CalculationsAndCharts!$A109+$A$11,IF($C$7,8,0),1,1)","v":142.38},{"$f":"OFFSET(InputPriceData!F$15,CalculationsAndCharts!$A109+$A$11,IF($C$7,8,0),1,1)","v":143.81},125.42554999999992,137.93440000000001,142.56900000000002,146.23874999999998,143.15125,{"$error":"#N/A"},536000,false,"UP",false,{"$error":"#N/A"},{"$error":"#N/A"},true,false,false,true,false,false,189.20000000000002,false,{"$error":"#N/A"},false,false,false,false,false,false,{"$error":"#N/A"},125.42554999999992,137.93440000000001,142.56900000000002,146.23874999999998,143.15125,null,{"$f":"OFFSET(InputIndexData!F$15,CalculationsAndCharts!$A109+$A$11,IF($C$7,8,0),1,1)","v":205.72},199.11240000000001,1,1,true,null,212,{"$error":"#N/A"}]
[78,{"$f":"OFFSET(InputPriceData!B$15,CalculationsAndCharts!$A110+$A$11,0,1,1)","v":"2014-12-26"},{"$f":"OFFSET(InputPriceData!G$15,CalculationsAndCharts!$A110+$A$11,IF($C$7,8,0),1,1)","v":693700},{"$f":"OFFSET(InputPriceData!C$15,CalculationsAndCharts!$A110+$A$11,IF($C$7,8,0),1,1)","v":144.16999999999999},{"$f":"OFFSET(InputPriceData!D$15,CalculationsAndCharts!$A110+$A$11,IF($C$7,8,0),1,1)","v":144.78},{"$f":"OFFSET(InputPriceData!E$15,CalculationsAndCharts!$A110+$A$11,IF($C$7,8,0),1,1)","v":143.36000000000001},{"$f":"OFFSET(InputPriceData!F$15,CalculationsAndCharts!$A110+$A$11,IF($C$7,8,0),1,1)","v":144.12},125.24669999999993,137.55620000000002,142.23150000000001,146.22500000000002,142.86249999999998,{"$error":"#N/A"},693700,false,"UP",false,{"$error":"#N/A"},{"$error":"#N/A"},true,false,false,true,false,false,189.20000000000002,false,{"$error":"#N/A"},false,false,false,false,false,false,{"$error":"#N/A"},125.24669999999993,137.55620000000002,142.23150000000001,146.22500000000002,142.86249999999998,null,{"$f":"OFFSET(InputIndexData!F$15,CalculationsAndCharts!$A110+$A$11,IF($C$7,8,0),1,1)","v":205.44},198.64960000000002,1,1,true,null,212,{"$error":"#N/A"}]
[79,{"$f":"OFFSET(InputPriceData!B$15,CalculationsAndCharts!$A111+$A$11,0,1,1)","v":"2014-12-24"},{"$f":"OFFSET(InputPriceData!G$15,CalculationsAndCharts!$A111+$A$11,IF($C$7,8,0),1,1)","v":267300},{"$f":"OFFSET(InputPriceData!C$15,CalculationsAndCharts!$A111+$A$11,IF($C$7,8,0),1,1)","v":144.21},{"$f":"OFFSET(InputPriceData!D$15,CalculationsAndCharts!$A111+$A$11,IF($C$7,8,0),1,1)","v":144.27000000000001},{"$f":"OFFSET(InputPriceData!E$15,CalculationsAndCharts!$A111+$A$11,IF($C$7,8,0),1,1)","v":143.24},{"$f":"OFFSET(InputPriceData!F$15,CalculationsAndCharts!$A111+$A$11,IF($C$7,8,0),1,1)","v":143.43},125.06694999999992,137.14080000000001,141.85500000000002,146.07624999999999,142.45249999999999,{"$error":"#N/A"},267300,false,"UP",false,{"$error":"#N/A"},{"$error":"#N/A"},true,false,false,true,false,false,189.20000000000002,false,{"$error":"#N/A"},false,false,false,false,false,false,{"$error":"#N/A"},125.06694999999992,137.14080000000001,141.85500000000002,146.07624999999999,142.45249999999999,null,{"$f":"OFFSET(InputIndexData!F$15,CalculationsAndCharts!$A111+$A$11,IF($C$7,8,0),1,1)","v":204.78},198.19560000000001,1,1,true,null,212,{"$error":"#N/A"}]
[80,{"$f":"OFFSET(InputPriceData!B$15,CalculationsAndCharts!$A112+$A$11,0,1,1)","v":"2014-12-23"},{"$f":"OFFSET(InputPriceData!G$15,CalculationsAndCharts!$A112+$A$11,IF($C$7,8,0),1,1)","v":1300900},{"$f":"OFFSET(InputPriceData!C$15,CalculationsAndCharts!$A112+$A$11,IF($C$7,8,0),1,1)","v":146.52000000000001},{"$f":"OFFSET(InputPriceData!D$15,CalculationsAndCharts!$A112+$A$11,IF($C$7,8,0),1,1)","v":147.07},{"$f":"OFFSET(InputPriceData!E$15,CalculationsAndCharts!$A112+$A$11,IF($C$7,8,0),1,1)","v":142.79},{"$f":"OFFSET(InputPriceData!F$15,CalculationsAndCharts!$A112+$A$11,IF($C$7,8,0),1,1)","v":143.74},124.89739999999992,136.7398,141.52250000000001,146.17249999999999,142.13749999999999,{"$error":"#N/A"},1300900,false,"UP",false,{"$error":"#N/A"},{"$error":"#N/A"},true,false,false,true,false,false,189.20000000000002,{"$f":"AND(OR(W112,Y112),OR(AF112,AH112))","v":false},{"$error":"#N/A"},false,false,false,false,false,false,{"$error":"#N/A"},124.89739999999992,136.7398,141.52250000000001,146.17249999999999,142.13749999999999,null,{"$f":"OFFSET(InputIndexData!F$15,CalculationsAndCharts!$A112+$A$11,IF($C$7,8,0),1,1)","v":204.76},197.77959999999999,1,1,true,null,212,{"$error":"#N/A"}]
[81,{"$f":"OFFSET(InputPriceData!B$15,CalculationsAndCharts!$A113+$A$11,0,1,1)","v":"2014-12-22"},{"$f":"OFFSET(InputPriceData!G$15,CalculationsAndCharts!$A113+$A$11,IF($C$7,8,0),1,1)","v":1188500},{"$f":"OFFSET(InputPriceData!C$15,CalculationsAndCharts!$A113+$A$11,IF($C$7,8,0),1,1)","v":145.28},{"$f":"OFFSET(InputPriceData!D$15,CalculationsAndCharts!$A113+$A$11,IF($C$7,8,0),1,1)","v":146.88999999999999},{"$f":"OFFSET(InputPriceData!E$15,CalculationsAndCharts!$A113+$A$11,IF($C$7,8,0),1,1)","v":145.27000000000001},{"$f":"OFFSET(InputPriceData!F$15,CalculationsAndCharts!$A113+$A$11,IF($C$7,8,0),1,1)","v":145.38},124.72319999999992,136.34120000000001,141.28150000000002,145.73124999999999,141.88125000000002,1188500,{"$error":"#N/A"},false,"UP",false,{"$error":"#N/A"},{"$error":"#N/A"},true,false,false,true,false,false,189.20000000000002,false,{"$error":"#N/A"},false,false,false,false,false,false,{"$error":"#N/A"},124.72319999999992,136.34120000000001,141.28150000000002,145.73124999999999,141.88125000000002,null,{"$f":"OFFSET(InputIndexData!F$15,CalculationsAndCharts!$A113+$A$11,IF($C$7,8,0),1,1)","v":204.48},197.35839999999999,1,1,true,null,212,{"$error":"#N/A"}]
[82,{"$f":"OFFSET(InputPriceData!B$15,CalculationsAndCharts!$A114+$A$11,0,1,1)","v":"2014-12-19"},{"$f":"OFFSET(InputPriceData!G$15,CalculationsAndCharts!$A114+$A$11,IF($C$7,8,0),1,1)","v":2094000},{"$f":"OFFSET(InputPriceData!C$15,CalculationsAndCharts!$A114+$A$11,IF($C$7,8,0),1,1)","v":148.85},{"$f":"OFFSET(InputPriceData!D$15,CalculationsAndCharts!$A114+$A$11,IF($C$7,8,0),1,1)","v":150.52000000000001},{"$f":"OFFSET(InputPriceData!E$15,CalculationsAndCharts!$A114+$A$11,IF($C$7,8,0),1,1)","v":145.46},{"$f":"OFFSET(InputPriceData!F$15,CalculationsAndCharts!$A114+$A$11,IF($C$7,8,0),1,1)","v":145.51},124.54334999999993,135.94480000000001,140.78850000000003,145.10124999999999,141.1575,{"$error":"#N/A"},2094000,false,"UP",false,{"$error":"#N/A"},{"$error":"#N/A"},true,false,true,true,false,false,189.20000000000002,false,{"$error":"#N/A"},false,false,false,false,false,false,{"$error":"#N/A"},124.54334999999993,135.94480000000001,140.78850000000003,145.10124999999999,141.1575,null,{"$f":"OFFSET(InputIndexData!F$15,CalculationsAndCharts!$A114+$A$11,IF($C$7,8,0),1,1)","v":203.55},197.00419999999997,1,1,true,null,212,{"$error":"#N/A"}]
[83,{"$f":"OFFSET(InputPriceData!B$15,CalculationsAndCharts!$A115+$A$11,0,1,1)","v":"2014-12-18"},{"$f":"OFFSET(InputPriceData!G$15,CalculationsAndCharts!$A115+$A$11,IF($C$7,8,0),1,1)","v":1393800},{"$f":"OFFSET(InputPriceData!C$15,CalculationsAndCharts!$A115+$A$11,IF($C$7,8,0),1,1)","v":143.86000000000001},{"$f":"OFFSET(InputPriceData!D$15,CalculationsAndCharts!$A115+$A$11,IF($C$7,8,0),1,1)","v":148.11000000000001},{"$f":"OFFSET(InputPriceData!E$15,CalculationsAndCharts!$A115+$A$11,IF($C$7,8,0),1,1)","v":142.43},{"$f":"OFFSET(InputPriceData!F$15,CalculationsAndCharts!$A115+$A$11,IF($C$7,8,0),1,1)","v":148.09},124.36304999999994,135.5188,140.27800000000002,144.1575,140.61125000000001,1393800,{"$error":"#N/A"},true,"UP",false,148.09,{"$error":"#N/A"},true,true,false,false,false,false,{"$error":"#N/A"},false,{"$error":"#N/A"},false,false,false,false,false,false,{"$error":"#N/A"},124.36304999999994,135.5188,140.27800000000002,144.1575,140.61125000000001,null,{"$f":"OFFSET(InputIndexData!F$15,CalculationsAndCharts!$A115+$A$11,IF($C$7,8,0),1,1)","v":202.69},196.7116,1,1,true,null,212,{"$error":"#N/A"}]
[84,{"$f":"OFFSET(InputPriceData!B$15,CalculationsAndCharts!$A116+$A$11,0,1,1)","v":"2014-12-17"},{"$f":"OFFSET(InputPriceData!G$15,CalculationsAndCharts!$A116+$A$11,IF($C$7,8,0),1,1)","v":1194700},{"$f":"OFFSET(InputPriceData!C$15,CalculationsAndCharts!$A116+$A$11,IF($C$7,8,0),1,1)","v":140.28},{"$f":"OFFSET(InputPriceData!D$15,CalculationsAndCharts!$A116+$A$11,IF($C$7,8,0),1,1)","v":143.52000000000001},{"$f":"OFFSET(InputPriceData!E$15,CalculationsAndCharts!$A116+$A$11,IF($C$7,8,0),1,1)","v":140.28},{"$f":"OFFSET(InputPriceData!F$15,CalculationsAndCharts!$A116+$A$11,IF($C$7,8,0),1,1)","v":142.38999999999999},124.17259999999995,135.08860000000001,139.65650000000002,143.68125000000001,140.65875000000003,1194700,{"$error":"#N/A"},false,"DOWN",false,{"$error":"#N/A"},{"$error":"#N/A"},true,false,false,false,false,true,189.20000000000002,false,{"$error":"#N/A"},false,false,false,false,false,false,{"$error":"#N/A"},124.17259999999995,135.08860000000001,139.65650000000002,143.68125000000001,140.65875000000003,null,{"$f":"OFFSET(InputIndexData!F$15,CalculationsAndCharts!$A116+$A$11,IF($C$7,8,0),1,1)","v":197.79},196.51279999999994,1,1,true,null,212,{"$error":"#N/A"}]
[85,{"$f":"OFFSET(InputPriceData!B$15,CalculationsAndCharts!$A117+$A$11,0,1,1)","v":"2014-12-16"},{"$f":"OFFSET(InputPriceData!G$15,CalculationsAndCharts!$A117+$A$11,IF($C$7,8,0),1,1)","v":1409100},{"$f":"OFFSET(InputPriceData!C$15,CalculationsAndCharts!$A117+$A$11,IF($C$7,8,0),1,1)","v":141.77000000000001},{"$f":"OFFSET(InputPriceData!D$15,CalculationsAndCharts!$A117+$A$11,IF($C$7,8,0),1,1)","v":144.63999999999999},{"$f":"OFFSET(InputPriceData!E$15,CalculationsAndCharts!$A117+$A$11,IF($C$7,8,0),1,1)","v":140.07},{"$f":"OFFSET(InputPriceData!F$15,CalculationsAndCharts!$A117+$A$11,IF($C$7,8,0),1,1)","v":140.22},124.01304999999995,134.71899999999999,139.4555,143.84125,140.69125,{"$error":"#N/A"},1409100,false,"DOWN",true,{"$error":"#N/A"},140.22,true,false,false,true,true,false,189.20000000000002,false,{"$error":"#N/A"},false,false,false,false,false,false,{"$error":"#N/A"},124.01304999999995,134.71899999999999,139.4555,143.84125,140.69125,null,{"$f":"OFFSET(InputIndexData!F$15,CalculationsAndCharts!$A117+$A$11,IF($C$7,8,0),1,1)","v":193.99},196.34559999999999,1,1,true,null,212,{"$error":"#N/A"}]
[86,{"$f":"OFFSET(InputPriceData!B$15,CalculationsAndCharts!$A118+$A$11,0,1,1)","v":"2014-12-15"},{"$f":"OFFSET(InputPriceData!G$15,CalculationsAndCharts!$A118+$A$11,IF($C$7,8,0),1,1)","v":1051800},{"$f":"OFFSET(InputPriceData!C$15,CalculationsAndCharts!$A118+$A$11,IF($C$7,8,0),1,1)","v":143.05000000000001},{"$f":"OFFSET(InputPriceData!D$15,CalculationsAndCharts!$A118+$A$11,IF($C$7,8,0),1,1)","v":143.59},{"$f":"OFFSET(InputPriceData!E$15,CalculationsAndCharts!$A118+$A$11,IF($C$7,8,0),1,1)","v":140.08000000000001},{"$f":"OFFSET(InputPriceData!F$15,CalculationsAndCharts!$A118+$A$11,IF($C$7,8,0),1,1)","v":142.13999999999999},123.86629999999994,134.4228,139.273,143.3425,140.50749999999999,{"$error":"#N/A"},1051800,false,"UP",false,{"$error":"#N/A"},{"$error":"#N/A"},true,false,false,true,false,false,189.20000000000002,false,{"$error":"#N/A"},false,false,false,false,false,false,{"$error":"#N/A"},123.86629999999994,134.4228,139.273,143.3425,140.50749999999999,null,{"$f":"OFFSET(InputIndexData!F$15,CalculationsAndCharts!$A118+$A$11,IF($C$7,8,0),1,1)","v":195.56},196.31379999999999,1,1,true,null,212,{"$error":"#N/A"}]
[87,{"$f":"OFFSET(InputPriceData!B$15,CalculationsAndCharts!$A119+$A$11,0,1,1)","v":"2014-12-12"},{"$f":"OFFSET(InputPriceData!G$15,CalculationsAndCharts!$A119+$A$11,IF($C$7,8,0),1,1)","v":1421400},{"$f":"OFFSET(InputPriceData!C$15,CalculationsAndCharts!$A119+$A$11,IF($C$7,8,0),1,1)","v":140.79},{"$f":"OFFSET(InputPriceData!D$15,CalculationsAndCharts!$A119+$A$11,IF($C$7,8,0),1,1)","v":145.04},{"$f":"OFFSET(InputPriceData!E$15,CalculationsAndCharts!$A119+$A$11,IF($C$7,8,0),1,1)","v":140.72},{"$f":"OFFSET(InputPriceData!F$15,CalculationsAndCharts!$A119+$A$11,IF($C$7,8,0),1,1)","v":142.66},123.70929999999994,134.1414,138.91000000000003,143.3125,140.45250000000001,1421400,{"$error":"#N/A"},false,"UP",false,{"$error":"#N/A"},{"$error":"#N/A"},true,false,false,true,false,false,189.20000000000002,false,{"$error":"#N/A"},false,false,false,false,false,false,{"$error":"#N/A"},123.70929999999994,134.1414,138.91000000000003,143.3125,140.45250000000001,null,{"$f":"OFFSET(InputIndexData!F$15,CalculationsAndCharts!$A119+$A$11,IF($C$7,8,0),1,1)","v":196.91},196.25519999999997,1,1,true,null,212,{"$error":"#N/A"}]
[88,{"$f":"OFFSET(InputPriceData!B$15,CalculationsAndCharts!$A120+$A$11,0,1,1)","v":"2014-12-11"},{"$f":"OFFSET(InputPriceData!G$15,CalculationsAndCharts!$A120+$A$11,IF($C$7,8,0),1,1)","v":777200},{"$f":"OFFSET(InputPriceData!C$15,CalculationsAndCharts!$A120+$A$11,IF($C$7,8,0),1,1)","v":140.74},{"$f":"OFFSET(InputPriceData!D$15,CalculationsAndCharts!$A120+$A$11,IF($C$7,8,0),1,1)","v":143.54},{"$f":"OFFSET(InputPriceData!E$15,CalculationsAndCharts!$A120+$A$11,IF($C$7,8,0),1,1)","v":140.74},{"$f":"OFFSET(InputPriceData!F$15,CalculationsAndCharts!$A120+$A$11,IF($C$7,8,0),1,1)","v":141.54},123.55084999999994,133.81440000000003,138.65199999999999,142.595,139.89750000000001,777200,{"$error":"#N/A"},false,"UP",false,{"$error":"#N/A"},{"$error":"#N/A"},true,false,false,true,false,false,189.20000000000002,false,{"$error":"#N/A"},false,false,false,false,false,false,{"$error":"#N/A"},123.55084999999994,133.81440000000003,138.65199999999999,142.595,139.89750000000001,null,{"$f":"OFFSET(InputIndexData!F$15,CalculationsAndCharts!$A120+$A$11,IF($C$7,8,0),1,1)","v":200.15},196.12759999999997,1,1,true,null,212,{"$error":"#N/A"}]
[89,{"$f":"OFFSET(InputPriceData!B$15,CalculationsAndCharts!$A121+$A$11,0,1,1)","v":"2014-12-10"},{"$f":"OFFSET(InputPriceData!G$15,CalculationsAndCharts!$A121+$A$11,IF($C$7,8,0),1,1)","v":1333100},{"$f":"OFFSET(InputPriceData!C$15,CalculationsAndCharts!$A121+$A$11,IF($C$7,8,0),1,1)","v":141.31},{"$f":"OFFSET(InputPriceData!D$15,CalculationsAndCharts!$A121+$A$11,IF($C$7,8,0),1,1)","v":141.85},{"$f":"OFFSET(InputPriceData!E$15,CalculationsAndCharts!$A121+$A$11,IF($C$7,8,0),1,1)","v":139.47999999999999},{"$f":"OFFSET(InputPriceData!F$15,CalculationsAndCharts!$A121+$A$11,IF($C$7,8,0),1,1)","v":140.51},123.38894999999995,133.52660000000003,138.39249999999998,142.11500000000001,139.35,{"$error":"#N/A"},1333100,false,"UP",false,{"$error":"#N/A"},{"$error":"#N/A"},true,false,false,true,false,false,189.20000000000002,false,{"$error":"#N/A"},false,false,false,false,false,false,{"$error":"#N/A"},123.38894999999995,133.52660000000003,138.39249999999998,142.11500000000001,139.35,null,{"$f":"OFFSET(InputIndexData!F$15,CalculationsAndCharts!$A121+$A$11,IF($C$7,8,0),1,1)","v":199.14},195.93459999999996,1,1,true,null,212,{"$error":"#N/A"}]
[90,{"$f":"OFFSET(InputPriceData!B$15,CalculationsAndCharts!$A122+$A$11,0,1,1)","v":"2014-12-09"},{"$f":"OFFSET(InputPriceData!G$15,CalculationsAndCharts!$A122+$A$11,IF($C$7,8,0),1,1)","v":699700},{"$f":"OFFSET(InputPriceData!C$15,CalculationsAndCharts!$A122+$A$11,IF($C$7,8,0),1,1)","v":141.29},{"$f":"OFFSET(InputPriceData!D$15,CalculationsAndCharts!$A122+$A$11,IF($C$7,8,0),1,1)","v":142.97},{"$f":"OFFSET(InputPriceData!E$15,CalculationsAndCharts!$A122+$A$11,IF($C$7,8,0),1,1)","v":141.09},{"$f":"OFFSET(InputPriceData!F$15,CalculationsAndCharts!$A122+$A$11,IF($C$7,8,0),1,1)","v":142.51},123.23064999999995,133.30500000000001,138.14400000000001,141.64250000000001,138.98374999999999,699700,{"$error":"#N/A"},false,"UP",false,{"$error":"#N/A"},{"$error":"#N/A"},true,false,false,true,false,false,189.20000000000002,false,{"$error":"#N/A"},false,false,false,false,false,false,{"$error":"#N/A"},123.23064999999995,133.30500000000001,138.14400000000001,141.64250000000001,138.98374999999999,null,{"$f":"OFFSET(InputIndexData!F$15,CalculationsAndCharts!$A122+$A$11,IF($C$7,8,0),1,1)","v":202.38},195.81419999999994,1,1,true,null,212,{"$error":"#N/A"}]
[91,{"$f":"OFFSET(InputPriceData!B$15,CalculationsAndCharts!$A123+$A$11,0,1,1)","v":"2014-12-08"},{"$f":"OFFSET(InputPriceData!G$15,CalculationsAndCharts!$A123+$A$11,IF($C$7,8,0),1,1)","v":1121100},{"$f":"OFFSET(InputPriceData!C$15,CalculationsAndCharts!$A123+$A$11,IF($C$7,8,0),1,1)","v":143.02000000000001},{"$f":"OFFSET(InputPriceData!D$15,CalculationsAndCharts!$A123+$A$11,IF($C$7,8,0),1,1)","v":144.30000000000001},{"$f":"OFFSET(InputPriceData!E$15,CalculationsAndCharts!$A123+$A$11,IF($C$7,8,0),1,1)","v":142.81},{"$f":"OFFSET(InputPriceData!F$15,CalculationsAndCharts!$A123+$A$11,IF($C$7,8,0),1,1)","v":143.62},123.06324999999995,133.07540000000003,137.59800000000001,140.99375000000001,138.31874999999999,1121100,{"$error":"#N/A"},false,"UP",false,{"$error":"#N/A"},{"$error":"#N/A"},true,false,false,true,false,false,189.20000000000002,false,{"$error":"#N/A"},false,false,false,false,false,false,{"$error":"#N/A"},123.06324999999995,133.07540000000003,137.59800000000001,140.99375000000001,138.31874999999999,null,{"$f":"OFFSET(InputIndexData!F$15,CalculationsAndCharts!$A123+$A$11,IF($C$7,8,0),1,1)","v":202.52},195.63919999999996,1,1,true,null,212,{"$error":"#N/A"}]
[92,{"$f":"OFFSET(InputPriceData!B$15,CalculationsAndCharts!$A124+$A$11,0,1,1)","v":"2014-12-05"},{"$f":"OFFSET(InputPriceData!G$15,CalculationsAndCharts!$A124+$A$11,IF($C$7,8,0),1,1)","v":2356100},{"$f":"OFFSET(InputPriceData!C$15,CalculationsAndCharts!$A124+$A$11,IF($C$7,8,0),1,1)","v":140.69},{"$f":"OFFSET(InputPriceData!D$15,CalculationsAndCharts!$A124+$A$11,IF($C$7,8,0),1,1)","v":144.80000000000001},{"$f":"OFFSET(InputPriceData!E$15,CalculationsAndCharts!$A124+$A$11,IF($C$7,8,0),1,1)","v":140.54},{"$f":"OFFSET(InputPriceData!F$15,CalculationsAndCharts!$A124+$A$11,IF($C$7,8,0),1,1)","v":143.37},122.90609999999995,132.82020000000003,136.90299999999999,140.45500000000001,137.5575,2356100,{"$error":"#N/A"},false,"UP",false,{"$error":"#N/A"},{"$error":"#N/A"},true,false,false,true,false,false,189.20000000000002,false,{"$error":"#N/A"},false,false,false,false,false,false,{"$error":"#N/A"},122.90609999999995,132.82020000000003,136.90299999999999,140.45500000000001,137.5575,null,{"$f":"OFFSET(InputIndexData!F$15,CalculationsAndCharts!$A124+$A$11,IF($C$7,8,0),1,1)","v":203.88},195.46839999999992,1,1,true,null,212,{"$error":"#N/A"}]
[93,{"$f":"OFFSET(InputPriceData!B$15,CalculationsAndCharts!$A125+$A$11,0,1,1)","v":"2014-12-04"},{"$f":"OFFSET(InputPriceData!G$15,CalculationsAndCharts!$A125+$A$11,IF($C$7,8,0),1,1)","v":983000},{"$f":"OFFSET(InputPriceData!C$15,CalculationsAndCharts!$A125+$A$11,IF($C$7,8,0),1,1)","v":140.19},{"$f":"OFFSET(InputPriceData!D$15,CalculationsAndCharts!$A125+$A$11,IF($C$7,8,0),1,1)","v":140.65},{"$f":"OFFSET(InputPriceData!E$15,CalculationsAndCharts!$A125+$A$11,IF($C$7,8,0),1,1)","v":138.6},{"$f":"OFFSET(InputPriceData!F$15,CalculationsAndCharts!$A125+$A$11,IF($C$7,8,0),1,1)","v":140.19},122.69654999999995,132.55560000000003,136.68199999999996,139.79749999999999,136.96625,983000,{"$error":"#N/A"},false,"UP",false,{"$error":"#N/A"},{"$error":"#N/A"},true,false,false,true,false,false,189.20000000000002,false,{"$error":"#N/A"},false,false,false,false,false,false,{"$error":"#N/A"},122.69654999999995,132.55560000000003,136.68199999999996,139.79749999999999,136.96625,null,{"$f":"OFFSET(InputIndexData!F$15,CalculationsAndCharts!$A125+$A$11,IF($C$7,8,0),1,1)","v":203.55},195.23979999999995,1,1,true,null,212,{"$error":"#N/A"}]
[94,{"$f":"OFFSET(InputPriceData!B$15,CalculationsAndCharts!$A126+$A$11,0,1,1)","v":"2014-12-03"},{"$f":"OFFSET(InputPriceData!G$15,CalculationsAndCharts!$A126+$A$11,IF($C$7,8,0),1,1)","v":1475400},{"$f":"OFFSET(InputPriceData!C$15,CalculationsAndCharts!$A126+$A$11,IF($C$7,8,0),1,1)","v":140.19},{"$f":"OFFSET(InputPriceData!D$15,CalculationsAndCharts!$A126+$A$11,IF($C$7,8,0),1,1)","v":143.35},{"$f":"OFFSET(InputPriceData!E$15,CalculationsAndCharts!$A126+$A$11,IF($C$7,8,0),1,1)","v":139.63999999999999},{"$f":"OFFSET(InputPriceData!F$15,CalculationsAndCharts!$A126+$A$11,IF($C$7,8,0),1,1)","v":140.78},122.50004999999996,132.43840000000003,136.57399999999998,139.32624999999999,136.53249999999997,1475400,{"$error":"#N/A"},false,"UP",false,{"$error":"#N/A"},{"$error":"#N/A"},true,false,false,true,false,false,189.20000000000002,false,{"$error":"#N/A"},false,false,false,false,false,false,{"$error":"#N/A"},122.50004999999996,132.43840000000003,136.57399999999998,139.32624999999999,136.53249999999997,null,{"$f":"OFFSET(InputIndexData!F$15,CalculationsAndCharts!$A126+$A$11,IF($C$7,8,0),1,1)","v":203.77},195.08099999999999,1,1,true,null,212,{"$error":"#N/A"}]
[95,{"$f":"OFFSET(InputPriceData!B$15,CalculationsAndCharts!$A127+$A$11,0,1,1)","v":"2014-12-02"},{"$f":"OFFSET(InputPriceData!G$15,CalculationsAndCharts!$A127+$A$11,IF($C$7,8,0),1,1)","v":1041500},{"$f":"OFFSET(InputPriceData!C$15,CalculationsAndCharts!$A127+$A$11,IF($C$7,8,0),1,1)","v":137.44999999999999},{"$f":"OFFSET(InputPriceData!D$15,CalculationsAndCharts!$A127+$A$11,IF($C$7,8,0),1,1)","v":139.30000000000001},{"$f":"OFFSET(InputPriceData!E$15,CalculationsAndCharts!$A127+$A$11,IF($C$7,8,0),1,1)","v":136.28},{"$f":"OFFSET(InputPriceData!F$15,CalculationsAndCharts!$A127+$A$11,IF($C$7,8,0),1,1)","v":139.19999999999999},122.29929999999995,132.24680000000001,136.37700000000001,138.38374999999999,135.88875000000002,1041500,{"$error":"#N/A"},false,"UP",false,{"$error":"#N/A"},{"$error":"#N/A"},true,false,false,true,false,false,189.20000000000002,false,{"$error":"#N/A"},false,false,false,false,false,false,{"$error":"#N/A"},122.29929999999995,132.24680000000001,136.37700000000001,138.38374999999999,135.88875000000002,null,{"$f":"OFFSET(InputIndexData!F$15,CalculationsAndCharts!$A127+$A$11,IF($C$7,8,0),1,1)","v":202.99},194.88739999999999,1,1,true,null,212,{"$error":"#N/A"}]
[96,{"$f":"OFFSET(InputPriceData!B$15,CalculationsAndCharts!$A128+$A$11,0,1,1)","v":"2014-12-01"},{"$f":"OFFSET(InputPriceData!G$15,CalculationsAndCharts!$A128+$A$11,IF($C$7,8,0),1,1)","v":1114800},{"$f":"OFFSET(InputPriceData!C$15,CalculationsAndCharts!$A128+$A$11,IF($C$7,8,0),1,1)","v":136.74},{"$f":"OFFSET(InputPriceData!D$15,CalculationsAndCharts!$A128+$A$11,IF($C$7,8,0),1,1)","v":139.69999999999999},{"$f":"OFFSET(InputPriceData!E$15,CalculationsAndCharts!$A128+$A$11,IF($C$7,8,0),1,1)","v":136.36000000000001},{"$f":"OFFSET(InputPriceData!F$15,CalculationsAndCharts!$A128+$A$11,IF($C$7,8,0),1,1)","v":138.16999999999999},122.10809999999994,132.13499999999999,136.2955,138.28625,135.76250000000002,1114800,{"$error":"#N/A"},false,"UP",false,{"$error":"#N/A"},{"$error":"#N/A"},true,false,false,true,false,false,189.20000000000002,false,{"$error":"#N/A"},false,false,false,false,false,false,{"$error":"#N/A"},122.10809999999994,132.13499999999999,136.2955,138.28625,135.76250000000002,null,{"$f":"OFFSET(InputIndexData!F$15,CalculationsAndCharts!$A128+$A$11,IF($C$7,8,0),1,1)","v":201.69},194.73179999999994,1,1,true,null,212,{"$error":"#N/A"}]
[97,{"$f":"OFFSET(InputPriceData!B$15,CalculationsAndCharts!$A129+$A$11,0,1,1)","v":"2014-11-28"},{"$f":"OFFSET(InputPriceData!G$15,CalculationsAndCharts!$A129+$A$11,IF($C$7,8,0),1,1)","v":814500},{"$f":"OFFSET(InputPriceData!C$15,CalculationsAndCharts!$A129+$A$11,IF($C$7,8,0),1,1)","v":136.63999999999999},{"$f":"OFFSET(InputPriceData!D$15,CalculationsAndCharts!$A129+$A$11,IF($C$7,8,0),1,1)","v":138.07},{"$f":"OFFSET(InputPriceData!E$15,CalculationsAndCharts!$A129+$A$11,IF($C$7,8,0),1,1)","v":136.55000000000001},{"$f":"OFFSET(InputPriceData!F$15,CalculationsAndCharts!$A129+$A$11,IF($C$7,8,0),1,1)","v":137.06},121.91179999999994,132.04640000000001,136.28399999999999,138.30249999999998,135.80000000000001,814500,{"$error":"#N/A"},false,"UP",false,{"$error":"#N/A"},{"$error":"#N/A"},true,false,false,true,false,false,189.20000000000002,false,{"$error":"#N/A"},false,false,false,false,false,false,{"$error":"#N/A"},121.91179999999994,132.04640000000001,136.28399999999999,138.30249999999998,135.80000000000001,null,{"$f":"OFFSET(InputIndexData!F$15,CalculationsAndCharts!$A129+$A$11,IF($C$7,8,0),1,1)","v":203.1},194.63259999999994,1,1,true,null,212,{"$error":"#N/A"}]
[98,{"$f":"OFFSET(InputPriceData!B$15,CalculationsAndCharts!$A130+$A$11,0,1,1)","v":"2014-11-26"},{"$f":"OFFSET(InputPriceData!G$15,CalculationsAndCharts!$A130+$A$11,IF($C$7,8,0),1,1)","v":806200},{"$f":"OFFSET(InputPriceData!C$15,CalculationsAndCharts!$A130+$A$11,IF($C$7,8,0),1,1)","v":137.27000000000001},{"$f":"OFFSET(InputPriceData!D$15,CalculationsAndCharts!$A130+$A$11,IF($C$7,8,0),1,1)","v":137.78},{"$f":"OFFSET(InputPriceData!E$15,CalculationsAndCharts!$A130+$A$11,IF($C$7,8,0),1,1)","v":135.77000000000001},{"$f":"OFFSET(InputPriceData!F$15,CalculationsAndCharts!$A130+$A$11,IF($C$7,8,0),1,1)","v":136.59},121.70519999999995,131.94560000000001,136.245,138.19125,135.56625,{"$error":"#N/A"},806200,false,"UP",false,{"$error":"#N/A"},{"$error":"#N/A"},true,false,false,true,false,false,189.20000000000002,false,{"$error":"#N/A"},false,false,false,false,false,false,{"$error":"#N/A"},121.70519999999995,131.94560000000001,136.245,138.19125,135.56625,null,{"$f":"OFFSET(InputIndexData!F$15,CalculationsAndCharts!$A130+$A$11,IF($C$7,8,0),1,1)","v":203.53},194.50859999999994,1,1,true,null,212,{"$error":"#N/A"}]
[99,{"$f":"OFFSET(InputPriceData!B$15,CalculationsAndCharts!$A131+$A$11,0,1,1)","v":"2014-11-25"},{"$f":"OFFSET(InputPriceData!G$15,CalculationsAndCharts!$A131+$A$11,IF($C$7,8,0),1,1)","v":1667400},{"$f":"OFFSET(InputPriceData!C$15,CalculationsAndCharts!$A131+$A$11,IF($C$7,8,0),1,1)","v":138.91999999999999},{"$f":"OFFSET(InputPriceData!D$15,CalculationsAndCharts!$A131+$A$11,IF($C$7,8,0),1,1)","v":139.99},{"$f":"OFFSET(InputPriceData!E$15,CalculationsAndCharts!$A131+$A$11,IF($C$7,8,0),1,1)","v":136.72},{"$f":"OFFSET(InputPriceData!F$15,CalculationsAndCharts!$A131+$A$11,IF($C$7,8,0),1,1)","v":136.78},121.49389999999994,131.84119999999999,136.11850000000001,138.15875,135.41,{"$error":"#N/A"},1667400,false,"UP",false,{"$error":"#N/A"},{"$error":"#N/A"},true,false,false,true,false,false,189.20000000000002,false,{"$error":"#N/A"},false,false,false,false,false,false,{"$error":"#N/A"},121.49389999999994,131.84119999999999,136.11850000000001,138.15875,135.41,null,{"$f":"OFFSET(InputIndexData!F$15,CalculationsAndCharts!$A131+$A$11,IF($C$7,8,0),1,1)","v":203.01},194.35519999999997,1,1,true,null,212,{"$error":"#N/A"}]
[100,{"$f":"OFFSET(InputPriceData!B$15,CalculationsAndCharts!$A132+$A$11,0,1,1)","v":"2014-11-24"},{"$f":"OFFSET(InputPriceData!G$15,CalculationsAndCharts!$A132+$A$11,IF($C$7,8,0),1,1)","v":1388800},{"$f":"OFFSET(InputPriceData!C$15,CalculationsAndCharts!$A132+$A$11,IF($C$7,8,0),1,1)","v":136.4},{"$f":"OFFSET(InputPriceData!D$15,CalculationsAndCharts!$A132+$A$11,IF($C$7,8,0),1,1)","v":139.54},{"$f":"OFFSET(InputPriceData!E$15,CalculationsAndCharts!$A132+$A$11,IF($C$7,8,0),1,1)","v":135.81},{"$f":"OFFSET(InputPriceData!F$15,CalculationsAndCharts!$A132+$A$11,IF($C$7,8,0),1,1)","v":138.91999999999999},121.28989999999995,131.72999999999999,135.97149999999999,137.95749999999998,135.32749999999999,1388800,{"$error":"#N/A"},false,"UP",false,{"$error":"#N/A"},{"$error":"#N/A"},true,false,false,true,false,false,189.20000000000002,false,{"$error":"#N/A"},false,false,false,false,false,false,{"$error":"#N/A"},121.28989999999995,131.72999999999999,135.97149999999999,137.95749999999998,135.32749999999999,null,{"$f":"OFFSET(InputIndexData!F$15,CalculationsAndCharts!$A132+$A$11,IF($C$7,8,0),1,1)","v":203.16},194.20699999999997,1,1,true,null,212,{"$error":"#N/A"}]
[101,{"$f":"OFFSET(InputPriceData!B$15,CalculationsAndCharts!$A133+$A$11,0,1,1)","v":"2014-11-21"},{"$f":"OFFSET(InputPriceData!G$15,CalculationsAndCharts!$A133+$A$11,IF($C$7,8,0),1,1)","v":1118200},{"$f":"OFFSET(InputPriceData!C$15,CalculationsAndCharts!$A133+$A$11,IF($C$7,8,0),1,1)","v":136.6},{"$f":"OFFSET(InputPriceData!D$15,CalculationsAndCharts!$A133+$A$11,IF($C$7,8,0),1,1)","v":136.88},{"$f":"OFFSET(InputPriceData!E$15,CalculationsAndCharts!$A133+$A$11,IF($C$7,8,0),1,1)","v":135.13},{"$f":"OFFSET(InputPriceData!F$15,CalculationsAndCharts!$A133+$A$11,IF($C$7,8,0),1,1)","v":135.52000000000001},121.07129999999994,131.48259999999999,135.61850000000001,137.62,135.04624999999999,{"$error":"#N/A"},1118200,false,"UP",false,{"$error":"#N/A"},{"$error":"#N/A"},true,false,false,true,false,false,189.20000000000002,false,{"$error":"#N/A"},false,false,false,false,false,false,{"$error":"#N/A"},121.07129999999994,131.48259999999999,135.61850000000001,137.62,135.04624999999999,null,{"$f":"OFFSET(InputIndexData!F$15,CalculationsAndCharts!$A133+$A$11,IF($C$7,8,0),1,1)","v":202.59},194.02639999999997,1,1,true,null,212,{"$error":"#N/A"}]
[102,{"$f":"OFFSET(InputPriceData!B$15,CalculationsAndCharts!$A134+$A$11,0,1,1)","v":"2014-11-20"},{"$f":"OFFSET(InputPriceData!G$15,CalculationsAndCharts!$A134+$A$11,IF($C$7,8,0),1,1)","v":982600},{"$f":"OFFSET(InputPriceData!C$15,CalculationsAndCharts!$A134+$A$11,IF($C$7,8,0),1,1)","v":135.22},{"$f":"OFFSET(InputPriceData!D$15,CalculationsAndCharts!$A134+$A$11,IF($C$7,8,0),1,1)","v":135.81},{"$f":"OFFSET(InputPriceData!E$15,CalculationsAndCharts!$A134+$A$11,IF($C$7,8,0),1,1)","v":134.49},{"$f":"OFFSET(InputPriceData!F$15,CalculationsAndCharts!$A134+$A$11,IF($C$7,8,0),1,1)","v":135.30000000000001},120.86719999999994,131.31499999999997,135.45400000000001,137.47125000000003,134.66499999999996,982600,{"$error":"#N/A"},false,"UP",false,{"$error":"#N/A"},{"$error":"#N/A"},true,false,false,true,false,false,189.20000000000002,false,{"$error":"#N/A"},false,false,false,false,false,false,{"$error":"#N/A"},120.86719999999994,131.31499999999997,135.45400000000001,137.47125000000003,134.66499999999996,null,{"$f":"OFFSET(InputIndexData!F$15,CalculationsAndCharts!$A134+$A$11,IF($C$7,8,0),1,1)","v":201.51},193.86019999999994,1,1,true,null,212,{"$error":"#N/A"}]
[103,{"$f":"OFFSET(InputPriceData!B$15,CalculationsAndCharts!$A135+$A$11,0,1,1)","v":"2014-11-19"},{"$f":"OFFSET(InputPriceData!G$15,CalculationsAndCharts!$A135+$A$11,IF($C$7,8,0),1,1)","v":1041000},{"$f":"OFFSET(InputPriceData!C$15,CalculationsAndCharts!$A135+$A$11,IF($C$7,8,0),1,1)","v":138.11000000000001},{"$f":"OFFSET(InputPriceData!D$15,CalculationsAndCharts!$A135+$A$11,IF($C$7,8,0),1,1)","v":138.52000000000001},{"$f":"OFFSET(InputPriceData!E$15,CalculationsAndCharts!$A135+$A$11,IF($C$7,8,0),1,1)","v":135.27000000000001},{"$f":"OFFSET(InputPriceData!F$15,CalculationsAndCharts!$A135+$A$11,IF($C$7,8,0),1,1)","v":135.66},120.66759999999995,131.17439999999999,135.27699999999999,137.03625,134.14125000000001,{"$error":"#N/A"},1041000,false,"UP",false,{"$error":"#N/A"},{"$error":"#N/A"},true,false,false,true,false,false,189.20000000000002,false,{"$error":"#N/A"},false,false,false,false,false,false,{"$error":"#N/A"},120.66759999999995,131.17439999999999,135.27699999999999,137.03625,134.14125000000001,null,{"$f":"OFFSET(InputIndexData!F$15,CalculationsAndCharts!$A135+$A$11,IF($C$7,8,0),1,1)","v":201.16},193.73839999999996,1,1,true,null,212,{"$error":"#N/A"}]
[104,{"$f":"OFFSET(InputPriceData!B$15,CalculationsAndCharts!$A136+$A$11,0,1,1)","v":"2014-11-18"},{"$f":"OFFSET(InputPriceData!G$15,CalculationsAndCharts!$A136+$A$11,IF($C$7,8,0),1,1)","v":1114700},{"$f":"OFFSET(InputPriceData!C$15,CalculationsAndCharts!$A136+$A$11,IF($C$7,8,0),1,1)","v":137},{"$f":"OFFSET(InputPriceData!D$15,CalculationsAndCharts!$A136+$A$11,IF($C$7,8,0),1,1)","v":139.83000000000001},{"$f":"OFFSET(InputPriceData!E$15,CalculationsAndCharts!$A136+$A$11,IF($C$7,8,0),1,1)","v":136.66},{"$f":"OFFSET(InputPriceData!F$15,CalculationsAndCharts!$A136+$A$11,IF($C$7,8,0),1,1)","v":138.37},120.46154999999995,131.018,135.02450000000002,136.57875000000001,133.29000000000002,1114700,{"$error":"#N/A"},false,"UP",false,{"$error":"#N/A"},{"$error":"#N/A"},true,false,false,true,false,false,189.20000000000002,false,{"$error":"#N/A"},false,false,false,false,false,false,{"$error":"#N/A"},120.46154999999995,131.018,135.02450000000002,136.57875000000001,133.29000000000002,null,{"$f":"OFFSET(InputIndexData!F$15,CalculationsAndCharts!$A136+$A$11,IF($C$7,8,0),1,1)","v":201.48},193.61919999999998,1,1,true,null,212,{"$error":"#N/A"}]
[105,{"$f":"OFFSET(InputPriceData!B$15,CalculationsAndCharts!$A137+$A$11,0,1,1)","v":"2014-11-17"},{"$f":"OFFSET(InputPriceData!G$15,CalculationsAndCharts!$A137+$A$11,IF($C$7,8,0),1,1)","v":721900},{"$f":"OFFSET(InputPriceData!C$15,CalculationsAndCharts!$A137+$A$11,IF($C$7,8,0),1,1)","v":135.11000000000001},{"$f":"OFFSET(InputPriceData!D$15,CalculationsAndCharts!$A137+$A$11,IF($C$7,8,0),1,1)","v":137.18},{"$f":"OFFSET(InputPriceData!E$15,CalculationsAndCharts!$A137+$A$11,IF($C$7,8,0),1,1)","v":134.68},{"$f":"OFFSET(InputPriceData!F$15,CalculationsAndCharts!$A137+$A$11,IF($C$7,8,0),1,1)","v":136.57},120.25059999999996,130.83699999999999,134.72549999999995,136.56500000000003,133.435,721900,{"$error":"#N/A"},false,"UP",false,{"$error":"#N/A"},{"$error":"#N/A"},true,false,false,true,false,false,189.20000000000002,false,{"$error":"#N/A"},false,false,false,false,false,false,{"$error":"#N/A"},120.25059999999996,130.83699999999999,134.72549999999995,136.56500000000003,133.435,null,{"$f":"OFFSET(InputIndexData!F$15,CalculationsAndCharts!$A137+$A$11,IF($C$7,8,0),1,1)","v":200.32},193.47879999999998,1,1,true,null,212,{"$error":"#N/A"}]
[106,{"$f":"OFFSET(InputPriceData!B$15,CalculationsAndCharts!$A138+$A$11,0,1,1)","v":"2014-11-14"},{"$f":"OFFSET(InputPriceData!G$15,CalculationsAndCharts!$A138+$A$11,IF($C$7,8,0),1,1)","v":1179800},{"$f":"OFFSET(InputPriceData!C$15,CalculationsAndCharts!$A138+$A$11,IF($C$7,8,0),1,1)","v":137.19999999999999},{"$f":"OFFSET(InputPriceData!D$15,CalculationsAndCharts!$A138+$A$11,IF($C$7,8,0),1,1)","v":137.52000000000001},{"$f":"OFFSET(InputPriceData!E$15,CalculationsAndCharts!$A138+$A$11,IF($C$7,8,0),1,1)","v":134.52000000000001},{"$f":"OFFSET(InputPriceData!F$15,CalculationsAndCharts!$A138+$A$11,IF($C$7,8,0),1,1)","v":134.88},120.04319999999996,130.67400000000001,134.35899999999998,136.79500000000002,133.62875,{"$error":"#N/A"},1179800,false,"UP",false,{"$error":"#N/A"},{"$error":"#N/A"},true,false,true,true,false,false,189.20000000000002,false,{"$error":"#N/A"},false,false,false,false,false,false,{"$error":"#N/A"},120.04319999999996,130.67400000000001,134.35899999999998,136.79500000000002,133.62875,null,{"$f":"OFFSET(InputIndexData!F$15,CalculationsAndCharts!$A138+$A$11,IF($C$7,8,0),1,1)","v":200.2},193.38639999999998,1,1,true,null,212,{"$error":"#N/A"}]
[107,{"$f":"OFFSET(InputPriceData!B$15,CalculationsAndCharts!$A139+$A$11,0,1,1)","v":"2014-11-13"},{"$f":"OFFSET(InputPriceData!G$15,CalculationsAndCharts!$A139+$A$11,IF($C$7,8,0),1,1)","v":1485700},{"$f":"OFFSET(InputPriceData!C$15,CalculationsAndCharts!$A139+$A$11,IF($C$7,8,0),1,1)","v":136.59},{"$f":"OFFSET(InputPriceData!D$15,CalculationsAndCharts!$A139+$A$11,IF($C$7,8,0),1,1)","v":138.38},{"$f":"OFFSET(InputPriceData!E$15,CalculationsAndCharts!$A139+$A$11,IF($C$7,8,0),1,1)","v":136.06},{"$f":"OFFSET(InputPriceData!F$15,CalculationsAndCharts!$A139+$A$11,IF($C$7,8,0),1,1)","v":137.5},119.84884999999997,130.53799999999998,133.98449999999997,136.94624999999999,133.85374999999999,1485700,{"$error":"#N/A"},true,"UP",false,137.5,{"$error":"#N/A"},true,true,false,false,false,false,{"$error":"#N/A"},false,{"$error":"#N/A"},false,false,false,false,false,false,{"$error":"#N/A"},119.84884999999997,130.53799999999998,133.98449999999997,136.94624999999999,133.85374999999999,null,{"$f":"OFFSET(InputIndexData!F$15,CalculationsAndCharts!$A139+$A$11,IF($C$7,8,0),1,1)","v":200.15},193.30659999999997,1,1,true,null,212,{"$error":"#N/A"}]
[108,{"$f":"OFFSET(InputPriceData!B$15,CalculationsAndCharts!$A140+$A$11,0,1,1)","v":"2014-11-12"},{"$f":"OFFSET(InputPriceData!G$15,CalculationsAndCharts!$A140+$A$11,IF($C$7,8,0),1,1)","v":1376100},{"$f":"OFFSET(InputPriceData!C$15,CalculationsAndCharts!$A140+$A$11,IF($C$7,8,0),1,1)","v":135.19},{"$f":"OFFSET(InputPriceData!D$15,CalculationsAndCharts!$A140+$A$11,IF($C$7,8,0),1,1)","v":136.84},{"$f":"OFFSET(InputPriceData!E$15,CalculationsAndCharts!$A140+$A$11,IF($C$7,8,0),1,1)","v":133.56},{"$f":"OFFSET(InputPriceData!F$15,CalculationsAndCharts!$A140+$A$11,IF($C$7,8,0),1,1)","v":136.35},119.64569999999996,130.30360000000002,133.3545,137.0025,133.9375,1376100,{"$error":"#N/A"},false,"DOWN",false,{"$error":"#N/A"},{"$error":"#N/A"},true,false,false,false,false,false,{"$error":"#N/A"},false,{"$error":"#N/A"},false,false,false,false,false,false,{"$error":"#N/A"},119.64569999999996,130.30360000000002,133.3545,137.0025,133.9375,null,{"$f":"OFFSET(InputIndexData!F$15,CalculationsAndCharts!$A140+$A$11,IF($C$7,8,0),1,1)","v":199.92},193.21019999999996,1,1,true,null,212,{"$error":"#N/A"}]
[109,{"$f":"OFFSET(InputPriceData!B$15,CalculationsAndCharts!$A141+$A$11,0,1,1)","v":"2014-11-11"},{"$f":"OFFSET(InputPriceData!G$15,CalculationsAndCharts!$A141+$A$11,IF($C$7,8,0),1,1)","v":1411100},{"$f":"OFFSET(InputPriceData!C$15,CalculationsAndCharts!$A141+$A$11,IF($C$7,8,0),1,1)","v":132.08000000000001},{"$f":"OFFSET(InputPriceData!D$15,CalculationsAndCharts!$A141+$A$11,IF($C$7,8,0),1,1)","v":135.69},{"$f":"OFFSET(InputPriceData!E$15,CalculationsAndCharts!$A141+$A$11,IF($C$7,8,0),1,1)","v":132.08000000000001},{"$f":"OFFSET(InputPriceData!F$15,CalculationsAndCharts!$A141+$A$11,IF($C$7,8,0),1,1)","v":135.54},119.44014999999997,130.0994,132.7045,137.26625000000001,134.41750000000002,1411100,{"$error":"#N/A"},false,"DOWN",false,{"$error":"#N/A"},{"$error":"#N/A"},true,false,false,false,false,false,{"$error":"#N/A"},false,{"$error":"#N/A"},false,false,false,false,false,false,{"$error":"#N/A"},119.44014999999997,130.0994,132.7045,137.26625000000001,134.41750000000002,null,{"$f":"OFFSET(InputIndexData!F$15,CalculationsAndCharts!$A141+$A$11,IF($C$7,8,0),1,1)","v":200.14},193.12420000000003,1,1,true,null,212,{"$error":"#N/A"}]
[110,{"$f":"OFFSET(InputPriceData!B$15,CalculationsAndCharts!$A142+$A$11,0,1,1)","v":"2014-11-10"},{"$f":"OFFSET(InputPriceData!G$15,CalculationsAndCharts!$A142+$A$11,IF($C$7,8,0),1,1)","v":2620300},{"$f":"OFFSET(InputPriceData!C$15,CalculationsAndCharts!$A142+$A$11,IF($C$7,8,0),1,1)","v":130.63999999999999},{"$f":"OFFSET(InputPriceData!D$15,CalculationsAndCharts!$A142+$A$11,IF($C$7,8,0),1,1)","v":132.33000000000001},{"$f":"OFFSET(InputPriceData!E$15,CalculationsAndCharts!$A142+$A$11,IF($C$7,8,0),1,1)","v":130.30000000000001},{"$f":"OFFSET(InputPriceData!F$15,CalculationsAndCharts!$A142+$A$11,IF($C$7,8,0),1,1)","v":131.59},119.23619999999997,129.91540000000001,132.09649999999999,137.44125,134.61124999999998,2620300,{"$error":"#N/A"},false,"DOWN",false,{"$error":"#N/A"},{"$error":"#N/A"},true,false,false,false,false,false,{"$error":"#N/A"},false,{"$error":"#N/A"},false,false,false,false,false,false,{"$error":"#N/A"},119.23619999999997,129.91540000000001,132.09649999999999,137.44125,134.61124999999998,null,{"$f":"OFFSET(InputIndexData!F$15,CalculationsAndCharts!$A142+$A$11,IF($C$7,8,0),1,1)","v":199.94},193.03579999999994,1,1,true,null,212,{"$error":"#N/A"}]
[111,{"$f":"OFFSET(InputPriceData!B$15,CalculationsAndCharts!$A143+$A$11,0,1,1)","v":"2014-11-07"},{"$f":"OFFSET(InputPriceData!G$15,CalculationsAndCharts!$A143+$A$11,IF($C$7,8,0),1,1)","v":5468300},{"$f":"OFFSET(InputPriceData!C$15,CalculationsAndCharts!$A143+$A$11,IF($C$7,8,0),1,1)","v":130.54},{"$f":"OFFSET(InputPriceData!D$15,CalculationsAndCharts!$A143+$A$11,IF($C$7,8,0),1,1)","v":134.86000000000001},{"$f":"OFFSET(InputPriceData!E$15,CalculationsAndCharts!$A143+$A$11,IF($C$7,8,0),1,1)","v":128.46},{"$f":"OFFSET(InputPriceData!F$15,CalculationsAndCharts!$A143+$A$11,IF($C$7,8,0),1,1)","v":129.72},119.0521,129.83600000000001,131.70749999999998,137.86250000000001,134.99624999999997,{"$error":"#N/A"},5468300,false,"DOWN",true,{"$error":"#N/A"},129.72,false,false,false,false,false,false,{"$error":"#N/A"},false,{"$error":"#N/A"},false,false,false,false,false,false,{"$error":"#N/A"},119.0521,129.83600000000001,131.70749999999998,137.86250000000001,134.99624999999997,null,{"$f":"OFFSET(InputIndexData!F$15,CalculationsAndCharts!$A143+$A$11,IF($C$7,8,0),1,1)","v":199.31},192.95339999999993,1,1,true,null,212,{"$error":"#N/A"}]
[112,{"$f":"OFFSET(InputPriceData!B$15,CalculationsAndCharts!$A144+$A$11,0,1,1)","v":"2014-11-06"},{"$f":"OFFSET(InputPriceData!G$15,CalculationsAndCharts!$A144+$A$11,IF($C$7,8,0),1,1)","v":1395500},{"$f":"OFFSET(InputPriceData!C$15,CalculationsAndCharts!$A144+$A$11,IF($C$7,8,0),1,1)","v":138.15},{"$f":"OFFSET(InputPriceData!D$15,CalculationsAndCharts!$A144+$A$11,IF($C$7,8,0),1,1)","v":139.72},{"$f":"OFFSET(InputPriceData!E$15,CalculationsAndCharts!$A144+$A$11,IF($C$7,8,0),1,1)","v":137.82},{"$f":"OFFSET(InputPriceData!F$15,CalculationsAndCharts!$A144+$A$11,IF($C$7,8,0),1,1)","v":138.94999999999999},118.87715,129.7722,131.49949999999998,137.75749999999999,135.14499999999998,1395500,{"$error":"#N/A"},false,"UP",false,{"$error":"#N/A"},{"$error":"#N/A"},true,false,false,false,false,false,{"$error":"#N/A"},false,{"$error":"#N/A"},false,false,false,false,false,false,{"$error":"#N/A"},118.87715,129.7722,131.49949999999998,137.75749999999999,135.14499999999998,null,{"$f":"OFFSET(InputIndexData!F$15,CalculationsAndCharts!$A144+$A$11,IF($C$7,8,0),1,1)","v":199.13},192.87239999999994,1,1,true,null,212,{"$error":"#N/A"}]
[113,{"$f":"OFFSET(InputPriceData!B$15,CalculationsAndCharts!$A145+$A$11,0,1,1)","v":"2014-11-05"},{"$f":"OFFSET(InputPriceData!G$15,CalculationsAndCharts!$A145+$A$11,IF($C$7,8,0),1,1)","v":1582000},{"$f":"OFFSET(InputPriceData!C$15,CalculationsAndCharts!$A145+$A$11,IF($C$7,8,0),1,1)","v":138.53},{"$f":"OFFSET(InputPriceData!D$15,CalculationsAndCharts!$A145+$A$11,IF($C$7,8,0),1,1)","v":139.02000000000001},{"$f":"OFFSET(InputPriceData!E$15,CalculationsAndCharts!$A145+$A$11,IF($C$7,8,0),1,1)","v":136.22999999999999},{"$f":"OFFSET(InputPriceData!F$15,CalculationsAndCharts!$A145+$A$11,IF($C$7,8,0),1,1)","v":138.03},118.65700000000001,129.51740000000001,130.76249999999999,136.89624999999998,134.36374999999998,{"$error":"#N/A"},1582000,false,"UP",false,{"$error":"#N/A"},{"$error":"#N/A"},true,false,false,false,false,false,{"$error":"#N/A"},false,{"$error":"#N/A"},false,false,false,false,false,false,{"$error":"#N/A"},118.65700000000001,129.51740000000001,130.76249999999999,136.89624999999998,134.36374999999998,null,{"$f":"OFFSET(InputIndexData!F$15,CalculationsAndCharts!$A145+$A$11,IF($C$7,8,0),1,1)","v":198.33},192.79719999999998,1,1,true,null,212,{"$error":"#N/A"}]
[114,{"$f":"OFFSET(InputPriceData!B$15,CalculationsAndCharts!$A146+$A$11,0,1,1)","v":"2014-11-04"},{"$f":"OFFSET(InputPriceData!G$15,CalculationsAndCharts!$A146+$A$11,IF($C$7,8,0),1,1)","v":1138300},{"$f":"OFFSET(InputPriceData!C$15,CalculationsAndCharts!$A146+$A$11,IF($C$7,8,0),1,1)","v":137.59},{"$f":"OFFSET(InputPriceData!D$15,CalculationsAndCharts!$A146+$A$11,IF($C$7,8,0),1,1)","v":138.72999999999999},{"$f":"OFFSET(InputPriceData!E$15,CalculationsAndCharts!$A146+$A$11,IF($C$7,8,0),1,1)","v":136.32},{"$f":"OFFSET(InputPriceData!F$15,CalculationsAndCharts!$A146+$A$11,IF($C$7,8,0),1,1)","v":136.84},118.44119999999999,129.23600000000002,130.19,136.05375000000001,133.67874999999998,{"$error":"#N/A"},1138300,false,"UP",false,{"$error":"#N/A"},{"$error":"#N/A"},true,false,false,false,false,false,{"$error":"#N/A"},false,{"$error":"#N/A"},false,false,false,false,false,false,{"$error":"#N/A"},118.44119999999999,129.23600000000002,130.19,136.05375000000001,133.67874999999998,null,{"$f":"OFFSET(InputIndexData!F$15,CalculationsAndCharts!$A146+$A$11,IF($C$7,8,0),1,1)","v":197.09},192.7396,1,1,true,null,212,{"$error":"#N/A"}]
[115,{"$f":"OFFSET(InputPriceData!B$15,CalculationsAndCharts!$A147+$A$11,0,1,1)","v":"2014-11-03"},{"$f":"OFFSET(InputPriceData!G$15,CalculationsAndCharts!$A147+$A$11,IF($C$7,8,0),1,1)","v":818000},{"$f":"OFFSET(InputPriceData!C$15,CalculationsAndCharts!$A147+$A$11,IF($C$7,8,0),1,1)","v":138.09},{"$f":"OFFSET(InputPriceData!D$15,CalculationsAndCharts!$A147+$A$11,IF($C$7,8,0),1,1)","v":138.83000000000001},{"$f":"OFFSET(InputPriceData!E$15,CalculationsAndCharts!$A147+$A$11,IF($C$7,8,0),1,1)","v":136.72999999999999},{"$f":"OFFSET(InputPriceData!F$15,CalculationsAndCharts!$A147+$A$11,IF($C$7,8,0),1,1)","v":137.57},118.229,128.96200000000002,129.54349999999999,135.27499999999998,133.06124999999997,{"$error":"#N/A"},818000,false,"UP",false,{"$error":"#N/A"},{"$error":"#N/A"},true,false,false,false,false,false,{"$error":"#N/A"},false,{"$error":"#N/A"},false,false,false,false,false,false,{"$error":"#N/A"},118.229,128.96200000000002,129.54349999999999,135.27499999999998,133.06124999999997,null,{"$f":"OFFSET(InputIndexData!F$15,CalculationsAndCharts!$A147+$A$11,IF($C$7,8,0),1,1)","v":197.78},192.70419999999999,1,1,true,null,212,{"$error":"#N/A"}]
[116,{"$f":"OFFSET(InputPriceData!B$15,CalculationsAndCharts!$A148+$A$11,0,1,1)","v":"2014-10-31"},{"$f":"OFFSET(InputPriceData!G$15,CalculationsAndCharts!$A148+$A$11,IF($C$7,8,0),1,1)","v":1219100},{"$f":"OFFSET(InputPriceData!C$15,CalculationsAndCharts!$A148+$A$11,IF($C$7,8,0),1,1)","v":138.02000000000001},{"$f":"OFFSET(InputPriceData!D$15,CalculationsAndCharts!$A148+$A$11,IF($C$7,8,0),1,1)","v":138.94999999999999},{"$f":"OFFSET(InputPriceData!E$15,CalculationsAndCharts!$A148+$A$11,IF($C$7,8,0),1,1)","v":137.4},{"$f":"OFFSET(InputPriceData!F$15,CalculationsAndCharts!$A148+$A$11,IF($C$7,8,0),1,1)","v":137.94},118.0176,128.65300000000002,128.93549999999999,134.53375,132.25,{"$error":"#N/A"},1219100,false,"UP",false,{"$error":"#N/A"},{"$error":"#N/A"},true,false,false,false,false,false,{"$error":"#N/A"},false,{"$error":"#N/A"},false,false,false,false,false,false,{"$error":"#N/A"},118.0176,128.65300000000002,128.93549999999999,134.53375,132.25,null,{"$f":"OFFSET(InputIndexData!F$15,CalculationsAndCharts!$A148+$A$11,IF($C$7,8,0),1,1)","v":197.67},192.63539999999998,1,1,true,null,212,{"$error":"#N/A"}]
[117,{"$f":"OFFSET(InputPriceData!B$15,CalculationsAndCharts!$A149+$A$11,0,1,1)","v":"2014-10-30"},{"$f":"OFFSET(InputPriceData!G$15,CalculationsAndCharts!$A149+$A$11,IF($C$7,8,0),1,1)","v":847500},{"$f":"OFFSET(InputPriceData!C$15,CalculationsAndCharts!$A149+$A$11,IF($C$7,8,0),1,1)","v":133.63},{"$f":"OFFSET(InputPriceData!D$15,CalculationsAndCharts!$A149+$A$11,IF($C$7,8,0),1,1)","v":137.09},{"$f":"OFFSET(InputPriceData!E$15,CalculationsAndCharts!$A149+$A$11,IF($C$7,8,0),1,1)","v":133.63},{"$f":"OFFSET(InputPriceData!F$15,CalculationsAndCharts!$A149+$A$11,IF($C$7,8,0),1,1)","v":136.28},117.80235,128.34180000000003,128.44200000000001,133.7775,131.2475,847500,{"$error":"#N/A"},false,"UP",false,{"$error":"#N/A"},{"$error":"#N/A"},true,false,false,false,false,false,{"$error":"#N/A"},false,{"$error":"#N/A"},false,false,false,false,false,false,{"$error":"#N/A"},117.80235,128.34180000000003,128.44200000000001,133.7775,131.2475,null,{"$f":"OFFSET(InputIndexData!F$15,CalculationsAndCharts!$A149+$A$11,IF($C$7,8,0),1,1)","v":195.43},192.57479999999998,1,1,true,null,212,{"$error":"#N/A"}]
[118,{"$f":"OFFSET(InputPriceData!B$15,CalculationsAndCharts!$A150+$A$11,0,1,1)","v":"2014-10-29"},{"$f":"OFFSET(InputPriceData!G$15,CalculationsAndCharts!$A150+$A$11,IF($C$7,8,0),1,1)","v":741500},{"$f":"OFFSET(InputPriceData!C$15,CalculationsAndCharts!$A150+$A$11,IF($C$7,8,0),1,1)","v":134.11000000000001},{"$f":"OFFSET(InputPriceData!D$15,CalculationsAndCharts!$A150+$A$11,IF($C$7,8,0),1,1)","v":135.69999999999999},{"$f":"OFFSET(InputPriceData!E$15,CalculationsAndCharts!$A150+$A$11,IF($C$7,8,0),1,1)","v":133.38},{"$f":"OFFSET(InputPriceData!F$15,CalculationsAndCharts!$A150+$A$11,IF($C$7,8,0),1,1)","v":134.06},117.6002,128.05780000000001,127.9435,132.80500000000001,130.45124999999999,{"$error":"#N/A"},741500,false,"UP",false,{"$error":"#N/A"},{"$error":"#N/A"},false,false,false,false,false,false,{"$error":"#N/A"},false,{"$error":"#N/A"},false,false,false,false,false,false,{"$error":"#N/A"},117.6002,128.05780000000001,127.9435,132.80500000000001,130.45124999999999,null,{"$f":"OFFSET(InputIndexData!F$15,CalculationsAndCharts!$A150+$A$11,IF($C$7,8,0),1,1)","v":194.19},192.54759999999999,1,1,true,null,212,{"$error":"#N/A"}]
[119,{"$f":"OFFSET(InputPriceData!B$15,CalculationsAndCharts!$A151+$A$11,0,1,1)","v":"2014-10-28"},{"$f":"OFFSET(InputPriceData!G$15,CalculationsAndCharts!$A151+$A$11,IF($C$7,8,0),1,1)","v":806800},{"$f":"OFFSET(InputPriceData!C$15,CalculationsAndCharts!$A151+$A$11,IF($C$7,8,0),1,1)","v":130.28},{"$f":"OFFSET(InputPriceData!D$15,CalculationsAndCharts!$A151+$A$11,IF($C$7,8,0),1,1)","v":134.02000000000001},{"$f":"OFFSET(InputPriceData!E$15,CalculationsAndCharts!$A151+$A$11,IF($C$7,8,0),1,1)","v":129.65},{"$f":"OFFSET(InputPriceData!F$15,CalculationsAndCharts!$A151+$A$11,IF($C$7,8,0),1,1)","v":133.84},117.40744999999998,127.81380000000001,127.59800000000003,131.80375000000001,129.38249999999999,806800,{"$error":"#N/A"},false,"UP",false,{"$error":"#N/A"},{"$error":"#N/A"},false,false,false,false,false,false,{"$error":"#N/A"},false,{"$error":"#N/A"},false,false,false,false,false,false,{"$error":"#N/A"},117.40744999999998,127.81380000000001,127.59800000000003,131.80375000000001,129.38249999999999,null,{"$f":"OFFSET(InputIndexData!F$15,CalculationsAndCharts!$A151+$A$11,IF($C$7,8,0),1,1)","v":194.48},192.53499999999994,1,1,true,null,212,{"$error":"#N/A"}]
[120,{"$f":"OFFSET(InputPriceData!B$15,CalculationsAndCharts!$A152+$A$11,0,1,1)","v":"2014-10-27"},{"$f":"OFFSET(InputPriceData!G$15,CalculationsAndCharts!$A152+$A$11,IF($C$7,8,0),1,1)","v":1092600},{"$f":"OFFSET(InputPriceData!C$15,CalculationsAndCharts!$A152+$A$11,IF($C$7,8,0),1,1)","v":132.22},{"$f":"OFFSET(InputPriceData!D$15,CalculationsAndCharts!$A152+$A$11,IF($C$7,8,0),1,1)","v":132.83000000000001},{"$f":"OFFSET(InputPriceData!E$15,CalculationsAndCharts!$A152+$A$11,IF($C$7,8,0),1,1)","v":131.57},{"$f":"OFFSET(InputPriceData!F$15,CalculationsAndCharts!$A152+$A$11,IF($C$7,8,0),1,1)","v":131.86000000000001},117.21204999999996,127.5544,127.37750000000001,131.13,128.44500000000002,{"$error":"#N/A"},1092600,false,"UP",false,{"$error":"#N/A"},{"$error":"#N/A"},false,false,false,false,false,false,{"$error":"#N/A"},false,{"$error":"#N/A"},false,false,false,false,false,false,{"$error":"#N/A"},117.21204999999996,127.5544,127.37750000000001,131.13,128.44500000000002,null,{"$f":"OFFSET(InputIndexData!F$15,CalculationsAndCharts!$A152+$A$11,IF($C$7,8,0),1,1)","v":192.28},192.49639999999997,1,1,true,null,212,{"$error":"#N/A"}]
[121,{"$f":"OFFSET(InputPriceData!B$15,CalculationsAndCharts!$A153+$A$11,0,1,1)","v":"2014-10-24"},{"$f":"OFFSET(InputPriceData!G$15,CalculationsAndCharts!$A153+$A$11,IF($C$7,8,0),1,1)","v":610000},{"$f":"OFFSET(InputPriceData!C$15,CalculationsAndCharts!$A153+$A$11,IF($C$7,8,0),1,1)","v":131.85},{"$f":"OFFSET(InputPriceData!D$15,CalculationsAndCharts!$A153+$A$11,IF($C$7,8,0),1,1)","v":132.28},{"$f":"OFFSET(InputPriceData!E$15,CalculationsAndCharts!$A153+$A$11,IF($C$7,8,0),1,1)","v":130.75},{"$f":"OFFSET(InputPriceData!F$15,CalculationsAndCharts!$A153+$A$11,IF($C$7,8,0),1,1)","v":132.22999999999999},117.03114999999998,127.30519999999999,127.33600000000001,130.0275,127.02875,610000,{"$error":"#N/A"},false,"UP",false,{"$error":"#N/A"},{"$error":"#N/A"},true,false,false,false,false,false,{"$error":"#N/A"},false,{"$error":"#N/A"},false,false,false,false,false,false,{"$error":"#N/A"},117.03114999999998,127.30519999999999,127.33600000000001,130.0275,127.02875,null,{"$f":"OFFSET(InputIndexData!F$15,CalculationsAndCharts!$A153+$A$11,IF($C$7,8,0),1,1)","v":192.54},192.46979999999996,1,1,true,null,212,{"$error":"#N/A"}]
[122,{"$f":"OFFSET(InputPriceData!B$15,CalculationsAndCharts!$A154+$A$11,0,1,1)","v":"2014-10-23"},{"$f":"OFFSET(InputPriceData!G$15,CalculationsAndCharts!$A154+$A$11,IF($C$7,8,0),1,1)","v":727300},{"$f":"OFFSET(InputPriceData!C$15,CalculationsAndCharts!$A154+$A$11,IF($C$7,8,0),1,1)","v":132.01},{"$f":"OFFSET(InputPriceData!D$15,CalculationsAndCharts!$A154+$A$11,IF($C$7,8,0),1,1)","v":132.5},{"$f":"OFFSET(InputPriceData!E$15,CalculationsAndCharts!$A154+$A$11,IF($C$7,8,0),1,1)","v":131.38},{"$f":"OFFSET(InputPriceData!F$15,CalculationsAndCharts!$A154+$A$11,IF($C$7,8,0),1,1)","v":131.76},116.85839999999999,127.04239999999999,127.2675,129.02375000000001,125.87625,{"$error":"#N/A"},727300,false,"UP",false,{"$error":"#N/A"},{"$error":"#N/A"},true,false,false,false,false,false,{"$error":"#N/A"},false,{"$error":"#N/A"},false,false,false,false,false,false,{"$error":"#N/A"},116.85839999999999,127.04239999999999,127.2675,129.02375000000001,125.87625,null,{"$f":"OFFSET(InputIndexData!F$15,CalculationsAndCharts!$A154+$A$11,IF($C$7,8,0),1,1)","v":191.07},192.43879999999993,1,0.5,true,null,212,{"$error":"#N/A"}]
[123,{"$f":"OFFSET(InputPriceData!B$15,CalculationsAndCharts!$A155+$A$11,0,1,1)","v":"2014-10-22"},{"$f":"OFFSET(InputPriceData!G$15,CalculationsAndCharts!$A155+$A$11,IF($C$7,8,0),1,1)","v":1497800},{"$f":"OFFSET(InputPriceData!C$15,CalculationsAndCharts!$A155+$A$11,IF($C$7,8,0),1,1)","v":132.87},{"$f":"OFFSET(InputPriceData!D$15,CalculationsAndCharts!$A155+$A$11,IF($C$7,8,0),1,1)","v":132.9},{"$f":"OFFSET(InputPriceData!E$15,CalculationsAndCharts!$A155+$A$11,IF($C$7,8,0),1,1)","v":130.24},{"$f":"OFFSET(InputPriceData!F$15,CalculationsAndCharts!$A155+$A$11,IF($C$7,8,0),1,1)","v":130.61000000000001},116.69004999999997,126.77639999999998,127.1865,128.40625,124.91499999999999,{"$error":"#N/A"},1497800,false,"UP",false,{"$error":"#N/A"},{"$error":"#N/A"},false,false,false,false,false,false,{"$error":"#N/A"},false,{"$error":"#N/A"},false,false,false,false,false,false,{"$error":"#N/A"},116.69004999999997,126.77639999999998,127.1865,128.40625,124.91499999999999,null,{"$f":"OFFSET(InputIndexData!F$15,CalculationsAndCharts!$A155+$A$11,IF($C$7,8,0),1,1)","v":188.87},192.41919999999993,1,0,false,null,{"$error":"#N/A"},212]
[124,{"$f":"OFFSET(InputPriceData!B$15,CalculationsAndCharts!$A156+$A$11,0,1,1)","v":"2014-10-21"},{"$f":"OFFSET(InputPriceData!G$15,CalculationsAndCharts!$A156+$A$11,IF($C$7,8,0),1,1)","v":924300},{"$f":"OFFSET(InputPriceData!C$15,CalculationsAndCharts!$A156+$A$11,IF($C$7,8,0),1,1)","v":130.58000000000001},{"$f":"OFFSET(InputPriceData!D$15,CalculationsAndCharts!$A156+$A$11,IF($C$7,8,0),1,1)","v":132.9},{"$f":"OFFSET(InputPriceData!E$15,CalculationsAndCharts!$A156+$A$11,IF($C$7,8,0),1,1)","v":129.38},{"$f":"OFFSET(InputPriceData!F$15,CalculationsAndCharts!$A156+$A$11,IF($C$7,8,0),1,1)","v":132.38999999999999},116.53309999999998,126.49699999999999,127.37250000000002,127.67249999999999,124.17874999999999,924300,{"$error":"#N/A"},false,"UP",false,{"$error":"#N/A"},{"$error":"#N/A"},false,false,false,false,false,false,{"$error":"#N/A"},false,{"$error":"#N/A"},false,false,false,false,false,false,{"$error":"#N/A"},116.53309999999998,126.49699999999999,127.37250000000002,127.67249999999999,124.17874999999999,null,{"$f":"OFFSET(InputIndexData!F$15,CalculationsAndCharts!$A156+$A$11,IF($C$7,8,0),1,1)","v":190.23},192.41819999999996,1,-0.5,false,null,{"$error":"#N/A"},212]
[125,{"$f":"OFFSET(InputPriceData!B$15,CalculationsAndCharts!$A157+$A$11,0,1,1)","v":"2014-10-20"},{"$f":"OFFSET(InputPriceData!G$15,CalculationsAndCharts!$A157+$A$11,IF($C$7,8,0),1,1)","v":868400},{"$f":"OFFSET(InputPriceData!C$15,CalculationsAndCharts!$A157+$A$11,IF($C$7,8,0),1,1)","v":127.3},{"$f":"OFFSET(InputPriceData!D$15,CalculationsAndCharts!$A157+$A$11,IF($C$7,8,0),1,1)","v":129.31},{"$f":"OFFSET(InputPriceData!E$15,CalculationsAndCharts!$A157+$A$11,IF($C$7,8,0),1,1)","v":127.26},{"$f":"OFFSET(InputPriceData!F$15,CalculationsAndCharts!$A157+$A$11,IF($C$7,8,0),1,1)","v":129.24},116.36829999999996,126.17360000000001,127.31299999999999,127.0125,123.49125000000001,868400,{"$error":"#N/A"},false,"UP",false,{"$error":"#N/A"},{"$error":"#N/A"},false,false,false,false,false,false,{"$error":"#N/A"},false,{"$error":"#N/A"},false,false,false,false,false,false,{"$error":"#N/A"},116.36829999999996,126.17360000000001,127.31299999999999,127.0125,123.49125000000001,null,{"$f":"OFFSET(InputIndexData!F$15,CalculationsAndCharts!$A157+$A$11,IF($C$7,8,0),1,1)","v":186.53},192.39519999999996,-1,-1,false,null,{"$error":"#N/A"},212]
[126,{"$f":"OFFSET(InputPriceData!B$15,CalculationsAndCharts!$A158+$A$11,0,1,1)","v":"2014-10-17"},{"$f":"OFFSET(InputPriceData!G$15,CalculationsAndCharts!$A158+$A$11,IF($C$7,8,0),1,1)","v":1004500},{"$f":"OFFSET(InputPriceData!C$15,CalculationsAndCharts!$A158+$A$11,IF($C$7,8,0),1,1)","v":125.95},{"$f":"OFFSET(InputPriceData!D$15,CalculationsAndCharts!$A158+$A$11,IF($C$7,8,0),1,1)","v":127.69},{"$f":"OFFSET(InputPriceData!E$15,CalculationsAndCharts!$A158+$A$11,IF($C$7,8,0),1,1)","v":124.83},{"$f":"OFFSET(InputPriceData!F$15,CalculationsAndCharts!$A158+$A$11,IF($C$7,8,0),1,1)","v":127.39},116.22419999999994,125.93040000000001,127.53149999999998,126.67625,123.09500000000001,1004500,{"$error":"#N/A"},true,"UP",false,127.39,{"$error":"#N/A"},false,false,false,false,false,false,{"$error":"#N/A"},false,{"$error":"#N/A"},false,false,false,false,false,false,{"$error":"#N/A"},116.22419999999994,125.93040000000001,127.53149999999998,126.67625,123.09500000000001,null,{"$f":"OFFSET(InputIndexData!F$15,CalculationsAndCharts!$A158+$A$11,IF($C$7,8,0),1,1)","v":184.74},192.43520000000001,-1,-1,false,null,{"$error":"#N/A"},212]
[127,{"$f":"OFFSET(InputPriceData!B$15,CalculationsAndCharts!$A159+$A$11,0,1,1)","v":"2014-10-16"},{"$f":"OFFSET(InputPriceData!G$15,CalculationsAndCharts!$A159+$A$11,IF($C$7,8,0),1,1)","v":1668200},{"$f":"OFFSET(InputPriceData!C$15,CalculationsAndCharts!$A159+$A$11,IF($C$7,8,0),1,1)","v":122.15},{"$f":"OFFSET(InputPriceData!D$15,CalculationsAndCharts!$A159+$A$11,IF($C$7,8,0),1,1)","v":128.63},{"$f":"OFFSET(InputPriceData!E$15,CalculationsAndCharts!$A159+$A$11,IF($C$7,8,0),1,1)","v":122.15},{"$f":"OFFSET(InputPriceData!F$15,CalculationsAndCharts!$A159+$A$11,IF($C$7,8,0),1,1)","v":124.9},116.09464999999994,125.68180000000001,127.84899999999998,126.44375000000001,122.97375,1668200,{"$error":"#N/A"},false,"DOWN",false,{"$error":"#N/A"},{"$error":"#N/A"},false,false,false,false,false,false,{"$error":"#N/A"},false,{"$error":"#N/A"},false,false,false,false,false,false,{"$error":"#N/A"},116.09464999999994,125.68180000000001,127.84899999999998,126.44375000000001,122.97375,null,{"$f":"OFFSET(InputIndexData!F$15,CalculationsAndCharts!$A159+$A$11,IF($C$7,8,0),1,1)","v":182.58},192.46799999999999,-1,-1,false,null,{"$error":"#N/A"},212]
[128,{"$f":"OFFSET(InputPriceData!B$15,CalculationsAndCharts!$A160+$A$11,0,1,1)","v":"2014-10-15"},{"$f":"OFFSET(InputPriceData!G$15,CalculationsAndCharts!$A160+$A$11,IF($C$7,8,0),1,1)","v":1340100},{"$f":"OFFSET(InputPriceData!C$15,CalculationsAndCharts!$A160+$A$11,IF($C$7,8,0),1,1)","v":121.94},{"$f":"OFFSET(InputPriceData!D$15,CalculationsAndCharts!$A160+$A$11,IF($C$7,8,0),1,1)","v":124.01},{"$f":"OFFSET(InputPriceData!E$15,CalculationsAndCharts!$A160+$A$11,IF($C$7,8,0),1,1)","v":120.24},{"$f":"OFFSET(InputPriceData!F$15,CalculationsAndCharts!$A160+$A$11,IF($C$7,8,0),1,1)","v":123.35},115.97944999999994,125.56439999999999,128.20499999999998,126.56375000000001,123.38,1340100,{"$error":"#N/A"},false,"DOWN",false,{"$error":"#N/A"},{"$error":"#N/A"},false,false,false,false,false,false,{"$error":"#N/A"},false,{"$error":"#N/A"},false,false,false,false,false,false,{"$error":"#N/A"},115.97944999999994,125.56439999999999,128.20499999999998,126.56375000000001,123.38,null,{"$f":"OFFSET(InputIndexData!F$15,CalculationsAndCharts!$A160+$A$11,IF($C$7,8,0),1,1)","v":182.74},192.56419999999997,-1,-1,false,null,{"$error":"#N/A"},212]
[129,{"$f":"OFFSET(InputPriceData!B$15,CalculationsAndCharts!$A161+$A$11,0,1,1)","v":"2014-10-14"},{"$f":"OFFSET(InputPriceData!G$15,CalculationsAndCharts!$A161+$A$11,IF($C$7,8,0),1,1)","v":1338200},{"$f":"OFFSET(InputPriceData!C$15,CalculationsAndCharts!$A161+$A$11,IF($C$7,8,0),1,1)","v":124.25},{"$f":"OFFSET(InputPriceData!D$15,CalculationsAndCharts!$A161+$A$11,IF($C$7,8,0),1,1)","v":124.25},{"$f":"OFFSET(InputPriceData!E$15,CalculationsAndCharts!$A161+$A$11,IF($C$7,8,0),1,1)","v":121.53},{"$f":"OFFSET(InputPriceData!F$15,CalculationsAndCharts!$A161+$A$11,IF($C$7,8,0),1,1)","v":123.38},{"$f":"AVERAGE(OFFSET(G161,0,0,$A$17,1))","v":115.86834999999995},{"$f":"AVERAGE(OFFSET(G161,0,0,$A$18,1))","v":125.46680000000001},{"$f":"AVERAGE(OFFSET(G161,0,0,$A$19,1))","v":128.60599999999997},{"$f":"AVERAGE(OFFSET(E161,0,0,$A$20,1))","v":127.15250000000002},{"$f":"AVERAGE(OFFSET(F161,0,0,$A$21,1))","v":124.17874999999999},{"$error":"#N/A"},1338200,{"$f":"AND(G162<=K162,G161>K161,OR(P162=\"DOWN\",P162=0))","v":false},{"$f":"IF(AND(OR(P162=0,P162=\"UP\"),Q161),\"DOWN\",IF(AND(OR(P162=0,P162=\"DOWN\"),O161),\"UP\",P162))","v":"DOWN"},{"$f":"AND(G162>=L162,G161<L161,OR(P162=0,P162=\"UP\"))","v":false},{"$error":"#N/A"},{"$error":"#N/A"},false,{"$f":"AND(T161,O161)","v":false},{"$f":"U162","v":false},{"$f":"IF(V161,TRUE,IF(X162,FALSE,W162))","v":false},{"$f":"AND(W161,Q161)","v":false},{"$f":"X162","v":false},{"$f":"IF(AND(NOT(AA161),OR(W161,Y161)),$F$11,NA())","v":{"$error":"#N/A"}},false,{"$error":"#N/A"},false,{"$f":"AND(AC161,Q161)","v":false},{"$f":"AD162","v":false},false,false,{"$f":"AG162","v":false},{"$f":"IF(AND(NOT(AA161),OR(AF161,AH161)),$F$11,NA())","v":{"$error":"#N/A"}},115.86834999999995,125.46680000000001,128.60599999999997,127.15250000000002,124.17874999999999,null,{"$f":"OFFSET(InputIndexData!F$15,CalculationsAndCharts!$A161+$A$11,IF($C$7,8,0),1,1)","v":183.98},192.65599999999998,-1,-1,false,null,{"$f":"IF(AT161,$AR$26,NA())","v":{"$error":"#N/A"}},{"$f":"IF(AT161,NA(),$AR$26)","v":212}]
[130,{"$f":"OFFSET(InputPriceData!B$15,CalculationsAndCharts!$A162+$A$11,0,1,1)","v":"2014-10-13"},{"$f":"OFFSET(InputPriceData!G$15,CalculationsAndCharts!$A162+$A$11,IF($C$7,8,0),1,1)","v":1135700},{"$f":"OFFSET(InputPriceData!C$15,CalculationsAndCharts!$A162+$A$11,IF($C$7,8,0),1,1)","v":125.47},{"$f":"OFFSET(InputPriceData!D$15,CalculationsAndCharts!$A162+$A$11,IF($C$7,8,0),1,1)","v":127.56},{"$f":"OFFSET(InputPriceData!E$15,CalculationsAndCharts!$A162+$A$11,IF($C$7,8,0),1,1)","v":123.69},{"$f":"OFFSET(InputPriceData!F$15,CalculationsAndCharts!$A162+$A$11,IF($C$7,8,0),1,1)","v":123.81},115.75989999999994,125.3854,128.99799999999996,127.54250000000002,124.62125,{"$f":"IF(D162<=G162,C162,NA())","v":{"$error":"#N/A"}},{"$f":"IF(D162<=G162,NA(),C162)","v":1135700},false,"DOWN",false,{"$error":"#N/A"},{"$error":"#N/A"},{"$f":"AND(OR(NOT($R$11),AT162),OR(NOT($R$12),J162>=I162),OR(NOT($R$13),I162>=H162),OR(NOT($R$14),G162>=I162))","v":false},false,false,false,false,false,{"$error":"#N/A"},false,{"$error":"#N/A"},{"$f":"AND(   OR(NOT($R$11),NOT(AT162)),   OR(NOT($R$12),J162<=I162),   OR(NOT($R$13),I162<=H162),   OR(NOT($R$14),G162<=I162)   )","v":false},false,false,{"$f":"IF(AE162,TRUE,IF(AG163,FALSE,AF163))","v":false},{"$f":"AND(AF162,O162)","v":false},false,{"$error":"#N/A"},{"$f":"IF($R$3,H162,NA())","v":115.75989999999994},{"$f":"IF($R$4,I162,NA())","v":125.3854},{"$f":"IF($R$5,J162,NA())","v":128.99799999999996},{"$f":"IF($R$6,K162,NA())","v":127.54250000000002},{"$f":"IF($R$6,L162,NA())","v":124.62125},null,{"$f":"OFFSET(InputIndexData!F$15,CalculationsAndCharts!$A162+$A$11,IF($C$7,8,0),1,1)","v":183.7},{"$f":"AVERAGE(OFFSET(AP162,0,0,$D$17,1))","v":192.75979999999996},{"$f":"IF(AQ162-AQ163>=0,1,-1)","v":-1},{"$f":"AVERAGE(OFFSET(AR162,0,0,$D$18,1))","v":-0.5},{"$f":"OR(AS162>0,AND(AS162=0,AS163>0))","v":false},null,{"$error":"#N/A"},212]
[131,{"$f":"OFFSET(InputPriceData!B$15,CalculationsAndCharts!$A163+$A$11,0,1,1)","v":"2014-10-10"},{"$f":"OFFSET(InputPriceData!G$15,CalculationsAndCharts!$A163+$A$11,IF($C$7,8,0),1,1)","v":1536200},{"$f":"OFFSET(InputPriceData!C$15,CalculationsAndCharts!$A163+$A$11,IF($C$7,8,0),1,1)","v":124.55},{"$f":"OFFSET(InputPriceData!D$15,CalculationsAndCharts!$A163+$A$11,IF($C$7,8,0),1,1)","v":127.03},{"$f":"OFFSET(InputPriceData!E$15,CalculationsAndCharts!$A163+$A$11,IF($C$7,8,0),1,1)","v":124.35},{"$f":"OFFSET(InputPriceData!F$15,CalculationsAndCharts!$A163+$A$11,IF($C$7,8,0),1,1)","v":125.56},115.65034999999995,125.26460000000003,129.13499999999999,127.815,124.99124999999999,1536200,{"$error":"#N/A"},false,"DOWN",false,{"$error":"#N/A"},{"$error":"#N/A"},false,false,false,false,false,false,{"$error":"#N/A"},false,{"$error":"#N/A"},false,false,false,false,false,false,{"$error":"#N/A"},115.65034999999995,125.26460000000003,129.13499999999999,127.815,124.99124999999999,null,{"$f":"OFFSET(InputIndexData!F$15,CalculationsAndCharts!$A163+$A$11,IF($C$7,8,0),1,1)","v":186.77},192.84199999999998,-1,-0.5,false,null,{"$error":"#N/A"},212]
[132,{"$f":"OFFSET(InputPriceData!B$15,CalculationsAndCharts!$A164+$A$11,0,1,1)","v":"2014-10-09"},{"$f":"OFFSET(InputPriceData!G$15,CalculationsAndCharts!$A164+$A$11,IF($C$7,8,0),1,1)","v":1024200},{"$f":"OFFSET(InputPriceData!C$15,CalculationsAndCharts!$A164+$A$11,IF($C$7,8,0),1,1)","v":126.51},{"$f":"OFFSET(InputPriceData!D$15,CalculationsAndCharts!$A164+$A$11,IF($C$7,8,0),1,1)","v":127.62},{"$f":"OFFSET(InputPriceData!E$15,CalculationsAndCharts!$A164+$A$11,IF($C$7,8,0),1,1)","v":123.88},{"$f":"OFFSET(InputPriceData!F$15,CalculationsAndCharts!$A164+$A$11,IF($C$7,8,0),1,1)","v":124.21},115.53069999999997,125.08600000000003,129.214,128.35874999999999,125.62625,{"$error":"#N/A"},1024200,false,"DOWN",false,{"$error":"#N/A"},{"$error":"#N/A"},false,false,false,false,false,false,{"$error":"#N/A"},false,{"$error":"#N/A"},false,false,false,false,false,false,{"$error":"#N/A"},115.53069999999997,125.08600000000003,129.214,128.35874999999999,125.62625,null,{"$f":"OFFSET(InputIndexData!F$15,CalculationsAndCharts!$A164+$A$11,IF($C$7,8,0),1,1)","v":188.92},192.87439999999998,-1,-0.5,false,null,{"$error":"#N/A"},212]
[133,{"$f":"OFFSET(InputPriceData!B$15,CalculationsAndCharts!$A165+$A$11,0,1,1)","v":"2014-10-08"},{"$f":"OFFSET(InputPriceData!G$15,CalculationsAndCharts!$A165+$A$11,IF($C$7,8,0),1,1)","v":1123600},{"$f":"OFFSET(InputPriceData!C$15,CalculationsAndCharts!$A165+$A$11,IF($C$7,8,0),1,1)","v":124.39},{"$f":"OFFSET(InputPriceData!D$15,CalculationsAndCharts!$A165+$A$11,IF($C$7,8,0),1,1)","v":126.62},{"$f":"OFFSET(InputPriceData!E$15,CalculationsAndCharts!$A165+$A$11,IF($C$7,8,0),1,1)","v":124.09},{"$f":"OFFSET(InputPriceData!F$15,CalculationsAndCharts!$A165+$A$11,IF($C$7,8,0),1,1)","v":126.58},115.41684999999995,124.98760000000001,129.41699999999997,128.81625,126.33624999999998,1123600,{"$error":"#N/A"},false,"DOWN",false,{"$error":"#N/A"},{"$error":"#N/A"},false,false,false,false,false,false,{"$error":"#N/A"},false,{"$error":"#N/A"},false,false,false,false,false,false,{"$error":"#N/A"},115.41684999999995,124.98760000000001,129.41699999999997,128.81625,126.33624999999998,null,{"$f":"OFFSET(InputIndexData!F$15,CalculationsAndCharts!$A165+$A$11,IF($C$7,8,0),1,1)","v":192.75},192.93959999999996,1,-0.5,false,null,{"$error":"#N/A"},212]
[134,{"$f":"OFFSET(InputPriceData!B$15,CalculationsAndCharts!$A166+$A$11,0,1,1)","v":"2014-10-07"},{"$f":"OFFSET(InputPriceData!G$15,CalculationsAndCharts!$A166+$A$11,IF($C$7,8,0),1,1)","v":1351700},{"$f":"OFFSET(InputPriceData!C$15,CalculationsAndCharts!$A166+$A$11,IF($C$7,8,0),1,1)","v":125.07},{"$f":"OFFSET(InputPriceData!D$15,CalculationsAndCharts!$A166+$A$11,IF($C$7,8,0),1,1)","v":125.83},{"$f":"OFFSET(InputPriceData!E$15,CalculationsAndCharts!$A166+$A$11,IF($C$7,8,0),1,1)","v":123.86},{"$f":"OFFSET(InputPriceData!F$15,CalculationsAndCharts!$A166+$A$11,IF($C$7,8,0),1,1)","v":123.91},115.28534999999997,124.98420000000002,129.47999999999999,129.4025,127.02374999999999,{"$error":"#N/A"},1351700,false,"DOWN",false,{"$error":"#N/A"},{"$error":"#N/A"},false,false,false,false,false,false,{"$error":"#N/A"},false,{"$error":"#N/A"},false,false,false,false,false,false,{"$error":"#N/A"},115.28534999999997,124.98420000000002,129.47999999999999,129.4025,127.02374999999999,null,{"$f":"OFFSET(InputIndexData!F$15,CalculationsAndCharts!$A166+$A$11,IF($C$7,8,0),1,1)","v":189.43},192.92759999999996,-1,-1,false,null,{"$error":"#N/A"},212]
[135,{"$f":"OFFSET(InputPriceData!B$15,CalculationsAndCharts!$A167+$A$11,0,1,1)","v":"2014-10-06"},{"$f":"OFFSET(InputPriceData!G$15,CalculationsAndCharts!$A167+$A$11,IF($C$7,8,0),1,1)","v":1171100},{"$f":"OFFSET(InputPriceData!C$15,CalculationsAndCharts!$A167+$A$11,IF($C$7,8,0),1,1)","v":128.97},{"$f":"OFFSET(InputPriceData!D$15,CalculationsAndCharts!$A167+$A$11,IF($C$7,8,0),1,1)","v":129.59},{"$f":"OFFSET(InputPriceData!E$15,CalculationsAndCharts!$A167+$A$11,IF($C$7,8,0),1,1)","v":125.4},{"$f":"OFFSET(InputPriceData!F$15,CalculationsAndCharts!$A167+$A$11,IF($C$7,8,0),1,1)","v":125.41},115.16619999999998,125.10180000000003,129.75050000000002,130.34875000000002,127.77500000000001,{"$error":"#N/A"},1171100,false,"DOWN",false,{"$error":"#N/A"},{"$error":"#N/A"},false,false,false,false,false,false,{"$error":"#N/A"},false,{"$error":"#N/A"},false,false,false,false,false,false,{"$error":"#N/A"},115.16619999999998,125.10180000000003,129.75050000000002,130.34875000000002,127.77500000000001,null,{"$f":"OFFSET(InputIndexData!F$15,CalculationsAndCharts!$A167+$A$11,IF($C$7,8,0),1,1)","v":192.4},192.99859999999993,-1,-1,false,null,{"$error":"#N/A"},212]
[136,{"$f":"OFFSET(InputPriceData!B$15,CalculationsAndCharts!$A168+$A$11,0,1,1)","v":"2014-10-03"},{"$f":"OFFSET(InputPriceData!G$15,CalculationsAndCharts!$A168+$A$11,IF($C$7,8,0),1,1)","v":982600},{"$f":"OFFSET(InputPriceData!C$15,CalculationsAndCharts!$A168+$A$11,IF($C$7,8,0),1,1)","v":127.25},{"$f":"OFFSET(InputPriceData!D$15,CalculationsAndCharts!$A168+$A$11,IF($C$7,8,0),1,1)","v":128.72},{"$f":"OFFSET(InputPriceData!E$15,CalculationsAndCharts!$A168+$A$11,IF($C$7,8,0),1,1)","v":126.63},{"$f":"OFFSET(InputPriceData!F$15,CalculationsAndCharts!$A168+$A$11,IF($C$7,8,0),1,1)","v":128.07},115.03484999999999,125.14220000000003,129.90100000000001,130.9725,128.47750000000002,982600,{"$error":"#N/A"},false,"DOWN",false,{"$error":"#N/A"},{"$error":"#N/A"},false,false,false,false,false,false,{"$error":"#N/A"},false,{"$f":"IF(AA168,$F$11,NA())","v":{"$error":"#N/A"}},false,false,false,false,false,false,{"$error":"#N/A"},115.03484999999999,125.14220000000003,129.90100000000001,130.9725,128.47750000000002,null,{"$f":"OFFSET(InputIndexData!F$15,CalculationsAndCharts!$A168+$A$11,IF($C$7,8,0),1,1)","v":192.63},193.00859999999997,-1,-0.5,false,null,{"$error":"#N/A"},212]
[137,{"$f":"OFFSET(InputPriceData!B$15,CalculationsAndCharts!$A169+$A$11,0,1,1)","v":"2014-10-02"},{"$f":"OFFSET(InputPriceData!G$15,CalculationsAndCharts!$A169+$A$11,IF($C$7,8,0),1,1)","v":1323300},{"$f":"OFFSET(InputPriceData!C$15,CalculationsAndCharts!$A169+$A$11,IF($C$7,8,0),1,1)","v":126.26},{"$f":"OFFSET(InputPriceData!D$15,CalculationsAndCharts!$A169+$A$11,IF($C$7,8,0),1,1)","v":127.37},{"$f":"OFFSET(InputPriceData!E$15,CalculationsAndCharts!$A169+$A$11,IF($C$7,8,0),1,1)","v":125.07},{"$f":"OFFSET(InputPriceData!F$15,CalculationsAndCharts!$A169+$A$11,IF($C$7,8,0),1,1)","v":126.31},114.88204999999999,125.21560000000005,129.90150000000003,131.54624999999999,128.98874999999998,1323300,{"$error":"#N/A"},false,"DOWN",false,{"$f":"IF(O169,G169,NA())","v":{"$error":"#N/A"}},{"$f":"IF(Q169,G169,NA())","v":{"$error":"#N/A"}},true,false,false,false,false,false,{"$error":"#N/A"},false,{"$error":"#N/A"},false,false,false,false,false,false,{"$error":"#N/A"},114.88204999999999,125.21560000000005,129.90150000000003,131.54624999999999,128.98874999999998,null,{"$f":"OFFSET(InputIndexData!F$15,CalculationsAndCharts!$A169+$A$11,IF($C$7,8,0),1,1)","v":190.53},193.03219999999993,-1,0,true,null,212,{"$error":"#N/A"}]
[138,{"$f":"OFFSET(InputPriceData!B$15,CalculationsAndCharts!$A170+$A$11,0,1,1)","v":"2014-10-01"},{"$f":"OFFSET(InputPriceData!G$15,CalculationsAndCharts!$A170+$A$11,IF($C$7,8,0),1,1)","v":1312300},{"$f":"OFFSET(InputPriceData!C$15,CalculationsAndCharts!$A170+$A$11,IF($C$7,8,0),1,1)","v":129.41999999999999},{"$f":"OFFSET(InputPriceData!D$15,CalculationsAndCharts!$A170+$A$11,IF($C$7,8,0),1,1)","v":129.74},{"$f":"OFFSET(InputPriceData!E$15,CalculationsAndCharts!$A170+$A$11,IF($C$7,8,0),1,1)","v":126.65},{"$f":"OFFSET(InputPriceData!F$15,CalculationsAndCharts!$A170+$A$11,IF($C$7,8,0),1,1)","v":127.15},114.74314999999999,125.32740000000004,129.87500000000003,132.46,129.97749999999999,{"$error":"#N/A"},1312300,false,"DOWN",false,{"$error":"#N/A"},{"$error":"#N/A"},true,false,false,false,false,false,{"$error":"#N/A"},false,{"$error":"#N/A"},false,false,false,false,false,false,{"$error":"#N/A"},114.74314999999999,125.32740000000004,129.87500000000003,132.46,129.97749999999999,null,{"$f":"OFFSET(InputIndexData!F$15,CalculationsAndCharts!$A170+$A$11,IF($C$7,8,0),1,1)","v":190.5},193.09759999999994,-1,0.5,true,null,212,{"$error":"#N/A"}]
[139,{"$f":"OFFSET(InputPriceData!B$15,CalculationsAndCharts!$A171+$A$11,0,1,1)","v":"2014-09-30"},{"$f":"OFFSET(InputPriceData!G$15,CalculationsAndCharts!$A171+$A$11,IF($C$7,8,0),1,1)","v":1069200},{"$f":"OFFSET(InputPriceData!C$15,CalculationsAndCharts!$A171+$A$11,IF($C$7,8,0),1,1)","v":131.13},{"$f":"OFFSET(InputPriceData!D$15,CalculationsAndCharts!$A171+$A$11,IF($C$7,8,0),1,1)","v":131.38},{"$f":"OFFSET(InputPriceData!E$15,CalculationsAndCharts!$A171+$A$11,IF($C$7,8,0),1,1)","v":129.43},{"$f":"OFFSET(InputPriceData!F$15,CalculationsAndCharts!$A171+$A$11,IF($C$7,8,0),1,1)","v":129.43},114.59905000000001,125.43240000000002,129.8245,132.98375000000001,130.65,{"$error":"#N/A"},1069200,false,"DOWN",false,{"$error":"#N/A"},{"$error":"#N/A"},true,false,false,false,false,false,{"$error":"#N/A"},false,{"$error":"#N/A"},false,false,false,false,false,false,{"$error":"#N/A"},114.59905000000001,125.43240000000002,129.8245,132.98375000000001,130.65,null,{"$f":"OFFSET(InputIndexData!F$15,CalculationsAndCharts!$A171+$A$11,IF($C$7,8,0),1,1)","v":193.12},193.15499999999997,1,0.5,true,null,212,{"$error":"#N/A"}]
[140,{"$f":"OFFSET(InputPriceData!B$15,CalculationsAndCharts!$A172+$A$11,0,1,1)","v":"2014-09-29"},{"$f":"OFFSET(InputPriceData!G$15,CalculationsAndCharts!$A172+$A$11,IF($C$7,8,0),1,1)","v":700500},{"$f":"OFFSET(InputPriceData!C$15,CalculationsAndCharts!$A172+$A$11,IF($C$7,8,0),1,1)","v":129.77000000000001},{"$f":"OFFSET(InputPriceData!D$15,CalculationsAndCharts!$A172+$A$11,IF($C$7,8,0),1,1)","v":131.28},{"$f":"OFFSET(InputPriceData!E$15,CalculationsAndCharts!$A172+$A$11,IF($C$7,8,0),1,1)","v":129.56},{"$f":"OFFSET(InputPriceData!F$15,CalculationsAndCharts!$A172+$A$11,IF($C$7,8,0),1,1)","v":131.03},114.44629999999999,125.48100000000001,129.67000000000002,133.16500000000002,130.89875000000001,700500,{"$error":"#N/A"},false,"DOWN",false,{"$error":"#N/A"},{"$error":"#N/A"},true,false,false,false,false,false,{"$error":"#N/A"},false,{"$error":"#N/A"},false,false,false,false,false,false,{"$error":"#N/A"},114.44629999999999,125.48100000000001,129.67000000000002,133.16500000000002,130.89875000000001,null,{"$f":"OFFSET(InputIndexData!F$15,CalculationsAndCharts!$A172+$A$11,IF($C$7,8,0),1,1)","v":193.63},193.14320000000001,1,0.5,true,null,212,{"$error":"#N/A"}]
[141,{"$f":"OFFSET(InputPriceData!B$15,CalculationsAndCharts!$A173+$A$11,0,1,1)","v":"2014-09-26"},{"$f":"OFFSET(InputPriceData!G$15,CalculationsAndCharts!$A173+$A$11,IF($C$7,8,0),1,1)","v":662100},{"$f":"OFFSET(InputPriceData!C$15,CalculationsAndCharts!$A173+$A$11,IF($C$7,8,0),1,1)","v":131.05000000000001},{"$f":"OFFSET(InputPriceData!D$15,CalculationsAndCharts!$A173+$A$11,IF($C$7,8,0),1,1)","v":131.31},{"$f":"OFFSET(InputPriceData!E$15,CalculationsAndCharts!$A173+$A$11,IF($C$7,8,0),1,1)","v":129.59},{"$f":"OFFSET(InputPriceData!F$15,CalculationsAndCharts!$A173+$A$11,IF($C$7,8,0),1,1)","v":130.86000000000001},114.29275,125.4894,129.49950000000001,133.29875000000004,131.02625,{"$error":"#N/A"},662100,false,"DOWN",false,{"$error":"#N/A"},{"$error":"#N/A"},true,false,false,false,false,true,189.20000000000002,false,{"$error":"#N/A"},false,false,false,false,false,false,{"$error":"#N/A"},114.29275,125.4894,129.49950000000001,133.29875000000004,131.02625,null,{"$f":"OFFSET(InputIndexData!F$15,CalculationsAndCharts!$A173+$A$11,IF($C$7,8,0),1,1)","v":193.98},193.1284,1,0.5,true,null,212,{"$error":"#N/A"}]
[142,{"$f":"OFFSET(InputPriceData!B$15,CalculationsAndCharts!$A174+$A$11,0,1,1)","v":"2014-09-25"},{"$f":"OFFSET(InputPriceData!G$15,CalculationsAndCharts!$A174+$A$11,IF($C$7,8,0),1,1)","v":1573100},{"$f":"OFFSET(InputPriceData!C$15,CalculationsAndCharts!$A174+$A$11,IF($C$7,8,0),1,1)","v":133.4},{"$f":"OFFSET(InputPriceData!D$15,CalculationsAndCharts!$A174+$A$11,IF($C$7,8,0),1,1)","v":133.4},{"$f":"OFFSET(InputPriceData!E$15,CalculationsAndCharts!$A174+$A$11,IF($C$7,8,0),1,1)","v":129.87},{"$f":"OFFSET(InputPriceData!F$15,CalculationsAndCharts!$A174+$A$11,IF($C$7,8,0),1,1)","v":130.13999999999999},114.1484,125.47279999999999,129.28299999999999,133.30125000000001,130.65375,{"$error":"#N/A"},1573100,false,"DOWN",true,{"$error":"#N/A"},130.13999999999999,true,false,false,true,true,false,189.20000000000002,false,{"$error":"#N/A"},false,false,false,false,false,false,{"$error":"#N/A"},114.1484,125.47279999999999,129.28299999999999,133.30125000000001,130.65375,null,{"$f":"OFFSET(InputIndexData!F$15,CalculationsAndCharts!$A174+$A$11,IF($C$7,8,0),1,1)","v":192.45},193.06759999999997,-1,0.5,true,null,212,{"$error":"#N/A"}]
[143,{"$f":"OFFSET(InputPriceData!B$15,CalculationsAndCharts!$A175+$A$11,0,1,1)","v":"2014-09-24"},{"$f":"OFFSET(InputPriceData!G$15,CalculationsAndCharts!$A175+$A$11,IF($C$7,8,0),1,1)","v":838500},{"$f":"OFFSET(InputPriceData!C$15,CalculationsAndCharts!$A175+$A$11,IF($C$7,8,0),1,1)","v":131.02000000000001},{"$f":"OFFSET(InputPriceData!D$15,CalculationsAndCharts!$A175+$A$11,IF($C$7,8,0),1,1)","v":134.58000000000001},{"$f":"OFFSET(InputPriceData!E$15,CalculationsAndCharts!$A175+$A$11,IF($C$7,8,0),1,1)","v":131.02000000000001},{"$f":"OFFSET(InputPriceData!F$15,CalculationsAndCharts!$A175+$A$11,IF($C$7,8,0),1,1)","v":134.33000000000001},114.01155,125.39639999999997,129.0865,132.59625000000003,130.22749999999999,838500,{"$error":"#N/A"},false,"UP",false,{"$error":"#N/A"},{"$error":"#N/A"},true,false,false,true,false,false,189.20000000000002,false,{"$error":"#N/A"},false,false,false,false,false,false,{"$error":"#N/A"},114.01155,125.39639999999997,129.0865,132.59625000000003,130.22749999999999,null,{"$f":"OFFSET(InputIndexData!F$15,CalculationsAndCharts!$A175+$A$11,IF($C$7,8,0),1,1)","v":195.61},193.0814,1,1,true,null,212,{"$error":"#N/A"}]
[144,{"$f":"OFFSET(InputPriceData!B$15,CalculationsAndCharts!$A176+$A$11,0,1,1)","v":"2014-09-23"},{"$f":"OFFSET(InputPriceData!G$15,CalculationsAndCharts!$A176+$A$11,IF($C$7,8,0),1,1)","v":1278000},{"$f":"OFFSET(InputPriceData!C$15,CalculationsAndCharts!$A176+$A$11,IF($C$7,8,0),1,1)","v":133.02000000000001},{"$f":"OFFSET(InputPriceData!D$15,CalculationsAndCharts!$A176+$A$11,IF($C$7,8,0),1,1)","v":133.31},{"$f":"OFFSET(InputPriceData!E$15,CalculationsAndCharts!$A176+$A$11,IF($C$7,8,0),1,1)","v":130.72},{"$f":"OFFSET(InputPriceData!F$15,CalculationsAndCharts!$A176+$A$11,IF($C$7,8,0),1,1)","v":131.19999999999999},113.85169999999999,125.26019999999998,128.56800000000001,131.87875,129.69,{"$error":"#N/A"},1278000,false,"UP",false,{"$error":"#N/A"},{"$error":"#N/A"},true,false,false,true,false,false,189.20000000000002,{"$f":"AND(OR(W176,Y176),OR(AF176,AH176))","v":false},{"$error":"#N/A"},false,false,false,false,false,false,{"$error":"#N/A"},113.85169999999999,125.26019999999998,128.56800000000001,131.87875,129.69,null,{"$f":"OFFSET(InputIndexData!F$15,CalculationsAndCharts!$A176+$A$11,IF($C$7,8,0),1,1)","v":194.09},193.01779999999999,1,1,true,null,212,{"$error":"#N/A"}]
[145,{"$f":"OFFSET(InputPriceData!B$15,CalculationsAndCharts!$A177+$A$11,0,1,1)","v":"2014-09-22"},{"$f":"OFFSET(InputPriceData!G$15,CalculationsAndCharts!$A177+$A$11,IF($C$7,8,0),1,1)","v":1543200},{"$f":"OFFSET(InputPriceData!C$15,CalculationsAndCharts!$A177+$A$11,IF($C$7,8,0),1,1)","v":132.97999999999999},{"$f":"OFFSET(InputPriceData!D$15,CalculationsAndCharts!$A177+$A$11,IF($C$7,8,0),1,1)","v":134.68},{"$f":"OFFSET(InputPriceData!E$15,CalculationsAndCharts!$A177+$A$11,IF($C$7,8,0),1,1)","v":132.97999999999999},{"$f":"OFFSET(InputPriceData!F$15,CalculationsAndCharts!$A177+$A$11,IF($C$7,8,0),1,1)","v":133.61000000000001},113.69720000000001,125.18379999999999,128.16500000000002,131.27625,129.12125,1543200,{"$error":"#N/A"},false,"UP",false,{"$error":"#N/A"},{"$error":"#N/A"},true,false,false,true,false,false,189.20000000000002,false,{"$error":"#N/A"},false,false,false,false,false,false,{"$error":"#N/A"},113.69720000000001,125.18379999999999,128.16500000000002,131.27625,129.12125,null,{"$f":"OFFSET(InputIndexData!F$15,CalculationsAndCharts!$A177+$A$11,IF($C$7,8,0),1,1)","v":195.21},192.99180000000004,1,1,true,null,212,{"$error":"#N/A"}]
[146,{"$f":"OFFSET(InputPriceData!B$15,CalculationsAndCharts!$A178+$A$11,0,1,1)","v":"2014-09-19"},{"$f":"OFFSET(InputPriceData!G$15,CalculationsAndCharts!$A178+$A$11,IF($C$7,8,0),1,1)","v":1234300},{"$f":"OFFSET(InputPriceData!C$15,CalculationsAndCharts!$A178+$A$11,IF($C$7,8,0),1,1)","v":132.80000000000001},{"$f":"OFFSET(InputPriceData!D$15,CalculationsAndCharts!$A178+$A$11,IF($C$7,8,0),1,1)","v":133.93},{"$f":"OFFSET(InputPriceData!E$15,CalculationsAndCharts!$A178+$A$11,IF($C$7,8,0),1,1)","v":132.03},{"$f":"OFFSET(InputPriceData!F$15,CalculationsAndCharts!$A178+$A$11,IF($C$7,8,0),1,1)","v":133.74},113.53974999999998,125.03739999999999,127.59049999999999,130.68,128.36625000000001,1234300,{"$error":"#N/A"},false,"UP",false,{"$error":"#N/A"},{"$error":"#N/A"},true,false,false,true,false,{"$f":"X179","v":false},189.20000000000002,false,{"$error":"#N/A"},false,false,false,false,false,false,{"$error":"#N/A"},113.53974999999998,125.03739999999999,127.59049999999999,130.68,128.36625000000001,null,{"$f":"OFFSET(InputIndexData!F$15,CalculationsAndCharts!$A178+$A$11,IF($C$7,8,0),1,1)","v":196.73},192.92400000000001,1,1,true,null,212,{"$error":"#N/A"}]
[147,{"$f":"OFFSET(InputPriceData!B$15,CalculationsAndCharts!$A179+$A$11,0,1,1)","v":"2014-09-18"},{"$f":"OFFSET(InputPriceData!G$15,CalculationsAndCharts!$A179+$A$11,IF($C$7,8,0),1,1)","v":798600},{"$f":"OFFSET(InputPriceData!C$15,CalculationsAndCharts!$A179+$A$11,IF($C$7,8,0),1,1)","v":131.86000000000001},{"$f":"OFFSET(InputPriceData!D$15,CalculationsAndCharts!$A179+$A$11,IF($C$7,8,0),1,1)","v":132.83000000000001},{"$f":"OFFSET(InputPriceData!E$15,CalculationsAndCharts!$A179+$A$11,IF($C$7,8,0),1,1)","v":131.41999999999999},{"$f":"OFFSET(InputPriceData!F$15,CalculationsAndCharts!$A179+$A$11,IF($C$7,8,0),1,1)","v":132.02000000000001},113.3866,124.88199999999998,127.02249999999999,130.19,127.83875,798600,{"$error":"#N/A"},false,"UP",false,{"$error":"#N/A"},{"$error":"#N/A"},true,false,false,true,false,{"$f":"X180","v":false},189.20000000000002,false,{"$error":"#N/A"},false,false,false,false,false,false,{"$error":"#N/A"},113.3866,124.88199999999998,127.02249999999999,130.19,127.83875,null,{"$f":"OFFSET(InputIndexData!F$15,CalculationsAndCharts!$A179+$A$11,IF($C$7,8,0),1,1)","v":196.9},192.82060000000001,1,1,true,null,212,{"$error":"#N/A"}]
[148,{"$f":"OFFSET(InputPriceData!B$15,CalculationsAndCharts!$A180+$A$11,0,1,1)","v":"2014-09-17"},{"$f":"OFFSET(InputPriceData!G$15,CalculationsAndCharts!$A180+$A$11,IF($C$7,8,0),1,1)","v":1945300},{"$f":"OFFSET(InputPriceData!C$15,CalculationsAndCharts!$A180+$A$11,IF($C$7,8,0),1,1)","v":131.44999999999999},{"$f":"OFFSET(InputPriceData!D$15,CalculationsAndCharts!$A180+$A$11,IF($C$7,8,0),1,1)","v":132.35},{"$f":"OFFSET(InputPriceData!E$15,CalculationsAndCharts!$A180+$A$11,IF($C$7,8,0),1,1)","v":130.58000000000001},{"$f":"OFFSET(InputPriceData!F$15,CalculationsAndCharts!$A180+$A$11,IF($C$7,8,0),1,1)","v":131.37},113.24445,124.77339999999998,126.52550000000001,129.72375,127.33374999999999,{"$error":"#N/A"},1945300,false,"UP",false,{"$error":"#N/A"},{"$error":"#N/A"},true,false,true,true,false,false,189.20000000000002,false,{"$error":"#N/A"},false,false,false,false,false,false,{"$error":"#N/A"},113.24445,124.77339999999998,126.52550000000001,129.72375,127.33374999999999,null,{"$f":"OFFSET(InputIndexData!F$15,CalculationsAndCharts!$A180+$A$11,IF($C$7,8,0),1,1)","v":195.86},192.72899999999998,1,1,true,null,212,{"$error":"#N/A"}]
[149,{"$f":"OFFSET(InputPriceData!B$15,CalculationsAndCharts!$A181+$A$11,0,1,1)","v":"2014-09-16"},{"$f":"OFFSET(InputPriceData!G$15,CalculationsAndCharts!$A181+$A$11,IF($C$7,8,0),1,1)","v":1514300},{"$f":"OFFSET(InputPriceData!C$15,CalculationsAndCharts!$A181+$A$11,IF($C$7,8,0),1,1)","v":127.16},{"$f":"OFFSET(InputPriceData!D$15,CalculationsAndCharts!$A181+$A$11,IF($C$7,8,0),1,1)","v":131.33000000000001},{"$f":"OFFSET(InputPriceData!E$15,CalculationsAndCharts!$A181+$A$11,IF($C$7,8,0),1,1)","v":126.61},{"$f":"OFFSET(InputPriceData!F$15,CalculationsAndCharts!$A181+$A$11,IF($C$7,8,0),1,1)","v":131.22},113.09935,124.67199999999998,126.05,129.29375000000002,126.70875000000001,1514300,{"$error":"#N/A"},true,"UP",false,131.22,{"$error":"#N/A"},true,true,false,false,false,false,{"$error":"#N/A"},false,{"$error":"#N/A"},false,false,false,false,false,false,{"$error":"#N/A"},113.09935,124.67199999999998,126.05,129.29375000000002,126.70875000000001,null,{"$f":"OFFSET(InputIndexData!F$15,CalculationsAndCharts!$A181+$A$11,IF($C$7,8,0),1,1)","v":195.6},192.64099999999999,1,1,true,null,212,{"$error":"#N/A"}]
[150,{"$f":"OFFSET(InputPriceData!B$15,CalculationsAndCharts!$A182+$A$11,0,1,1)","v":"2014-09-15"},{"$f":"OFFSET(InputPriceData!G$15,CalculationsAndCharts!$A182+$A$11,IF($C$7,8,0),1,1)","v":549200},{"$f":"OFFSET(InputPriceData!C$15,CalculationsAndCharts!$A182+$A$11,IF($C$7,8,0),1,1)","v":127.07},{"$f":"OFFSET(InputPriceData!D$15,CalculationsAndCharts!$A182+$A$11,IF($C$7,8,0),1,1)","v":127.76},{"$f":"OFFSET(InputPriceData!E$15,CalculationsAndCharts!$A182+$A$11,IF($C$7,8,0),1,1)","v":126.46},{"$f":"OFFSET(InputPriceData!F$15,CalculationsAndCharts!$A182+$A$11,IF($C$7,8,0),1,1)","v":126.55},112.95394999999999,124.59059999999998,125.5325,128.95499999999998,126.55875,{"$error":"#N/A"},549200,false,"DOWN",true,{"$error":"#N/A"},126.55,true,false,false,false,false,false,{"$error":"#N/A"},false,{"$error":"#N/A"},false,false,false,false,false,false,{"$error":"#N/A"},112.95394999999999,124.59059999999998,125.5325,128.95499999999998,126.55875,null,{"$f":"OFFSET(InputIndexData!F$15,CalculationsAndCharts!$A182+$A$11,IF($C$7,8,0),1,1)","v":194.13},192.583,1,1,true,null,212,{"$error":"#N/A"}]
[151,{"$f":"OFFSET(InputPriceData!B$15,CalculationsAndCharts!$A183+$A$11,0,1,1)","v":"2014-09-12"},{"$f":"OFFSET(InputPriceData!G$15,CalculationsAndCharts!$A183+$A$11,IF($C$7,8,0),1,1)","v":565800},{"$f":"OFFSET(InputPriceData!C$15,CalculationsAndCharts!$A183+$A$11,IF($C$7,8,0),1,1)","v":128.58000000000001},{"$f":"OFFSET(InputPriceData!D$15,CalculationsAndCharts!$A183+$A$11,IF($C$7,8,0),1,1)","v":128.84},{"$f":"OFFSET(InputPriceData!E$15,CalculationsAndCharts!$A183+$A$11,IF($C$7,8,0),1,1)","v":126.72},{"$f":"OFFSET(InputPriceData!F$15,CalculationsAndCharts!$A183+$A$11,IF($C$7,8,0),1,1)","v":127.14},112.83244999999999,124.64119999999997,125.175,128.89250000000001,126.50999999999999,{"$error":"#N/A"},565800,false,"UP",false,{"$error":"#N/A"},{"$error":"#N/A"},true,false,false,false,false,false,{"$error":"#N/A"},false,{"$error":"#N/A"},false,false,false,false,false,false,{"$error":"#N/A"},112.83244999999999,124.64119999999997,125.175,128.89250000000001,126.50999999999999,null,{"$f":"OFFSET(InputIndexData!F$15,CalculationsAndCharts!$A183+$A$11,IF($C$7,8,0),1,1)","v":194.28},192.56779999999998,1,1,true,null,212,{"$error":"#N/A"}]
[152,{"$f":"OFFSET(InputPriceData!B$15,CalculationsAndCharts!$A184+$A$11,0,1,1)","v":"2014-09-11"},{"$f":"OFFSET(InputPriceData!G$15,CalculationsAndCharts!$A184+$A$11,IF($C$7,8,0),1,1)","v":834400},{"$f":"OFFSET(InputPriceData!C$15,CalculationsAndCharts!$A184+$A$11,IF($C$7,8,0),1,1)","v":127.56},{"$f":"OFFSET(InputPriceData!D$15,CalculationsAndCharts!$A184+$A$11,IF($C$7,8,0),1,1)","v":128.49},{"$f":"OFFSET(InputPriceData!E$15,CalculationsAndCharts!$A184+$A$11,IF($C$7,8,0),1,1)","v":126.17},{"$f":"OFFSET(InputPriceData!F$15,CalculationsAndCharts!$A184+$A$11,IF($C$7,8,0),1,1)","v":128.27000000000001},112.70599999999999,124.66779999999997,124.77250000000001,128.83249999999998,126.36499999999998,834400,{"$error":"#N/A"},false,"UP",false,{"$error":"#N/A"},{"$error":"#N/A"},true,false,false,false,false,false,{"$error":"#N/A"},false,{"$error":"#N/A"},false,false,false,false,false,false,{"$error":"#N/A"},112.70599999999999,124.66779999999997,124.77250000000001,128.83249999999998,126.36499999999998,null,{"$f":"OFFSET(InputIndexData!F$15,CalculationsAndCharts!$A184+$A$11,IF($C$7,8,0),1,1)","v":195.42},192.53080000000003,1,1,true,null,212,{"$error":"#N/A"}]
[153,{"$f":"OFFSET(InputPriceData!B$15,CalculationsAndCharts!$A185+$A$11,0,1,1)","v":"2014-09-10"},{"$f":"OFFSET(InputPriceData!G$15,CalculationsAndCharts!$A185+$A$11,IF($C$7,8,0),1,1)","v":864900},{"$f":"OFFSET(InputPriceData!C$15,CalculationsAndCharts!$A185+$A$11,IF($C$7,8,0),1,1)","v":129.91},{"$f":"OFFSET(InputPriceData!D$15,CalculationsAndCharts!$A185+$A$11,IF($C$7,8,0),1,1)","v":129.91},{"$f":"OFFSET(InputPriceData!E$15,CalculationsAndCharts!$A185+$A$11,IF($C$7,8,0),1,1)","v":126.94},{"$f":"OFFSET(InputPriceData!F$15,CalculationsAndCharts!$A185+$A$11,IF($C$7,8,0),1,1)","v":127.84},112.56290000000001,124.66579999999998,124.28200000000001,128.82874999999999,126.4425,{"$error":"#N/A"},864900,false,"UP",false,{"$error":"#N/A"},{"$error":"#N/A"},false,false,false,false,false,false,{"$error":"#N/A"},false,{"$error":"#N/A"},false,false,false,false,false,false,{"$error":"#N/A"},112.56290000000001,124.66579999999998,124.28200000000001,128.82874999999999,126.4425,null,{"$f":"OFFSET(InputIndexData!F$15,CalculationsAndCharts!$A185+$A$11,IF($C$7,8,0),1,1)","v":195.2},192.46700000000004,1,1,true,null,212,{"$error":"#N/A"}]
[154,{"$f":"OFFSET(InputPriceData!B$15,CalculationsAndCharts!$A186+$A$11,0,1,1)","v":"2014-09-09"},{"$f":"OFFSET(InputPriceData!G$15,CalculationsAndCharts!$A186+$A$11,IF($C$7,8,0),1,1)","v":1031100},{"$f":"OFFSET(InputPriceData!C$15,CalculationsAndCharts!$A186+$A$11,IF($C$7,8,0),1,1)","v":128.34},{"$f":"OFFSET(InputPriceData!D$15,CalculationsAndCharts!$A186+$A$11,IF($C$7,8,0),1,1)","v":130.01},{"$f":"OFFSET(InputPriceData!E$15,CalculationsAndCharts!$A186+$A$11,IF($C$7,8,0),1,1)","v":127.81},{"$f":"OFFSET(InputPriceData!F$15,CalculationsAndCharts!$A186+$A$11,IF($C$7,8,0),1,1)","v":129.32},112.41445000000003,124.64119999999997,123.72200000000002,128.51625000000001,126.25999999999999,1031100,{"$error":"#N/A"},false,"UP",false,{"$error":"#N/A"},{"$error":"#N/A"},false,false,false,false,false,false,{"$error":"#N/A"},false,{"$error":"#N/A"},false,false,false,false,false,false,{"$error":"#N/A"},112.41445000000003,124.64119999999997,123.72200000000002,128.51625000000001,126.25999999999999,null,{"$f":"OFFSET(InputIndexData!F$15,CalculationsAndCharts!$A186+$A$11,IF($C$7,8,0),1,1)","v":194.46},192.38200000000003,1,1,true,null,212,{"$error":"#N/A"}]
[155,{"$f":"OFFSET(InputPriceData!B$15,CalculationsAndCharts!$A187+$A$11,0,1,1)","v":"2014-09-08"},{"$f":"OFFSET(InputPriceData!G$15,CalculationsAndCharts!$A187+$A$11,IF($C$7,8,0),1,1)","v":1030500},{"$f":"OFFSET(InputPriceData!C$15,CalculationsAndCharts!$A187+$A$11,IF($C$7,8,0),1,1)","v":127.88},{"$f":"OFFSET(InputPriceData!D$15,CalculationsAndCharts!$A187+$A$11,IF($C$7,8,0),1,1)","v":129.1},{"$f":"OFFSET(InputPriceData!E$15,CalculationsAndCharts!$A187+$A$11,IF($C$7,8,0),1,1)","v":127.38},{"$f":"OFFSET(InputPriceData!F$15,CalculationsAndCharts!$A187+$A$11,IF($C$7,8,0),1,1)","v":128.41999999999999},112.26135000000004,124.5808,123.06700000000001,128.08125000000001,125.75749999999999,1030500,{"$error":"#N/A"},false,"UP",false,{"$error":"#N/A"},{"$error":"#N/A"},false,false,false,false,false,false,{"$error":"#N/A"},false,{"$error":"#N/A"},false,false,false,false,false,false,{"$error":"#N/A"},112.26135000000004,124.5808,123.06700000000001,128.08125000000001,125.75749999999999,null,{"$f":"OFFSET(InputIndexData!F$15,CalculationsAndCharts!$A187+$A$11,IF($C$7,8,0),1,1)","v":195.7},192.31380000000004,1,1,true,null,212,{"$error":"#N/A"}]
[156,{"$f":"OFFSET(InputPriceData!B$15,CalculationsAndCharts!$A188+$A$11,0,1,1)","v":"2014-09-05"},{"$f":"OFFSET(InputPriceData!G$15,CalculationsAndCharts!$A188+$A$11,IF($C$7,8,0),1,1)","v":1186200},{"$f":"OFFSET(InputPriceData!C$15,CalculationsAndCharts!$A188+$A$11,IF($C$7,8,0),1,1)","v":126},{"$f":"OFFSET(InputPriceData!D$15,CalculationsAndCharts!$A188+$A$11,IF($C$7,8,0),1,1)","v":128.91},{"$f":"OFFSET(InputPriceData!E$15,CalculationsAndCharts!$A188+$A$11,IF($C$7,8,0),1,1)","v":125.58},{"$f":"OFFSET(InputPriceData!F$15,CalculationsAndCharts!$A188+$A$11,IF($C$7,8,0),1,1)","v":128.08000000000001},112.10465000000003,124.54619999999997,122.49999999999997,127.49249999999999,125.22499999999999,1186200,{"$error":"#N/A"},false,"UP",false,{"$error":"#N/A"},{"$error":"#N/A"},false,false,false,false,false,false,{"$error":"#N/A"},false,{"$error":"#N/A"},false,false,false,false,false,false,{"$error":"#N/A"},112.10465000000003,124.54619999999997,122.49999999999997,127.49249999999999,125.22499999999999,null,{"$f":"OFFSET(InputIndexData!F$15,CalculationsAndCharts!$A188+$A$11,IF($C$7,8,0),1,1)","v":196.21},192.21340000000004,1,1,true,null,212,{"$error":"#N/A"}]
[157,{"$f":"OFFSET(InputPriceData!B$15,CalculationsAndCharts!$A189+$A$11,0,1,1)","v":"2014-09-04"},{"$f":"OFFSET(InputPriceData!G$15,CalculationsAndCharts!$A189+$A$11,IF($C$7,8,0),1,1)","v":1298000},{"$f":"OFFSET(InputPriceData!C$15,CalculationsAndCharts!$A189+$A$11,IF($C$7,8,0),1,1)","v":126.24},{"$f":"OFFSET(InputPriceData!D$15,CalculationsAndCharts!$A189+$A$11,IF($C$7,8,0),1,1)","v":128.62},{"$f":"OFFSET(InputPriceData!E$15,CalculationsAndCharts!$A189+$A$11,IF($C$7,8,0),1,1)","v":125.41},{"$f":"OFFSET(InputPriceData!F$15,CalculationsAndCharts!$A189+$A$11,IF($C$7,8,0),1,1)","v":125.78},111.94965000000006,124.53560000000002,121.84400000000001,126.8325,124.80624999999999,{"$error":"#N/A"},1298000,false,"UP",false,{"$error":"#N/A"},{"$error":"#N/A"},false,false,{"$f":"U190","v":false},{"$f":"IF(V189,TRUE,IF(X190,FALSE,W190))","v":false},false,false,{"$error":"#N/A"},false,{"$error":"#N/A"},false,false,false,false,false,false,{"$error":"#N/A"},111.94965000000006,124.53560000000002,121.84400000000001,126.8325,124.80624999999999,null,{"$f":"OFFSET(InputIndexData!F$15,CalculationsAndCharts!$A189+$A$11,IF($C$7,8,0),1,1)","v":195.33},192.10560000000004,1,1,true,null,212,{"$error":"#N/A"}]
[158,{"$f":"OFFSET(InputPriceData!B$15,CalculationsAndCharts!$A190+$A$11,0,1,1)","v":"2014-09-03"},{"$f":"OFFSET(InputPriceData!G$15,CalculationsAndCharts!$A190+$A$11,IF($C$7,8,0),1,1)","v":1137100},{"$f":"OFFSET(InputPriceData!C$15,CalculationsAndCharts!$A190+$A$11,IF($C$7,8,0),1,1)","v":127.11},{"$f":"OFFSET(InputPriceData!D$15,CalculationsAndCharts!$A190+$A$11,IF($C$7,8,0),1,1)","v":127.26},{"$f":"OFFSET(InputPriceData!E$15,CalculationsAndCharts!$A190+$A$11,IF($C$7,8,0),1,1)","v":126.07},{"$f":"OFFSET(InputPriceData!F$15,CalculationsAndCharts!$A190+$A$11,IF($C$7,8,0),1,1)","v":126.14},111.80435000000006,124.53379999999999,121.5065,126.10124999999999,124.32875000000001,{"$error":"#N/A"},1137100,false,"UP",false,{"$error":"#N/A"},{"$error":"#N/A"},false,false,{"$f":"U191","v":false},{"$f":"IF(V190,TRUE,IF(X191,FALSE,W191))","v":false},false,false,{"$error":"#N/A"},false,{"$error":"#N/A"},false,false,false,false,false,false,{"$error":"#N/A"},111.80435000000006,124.53379999999999,121.5065,126.10124999999999,124.32875000000001,null,{"$f":"OFFSET(InputIndexData!F$15,CalculationsAndCharts!$A190+$A$11,IF($C$7,8,0),1,1)","v":195.62},191.9982,1,1,true,null,212,{"$error":"#N/A"}]
[159,{"$f":"OFFSET(InputPriceData!B$15,CalculationsAndCharts!$A191+$A$11,0,1,1)","v":"2014-09-02"},{"$f":"OFFSET(InputPriceData!G$15,CalculationsAndCharts!$A191+$A$11,IF($C$7,8,0),1,1)","v":2102400},{"$f":"OFFSET(InputPriceData!C$15,CalculationsAndCharts!$A191+$A$11,IF($C$7,8,0),1,1)","v":128.03},{"$f":"OFFSET(InputPriceData!D$15,CalculationsAndCharts!$A191+$A$11,IF($C$7,8,0),1,1)","v":128.36000000000001},{"$f":"OFFSET(InputPriceData!E$15,CalculationsAndCharts!$A191+$A$11,IF($C$7,8,0),1,1)","v":125.56},{"$f":"OFFSET(InputPriceData!F$15,CalculationsAndCharts!$A191+$A$11,IF($C$7,8,0),1,1)","v":126.34},111.65325000000003,124.52979999999999,121.123,125.54374999999999,123.7925,{"$error":"#N/A"},2102400,false,"UP",false,{"$error":"#N/A"},{"$error":"#N/A"},false,false,false,false,false,false,{"$error":"#N/A"},false,{"$error":"#N/A"},false,false,false,false,false,false,{"$error":"#N/A"},111.65325000000003,124.52979999999999,121.123,125.54374999999999,123.7925,null,{"$f":"OFFSET(InputIndexData!F$15,CalculationsAndCharts!$A191+$A$11,IF($C$7,8,0),1,1)","v":195.72},191.90799999999996,1,1,true,null,212,{"$error":"#N/A"}]
[160,{"$f":"OFFSET(InputPriceData!B$15,CalculationsAndCharts!$A192+$A$11,0,1,1)","v":"2014-08-29"},{"$f":"OFFSET(InputPriceData!G$15,CalculationsAndCharts!$A192+$A$11,IF($C$7,8,0),1,1)","v":811400},{"$f":"OFFSET(InputPriceData!C$15,CalculationsAndCharts!$A192+$A$11,IF($C$7,8,0),1,1)","v":126.82},{"$f":"OFFSET(InputPriceData!D$15,CalculationsAndCharts!$A192+$A$11,IF($C$7,8,0),1,1)","v":128.46},{"$f":"OFFSET(InputPriceData!E$15,CalculationsAndCharts!$A192+$A$11,IF($C$7,8,0),1,1)","v":126.79},{"$f":"OFFSET(InputPriceData!F$15,CalculationsAndCharts!$A192+$A$11,IF($C$7,8,0),1,1)","v":127.62},111.49680000000002,124.5184,120.77149999999999,124.78374999999998,123.22874999999999,811400,{"$error":"#N/A"},false,"UP",false,{"$error":"#N/A"},{"$error":"#N/A"},false,false,false,false,false,false,{"$error":"#N/A"},false,{"$error":"#N/A"},false,false,false,false,false,false,{"$error":"#N/A"},111.49680000000002,124.5184,120.77149999999999,124.78374999999998,123.22874999999999,null,{"$f":"OFFSET(InputIndexData!F$15,CalculationsAndCharts!$A192+$A$11,IF($C$7,8,0),1,1)","v":195.82},191.81700000000001,1,1,true,null,212,{"$error":"#N/A"}]
[161,{"$f":"OFFSET(InputPriceData!B$15,CalculationsAndCharts!$A193+$A$11,0,1,1)","v":"2014-08-28"},{"$f":"OFFSET(InputPriceData!G$15,CalculationsAndCharts!$A193+$A$11,IF($C$7,8,0),1,1)","v":801800},{"$f":"OFFSET(InputPriceData!C$15,CalculationsAndCharts!$A193+$A$11,IF($C$7,8,0),1,1)","v":125.77},{"$f":"OFFSET(InputPriceData!D$15,CalculationsAndCharts!$A193+$A$11,IF($C$7,8,0),1,1)","v":127.41},{"$f":"OFFSET(InputPriceData!E$15,CalculationsAndCharts!$A193+$A$11,IF($C$7,8,0),1,1)","v":125.48},{"$f":"OFFSET(InputPriceData!F$15,CalculationsAndCharts!$A193+$A$11,IF($C$7,8,0),1,1)","v":126.53},111.33300000000003,124.47020000000001,120.279,124.01124999999999,122.41249999999999,801800,{"$error":"#N/A"},false,"UP",false,{"$error":"#N/A"},{"$error":"#N/A"},false,false,false,false,false,false,{"$error":"#N/A"},false,{"$error":"#N/A"},false,false,false,false,false,false,{"$error":"#N/A"},111.33300000000003,124.47020000000001,120.279,124.01124999999999,122.41249999999999,null,{"$f":"OFFSET(InputIndexData!F$15,CalculationsAndCharts!$A193+$A$11,IF($C$7,8,0),1,1)","v":195.26},191.71619999999999,1,1,true,null,212,{"$error":"#N/A"}]
[162,{"$f":"OFFSET(InputPriceData!B$15,CalculationsAndCharts!$A194+$A$11,0,1,1)","v":"2014-08-27"},{"$f":"OFFSET(InputPriceData!G$15,CalculationsAndCharts!$A194+$A$11,IF($C$7,8,0),1,1)","v":923100},{"$f":"OFFSET(InputPriceData!C$15,CalculationsAndCharts!$A194+$A$11,IF($C$7,8,0),1,1)","v":123.82},{"$f":"OFFSET(InputPriceData!D$15,CalculationsAndCharts!$A194+$A$11,IF($C$7,8,0),1,1)","v":126.53},{"$f":"OFFSET(InputPriceData!E$15,CalculationsAndCharts!$A194+$A$11,IF($C$7,8,0),1,1)","v":123.79},{"$f":"OFFSET(InputPriceData!F$15,CalculationsAndCharts!$A194+$A$11,IF($C$7,8,0),1,1)","v":126.21},111.17350000000005,124.40980000000002,119.78400000000002,123.21499999999999,121.60624999999999,923100,{"$error":"#N/A"},false,"UP",false,{"$error":"#N/A"},{"$error":"#N/A"},false,false,false,false,false,false,{"$error":"#N/A"},false,{"$error":"#N/A"},false,false,false,false,false,false,{"$error":"#N/A"},111.17350000000005,124.40980000000002,119.78400000000002,123.21499999999999,121.60624999999999,null,{"$f":"OFFSET(InputIndexData!F$15,CalculationsAndCharts!$A194+$A$11,IF($C$7,8,0),1,1)","v":195.37},191.62239999999997,1,1,true,null,212,{"$error":"#N/A"}]
[163,{"$f":"OFFSET(InputPriceData!B$15,CalculationsAndCharts!$A195+$A$11,0,1,1)","v":"2014-08-26"},{"$f":"OFFSET(InputPriceData!G$15,CalculationsAndCharts!$A195+$A$11,IF($C$7,8,0),1,1)","v":700300},{"$f":"OFFSET(InputPriceData!C$15,CalculationsAndCharts!$A195+$A$11,IF($C$7,8,0),1,1)","v":123.31},{"$f":"OFFSET(InputPriceData!D$15,CalculationsAndCharts!$A195+$A$11,IF($C$7,8,0),1,1)","v":124.39},{"$f":"OFFSET(InputPriceData!E$15,CalculationsAndCharts!$A195+$A$11,IF($C$7,8,0),1,1)","v":123.12},{"$f":"OFFSET(InputPriceData!F$15,CalculationsAndCharts!$A195+$A$11,IF($C$7,8,0),1,1)","v":123.96},111.01090000000002,124.31760000000003,119.43800000000002,122.39999999999999,120.87124999999999,700300,{"$error":"#N/A"},false,"UP",false,{"$error":"#N/A"},{"$error":"#N/A"},false,false,false,{"$f":"IF(V195,TRUE,IF(X196,FALSE,W196))","v":false},false,false,{"$error":"#N/A"},false,{"$error":"#N/A"},false,false,false,false,false,false,{"$error":"#N/A"},111.01090000000002,124.31760000000003,119.43800000000002,122.39999999999999,120.87124999999999,null,{"$f":"OFFSET(InputIndexData!F$15,CalculationsAndCharts!$A195+$A$11,IF($C$7,8,0),1,1)","v":195.45},191.49859999999998,1,1,true,null,212,{"$error":"#N/A"}]
[164,{"$f":"OFFSET(InputPriceData!B$15,CalculationsAndCharts!$A196+$A$11,0,1,1)","v":"2014-08-25"},{"$f":"OFFSET(InputPriceData!G$15,CalculationsAndCharts!$A196+$A$11,IF($C$7,8,0),1,1)","v":570000},{"$f":"OFFSET(InputPriceData!C$15,CalculationsAndCharts!$A196+$A$11,IF($C$7,8,0),1,1)","v":122.75},{"$f":"OFFSET(InputPriceData!D$15,CalculationsAndCharts!$A196+$A$11,IF($C$7,8,0),1,1)","v":123.63},{"$f":"OFFSET(InputPriceData!E$15,CalculationsAndCharts!$A196+$A$11,IF($C$7,8,0),1,1)","v":122.23},{"$f":"OFFSET(InputPriceData!F$15,CalculationsAndCharts!$A196+$A$11,IF($C$7,8,0),1,1)","v":123.14},110.86095000000003,124.27279999999999,119.56049999999998,121.75624999999999,120.28125,570000,{"$error":"#N/A"},false,"UP",false,{"$error":"#N/A"},{"$error":"#N/A"},false,false,false,false,false,false,{"$error":"#N/A"},false,{"$error":"#N/A"},false,false,false,false,false,false,{"$error":"#N/A"},110.86095000000003,124.27279999999999,119.56049999999998,121.75624999999999,120.28125,null,{"$f":"OFFSET(InputIndexData!F$15,CalculationsAndCharts!$A196+$A$11,IF($C$7,8,0),1,1)","v":195.32},191.36260000000001,1,1,true,null,212,{"$error":"#N/A"}]
[165,{"$f":"OFFSET(InputPriceData!B$15,CalculationsAndCharts!$A197+$A$11,0,1,1)","v":"2014-08-22"},{"$f":"OFFSET(InputPriceData!G$15,CalculationsAndCharts!$A197+$A$11,IF($C$7,8,0),1,1)","v":637200},{"$f":"OFFSET(InputPriceData!C$15,CalculationsAndCharts!$A197+$A$11,IF($C$7,8,0),1,1)","v":122.35},{"$f":"OFFSET(InputPriceData!D$15,CalculationsAndCharts!$A197+$A$11,IF($C$7,8,0),1,1)","v":122.77},{"$f":"OFFSET(InputPriceData!E$15,CalculationsAndCharts!$A197+$A$11,IF($C$7,8,0),1,1)","v":121.59},{"$f":"OFFSET(InputPriceData!F$15,CalculationsAndCharts!$A197+$A$11,IF($C$7,8,0),1,1)","v":122.12},110.71705000000003,124.2762,119.89299999999999,121.1925,119.56125,{"$error":"#N/A"},637200,false,"UP",false,{"$error":"#N/A"},{"$error":"#N/A"},false,false,false,false,false,false,{"$error":"#N/A"},false,{"$error":"#N/A"},false,false,false,false,false,false,{"$error":"#N/A"},110.71705000000003,124.2762,119.89299999999999,121.1925,119.56125,null,{"$f":"OFFSET(InputIndexData!F$15,CalculationsAndCharts!$A197+$A$11,IF($C$7,8,0),1,1)","v":194.34},191.22619999999998,1,1,true,null,212,{"$error":"#N/A"}]
[166,{"$f":"OFFSET(InputPriceData!B$15,CalculationsAndCharts!$A198+$A$11,0,1,1)","v":"2014-08-21"},{"$f":"OFFSET(InputPriceData!G$15,CalculationsAndCharts!$A198+$A$11,IF($C$7,8,0),1,1)","v":693100},{"$f":"OFFSET(InputPriceData!C$15,CalculationsAndCharts!$A198+$A$11,IF($C$7,8,0),1,1)","v":121.82},{"$f":"OFFSET(InputPriceData!D$15,CalculationsAndCharts!$A198+$A$11,IF($C$7,8,0),1,1)","v":122.8},{"$f":"OFFSET(InputPriceData!E$15,CalculationsAndCharts!$A198+$A$11,IF($C$7,8,0),1,1)","v":121.78},{"$f":"OFFSET(InputPriceData!F$15,CalculationsAndCharts!$A198+$A$11,IF($C$7,8,0),1,1)","v":122.38},110.56880000000007,124.31140000000003,120.15849999999998,120.49750000000002,118.86125,693100,{"$error":"#N/A"},false,"UP",false,{"$error":"#N/A"},{"$error":"#N/A"},false,false,false,false,false,false,{"$error":"#N/A"},false,{"$error":"#N/A"},false,false,false,false,false,false,{"$error":"#N/A"},110.56880000000007,124.31140000000003,120.15849999999998,120.49750000000002,118.86125,null,{"$f":"OFFSET(InputIndexData!F$15,CalculationsAndCharts!$A198+$A$11,IF($C$7,8,0),1,1)","v":194.64},191.09779999999998,1,1,true,null,212,{"$error":"#N/A"}]
[167,{"$f":"OFFSET(InputPriceData!B$15,CalculationsAndCharts!$A199+$A$11,0,1,1)","v":"2014-08-20"},{"$f":"OFFSET(InputPriceData!G$15,CalculationsAndCharts!$A199+$A$11,IF($C$7,8,0),1,1)","v":432500},{"$f":"OFFSET(InputPriceData!C$15,CalculationsAndCharts!$A199+$A$11,IF($C$7,8,0),1,1)","v":121.93},{"$f":"OFFSET(InputPriceData!D$15,CalculationsAndCharts!$A199+$A$11,IF($C$7,8,0),1,1)","v":122.28},{"$f":"OFFSET(InputPriceData!E$15,CalculationsAndCharts!$A199+$A$11,IF($C$7,8,0),1,1)","v":121.05},{"$f":"OFFSET(InputPriceData!F$15,CalculationsAndCharts!$A199+$A$11,IF($C$7,8,0),1,1)","v":122.08},110.42010000000006,124.37400000000004,120.62649999999999,119.81625000000001,118.1425,432500,{"$error":"#N/A"},false,"UP",false,{"$error":"#N/A"},{"$error":"#N/A"},false,false,false,false,false,false,{"$error":"#N/A"},false,{"$error":"#N/A"},false,false,false,false,false,false,{"$error":"#N/A"},110.42010000000006,124.37400000000004,120.62649999999999,119.81625000000001,118.1425,null,{"$f":"OFFSET(InputIndexData!F$15,CalculationsAndCharts!$A199+$A$11,IF($C$7,8,0),1,1)","v":194.07},190.99020000000002,1,1,true,null,212,{"$error":"#N/A"}]
[168,{"$f":"OFFSET(InputPriceData!B$15,CalculationsAndCharts!$A200+$A$11,0,1,1)","v":"2014-08-19"},{"$f":"OFFSET(InputPriceData!G$15,CalculationsAndCharts!$A200+$A$11,IF($C$7,8,0),1,1)","v":1060500},{"$f":"OFFSET(InputPriceData!C$15,CalculationsAndCharts!$A200+$A$11,IF($C$7,8,0),1,1)","v":120.89},{"$f":"OFFSET(InputPriceData!D$15,CalculationsAndCharts!$A200+$A$11,IF($C$7,8,0),1,1)","v":122.28},{"$f":"OFFSET(InputPriceData!E$15,CalculationsAndCharts!$A200+$A$11,IF($C$7,8,0),1,1)","v":120.26},{"$f":"OFFSET(InputPriceData!F$15,CalculationsAndCharts!$A200+$A$11,IF($C$7,8,0),1,1)","v":121.86},110.26740000000005,124.43580000000003,121.11749999999999,119.19375000000001,117.3425,1060500,{"$error":"#N/A"},false,"UP",false,{"$error":"#N/A"},{"$error":"#N/A"},false,false,false,false,false,false,{"$error":"#N/A"},false,{"$error":"#N/A"},false,false,false,false,false,false,{"$error":"#N/A"},110.26740000000005,124.43580000000003,121.11749999999999,119.19375000000001,117.3425,null,{"$f":"OFFSET(InputIndexData!F$15,CalculationsAndCharts!$A200+$A$11,IF($C$7,8,0),1,1)","v":193.56},190.90739999999997,1,1,true,null,212,{"$error":"#N/A"}]
[169,{"$f":"OFFSET(InputPriceData!B$15,CalculationsAndCharts!$A201+$A$11,0,1,1)","v":"2014-08-18"},{"$f":"OFFSET(InputPriceData!G$15,CalculationsAndCharts!$A201+$A$11,IF($C$7,8,0),1,1)","v":792400},{"$f":"OFFSET(InputPriceData!C$15,CalculationsAndCharts!$A201+$A$11,IF($C$7,8,0),1,1)","v":120.14},{"$f":"OFFSET(InputPriceData!D$15,CalculationsAndCharts!$A201+$A$11,IF($C$7,8,0),1,1)","v":121.04},{"$f":"OFFSET(InputPriceData!E$15,CalculationsAndCharts!$A201+$A$11,IF($C$7,8,0),1,1)","v":119.03},{"$f":"OFFSET(InputPriceData!F$15,CalculationsAndCharts!$A201+$A$11,IF($C$7,8,0),1,1)","v":120.87},109.65810000000006,124.47900000000006,121.64450000000002,118.77124999999999,116.62375,792400,{"$error":"#N/A"},false,"UP",false,{"$error":"#N/A"},{"$error":"#N/A"},false,false,false,false,false,false,{"$error":"#N/A"},false,{"$error":"#N/A"},false,false,false,false,false,false,{"$error":"#N/A"},109.65810000000006,124.47900000000006,121.64450000000002,118.77124999999999,116.62375,null,{"$f":"OFFSET(InputIndexData!F$15,CalculationsAndCharts!$A201+$A$11,IF($C$7,8,0),1,1)","v":192.55},190.83439999999999,1,1,true,null,212,{"$error":"#N/A"}]
[170,{"$f":"OFFSET(InputPriceData!B$15,CalculationsAndCharts!$A202+$A$11,0,1,1)","v":"2014-08-15"},{"$f":"OFFSET(InputPriceData!G$15,CalculationsAndCharts!$A202+$A$11,IF($C$7,8,0),1,1)","v":1284000},{"$f":"OFFSET(InputPriceData!C$15,CalculationsAndCharts!$A202+$A$11,IF($C$7,8,0),1,1)","v":119.3},{"$f":"OFFSET(InputPriceData!D$15,CalculationsAndCharts!$A202+$A$11,IF($C$7,8,0),1,1)","v":120.01},{"$f":"OFFSET(InputPriceData!E$15,CalculationsAndCharts!$A202+$A$11,IF($C$7,8,0),1,1)","v":117.91},{"$f":"OFFSET(InputPriceData!F$15,CalculationsAndCharts!$A202+$A$11,IF($C$7,8,0),1,1)","v":119.4},109.05375000000005,124.56180000000003,122.194,118.66124999999998,116.49624999999999,1284000,{"$error":"#N/A"},false,"UP",false,{"$error":"#N/A"},{"$error":"#N/A"},false,false,false,false,false,false,{"$error":"#N/A"},false,{"$error":"#N/A"},false,false,false,false,false,false,{"$error":"#N/A"},109.05375000000005,124.56180000000003,122.194,118.66124999999998,116.49624999999999,null,{"$f":"OFFSET(InputIndexData!F$15,CalculationsAndCharts!$A202+$A$11,IF($C$7,8,0),1,1)","v":190.95},190.77759999999995,1,1,true,null,212,{"$error":"#N/A"}]
[171,{"$f":"OFFSET(InputPriceData!B$15,CalculationsAndCharts!$A203+$A$11,0,1,1)","v":"2014-08-14"},{"$f":"OFFSET(InputPriceData!G$15,CalculationsAndCharts!$A203+$A$11,IF($C$7,8,0),1,1)","v":1041400},{"$f":"OFFSET(InputPriceData!C$15,CalculationsAndCharts!$A203+$A$11,IF($C$7,8,0),1,1)","v":119.07},{"$f":"OFFSET(InputPriceData!D$15,CalculationsAndCharts!$A203+$A$11,IF($C$7,8,0),1,1)","v":119.24},{"$f":"OFFSET(InputPriceData!E$15,CalculationsAndCharts!$A203+$A$11,IF($C$7,8,0),1,1)","v":118.4},{"$f":"OFFSET(InputPriceData!F$15,CalculationsAndCharts!$A203+$A$11,IF($C$7,8,0),1,1)","v":119.09},108.45675000000007,124.63380000000005,122.79649999999999,118.54249999999999,116.44499999999999,1041400,{"$error":"#N/A"},true,"UP",false,119.09,{"$error":"#N/A"},false,false,false,false,false,false,{"$error":"#N/A"},false,{"$error":"#N/A"},false,false,false,false,false,false,{"$error":"#N/A"},108.45675000000007,124.63380000000005,122.79649999999999,118.54249999999999,116.44499999999999,null,{"$f":"OFFSET(InputIndexData!F$15,CalculationsAndCharts!$A203+$A$11,IF($C$7,8,0),1,1)","v":190.99},190.73479999999995,1,1,true,null,212,{"$error":"#N/A"}]
[172,{"$f":"OFFSET(InputPriceData!B$15,CalculationsAndCharts!$A204+$A$11,0,1,1)","v":"2014-08-13"},{"$f":"OFFSET(InputPriceData!G$15,CalculationsAndCharts!$A204+$A$11,IF($C$7,8,0),1,1)","v":1279900},{"$f":"OFFSET(InputPriceData!C$15,CalculationsAndCharts!$A204+$A$11,IF($C$7,8,0),1,1)","v":116.64},{"$f":"OFFSET(InputPriceData!D$15,CalculationsAndCharts!$A204+$A$11,IF($C$7,8,0),1,1)","v":119.12},{"$f":"OFFSET(InputPriceData!E$15,CalculationsAndCharts!$A204+$A$11,IF($C$7,8,0),1,1)","v":116.47},{"$f":"OFFSET(InputPriceData!F$15,CalculationsAndCharts!$A204+$A$11,IF($C$7,8,0),1,1)","v":118.46},107.86130000000007,124.72960000000005,123.34350000000002,118.60249999999999,116.29875,1279900,{"$error":"#N/A"},false,"DOWN",false,{"$error":"#N/A"},{"$error":"#N/A"},false,false,false,false,false,false,{"$error":"#N/A"},false,{"$error":"#N/A"},false,false,false,false,false,false,{"$error":"#N/A"},107.86130000000007,124.72960000000005,123.34350000000002,118.60249999999999,116.29875,null,{"$f":"OFFSET(InputIndexData!F$15,CalculationsAndCharts!$A204+$A$11,IF($C$7,8,0),1,1)","v":190.09},190.66679999999997,1,1,true,null,212,{"$error":"#N/A"}]
[173,{"$f":"OFFSET(InputPriceData!B$15,CalculationsAndCharts!$A205+$A$11,0,1,1)","v":"2014-08-12"},{"$f":"OFFSET(InputPriceData!G$15,CalculationsAndCharts!$A205+$A$11,IF($C$7,8,0),1,1)","v":750700},{"$f":"OFFSET(InputPriceData!C$15,CalculationsAndCharts!$A205+$A$11,IF($C$7,8,0),1,1)","v":116.42},{"$f":"OFFSET(InputPriceData!D$15,CalculationsAndCharts!$A205+$A$11,IF($C$7,8,0),1,1)","v":117.21},{"$f":"OFFSET(InputPriceData!E$15,CalculationsAndCharts!$A205+$A$11,IF($C$7,8,0),1,1)","v":115.99},{"$f":"OFFSET(InputPriceData!F$15,CalculationsAndCharts!$A205+$A$11,IF($C$7,8,0),1,1)","v":116.64},107.26900000000006,124.82140000000007,123.73650000000002,118.47125,116.27499999999999,750700,{"$error":"#N/A"},false,"DOWN",false,{"$error":"#N/A"},{"$error":"#N/A"},false,false,false,false,false,false,{"$error":"#N/A"},false,{"$error":"#N/A"},false,false,false,false,false,false,{"$error":"#N/A"},107.26900000000006,124.82140000000007,123.73650000000002,118.47125,116.27499999999999,null,{"$f":"OFFSET(InputIndexData!F$15,CalculationsAndCharts!$A205+$A$11,IF($C$7,8,0),1,1)","v":188.82},190.60919999999996,1,1,true,null,212,{"$error":"#N/A"}]
[174,{"$f":"OFFSET(InputPriceData!B$15,CalculationsAndCharts!$A206+$A$11,0,1,1)","v":"2014-08-11"},{"$f":"OFFSET(InputPriceData!G$15,CalculationsAndCharts!$A206+$A$11,IF($C$7,8,0),1,1)","v":908100},{"$f":"OFFSET(InputPriceData!C$15,CalculationsAndCharts!$A206+$A$11,IF($C$7,8,0),1,1)","v":117.08},{"$f":"OFFSET(InputPriceData!D$15,CalculationsAndCharts!$A206+$A$11,IF($C$7,8,0),1,1)","v":117.35},{"$f":"OFFSET(InputPriceData!E$15,CalculationsAndCharts!$A206+$A$11,IF($C$7,8,0),1,1)","v":116.03},{"$f":"OFFSET(InputPriceData!F$15,CalculationsAndCharts!$A206+$A$11,IF($C$7,8,0),1,1)","v":116.22},106.68580000000007,124.96940000000006,124.28050000000003,118.77374999999999,116.19750000000001,{"$error":"#N/A"},908100,false,"DOWN",false,{"$error":"#N/A"},{"$error":"#N/A"},false,false,false,false,false,false,{"$error":"#N/A"},false,{"$error":"#N/A"},false,false,false,false,false,false,{"$error":"#N/A"},106.68580000000007,124.96940000000006,124.28050000000003,118.77374999999999,116.19750000000001,null,{"$f":"OFFSET(InputIndexData!F$15,CalculationsAndCharts!$A206+$A$11,IF($C$7,8,0),1,1)","v":189.08},190.57879999999989,1,1,true,null,212,{"$error":"#N/A"}]
[175,{"$f":"OFFSET(InputPriceData!B$15,CalculationsAndCharts!$A207+$A$11,0,1,1)","v":"2014-08-08"},{"$f":"OFFSET(InputPriceData!G$15,CalculationsAndCharts!$A207+$A$11,IF($C$7,8,0),1,1)","v":1094400},{"$f":"OFFSET(InputPriceData!C$15,CalculationsAndCharts!$A207+$A$11,IF($C$7,8,0),1,1)","v":115.28},{"$f":"OFFSET(InputPriceData!D$15,CalculationsAndCharts!$A207+$A$11,IF($C$7,8,0),1,1)","v":117.3},{"$f":"OFFSET(InputPriceData!E$15,CalculationsAndCharts!$A207+$A$11,IF($C$7,8,0),1,1)","v":114.65},{"$f":"OFFSET(InputPriceData!F$15,CalculationsAndCharts!$A207+$A$11,IF($C$7,8,0),1,1)","v":117.08},106.10470000000008,125.10720000000006,124.83850000000002,119.59375,116.38124999999999,1094400,{"$error":"#N/A"},false,"DOWN",false,{"$error":"#N/A"},{"$error":"#N/A"},false,false,false,false,false,false,{"$error":"#N/A"},false,{"$error":"#N/A"},false,false,false,false,false,false,{"$error":"#N/A"},106.10470000000008,125.10720000000006,124.83850000000002,119.59375,116.38124999999999,null,{"$f":"OFFSET(InputIndexData!F$15,CalculationsAndCharts!$A207+$A$11,IF($C$7,8,0),1,1)","v":188.53},190.5389999999999,1,1,true,null,212,{"$error":"#N/A"}]
[176,{"$f":"OFFSET(InputPriceData!B$15,CalculationsAndCharts!$A208+$A$11,0,1,1)","v":"2014-08-07"},{"$f":"OFFSET(InputPriceData!G$15,CalculationsAndCharts!$A208+$A$11,IF($C$7,8,0),1,1)","v":1697800},{"$f":"OFFSET(InputPriceData!C$15,CalculationsAndCharts!$A208+$A$11,IF($C$7,8,0),1,1)","v":118.9},{"$f":"OFFSET(InputPriceData!D$15,CalculationsAndCharts!$A208+$A$11,IF($C$7,8,0),1,1)","v":118.9},{"$f":"OFFSET(InputPriceData!E$15,CalculationsAndCharts!$A208+$A$11,IF($C$7,8,0),1,1)","v":114.51},{"$f":"OFFSET(InputPriceData!F$15,CalculationsAndCharts!$A208+$A$11,IF($C$7,8,0),1,1)","v":114.96},105.5193000000001,125.22980000000007,125.29900000000002,121.16125000000001,117.735,{"$error":"#N/A"},1697800,false,"DOWN",false,{"$error":"#N/A"},{"$error":"#N/A"},false,false,false,false,false,false,{"$error":"#N/A"},false,{"$error":"#N/A"},false,false,false,false,false,false,{"$error":"#N/A"},105.5193000000001,125.22980000000007,125.29900000000002,121.16125000000001,117.735,null,{"$f":"OFFSET(InputIndexData!F$15,CalculationsAndCharts!$A208+$A$11,IF($C$7,8,0),1,1)","v":186.38},190.50419999999994,1,1,true,null,212,{"$error":"#N/A"}]
[177,{"$f":"OFFSET(InputPriceData!B$15,CalculationsAndCharts!$A209+$A$11,0,1,1)","v":"2014-08-06"},{"$f":"OFFSET(InputPriceData!G$15,CalculationsAndCharts!$A209+$A$11,IF($C$7,8,0),1,1)","v":800200},{"$f":"OFFSET(InputPriceData!C$15,CalculationsAndCharts!$A209+$A$11,IF($C$7,8,0),1,1)","v":118.01},{"$f":"OFFSET(InputPriceData!D$15,CalculationsAndCharts!$A209+$A$11,IF($C$7,8,0),1,1)","v":120.16},{"$f":"OFFSET(InputPriceData!E$15,CalculationsAndCharts!$A209+$A$11,IF($C$7,8,0),1,1)","v":118.01},{"$f":"OFFSET(InputPriceData!F$15,CalculationsAndCharts!$A209+$A$11,IF($C$7,8,0),1,1)","v":119.03},104.9445000000001,125.39000000000007,125.84950000000001,122.54249999999999,119.39875000000001,800200,{"$error":"#N/A"},false,"DOWN",false,{"$error":"#N/A"},{"$error":"#N/A"},false,false,false,false,false,false,{"$error":"#N/A"},false,{"$error":"#N/A"},false,false,false,false,false,false,{"$error":"#N/A"},104.9445000000001,125.39000000000007,125.84950000000001,122.54249999999999,119.39875000000001,null,{"$f":"OFFSET(InputIndexData!F$15,CalculationsAndCharts!$A209+$A$11,IF($C$7,8,0),1,1)","v":187.39},190.49319999999997,1,1,true,null,212,{"$error":"#N/A"}]
[178,{"$f":"OFFSET(InputPriceData!B$15,CalculationsAndCharts!$A210+$A$11,0,1,1)","v":"2014-08-05"},{"$f":"OFFSET(InputPriceData!G$15,CalculationsAndCharts!$A210+$A$11,IF($C$7,8,0),1,1)","v":1784300},{"$f":"OFFSET(InputPriceData!C$15,CalculationsAndCharts!$A210+$A$11,IF($C$7,8,0),1,1)","v":118.11},{"$f":"OFFSET(InputPriceData!D$15,CalculationsAndCharts!$A210+$A$11,IF($C$7,8,0),1,1)","v":119.06},{"$f":"OFFSET(InputPriceData!E$15,CalculationsAndCharts!$A210+$A$11,IF($C$7,8,0),1,1)","v":117.5},{"$f":"OFFSET(InputPriceData!F$15,CalculationsAndCharts!$A210+$A$11,IF($C$7,8,0),1,1)","v":118.47},104.34935000000009,125.48720000000007,126.22749999999999,123.60875000000001,120.3875,1784300,{"$error":"#N/A"},false,"DOWN",false,{"$error":"#N/A"},{"$error":"#N/A"},false,false,false,false,false,false,{"$error":"#N/A"},false,{"$error":"#N/A"},false,false,false,false,false,false,{"$error":"#N/A"},104.34935000000009,125.48720000000007,126.22749999999999,123.60875000000001,120.3875,null,{"$f":"OFFSET(InputIndexData!F$15,CalculationsAndCharts!$A210+$A$11,IF($C$7,8,0),1,1)","v":187.33},190.46459999999996,1,1,true,null,212,{"$error":"#N/A"}]
[179,{"$f":"OFFSET(InputPriceData!B$15,CalculationsAndCharts!$A211+$A$11,0,1,1)","v":"2014-08-04"},{"$f":"OFFSET(InputPriceData!G$15,CalculationsAndCharts!$A211+$A$11,IF($C$7,8,0),1,1)","v":1279500},{"$f":"OFFSET(InputPriceData!C$15,CalculationsAndCharts!$A211+$A$11,IF($C$7,8,0),1,1)","v":117.67},{"$f":"OFFSET(InputPriceData!D$15,CalculationsAndCharts!$A211+$A$11,IF($C$7,8,0),1,1)","v":119.72},{"$f":"OFFSET(InputPriceData!E$15,CalculationsAndCharts!$A211+$A$11,IF($C$7,8,0),1,1)","v":117.23},{"$f":"OFFSET(InputPriceData!F$15,CalculationsAndCharts!$A211+$A$11,IF($C$7,8,0),1,1)","v":119.31},103.7570000000001,125.58060000000006,126.619,125.3775,122.1275,1279500,{"$error":"#N/A"},false,"DOWN",false,{"$error":"#N/A"},{"$error":"#N/A"},false,false,false,false,false,false,{"$error":"#N/A"},false,{"$error":"#N/A"},false,false,false,false,false,false,{"$error":"#N/A"},103.7570000000001,125.58060000000006,126.619,125.3775,122.1275,null,{"$f":"OFFSET(InputIndexData!F$15,CalculationsAndCharts!$A211+$A$11,IF($C$7,8,0),1,1)","v":189.17},190.41459999999995,1,1,true,null,212,{"$error":"#N/A"}]
[180,{"$f":"OFFSET(InputPriceData!B$15,CalculationsAndCharts!$A212+$A$11,0,1,1)","v":"2014-08-01"},{"$f":"OFFSET(InputPriceData!G$15,CalculationsAndCharts!$A212+$A$11,IF($C$7,8,0),1,1)","v":1466100},{"$f":"OFFSET(InputPriceData!C$15,CalculationsAndCharts!$A212+$A$11,IF($C$7,8,0),1,1)","v":116.28},{"$f":"OFFSET(InputPriceData!D$15,CalculationsAndCharts!$A212+$A$11,IF($C$7,8,0),1,1)","v":118.07},{"$f":"OFFSET(InputPriceData!E$15,CalculationsAndCharts!$A212+$A$11,IF($C$7,8,0),1,1)","v":116.28},{"$f":"OFFSET(InputPriceData!F$15,CalculationsAndCharts!$A212+$A$11,IF($C$7,8,0),1,1)","v":117.77},103.1604500000001,125.63380000000006,127.011,127.04250000000002,123.8925,1466100,{"$error":"#N/A"},false,"DOWN",false,{"$error":"#N/A"},{"$error":"#N/A"},false,false,false,false,false,false,{"$error":"#N/A"},false,{"$error":"#N/A"},false,false,false,false,false,false,{"$error":"#N/A"},103.1604500000001,125.63380000000006,127.011,127.04250000000002,123.8925,null,{"$f":"OFFSET(InputIndexData!F$15,CalculationsAndCharts!$A212+$A$11,IF($C$7,8,0),1,1)","v":187.81},190.31299999999996,1,1,true,null,212,{"$error":"#N/A"}]
[181,{"$f":"OFFSET(InputPriceData!B$15,CalculationsAndCharts!$A213+$A$11,0,1,1)","v":"2014-07-31"},{"$f":"OFFSET(InputPriceData!G$15,CalculationsAndCharts!$A213+$A$11,IF($C$7,8,0),1,1)","v":3028600},{"$f":"OFFSET(InputPriceData!C$15,CalculationsAndCharts!$A213+$A$11,IF($C$7,8,0),1,1)","v":119.63},{"$f":"OFFSET(InputPriceData!D$15,CalculationsAndCharts!$A213+$A$11,IF($C$7,8,0),1,1)","v":119.63},{"$f":"OFFSET(InputPriceData!E$15,CalculationsAndCharts!$A213+$A$11,IF($C$7,8,0),1,1)","v":115.37},{"$f":"OFFSET(InputPriceData!F$15,CalculationsAndCharts!$A213+$A$11,IF($C$7,8,0),1,1)","v":116.63},102.57160000000009,125.70000000000006,127.57649999999998,129.00375,125.86750000000001,{"$error":"#N/A"},3028600,false,"DOWN",false,{"$error":"#N/A"},{"$error":"#N/A"},false,false,false,false,false,false,{"$error":"#N/A"},false,{"$error":"#N/A"},false,false,false,false,false,false,{"$error":"#N/A"},102.57160000000009,125.70000000000006,127.57649999999998,129.00375,125.86750000000001,null,{"$f":"OFFSET(InputIndexData!F$15,CalculationsAndCharts!$A213+$A$11,IF($C$7,8,0),1,1)","v":188.39},190.2296,1,1,true,null,212,{"$error":"#N/A"}]
[182,{"$f":"OFFSET(InputPriceData!B$15,CalculationsAndCharts!$A214+$A$11,0,1,1)","v":"2014-07-30"},{"$f":"OFFSET(InputPriceData!G$15,CalculationsAndCharts!$A214+$A$11,IF($C$7,8,0),1,1)","v":3908200},{"$f":"OFFSET(InputPriceData!C$15,CalculationsAndCharts!$A214+$A$11,IF($C$7,8,0),1,1)","v":123.91},{"$f":"OFFSET(InputPriceData!D$15,CalculationsAndCharts!$A214+$A$11,IF($C$7,8,0),1,1)","v":123.91},{"$f":"OFFSET(InputPriceData!E$15,CalculationsAndCharts!$A214+$A$11,IF($C$7,8,0),1,1)","v":117.5},{"$f":"OFFSET(InputPriceData!F$15,CalculationsAndCharts!$A214+$A$11,IF($C$7,8,0),1,1)","v":119.29},101.98845000000009,125.76760000000006,128.16849999999999,130.55625000000001,127.66625000000001,{"$error":"#N/A"},3908200,false,"DOWN",false,{"$error":"#N/A"},{"$error":"#N/A"},false,false,false,false,false,false,{"$error":"#N/A"},false,{"$error":"#N/A"},false,false,false,false,false,false,{"$error":"#N/A"},101.98845000000009,125.76760000000006,128.16849999999999,130.55625000000001,127.66625000000001,null,{"$f":"OFFSET(InputIndexData!F$15,CalculationsAndCharts!$A214+$A$11,IF($C$7,8,0),1,1)","v":192.18},190.10400000000001,1,1,true,null,212,{"$error":"#N/A"}]
[183,{"$f":"OFFSET(InputPriceData!B$15,CalculationsAndCharts!$A215+$A$11,0,1,1)","v":"2014-07-29"},{"$f":"OFFSET(InputPriceData!G$15,CalculationsAndCharts!$A215+$A$11,IF($C$7,8,0),1,1)","v":1621800},{"$f":"OFFSET(InputPriceData!C$15,CalculationsAndCharts!$A215+$A$11,IF($C$7,8,0),1,1)","v":129.43},{"$f":"OFFSET(InputPriceData!D$15,CalculationsAndCharts!$A215+$A$11,IF($C$7,8,0),1,1)","v":129.84},{"$f":"OFFSET(InputPriceData!E$15,CalculationsAndCharts!$A215+$A$11,IF($C$7,8,0),1,1)","v":125.48},{"$f":"OFFSET(InputPriceData!F$15,CalculationsAndCharts!$A215+$A$11,IF($C$7,8,0),1,1)","v":126.41},101.39200000000008,125.78220000000006,128.61250000000001,131.535,129.18,{"$error":"#N/A"},1621800,false,"DOWN",false,{"$error":"#N/A"},{"$error":"#N/A"},true,false,false,false,false,false,{"$error":"#N/A"},false,{"$error":"#N/A"},false,false,false,false,false,false,{"$error":"#N/A"},101.39200000000008,125.78220000000006,128.61250000000001,131.535,129.18,null,{"$f":"OFFSET(InputIndexData!F$15,CalculationsAndCharts!$A215+$A$11,IF($C$7,8,0),1,1)","v":192.15},189.92559999999997,1,1,true,null,212,{"$error":"#N/A"}]
[184,{"$f":"OFFSET(InputPriceData!B$15,CalculationsAndCharts!$A216+$A$11,0,1,1)","v":"2014-07-28"},{"$f":"OFFSET(InputPriceData!G$15,CalculationsAndCharts!$A216+$A$11,IF($C$7,8,0),1,1)","v":1121400},{"$f":"OFFSET(InputPriceData!C$15,CalculationsAndCharts!$A216+$A$11,IF($C$7,8,0),1,1)","v":127.91},{"$f":"OFFSET(InputPriceData!D$15,CalculationsAndCharts!$A216+$A$11,IF($C$7,8,0),1,1)","v":129.94999999999999},{"$f":"OFFSET(InputPriceData!E$15,CalculationsAndCharts!$A216+$A$11,IF($C$7,8,0),1,1)","v":127.82},{"$f":"OFFSET(InputPriceData!F$15,CalculationsAndCharts!$A216+$A$11,IF($C$7,8,0),1,1)","v":129.79},100.75995000000007,125.60820000000005,128.62249999999997,131.86625000000001,129.24,1121400,{"$error":"#N/A"},false,"DOWN",false,{"$error":"#N/A"},{"$error":"#N/A"},true,false,false,false,false,true,189.20000000000002,false,{"$error":"#N/A"},false,false,false,false,false,false,{"$error":"#N/A"},100.75995000000007,125.60820000000005,128.62249999999997,131.86625000000001,129.24,null,{"$f":"OFFSET(InputIndexData!F$15,CalculationsAndCharts!$A216+$A$11,IF($C$7,8,0),1,1)","v":192.98},189.73440000000002,1,1,true,null,212,{"$error":"#N/A"}]
[185,{"$f":"OFFSET(InputPriceData!B$15,CalculationsAndCharts!$A217+$A$11,0,1,1)","v":"2014-07-25"},{"$f":"OFFSET(InputPriceData!G$15,CalculationsAndCharts!$A217+$A$11,IF($C$7,8,0),1,1)","v":1361100},{"$f":"OFFSET(InputPriceData!C$15,CalculationsAndCharts!$A217+$A$11,IF($C$7,8,0),1,1)","v":125.92},{"$f":"OFFSET(InputPriceData!D$15,CalculationsAndCharts!$A217+$A$11,IF($C$7,8,0),1,1)","v":128.69},{"$f":"OFFSET(InputPriceData!E$15,CalculationsAndCharts!$A217+$A$11,IF($C$7,8,0),1,1)","v":125.92},{"$f":"OFFSET(InputPriceData!F$15,CalculationsAndCharts!$A217+$A$11,IF($C$7,8,0),1,1)","v":127.43},100.11100000000008,125.37760000000006,128.44800000000001,131.60624999999999,129.04374999999999,1361100,{"$error":"#N/A"},false,"DOWN",true,{"$error":"#N/A"},127.43,true,false,false,true,true,false,189.20000000000002,false,{"$error":"#N/A"},false,false,false,false,false,false,{"$error":"#N/A"},100.11100000000008,125.37760000000006,128.44800000000001,131.60624999999999,129.04374999999999,null,{"$f":"OFFSET(InputIndexData!F$15,CalculationsAndCharts!$A217+$A$11,IF($C$7,8,0),1,1)","v":192.9},189.51399999999998,1,1,true,null,212,{"$error":"#N/A"}]
[186,{"$f":"OFFSET(InputPriceData!B$15,CalculationsAndCharts!$A218+$A$11,0,1,1)","v":"2014-07-24"},{"$f":"OFFSET(InputPriceData!G$15,CalculationsAndCharts!$A218+$A$11,IF($C$7,8,0),1,1)","v":1081700},{"$f":"OFFSET(InputPriceData!C$15,CalculationsAndCharts!$A218+$A$11,IF($C$7,8,0),1,1)","v":132.35},{"$f":"OFFSET(InputPriceData!D$15,CalculationsAndCharts!$A218+$A$11,IF($C$7,8,0),1,1)","v":133.21},{"$f":"OFFSET(InputPriceData!E$15,CalculationsAndCharts!$A218+$A$11,IF($C$7,8,0),1,1)","v":131.41999999999999},{"$f":"OFFSET(InputPriceData!F$15,CalculationsAndCharts!$A218+$A$11,IF($C$7,8,0),1,1)","v":131.74},99.47385000000007,125.20280000000007,128.411,131.58500000000001,128.82250000000002,{"$error":"#N/A"},1081700,false,"UP",false,{"$error":"#N/A"},{"$error":"#N/A"},true,false,false,true,false,false,189.20000000000002,false,{"$error":"#N/A"},false,false,false,false,false,false,{"$error":"#N/A"},99.47385000000007,125.20280000000007,128.411,131.58500000000001,128.82250000000002,null,{"$f":"OFFSET(InputIndexData!F$15,CalculationsAndCharts!$A218+$A$11,IF($C$7,8,0),1,1)","v":193.81},189.32739999999998,1,1,true,null,212,{"$error":"#N/A"}]
[187,{"$f":"OFFSET(InputPriceData!B$15,CalculationsAndCharts!$A219+$A$11,0,1,1)","v":"2014-07-23"},{"$f":"OFFSET(InputPriceData!G$15,CalculationsAndCharts!$A219+$A$11,IF($C$7,8,0),1,1)","v":534200},{"$f":"OFFSET(InputPriceData!C$15,CalculationsAndCharts!$A219+$A$11,IF($C$7,8,0),1,1)","v":132.75},{"$f":"OFFSET(InputPriceData!D$15,CalculationsAndCharts!$A219+$A$11,IF($C$7,8,0),1,1)","v":133.04},{"$f":"OFFSET(InputPriceData!E$15,CalculationsAndCharts!$A219+$A$11,IF($C$7,8,0),1,1)","v":131.35},{"$f":"OFFSET(InputPriceData!F$15,CalculationsAndCharts!$A219+$A$11,IF($C$7,8,0),1,1)","v":131.9},98.815150000000088,124.98000000000006,128.20150000000004,130.91624999999999,128.2225,{"$error":"#N/A"},534200,false,"UP",false,{"$error":"#N/A"},{"$error":"#N/A"},true,false,false,true,false,false,189.20000000000002,false,{"$error":"#N/A"},false,false,false,false,false,false,{"$error":"#N/A"},98.815150000000088,124.98000000000006,128.20150000000004,130.91624999999999,128.2225,null,{"$f":"OFFSET(InputIndexData!F$15,CalculationsAndCharts!$A219+$A$11,IF($C$7,8,0),1,1)","v":193.8},189.14019999999999,1,1,true,null,212,{"$error":"#N/A"}]
[188,{"$f":"OFFSET(InputPriceData!B$15,CalculationsAndCharts!$A220+$A$11,0,1,1)","v":"2014-07-22"},{"$f":"OFFSET(InputPriceData!G$15,CalculationsAndCharts!$A220+$A$11,IF($C$7,8,0),1,1)","v":707100},{"$f":"OFFSET(InputPriceData!C$15,CalculationsAndCharts!$A220+$A$11,IF($C$7,8,0),1,1)","v":132.22999999999999},{"$f":"OFFSET(InputPriceData!D$15,CalculationsAndCharts!$A220+$A$11,IF($C$7,8,0),1,1)","v":133.76},{"$f":"OFFSET(InputPriceData!E$15,CalculationsAndCharts!$A220+$A$11,IF($C$7,8,0),1,1)","v":132.08000000000001},{"$f":"OFFSET(InputPriceData!F$15,CalculationsAndCharts!$A220+$A$11,IF($C$7,8,0),1,1)","v":132.4},98.15565000000008,124.78760000000005,127.89100000000003,130.12125,127.48750000000001,707100,{"$error":"#N/A"},false,"UP",false,{"$error":"#N/A"},{"$error":"#N/A"},true,false,false,true,false,false,189.20000000000002,false,{"$error":"#N/A"},false,false,false,false,false,false,{"$error":"#N/A"},98.15565000000008,124.78760000000005,127.89100000000003,130.12125,127.48750000000001,null,{"$f":"OFFSET(InputIndexData!F$15,CalculationsAndCharts!$A220+$A$11,IF($C$7,8,0),1,1)","v":193.37},188.94980000000004,1,1,true,null,212,{"$error":"#N/A"}]
[189,{"$f":"OFFSET(InputPriceData!B$15,CalculationsAndCharts!$A221+$A$11,0,1,1)","v":"2014-07-21"},{"$f":"OFFSET(InputPriceData!G$15,CalculationsAndCharts!$A221+$A$11,IF($C$7,8,0),1,1)","v":802200},{"$f":"OFFSET(InputPriceData!C$15,CalculationsAndCharts!$A221+$A$11,IF($C$7,8,0),1,1)","v":130.63999999999999},{"$f":"OFFSET(InputPriceData!D$15,CalculationsAndCharts!$A221+$A$11,IF($C$7,8,0),1,1)","v":132.05000000000001},{"$f":"OFFSET(InputPriceData!E$15,CalculationsAndCharts!$A221+$A$11,IF($C$7,8,0),1,1)","v":129.76},{"$f":"OFFSET(InputPriceData!F$15,CalculationsAndCharts!$A221+$A$11,IF($C$7,8,0),1,1)","v":131.86000000000001},97.493650000000088,124.51440000000004,127.56800000000001,129.2225,126.57375,802200,{"$error":"#N/A"},false,"UP",false,{"$error":"#N/A"},{"$error":"#N/A"},true,false,false,true,false,false,189.20000000000002,false,{"$error":"#N/A"},false,false,false,false,false,false,{"$error":"#N/A"},97.493650000000088,124.51440000000004,127.56800000000001,129.2225,126.57375,null,{"$f":"OFFSET(InputIndexData!F$15,CalculationsAndCharts!$A221+$A$11,IF($C$7,8,0),1,1)","v":192.53},188.73260000000002,1,1,true,null,212,{"$error":"#N/A"}]
[190,{"$f":"OFFSET(InputPriceData!B$15,CalculationsAndCharts!$A222+$A$11,0,1,1)","v":"2014-07-18"},{"$f":"OFFSET(InputPriceData!G$15,CalculationsAndCharts!$A222+$A$11,IF($C$7,8,0),1,1)","v":837600},{"$f":"OFFSET(InputPriceData!C$15,CalculationsAndCharts!$A222+$A$11,IF($C$7,8,0),1,1)","v":130.29},{"$f":"OFFSET(InputPriceData!D$15,CalculationsAndCharts!$A222+$A$11,IF($C$7,8,0),1,1)","v":131.74},{"$f":"OFFSET(InputPriceData!E$15,CalculationsAndCharts!$A222+$A$11,IF($C$7,8,0),1,1)","v":129.61000000000001},{"$f":"OFFSET(InputPriceData!F$15,CalculationsAndCharts!$A222+$A$11,IF($C$7,8,0),1,1)","v":131.44999999999999},96.8343500000001,124.18620000000004,127.26350000000002,128.69499999999999,126.15375,837600,{"$error":"#N/A"},false,"UP",false,{"$error":"#N/A"},{"$error":"#N/A"},true,false,true,true,false,false,189.20000000000002,false,{"$error":"#N/A"},false,false,false,false,false,false,{"$error":"#N/A"},96.8343500000001,124.18620000000004,127.26350000000002,128.69499999999999,126.15375,null,{"$f":"OFFSET(InputIndexData!F$15,CalculationsAndCharts!$A222+$A$11,IF($C$7,8,0),1,1)","v":192.89},188.52660000000003,1,1,true,null,212,{"$error":"#N/A"}]
[191,{"$f":"OFFSET(InputPriceData!B$15,CalculationsAndCharts!$A223+$A$11,0,1,1)","v":"2014-07-17"},{"$f":"OFFSET(InputPriceData!G$15,CalculationsAndCharts!$A223+$A$11,IF($C$7,8,0),1,1)","v":1779100},{"$f":"OFFSET(InputPriceData!C$15,CalculationsAndCharts!$A223+$A$11,IF($C$7,8,0),1,1)","v":125.96},{"$f":"OFFSET(InputPriceData!D$15,CalculationsAndCharts!$A223+$A$11,IF($C$7,8,0),1,1)","v":132.49},{"$f":"OFFSET(InputPriceData!E$15,CalculationsAndCharts!$A223+$A$11,IF($C$7,8,0),1,1)","v":125.96},{"$f":"OFFSET(InputPriceData!F$15,CalculationsAndCharts!$A223+$A$11,IF($C$7,8,0),1,1)","v":130.03},96.177100000000095,123.91240000000003,126.95149999999998,128.08000000000001,125.67625,1779100,{"$error":"#N/A"},true,"UP",false,130.03,{"$error":"#N/A"},true,true,false,false,false,false,{"$error":"#N/A"},false,{"$error":"#N/A"},false,false,false,false,false,false,{"$error":"#N/A"},96.177100000000095,123.91240000000003,126.95149999999998,128.08000000000001,125.67625,null,{"$f":"OFFSET(InputIndexData!F$15,CalculationsAndCharts!$A223+$A$11,IF($C$7,8,0),1,1)","v":190.94},188.31740000000005,1,1,true,null,212,{"$error":"#N/A"}]
[192,{"$f":"OFFSET(InputPriceData!B$15,CalculationsAndCharts!$A224+$A$11,0,1,1)","v":"2014-07-16"},{"$f":"OFFSET(InputPriceData!G$15,CalculationsAndCharts!$A224+$A$11,IF($C$7,8,0),1,1)","v":676700},{"$f":"OFFSET(InputPriceData!C$15,CalculationsAndCharts!$A224+$A$11,IF($C$7,8,0),1,1)","v":127.87},{"$f":"OFFSET(InputPriceData!D$15,CalculationsAndCharts!$A224+$A$11,IF($C$7,8,0),1,1)","v":127.87},{"$f":"OFFSET(InputPriceData!E$15,CalculationsAndCharts!$A224+$A$11,IF($C$7,8,0),1,1)","v":126.25},{"$f":"OFFSET(InputPriceData!F$15,CalculationsAndCharts!$A224+$A$11,IF($C$7,8,0),1,1)","v":126.32},95.526950000000085,123.48380000000004,126.62550000000002,127.61500000000001,125.79749999999999,{"$error":"#N/A"},676700,false,"DOWN",false,{"$error":"#N/A"},{"$error":"#N/A"},true,false,false,false,false,false,{"$error":"#N/A"},false,{"$error":"#N/A"},false,false,false,false,false,false,{"$error":"#N/A"},95.526950000000085,123.48380000000004,126.62550000000002,127.61500000000001,125.79749999999999,null,{"$f":"OFFSET(InputIndexData!F$15,CalculationsAndCharts!$A224+$A$11,IF($C$7,8,0),1,1)","v":193.14},188.12580000000008,1,1,true,null,212,{"$error":"#N/A"}]
[193,{"$f":"OFFSET(InputPriceData!B$15,CalculationsAndCharts!$A225+$A$11,0,1,1)","v":"2014-07-15"},{"$f":"OFFSET(InputPriceData!G$15,CalculationsAndCharts!$A225+$A$11,IF($C$7,8,0),1,1)","v":979100},{"$f":"OFFSET(InputPriceData!C$15,CalculationsAndCharts!$A225+$A$11,IF($C$7,8,0),1,1)","v":127.38},{"$f":"OFFSET(InputPriceData!D$15,CalculationsAndCharts!$A225+$A$11,IF($C$7,8,0),1,1)","v":128.52000000000001},{"$f":"OFFSET(InputPriceData!E$15,CalculationsAndCharts!$A225+$A$11,IF($C$7,8,0),1,1)","v":124.15},{"$f":"OFFSET(InputPriceData!F$15,CalculationsAndCharts!$A225+$A$11,IF($C$7,8,0),1,1)","v":127.52},{"$f":"AVERAGE(OFFSET(G225,0,0,$A$17,1))","v":94.895350000000093},{"$f":"AVERAGE(OFFSET(G225,0,0,$A$18,1))","v":123.13600000000005},{"$f":"AVERAGE(OFFSET(G225,0,0,$A$19,1))","v":126.38950000000003},{"$f":"AVERAGE(OFFSET(E225,0,0,$A$20,1))","v":127.79249999999999},{"$f":"AVERAGE(OFFSET(F225,0,0,$A$21,1))","v":125.98874999999998},979100,{"$error":"#N/A"},{"$f":"AND(G226<=K226,G225>K225,OR(P226=\"DOWN\",P226=0))","v":false},{"$f":"IF(AND(OR(P226=0,P226=\"UP\"),Q225),\"DOWN\",IF(AND(OR(P226=0,P226=\"DOWN\"),O225),\"UP\",P226))","v":"DOWN"},{"$f":"AND(G226>=L226,G225<L225,OR(P226=0,P226=\"UP\"))","v":false},{"$error":"#N/A"},{"$error":"#N/A"},true,{"$f":"AND(T225,O225)","v":false},false,false,{"$f":"AND(W225,Q225)","v":false},false,{"$f":"IF(AND(NOT(AA225),OR(W225,Y225)),$F$11,NA())","v":{"$error":"#N/A"}},false,{"$error":"#N/A"},false,{"$f":"AND(AC225,Q225)","v":false},{"$f":"AD226","v":false},false,false,{"$f":"AG226","v":false},{"$f":"IF(AND(NOT(AA225),OR(AF225,AH225)),$F$11,NA())","v":{"$error":"#N/A"}},94.895350000000093,123.13600000000005,126.38950000000003,127.79249999999999,125.98874999999998,null,{"$f":"OFFSET(InputIndexData!F$15,CalculationsAndCharts!$A225+$A$11,IF($C$7,8,0),1,1)","v":192.43},187.92200000000008,1,1,true,null,{"$f":"IF(AT225,$AR$26,NA())","v":212},{"$f":"IF(AT225,NA(),$AR$26)","v":{"$error":"#N/A"}}]
[194,{"$f":"OFFSET(InputPriceData!B$15,CalculationsAndCharts!$A226+$A$11,0,1,1)","v":"2014-07-14"},{"$f":"OFFSET(InputPriceData!G$15,CalculationsAndCharts!$A226+$A$11,IF($C$7,8,0),1,1)","v":1107400},{"$f":"OFFSET(InputPriceData!C$15,CalculationsAndCharts!$A226+$A$11,IF($C$7,8,0),1,1)","v":126.74},{"$f":"OFFSET(InputPriceData!D$15,CalculationsAndCharts!$A226+$A$11,IF($C$7,8,0),1,1)","v":127.86},{"$f":"OFFSET(InputPriceData!E$15,CalculationsAndCharts!$A226+$A$11,IF($C$7,8,0),1,1)","v":126.62},{"$f":"OFFSET(InputPriceData!F$15,CalculationsAndCharts!$A226+$A$11,IF($C$7,8,0),1,1)","v":127.38},94.257750000000073,122.73980000000005,126.09949999999999,127.79374999999999,126.2325,{"$f":"IF(D226<=G226,C226,NA())","v":1107400},{"$f":"IF(D226<=G226,NA(),C226)","v":{"$error":"#N/A"}},false,"DOWN",false,{"$error":"#N/A"},{"$error":"#N/A"},{"$f":"AND(OR(NOT($R$11),AT226),OR(NOT($R$12),J226>=I226),OR(NOT($R$13),I226>=H226),OR(NOT($R$14),G226>=I226))","v":true},false,false,false,false,false,{"$error":"#N/A"},false,{"$error":"#N/A"},{"$f":"AND(   OR(NOT($R$11),NOT(AT226)),   OR(NOT($R$12),J226<=I226),   OR(NOT($R$13),I226<=H226),   OR(NOT($R$14),G226<=I226)   )","v":false},false,false,{"$f":"IF(AE226,TRUE,IF(AG227,FALSE,AF227))","v":false},{"$f":"AND(AF226,O226)","v":false},false,{"$error":"#N/A"},{"$f":"IF($R$3,H226,NA())","v":94.257750000000073},{"$f":"IF($R$4,I226,NA())","v":122.73980000000005},{"$f":"IF($R$5,J226,NA())","v":126.09949999999999},{"$f":"IF($R$6,K226,NA())","v":127.79374999999999},{"$f":"IF($R$6,L226,NA())","v":126.2325},null,{"$f":"OFFSET(InputIndexData!F$15,CalculationsAndCharts!$A226+$A$11,IF($C$7,8,0),1,1)","v":192.79},{"$f":"AVERAGE(OFFSET(AP226,0,0,$D$17,1))","v":187.72540000000009},{"$f":"IF(AQ226-AQ227>=0,1,-1)","v":1},{"$f":"AVERAGE(OFFSET(AR226,0,0,$D$18,1))","v":1},{"$f":"OR(AS226>0,AND(AS226=0,AS227>0))","v":true},null,212,{"$error":"#N/A"}]
[195,{"$f":"OFFSET(InputPriceData!B$15,CalculationsAndCharts!$A227+$A$11,0,1,1)","v":"2014-07-11"},{"$f":"OFFSET(InputPriceData!G$15,CalculationsAndCharts!$A227+$A$11,IF($C$7,8,0),1,1)","v":506500},{"$f":"OFFSET(InputPriceData!C$15,CalculationsAndCharts!$A227+$A$11,IF($C$7,8,0),1,1)","v":125.96},{"$f":"OFFSET(InputPriceData!D$15,CalculationsAndCharts!$A227+$A$11,IF($C$7,8,0),1,1)","v":126.68},{"$f":"OFFSET(InputPriceData!E$15,CalculationsAndCharts!$A227+$A$11,IF($C$7,8,0),1,1)","v":125.47},{"$f":"OFFSET(InputPriceData!F$15,CalculationsAndCharts!$A227+$A$11,IF($C$7,8,0),1,1)","v":126.29},93.620850000000075,122.35680000000004,125.896,127.90749999999998,126.25875000000001,506500,{"$error":"#N/A"},false,"DOWN",false,{"$error":"#N/A"},{"$error":"#N/A"},true,false,false,false,false,true,189.20000000000002,false,{"$error":"#N/A"},false,false,false,false,false,false,{"$error":"#N/A"},93.620850000000075,122.35680000000004,125.896,127.90749999999998,126.25875000000001,null,{"$f":"OFFSET(InputIndexData!F$15,CalculationsAndCharts!$A227+$A$11,IF($C$7,8,0),1,1)","v":191.82},187.52700000000007,1,1,true,null,212,{"$error":"#N/A"}]
[196,{"$f":"OFFSET(InputPriceData!B$15,CalculationsAndCharts!$A228+$A$11,0,1,1)","v":"2014-07-10"},{"$f":"OFFSET(InputPriceData!G$15,CalculationsAndCharts!$A228+$A$11,IF($C$7,8,0),1,1)","v":669700},{"$f":"OFFSET(InputPriceData!C$15,CalculationsAndCharts!$A228+$A$11,IF($C$7,8,0),1,1)","v":124.92},{"$f":"OFFSET(InputPriceData!D$15,CalculationsAndCharts!$A228+$A$11,IF($C$7,8,0),1,1)","v":126.57},{"$f":"OFFSET(InputPriceData!E$15,CalculationsAndCharts!$A228+$A$11,IF($C$7,8,0),1,1)","v":124.77},{"$f":"OFFSET(InputPriceData!F$15,CalculationsAndCharts!$A228+$A$11,IF($C$7,8,0),1,1)","v":125.97},92.989400000000074,122.00220000000004,125.77550000000001,128.10249999999999,126.29500000000002,669700,{"$error":"#N/A"},false,"DOWN",true,{"$error":"#N/A"},125.97,true,false,false,true,true,false,189.20000000000002,false,{"$error":"#N/A"},false,false,false,false,false,false,{"$error":"#N/A"},92.989400000000074,122.00220000000004,125.77550000000001,128.10249999999999,126.29500000000002,null,{"$f":"OFFSET(InputIndexData!F$15,CalculationsAndCharts!$A228+$A$11,IF($C$7,8,0),1,1)","v":191.56},187.34760000000009,1,1,true,null,212,{"$error":"#N/A"}]
[197,{"$f":"OFFSET(InputPriceData!B$15,CalculationsAndCharts!$A229+$A$11,0,1,1)","v":"2014-07-09"},{"$f":"OFFSET(InputPriceData!G$15,CalculationsAndCharts!$A229+$A$11,IF($C$7,8,0),1,1)","v":792700},{"$f":"OFFSET(InputPriceData!C$15,CalculationsAndCharts!$A229+$A$11,IF($C$7,8,0),1,1)","v":127.04},{"$f":"OFFSET(InputPriceData!D$15,CalculationsAndCharts!$A229+$A$11,IF($C$7,8,0),1,1)","v":127.83},{"$f":"OFFSET(InputPriceData!E$15,CalculationsAndCharts!$A229+$A$11,IF($C$7,8,0),1,1)","v":126.4},{"$f":"OFFSET(InputPriceData!F$15,CalculationsAndCharts!$A229+$A$11,IF($C$7,8,0),1,1)","v":126.59},92.35955000000007,121.64020000000002,125.75250000000001,128.14124999999999,126.36,{"$error":"#N/A"},792700,false,"UP",false,{"$error":"#N/A"},{"$error":"#N/A"},true,false,false,true,false,false,189.20000000000002,false,{"$error":"#N/A"},false,false,false,false,false,false,{"$error":"#N/A"},92.35955000000007,121.64020000000002,125.75250000000001,128.14124999999999,126.36,null,{"$f":"OFFSET(InputIndexData!F$15,CalculationsAndCharts!$A229+$A$11,IF($C$7,8,0),1,1)","v":192.32},187.16240000000005,1,1,true,null,212,{"$error":"#N/A"}]
[198,{"$f":"OFFSET(InputPriceData!B$15,CalculationsAndCharts!$A230+$A$11,0,1,1)","v":"2014-07-08"},{"$f":"OFFSET(InputPriceData!G$15,CalculationsAndCharts!$A230+$A$11,IF($C$7,8,0),1,1)","v":813400},{"$f":"OFFSET(InputPriceData!C$15,CalculationsAndCharts!$A230+$A$11,IF($C$7,8,0),1,1)","v":126.47},{"$f":"OFFSET(InputPriceData!D$15,CalculationsAndCharts!$A230+$A$11,IF($C$7,8,0),1,1)","v":126.82},{"$f":"OFFSET(InputPriceData!E$15,CalculationsAndCharts!$A230+$A$11,IF($C$7,8,0),1,1)","v":125.79},{"$f":"OFFSET(InputPriceData!F$15,CalculationsAndCharts!$A230+$A$11,IF($C$7,8,0),1,1)","v":126.3},91.726600000000076,121.26420000000003,125.68150000000003,128.13124999999999,126.19625000000001,{"$error":"#N/A"},813400,false,"UP",false,{"$error":"#N/A"},{"$error":"#N/A"},true,false,false,true,false,false,189.20000000000002,false,{"$error":"#N/A"},false,false,false,false,false,false,{"$error":"#N/A"},91.726600000000076,121.26420000000003,125.68150000000003,128.13124999999999,126.19625000000001,null,{"$f":"OFFSET(InputIndexData!F$15,CalculationsAndCharts!$A230+$A$11,IF($C$7,8,0),1,1)","v":191.46},186.94520000000003,1,1,true,null,212,{"$error":"#N/A"}]
[199,{"$f":"OFFSET(InputPriceData!B$15,CalculationsAndCharts!$A231+$A$11,0,1,1)","v":"2014-07-07"},{"$f":"OFFSET(InputPriceData!G$15,CalculationsAndCharts!$A231+$A$11,IF($C$7,8,0),1,1)","v":905400},{"$f":"OFFSET(InputPriceData!C$15,CalculationsAndCharts!$A231+$A$11,IF($C$7,8,0),1,1)","v":128.77000000000001},{"$f":"OFFSET(InputPriceData!D$15,CalculationsAndCharts!$A231+$A$11,IF($C$7,8,0),1,1)","v":128.77000000000001},{"$f":"OFFSET(InputPriceData!E$15,CalculationsAndCharts!$A231+$A$11,IF($C$7,8,0),1,1)","v":126.93},{"$f":"OFFSET(InputPriceData!F$15,CalculationsAndCharts!$A231+$A$11,IF($C$7,8,0),1,1)","v":127.15},91.095100000000073,120.89820000000002,125.56750000000002,128.24625,126.175,{"$error":"#N/A"},905400,false,"UP",false,{"$error":"#N/A"},{"$error":"#N/A"},true,false,false,true,false,false,189.20000000000002,false,{"$error":"#N/A"},false,false,false,false,false,false,{"$error":"#N/A"},91.095100000000073,120.89820000000002,125.56750000000002,128.24625,126.175,null,{"$f":"OFFSET(InputIndexData!F$15,CalculationsAndCharts!$A231+$A$11,IF($C$7,8,0),1,1)","v":192.7},186.7338,1,1,true,null,212,{"$error":"#N/A"}]
[200,{"$f":"OFFSET(InputPriceData!B$15,CalculationsAndCharts!$A232+$A$11,0,1,1)","v":"2014-07-03"},{"$f":"OFFSET(InputPriceData!G$15,CalculationsAndCharts!$A232+$A$11,IF($C$7,8,0),1,1)","v":438900},{"$f":"OFFSET(InputPriceData!C$15,CalculationsAndCharts!$A232+$A$11,IF($C$7,8,0),1,1)","v":128.47},{"$f":"OFFSET(InputPriceData!D$15,CalculationsAndCharts!$A232+$A$11,IF($C$7,8,0),1,1)","v":129.29},{"$f":"OFFSET(InputPriceData!E$15,CalculationsAndCharts!$A232+$A$11,IF($C$7,8,0),1,1)","v":127.78},{"$f":"OFFSET(InputPriceData!F$15,CalculationsAndCharts!$A232+$A$11,IF($C$7,8,0),1,1)","v":129.08000000000001},90.459350000000086,120.50800000000002,125.46050000000002,127.97625000000001,126.015,438900,{"$error":"#N/A"},false,"UP",false,{"$error":"#N/A"},{"$error":"#N/A"},true,false,false,true,false,false,189.20000000000002,false,{"$f":"IF(AA232,$F$11,NA())","v":{"$error":"#N/A"}},false,false,false,false,false,false,{"$error":"#N/A"},90.459350000000086,120.50800000000002,125.46050000000002,127.97625000000001,126.015,null,{"$f":"OFFSET(InputIndexData!F$15,CalculationsAndCharts!$A232+$A$11,IF($C$7,8,0),1,1)","v":193.37},186.52739999999994,1,1,true,null,212,{"$error":"#N/A"}]
[201,{"$f":"OFFSET(InputPriceData!B$15,CalculationsAndCharts!$A233+$A$11,0,1,1)","v":"2014-07-02"},{"$f":"OFFSET(InputPriceData!G$15,CalculationsAndCharts!$A233+$A$11,IF($C$7,8,0),1,1)","v":1587600},{"$f":"OFFSET(InputPriceData!C$15,CalculationsAndCharts!$A233+$A$11,IF($C$7,8,0),1,1)","v":127.73},{"$f":"OFFSET(InputPriceData!D$15,CalculationsAndCharts!$A233+$A$11,IF($C$7,8,0),1,1)","v":128.53},{"$f":"OFFSET(InputPriceData!E$15,CalculationsAndCharts!$A233+$A$11,IF($C$7,8,0),1,1)","v":126.1},{"$f":"OFFSET(InputPriceData!F$15,CalculationsAndCharts!$A233+$A$11,IF($C$7,8,0),1,1)","v":128.47},89.813950000000077,120.06040000000002,125.15650000000001,127.60000000000001,125.705,1587600,{"$error":"#N/A"},false,"UP",false,{"$f":"IF(O233,G233,NA())","v":{"$error":"#N/A"}},{"$f":"IF(Q233,G233,NA())","v":{"$error":"#N/A"}},true,false,false,true,false,false,189.20000000000002,false,{"$error":"#N/A"},false,false,false,false,false,false,{"$error":"#N/A"},89.813950000000077,120.06040000000002,125.15650000000001,127.60000000000001,125.705,null,{"$f":"OFFSET(InputIndexData!F$15,CalculationsAndCharts!$A233+$A$11,IF($C$7,8,0),1,1)","v":192.43},186.30019999999996,1,1,true,null,212,{"$error":"#N/A"}]
[202,{"$f":"OFFSET(InputPriceData!B$15,CalculationsAndCharts!$A234+$A$11,0,1,1)","v":"2014-07-01"},{"$f":"OFFSET(InputPriceData!G$15,CalculationsAndCharts!$A234+$A$11,IF($C$7,8,0),1,1)","v":1369100},{"$f":"OFFSET(InputPriceData!C$15,CalculationsAndCharts!$A234+$A$11,IF($C$7,8,0),1,1)","v":127.1},{"$f":"OFFSET(InputPriceData!D$15,CalculationsAndCharts!$A234+$A$11,IF($C$7,8,0),1,1)","v":128.77000000000001},{"$f":"OFFSET(InputPriceData!E$15,CalculationsAndCharts!$A234+$A$11,IF($C$7,8,0),1,1)","v":126.83},{"$f":"OFFSET(InputPriceData!F$15,CalculationsAndCharts!$A234+$A$11,IF($C$7,8,0),1,1)","v":128.16999999999999},89.171600000000069,119.62520000000002,124.92700000000002,127.26375,125.44874999999999,1369100,{"$error":"#N/A"},false,"UP",false,{"$error":"#N/A"},{"$error":"#N/A"},true,false,false,true,false,false,189.20000000000002,false,{"$error":"#N/A"},false,false,false,false,false,false,{"$error":"#N/A"},89.171600000000069,119.62520000000002,124.92700000000002,127.26375,125.44874999999999,null,{"$f":"OFFSET(InputIndexData!F$15,CalculationsAndCharts!$A234+$A$11,IF($C$7,8,0),1,1)","v":192.23},186.10039999999992,1,1,true,null,212,{"$error":"#N/A"}]
[203,{"$f":"OFFSET(InputPriceData!B$15,CalculationsAndCharts!$A235+$A$11,0,1,1)","v":"2014-06-30"},{"$f":"OFFSET(InputPriceData!G$15,CalculationsAndCharts!$A235+$A$11,IF($C$7,8,0),1,1)","v":1008900},{"$f":"OFFSET(InputPriceData!C$15,CalculationsAndCharts!$A235+$A$11,IF($C$7,8,0),1,1)","v":126.14},{"$f":"OFFSET(InputPriceData!D$15,CalculationsAndCharts!$A235+$A$11,IF($C$7,8,0),1,1)","v":128.24},{"$f":"OFFSET(InputPriceData!E$15,CalculationsAndCharts!$A235+$A$11,IF($C$7,8,0),1,1)","v":125.76},{"$f":"OFFSET(InputPriceData!F$15,CalculationsAndCharts!$A235+$A$11,IF($C$7,8,0),1,1)","v":126.61},88.53075000000004,119.14659999999999,124.67100000000001,126.83375000000001,124.99249999999998,1008900,{"$error":"#N/A"},false,"UP",false,{"$error":"#N/A"},{"$error":"#N/A"},true,false,false,true,false,false,189.20000000000002,false,{"$error":"#N/A"},false,false,false,false,false,false,{"$error":"#N/A"},88.53075000000004,119.14659999999999,124.67100000000001,126.83375000000001,124.99249999999998,null,{"$f":"OFFSET(InputIndexData!F$15,CalculationsAndCharts!$A235+$A$11,IF($C$7,8,0),1,1)","v":190.95},185.88800000000001,1,1,true,null,212,{"$error":"#N/A"}]
[204,{"$f":"OFFSET(InputPriceData!B$15,CalculationsAndCharts!$A236+$A$11,0,1,1)","v":"2014-06-27"},{"$f":"OFFSET(InputPriceData!G$15,CalculationsAndCharts!$A236+$A$11,IF($C$7,8,0),1,1)","v":965600},{"$f":"OFFSET(InputPriceData!C$15,CalculationsAndCharts!$A236+$A$11,IF($C$7,8,0),1,1)","v":126.36},{"$f":"OFFSET(InputPriceData!D$15,CalculationsAndCharts!$A236+$A$11,IF($C$7,8,0),1,1)","v":126.88},{"$f":"OFFSET(InputPriceData!E$15,CalculationsAndCharts!$A236+$A$11,IF($C$7,8,0),1,1)","v":125.29},{"$f":"OFFSET(InputPriceData!F$15,CalculationsAndCharts!$A236+$A$11,IF($C$7,8,0),1,1)","v":126.3},87.897700000000043,118.68640000000001,124.54250000000002,126.25750000000001,124.40624999999997,{"$error":"#N/A"},965600,false,"UP",false,{"$error":"#N/A"},{"$error":"#N/A"},true,false,false,true,false,false,189.20000000000002,false,{"$error":"#N/A"},false,false,false,false,false,false,{"$error":"#N/A"},87.897700000000043,118.68640000000001,124.54250000000002,126.25750000000001,124.40624999999997,null,{"$f":"OFFSET(InputIndexData!F$15,CalculationsAndCharts!$A236+$A$11,IF($C$7,8,0),1,1)","v":191.05},185.68860000000001,1,1,true,null,212,{"$error":"#N/A"}]
[205,{"$f":"OFFSET(InputPriceData!B$15,CalculationsAndCharts!$A237+$A$11,0,1,1)","v":"2014-06-26"},{"$f":"OFFSET(InputPriceData!G$15,CalculationsAndCharts!$A237+$A$11,IF($C$7,8,0),1,1)","v":613600},{"$f":"OFFSET(InputPriceData!C$15,CalculationsAndCharts!$A237+$A$11,IF($C$7,8,0),1,1)","v":127.73},{"$f":"OFFSET(InputPriceData!D$15,CalculationsAndCharts!$A237+$A$11,IF($C$7,8,0),1,1)","v":127.75},{"$f":"OFFSET(InputPriceData!E$15,CalculationsAndCharts!$A237+$A$11,IF($C$7,8,0),1,1)","v":125.09},{"$f":"OFFSET(InputPriceData!F$15,CalculationsAndCharts!$A237+$A$11,IF($C$7,8,0),1,1)","v":126.69},87.26620000000004,118.31280000000002,124.38300000000001,125.66375000000001,123.87375,{"$error":"#N/A"},613600,false,"UP",false,{"$error":"#N/A"},{"$error":"#N/A"},true,false,false,true,false,false,189.20000000000002,false,{"$error":"#N/A"},false,false,false,false,false,false,{"$error":"#N/A"},87.26620000000004,118.31280000000002,124.38300000000001,125.66375000000001,123.87375,null,{"$f":"OFFSET(InputIndexData!F$15,CalculationsAndCharts!$A237+$A$11,IF($C$7,8,0),1,1)","v":190.68},185.48220000000001,1,1,true,null,212,{"$error":"#N/A"}]
[206,{"$f":"OFFSET(InputPriceData!B$15,CalculationsAndCharts!$A238+$A$11,0,1,1)","v":"2014-06-25"},{"$f":"OFFSET(InputPriceData!G$15,CalculationsAndCharts!$A238+$A$11,IF($C$7,8,0),1,1)","v":698300},{"$f":"OFFSET(InputPriceData!C$15,CalculationsAndCharts!$A238+$A$11,IF($C$7,8,0),1,1)","v":125.62},{"$f":"OFFSET(InputPriceData!D$15,CalculationsAndCharts!$A238+$A$11,IF($C$7,8,0),1,1)","v":127.74},{"$f":"OFFSET(InputPriceData!E$15,CalculationsAndCharts!$A238+$A$11,IF($C$7,8,0),1,1)","v":125.62},{"$f":"OFFSET(InputPriceData!F$15,CalculationsAndCharts!$A238+$A$11,IF($C$7,8,0),1,1)","v":127.55},86.63275000000003,117.94820000000001,124.20900000000002,125.12375,123.42999999999998,698300,{"$error":"#N/A"},false,"UP",false,{"$error":"#N/A"},{"$error":"#N/A"},true,false,false,true,false,false,189.20000000000002,false,{"$error":"#N/A"},false,false,false,false,false,false,{"$error":"#N/A"},86.63275000000003,117.94820000000001,124.20900000000002,125.12375,123.42999999999998,null,{"$f":"OFFSET(InputIndexData!F$15,CalculationsAndCharts!$A238+$A$11,IF($C$7,8,0),1,1)","v":190.82},185.24580000000003,1,1,true,null,212,{"$error":"#N/A"}]
[207,{"$f":"OFFSET(InputPriceData!B$15,CalculationsAndCharts!$A239+$A$11,0,1,1)","v":"2014-06-24"},{"$f":"OFFSET(InputPriceData!G$15,CalculationsAndCharts!$A239+$A$11,IF($C$7,8,0),1,1)","v":672600},{"$f":"OFFSET(InputPriceData!C$15,CalculationsAndCharts!$A239+$A$11,IF($C$7,8,0),1,1)","v":125.69},{"$f":"OFFSET(InputPriceData!D$15,CalculationsAndCharts!$A239+$A$11,IF($C$7,8,0),1,1)","v":126.61},{"$f":"OFFSET(InputPriceData!E$15,CalculationsAndCharts!$A239+$A$11,IF($C$7,8,0),1,1)","v":125.65},{"$f":"OFFSET(InputPriceData!F$15,CalculationsAndCharts!$A239+$A$11,IF($C$7,8,0),1,1)","v":125.69},85.995000000000033,117.55840000000002,123.98000000000002,124.65375,123.05999999999999,672600,{"$error":"#N/A"},false,"UP",false,{"$error":"#N/A"},{"$error":"#N/A"},true,false,false,true,false,false,189.20000000000002,false,{"$error":"#N/A"},false,false,false,false,false,false,{"$error":"#N/A"},85.995000000000033,117.55840000000002,123.98000000000002,124.65375,123.05999999999999,null,{"$f":"OFFSET(InputIndexData!F$15,CalculationsAndCharts!$A239+$A$11,IF($C$7,8,0),1,1)","v":189.96},184.982,1,1,true,null,212,{"$error":"#N/A"}]
[208,{"$f":"OFFSET(InputPriceData!B$15,CalculationsAndCharts!$A240+$A$11,0,1,1)","v":"2014-06-23"},{"$f":"OFFSET(InputPriceData!G$15,CalculationsAndCharts!$A240+$A$11,IF($C$7,8,0),1,1)","v":450400},{"$f":"OFFSET(InputPriceData!C$15,CalculationsAndCharts!$A240+$A$11,IF($C$7,8,0),1,1)","v":125.86},{"$f":"OFFSET(InputPriceData!D$15,CalculationsAndCharts!$A240+$A$11,IF($C$7,8,0),1,1)","v":126.28},{"$f":"OFFSET(InputPriceData!E$15,CalculationsAndCharts!$A240+$A$11,IF($C$7,8,0),1,1)","v":125.3},{"$f":"OFFSET(InputPriceData!F$15,CalculationsAndCharts!$A240+$A$11,IF($C$7,8,0),1,1)","v":125.94},85.366550000000004,117.18440000000001,123.88999999999999,124.51000000000002,122.79999999999998,450400,{"$error":"#N/A"},false,"UP",false,{"$error":"#N/A"},{"$error":"#N/A"},true,false,false,true,false,false,189.20000000000002,{"$f":"AND(OR(W240,Y240),OR(AF240,AH240))","v":false},{"$error":"#N/A"},false,false,false,false,false,false,{"$error":"#N/A"},85.366550000000004,117.18440000000001,123.88999999999999,124.51000000000002,122.79999999999998,null,{"$f":"OFFSET(InputIndexData!F$15,CalculationsAndCharts!$A240+$A$11,IF($C$7,8,0),1,1)","v":191.11},184.70759999999999,1,1,true,null,212,{"$error":"#N/A"}]
[209,{"$f":"OFFSET(InputPriceData!B$15,CalculationsAndCharts!$A241+$A$11,0,1,1)","v":"2014-06-20"},{"$f":"OFFSET(InputPriceData!G$15,CalculationsAndCharts!$A241+$A$11,IF($C$7,8,0),1,1)","v":1156900},{"$f":"OFFSET(InputPriceData!C$15,CalculationsAndCharts!$A241+$A$11,IF($C$7,8,0),1,1)","v":124.75},{"$f":"OFFSET(InputPriceData!D$15,CalculationsAndCharts!$A241+$A$11,IF($C$7,8,0),1,1)","v":125.84},{"$f":"OFFSET(InputPriceData!E$15,CalculationsAndCharts!$A241+$A$11,IF($C$7,8,0),1,1)","v":124.05},{"$f":"OFFSET(InputPriceData!F$15,CalculationsAndCharts!$A241+$A$11,IF($C$7,8,0),1,1)","v":125.77},84.736850000000018,116.83499999999999,123.74999999999997,124.44875,122.63124999999999,1156900,{"$error":"#N/A"},false,"UP",false,{"$error":"#N/A"},{"$error":"#N/A"},true,false,true,true,false,false,189.20000000000002,false,{"$error":"#N/A"},false,false,false,false,false,false,{"$error":"#N/A"},84.736850000000018,116.83499999999999,123.74999999999997,124.44875,122.63124999999999,null,{"$f":"OFFSET(InputIndexData!F$15,CalculationsAndCharts!$A241+$A$11,IF($C$7,8,0),1,1)","v":191.17},184.44239999999999,1,1,true,null,212,{"$error":"#N/A"}]
[210,{"$f":"OFFSET(InputPriceData!B$15,CalculationsAndCharts!$A242+$A$11,0,1,1)","v":"2014-06-19"},{"$f":"OFFSET(InputPriceData!G$15,CalculationsAndCharts!$A242+$A$11,IF($C$7,8,0),1,1)","v":640000},{"$f":"OFFSET(InputPriceData!C$15,CalculationsAndCharts!$A242+$A$11,IF($C$7,8,0),1,1)","v":123.55},{"$f":"OFFSET(InputPriceData!D$15,CalculationsAndCharts!$A242+$A$11,IF($C$7,8,0),1,1)","v":125.33},{"$f":"OFFSET(InputPriceData!E$15,CalculationsAndCharts!$A242+$A$11,IF($C$7,8,0),1,1)","v":123.18},{"$f":"OFFSET(InputPriceData!F$15,CalculationsAndCharts!$A242+$A$11,IF($C$7,8,0),1,1)","v":125.21},84.108000000000004,116.57279999999999,123.55999999999995,124.36499999999999,122.48125,640000,{"$error":"#N/A"},true,"UP",false,125.21,{"$error":"#N/A"},true,true,false,false,false,false,{"$error":"#N/A"},false,{"$error":"#N/A"},false,false,false,false,false,false,{"$error":"#N/A"},84.108000000000004,116.57279999999999,123.55999999999995,124.36499999999999,122.48125,null,{"$f":"OFFSET(InputIndexData!F$15,CalculationsAndCharts!$A242+$A$11,IF($C$7,8,0),1,1)","v":190.78},184.25220000000002,1,1,true,null,212,{"$error":"#N/A"}]
[211,{"$f":"OFFSET(InputPriceData!B$15,CalculationsAndCharts!$A243+$A$11,0,1,1)","v":"2014-06-18"},{"$f":"OFFSET(InputPriceData!G$15,CalculationsAndCharts!$A243+$A$11,IF($C$7,8,0),1,1)","v":765000},{"$f":"OFFSET(InputPriceData!C$15,CalculationsAndCharts!$A243+$A$11,IF($C$7,8,0),1,1)","v":121.92},{"$f":"OFFSET(InputPriceData!D$15,CalculationsAndCharts!$A243+$A$11,IF($C$7,8,0),1,1)","v":123.63},{"$f":"OFFSET(InputPriceData!E$15,CalculationsAndCharts!$A243+$A$11,IF($C$7,8,0),1,1)","v":121.07},{"$f":"OFFSET(InputPriceData!F$15,CalculationsAndCharts!$A243+$A$11,IF($C$7,8,0),1,1)","v":123.51},83.481949999999998,116.26980000000002,123.35349999999998,124.39999999999999,122.5625,765000,{"$error":"#N/A"},false,"DOWN",false,{"$error":"#N/A"},{"$error":"#N/A"},true,false,false,false,false,{"$f":"X244","v":false},{"$error":"#N/A"},false,{"$error":"#N/A"},false,false,false,false,false,false,{"$error":"#N/A"},83.481949999999998,116.26980000000002,123.35349999999998,124.39999999999999,122.5625,null,{"$f":"OFFSET(InputIndexData!F$15,CalculationsAndCharts!$A243+$A$11,IF($C$7,8,0),1,1)","v":190.57},184.03119999999996,1,1,true,null,212,{"$error":"#N/A"}]
[212,{"$f":"OFFSET(InputPriceData!B$15,CalculationsAndCharts!$A244+$A$11,0,1,1)","v":"2014-06-17"},{"$f":"OFFSET(InputPriceData!G$15,CalculationsAndCharts!$A244+$A$11,IF($C$7,8,0),1,1)","v":857900},{"$f":"OFFSET(InputPriceData!C$15,CalculationsAndCharts!$A244+$A$11,IF($C$7,8,0),1,1)","v":121.87},{"$f":"OFFSET(InputPriceData!D$15,CalculationsAndCharts!$A244+$A$11,IF($C$7,8,0),1,1)","v":122.13},{"$f":"OFFSET(InputPriceData!E$15,CalculationsAndCharts!$A244+$A$11,IF($C$7,8,0),1,1)","v":121.03},{"$f":"OFFSET(InputPriceData!F$15,CalculationsAndCharts!$A244+$A$11,IF($C$7,8,0),1,1)","v":121.6},82.864400000000003,116.01520000000001,123.17849999999999,124.61749999999999,122.92750000000001,{"$error":"#N/A"},857900,false,"DOWN",false,{"$error":"#N/A"},{"$error":"#N/A"},true,false,false,false,false,false,{"$error":"#N/A"},false,{"$error":"#N/A"},false,false,false,false,false,false,{"$error":"#N/A"},82.864400000000003,116.01520000000001,123.17849999999999,124.61749999999999,122.92750000000001,null,{"$f":"OFFSET(InputIndexData!F$15,CalculationsAndCharts!$A244+$A$11,IF($C$7,8,0),1,1)","v":189.18},183.79959999999994,1,1,true,null,212,{"$error":"#N/A"}]
[213,{"$f":"OFFSET(InputPriceData!B$15,CalculationsAndCharts!$A245+$A$11,0,1,1)","v":"2014-06-16"},{"$f":"OFFSET(InputPriceData!G$15,CalculationsAndCharts!$A245+$A$11,IF($C$7,8,0),1,1)","v":987700},{"$f":"OFFSET(InputPriceData!C$15,CalculationsAndCharts!$A245+$A$11,IF($C$7,8,0),1,1)","v":123.43},{"$f":"OFFSET(InputPriceData!D$15,CalculationsAndCharts!$A245+$A$11,IF($C$7,8,0),1,1)","v":123.43},{"$f":"OFFSET(InputPriceData!E$15,CalculationsAndCharts!$A245+$A$11,IF($C$7,8,0),1,1)","v":121.54},{"$f":"OFFSET(InputPriceData!F$15,CalculationsAndCharts!$A245+$A$11,IF($C$7,8,0),1,1)","v":121.72},82.256399999999999,115.80300000000001,123.09950000000001,124.83500000000001,123.1125,{"$error":"#N/A"},987700,false,"DOWN",true,{"$error":"#N/A"},121.72,true,false,false,false,false,false,{"$error":"#N/A"},false,{"$error":"#N/A"},false,false,false,false,false,false,{"$error":"#N/A"},82.256399999999999,115.80300000000001,123.09950000000001,124.83500000000001,123.1125,null,{"$f":"OFFSET(InputIndexData!F$15,CalculationsAndCharts!$A245+$A$11,IF($C$7,8,0),1,1)","v":188.65},183.63579999999999,1,1,true,null,212,{"$error":"#N/A"}]
[214,{"$f":"OFFSET(InputPriceData!B$15,CalculationsAndCharts!$A246+$A$11,0,1,1)","v":"2014-06-13"},{"$f":"OFFSET(InputPriceData!G$15,CalculationsAndCharts!$A246+$A$11,IF($C$7,8,0),1,1)","v":1044300},{"$f":"OFFSET(InputPriceData!C$15,CalculationsAndCharts!$A246+$A$11,IF($C$7,8,0),1,1)","v":123.8},{"$f":"OFFSET(InputPriceData!D$15,CalculationsAndCharts!$A246+$A$11,IF($C$7,8,0),1,1)","v":123.98},{"$f":"OFFSET(InputPriceData!E$15,CalculationsAndCharts!$A246+$A$11,IF($C$7,8,0),1,1)","v":122.66},{"$f":"OFFSET(InputPriceData!F$15,CalculationsAndCharts!$A246+$A$11,IF($C$7,8,0),1,1)","v":123.31},81.647800000000004,115.62560000000003,122.89900000000003,124.93625,123.255,{"$error":"#N/A"},1044300,false,"UP",false,{"$error":"#N/A"},{"$error":"#N/A"},true,false,false,false,false,false,{"$error":"#N/A"},false,{"$error":"#N/A"},false,false,false,false,false,false,{"$error":"#N/A"},81.647800000000004,115.62560000000003,122.89900000000003,124.93625,123.255,null,{"$f":"OFFSET(InputIndexData!F$15,CalculationsAndCharts!$A246+$A$11,IF($C$7,8,0),1,1)","v":188.5},183.52599999999995,1,1,true,null,212,{"$error":"#N/A"}]
[215,{"$f":"OFFSET(InputPriceData!B$15,CalculationsAndCharts!$A247+$A$11,0,1,1)","v":"2014-06-12"},{"$f":"OFFSET(InputPriceData!G$15,CalculationsAndCharts!$A247+$A$11,IF($C$7,8,0),1,1)","v":879200},{"$f":"OFFSET(InputPriceData!C$15,CalculationsAndCharts!$A247+$A$11,IF($C$7,8,0),1,1)","v":125.14},{"$f":"OFFSET(InputPriceData!D$15,CalculationsAndCharts!$A247+$A$11,IF($C$7,8,0),1,1)","v":125.46},{"$f":"OFFSET(InputPriceData!E$15,CalculationsAndCharts!$A247+$A$11,IF($C$7,8,0),1,1)","v":123.57},{"$f":"OFFSET(InputPriceData!F$15,CalculationsAndCharts!$A247+$A$11,IF($C$7,8,0),1,1)","v":123.88},81.031249999999986,115.3784,122.64650000000002,124.97625000000001,123.23499999999999,{"$error":"#N/A"},879200,false,"UP",false,{"$error":"#N/A"},{"$error":"#N/A"},true,false,false,false,false,false,{"$error":"#N/A"},false,{"$error":"#N/A"},false,false,false,false,false,false,{"$error":"#N/A"},81.031249999999986,115.3784,122.64650000000002,124.97625000000001,123.23499999999999,null,{"$f":"OFFSET(InputIndexData!F$15,CalculationsAndCharts!$A247+$A$11,IF($C$7,8,0),1,1)","v":187.92},183.42399999999998,1,1,true,null,212,{"$error":"#N/A"}]
[216,{"$f":"OFFSET(InputPriceData!B$15,CalculationsAndCharts!$A248+$A$11,0,1,1)","v":"2014-06-11"},{"$f":"OFFSET(InputPriceData!G$15,CalculationsAndCharts!$A248+$A$11,IF($C$7,8,0),1,1)","v":711800},{"$f":"OFFSET(InputPriceData!C$15,CalculationsAndCharts!$A248+$A$11,IF($C$7,8,0),1,1)","v":125.17},{"$f":"OFFSET(InputPriceData!D$15,CalculationsAndCharts!$A248+$A$11,IF($C$7,8,0),1,1)","v":125.79},{"$f":"OFFSET(InputPriceData!E$15,CalculationsAndCharts!$A248+$A$11,IF($C$7,8,0),1,1)","v":123.95},{"$f":"OFFSET(InputPriceData!F$15,CalculationsAndCharts!$A248+$A$11,IF($C$7,8,0),1,1)","v":125.51},80.411850000000001,115.14160000000001,122.38700000000003,124.90749999999998,123.17874999999999,711800,{"$error":"#N/A"},false,"UP",false,{"$error":"#N/A"},{"$error":"#N/A"},true,false,false,false,false,false,{"$error":"#N/A"},false,{"$error":"#N/A"},false,false,false,false,false,false,{"$error":"#N/A"},80.411850000000001,115.14160000000001,122.38700000000003,124.90749999999998,123.17874999999999,null,{"$f":"OFFSET(InputIndexData!F$15,CalculationsAndCharts!$A248+$A$11,IF($C$7,8,0),1,1)","v":189.26},183.32139999999998,1,1,true,null,212,{"$error":"#N/A"}]
[217,{"$f":"OFFSET(InputPriceData!B$15,CalculationsAndCharts!$A249+$A$11,0,1,1)","v":"2014-06-10"},{"$f":"OFFSET(InputPriceData!G$15,CalculationsAndCharts!$A249+$A$11,IF($C$7,8,0),1,1)","v":657000},{"$f":"OFFSET(InputPriceData!C$15,CalculationsAndCharts!$A249+$A$11,IF($C$7,8,0),1,1)","v":123.56},{"$f":"OFFSET(InputPriceData!D$15,CalculationsAndCharts!$A249+$A$11,IF($C$7,8,0),1,1)","v":125.17},{"$f":"OFFSET(InputPriceData!E$15,CalculationsAndCharts!$A249+$A$11,IF($C$7,8,0),1,1)","v":122.85},{"$f":"OFFSET(InputPriceData!F$15,CalculationsAndCharts!$A249+$A$11,IF($C$7,8,0),1,1)","v":125.17},79.784299999999988,114.86139999999999,122.14149999999999,124.69874999999999,122.94,657000,{"$error":"#N/A"},false,"UP",false,{"$error":"#N/A"},{"$error":"#N/A"},true,false,false,false,false,false,{"$error":"#N/A"},false,{"$error":"#N/A"},false,false,false,false,false,false,{"$error":"#N/A"},79.784299999999988,114.86139999999999,122.14149999999999,124.69874999999999,122.94,null,{"$f":"OFFSET(InputIndexData!F$15,CalculationsAndCharts!$A249+$A$11,IF($C$7,8,0),1,1)","v":189.93},183.1678,1,1,true,null,212,{"$error":"#N/A"}]
[218,{"$f":"OFFSET(InputPriceData!B$15,CalculationsAndCharts!$A250+$A$11,0,1,1)","v":"2014-06-09"},{"$f":"OFFSET(InputPriceData!G$15,CalculationsAndCharts!$A250+$A$11,IF($C$7,8,0),1,1)","v":617100},{"$f":"OFFSET(InputPriceData!C$15,CalculationsAndCharts!$A250+$A$11,IF($C$7,8,0),1,1)","v":124.96},{"$f":"OFFSET(InputPriceData!D$15,CalculationsAndCharts!$A250+$A$11,IF($C$7,8,0),1,1)","v":125.61},{"$f":"OFFSET(InputPriceData!E$15,CalculationsAndCharts!$A250+$A$11,IF($C$7,8,0),1,1)","v":123.83},{"$f":"OFFSET(InputPriceData!F$15,CalculationsAndCharts!$A250+$A$11,IF($C$7,8,0),1,1)","v":124.02},79.158449999999988,114.595,121.99700000000003,124.55125,122.86,{"$error":"#N/A"},617100,false,"UP",false,{"$error":"#N/A"},{"$error":"#N/A"},true,false,false,false,false,false,{"$error":"#N/A"},false,{"$error":"#N/A"},false,false,false,false,false,false,{"$error":"#N/A"},79.158449999999988,114.595,121.99700000000003,124.55125,122.86,null,{"$f":"OFFSET(InputIndexData!F$15,CalculationsAndCharts!$A250+$A$11,IF($C$7,8,0),1,1)","v":189.91},182.97139999999999,1,1,true,null,212,{"$error":"#N/A"}]
[219,{"$f":"OFFSET(InputPriceData!B$15,CalculationsAndCharts!$A251+$A$11,0,1,1)","v":"2014-06-06"},{"$f":"OFFSET(InputPriceData!G$15,CalculationsAndCharts!$A251+$A$11,IF($C$7,8,0),1,1)","v":1125600},{"$f":"OFFSET(InputPriceData!C$15,CalculationsAndCharts!$A251+$A$11,IF($C$7,8,0),1,1)","v":124.22},{"$f":"OFFSET(InputPriceData!D$15,CalculationsAndCharts!$A251+$A$11,IF($C$7,8,0),1,1)","v":125.37},{"$f":"OFFSET(InputPriceData!E$15,CalculationsAndCharts!$A251+$A$11,IF($C$7,8,0),1,1)","v":123.99},{"$f":"OFFSET(InputPriceData!F$15,CalculationsAndCharts!$A251+$A$11,IF($C$7,8,0),1,1)","v":125.01},78.53834999999998,114.33139999999999,121.73299999999999,124.42625000000001,122.7375,1125600,{"$error":"#N/A"},false,"UP",false,{"$error":"#N/A"},{"$error":"#N/A"},true,false,false,false,false,false,{"$error":"#N/A"},false,{"$error":"#N/A"},false,false,false,false,false,false,{"$error":"#N/A"},78.53834999999998,114.33139999999999,121.73299999999999,124.42625000000001,122.7375,null,{"$f":"OFFSET(InputIndexData!F$15,CalculationsAndCharts!$A251+$A$11,IF($C$7,8,0),1,1)","v":189.71},182.7576,1,1,true,null,212,{"$error":"#N/A"}]
[220,{"$f":"OFFSET(InputPriceData!B$15,CalculationsAndCharts!$A252+$A$11,0,1,1)","v":"2014-06-05"},{"$f":"OFFSET(InputPriceData!G$15,CalculationsAndCharts!$A252+$A$11,IF($C$7,8,0),1,1)","v":995600},{"$f":"OFFSET(InputPriceData!C$15,CalculationsAndCharts!$A252+$A$11,IF($C$7,8,0),1,1)","v":123.87},{"$f":"OFFSET(InputPriceData!D$15,CalculationsAndCharts!$A252+$A$11,IF($C$7,8,0),1,1)","v":123.87},{"$f":"OFFSET(InputPriceData!E$15,CalculationsAndCharts!$A252+$A$11,IF($C$7,8,0),1,1)","v":122.51},{"$f":"OFFSET(InputPriceData!F$15,CalculationsAndCharts!$A252+$A$11,IF($C$7,8,0),1,1)","v":123},77.913299999999978,114.05999999999999,121.255,124.38875000000002,122.65125,{"$error":"#N/A"},995600,false,"UP",false,{"$error":"#N/A"},{"$error":"#N/A"},true,false,false,false,false,false,{"$error":"#N/A"},false,{"$error":"#N/A"},false,false,false,false,false,false,{"$error":"#N/A"},77.913299999999978,114.05999999999999,121.255,124.38875000000002,122.65125,null,{"$f":"OFFSET(InputIndexData!F$15,CalculationsAndCharts!$A252+$A$11,IF($C$7,8,0),1,1)","v":188.81},182.55540000000002,1,1,true,null,212,{"$error":"#N/A"}]
[221,{"$f":"OFFSET(InputPriceData!B$15,CalculationsAndCharts!$A253+$A$11,0,1,1)","v":"2014-06-04"},{"$f":"OFFSET(InputPriceData!G$15,CalculationsAndCharts!$A253+$A$11,IF($C$7,8,0),1,1)","v":1344700},{"$f":"OFFSET(InputPriceData!C$15,CalculationsAndCharts!$A253+$A$11,IF($C$7,8,0),1,1)","v":123.3},{"$f":"OFFSET(InputPriceData!D$15,CalculationsAndCharts!$A253+$A$11,IF($C$7,8,0),1,1)","v":124.24},{"$f":"OFFSET(InputPriceData!E$15,CalculationsAndCharts!$A253+$A$11,IF($C$7,8,0),1,1)","v":122.68},{"$f":"OFFSET(InputPriceData!F$15,CalculationsAndCharts!$A253+$A$11,IF($C$7,8,0),1,1)","v":123.88},77.298299999999983,113.85379999999998,120.99299999999998,124.33750000000001,122.55000000000001,1344700,{"$error":"#N/A"},false,"UP",false,{"$error":"#N/A"},{"$error":"#N/A"},true,false,false,false,false,false,{"$error":"#N/A"},false,{"$error":"#N/A"},false,false,false,false,false,false,{"$error":"#N/A"},77.298299999999983,113.85379999999998,120.99299999999998,124.33750000000001,122.55000000000001,null,{"$f":"OFFSET(InputIndexData!F$15,CalculationsAndCharts!$A253+$A$11,IF($C$7,8,0),1,1)","v":187.59},182.39719999999997,1,1,true,null,212,{"$error":"#N/A"}]
[222,{"$f":"OFFSET(InputPriceData!B$15,CalculationsAndCharts!$A254+$A$11,0,1,1)","v":"2014-06-03"},{"$f":"OFFSET(InputPriceData!G$15,CalculationsAndCharts!$A254+$A$11,IF($C$7,8,0),1,1)","v":1422200},{"$f":"OFFSET(InputPriceData!C$15,CalculationsAndCharts!$A254+$A$11,IF($C$7,8,0),1,1)","v":123.55},{"$f":"OFFSET(InputPriceData!D$15,CalculationsAndCharts!$A254+$A$11,IF($C$7,8,0),1,1)","v":124.3},{"$f":"OFFSET(InputPriceData!E$15,CalculationsAndCharts!$A254+$A$11,IF($C$7,8,0),1,1)","v":122.5},{"$f":"OFFSET(InputPriceData!F$15,CalculationsAndCharts!$A254+$A$11,IF($C$7,8,0),1,1)","v":123.05},76.678899999999999,113.62199999999997,120.229,124.08125000000001,122.22375,{"$error":"#N/A"},1422200,false,"UP",false,{"$error":"#N/A"},{"$error":"#N/A"},true,false,{"$f":"U255","v":false},false,false,false,{"$error":"#N/A"},false,{"$error":"#N/A"},false,false,false,false,false,false,{"$error":"#N/A"},76.678899999999999,113.62199999999997,120.229,124.08125000000001,122.22375,null,{"$f":"OFFSET(InputIndexData!F$15,CalculationsAndCharts!$A254+$A$11,IF($C$7,8,0),1,1)","v":187.21},182.24639999999997,1,1,true,null,212,{"$error":"#N/A"}]
[223,{"$f":"OFFSET(InputPriceData!B$15,CalculationsAndCharts!$A255+$A$11,0,1,1)","v":"2014-06-02"},{"$f":"OFFSET(InputPriceData!G$15,CalculationsAndCharts!$A255+$A$11,IF($C$7,8,0),1,1)","v":1017900},{"$f":"OFFSET(InputPriceData!C$15,CalculationsAndCharts!$A255+$A$11,IF($C$7,8,0),1,1)","v":123.6},{"$f":"OFFSET(InputPriceData!D$15,CalculationsAndCharts!$A255+$A$11,IF($C$7,8,0),1,1)","v":124.91},{"$f":"OFFSET(InputPriceData!E$15,CalculationsAndCharts!$A255+$A$11,IF($C$7,8,0),1,1)","v":123.12},{"$f":"OFFSET(InputPriceData!F$15,CalculationsAndCharts!$A255+$A$11,IF($C$7,8,0),1,1)","v":124.04},76.063649999999996,113.46979999999996,119.523,123.71625000000002,121.89874999999999,1017900,{"$error":"#N/A"},false,"UP",false,{"$error":"#N/A"},{"$error":"#N/A"},true,false,false,false,false,false,{"$error":"#N/A"},false,{"$error":"#N/A"},false,false,false,false,false,false,{"$error":"#N/A"},76.063649999999996,113.46979999999996,119.523,123.71625000000002,121.89874999999999,null,{"$f":"OFFSET(InputIndexData!F$15,CalculationsAndCharts!$A255+$A$11,IF($C$7,8,0),1,1)","v":187.3},182.11819999999992,1,1,true,null,212,{"$error":"#N/A"}]
[224,{"$f":"OFFSET(InputPriceData!B$15,CalculationsAndCharts!$A256+$A$11,0,1,1)","v":"2014-05-30"},{"$f":"OFFSET(InputPriceData!G$15,CalculationsAndCharts!$A256+$A$11,IF($C$7,8,0),1,1)","v":1039100},{"$f":"OFFSET(InputPriceData!C$15,CalculationsAndCharts!$A256+$A$11,IF($C$7,8,0),1,1)","v":123.37},{"$f":"OFFSET(InputPriceData!D$15,CalculationsAndCharts!$A256+$A$11,IF($C$7,8,0),1,1)","v":124.12},{"$f":"OFFSET(InputPriceData!E$15,CalculationsAndCharts!$A256+$A$11,IF($C$7,8,0),1,1)","v":122.04},{"$f":"OFFSET(InputPriceData!F$15,CalculationsAndCharts!$A256+$A$11,IF($C$7,8,0),1,1)","v":123.11},75.443449999999999,113.33319999999996,118.70650000000001,123.20375000000001,121.345,{"$error":"#N/A"},1039100,false,"UP",false,{"$error":"#N/A"},{"$error":"#N/A"},true,false,false,false,false,false,{"$error":"#N/A"},false,{"$error":"#N/A"},false,false,false,false,false,false,{"$error":"#N/A"},75.443449999999999,113.33319999999996,118.70650000000001,123.20375000000001,121.345,null,{"$f":"OFFSET(InputIndexData!F$15,CalculationsAndCharts!$A256+$A$11,IF($C$7,8,0),1,1)","v":187.09},182.0021999999999,1,1,true,null,212,{"$error":"#N/A"}]
[225,{"$f":"OFFSET(InputPriceData!B$15,CalculationsAndCharts!$A257+$A$11,0,1,1)","v":"2014-05-29"},{"$f":"OFFSET(InputPriceData!G$15,CalculationsAndCharts!$A257+$A$11,IF($C$7,8,0),1,1)","v":814000},{"$f":"OFFSET(InputPriceData!C$15,CalculationsAndCharts!$A257+$A$11,IF($C$7,8,0),1,1)","v":123.54},{"$f":"OFFSET(InputPriceData!D$15,CalculationsAndCharts!$A257+$A$11,IF($C$7,8,0),1,1)","v":123.99},{"$f":"OFFSET(InputPriceData!E$15,CalculationsAndCharts!$A257+$A$11,IF($C$7,8,0),1,1)","v":122.21},{"$f":"OFFSET(InputPriceData!F$15,CalculationsAndCharts!$A257+$A$11,IF($C$7,8,0),1,1)","v":123.21},74.8279,113.17919999999995,117.96250000000001,122.71250000000001,120.77625,{"$error":"#N/A"},814000,false,"UP",false,{"$error":"#N/A"},{"$error":"#N/A"},true,false,false,false,false,false,{"$error":"#N/A"},false,{"$error":"#N/A"},false,false,false,false,false,false,{"$error":"#N/A"},74.8279,113.17919999999995,117.96250000000001,122.71250000000001,120.77625,null,{"$f":"OFFSET(InputIndexData!F$15,CalculationsAndCharts!$A257+$A$11,IF($C$7,8,0),1,1)","v":186.79},181.86939999999993,1,1,true,null,212,{"$error":"#N/A"}]
[226,{"$f":"OFFSET(InputPriceData!B$15,CalculationsAndCharts!$A258+$A$11,0,1,1)","v":"2014-05-28"},{"$f":"OFFSET(InputPriceData!G$15,CalculationsAndCharts!$A258+$A$11,IF($C$7,8,0),1,1)","v":670900},{"$f":"OFFSET(InputPriceData!C$15,CalculationsAndCharts!$A258+$A$11,IF($C$7,8,0),1,1)","v":123.79},{"$f":"OFFSET(InputPriceData!D$15,CalculationsAndCharts!$A258+$A$11,IF($C$7,8,0),1,1)","v":124.61},{"$f":"OFFSET(InputPriceData!E$15,CalculationsAndCharts!$A258+$A$11,IF($C$7,8,0),1,1)","v":122.85},{"$f":"OFFSET(InputPriceData!F$15,CalculationsAndCharts!$A258+$A$11,IF($C$7,8,0),1,1)","v":122.97},74.211849999999998,112.95399999999997,117.22999999999999,122.08125000000001,120.0925,{"$error":"#N/A"},670900,false,"UP",false,{"$error":"#N/A"},{"$error":"#N/A"},true,false,false,false,false,false,{"$error":"#N/A"},false,{"$error":"#N/A"},false,false,false,false,false,false,{"$error":"#N/A"},74.211849999999998,112.95399999999997,117.22999999999999,122.08125000000001,120.0925,null,{"$f":"OFFSET(InputIndexData!F$15,CalculationsAndCharts!$A258+$A$11,IF($C$7,8,0),1,1)","v":185.83},181.76179999999994,1,1,true,null,212,{"$error":"#N/A"}]
[227,{"$f":"OFFSET(InputPriceData!B$15,CalculationsAndCharts!$A259+$A$11,0,1,1)","v":"2014-05-27"},{"$f":"OFFSET(InputPriceData!G$15,CalculationsAndCharts!$A259+$A$11,IF($C$7,8,0),1,1)","v":1122800},{"$f":"OFFSET(InputPriceData!C$15,CalculationsAndCharts!$A259+$A$11,IF($C$7,8,0),1,1)","v":123.62},{"$f":"OFFSET(InputPriceData!D$15,CalculationsAndCharts!$A259+$A$11,IF($C$7,8,0),1,1)","v":125.07},{"$f":"OFFSET(InputPriceData!E$15,CalculationsAndCharts!$A259+$A$11,IF($C$7,8,0),1,1)","v":123.3},{"$f":"OFFSET(InputPriceData!F$15,CalculationsAndCharts!$A259+$A$11,IF($C$7,8,0),1,1)","v":123.89},73.596999999999994,112.69599999999993,116.47499999999998,121.45124999999999,119.30250000000001,1122800,{"$error":"#N/A"},false,"UP",false,{"$error":"#N/A"},{"$error":"#N/A"},true,false,false,{"$f":"IF(V259,TRUE,IF(X260,FALSE,W260))","v":false},false,false,{"$error":"#N/A"},false,{"$error":"#N/A"},false,false,false,false,false,false,{"$error":"#N/A"},73.596999999999994,112.69599999999993,116.47499999999998,121.45124999999999,119.30250000000001,null,{"$f":"OFFSET(InputIndexData!F$15,CalculationsAndCharts!$A259+$A$11,IF($C$7,8,0),1,1)","v":185.96},181.6477999999999,1,1,true,null,212,{"$error":"#N/A"}]
[228,{"$f":"OFFSET(InputPriceData!B$15,CalculationsAndCharts!$A260+$A$11,0,1,1)","v":"2014-05-23"},{"$f":"OFFSET(InputPriceData!G$15,CalculationsAndCharts!$A260+$A$11,IF($C$7,8,0),1,1)","v":1010000},{"$f":"OFFSET(InputPriceData!C$15,CalculationsAndCharts!$A260+$A$11,IF($C$7,8,0),1,1)","v":122.44},{"$f":"OFFSET(InputPriceData!D$15,CalculationsAndCharts!$A260+$A$11,IF($C$7,8,0),1,1)","v":123.46},{"$f":"OFFSET(InputPriceData!E$15,CalculationsAndCharts!$A260+$A$11,IF($C$7,8,0),1,1)","v":121.7},{"$f":"OFFSET(InputPriceData!F$15,CalculationsAndCharts!$A260+$A$11,IF($C$7,8,0),1,1)","v":123.14},72.977549999999994,112.37899999999995,115.67,120.90124999999999,118.68999999999998,1010000,{"$error":"#N/A"},false,"UP",false,{"$error":"#N/A"},{"$error":"#N/A"},true,false,false,false,false,false,{"$error":"#N/A"},false,{"$error":"#N/A"},false,false,false,false,false,false,{"$error":"#N/A"},72.977549999999994,112.37899999999995,115.67,120.90124999999999,118.68999999999998,null,{"$f":"OFFSET(InputIndexData!F$15,CalculationsAndCharts!$A260+$A$11,IF($C$7,8,0),1,1)","v":184.83},181.49879999999993,1,1,true,null,212,{"$error":"#N/A"}]
[229,{"$f":"OFFSET(InputPriceData!B$15,CalculationsAndCharts!$A261+$A$11,0,1,1)","v":"2014-05-22"},{"$f":"OFFSET(InputPriceData!G$15,CalculationsAndCharts!$A261+$A$11,IF($C$7,8,0),1,1)","v":1268700},{"$f":"OFFSET(InputPriceData!C$15,CalculationsAndCharts!$A261+$A$11,IF($C$7,8,0),1,1)","v":121.08},{"$f":"OFFSET(InputPriceData!D$15,CalculationsAndCharts!$A261+$A$11,IF($C$7,8,0),1,1)","v":122.19},{"$f":"OFFSET(InputPriceData!E$15,CalculationsAndCharts!$A261+$A$11,IF($C$7,8,0),1,1)","v":120.07},{"$f":"OFFSET(InputPriceData!F$15,CalculationsAndCharts!$A261+$A$11,IF($C$7,8,0),1,1)","v":121.97},72.36184999999999,112.07959999999996,114.91300000000001,120.79374999999999,118.54749999999999,1268700,{"$error":"#N/A"},false,"UP",false,{"$error":"#N/A"},{"$error":"#N/A"},true,false,false,false,false,false,{"$error":"#N/A"},false,{"$error":"#N/A"},false,false,false,false,false,false,{"$error":"#N/A"},72.36184999999999,112.07959999999996,114.91300000000001,120.79374999999999,118.54749999999999,null,{"$f":"OFFSET(InputIndexData!F$15,CalculationsAndCharts!$A261+$A$11,IF($C$7,8,0),1,1)","v":184.09},181.38259999999994,1,1,true,null,212,{"$error":"#N/A"}]
[230,{"$f":"OFFSET(InputPriceData!B$15,CalculationsAndCharts!$A262+$A$11,0,1,1)","v":"2014-05-21"},{"$f":"OFFSET(InputPriceData!G$15,CalculationsAndCharts!$A262+$A$11,IF($C$7,8,0),1,1)","v":847300},{"$f":"OFFSET(InputPriceData!C$15,CalculationsAndCharts!$A262+$A$11,IF($C$7,8,0),1,1)","v":120.07},{"$f":"OFFSET(InputPriceData!D$15,CalculationsAndCharts!$A262+$A$11,IF($C$7,8,0),1,1)","v":121.38},{"$f":"OFFSET(InputPriceData!E$15,CalculationsAndCharts!$A262+$A$11,IF($C$7,8,0),1,1)","v":119.9},{"$f":"OFFSET(InputPriceData!F$15,CalculationsAndCharts!$A262+$A$11,IF($C$7,8,0),1,1)","v":121.08},71.751999999999995,111.83059999999996,114.19649999999999,120.845,118.39874999999999,847300,{"$error":"#N/A"},false,"UP",false,{"$error":"#N/A"},{"$error":"#N/A"},true,false,false,false,false,false,{"$error":"#N/A"},false,{"$error":"#N/A"},false,false,false,false,false,false,{"$error":"#N/A"},71.751999999999995,111.83059999999996,114.19649999999999,120.845,118.39874999999999,null,{"$f":"OFFSET(InputIndexData!F$15,CalculationsAndCharts!$A262+$A$11,IF($C$7,8,0),1,1)","v":183.64},181.32179999999994,1,1,true,null,212,{"$error":"#N/A"}]
[231,{"$f":"OFFSET(InputPriceData!B$15,CalculationsAndCharts!$A263+$A$11,0,1,1)","v":"2014-05-20"},{"$f":"OFFSET(InputPriceData!G$15,CalculationsAndCharts!$A263+$A$11,IF($C$7,8,0),1,1)","v":1030100},{"$f":"OFFSET(InputPriceData!C$15,CalculationsAndCharts!$A263+$A$11,IF($C$7,8,0),1,1)","v":119.76},{"$f":"OFFSET(InputPriceData!D$15,CalculationsAndCharts!$A263+$A$11,IF($C$7,8,0),1,1)","v":120.81},{"$f":"OFFSET(InputPriceData!E$15,CalculationsAndCharts!$A263+$A$11,IF($C$7,8,0),1,1)","v":118.69},{"$f":"OFFSET(InputPriceData!F$15,CalculationsAndCharts!$A263+$A$11,IF($C$7,8,0),1,1)","v":120.01},71.146599999999978,111.58699999999993,113.47749999999999,120.52124999999999,117.7925,1030100,{"$error":"#N/A"},false,"UP",false,{"$error":"#N/A"},{"$error":"#N/A"},true,false,false,false,false,false,{"$error":"#N/A"},false,{"$error":"#N/A"},false,false,false,false,false,false,{"$error":"#N/A"},71.146599999999978,111.58699999999993,113.47749999999999,120.52124999999999,117.7925,null,{"$f":"OFFSET(InputIndexData!F$15,CalculationsAndCharts!$A263+$A$11,IF($C$7,8,0),1,1)","v":182.11},181.26899999999995,1,1,true,null,212,{"$error":"#N/A"}]
[232,{"$f":"OFFSET(InputPriceData!B$15,CalculationsAndCharts!$A264+$A$11,0,1,1)","v":"2014-05-19"},{"$f":"OFFSET(InputPriceData!G$15,CalculationsAndCharts!$A264+$A$11,IF($C$7,8,0),1,1)","v":1737400},{"$f":"OFFSET(InputPriceData!C$15,CalculationsAndCharts!$A264+$A$11,IF($C$7,8,0),1,1)","v":117.49},{"$f":"OFFSET(InputPriceData!D$15,CalculationsAndCharts!$A264+$A$11,IF($C$7,8,0),1,1)","v":120.19},{"$f":"OFFSET(InputPriceData!E$15,CalculationsAndCharts!$A264+$A$11,IF($C$7,8,0),1,1)","v":117.49},{"$f":"OFFSET(InputPriceData!F$15,CalculationsAndCharts!$A264+$A$11,IF($C$7,8,0),1,1)","v":120.02},70.546549999999982,111.37499999999993,112.8125,120.14875000000001,117.30875,1737400,{"$error":"#N/A"},false,"UP",false,{"$error":"#N/A"},{"$error":"#N/A"},true,false,false,false,false,false,{"$error":"#N/A"},false,{"$error":"#N/A"},false,false,false,false,false,false,{"$error":"#N/A"},70.546549999999982,111.37499999999993,112.8125,120.14875000000001,117.30875,null,{"$f":"OFFSET(InputIndexData!F$15,CalculationsAndCharts!$A264+$A$11,IF($C$7,8,0),1,1)","v":183.26},181.26479999999995,1,1,true,null,212,{"$error":"#N/A"}]
[233,{"$f":"OFFSET(InputPriceData!B$15,CalculationsAndCharts!$A265+$A$11,0,1,1)","v":"2014-05-16"},{"$f":"OFFSET(InputPriceData!G$15,CalculationsAndCharts!$A265+$A$11,IF($C$7,8,0),1,1)","v":1164100},{"$f":"OFFSET(InputPriceData!C$15,CalculationsAndCharts!$A265+$A$11,IF($C$7,8,0),1,1)","v":118.38},{"$f":"OFFSET(InputPriceData!D$15,CalculationsAndCharts!$A265+$A$11,IF($C$7,8,0),1,1)","v":118.94},{"$f":"OFFSET(InputPriceData!E$15,CalculationsAndCharts!$A265+$A$11,IF($C$7,8,0),1,1)","v":116.74},{"$f":"OFFSET(InputPriceData!F$15,CalculationsAndCharts!$A265+$A$11,IF($C$7,8,0),1,1)","v":117.71},69.946449999999984,111.16359999999993,112.02349999999998,119.94499999999999,115.97499999999997,{"$error":"#N/A"},1164100,false,"UP",false,{"$error":"#N/A"},{"$error":"#N/A"},true,false,false,false,false,false,{"$error":"#N/A"},false,{"$error":"#N/A"},false,false,false,false,false,false,{"$error":"#N/A"},69.946449999999984,111.16359999999993,112.02349999999998,119.94499999999999,115.97499999999997,null,{"$f":"OFFSET(InputIndexData!F$15,CalculationsAndCharts!$A265+$A$11,IF($C$7,8,0),1,1)","v":182.59},181.23939999999996,1,1,true,null,212,{"$error":"#N/A"}]
[234,{"$f":"OFFSET(InputPriceData!B$15,CalculationsAndCharts!$A266+$A$11,0,1,1)","v":"2014-05-15"},{"$f":"OFFSET(InputPriceData!G$15,CalculationsAndCharts!$A266+$A$11,IF($C$7,8,0),1,1)","v":1454600},{"$f":"OFFSET(InputPriceData!C$15,CalculationsAndCharts!$A266+$A$11,IF($C$7,8,0),1,1)","v":118.51},{"$f":"OFFSET(InputPriceData!D$15,CalculationsAndCharts!$A266+$A$11,IF($C$7,8,0),1,1)","v":119.57},{"$f":"OFFSET(InputPriceData!E$15,CalculationsAndCharts!$A266+$A$11,IF($C$7,8,0),1,1)","v":116.53},{"$f":"OFFSET(InputPriceData!F$15,CalculationsAndCharts!$A266+$A$11,IF($C$7,8,0),1,1)","v":118.26},69.357899999999987,111.00939999999996,111.31799999999998,118.80250000000001,114.94499999999999,{"$error":"#N/A"},1454600,false,"UP",false,{"$error":"#N/A"},{"$error":"#N/A"},true,false,false,false,false,false,{"$error":"#N/A"},false,{"$error":"#N/A"},false,false,false,false,false,false,{"$error":"#N/A"},69.357899999999987,111.00939999999996,111.31799999999998,118.80250000000001,114.94499999999999,null,{"$f":"OFFSET(InputIndexData!F$15,CalculationsAndCharts!$A266+$A$11,IF($C$7,8,0),1,1)","v":181.96},181.226,1,1,true,null,212,{"$error":"#N/A"}]
[235,{"$f":"OFFSET(InputPriceData!B$15,CalculationsAndCharts!$A267+$A$11,0,1,1)","v":"2014-05-14"},{"$f":"OFFSET(InputPriceData!G$15,CalculationsAndCharts!$A267+$A$11,IF($C$7,8,0),1,1)","v":1444000},{"$f":"OFFSET(InputPriceData!C$15,CalculationsAndCharts!$A267+$A$11,IF($C$7,8,0),1,1)","v":120.67},{"$f":"OFFSET(InputPriceData!D$15,CalculationsAndCharts!$A267+$A$11,IF($C$7,8,0),1,1)","v":120.67},{"$f":"OFFSET(InputPriceData!E$15,CalculationsAndCharts!$A267+$A$11,IF($C$7,8,0),1,1)","v":118.4},{"$f":"OFFSET(InputPriceData!F$15,CalculationsAndCharts!$A267+$A$11,IF($C$7,8,0),1,1)","v":118.69},68.766599999999983,110.85379999999995,110.78600000000002,117.52624999999999,113.7525,{"$error":"#N/A"},1444000,false,"UP",false,{"$error":"#N/A"},{"$error":"#N/A"},false,false,false,false,false,false,{"$error":"#N/A"},false,{"$error":"#N/A"},false,false,false,false,false,false,{"$error":"#N/A"},68.766599999999983,110.85379999999995,110.78600000000002,117.52624999999999,113.7525,null,{"$f":"OFFSET(InputIndexData!F$15,CalculationsAndCharts!$A267+$A$11,IF($C$7,8,0),1,1)","v":183.57},181.21680000000001,1,1,true,null,212,{"$error":"#N/A"}]
[236,{"$f":"OFFSET(InputPriceData!B$15,CalculationsAndCharts!$A268+$A$11,0,1,1)","v":"2014-05-13"},{"$f":"OFFSET(InputPriceData!G$15,CalculationsAndCharts!$A268+$A$11,IF($C$7,8,0),1,1)","v":1249800},{"$f":"OFFSET(InputPriceData!C$15,CalculationsAndCharts!$A268+$A$11,IF($C$7,8,0),1,1)","v":122.29},{"$f":"OFFSET(InputPriceData!D$15,CalculationsAndCharts!$A268+$A$11,IF($C$7,8,0),1,1)","v":122.6},{"$f":"OFFSET(InputPriceData!E$15,CalculationsAndCharts!$A268+$A$11,IF($C$7,8,0),1,1)","v":120.56},{"$f":"OFFSET(InputPriceData!F$15,CalculationsAndCharts!$A268+$A$11,IF($C$7,8,0),1,1)","v":120.6},68.173149999999993,110.69739999999996,110.27450000000002,116.07499999999999,112.3925,{"$error":"#N/A"},1249800,false,"UP",false,{"$error":"#N/A"},{"$error":"#N/A"},false,false,false,false,false,false,{"$error":"#N/A"},false,{"$error":"#N/A"},false,false,false,false,false,false,{"$error":"#N/A"},68.173149999999993,110.69739999999996,110.27450000000002,116.07499999999999,112.3925,null,{"$f":"OFFSET(InputIndexData!F$15,CalculationsAndCharts!$A268+$A$11,IF($C$7,8,0),1,1)","v":184.45},181.1722,1,1,true,null,212,{"$error":"#N/A"}]
[237,{"$f":"OFFSET(InputPriceData!B$15,CalculationsAndCharts!$A269+$A$11,0,1,1)","v":"2014-05-12"},{"$f":"OFFSET(InputPriceData!G$15,CalculationsAndCharts!$A269+$A$11,IF($C$7,8,0),1,1)","v":1707000},{"$f":"OFFSET(InputPriceData!C$15,CalculationsAndCharts!$A269+$A$11,IF($C$7,8,0),1,1)","v":118.89},{"$f":"OFFSET(InputPriceData!D$15,CalculationsAndCharts!$A269+$A$11,IF($C$7,8,0),1,1)","v":122.6},{"$f":"OFFSET(InputPriceData!E$15,CalculationsAndCharts!$A269+$A$11,IF($C$7,8,0),1,1)","v":118.88},{"$f":"OFFSET(InputPriceData!F$15,CalculationsAndCharts!$A269+$A$11,IF($C$7,8,0),1,1)","v":122.28},67.570149999999998,110.50019999999996,109.64750000000001,114.48125,110.80249999999999,1707000,{"$error":"#N/A"},false,"UP",false,{"$error":"#N/A"},{"$error":"#N/A"},false,false,false,false,false,false,{"$error":"#N/A"},false,{"$error":"#N/A"},false,false,false,false,false,false,{"$error":"#N/A"},67.570149999999998,110.50019999999996,109.64750000000001,114.48125,110.80249999999999,null,{"$f":"OFFSET(InputIndexData!F$15,CalculationsAndCharts!$A269+$A$11,IF($C$7,8,0),1,1)","v":184.28},181.05959999999999,1,1,true,null,212,{"$error":"#N/A"}]
[238,{"$f":"OFFSET(InputPriceData!B$15,CalculationsAndCharts!$A270+$A$11,0,1,1)","v":"2014-05-09"},{"$f":"OFFSET(InputPriceData!G$15,CalculationsAndCharts!$A270+$A$11,IF($C$7,8,0),1,1)","v":1293100},{"$f":"OFFSET(InputPriceData!C$15,CalculationsAndCharts!$A270+$A$11,IF($C$7,8,0),1,1)","v":115.46},{"$f":"OFFSET(InputPriceData!D$15,CalculationsAndCharts!$A270+$A$11,IF($C$7,8,0),1,1)","v":118.79},{"$f":"OFFSET(InputPriceData!E$15,CalculationsAndCharts!$A270+$A$11,IF($C$7,8,0),1,1)","v":115.05},{"$f":"OFFSET(InputPriceData!F$15,CalculationsAndCharts!$A270+$A$11,IF($C$7,8,0),1,1)","v":118.74},66.958749999999981,110.27399999999996,108.883,113.03125000000001,109.405,1293100,{"$error":"#N/A"},false,"UP",false,{"$error":"#N/A"},{"$error":"#N/A"},false,false,false,false,false,false,{"$error":"#N/A"},false,{"$error":"#N/A"},false,false,false,false,false,false,{"$error":"#N/A"},66.958749999999981,110.27399999999996,108.883,113.03125000000001,109.405,null,{"$f":"OFFSET(InputIndexData!F$15,CalculationsAndCharts!$A270+$A$11,IF($C$7,8,0),1,1)","v":182.51},180.97579999999999,1,1,true,null,212,{"$error":"#N/A"}]
[239,{"$f":"OFFSET(InputPriceData!B$15,CalculationsAndCharts!$A271+$A$11,0,1,1)","v":"2014-05-08"},{"$f":"OFFSET(InputPriceData!G$15,CalculationsAndCharts!$A271+$A$11,IF($C$7,8,0),1,1)","v":2055400},{"$f":"OFFSET(InputPriceData!C$15,CalculationsAndCharts!$A271+$A$11,IF($C$7,8,0),1,1)","v":117.76},{"$f":"OFFSET(InputPriceData!D$15,CalculationsAndCharts!$A271+$A$11,IF($C$7,8,0),1,1)","v":117.83},{"$f":"OFFSET(InputPriceData!E$15,CalculationsAndCharts!$A271+$A$11,IF($C$7,8,0),1,1)","v":114.82},{"$f":"OFFSET(InputPriceData!F$15,CalculationsAndCharts!$A271+$A$11,IF($C$7,8,0),1,1)","v":115.45},66.365049999999982,110.08239999999996,108.36949999999999,111.74000000000001,108.43,{"$error":"#N/A"},2055400,false,"UP",false,{"$error":"#N/A"},{"$error":"#N/A"},false,false,false,false,false,false,{"$error":"#N/A"},false,{"$error":"#N/A"},false,false,false,false,false,false,{"$error":"#N/A"},66.365049999999982,110.08239999999996,108.36949999999999,111.74000000000001,108.43,null,{"$f":"OFFSET(InputIndexData!F$15,CalculationsAndCharts!$A271+$A$11,IF($C$7,8,0),1,1)","v":182.23},180.91839999999996,1,1,true,null,212,{"$error":"#N/A"}]
[240,{"$f":"OFFSET(InputPriceData!B$15,CalculationsAndCharts!$A272+$A$11,0,1,1)","v":"2014-05-07"},{"$f":"OFFSET(InputPriceData!G$15,CalculationsAndCharts!$A272+$A$11,IF($C$7,8,0),1,1)","v":4073200},{"$f":"OFFSET(InputPriceData!C$15,CalculationsAndCharts!$A272+$A$11,IF($C$7,8,0),1,1)","v":108.83},{"$f":"OFFSET(InputPriceData!D$15,CalculationsAndCharts!$A272+$A$11,IF($C$7,8,0),1,1)","v":118.56},{"$f":"OFFSET(InputPriceData!E$15,CalculationsAndCharts!$A272+$A$11,IF($C$7,8,0),1,1)","v":106.82},{"$f":"OFFSET(InputPriceData!F$15,CalculationsAndCharts!$A272+$A$11,IF($C$7,8,0),1,1)","v":117.76},65.78779999999999,109.95039999999999,108.22999999999999,110.56125,107.42,4073200,{"$error":"#N/A"},false,"UP",false,{"$error":"#N/A"},{"$error":"#N/A"},false,false,false,false,false,false,{"$error":"#N/A"},false,{"$error":"#N/A"},false,false,false,false,false,false,{"$error":"#N/A"},65.78779999999999,109.95039999999999,108.22999999999999,110.56125,107.42,null,{"$f":"OFFSET(InputIndexData!F$15,CalculationsAndCharts!$A272+$A$11,IF($C$7,8,0),1,1)","v":182.43},180.84779999999998,1,1,true,null,212,{"$error":"#N/A"}]
[241,{"$f":"OFFSET(InputPriceData!B$15,CalculationsAndCharts!$A273+$A$11,0,1,1)","v":"2014-05-06"},{"$f":"OFFSET(InputPriceData!G$15,CalculationsAndCharts!$A273+$A$11,IF($C$7,8,0),1,1)","v":2836000},{"$f":"OFFSET(InputPriceData!C$15,CalculationsAndCharts!$A273+$A$11,IF($C$7,8,0),1,1)","v":109.02},{"$f":"OFFSET(InputPriceData!D$15,CalculationsAndCharts!$A273+$A$11,IF($C$7,8,0),1,1)","v":109.8},{"$f":"OFFSET(InputPriceData!E$15,CalculationsAndCharts!$A273+$A$11,IF($C$7,8,0),1,1)","v":108.5},{"$f":"OFFSET(InputPriceData!F$15,CalculationsAndCharts!$A273+$A$11,IF($C$7,8,0),1,1)","v":108.6},65.198999999999984,109.77579999999998,107.845,109.26750000000001,107.42750000000001,{"$error":"#N/A"},2836000,false,"UP",false,{"$error":"#N/A"},{"$error":"#N/A"},false,false,false,false,false,false,{"$error":"#N/A"},false,{"$error":"#N/A"},false,false,false,false,false,false,{"$error":"#N/A"},65.198999999999984,109.77579999999998,107.845,109.26750000000001,107.42750000000001,null,{"$f":"OFFSET(InputIndexData!F$15,CalculationsAndCharts!$A273+$A$11,IF($C$7,8,0),1,1)","v":181.36},180.77300000000002,1,1,true,null,212,{"$error":"#N/A"}]
[242,{"$f":"OFFSET(InputPriceData!B$15,CalculationsAndCharts!$A274+$A$11,0,1,1)","v":"2014-05-05"},{"$f":"OFFSET(InputPriceData!G$15,CalculationsAndCharts!$A274+$A$11,IF($C$7,8,0),1,1)","v":1944100},{"$f":"OFFSET(InputPriceData!C$15,CalculationsAndCharts!$A274+$A$11,IF($C$7,8,0),1,1)","v":107.56},{"$f":"OFFSET(InputPriceData!D$15,CalculationsAndCharts!$A274+$A$11,IF($C$7,8,0),1,1)","v":109.36},{"$f":"OFFSET(InputPriceData!E$15,CalculationsAndCharts!$A274+$A$11,IF($C$7,8,0),1,1)","v":106.99},{"$f":"OFFSET(InputPriceData!F$15,CalculationsAndCharts!$A274+$A$11,IF($C$7,8,0),1,1)","v":108.93},64.655999999999992,109.84759999999997,107.95400000000002,109.12,107.26374999999999,1944100,{"$error":"#N/A"},false,"UP",false,{"$error":"#N/A"},{"$error":"#N/A"},false,false,false,false,false,false,{"$error":"#N/A"},false,{"$error":"#N/A"},false,false,false,false,false,false,{"$error":"#N/A"},64.655999999999992,109.84759999999997,107.95400000000002,109.12,107.26374999999999,null,{"$f":"OFFSET(InputIndexData!F$15,CalculationsAndCharts!$A274+$A$11,IF($C$7,8,0),1,1)","v":182.95},180.72099999999998,1,1,true,null,212,{"$error":"#N/A"}]
[243,{"$f":"OFFSET(InputPriceData!B$15,CalculationsAndCharts!$A275+$A$11,0,1,1)","v":"2014-05-02"},{"$f":"OFFSET(InputPriceData!G$15,CalculationsAndCharts!$A275+$A$11,IF($C$7,8,0),1,1)","v":1170500},{"$f":"OFFSET(InputPriceData!C$15,CalculationsAndCharts!$A275+$A$11,IF($C$7,8,0),1,1)","v":108.36},{"$f":"OFFSET(InputPriceData!D$15,CalculationsAndCharts!$A275+$A$11,IF($C$7,8,0),1,1)","v":109.06},{"$f":"OFFSET(InputPriceData!E$15,CalculationsAndCharts!$A275+$A$11,IF($C$7,8,0),1,1)","v":107.52},{"$f":"OFFSET(InputPriceData!F$15,CalculationsAndCharts!$A275+$A$11,IF($C$7,8,0),1,1)","v":107.71},64.111349999999987,109.69819999999996,108.05699999999999,108.92750000000001,107.04249999999999,{"$error":"#N/A"},1170500,false,"UP",false,{"$error":"#N/A"},{"$error":"#N/A"},false,false,false,false,false,false,{"$error":"#N/A"},false,{"$error":"#N/A"},false,false,false,false,false,false,{"$error":"#N/A"},64.111349999999987,109.69819999999996,108.05699999999999,108.92750000000001,107.04249999999999,null,{"$f":"OFFSET(InputIndexData!F$15,CalculationsAndCharts!$A275+$A$11,IF($C$7,8,0),1,1)","v":182.6},180.61740000000006,1,1,true,null,212,{"$error":"#N/A"}]
[244,{"$f":"OFFSET(InputPriceData!B$15,CalculationsAndCharts!$A276+$A$11,0,1,1)","v":"2014-05-01"},{"$f":"OFFSET(InputPriceData!G$15,CalculationsAndCharts!$A276+$A$11,IF($C$7,8,0),1,1)","v":1207000},{"$f":"OFFSET(InputPriceData!C$15,CalculationsAndCharts!$A276+$A$11,IF($C$7,8,0),1,1)","v":109.32},{"$f":"OFFSET(InputPriceData!D$15,CalculationsAndCharts!$A276+$A$11,IF($C$7,8,0),1,1)","v":109.85},{"$f":"OFFSET(InputPriceData!E$15,CalculationsAndCharts!$A276+$A$11,IF($C$7,8,0),1,1)","v":107.84},{"$f":"OFFSET(InputPriceData!F$15,CalculationsAndCharts!$A276+$A$11,IF($C$7,8,0),1,1)","v":108.23},63.572799999999987,109.56179999999999,108.31399999999999,108.69125000000001,106.65000000000002,{"$error":"#N/A"},1207000,false,"UP",false,{"$error":"#N/A"},{"$error":"#N/A"},false,false,false,false,false,false,{"$error":"#N/A"},false,{"$error":"#N/A"},false,false,false,false,false,false,{"$error":"#N/A"},63.572799999999987,109.56179999999999,108.31399999999999,108.69125000000001,106.65000000000002,null,{"$f":"OFFSET(InputIndexData!F$15,CalculationsAndCharts!$A276+$A$11,IF($C$7,8,0),1,1)","v":182.87},180.52480000000003,1,1,true,null,212,{"$error":"#N/A"}]
[245,{"$f":"OFFSET(InputPriceData!B$15,CalculationsAndCharts!$A277+$A$11,0,1,1)","v":"2014-04-30"},{"$f":"OFFSET(InputPriceData!G$15,CalculationsAndCharts!$A277+$A$11,IF($C$7,8,0),1,1)","v":1334200},{"$f":"OFFSET(InputPriceData!C$15,CalculationsAndCharts!$A277+$A$11,IF($C$7,8,0),1,1)","v":108.13},{"$f":"OFFSET(InputPriceData!D$15,CalculationsAndCharts!$A277+$A$11,IF($C$7,8,0),1,1)","v":111},{"$f":"OFFSET(InputPriceData!E$15,CalculationsAndCharts!$A277+$A$11,IF($C$7,8,0),1,1)","v":107.7},{"$f":"OFFSET(InputPriceData!F$15,CalculationsAndCharts!$A277+$A$11,IF($C$7,8,0),1,1)","v":108.56},63.031649999999999,109.40979999999999,108.45,108.09625,106.03875000000001,1334200,{"$error":"#N/A"},false,"UP",false,{"$error":"#N/A"},{"$error":"#N/A"},false,false,false,false,false,false,{"$error":"#N/A"},false,{"$error":"#N/A"},false,false,false,false,false,false,{"$error":"#N/A"},63.031649999999999,109.40979999999999,108.45,108.09625,106.03875000000001,null,{"$f":"OFFSET(InputIndexData!F$15,CalculationsAndCharts!$A277+$A$11,IF($C$7,8,0),1,1)","v":182.85},180.40600000000003,1,1,true,null,212,{"$error":"#N/A"}]
[246,{"$f":"OFFSET(InputPriceData!B$15,CalculationsAndCharts!$A278+$A$11,0,1,1)","v":"2014-04-29"},{"$f":"OFFSET(InputPriceData!G$15,CalculationsAndCharts!$A278+$A$11,IF($C$7,8,0),1,1)","v":882000},{"$f":"OFFSET(InputPriceData!C$15,CalculationsAndCharts!$A278+$A$11,IF($C$7,8,0),1,1)","v":108.35},{"$f":"OFFSET(InputPriceData!D$15,CalculationsAndCharts!$A278+$A$11,IF($C$7,8,0),1,1)","v":108.46},{"$f":"OFFSET(InputPriceData!E$15,CalculationsAndCharts!$A278+$A$11,IF($C$7,8,0),1,1)","v":107.25},{"$f":"OFFSET(InputPriceData!F$15,CalculationsAndCharts!$A278+$A$11,IF($C$7,8,0),1,1)","v":107.87},62.488849999999992,109.25779999999999,108.624,107.47375,105.42125,{"$error":"#N/A"},882000,false,"UP",false,{"$error":"#N/A"},{"$error":"#N/A"},false,false,false,false,false,false,{"$error":"#N/A"},false,{"$error":"#N/A"},false,false,false,false,false,false,{"$error":"#N/A"},62.488849999999992,109.25779999999999,108.624,107.47375,105.42125,null,{"$f":"OFFSET(InputIndexData!F$15,CalculationsAndCharts!$A278+$A$11,IF($C$7,8,0),1,1)","v":182.3},180.31120000000001,1,1,true,null,212,{"$error":"#N/A"}]
[247,{"$f":"OFFSET(InputPriceData!B$15,CalculationsAndCharts!$A279+$A$11,0,1,1)","v":"2014-04-28"},{"$f":"OFFSET(InputPriceData!G$15,CalculationsAndCharts!$A279+$A$11,IF($C$7,8,0),1,1)","v":1214200},{"$f":"OFFSET(InputPriceData!C$15,CalculationsAndCharts!$A279+$A$11,IF($C$7,8,0),1,1)","v":108.35},{"$f":"OFFSET(InputPriceData!D$15,CalculationsAndCharts!$A279+$A$11,IF($C$7,8,0),1,1)","v":108.4},{"$f":"OFFSET(InputPriceData!E$15,CalculationsAndCharts!$A279+$A$11,IF($C$7,8,0),1,1)","v":106.74},{"$f":"OFFSET(InputPriceData!F$15,CalculationsAndCharts!$A279+$A$11,IF($C$7,8,0),1,1)","v":107.79},61.9495,109.07859999999999,108.80550000000001,107.58500000000001,105.39125,{"$error":"#N/A"},1214200,false,"UP",false,{"$error":"#N/A"},{"$error":"#N/A"},false,false,false,false,false,false,{"$error":"#N/A"},false,{"$error":"#N/A"},false,false,false,false,false,false,{"$error":"#N/A"},61.9495,109.07859999999999,108.80550000000001,107.58500000000001,105.39125,null,{"$f":"OFFSET(InputIndexData!F$15,CalculationsAndCharts!$A279+$A$11,IF($C$7,8,0),1,1)","v":181.46},180.22319999999999,1,1,true,null,212,{"$error":"#N/A"}]
[248,{"$f":"OFFSET(InputPriceData!B$15,CalculationsAndCharts!$A280+$A$11,0,1,1)","v":"2014-04-25"},{"$f":"OFFSET(InputPriceData!G$15,CalculationsAndCharts!$A280+$A$11,IF($C$7,8,0),1,1)","v":901400},{"$f":"OFFSET(InputPriceData!C$15,CalculationsAndCharts!$A280+$A$11,IF($C$7,8,0),1,1)","v":107.14},{"$f":"OFFSET(InputPriceData!D$15,CalculationsAndCharts!$A280+$A$11,IF($C$7,8,0),1,1)","v":108.21},{"$f":"OFFSET(InputPriceData!E$15,CalculationsAndCharts!$A280+$A$11,IF($C$7,8,0),1,1)","v":106.88},{"$f":"OFFSET(InputPriceData!F$15,CalculationsAndCharts!$A280+$A$11,IF($C$7,8,0),1,1)","v":108},61.410550000000001,108.83759999999998,109.00849999999998,107.63749999999999,105.425,901400,{"$error":"#N/A"},false,"UP",false,{"$error":"#N/A"},{"$error":"#N/A"},false,false,false,false,false,false,{"$error":"#N/A"},false,{"$error":"#N/A"},false,false,false,false,false,false,{"$error":"#N/A"},61.410550000000001,108.83759999999998,109.00849999999998,107.63749999999999,105.425,null,{"$f":"OFFSET(InputIndexData!F$15,CalculationsAndCharts!$A280+$A$11,IF($C$7,8,0),1,1)","v":180.89},180.13240000000002,1,1,true,null,212,{"$error":"#N/A"}]
[249,{"$f":"OFFSET(InputPriceData!B$15,CalculationsAndCharts!$A281+$A$11,0,1,1)","v":"2014-04-24"},{"$f":"OFFSET(InputPriceData!G$15,CalculationsAndCharts!$A281+$A$11,IF($C$7,8,0),1,1)","v":1179400},{"$f":"OFFSET(InputPriceData!C$15,CalculationsAndCharts!$A281+$A$11,IF($C$7,8,0),1,1)","v":107.79},{"$f":"OFFSET(InputPriceData!D$15,CalculationsAndCharts!$A281+$A$11,IF($C$7,8,0),1,1)","v":108.62},{"$f":"OFFSET(InputPriceData!E$15,CalculationsAndCharts!$A281+$A$11,IF($C$7,8,0),1,1)","v":107.19},{"$f":"OFFSET(InputPriceData!F$15,CalculationsAndCharts!$A281+$A$11,IF($C$7,8,0),1,1)","v":107.64},60.870550000000001,108.5642,109.15050000000001,107.62750000000001,105.37,{"$error":"#N/A"},1179400,true,"UP",false,107.64,{"$error":"#N/A"},false,false,false,false,false,false,{"$error":"#N/A"},false,{"$error":"#N/A"},false,false,false,false,false,false,{"$error":"#N/A"},60.870550000000001,108.5642,109.15050000000001,107.62750000000001,105.37,null,{"$f":"OFFSET(InputIndexData!F$15,CalculationsAndCharts!$A281+$A$11,IF($C$7,8,0),1,1)","v":182.38},180.03479999999999,1,1,true,null,212,{"$error":"#N/A"}]
[250,{"$f":"OFFSET(InputPriceData!B$15,CalculationsAndCharts!$A282+$A$11,0,1,1)","v":"2014-04-23"},{"$f":"OFFSET(InputPriceData!G$15,CalculationsAndCharts!$A282+$A$11,IF($C$7,8,0),1,1)","v":1341900},{"$f":"OFFSET(InputPriceData!C$15,CalculationsAndCharts!$A282+$A$11,IF($C$7,8,0),1,1)","v":106.28},{"$f":"OFFSET(InputPriceData!D$15,CalculationsAndCharts!$A282+$A$11,IF($C$7,8,0),1,1)","v":107.82},{"$f":"OFFSET(InputPriceData!E$15,CalculationsAndCharts!$A282+$A$11,IF($C$7,8,0),1,1)","v":105.22},{"$f":"OFFSET(InputPriceData!F$15,CalculationsAndCharts!$A282+$A$11,IF($C$7,8,0),1,1)","v":106.7},60.332349999999998,108.33099999999996,109.34049999999999,107.62375,105.3125,1341900,{"$error":"#N/A"},false,"DOWN",false,{"$error":"#N/A"},{"$error":"#N/A"},false,false,false,false,false,false,{"$error":"#N/A"},false,{"$error":"#N/A"},false,false,false,false,false,false,{"$error":"#N/A"},60.332349999999998,108.33099999999996,109.34049999999999,107.62375,105.3125,null,{"$f":"OFFSET(InputIndexData!F$15,CalculationsAndCharts!$A282+$A$11,IF($C$7,8,0),1,1)","v":182.01},179.90560000000002,1,1,true,null,212,{"$error":"#N/A"}]
[251,{"$f":"OFFSET(InputPriceData!B$15,CalculationsAndCharts!$A283+$A$11,0,1,1)","v":"2014-04-22"},{"$f":"OFFSET(InputPriceData!G$15,CalculationsAndCharts!$A283+$A$11,IF($C$7,8,0),1,1)","v":1559100},{"$f":"OFFSET(InputPriceData!C$15,CalculationsAndCharts!$A283+$A$11,IF($C$7,8,0),1,1)","v":104.38},{"$f":"OFFSET(InputPriceData!D$15,CalculationsAndCharts!$A283+$A$11,IF($C$7,8,0),1,1)","v":107.17},{"$f":"OFFSET(InputPriceData!E$15,CalculationsAndCharts!$A283+$A$11,IF($C$7,8,0),1,1)","v":104.38},{"$f":"OFFSET(InputPriceData!F$15,CalculationsAndCharts!$A283+$A$11,IF($C$7,8,0),1,1)","v":106.71},59.798849999999995,108.10099999999997,109.63999999999999,108.29,105.66374999999999,1559100,{"$error":"#N/A"},false,"DOWN",false,{"$error":"#N/A"},{"$error":"#N/A"},false,false,false,false,false,false,{"$error":"#N/A"},false,{"$error":"#N/A"},false,false,false,false,false,false,{"$error":"#N/A"},59.798849999999995,108.10099999999997,109.63999999999999,108.29,105.66374999999999,null,{"$f":"OFFSET(InputIndexData!F$15,CalculationsAndCharts!$A283+$A$11,IF($C$7,8,0),1,1)","v":182.44},179.74580000000003,1,1,true,null,212,{"$error":"#N/A"}]
[252,{"$f":"OFFSET(InputPriceData!B$15,CalculationsAndCharts!$A284+$A$11,0,1,1)","v":"2014-04-21"},{"$f":"OFFSET(InputPriceData!G$15,CalculationsAndCharts!$A284+$A$11,IF($C$7,8,0),1,1)","v":2237200},{"$f":"OFFSET(InputPriceData!C$15,CalculationsAndCharts!$A284+$A$11,IF($C$7,8,0),1,1)","v":104.09},{"$f":"OFFSET(InputPriceData!D$15,CalculationsAndCharts!$A284+$A$11,IF($C$7,8,0),1,1)","v":105.09},{"$f":"OFFSET(InputPriceData!E$15,CalculationsAndCharts!$A284+$A$11,IF($C$7,8,0),1,1)","v":102.95},{"$f":"OFFSET(InputPriceData!F$15,CalculationsAndCharts!$A284+$A$11,IF($C$7,8,0),1,1)","v":104.24},59.265299999999989,107.86079999999994,109.91899999999998,109.01125000000002,106.39000000000001,2237200,{"$error":"#N/A"},false,"DOWN",false,{"$error":"#N/A"},{"$error":"#N/A"},false,false,false,false,false,false,{"$error":"#N/A"},false,{"$error":"#N/A"},false,false,false,false,false,false,{"$error":"#N/A"},59.265299999999989,107.86079999999994,109.91899999999998,109.01125000000002,106.39000000000001,null,{"$f":"OFFSET(InputIndexData!F$15,CalculationsAndCharts!$A284+$A$11,IF($C$7,8,0),1,1)","v":181.61},179.57100000000005,1,1,true,null,212,{"$error":"#N/A"}]
[253,{"$f":"OFFSET(InputPriceData!B$15,CalculationsAndCharts!$A285+$A$11,0,1,1)","v":"2014-04-17"},{"$f":"OFFSET(InputPriceData!G$15,CalculationsAndCharts!$A285+$A$11,IF($C$7,8,0),1,1)","v":3110500},{"$f":"OFFSET(InputPriceData!C$15,CalculationsAndCharts!$A285+$A$11,IF($C$7,8,0),1,1)","v":104.4},{"$f":"OFFSET(InputPriceData!D$15,CalculationsAndCharts!$A285+$A$11,IF($C$7,8,0),1,1)","v":106.02},{"$f":"OFFSET(InputPriceData!E$15,CalculationsAndCharts!$A285+$A$11,IF($C$7,8,0),1,1)","v":102.76},{"$f":"OFFSET(InputPriceData!F$15,CalculationsAndCharts!$A285+$A$11,IF($C$7,8,0),1,1)","v":103.6},58.744099999999989,107.68359999999996,110.479,109.8625,106.95500000000001,{"$error":"#N/A"},3110500,false,"DOWN",false,{"$error":"#N/A"},{"$error":"#N/A"},false,false,false,false,false,false,{"$error":"#N/A"},false,{"$error":"#N/A"},false,false,false,false,false,false,{"$error":"#N/A"},58.744099999999989,107.68359999999996,110.479,109.8625,106.95500000000001,null,{"$f":"OFFSET(InputIndexData!F$15,CalculationsAndCharts!$A285+$A$11,IF($C$7,8,0),1,1)","v":180.98},179.37020000000004,1,1,true,null,212,{"$error":"#N/A"}]
[254,{"$f":"OFFSET(InputPriceData!B$15,CalculationsAndCharts!$A286+$A$11,0,1,1)","v":"2014-04-16"},{"$f":"OFFSET(InputPriceData!G$15,CalculationsAndCharts!$A286+$A$11,IF($C$7,8,0),1,1)","v":925700},{"$f":"OFFSET(InputPriceData!C$15,CalculationsAndCharts!$A286+$A$11,IF($C$7,8,0),1,1)","v":108.94},{"$f":"OFFSET(InputPriceData!D$15,CalculationsAndCharts!$A286+$A$11,IF($C$7,8,0),1,1)","v":109.35},{"$f":"OFFSET(InputPriceData!E$15,CalculationsAndCharts!$A286+$A$11,IF($C$7,8,0),1,1)","v":107.01},{"$f":"OFFSET(InputPriceData!F$15,CalculationsAndCharts!$A286+$A$11,IF($C$7,8,0),1,1)","v":107.62},58.226099999999995,107.50059999999996,111.15949999999998,110.71375,107.92750000000001,{"$error":"#N/A"},925700,false,"DOWN",false,{"$error":"#N/A"},{"$error":"#N/A"},true,false,false,false,false,false,{"$error":"#N/A"},false,{"$error":"#N/A"},false,false,false,false,false,false,{"$error":"#N/A"},58.226099999999995,107.50059999999996,111.15949999999998,110.71375,107.92750000000001,null,{"$f":"OFFSET(InputIndexData!F$15,CalculationsAndCharts!$A286+$A$11,IF($C$7,8,0),1,1)","v":180.73},179.13740000000001,1,1,true,null,212,{"$error":"#N/A"}]
[255,{"$f":"OFFSET(InputPriceData!B$15,CalculationsAndCharts!$A287+$A$11,0,1,1)","v":"2014-04-15"},{"$f":"OFFSET(InputPriceData!G$15,CalculationsAndCharts!$A287+$A$11,IF($C$7,8,0),1,1)","v":1268400},{"$f":"OFFSET(InputPriceData!C$15,CalculationsAndCharts!$A287+$A$11,IF($C$7,8,0),1,1)","v":108.33},{"$f":"OFFSET(InputPriceData!D$15,CalculationsAndCharts!$A287+$A$11,IF($C$7,8,0),1,1)","v":108.82},{"$f":"OFFSET(InputPriceData!E$15,CalculationsAndCharts!$A287+$A$11,IF($C$7,8,0),1,1)","v":107.01},{"$f":"OFFSET(InputPriceData!F$15,CalculationsAndCharts!$A287+$A$11,IF($C$7,8,0),1,1)","v":108.46},57.687999999999995,107.27179999999997,111.54899999999998,111.24999999999999,108.36875000000001,1268400,{"$error":"#N/A"},false,"DOWN",false,{"$error":"#N/A"},{"$error":"#N/A"},true,false,false,false,false,false,{"$error":"#N/A"},false,{"$error":"#N/A"},false,false,false,false,false,false,{"$error":"#N/A"},57.687999999999995,107.27179999999997,111.54899999999998,111.24999999999999,108.36875000000001,null,{"$f":"OFFSET(InputIndexData!F$15,CalculationsAndCharts!$A287+$A$11,IF($C$7,8,0),1,1)","v":178.86},178.91380000000001,1,1,true,null,212,{"$error":"#N/A"}]
[256,{"$f":"OFFSET(InputPriceData!B$15,CalculationsAndCharts!$A288+$A$11,0,1,1)","v":"2014-04-14"},{"$f":"OFFSET(InputPriceData!G$15,CalculationsAndCharts!$A288+$A$11,IF($C$7,8,0),1,1)","v":1360400},{"$f":"OFFSET(InputPriceData!C$15,CalculationsAndCharts!$A288+$A$11,IF($C$7,8,0),1,1)","v":107.39},{"$f":"OFFSET(InputPriceData!D$15,CalculationsAndCharts!$A288+$A$11,IF($C$7,8,0),1,1)","v":108.13},{"$f":"OFFSET(InputPriceData!E$15,CalculationsAndCharts!$A288+$A$11,IF($C$7,8,0),1,1)","v":106.44},{"$f":"OFFSET(InputPriceData!F$15,CalculationsAndCharts!$A288+$A$11,IF($C$7,8,0),1,1)","v":108.06},57.145699999999991,107.00439999999998,111.72349999999999,111.76,108.83749999999999,1360400,{"$error":"#N/A"},false,"DOWN",false,{"$error":"#N/A"},{"$error":"#N/A"},true,false,false,false,false,false,{"$error":"#N/A"},false,{"$error":"#N/A"},false,false,false,false,false,false,{"$error":"#N/A"},57.145699999999991,107.00439999999998,111.72349999999999,111.76,108.83749999999999,null,{"$f":"OFFSET(InputIndexData!F$15,CalculationsAndCharts!$A288+$A$11,IF($C$7,8,0),1,1)","v":177.63},178.70400000000001,1,1,true,null,212,{"$error":"#N/A"}]
[257,{"$f":"OFFSET(InputPriceData!B$15,CalculationsAndCharts!$A289+$A$11,0,1,1)","v":"2014-04-11"},{"$f":"OFFSET(InputPriceData!G$15,CalculationsAndCharts!$A289+$A$11,IF($C$7,8,0),1,1)","v":1277000},{"$f":"OFFSET(InputPriceData!C$15,CalculationsAndCharts!$A289+$A$11,IF($C$7,8,0),1,1)","v":107.29},{"$f":"OFFSET(InputPriceData!D$15,CalculationsAndCharts!$A289+$A$11,IF($C$7,8,0),1,1)","v":108.59},{"$f":"OFFSET(InputPriceData!E$15,CalculationsAndCharts!$A289+$A$11,IF($C$7,8,0),1,1)","v":106.73},{"$f":"OFFSET(InputPriceData!F$15,CalculationsAndCharts!$A289+$A$11,IF($C$7,8,0),1,1)","v":106.99},{"$f":"AVERAGE(OFFSET(G289,0,0,$A$17,1))","v":56.605399999999989},{"$f":"AVERAGE(OFFSET(G289,0,0,$A$18,1))","v":106.76339999999996},{"$f":"AVERAGE(OFFSET(G289,0,0,$A$19,1))","v":111.824},{"$f":"AVERAGE(OFFSET(E289,0,0,$A$20,1))","v":112.28500000000001},{"$f":"AVERAGE(OFFSET(F289,0,0,$A$21,1))","v":109.35999999999999},{"$error":"#N/A"},1277000,{"$f":"AND(G290<=K290,G289>K289,OR(P290=\"DOWN\",P290=0))","v":false},{"$f":"IF(AND(OR(P290=0,P290=\"UP\"),Q289),\"DOWN\",IF(AND(OR(P290=0,P290=\"DOWN\"),O289),\"UP\",P290))","v":"DOWN"},{"$f":"AND(G290>=L290,G289<L289,OR(P290=0,P290=\"UP\"))","v":false},{"$error":"#N/A"},{"$error":"#N/A"},true,{"$f":"AND(T289,O289)","v":false},false,false,{"$f":"AND(W289,Q289)","v":false},false,{"$f":"IF(AND(NOT(AA289),OR(W289,Y289)),$F$11,NA())","v":{"$error":"#N/A"}},false,{"$error":"#N/A"},false,{"$f":"AND(AC289,Q289)","v":false},{"$f":"AD290","v":false},false,false,{"$f":"AG290","v":false},{"$f":"IF(AND(NOT(AA289),OR(AF289,AH289)),$F$11,NA())","v":{"$error":"#N/A"}},56.605399999999989,106.76339999999996,111.824,112.28500000000001,109.35999999999999,null,{"$f":"OFFSET(InputIndexData!F$15,CalculationsAndCharts!$A289+$A$11,IF($C$7,8,0),1,1)","v":176.24},178.59639999999999,1,1,true,null,{"$f":"IF(AT289,$AR$26,NA())","v":212},{"$f":"IF(AT289,NA(),$AR$26)","v":{"$error":"#N/A"}}]
[258,{"$f":"OFFSET(InputPriceData!B$15,CalculationsAndCharts!$A290+$A$11,0,1,1)","v":"2014-04-10"},{"$f":"OFFSET(InputPriceData!G$15,CalculationsAndCharts!$A290+$A$11,IF($C$7,8,0),1,1)","v":2023700},{"$f":"OFFSET(InputPriceData!C$15,CalculationsAndCharts!$A290+$A$11,IF($C$7,8,0),1,1)","v":112.58},{"$f":"OFFSET(InputPriceData!D$15,CalculationsAndCharts!$A290+$A$11,IF($C$7,8,0),1,1)","v":113.15},{"$f":"OFFSET(InputPriceData!E$15,CalculationsAndCharts!$A290+$A$11,IF($C$7,8,0),1,1)","v":108.03},{"$f":"OFFSET(InputPriceData!F$15,CalculationsAndCharts!$A290+$A$11,IF($C$7,8,0),1,1)","v":108.47},56.070449999999994,106.56099999999996,111.87650000000001,112.93125000000001,109.92125,{"$f":"IF(D290<=G290,C290,NA())","v":{"$error":"#N/A"}},{"$f":"IF(D290<=G290,NA(),C290)","v":2023700},false,"DOWN",false,{"$error":"#N/A"},{"$error":"#N/A"},{"$f":"AND(OR(NOT($R$11),AT290),OR(NOT($R$12),J290>=I290),OR(NOT($R$13),I290>=H290),OR(NOT($R$14),G290>=I290))","v":true},false,false,false,false,false,{"$error":"#N/A"},false,{"$error":"#N/A"},{"$f":"AND(   OR(NOT($R$11),NOT(AT290)),   OR(NOT($R$12),J290<=I290),   OR(NOT($R$13),I290<=H290),   OR(NOT($R$14),G290<=I290)   )","v":false},false,false,{"$f":"IF(AE290,TRUE,IF(AG291,FALSE,AF291))","v":false},{"$f":"AND(AF290,O290)","v":false},false,{"$error":"#N/A"},{"$f":"IF($R$3,H290,NA())","v":56.070449999999994},{"$f":"IF($R$4,I290,NA())","v":106.56099999999996},{"$f":"IF($R$5,J290,NA())","v":111.87650000000001},{"$f":"IF($R$6,K290,NA())","v":112.93125000000001},{"$f":"IF($R$6,L290,NA())","v":109.92125},null,{"$f":"OFFSET(InputIndexData!F$15,CalculationsAndCharts!$A290+$A$11,IF($C$7,8,0),1,1)","v":177.85},{"$f":"AVERAGE(OFFSET(AP290,0,0,$D$17,1))","v":178.53700000000003},{"$f":"IF(AQ290-AQ291>=0,1,-1)","v":1},{"$f":"AVERAGE(OFFSET(AR290,0,0,$D$18,1))","v":1},{"$f":"OR(AS290>0,AND(AS290=0,AS291>0))","v":true},null,212,{"$error":"#N/A"}]
[259,{"$f":"OFFSET(InputPriceData!B$15,CalculationsAndCharts!$A291+$A$11,0,1,1)","v":"2014-04-09"},{"$f":"OFFSET(InputPriceData!G$15,CalculationsAndCharts!$A291+$A$11,IF($C$7,8,0),1,1)","v":1514300},{"$f":"OFFSET(InputPriceData!C$15,CalculationsAndCharts!$A291+$A$11,IF($C$7,8,0),1,1)","v":110.46},{"$f":"OFFSET(InputPriceData!D$15,CalculationsAndCharts!$A291+$A$11,IF($C$7,8,0),1,1)","v":112.94},{"$f":"OFFSET(InputPriceData!E$15,CalculationsAndCharts!$A291+$A$11,IF($C$7,8,0),1,1)","v":110.19},{"$f":"OFFSET(InputPriceData!F$15,CalculationsAndCharts!$A291+$A$11,IF($C$7,8,0),1,1)","v":112.66},55.528099999999995,106.29639999999998,111.86150000000002,112.86750000000001,110.16,1514300,{"$error":"#N/A"},false,"DOWN",false,{"$error":"#N/A"},{"$error":"#N/A"},true,false,false,false,false,false,{"$error":"#N/A"},false,{"$error":"#N/A"},false,false,false,false,false,false,{"$error":"#N/A"},55.528099999999995,106.29639999999998,111.86150000000002,112.86750000000001,110.16,null,{"$f":"OFFSET(InputIndexData!F$15,CalculationsAndCharts!$A291+$A$11,IF($C$7,8,0),1,1)","v":181.66},178.40900000000005,1,1,true,null,212,{"$error":"#N/A"}]
[260,{"$f":"OFFSET(InputPriceData!B$15,CalculationsAndCharts!$A292+$A$11,0,1,1)","v":"2014-04-08"},{"$f":"OFFSET(InputPriceData!G$15,CalculationsAndCharts!$A292+$A$11,IF($C$7,8,0),1,1)","v":2467600},{"$f":"OFFSET(InputPriceData!C$15,CalculationsAndCharts!$A292+$A$11,IF($C$7,8,0),1,1)","v":110.98},{"$f":"OFFSET(InputPriceData!D$15,CalculationsAndCharts!$A292+$A$11,IF($C$7,8,0),1,1)","v":111.9},{"$f":"OFFSET(InputPriceData!E$15,CalculationsAndCharts!$A292+$A$11,IF($C$7,8,0),1,1)","v":107.47},{"$f":"OFFSET(InputPriceData!F$15,CalculationsAndCharts!$A292+$A$11,IF($C$7,8,0),1,1)","v":110.06},54.964799999999997,105.93819999999998,111.70450000000001,112.83875,110.28250000000001,{"$error":"#N/A"},2467600,false,"DOWN",false,{"$error":"#N/A"},{"$error":"#N/A"},true,false,false,false,false,false,{"$error":"#N/A"},false,{"$error":"#N/A"},false,false,false,false,false,false,{"$error":"#N/A"},54.964799999999997,105.93819999999998,111.70450000000001,112.83875,110.28250000000001,null,{"$f":"OFFSET(InputIndexData!F$15,CalculationsAndCharts!$A292+$A$11,IF($C$7,8,0),1,1)","v":179.73},178.23800000000006,1,1,true,null,212,{"$error":"#N/A"}]
[261,{"$f":"OFFSET(InputPriceData!B$15,CalculationsAndCharts!$A293+$A$11,0,1,1)","v":"2014-04-07"},{"$f":"OFFSET(InputPriceData!G$15,CalculationsAndCharts!$A293+$A$11,IF($C$7,8,0),1,1)","v":1798100},{"$f":"OFFSET(InputPriceData!C$15,CalculationsAndCharts!$A293+$A$11,IF($C$7,8,0),1,1)","v":110.98},{"$f":"OFFSET(InputPriceData!D$15,CalculationsAndCharts!$A293+$A$11,IF($C$7,8,0),1,1)","v":112.83},{"$f":"OFFSET(InputPriceData!E$15,CalculationsAndCharts!$A293+$A$11,IF($C$7,8,0),1,1)","v":110.54},{"$f":"OFFSET(InputPriceData!F$15,CalculationsAndCharts!$A293+$A$11,IF($C$7,8,0),1,1)","v":110.78},54.414499999999997,105.63239999999998,111.64650000000002,112.88500000000001,110.64750000000001,{"$error":"#N/A"},1798100,false,"DOWN",false,{"$error":"#N/A"},{"$error":"#N/A"},true,false,false,false,false,false,{"$error":"#N/A"},false,{"$error":"#N/A"},false,false,false,false,false,false,{"$error":"#N/A"},54.414499999999997,105.63239999999998,111.64650000000002,112.88500000000001,110.64750000000001,null,{"$f":"OFFSET(InputIndexData!F$15,CalculationsAndCharts!$A293+$A$11,IF($C$7,8,0),1,1)","v":178.99},178.08520000000004,1,1,true,null,212,{"$error":"#N/A"}]
[262,{"$f":"OFFSET(InputPriceData!B$15,CalculationsAndCharts!$A294+$A$11,0,1,1)","v":"2014-04-04"},{"$f":"OFFSET(InputPriceData!G$15,CalculationsAndCharts!$A294+$A$11,IF($C$7,8,0),1,1)","v":1653200},{"$f":"OFFSET(InputPriceData!C$15,CalculationsAndCharts!$A294+$A$11,IF($C$7,8,0),1,1)","v":113.12},{"$f":"OFFSET(InputPriceData!D$15,CalculationsAndCharts!$A294+$A$11,IF($C$7,8,0),1,1)","v":113.64},{"$f":"OFFSET(InputPriceData!E$15,CalculationsAndCharts!$A294+$A$11,IF($C$7,8,0),1,1)","v":110.54},{"$f":"OFFSET(InputPriceData!F$15,CalculationsAndCharts!$A294+$A$11,IF($C$7,8,0),1,1)","v":110.99},53.860599999999998,105.31139999999998,111.578,112.97624999999999,110.69249999999998,{"$error":"#N/A"},1653200,false,"DOWN",false,{"$error":"#N/A"},{"$error":"#N/A"},true,false,false,false,false,false,{"$error":"#N/A"},false,{"$error":"#N/A"},false,false,false,false,false,false,{"$error":"#N/A"},53.860599999999998,105.31139999999998,111.578,112.97624999999999,110.69249999999998,null,{"$f":"OFFSET(InputIndexData!F$15,CalculationsAndCharts!$A294+$A$11,IF($C$7,8,0),1,1)","v":180.99},177.96420000000006,1,1,true,null,212,{"$error":"#N/A"}]
[263,{"$f":"OFFSET(InputPriceData!B$15,CalculationsAndCharts!$A295+$A$11,0,1,1)","v":"2014-04-03"},{"$f":"OFFSET(InputPriceData!G$15,CalculationsAndCharts!$A295+$A$11,IF($C$7,8,0),1,1)","v":1260100},{"$f":"OFFSET(InputPriceData!C$15,CalculationsAndCharts!$A295+$A$11,IF($C$7,8,0),1,1)","v":111.34},{"$f":"OFFSET(InputPriceData!D$15,CalculationsAndCharts!$A295+$A$11,IF($C$7,8,0),1,1)","v":112.9},{"$f":"OFFSET(InputPriceData!E$15,CalculationsAndCharts!$A295+$A$11,IF($C$7,8,0),1,1)","v":110.76},{"$f":"OFFSET(InputPriceData!F$15,CalculationsAndCharts!$A295+$A$11,IF($C$7,8,0),1,1)","v":112.85},53.305649999999993,104.98999999999998,111.501,113.05375000000001,110.86125,1260100,{"$error":"#N/A"},false,"DOWN",false,{"$error":"#N/A"},{"$error":"#N/A"},true,false,false,false,false,false,{"$error":"#N/A"},false,{"$error":"#N/A"},false,false,false,false,false,false,{"$error":"#N/A"},53.305649999999993,104.98999999999998,111.501,113.05375000000001,110.86125,null,{"$f":"OFFSET(InputIndexData!F$15,CalculationsAndCharts!$A295+$A$11,IF($C$7,8,0),1,1)","v":183.16},177.87860000000003,1,1,true,null,212,{"$error":"#N/A"}]
[264,{"$f":"OFFSET(InputPriceData!B$15,CalculationsAndCharts!$A296+$A$11,0,1,1)","v":"2014-04-02"},{"$f":"OFFSET(InputPriceData!G$15,CalculationsAndCharts!$A296+$A$11,IF($C$7,8,0),1,1)","v":1337400},{"$f":"OFFSET(InputPriceData!C$15,CalculationsAndCharts!$A296+$A$11,IF($C$7,8,0),1,1)","v":112.33},{"$f":"OFFSET(InputPriceData!D$15,CalculationsAndCharts!$A296+$A$11,IF($C$7,8,0),1,1)","v":112.33},{"$f":"OFFSET(InputPriceData!E$15,CalculationsAndCharts!$A296+$A$11,IF($C$7,8,0),1,1)","v":110.62},{"$f":"OFFSET(InputPriceData!F$15,CalculationsAndCharts!$A296+$A$11,IF($C$7,8,0),1,1)","v":110.95},52.741399999999992,104.63039999999999,111.35850000000002,113.45125,111.04875,{"$error":"#N/A"},1337400,false,"DOWN",false,{"$error":"#N/A"},{"$error":"#N/A"},true,false,false,false,false,false,{"$error":"#N/A"},false,{"$f":"IF(AA296,$F$11,NA())","v":{"$error":"#N/A"}},false,false,false,false,false,false,{"$error":"#N/A"},52.741399999999992,104.63039999999999,111.35850000000002,113.45125,111.04875,null,{"$f":"OFFSET(InputIndexData!F$15,CalculationsAndCharts!$A296+$A$11,IF($C$7,8,0),1,1)","v":183.4},177.77880000000002,1,1,true,null,212,{"$error":"#N/A"}]
[265,{"$f":"OFFSET(InputPriceData!B$15,CalculationsAndCharts!$A297+$A$11,0,1,1)","v":"2014-04-01"},{"$f":"OFFSET(InputPriceData!G$15,CalculationsAndCharts!$A297+$A$11,IF($C$7,8,0),1,1)","v":1503100},{"$f":"OFFSET(InputPriceData!C$15,CalculationsAndCharts!$A297+$A$11,IF($C$7,8,0),1,1)","v":111.55},{"$f":"OFFSET(InputPriceData!D$15,CalculationsAndCharts!$A297+$A$11,IF($C$7,8,0),1,1)","v":113.76},{"$f":"OFFSET(InputPriceData!E$15,CalculationsAndCharts!$A297+$A$11,IF($C$7,8,0),1,1)","v":111.22},{"$f":"OFFSET(InputPriceData!F$15,CalculationsAndCharts!$A297+$A$11,IF($C$7,8,0),1,1)","v":112.04},52.18665,104.29939999999999,111.33500000000001,114.18875000000001,111.64874999999999,1503100,{"$error":"#N/A"},false,"DOWN",false,{"$f":"IF(O297,G297,NA())","v":{"$error":"#N/A"}},{"$f":"IF(Q297,G297,NA())","v":{"$error":"#N/A"}},true,false,false,false,false,false,{"$error":"#N/A"},false,{"$error":"#N/A"},false,false,false,false,false,false,{"$error":"#N/A"},52.18665,104.29939999999999,111.33500000000001,114.18875000000001,111.64874999999999,null,{"$f":"OFFSET(InputIndexData!F$15,CalculationsAndCharts!$A297+$A$11,IF($C$7,8,0),1,1)","v":182.79},177.67179999999999,1,1,true,null,212,{"$error":"#N/A"}]
[266,{"$f":"OFFSET(InputPriceData!B$15,CalculationsAndCharts!$A298+$A$11,0,1,1)","v":"2014-03-31"},{"$f":"OFFSET(InputPriceData!G$15,CalculationsAndCharts!$A298+$A$11,IF($C$7,8,0),1,1)","v":1267100},{"$f":"OFFSET(InputPriceData!C$15,CalculationsAndCharts!$A298+$A$11,IF($C$7,8,0),1,1)","v":112.54},{"$f":"OFFSET(InputPriceData!D$15,CalculationsAndCharts!$A298+$A$11,IF($C$7,8,0),1,1)","v":112.64},{"$f":"OFFSET(InputPriceData!E$15,CalculationsAndCharts!$A298+$A$11,IF($C$7,8,0),1,1)","v":109.94},{"$f":"OFFSET(InputPriceData!F$15,CalculationsAndCharts!$A298+$A$11,IF($C$7,8,0),1,1)","v":111.5},51.626449999999984,103.96439999999997,111.27649999999998,114.76250000000002,112.15499999999999,{"$error":"#N/A"},1267100,false,"DOWN",false,{"$error":"#N/A"},{"$error":"#N/A"},true,false,false,false,false,false,{"$error":"#N/A"},false,{"$error":"#N/A"},false,false,false,false,false,false,{"$error":"#N/A"},51.626449999999984,103.96439999999997,111.27649999999998,114.76250000000002,112.15499999999999,null,{"$f":"OFFSET(InputIndexData!F$15,CalculationsAndCharts!$A298+$A$11,IF($C$7,8,0),1,1)","v":181.58},177.56659999999999,1,1,true,null,212,{"$error":"#N/A"}]
[267,{"$f":"OFFSET(InputPriceData!B$15,CalculationsAndCharts!$A299+$A$11,0,1,1)","v":"2014-03-28"},{"$f":"OFFSET(InputPriceData!G$15,CalculationsAndCharts!$A299+$A$11,IF($C$7,8,0),1,1)","v":617800},{"$f":"OFFSET(InputPriceData!C$15,CalculationsAndCharts!$A299+$A$11,IF($C$7,8,0),1,1)","v":111.34},{"$f":"OFFSET(InputPriceData!D$15,CalculationsAndCharts!$A299+$A$11,IF($C$7,8,0),1,1)","v":112.71},{"$f":"OFFSET(InputPriceData!E$15,CalculationsAndCharts!$A299+$A$11,IF($C$7,8,0),1,1)","v":111.17},{"$f":"OFFSET(InputPriceData!F$15,CalculationsAndCharts!$A299+$A$11,IF($C$7,8,0),1,1)","v":111.85},51.068949999999987,103.63219999999997,111.2385,115.17750000000001,112.39624999999999,617800,{"$error":"#N/A"},false,"DOWN",false,{"$error":"#N/A"},{"$error":"#N/A"},true,false,false,false,false,false,{"$error":"#N/A"},false,{"$error":"#N/A"},false,false,false,false,false,false,{"$error":"#N/A"},51.068949999999987,103.63219999999997,111.2385,115.17750000000001,112.39624999999999,null,{"$f":"OFFSET(InputIndexData!F$15,CalculationsAndCharts!$A299+$A$11,IF($C$7,8,0),1,1)","v":180.11},177.50060000000002,1,1,true,null,212,{"$error":"#N/A"}]
[268,{"$f":"OFFSET(InputPriceData!B$15,CalculationsAndCharts!$A300+$A$11,0,1,1)","v":"2014-03-27"},{"$f":"OFFSET(InputPriceData!G$15,CalculationsAndCharts!$A300+$A$11,IF($C$7,8,0),1,1)","v":719000},{"$f":"OFFSET(InputPriceData!C$15,CalculationsAndCharts!$A300+$A$11,IF($C$7,8,0),1,1)","v":111.87},{"$f":"OFFSET(InputPriceData!D$15,CalculationsAndCharts!$A300+$A$11,IF($C$7,8,0),1,1)","v":112.27},{"$f":"OFFSET(InputPriceData!E$15,CalculationsAndCharts!$A300+$A$11,IF($C$7,8,0),1,1)","v":110.39},{"$f":"OFFSET(InputPriceData!F$15,CalculationsAndCharts!$A300+$A$11,IF($C$7,8,0),1,1)","v":110.84},50.509699999999981,103.31219999999998,111.19449999999999,115.11375000000001,112.24375000000001,{"$error":"#N/A"},719000,false,"DOWN",false,{"$error":"#N/A"},{"$error":"#N/A"},true,false,false,false,false,true,189.20000000000002,false,{"$error":"#N/A"},false,false,false,false,false,false,{"$error":"#N/A"},50.509699999999981,103.31219999999998,111.19449999999999,115.11375000000001,112.24375000000001,null,{"$f":"OFFSET(InputIndexData!F$15,CalculationsAndCharts!$A300+$A$11,IF($C$7,8,0),1,1)","v":179.22},177.46860000000004,1,1,true,null,212,{"$error":"#N/A"}]
[269,{"$f":"OFFSET(InputPriceData!B$15,CalculationsAndCharts!$A301+$A$11,0,1,1)","v":"2014-03-26"},{"$f":"OFFSET(InputPriceData!G$15,CalculationsAndCharts!$A301+$A$11,IF($C$7,8,0),1,1)","v":813900},{"$f":"OFFSET(InputPriceData!C$15,CalculationsAndCharts!$A301+$A$11,IF($C$7,8,0),1,1)","v":113.3},{"$f":"OFFSET(InputPriceData!D$15,CalculationsAndCharts!$A301+$A$11,IF($C$7,8,0),1,1)","v":113.56},{"$f":"OFFSET(InputPriceData!E$15,CalculationsAndCharts!$A301+$A$11,IF($C$7,8,0),1,1)","v":110.9},{"$f":"OFFSET(InputPriceData!F$15,CalculationsAndCharts!$A301+$A$11,IF($C$7,8,0),1,1)","v":111.44},49.955499999999994,103.0056,111.1105,114.89500000000001,112,{"$error":"#N/A"},813900,false,"DOWN",true,{"$error":"#N/A"},111.44,true,false,false,true,true,false,189.20000000000002,false,{"$error":"#N/A"},false,false,false,false,false,false,{"$error":"#N/A"},49.955499999999994,103.0056,111.1105,114.89500000000001,112,null,{"$f":"OFFSET(InputIndexData!F$15,CalculationsAndCharts!$A301+$A$11,IF($C$7,8,0),1,1)","v":179.6},177.43540000000004,1,1,true,null,212,{"$error":"#N/A"}]
[270,{"$f":"OFFSET(InputPriceData!B$15,CalculationsAndCharts!$A302+$A$11,0,1,1)","v":"2014-03-25"},{"$f":"OFFSET(InputPriceData!G$15,CalculationsAndCharts!$A302+$A$11,IF($C$7,8,0),1,1)","v":923000},{"$f":"OFFSET(InputPriceData!C$15,CalculationsAndCharts!$A302+$A$11,IF($C$7,8,0),1,1)","v":112.25},{"$f":"OFFSET(InputPriceData!D$15,CalculationsAndCharts!$A302+$A$11,IF($C$7,8,0),1,1)","v":114.26},{"$f":"OFFSET(InputPriceData!E$15,CalculationsAndCharts!$A302+$A$11,IF($C$7,8,0),1,1)","v":111.89},{"$f":"OFFSET(InputPriceData!F$15,CalculationsAndCharts!$A302+$A$11,IF($C$7,8,0),1,1)","v":112.69},49.398299999999992,102.67199999999998,110.98099999999999,114.34,111.60875000000001,923000,{"$error":"#N/A"},false,"UP",false,{"$error":"#N/A"},{"$error":"#N/A"},true,false,false,true,false,false,189.20000000000002,false,{"$error":"#N/A"},false,false,false,false,false,false,{"$error":"#N/A"},49.398299999999992,102.67199999999998,110.98099999999999,114.34,111.60875000000001,null,{"$f":"OFFSET(InputIndexData!F$15,CalculationsAndCharts!$A302+$A$11,IF($C$7,8,0),1,1)","v":180.9},177.3562,1,1,true,null,212,{"$error":"#N/A"}]
[271,{"$f":"OFFSET(InputPriceData!B$15,CalculationsAndCharts!$A303+$A$11,0,1,1)","v":"2014-03-24"},{"$f":"OFFSET(InputPriceData!G$15,CalculationsAndCharts!$A303+$A$11,IF($C$7,8,0),1,1)","v":1714600},{"$f":"OFFSET(InputPriceData!C$15,CalculationsAndCharts!$A303+$A$11,IF($C$7,8,0),1,1)","v":115.65},{"$f":"OFFSET(InputPriceData!D$15,CalculationsAndCharts!$A303+$A$11,IF($C$7,8,0),1,1)","v":116.08},{"$f":"OFFSET(InputPriceData!E$15,CalculationsAndCharts!$A303+$A$11,IF($C$7,8,0),1,1)","v":112.26},{"$f":"OFFSET(InputPriceData!F$15,CalculationsAndCharts!$A303+$A$11,IF($C$7,8,0),1,1)","v":112.29},48.834849999999989,102.3318,110.79800000000003,113.78124999999999,111.12375,{"$error":"#N/A"},1714600,false,"UP",false,{"$error":"#N/A"},{"$error":"#N/A"},true,false,false,true,false,false,189.20000000000002,false,{"$error":"#N/A"},false,false,false,false,false,false,{"$error":"#N/A"},48.834849999999989,102.3318,110.79800000000003,113.78124999999999,111.12375,null,{"$f":"OFFSET(InputIndexData!F$15,CalculationsAndCharts!$A303+$A$11,IF($C$7,8,0),1,1)","v":180.05},177.29839999999996,1,1,true,null,212,{"$error":"#N/A"}]
[272,{"$f":"OFFSET(InputPriceData!B$15,CalculationsAndCharts!$A304+$A$11,0,1,1)","v":"2014-03-21"},{"$f":"OFFSET(InputPriceData!G$15,CalculationsAndCharts!$A304+$A$11,IF($C$7,8,0),1,1)","v":2034800},{"$f":"OFFSET(InputPriceData!C$15,CalculationsAndCharts!$A304+$A$11,IF($C$7,8,0),1,1)","v":118.1},{"$f":"OFFSET(InputPriceData!D$15,CalculationsAndCharts!$A304+$A$11,IF($C$7,8,0),1,1)","v":118.23},{"$f":"OFFSET(InputPriceData!E$15,CalculationsAndCharts!$A304+$A$11,IF($C$7,8,0),1,1)","v":115.42},{"$f":"OFFSET(InputPriceData!F$15,CalculationsAndCharts!$A304+$A$11,IF($C$7,8,0),1,1)","v":115.44},48.273399999999995,102.03960000000001,110.79300000000001,112.99624999999999,110.63625,{"$error":"#N/A"},2034800,false,"UP",false,{"$error":"#N/A"},{"$error":"#N/A"},true,false,false,true,false,false,189.20000000000002,{"$f":"AND(OR(W304,Y304),OR(AF304,AH304))","v":false},{"$error":"#N/A"},false,false,false,false,false,false,{"$error":"#N/A"},48.273399999999995,102.03960000000001,110.79300000000001,112.99624999999999,110.63625,null,{"$f":"OFFSET(InputIndexData!F$15,CalculationsAndCharts!$A304+$A$11,IF($C$7,8,0),1,1)","v":180.8},177.24799999999999,1,1,true,null,212,{"$error":"#N/A"}]
[273,{"$f":"OFFSET(InputPriceData!B$15,CalculationsAndCharts!$A305+$A$11,0,1,1)","v":"2014-03-20"},{"$f":"OFFSET(InputPriceData!G$15,CalculationsAndCharts!$A305+$A$11,IF($C$7,8,0),1,1)","v":1702900},{"$f":"OFFSET(InputPriceData!C$15,CalculationsAndCharts!$A305+$A$11,IF($C$7,8,0),1,1)","v":115.4},{"$f":"OFFSET(InputPriceData!D$15,CalculationsAndCharts!$A305+$A$11,IF($C$7,8,0),1,1)","v":118.35},{"$f":"OFFSET(InputPriceData!E$15,CalculationsAndCharts!$A305+$A$11,IF($C$7,8,0),1,1)","v":115.27},{"$f":"OFFSET(InputPriceData!F$15,CalculationsAndCharts!$A305+$A$11,IF($C$7,8,0),1,1)","v":117.21},47.69619999999999,101.6926,110.09400000000001,111.93249999999999,109.80125,1702900,{"$error":"#N/A"},false,"UP",false,{"$error":"#N/A"},{"$error":"#N/A"},true,false,false,true,false,false,189.20000000000002,false,{"$error":"#N/A"},false,false,false,false,false,false,{"$error":"#N/A"},47.69619999999999,101.6926,110.09400000000001,111.93249999999999,109.80125,null,{"$f":"OFFSET(InputIndexData!F$15,CalculationsAndCharts!$A305+$A$11,IF($C$7,8,0),1,1)","v":181.5},177.18020000000001,1,1,true,null,212,{"$error":"#N/A"}]
[274,{"$f":"OFFSET(InputPriceData!B$15,CalculationsAndCharts!$A306+$A$11,0,1,1)","v":"2014-03-19"},{"$f":"OFFSET(InputPriceData!G$15,CalculationsAndCharts!$A306+$A$11,IF($C$7,8,0),1,1)","v":2083500},{"$f":"OFFSET(InputPriceData!C$15,CalculationsAndCharts!$A306+$A$11,IF($C$7,8,0),1,1)","v":112.03},{"$f":"OFFSET(InputPriceData!D$15,CalculationsAndCharts!$A306+$A$11,IF($C$7,8,0),1,1)","v":115.96},{"$f":"OFFSET(InputPriceData!E$15,CalculationsAndCharts!$A306+$A$11,IF($C$7,8,0),1,1)","v":111.87},{"$f":"OFFSET(InputPriceData!F$15,CalculationsAndCharts!$A306+$A$11,IF($C$7,8,0),1,1)","v":115.41},47.110149999999997,101.33280000000002,109.27799999999999,110.82625,108.97499999999999,2083500,{"$error":"#N/A"},false,"UP",false,{"$error":"#N/A"},{"$error":"#N/A"},true,false,false,true,false,false,189.20000000000002,false,{"$error":"#N/A"},false,false,false,false,false,false,{"$error":"#N/A"},47.110149999999997,101.33280000000002,109.27799999999999,110.82625,108.97499999999999,null,{"$f":"OFFSET(InputIndexData!F$15,CalculationsAndCharts!$A306+$A$11,IF($C$7,8,0),1,1)","v":180.45},177.09760000000003,1,0.5,true,null,212,{"$error":"#N/A"}]
[275,{"$f":"OFFSET(InputPriceData!B$15,CalculationsAndCharts!$A307+$A$11,0,1,1)","v":"2014-03-18"},{"$f":"OFFSET(InputPriceData!G$15,CalculationsAndCharts!$A307+$A$11,IF($C$7,8,0),1,1)","v":1005800},{"$f":"OFFSET(InputPriceData!C$15,CalculationsAndCharts!$A307+$A$11,IF($C$7,8,0),1,1)","v":109.95},{"$f":"OFFSET(InputPriceData!D$15,CalculationsAndCharts!$A307+$A$11,IF($C$7,8,0),1,1)","v":112.2},{"$f":"OFFSET(InputPriceData!E$15,CalculationsAndCharts!$A307+$A$11,IF($C$7,8,0),1,1)","v":109.95},{"$f":"OFFSET(InputPriceData!F$15,CalculationsAndCharts!$A307+$A$11,IF($C$7,8,0),1,1)","v":111.95},46.533099999999997,101.01320000000004,108.53900000000002,110.05125000000001,108.53999999999999,1005800,{"$error":"#N/A"},false,"UP",false,{"$error":"#N/A"},{"$error":"#N/A"},true,false,true,true,false,{"$f":"X308","v":false},189.20000000000002,false,{"$error":"#N/A"},false,false,false,false,false,false,{"$error":"#N/A"},46.533099999999997,101.01320000000004,108.53900000000002,110.05125000000001,108.53999999999999,null,{"$f":"OFFSET(InputIndexData!F$15,CalculationsAndCharts!$A307+$A$11,IF($C$7,8,0),1,1)","v":181.41},177.01440000000005,1,0.5,true,null,212,{"$error":"#N/A"}]
[276,{"$f":"OFFSET(InputPriceData!B$15,CalculationsAndCharts!$A308+$A$11,0,1,1)","v":"2014-03-17"},{"$f":"OFFSET(InputPriceData!G$15,CalculationsAndCharts!$A308+$A$11,IF($C$7,8,0),1,1)","v":861100},{"$f":"OFFSET(InputPriceData!C$15,CalculationsAndCharts!$A308+$A$11,IF($C$7,8,0),1,1)","v":108.5},{"$f":"OFFSET(InputPriceData!D$15,CalculationsAndCharts!$A308+$A$11,IF($C$7,8,0),1,1)","v":110.52},{"$f":"OFFSET(InputPriceData!E$15,CalculationsAndCharts!$A308+$A$11,IF($C$7,8,0),1,1)","v":108.44},{"$f":"OFFSET(InputPriceData!F$15,CalculationsAndCharts!$A308+$A$11,IF($C$7,8,0),1,1)","v":110.07},45.973349999999989,100.78260000000004,107.98950000000002,110,108.50999999999999,861100,{"$error":"#N/A"},true,"UP",false,110.07,{"$error":"#N/A"},true,true,false,false,false,false,{"$error":"#N/A"},false,{"$error":"#N/A"},false,false,false,false,false,false,{"$error":"#N/A"},45.973349999999989,100.78260000000004,107.98950000000002,110,108.50999999999999,null,{"$f":"OFFSET(InputIndexData!F$15,CalculationsAndCharts!$A308+$A$11,IF($C$7,8,0),1,1)","v":180.13},176.9222,1,0.5,true,null,212,{"$error":"#N/A"}]
[277,{"$f":"OFFSET(InputPriceData!B$15,CalculationsAndCharts!$A309+$A$11,0,1,1)","v":"2014-03-14"},{"$f":"OFFSET(InputPriceData!G$15,CalculationsAndCharts!$A309+$A$11,IF($C$7,8,0),1,1)","v":3355800},{"$f":"OFFSET(InputPriceData!C$15,CalculationsAndCharts!$A309+$A$11,IF($C$7,8,0),1,1)","v":108.27},{"$f":"OFFSET(InputPriceData!D$15,CalculationsAndCharts!$A309+$A$11,IF($C$7,8,0),1,1)","v":109.12},{"$f":"OFFSET(InputPriceData!E$15,CalculationsAndCharts!$A309+$A$11,IF($C$7,8,0),1,1)","v":107.77},{"$f":"OFFSET(InputPriceData!F$15,CalculationsAndCharts!$A309+$A$11,IF($C$7,8,0),1,1)","v":108.04},45.422999999999995,100.61080000000001,107.4315,110.11500000000001,108.64125,{"$error":"#N/A"},3355800,false,"DOWN",false,{"$error":"#N/A"},{"$error":"#N/A"},true,false,false,false,false,false,{"$error":"#N/A"},false,{"$error":"#N/A"},false,false,false,false,false,false,{"$error":"#N/A"},45.422999999999995,100.61080000000001,107.4315,110.11500000000001,108.64125,null,{"$f":"OFFSET(InputIndexData!F$15,CalculationsAndCharts!$A309+$A$11,IF($C$7,8,0),1,1)","v":178.51},176.8562,-1,0.5,true,null,212,{"$error":"#N/A"}]
[278,{"$f":"OFFSET(InputPriceData!B$15,CalculationsAndCharts!$A310+$A$11,0,1,1)","v":"2014-03-13"},{"$f":"OFFSET(InputPriceData!G$15,CalculationsAndCharts!$A310+$A$11,IF($C$7,8,0),1,1)","v":1782300},{"$f":"OFFSET(InputPriceData!C$15,CalculationsAndCharts!$A310+$A$11,IF($C$7,8,0),1,1)","v":109.7},{"$f":"OFFSET(InputPriceData!D$15,CalculationsAndCharts!$A310+$A$11,IF($C$7,8,0),1,1)","v":109.79},{"$f":"OFFSET(InputPriceData!E$15,CalculationsAndCharts!$A310+$A$11,IF($C$7,8,0),1,1)","v":108.01},{"$f":"OFFSET(InputPriceData!F$15,CalculationsAndCharts!$A310+$A$11,IF($C$7,8,0),1,1)","v":108.17},44.882799999999996,100.48720000000002,106.81650000000002,110.47749999999999,108.9575,{"$error":"#N/A"},1782300,false,"DOWN",false,{"$error":"#N/A"},{"$error":"#N/A"},true,false,false,false,false,false,{"$error":"#N/A"},false,{"$error":"#N/A"},false,false,false,false,false,false,{"$error":"#N/A"},44.882799999999996,100.48720000000002,106.81650000000002,110.47749999999999,108.9575,null,{"$f":"OFFSET(InputIndexData!F$15,CalculationsAndCharts!$A310+$A$11,IF($C$7,8,0),1,1)","v":179.02},176.85679999999999,1,1,true,null,212,{"$error":"#N/A"}]
[279,{"$f":"OFFSET(InputPriceData!B$15,CalculationsAndCharts!$A311+$A$11,0,1,1)","v":"2014-03-12"},{"$f":"OFFSET(InputPriceData!G$15,CalculationsAndCharts!$A311+$A$11,IF($C$7,8,0),1,1)","v":1363700},{"$f":"OFFSET(InputPriceData!C$15,CalculationsAndCharts!$A311+$A$11,IF($C$7,8,0),1,1)","v":108.66},{"$f":"OFFSET(InputPriceData!D$15,CalculationsAndCharts!$A311+$A$11,IF($C$7,8,0),1,1)","v":109.8},{"$f":"OFFSET(InputPriceData!E$15,CalculationsAndCharts!$A311+$A$11,IF($C$7,8,0),1,1)","v":108.36},{"$f":"OFFSET(InputPriceData!F$15,CalculationsAndCharts!$A311+$A$11,IF($C$7,8,0),1,1)","v":109.52},44.341949999999997,100.34640000000002,106.12450000000001,110.93875,109.22499999999999,1363700,{"$error":"#N/A"},false,"DOWN",false,{"$error":"#N/A"},{"$error":"#N/A"},true,false,false,false,false,false,{"$error":"#N/A"},false,{"$error":"#N/A"},false,false,false,false,false,false,{"$error":"#N/A"},44.341949999999997,100.34640000000002,106.12450000000001,110.93875,109.22499999999999,null,{"$f":"OFFSET(InputIndexData!F$15,CalculationsAndCharts!$A311+$A$11,IF($C$7,8,0),1,1)","v":181.05},176.8304,1,1,true,null,212,{"$error":"#N/A"}]
[280,{"$f":"OFFSET(InputPriceData!B$15,CalculationsAndCharts!$A312+$A$11,0,1,1)","v":"2014-03-11"},{"$f":"OFFSET(InputPriceData!G$15,CalculationsAndCharts!$A312+$A$11,IF($C$7,8,0),1,1)","v":1170000},{"$f":"OFFSET(InputPriceData!C$15,CalculationsAndCharts!$A312+$A$11,IF($C$7,8,0),1,1)","v":109.72},{"$f":"OFFSET(InputPriceData!D$15,CalculationsAndCharts!$A312+$A$11,IF($C$7,8,0),1,1)","v":109.72},{"$f":"OFFSET(InputPriceData!E$15,CalculationsAndCharts!$A312+$A$11,IF($C$7,8,0),1,1)","v":108.74},{"$f":"OFFSET(InputPriceData!F$15,CalculationsAndCharts!$A312+$A$11,IF($C$7,8,0),1,1)","v":108.9},43.794349999999994,100.18979999999999,105.44750000000002,111.16375000000001,109.30499999999998,{"$error":"#N/A"},1170000,false,"DOWN",true,{"$error":"#N/A"},108.9,true,false,false,false,false,false,{"$error":"#N/A"},false,{"$error":"#N/A"},false,false,false,false,false,false,{"$error":"#N/A"},43.794349999999994,100.18979999999999,105.44750000000002,111.16375000000001,109.30499999999998,null,{"$f":"OFFSET(InputIndexData!F$15,CalculationsAndCharts!$A312+$A$11,IF($C$7,8,0),1,1)","v":181},176.76400000000004,1,1,true,null,212,{"$error":"#N/A"}]
[281,{"$f":"OFFSET(InputPriceData!B$15,CalculationsAndCharts!$A313+$A$11,0,1,1)","v":"2014-03-10"},{"$f":"OFFSET(InputPriceData!G$15,CalculationsAndCharts!$A313+$A$11,IF($C$7,8,0),1,1)","v":989400},{"$f":"OFFSET(InputPriceData!C$15,CalculationsAndCharts!$A313+$A$11,IF($C$7,8,0),1,1)","v":109.25},{"$f":"OFFSET(InputPriceData!D$15,CalculationsAndCharts!$A313+$A$11,IF($C$7,8,0),1,1)","v":109.5},{"$f":"OFFSET(InputPriceData!E$15,CalculationsAndCharts!$A313+$A$11,IF($C$7,8,0),1,1)","v":108.66},{"$f":"OFFSET(InputPriceData!F$15,CalculationsAndCharts!$A313+$A$11,IF($C$7,8,0),1,1)","v":109.41},43.249849999999988,100.04979999999998,104.7625,111.17500000000001,109.25375,989400,{"$error":"#N/A"},false,"UP",false,{"$error":"#N/A"},{"$error":"#N/A"},true,false,false,false,false,false,{"$error":"#N/A"},false,{"$error":"#N/A"},false,false,false,false,false,false,{"$error":"#N/A"},43.249849999999988,100.04979999999998,104.7625,111.17500000000001,109.25375,null,{"$f":"OFFSET(InputIndexData!F$15,CalculationsAndCharts!$A313+$A$11,IF($C$7,8,0),1,1)","v":181.9},176.69880000000001,1,1,true,null,212,{"$error":"#N/A"}]
[282,{"$f":"OFFSET(InputPriceData!B$15,CalculationsAndCharts!$A314+$A$11,0,1,1)","v":"2014-03-07"},{"$f":"OFFSET(InputPriceData!G$15,CalculationsAndCharts!$A314+$A$11,IF($C$7,8,0),1,1)","v":1446700},{"$f":"OFFSET(InputPriceData!C$15,CalculationsAndCharts!$A314+$A$11,IF($C$7,8,0),1,1)","v":109.31},{"$f":"OFFSET(InputPriceData!D$15,CalculationsAndCharts!$A314+$A$11,IF($C$7,8,0),1,1)","v":109.76},{"$f":"OFFSET(InputPriceData!E$15,CalculationsAndCharts!$A314+$A$11,IF($C$7,8,0),1,1)","v":108.39},{"$f":"OFFSET(InputPriceData!F$15,CalculationsAndCharts!$A314+$A$11,IF($C$7,8,0),1,1)","v":109.45},42.702799999999989,99.894199999999984,104.02700000000002,111.39125000000001,109.01,1446700,{"$error":"#N/A"},false,"UP",false,{"$error":"#N/A"},{"$error":"#N/A"},true,false,false,false,false,false,{"$error":"#N/A"},false,{"$error":"#N/A"},false,false,false,false,false,false,{"$error":"#N/A"},42.702799999999989,99.894199999999984,104.02700000000002,111.39125000000001,109.01,null,{"$f":"OFFSET(InputIndexData!F$15,CalculationsAndCharts!$A314+$A$11,IF($C$7,8,0),1,1)","v":181.99},176.59759999999997,1,1,true,null,212,{"$error":"#N/A"}]
[283,{"$f":"OFFSET(InputPriceData!B$15,CalculationsAndCharts!$A315+$A$11,0,1,1)","v":"2014-03-06"},{"$f":"OFFSET(InputPriceData!G$15,CalculationsAndCharts!$A315+$A$11,IF($C$7,8,0),1,1)","v":1463400},{"$f":"OFFSET(InputPriceData!C$15,CalculationsAndCharts!$A315+$A$11,IF($C$7,8,0),1,1)","v":110.9},{"$f":"OFFSET(InputPriceData!D$15,CalculationsAndCharts!$A315+$A$11,IF($C$7,8,0),1,1)","v":111.79},{"$f":"OFFSET(InputPriceData!E$15,CalculationsAndCharts!$A315+$A$11,IF($C$7,8,0),1,1)","v":109.71},{"$f":"OFFSET(InputPriceData!F$15,CalculationsAndCharts!$A315+$A$11,IF($C$7,8,0),1,1)","v":110},42.155549999999984,99.733999999999966,103.32350000000001,111.74625000000002,109.02000000000001,{"$error":"#N/A"},1463400,false,"UP",false,{"$error":"#N/A"},{"$error":"#N/A"},true,false,false,false,false,false,{"$error":"#N/A"},false,{"$error":"#N/A"},false,false,false,false,false,false,{"$error":"#N/A"},42.155549999999984,99.733999999999966,103.32350000000001,111.74625000000002,109.02000000000001,null,{"$f":"OFFSET(InputIndexData!F$15,CalculationsAndCharts!$A315+$A$11,IF($C$7,8,0),1,1)","v":181.92},176.48699999999999,1,1,true,null,212,{"$error":"#N/A"}]
[284,{"$f":"OFFSET(InputPriceData!B$15,CalculationsAndCharts!$A316+$A$11,0,1,1)","v":"2014-03-05"},{"$f":"OFFSET(InputPriceData!G$15,CalculationsAndCharts!$A316+$A$11,IF($C$7,8,0),1,1)","v":1143100},{"$f":"OFFSET(InputPriceData!C$15,CalculationsAndCharts!$A316+$A$11,IF($C$7,8,0),1,1)","v":110.28},{"$f":"OFFSET(InputPriceData!D$15,CalculationsAndCharts!$A316+$A$11,IF($C$7,8,0),1,1)","v":111.44},{"$f":"OFFSET(InputPriceData!E$15,CalculationsAndCharts!$A316+$A$11,IF($C$7,8,0),1,1)","v":109.49},{"$f":"OFFSET(InputPriceData!F$15,CalculationsAndCharts!$A316+$A$11,IF($C$7,8,0),1,1)","v":110.48},41.605549999999994,99.53959999999995,102.54600000000001,111.92749999999999,107.97500000000001,1143100,{"$error":"#N/A"},false,"UP",false,{"$error":"#N/A"},{"$error":"#N/A"},true,false,false,false,false,false,{"$error":"#N/A"},false,{"$error":"#N/A"},false,false,false,false,false,false,{"$error":"#N/A"},41.605549999999994,99.53959999999995,102.54600000000001,111.92749999999999,107.97500000000001,null,{"$f":"OFFSET(InputIndexData!F$15,CalculationsAndCharts!$A316+$A$11,IF($C$7,8,0),1,1)","v":181.5},176.35900000000001,1,1,true,null,212,{"$error":"#N/A"}]
[285,{"$f":"OFFSET(InputPriceData!B$15,CalculationsAndCharts!$A317+$A$11,0,1,1)","v":"2014-03-04"},{"$f":"OFFSET(InputPriceData!G$15,CalculationsAndCharts!$A317+$A$11,IF($C$7,8,0),1,1)","v":1761400},{"$f":"OFFSET(InputPriceData!C$15,CalculationsAndCharts!$A317+$A$11,IF($C$7,8,0),1,1)","v":111.58},{"$f":"OFFSET(InputPriceData!D$15,CalculationsAndCharts!$A317+$A$11,IF($C$7,8,0),1,1)","v":112.02},{"$f":"OFFSET(InputPriceData!E$15,CalculationsAndCharts!$A317+$A$11,IF($C$7,8,0),1,1)","v":110.3},{"$f":"OFFSET(InputPriceData!F$15,CalculationsAndCharts!$A317+$A$11,IF($C$7,8,0),1,1)","v":110.87},41.053149999999995,99.331599999999966,101.83100000000002,110.83875,106.91625000000001,{"$error":"#N/A"},1761400,false,"UP",false,{"$error":"#N/A"},{"$error":"#N/A"},true,false,false,false,false,false,{"$error":"#N/A"},false,{"$error":"#N/A"},false,false,false,false,false,false,{"$error":"#N/A"},41.053149999999995,99.331599999999966,101.83100000000002,110.83875,106.91625000000001,null,{"$f":"OFFSET(InputIndexData!F$15,CalculationsAndCharts!$A317+$A$11,IF($C$7,8,0),1,1)","v":181.34},176.21899999999997,1,1,true,null,212,{"$error":"#N/A"}]
[286,{"$f":"OFFSET(InputPriceData!B$15,CalculationsAndCharts!$A318+$A$11,0,1,1)","v":"2014-03-03"},{"$f":"OFFSET(InputPriceData!G$15,CalculationsAndCharts!$A318+$A$11,IF($C$7,8,0),1,1)","v":1942600},{"$f":"OFFSET(InputPriceData!C$15,CalculationsAndCharts!$A318+$A$11,IF($C$7,8,0),1,1)","v":112.69},{"$f":"OFFSET(InputPriceData!D$15,CalculationsAndCharts!$A318+$A$11,IF($C$7,8,0),1,1)","v":113.48},{"$f":"OFFSET(InputPriceData!E$15,CalculationsAndCharts!$A318+$A$11,IF($C$7,8,0),1,1)","v":110.15},{"$f":"OFFSET(InputPriceData!F$15,CalculationsAndCharts!$A318+$A$11,IF($C$7,8,0),1,1)","v":110.74},40.498799999999989,99.096999999999966,101.04200000000002,109.53125,105.57625,{"$error":"#N/A"},1942600,false,"UP",false,{"$error":"#N/A"},{"$error":"#N/A"},true,false,{"$f":"U319","v":false},false,false,false,{"$error":"#N/A"},false,{"$error":"#N/A"},false,false,false,false,false,false,{"$error":"#N/A"},40.498799999999989,99.096999999999966,101.04200000000002,109.53125,105.57625,null,{"$f":"OFFSET(InputIndexData!F$15,CalculationsAndCharts!$A318+$A$11,IF($C$7,8,0),1,1)","v":178.82},176.08620000000002,1,1,true,null,212,{"$error":"#N/A"}]
[287,{"$f":"OFFSET(InputPriceData!B$15,CalculationsAndCharts!$A319+$A$11,0,1,1)","v":"2014-02-28"},{"$f":"OFFSET(InputPriceData!G$15,CalculationsAndCharts!$A319+$A$11,IF($C$7,8,0),1,1)","v":1718100},{"$f":"OFFSET(InputPriceData!C$15,CalculationsAndCharts!$A319+$A$11,IF($C$7,8,0),1,1)","v":109.33},{"$f":"OFFSET(InputPriceData!D$15,CalculationsAndCharts!$A319+$A$11,IF($C$7,8,0),1,1)","v":111.6},{"$f":"OFFSET(InputPriceData!E$15,CalculationsAndCharts!$A319+$A$11,IF($C$7,8,0),1,1)","v":109},{"$f":"OFFSET(InputPriceData!F$15,CalculationsAndCharts!$A319+$A$11,IF($C$7,8,0),1,1)","v":110.97},39.945099999999996,98.832399999999978,100.30550000000001,108.04375,104.36,1718100,{"$error":"#N/A"},false,"UP",false,{"$error":"#N/A"},{"$error":"#N/A"},true,false,false,false,false,false,{"$error":"#N/A"},false,{"$error":"#N/A"},false,false,false,false,false,false,{"$error":"#N/A"},39.945099999999996,98.832399999999978,100.30550000000001,108.04375,104.36,null,{"$f":"OFFSET(InputIndexData!F$15,CalculationsAndCharts!$A319+$A$11,IF($C$7,8,0),1,1)","v":180.09},175.94520000000003,1,1,true,null,212,{"$error":"#N/A"}]
[288,{"$f":"OFFSET(InputPriceData!B$15,CalculationsAndCharts!$A320+$A$11,0,1,1)","v":"2014-02-27"},{"$f":"OFFSET(InputPriceData!G$15,CalculationsAndCharts!$A320+$A$11,IF($C$7,8,0),1,1)","v":1255100},{"$f":"OFFSET(InputPriceData!C$15,CalculationsAndCharts!$A320+$A$11,IF($C$7,8,0),1,1)","v":108.8},{"$f":"OFFSET(InputPriceData!D$15,CalculationsAndCharts!$A320+$A$11,IF($C$7,8,0),1,1)","v":109.81},{"$f":"OFFSET(InputPriceData!E$15,CalculationsAndCharts!$A320+$A$11,IF($C$7,8,0),1,1)","v":108.33},{"$f":"OFFSET(InputPriceData!F$15,CalculationsAndCharts!$A320+$A$11,IF($C$7,8,0),1,1)","v":109.16},39.390249999999995,98.583599999999976,99.600499999999982,106.91750000000002,103.1125,1255100,{"$error":"#N/A"},false,"UP",false,{"$error":"#N/A"},{"$error":"#N/A"},true,false,false,false,false,false,{"$error":"#N/A"},false,{"$error":"#N/A"},false,false,false,false,false,false,{"$error":"#N/A"},39.390249999999995,98.583599999999976,99.600499999999982,106.91750000000002,103.1125,null,{"$f":"OFFSET(InputIndexData!F$15,CalculationsAndCharts!$A320+$A$11,IF($C$7,8,0),1,1)","v":179.64},175.78980000000004,1,1,true,null,212,{"$error":"#N/A"}]
[289,{"$f":"OFFSET(InputPriceData!B$15,CalculationsAndCharts!$A321+$A$11,0,1,1)","v":"2014-02-26"},{"$f":"OFFSET(InputPriceData!G$15,CalculationsAndCharts!$A321+$A$11,IF($C$7,8,0),1,1)","v":2554700},{"$f":"OFFSET(InputPriceData!C$15,CalculationsAndCharts!$A321+$A$11,IF($C$7,8,0),1,1)","v":106.71},{"$f":"OFFSET(InputPriceData!D$15,CalculationsAndCharts!$A321+$A$11,IF($C$7,8,0),1,1)","v":111.23},{"$f":"OFFSET(InputPriceData!E$15,CalculationsAndCharts!$A321+$A$11,IF($C$7,8,0),1,1)","v":106.71},{"$f":"OFFSET(InputPriceData!F$15,CalculationsAndCharts!$A321+$A$11,IF($C$7,8,0),1,1)","v":108.85},38.844449999999995,98.36699999999999,98.904499999999999,105.72500000000001,101.51875,2554700,{"$error":"#N/A"},false,"UP",false,{"$error":"#N/A"},{"$error":"#N/A"},true,false,false,false,false,false,{"$error":"#N/A"},false,{"$error":"#N/A"},false,false,false,false,false,false,{"$error":"#N/A"},38.844449999999995,98.36699999999999,98.904499999999999,105.72500000000001,101.51875,null,{"$f":"OFFSET(InputIndexData!F$15,CalculationsAndCharts!$A321+$A$11,IF($C$7,8,0),1,1)","v":178.7},175.62200000000001,1,1,true,null,212,{"$error":"#N/A"}]
[290,{"$f":"OFFSET(InputPriceData!B$15,CalculationsAndCharts!$A322+$A$11,0,1,1)","v":"2014-02-25"},{"$f":"OFFSET(InputPriceData!G$15,CalculationsAndCharts!$A322+$A$11,IF($C$7,8,0),1,1)","v":3411100},{"$f":"OFFSET(InputPriceData!C$15,CalculationsAndCharts!$A322+$A$11,IF($C$7,8,0),1,1)","v":111.87},{"$f":"OFFSET(InputPriceData!D$15,CalculationsAndCharts!$A322+$A$11,IF($C$7,8,0),1,1)","v":112.6},{"$f":"OFFSET(InputPriceData!E$15,CalculationsAndCharts!$A322+$A$11,IF($C$7,8,0),1,1)","v":108.47},{"$f":"OFFSET(InputPriceData!F$15,CalculationsAndCharts!$A322+$A$11,IF($C$7,8,0),1,1)","v":109.03},38.300199999999997,98.167600000000007,98.1995,103.81500000000001,99.932500000000005,{"$error":"#N/A"},3411100,false,"UP",false,{"$error":"#N/A"},{"$error":"#N/A"},true,false,false,false,false,false,{"$error":"#N/A"},false,{"$error":"#N/A"},false,false,false,false,false,false,{"$error":"#N/A"},38.300199999999997,98.167600000000007,98.1995,103.81500000000001,99.932500000000005,null,{"$f":"OFFSET(InputIndexData!F$15,CalculationsAndCharts!$A322+$A$11,IF($C$7,8,0),1,1)","v":178.69},175.4734,1,1,true,null,212,{"$error":"#N/A"}]
[291,{"$f":"OFFSET(InputPriceData!B$15,CalculationsAndCharts!$A323+$A$11,0,1,1)","v":"2014-02-24"},{"$f":"OFFSET(InputPriceData!G$15,CalculationsAndCharts!$A323+$A$11,IF($C$7,8,0),1,1)","v":6568800},{"$f":"OFFSET(InputPriceData!C$15,CalculationsAndCharts!$A323+$A$11,IF($C$7,8,0),1,1)","v":101.5},{"$f":"OFFSET(InputPriceData!D$15,CalculationsAndCharts!$A323+$A$11,IF($C$7,8,0),1,1)","v":113.24},{"$f":"OFFSET(InputPriceData!E$15,CalculationsAndCharts!$A323+$A$11,IF($C$7,8,0),1,1)","v":101.35},{"$f":"OFFSET(InputPriceData!F$15,CalculationsAndCharts!$A323+$A$11,IF($C$7,8,0),1,1)","v":112.19},37.755049999999997,97.99339999999998,97.486499999999992,101.85624999999999,98.14,6568800,{"$error":"#N/A"},false,"UP",false,{"$error":"#N/A"},{"$error":"#N/A"},false,false,false,{"$f":"IF(V323,TRUE,IF(X324,FALSE,W324))","v":false},false,false,{"$error":"#N/A"},false,{"$error":"#N/A"},false,false,false,false,false,false,{"$error":"#N/A"},37.755049999999997,97.99339999999998,97.486499999999992,101.85624999999999,98.14,null,{"$f":"OFFSET(InputIndexData!F$15,CalculationsAndCharts!$A323+$A$11,IF($C$7,8,0),1,1)","v":178.76},175.33640000000003,1,1,true,null,212,{"$error":"#N/A"}]
[292,{"$f":"OFFSET(InputPriceData!B$15,CalculationsAndCharts!$A324+$A$11,0,1,1)","v":"2014-02-21"},{"$f":"OFFSET(InputPriceData!G$15,CalculationsAndCharts!$A324+$A$11,IF($C$7,8,0),1,1)","v":3455300},{"$f":"OFFSET(InputPriceData!C$15,CalculationsAndCharts!$A324+$A$11,IF($C$7,8,0),1,1)","v":101.36},{"$f":"OFFSET(InputPriceData!D$15,CalculationsAndCharts!$A324+$A$11,IF($C$7,8,0),1,1)","v":102.73},{"$f":"OFFSET(InputPriceData!E$15,CalculationsAndCharts!$A324+$A$11,IF($C$7,8,0),1,1)","v":101.02},{"$f":"OFFSET(InputPriceData!F$15,CalculationsAndCharts!$A324+$A$11,IF($C$7,8,0),1,1)","v":101.46},37.194100000000006,97.789400000000029,96.613500000000016,99.732500000000016,97.174999999999997,3455300,{"$error":"#N/A"},false,"UP",false,{"$error":"#N/A"},{"$error":"#N/A"},false,false,false,false,false,false,{"$error":"#N/A"},false,{"$error":"#N/A"},false,false,false,false,false,false,{"$error":"#N/A"},37.194100000000006,97.789400000000029,96.613500000000016,99.732500000000016,97.174999999999997,null,{"$f":"OFFSET(InputIndexData!F$15,CalculationsAndCharts!$A324+$A$11,IF($C$7,8,0),1,1)","v":177.77},175.23700000000005,1,1,true,null,212,{"$error":"#N/A"}]
[293,{"$f":"OFFSET(InputPriceData!B$15,CalculationsAndCharts!$A325+$A$11,0,1,1)","v":"2014-02-20"},{"$f":"OFFSET(InputPriceData!G$15,CalculationsAndCharts!$A325+$A$11,IF($C$7,8,0),1,1)","v":1846600},{"$f":"OFFSET(InputPriceData!C$15,CalculationsAndCharts!$A325+$A$11,IF($C$7,8,0),1,1)","v":99.58},{"$f":"OFFSET(InputPriceData!D$15,CalculationsAndCharts!$A325+$A$11,IF($C$7,8,0),1,1)","v":101.56},{"$f":"OFFSET(InputPriceData!E$15,CalculationsAndCharts!$A325+$A$11,IF($C$7,8,0),1,1)","v":99.58},{"$f":"OFFSET(InputPriceData!F$15,CalculationsAndCharts!$A325+$A$11,IF($C$7,8,0),1,1)","v":100.89},36.686800000000005,97.815600000000018,96.286500000000018,98.791250000000005,96.23,1846600,{"$error":"#N/A"},false,"UP",false,{"$error":"#N/A"},{"$error":"#N/A"},false,false,false,false,false,false,{"$error":"#N/A"},false,{"$error":"#N/A"},false,false,false,false,false,false,{"$error":"#N/A"},36.686800000000005,97.815600000000018,96.286500000000018,98.791250000000005,96.23,null,{"$f":"OFFSET(InputIndexData!F$15,CalculationsAndCharts!$A325+$A$11,IF($C$7,8,0),1,1)","v":177.97},175.17000000000004,1,1,true,null,212,{"$error":"#N/A"}]
[294,{"$f":"OFFSET(InputPriceData!B$15,CalculationsAndCharts!$A326+$A$11,0,1,1)","v":"2014-02-19"},{"$f":"OFFSET(InputPriceData!G$15,CalculationsAndCharts!$A326+$A$11,IF($C$7,8,0),1,1)","v":1607600},{"$f":"OFFSET(InputPriceData!C$15,CalculationsAndCharts!$A326+$A$11,IF($C$7,8,0),1,1)","v":100.58},{"$f":"OFFSET(InputPriceData!D$15,CalculationsAndCharts!$A326+$A$11,IF($C$7,8,0),1,1)","v":101.58},{"$f":"OFFSET(InputPriceData!E$15,CalculationsAndCharts!$A326+$A$11,IF($C$7,8,0),1,1)","v":100.42},{"$f":"OFFSET(InputPriceData!F$15,CalculationsAndCharts!$A326+$A$11,IF($C$7,8,0),1,1)","v":100.63},36.18235,97.844999999999999,95.985500000000002,98.007499999999993,95.446249999999992,1607600,{"$error":"#N/A"},false,"UP",false,{"$error":"#N/A"},{"$error":"#N/A"},false,false,false,false,false,false,{"$error":"#N/A"},false,{"$error":"#N/A"},false,false,false,false,false,false,{"$error":"#N/A"},36.18235,97.844999999999999,95.985500000000002,98.007499999999993,95.446249999999992,null,{"$f":"OFFSET(InputIndexData!F$15,CalculationsAndCharts!$A326+$A$11,IF($C$7,8,0),1,1)","v":176.93},175.09000000000003,1,1,true,null,212,{"$error":"#N/A"}]
[295,{"$f":"OFFSET(InputPriceData!B$15,CalculationsAndCharts!$A327+$A$11,0,1,1)","v":"2014-02-18"},{"$f":"OFFSET(InputPriceData!G$15,CalculationsAndCharts!$A327+$A$11,IF($C$7,8,0),1,1)","v":2349000},{"$f":"OFFSET(InputPriceData!C$15,CalculationsAndCharts!$A327+$A$11,IF($C$7,8,0),1,1)","v":99.4},{"$f":"OFFSET(InputPriceData!D$15,CalculationsAndCharts!$A327+$A$11,IF($C$7,8,0),1,1)","v":102.59},{"$f":"OFFSET(InputPriceData!E$15,CalculationsAndCharts!$A327+$A$11,IF($C$7,8,0),1,1)","v":99.02},{"$f":"OFFSET(InputPriceData!F$15,CalculationsAndCharts!$A327+$A$11,IF($C$7,8,0),1,1)","v":100.96},35.679200000000009,97.838400000000021,95.674000000000021,97.251249999999999,94.575000000000017,2349000,{"$error":"#N/A"},false,"UP",false,{"$error":"#N/A"},{"$error":"#N/A"},false,false,false,false,false,false,{"$error":"#N/A"},false,{"$error":"#N/A"},false,false,false,false,false,false,{"$error":"#N/A"},35.679200000000009,97.838400000000021,95.674000000000021,97.251249999999999,94.575000000000017,null,{"$f":"OFFSET(InputIndexData!F$15,CalculationsAndCharts!$A327+$A$11,IF($C$7,8,0),1,1)","v":178.11},174.9924,1,1,true,null,212,{"$error":"#N/A"}]
[296,{"$f":"OFFSET(InputPriceData!B$15,CalculationsAndCharts!$A328+$A$11,0,1,1)","v":"2014-02-14"},{"$f":"OFFSET(InputPriceData!G$15,CalculationsAndCharts!$A328+$A$11,IF($C$7,8,0),1,1)","v":2759000},{"$f":"OFFSET(InputPriceData!C$15,CalculationsAndCharts!$A328+$A$11,IF($C$7,8,0),1,1)","v":95.58},{"$f":"OFFSET(InputPriceData!D$15,CalculationsAndCharts!$A328+$A$11,IF($C$7,8,0),1,1)","v":100.27},{"$f":"OFFSET(InputPriceData!E$15,CalculationsAndCharts!$A328+$A$11,IF($C$7,8,0),1,1)","v":95.58},{"$f":"OFFSET(InputPriceData!F$15,CalculationsAndCharts!$A328+$A$11,IF($C$7,8,0),1,1)","v":98.91},35.174400000000013,97.861600000000038,95.390500000000017,96.377499999999998,93.422499999999999,2759000,{"$error":"#N/A"},false,"UP",false,{"$error":"#N/A"},{"$error":"#N/A"},false,false,false,false,false,false,{"$error":"#N/A"},false,{"$error":"#N/A"},false,false,false,false,false,false,{"$error":"#N/A"},35.174400000000013,97.861600000000038,95.390500000000017,96.377499999999998,93.422499999999999,null,{"$f":"OFFSET(InputIndexData!F$15,CalculationsAndCharts!$A328+$A$11,IF($C$7,8,0),1,1)","v":177.9},174.88639999999995,1,1,true,null,212,{"$error":"#N/A"}]
[297,{"$f":"OFFSET(InputPriceData!B$15,CalculationsAndCharts!$A329+$A$11,0,1,1)","v":"2014-02-13"},{"$f":"OFFSET(InputPriceData!G$15,CalculationsAndCharts!$A329+$A$11,IF($C$7,8,0),1,1)","v":1510500},{"$f":"OFFSET(InputPriceData!C$15,CalculationsAndCharts!$A329+$A$11,IF($C$7,8,0),1,1)","v":94.26},{"$f":"OFFSET(InputPriceData!D$15,CalculationsAndCharts!$A329+$A$11,IF($C$7,8,0),1,1)","v":95.95},{"$f":"OFFSET(InputPriceData!E$15,CalculationsAndCharts!$A329+$A$11,IF($C$7,8,0),1,1)","v":94.02},{"$f":"OFFSET(InputPriceData!F$15,CalculationsAndCharts!$A329+$A$11,IF($C$7,8,0),1,1)","v":95.74},34.679850000000002,97.945599999999999,95.18950000000001,95.88,93.231249999999989,1510500,{"$error":"#N/A"},false,"UP",false,{"$error":"#N/A"},{"$error":"#N/A"},false,false,false,false,false,false,{"$error":"#N/A"},false,{"$error":"#N/A"},false,false,false,false,false,false,{"$error":"#N/A"},34.679850000000002,97.945599999999999,95.18950000000001,95.88,93.231249999999989,null,{"$f":"OFFSET(InputIndexData!F$15,CalculationsAndCharts!$A329+$A$11,IF($C$7,8,0),1,1)","v":176.92},174.78499999999997,1,1,true,null,212,{"$error":"#N/A"}]
[298,{"$f":"OFFSET(InputPriceData!B$15,CalculationsAndCharts!$A330+$A$11,0,1,1)","v":"2014-02-12"},{"$f":"OFFSET(InputPriceData!G$15,CalculationsAndCharts!$A330+$A$11,IF($C$7,8,0),1,1)","v":1417200},{"$f":"OFFSET(InputPriceData!C$15,CalculationsAndCharts!$A330+$A$11,IF($C$7,8,0),1,1)","v":96.01},{"$f":"OFFSET(InputPriceData!D$15,CalculationsAndCharts!$A330+$A$11,IF($C$7,8,0),1,1)","v":96.93},{"$f":"OFFSET(InputPriceData!E$15,CalculationsAndCharts!$A330+$A$11,IF($C$7,8,0),1,1)","v":94.13},{"$f":"OFFSET(InputPriceData!F$15,CalculationsAndCharts!$A330+$A$11,IF($C$7,8,0),1,1)","v":94.33},34.201150000000005,98.102600000000024,95.195000000000022,95.891249999999999,93.304999999999993,{"$error":"#N/A"},1417200,false,"UP",false,{"$error":"#N/A"},{"$error":"#N/A"},false,false,false,false,false,false,{"$error":"#N/A"},false,{"$error":"#N/A"},false,false,false,false,false,false,{"$error":"#N/A"},34.201150000000005,98.102600000000024,95.195000000000022,95.891249999999999,93.304999999999993,null,{"$f":"OFFSET(InputIndexData!F$15,CalculationsAndCharts!$A330+$A$11,IF($C$7,8,0),1,1)","v":176.01},174.7182,1,1,true,null,212,{"$error":"#N/A"}]
[299,{"$f":"OFFSET(InputPriceData!B$15,CalculationsAndCharts!$A331+$A$11,0,1,1)","v":"2014-02-11"},{"$f":"OFFSET(InputPriceData!G$15,CalculationsAndCharts!$A331+$A$11,IF($C$7,8,0),1,1)","v":1382500},{"$f":"OFFSET(InputPriceData!C$15,CalculationsAndCharts!$A331+$A$11,IF($C$7,8,0),1,1)","v":95.26},{"$f":"OFFSET(InputPriceData!D$15,CalculationsAndCharts!$A331+$A$11,IF($C$7,8,0),1,1)","v":96.25},{"$f":"OFFSET(InputPriceData!E$15,CalculationsAndCharts!$A331+$A$11,IF($C$7,8,0),1,1)","v":93.63},{"$f":"OFFSET(InputPriceData!F$15,CalculationsAndCharts!$A331+$A$11,IF($C$7,8,0),1,1)","v":95.98},33.729500000000009,98.263000000000034,95.253999999999991,95.82374999999999,93.478749999999991,1382500,{"$error":"#N/A"},false,"UP",false,{"$error":"#N/A"},{"$error":"#N/A"},false,false,false,false,false,false,{"$error":"#N/A"},false,{"$error":"#N/A"},false,false,false,false,false,false,{"$error":"#N/A"},33.729500000000009,98.263000000000034,95.253999999999991,95.82374999999999,93.478749999999991,null,{"$f":"OFFSET(InputIndexData!F$15,CalculationsAndCharts!$A331+$A$11,IF($C$7,8,0),1,1)","v":175.92},174.67860000000005,1,0.5,true,null,212,{"$error":"#N/A"}]
[300,{"$f":"OFFSET(InputPriceData!B$15,CalculationsAndCharts!$A332+$A$11,0,1,1)","v":"2014-02-10"},{"$f":"OFFSET(InputPriceData!G$15,CalculationsAndCharts!$A332+$A$11,IF($C$7,8,0),1,1)","v":1662500},{"$f":"OFFSET(InputPriceData!C$15,CalculationsAndCharts!$A332+$A$11,IF($C$7,8,0),1,1)","v":94.51},{"$f":"OFFSET(InputPriceData!D$15,CalculationsAndCharts!$A332+$A$11,IF($C$7,8,0),1,1)","v":95.2},{"$f":"OFFSET(InputPriceData!E$15,CalculationsAndCharts!$A332+$A$11,IF($C$7,8,0),1,1)","v":93.46},{"$f":"OFFSET(InputPriceData!F$15,CalculationsAndCharts!$A332+$A$11,IF($C$7,8,0),1,1)","v":95.2},33.249600000000008,98.386200000000045,95.193000000000012,95.993750000000006,93.716249999999988,1662500,{"$error":"#N/A"},false,"UP",false,{"$error":"#N/A"},{"$error":"#N/A"},false,false,false,false,false,false,{"$error":"#N/A"},false,{"$error":"#N/A"},false,false,false,false,false,false,{"$error":"#N/A"},33.249600000000008,98.386200000000045,95.193000000000012,95.993750000000006,93.716249999999988,null,{"$f":"OFFSET(InputIndexData!F$15,CalculationsAndCharts!$A332+$A$11,IF($C$7,8,0),1,1)","v":174.02},174.64320000000006,1,0,false,null,{"$error":"#N/A"},212]
[301,{"$f":"OFFSET(InputPriceData!B$15,CalculationsAndCharts!$A333+$A$11,0,1,1)","v":"2014-02-07"},{"$f":"OFFSET(InputPriceData!G$15,CalculationsAndCharts!$A333+$A$11,IF($C$7,8,0),1,1)","v":2251600},{"$f":"OFFSET(InputPriceData!C$15,CalculationsAndCharts!$A333+$A$11,IF($C$7,8,0),1,1)","v":94.74},{"$f":"OFFSET(InputPriceData!D$15,CalculationsAndCharts!$A333+$A$11,IF($C$7,8,0),1,1)","v":95.29},{"$f":"OFFSET(InputPriceData!E$15,CalculationsAndCharts!$A333+$A$11,IF($C$7,8,0),1,1)","v":93.31},{"$f":"OFFSET(InputPriceData!F$15,CalculationsAndCharts!$A333+$A$11,IF($C$7,8,0),1,1)","v":94.7},32.773600000000009,98.527200000000036,95.217000000000013,96.254999999999995,93.653750000000002,{"$error":"#N/A"},2251600,false,"UP",false,{"$error":"#N/A"},{"$error":"#N/A"},false,false,false,false,false,false,{"$error":"#N/A"},false,{"$error":"#N/A"},false,false,false,false,false,false,{"$error":"#N/A"},32.773600000000009,98.527200000000036,95.217000000000013,96.254999999999995,93.653750000000002,null,{"$f":"OFFSET(InputIndexData!F$15,CalculationsAndCharts!$A333+$A$11,IF($C$7,8,0),1,1)","v":173.7},174.63720000000004,1,-0.5,false,null,{"$error":"#N/A"},212]
[302,{"$f":"OFFSET(InputPriceData!B$15,CalculationsAndCharts!$A334+$A$11,0,1,1)","v":"2014-02-06"},{"$f":"OFFSET(InputPriceData!G$15,CalculationsAndCharts!$A334+$A$11,IF($C$7,8,0),1,1)","v":2161400},{"$f":"OFFSET(InputPriceData!C$15,CalculationsAndCharts!$A334+$A$11,IF($C$7,8,0),1,1)","v":94.31},{"$f":"OFFSET(InputPriceData!D$15,CalculationsAndCharts!$A334+$A$11,IF($C$7,8,0),1,1)","v":95.53},{"$f":"OFFSET(InputPriceData!E$15,CalculationsAndCharts!$A334+$A$11,IF($C$7,8,0),1,1)","v":93.45},{"$f":"OFFSET(InputPriceData!F$15,CalculationsAndCharts!$A334+$A$11,IF($C$7,8,0),1,1)","v":95.38},32.300100000000008,98.670200000000037,95.366000000000014,96.276250000000005,93.795000000000016,2161400,{"$error":"#N/A"},false,"UP",false,{"$error":"#N/A"},{"$error":"#N/A"},false,false,false,false,false,false,{"$error":"#N/A"},false,{"$error":"#N/A"},false,false,false,false,false,false,{"$error":"#N/A"},32.300100000000008,98.670200000000037,95.366000000000014,96.276250000000005,93.795000000000016,null,{"$f":"OFFSET(InputIndexData!F$15,CalculationsAndCharts!$A334+$A$11,IF($C$7,8,0),1,1)","v":171.57},174.63679999999999,-1,-1,false,null,{"$error":"#N/A"},212]
[303,{"$f":"OFFSET(InputPriceData!B$15,CalculationsAndCharts!$A335+$A$11,0,1,1)","v":"2014-02-05"},{"$f":"OFFSET(InputPriceData!G$15,CalculationsAndCharts!$A335+$A$11,IF($C$7,8,0),1,1)","v":4642900},{"$f":"OFFSET(InputPriceData!C$15,CalculationsAndCharts!$A335+$A$11,IF($C$7,8,0),1,1)","v":89.8},{"$f":"OFFSET(InputPriceData!D$15,CalculationsAndCharts!$A335+$A$11,IF($C$7,8,0),1,1)","v":95.6},{"$f":"OFFSET(InputPriceData!E$15,CalculationsAndCharts!$A335+$A$11,IF($C$7,8,0),1,1)","v":89.8},{"$f":"OFFSET(InputPriceData!F$15,CalculationsAndCharts!$A335+$A$11,IF($C$7,8,0),1,1)","v":94.45},31.823200000000007,98.75560000000003,95.501500000000007,96.271250000000009,93.813750000000013,4642900,{"$error":"#N/A"},false,"UP",false,{"$error":"#N/A"},{"$error":"#N/A"},false,false,false,false,false,false,{"$error":"#N/A"},false,{"$error":"#N/A"},false,false,false,false,false,false,{"$error":"#N/A"},31.823200000000007,98.75560000000003,95.501500000000007,96.271250000000009,93.813750000000013,null,{"$f":"OFFSET(InputIndexData!F$15,CalculationsAndCharts!$A335+$A$11,IF($C$7,8,0),1,1)","v":169.34},174.68240000000006,-1,-1,false,null,{"$error":"#N/A"},212]
[304,{"$f":"OFFSET(InputPriceData!B$15,CalculationsAndCharts!$A336+$A$11,0,1,1)","v":"2014-02-04"},{"$f":"OFFSET(InputPriceData!G$15,CalculationsAndCharts!$A336+$A$11,IF($C$7,8,0),1,1)","v":2046400},{"$f":"OFFSET(InputPriceData!C$15,CalculationsAndCharts!$A336+$A$11,IF($C$7,8,0),1,1)","v":95.2},{"$f":"OFFSET(InputPriceData!D$15,CalculationsAndCharts!$A336+$A$11,IF($C$7,8,0),1,1)","v":96.29},{"$f":"OFFSET(InputPriceData!E$15,CalculationsAndCharts!$A336+$A$11,IF($C$7,8,0),1,1)","v":94.05},{"$f":"OFFSET(InputPriceData!F$15,CalculationsAndCharts!$A336+$A$11,IF($C$7,8,0),1,1)","v":96.18},31.350950000000008,98.829600000000028,95.740000000000009,96.202500000000001,94.296250000000001,2046400,{"$error":"#N/A"},false,"UP",false,{"$error":"#N/A"},{"$error":"#N/A"},false,false,false,false,false,false,{"$error":"#N/A"},false,{"$error":"#N/A"},false,false,false,false,false,false,{"$error":"#N/A"},31.350950000000008,98.829600000000028,95.740000000000009,96.202500000000001,94.296250000000001,null,{"$f":"OFFSET(InputIndexData!F$15,CalculationsAndCharts!$A336+$A$11,IF($C$7,8,0),1,1)","v":169.55},174.75520000000003,-1,-0.5,false,null,{"$error":"#N/A"},212]
[305,{"$f":"OFFSET(InputPriceData!B$15,CalculationsAndCharts!$A337+$A$11,0,1,1)","v":"2014-02-03"},{"$f":"OFFSET(InputPriceData!G$15,CalculationsAndCharts!$A337+$A$11,IF($C$7,8,0),1,1)","v":2038800},{"$f":"OFFSET(InputPriceData!C$15,CalculationsAndCharts!$A337+$A$11,IF($C$7,8,0),1,1)","v":95.91},{"$f":"OFFSET(InputPriceData!D$15,CalculationsAndCharts!$A337+$A$11,IF($C$7,8,0),1,1)","v":96.04},{"$f":"OFFSET(InputPriceData!E$15,CalculationsAndCharts!$A337+$A$11,IF($C$7,8,0),1,1)","v":94.61},{"$f":"OFFSET(InputPriceData!F$15,CalculationsAndCharts!$A337+$A$11,IF($C$7,8,0),1,1)","v":95.09},30.87005000000001,98.880000000000038,95.902500000000003,96.234999999999985,94.356249999999989,{"$error":"#N/A"},2038800,false,"UP",false,{"$error":"#N/A"},{"$error":"#N/A"},false,false,false,false,false,false,{"$error":"#N/A"},false,{"$error":"#N/A"},false,false,false,false,false,false,{"$error":"#N/A"},30.87005000000001,98.880000000000038,95.902500000000003,96.234999999999985,94.356249999999989,null,{"$f":"OFFSET(InputIndexData!F$15,CalculationsAndCharts!$A337+$A$11,IF($C$7,8,0),1,1)","v":168.37},174.79620000000003,-1,-0.5,false,null,{"$error":"#N/A"},212]
[306,{"$f":"OFFSET(InputPriceData!B$15,CalculationsAndCharts!$A338+$A$11,0,1,1)","v":"2014-01-31"},{"$f":"OFFSET(InputPriceData!G$15,CalculationsAndCharts!$A338+$A$11,IF($C$7,8,0),1,1)","v":1410100},{"$f":"OFFSET(InputPriceData!C$15,CalculationsAndCharts!$A338+$A$11,IF($C$7,8,0),1,1)","v":95.75},{"$f":"OFFSET(InputPriceData!D$15,CalculationsAndCharts!$A338+$A$11,IF($C$7,8,0),1,1)","v":96.39},{"$f":"OFFSET(InputPriceData!E$15,CalculationsAndCharts!$A338+$A$11,IF($C$7,8,0),1,1)","v":95.52},{"$f":"OFFSET(InputPriceData!F$15,CalculationsAndCharts!$A338+$A$11,IF($C$7,8,0),1,1)","v":96.01},30.394600000000011,98.919800000000038,96.169000000000011,96.132499999999993,94.317499999999981,1410100,{"$error":"#N/A"},false,"UP",false,{"$error":"#N/A"},{"$error":"#N/A"},false,false,false,false,false,false,{"$error":"#N/A"},false,{"$error":"#N/A"},false,false,false,false,false,false,{"$error":"#N/A"},30.394600000000011,98.919800000000038,96.169000000000011,96.132499999999993,94.317499999999981,null,{"$f":"OFFSET(InputIndexData!F$15,CalculationsAndCharts!$A338+$A$11,IF($C$7,8,0),1,1)","v":172.25},174.8716,-1,0,true,null,212,{"$error":"#N/A"}]
[307,{"$f":"OFFSET(InputPriceData!B$15,CalculationsAndCharts!$A339+$A$11,0,1,1)","v":"2014-01-30"},{"$f":"OFFSET(InputPriceData!G$15,CalculationsAndCharts!$A339+$A$11,IF($C$7,8,0),1,1)","v":1083600},{"$f":"OFFSET(InputPriceData!C$15,CalculationsAndCharts!$A339+$A$11,IF($C$7,8,0),1,1)","v":95.64},{"$f":"OFFSET(InputPriceData!D$15,CalculationsAndCharts!$A339+$A$11,IF($C$7,8,0),1,1)","v":97.61},{"$f":"OFFSET(InputPriceData!E$15,CalculationsAndCharts!$A339+$A$11,IF($C$7,8,0),1,1)","v":95.53},{"$f":"OFFSET(InputPriceData!F$15,CalculationsAndCharts!$A339+$A$11,IF($C$7,8,0),1,1)","v":96.87},29.914550000000009,98.941200000000023,96.44250000000001,96.041250000000005,94.128749999999982,1083600,{"$error":"#N/A"},true,"UP",false,96.87,{"$error":"#N/A"},false,false,false,false,false,false,{"$error":"#N/A"},false,{"$error":"#N/A"},false,false,false,false,false,false,{"$error":"#N/A"},29.914550000000009,98.941200000000023,96.44250000000001,96.041250000000005,94.128749999999982,null,{"$f":"OFFSET(InputIndexData!F$15,CalculationsAndCharts!$A339+$A$11,IF($C$7,8,0),1,1)","v":173.27},174.87680000000003,1,0.5,true,null,212,{"$error":"#N/A"}]
[308,{"$f":"OFFSET(InputPriceData!B$15,CalculationsAndCharts!$A340+$A$11,0,1,1)","v":"2014-01-29"},{"$f":"OFFSET(InputPriceData!G$15,CalculationsAndCharts!$A340+$A$11,IF($C$7,8,0),1,1)","v":2280400},{"$f":"OFFSET(InputPriceData!C$15,CalculationsAndCharts!$A340+$A$11,IF($C$7,8,0),1,1)","v":93.92},{"$f":"OFFSET(InputPriceData!D$15,CalculationsAndCharts!$A340+$A$11,IF($C$7,8,0),1,1)","v":97.29},{"$f":"OFFSET(InputPriceData!E$15,CalculationsAndCharts!$A340+$A$11,IF($C$7,8,0),1,1)","v":92.96},{"$f":"OFFSET(InputPriceData!F$15,CalculationsAndCharts!$A340+$A$11,IF($C$7,8,0),1,1)","v":95.24},29.430200000000003,98.938200000000009,96.692000000000007,95.826250000000002,94.007499999999993,2280400,{"$error":"#N/A"},false,"DOWN",false,{"$error":"#N/A"},{"$error":"#N/A"},false,false,false,false,false,false,{"$error":"#N/A"},false,{"$error":"#N/A"},false,false,false,false,false,false,{"$error":"#N/A"},29.430200000000003,98.938200000000009,96.692000000000007,95.826250000000002,94.007499999999993,null,{"$f":"OFFSET(InputIndexData!F$15,CalculationsAndCharts!$A340+$A$11,IF($C$7,8,0),1,1)","v":171.45},174.87380000000005,-1,0.5,true,null,212,{"$error":"#N/A"}]
[309,{"$f":"OFFSET(InputPriceData!B$15,CalculationsAndCharts!$A341+$A$11,0,1,1)","v":"2014-01-28"},{"$f":"OFFSET(InputPriceData!G$15,CalculationsAndCharts!$A341+$A$11,IF($C$7,8,0),1,1)","v":1192600},{"$f":"OFFSET(InputPriceData!C$15,CalculationsAndCharts!$A341+$A$11,IF($C$7,8,0),1,1)","v":94.73},{"$f":"OFFSET(InputPriceData!D$15,CalculationsAndCharts!$A341+$A$11,IF($C$7,8,0),1,1)","v":95.46},{"$f":"OFFSET(InputPriceData!E$15,CalculationsAndCharts!$A341+$A$11,IF($C$7,8,0),1,1)","v":94.44},{"$f":"OFFSET(InputPriceData!F$15,CalculationsAndCharts!$A341+$A$11,IF($C$7,8,0),1,1)","v":94.75},28.954000000000001,98.951800000000006,96.986500000000007,95.642499999999984,94.121250000000018,1192600,{"$error":"#N/A"},false,"DOWN",false,{"$error":"#N/A"},{"$error":"#N/A"},false,false,false,false,false,false,{"$error":"#N/A"},false,{"$error":"#N/A"},false,false,false,false,false,false,{"$error":"#N/A"},28.954000000000001,98.951800000000006,96.986500000000007,95.642499999999984,94.121250000000018,null,{"$f":"OFFSET(InputIndexData!F$15,CalculationsAndCharts!$A341+$A$11,IF($C$7,8,0),1,1)","v":173.11},174.89220000000009,1,1,true,null,212,{"$error":"#N/A"}]
[310,{"$f":"OFFSET(InputPriceData!B$15,CalculationsAndCharts!$A342+$A$11,0,1,1)","v":"2014-01-27"},{"$f":"OFFSET(InputPriceData!G$15,CalculationsAndCharts!$A342+$A$11,IF($C$7,8,0),1,1)","v":1585200},{"$f":"OFFSET(InputPriceData!C$15,CalculationsAndCharts!$A342+$A$11,IF($C$7,8,0),1,1)","v":94.85},{"$f":"OFFSET(InputPriceData!D$15,CalculationsAndCharts!$A342+$A$11,IF($C$7,8,0),1,1)","v":95.49},{"$f":"OFFSET(InputPriceData!E$15,CalculationsAndCharts!$A342+$A$11,IF($C$7,8,0),1,1)","v":93.6},{"$f":"OFFSET(InputPriceData!F$15,CalculationsAndCharts!$A342+$A$11,IF($C$7,8,0),1,1)","v":94.77},28.480250000000002,98.957800000000006,97.333500000000001,95.754999999999981,94.221249999999998,{"$error":"#N/A"},1585200,false,"DOWN",false,{"$error":"#N/A"},{"$error":"#N/A"},false,false,false,false,false,false,{"$error":"#N/A"},false,{"$error":"#N/A"},false,false,false,false,false,false,{"$error":"#N/A"},28.480250000000002,98.957800000000006,97.333500000000001,95.754999999999981,94.221249999999998,null,{"$f":"OFFSET(InputIndexData!F$15,CalculationsAndCharts!$A342+$A$11,IF($C$7,8,0),1,1)","v":172.09},174.86020000000008,1,1,true,null,212,{"$error":"#N/A"}]
[311,{"$f":"OFFSET(InputPriceData!B$15,CalculationsAndCharts!$A343+$A$11,0,1,1)","v":"2014-01-24"},{"$f":"OFFSET(InputPriceData!G$15,CalculationsAndCharts!$A343+$A$11,IF($C$7,8,0),1,1)","v":1729400},{"$f":"OFFSET(InputPriceData!C$15,CalculationsAndCharts!$A343+$A$11,IF($C$7,8,0),1,1)","v":94.04},{"$f":"OFFSET(InputPriceData!D$15,CalculationsAndCharts!$A343+$A$11,IF($C$7,8,0),1,1)","v":95.05},{"$f":"OFFSET(InputPriceData!E$15,CalculationsAndCharts!$A343+$A$11,IF($C$7,8,0),1,1)","v":93.66},{"$f":"OFFSET(InputPriceData!F$15,CalculationsAndCharts!$A343+$A$11,IF($C$7,8,0),1,1)","v":94.73},28.006400000000003,98.959600000000009,97.690000000000012,95.772500000000008,94.30125000000001,1729400,{"$error":"#N/A"},false,"DOWN",false,{"$error":"#N/A"},{"$error":"#N/A"},false,false,false,false,false,false,{"$error":"#N/A"},false,{"$error":"#N/A"},false,false,false,false,false,false,{"$error":"#N/A"},28.006400000000003,98.959600000000009,97.690000000000012,95.772500000000008,94.30125000000001,null,{"$f":"OFFSET(InputIndexData!F$15,CalculationsAndCharts!$A343+$A$11,IF($C$7,8,0),1,1)","v":172.94},174.82140000000007,1,1,true,null,212,{"$error":"#N/A"}]
[312,{"$f":"OFFSET(InputPriceData!B$15,CalculationsAndCharts!$A344+$A$11,0,1,1)","v":"2014-01-23"},{"$f":"OFFSET(InputPriceData!G$15,CalculationsAndCharts!$A344+$A$11,IF($C$7,8,0),1,1)","v":1744300},{"$f":"OFFSET(InputPriceData!C$15,CalculationsAndCharts!$A344+$A$11,IF($C$7,8,0),1,1)","v":94.64},{"$f":"OFFSET(InputPriceData!D$15,CalculationsAndCharts!$A344+$A$11,IF($C$7,8,0),1,1)","v":96.55},{"$f":"OFFSET(InputPriceData!E$15,CalculationsAndCharts!$A344+$A$11,IF($C$7,8,0),1,1)","v":94.53},{"$f":"OFFSET(InputPriceData!F$15,CalculationsAndCharts!$A344+$A$11,IF($C$7,8,0),1,1)","v":94.92},27.532750000000007,98.957600000000014,98.035000000000011,95.94874999999999,94.431250000000006,1744300,{"$error":"#N/A"},false,"DOWN",false,{"$error":"#N/A"},{"$error":"#N/A"},false,false,false,false,false,false,{"$error":"#N/A"},false,{"$error":"#N/A"},false,false,false,false,false,false,{"$error":"#N/A"},27.532750000000007,98.957600000000014,98.035000000000011,95.94874999999999,94.431250000000006,null,{"$f":"OFFSET(InputIndexData!F$15,CalculationsAndCharts!$A344+$A$11,IF($C$7,8,0),1,1)","v":176.71},174.77240000000006,1,1,true,null,212,{"$error":"#N/A"}]
[313,{"$f":"OFFSET(InputPriceData!B$15,CalculationsAndCharts!$A345+$A$11,0,1,1)","v":"2014-01-22"},{"$f":"OFFSET(InputPriceData!G$15,CalculationsAndCharts!$A345+$A$11,IF($C$7,8,0),1,1)","v":1346100},{"$f":"OFFSET(InputPriceData!C$15,CalculationsAndCharts!$A345+$A$11,IF($C$7,8,0),1,1)","v":94.87},{"$f":"OFFSET(InputPriceData!D$15,CalculationsAndCharts!$A345+$A$11,IF($C$7,8,0),1,1)","v":95.22},{"$f":"OFFSET(InputPriceData!E$15,CalculationsAndCharts!$A345+$A$11,IF($C$7,8,0),1,1)","v":94.3},{"$f":"OFFSET(InputPriceData!F$15,CalculationsAndCharts!$A345+$A$11,IF($C$7,8,0),1,1)","v":94.87},27.058150000000005,98.933000000000007,98.361000000000018,96.0625,94.333750000000009,1346100,{"$error":"#N/A"},false,"DOWN",false,{"$error":"#N/A"},{"$error":"#N/A"},false,false,false,false,false,false,{"$error":"#N/A"},false,{"$error":"#N/A"},false,false,false,false,false,false,{"$error":"#N/A"},27.058150000000005,98.933000000000007,98.361000000000018,96.0625,94.333750000000009,null,{"$f":"OFFSET(InputIndexData!F$15,CalculationsAndCharts!$A345+$A$11,IF($C$7,8,0),1,1)","v":178.17},174.64739999999998,1,1,true,null,212,{"$error":"#N/A"}]
[314,{"$f":"OFFSET(InputPriceData!B$15,CalculationsAndCharts!$A346+$A$11,0,1,1)","v":"2014-01-21"},{"$f":"OFFSET(InputPriceData!G$15,CalculationsAndCharts!$A346+$A$11,IF($C$7,8,0),1,1)","v":1407600},{"$f":"OFFSET(InputPriceData!C$15,CalculationsAndCharts!$A346+$A$11,IF($C$7,8,0),1,1)","v":95.41},{"$f":"OFFSET(InputPriceData!D$15,CalculationsAndCharts!$A346+$A$11,IF($C$7,8,0),1,1)","v":95.66},{"$f":"OFFSET(InputPriceData!E$15,CalculationsAndCharts!$A346+$A$11,IF($C$7,8,0),1,1)","v":94.01},{"$f":"OFFSET(InputPriceData!F$15,CalculationsAndCharts!$A346+$A$11,IF($C$7,8,0),1,1)","v":94.4},26.583800000000007,98.91500000000002,98.631500000000017,96.543750000000017,94.756249999999994,{"$error":"#N/A"},1407600,false,"DOWN",false,{"$error":"#N/A"},{"$error":"#N/A"},false,false,false,false,false,false,{"$error":"#N/A"},false,{"$error":"#N/A"},false,false,false,false,false,false,{"$error":"#N/A"},26.583800000000007,98.91500000000002,98.631500000000017,96.543750000000017,94.756249999999994,null,{"$f":"OFFSET(InputIndexData!F$15,CalculationsAndCharts!$A346+$A$11,IF($C$7,8,0),1,1)","v":178.05},174.44800000000004,1,1,true,null,212,{"$error":"#N/A"}]
[315,{"$f":"OFFSET(InputPriceData!B$15,CalculationsAndCharts!$A347+$A$11,0,1,1)","v":"2014-01-17"},{"$f":"OFFSET(InputPriceData!G$15,CalculationsAndCharts!$A347+$A$11,IF($C$7,8,0),1,1)","v":1597200},{"$f":"OFFSET(InputPriceData!C$15,CalculationsAndCharts!$A347+$A$11,IF($C$7,8,0),1,1)","v":94.73},{"$f":"OFFSET(InputPriceData!D$15,CalculationsAndCharts!$A347+$A$11,IF($C$7,8,0),1,1)","v":95.89},{"$f":"OFFSET(InputPriceData!E$15,CalculationsAndCharts!$A347+$A$11,IF($C$7,8,0),1,1)","v":94.56},{"$f":"OFFSET(InputPriceData!F$15,CalculationsAndCharts!$A347+$A$11,IF($C$7,8,0),1,1)","v":95.29},26.111800000000006,98.914200000000022,98.915500000000009,97.002500000000012,95.21,1597200,{"$error":"#N/A"},false,"DOWN",false,{"$error":"#N/A"},{"$error":"#N/A"},false,false,false,false,false,false,{"$error":"#N/A"},false,{"$error":"#N/A"},false,false,false,false,false,false,{"$error":"#N/A"},26.111800000000006,98.914200000000022,98.915500000000009,97.002500000000012,95.21,null,{"$f":"OFFSET(InputIndexData!F$15,CalculationsAndCharts!$A347+$A$11,IF($C$7,8,0),1,1)","v":177.53},174.29400000000004,1,1,true,null,212,{"$error":"#N/A"}]
[316,{"$f":"OFFSET(InputPriceData!B$15,CalculationsAndCharts!$A348+$A$11,0,1,1)","v":"2014-01-16"},{"$f":"OFFSET(InputPriceData!G$15,CalculationsAndCharts!$A348+$A$11,IF($C$7,8,0),1,1)","v":1130900},{"$f":"OFFSET(InputPriceData!C$15,CalculationsAndCharts!$A348+$A$11,IF($C$7,8,0),1,1)","v":95.44},{"$f":"OFFSET(InputPriceData!D$15,CalculationsAndCharts!$A348+$A$11,IF($C$7,8,0),1,1)","v":95.82},{"$f":"OFFSET(InputPriceData!E$15,CalculationsAndCharts!$A348+$A$11,IF($C$7,8,0),1,1)","v":93.87},{"$f":"OFFSET(InputPriceData!F$15,CalculationsAndCharts!$A348+$A$11,IF($C$7,8,0),1,1)","v":94.89},25.635350000000003,98.857800000000012,99.108000000000018,97.517499999999998,95.54,{"$error":"#N/A"},1130900,false,"DOWN",false,{"$error":"#N/A"},{"$error":"#N/A"},false,false,false,false,false,false,{"$error":"#N/A"},false,{"$error":"#N/A"},false,false,false,false,false,false,{"$error":"#N/A"},25.635350000000003,98.857800000000012,99.108000000000018,97.517499999999998,95.54,null,{"$f":"OFFSET(InputIndexData!F$15,CalculationsAndCharts!$A348+$A$11,IF($C$7,8,0),1,1)","v":178.28},174.13300000000004,1,1,true,null,212,{"$error":"#N/A"}]
[317,{"$f":"OFFSET(InputPriceData!B$15,CalculationsAndCharts!$A349+$A$11,0,1,1)","v":"2014-01-15"},{"$f":"OFFSET(InputPriceData!G$15,CalculationsAndCharts!$A349+$A$11,IF($C$7,8,0),1,1)","v":1440500},{"$f":"OFFSET(InputPriceData!C$15,CalculationsAndCharts!$A349+$A$11,IF($C$7,8,0),1,1)","v":95.51},{"$f":"OFFSET(InputPriceData!D$15,CalculationsAndCharts!$A349+$A$11,IF($C$7,8,0),1,1)","v":96.36},{"$f":"OFFSET(InputPriceData!E$15,CalculationsAndCharts!$A349+$A$11,IF($C$7,8,0),1,1)","v":95.24},{"$f":"OFFSET(InputPriceData!F$15,CalculationsAndCharts!$A349+$A$11,IF($C$7,8,0),1,1)","v":95.85},25.160900000000002,98.81280000000001,99.239000000000019,98.168749999999989,96.136250000000004,1440500,{"$error":"#N/A"},false,"DOWN",false,{"$error":"#N/A"},{"$error":"#N/A"},false,false,false,false,false,false,{"$error":"#N/A"},false,{"$error":"#N/A"},false,false,false,false,false,false,{"$error":"#N/A"},25.160900000000002,98.81280000000001,99.239000000000019,98.168749999999989,96.136250000000004,null,{"$f":"OFFSET(InputIndexData!F$15,CalculationsAndCharts!$A349+$A$11,IF($C$7,8,0),1,1)","v":178.51},173.96780000000001,1,1,true,null,212,{"$error":"#N/A"}]
[318,{"$f":"OFFSET(InputPriceData!B$15,CalculationsAndCharts!$A350+$A$11,0,1,1)","v":"2014-01-14"},{"$f":"OFFSET(InputPriceData!G$15,CalculationsAndCharts!$A350+$A$11,IF($C$7,8,0),1,1)","v":1005900},{"$f":"OFFSET(InputPriceData!C$15,CalculationsAndCharts!$A350+$A$11,IF($C$7,8,0),1,1)","v":94.77},{"$f":"OFFSET(InputPriceData!D$15,CalculationsAndCharts!$A350+$A$11,IF($C$7,8,0),1,1)","v":95.63},{"$f":"OFFSET(InputPriceData!E$15,CalculationsAndCharts!$A350+$A$11,IF($C$7,8,0),1,1)","v":94.24},{"$f":"OFFSET(InputPriceData!F$15,CalculationsAndCharts!$A350+$A$11,IF($C$7,8,0),1,1)","v":95.51},24.681650000000001,98.726600000000005,99.373000000000019,98.833749999999981,96.761250000000004,1005900,{"$error":"#N/A"},false,"DOWN",false,{"$error":"#N/A"},{"$error":"#N/A"},false,false,false,false,false,false,{"$error":"#N/A"},false,{"$error":"#N/A"},false,false,false,false,false,false,{"$error":"#N/A"},24.681650000000001,98.726600000000005,99.373000000000019,98.833749999999981,96.761250000000004,null,{"$f":"OFFSET(InputIndexData!F$15,CalculationsAndCharts!$A350+$A$11,IF($C$7,8,0),1,1)","v":177.56},173.78620000000004,1,1,true,null,212,{"$error":"#N/A"}]
[319,{"$f":"OFFSET(InputPriceData!B$15,CalculationsAndCharts!$A351+$A$11,0,1,1)","v":"2014-01-13"},{"$f":"OFFSET(InputPriceData!G$15,CalculationsAndCharts!$A351+$A$11,IF($C$7,8,0),1,1)","v":1863600},{"$f":"OFFSET(InputPriceData!C$15,CalculationsAndCharts!$A351+$A$11,IF($C$7,8,0),1,1)","v":95.66},{"$f":"OFFSET(InputPriceData!D$15,CalculationsAndCharts!$A351+$A$11,IF($C$7,8,0),1,1)","v":96.46},{"$f":"OFFSET(InputPriceData!E$15,CalculationsAndCharts!$A351+$A$11,IF($C$7,8,0),1,1)","v":94.7},{"$f":"OFFSET(InputPriceData!F$15,CalculationsAndCharts!$A351+$A$11,IF($C$7,8,0),1,1)","v":94.76},24.204100000000004,96.816400000000016,99.51400000000001,99.693749999999994,97.600000000000009,{"$error":"#N/A"},1863600,false,"DOWN",false,{"$error":"#N/A"},{"$error":"#N/A"},false,false,false,false,false,false,{"$error":"#N/A"},false,{"$error":"#N/A"},false,false,false,false,false,false,{"$error":"#N/A"},24.204100000000004,96.816400000000016,99.51400000000001,99.693749999999994,97.600000000000009,null,{"$f":"OFFSET(InputIndexData!F$15,CalculationsAndCharts!$A351+$A$11,IF($C$7,8,0),1,1)","v":175.64},170.23500000000004,1,1,true,null,212,{"$error":"#N/A"}]
[320,{"$f":"OFFSET(InputPriceData!B$15,CalculationsAndCharts!$A352+$A$11,0,1,1)","v":"2014-01-10"},{"$f":"OFFSET(InputPriceData!G$15,CalculationsAndCharts!$A352+$A$11,IF($C$7,8,0),1,1)","v":4074500},{"$f":"OFFSET(InputPriceData!C$15,CalculationsAndCharts!$A352+$A$11,IF($C$7,8,0),1,1)","v":95.72},{"$f":"OFFSET(InputPriceData!D$15,CalculationsAndCharts!$A352+$A$11,IF($C$7,8,0),1,1)","v":97.46},{"$f":"OFFSET(InputPriceData!E$15,CalculationsAndCharts!$A352+$A$11,IF($C$7,8,0),1,1)","v":93.75},{"$f":"OFFSET(InputPriceData!F$15,CalculationsAndCharts!$A352+$A$11,IF($C$7,8,0),1,1)","v":95.68},23.730300000000003,94.921200000000013,99.72,100.40624999999999,98.350000000000009,{"$error":"#N/A"},4074500,false,"DOWN",false,{"$error":"#N/A"},{"$error":"#N/A"},true,false,false,false,false,false,{"$error":"#N/A"},false,{"$error":"#N/A"},false,false,false,false,false,false,{"$error":"#N/A"},23.730300000000003,94.921200000000013,99.72,100.40624999999999,98.350000000000009,null,{"$f":"OFFSET(InputIndexData!F$15,CalculationsAndCharts!$A352+$A$11,IF($C$7,8,0),1,1)","v":178.01},166.72220000000002,1,1,true,null,212,{"$error":"#N/A"}]
[321,{"$f":"OFFSET(InputPriceData!B$15,CalculationsAndCharts!$A353+$A$11,0,1,1)","v":"2014-01-09"},{"$f":"OFFSET(InputPriceData!G$15,CalculationsAndCharts!$A353+$A$11,IF($C$7,8,0),1,1)","v":2261100},{"$f":"OFFSET(InputPriceData!C$15,CalculationsAndCharts!$A353+$A$11,IF($C$7,8,0),1,1)","v":98.48},{"$f":"OFFSET(InputPriceData!D$15,CalculationsAndCharts!$A353+$A$11,IF($C$7,8,0),1,1)","v":99.07},{"$f":"OFFSET(InputPriceData!E$15,CalculationsAndCharts!$A353+$A$11,IF($C$7,8,0),1,1)","v":97.68},{"$f":"OFFSET(InputPriceData!F$15,CalculationsAndCharts!$A353+$A$11,IF($C$7,8,0),1,1)","v":97.68},{"$f":"AVERAGE(OFFSET(G353,0,0,$A$17,1))","v":23.251899999999999},{"$f":"AVERAGE(OFFSET(G353,0,0,$A$18,1))","v":93.007599999999996},{"$f":"AVERAGE(OFFSET(G353,0,0,$A$19,1))","v":99.951999999999984},{"$f":"AVERAGE(OFFSET(E353,0,0,$A$20,1))","v":100.97999999999999},{"$f":"AVERAGE(OFFSET(F353,0,0,$A$21,1))","v":99.252500000000012},{"$error":"#N/A"},2261100,{"$f":"AND(G354<=K354,G353>K353,OR(P354=\"DOWN\",P354=0))","v":false},{"$f":"IF(AND(OR(P354=0,P354=\"UP\"),Q353),\"DOWN\",IF(AND(OR(P354=0,P354=\"DOWN\"),O353),\"UP\",P354))","v":"DOWN"},{"$f":"AND(G354>=L354,G353<L353,OR(P354=0,P354=\"UP\"))","v":false},{"$error":"#N/A"},{"$error":"#N/A"},true,{"$f":"AND(T353,O353)","v":false},false,false,{"$f":"AND(W353,Q353)","v":false},false,{"$f":"IF(AND(NOT(AA353),OR(W353,Y353)),$F$11,NA())","v":{"$error":"#N/A"}},false,{"$error":"#N/A"},false,{"$f":"AND(AC353,Q353)","v":false},{"$f":"AD354","v":false},false,false,{"$f":"AG354","v":false},{"$f":"IF(AND(NOT(AA353),OR(AF353,AH353)),$F$11,NA())","v":{"$error":"#N/A"}},23.251899999999999,93.007599999999996,99.951999999999984,100.97999999999999,99.252500000000012,null,{"$f":"OFFSET(InputIndexData!F$15,CalculationsAndCharts!$A353+$A$11,IF($C$7,8,0),1,1)","v":177.53},163.16200000000001,1,1,true,null,{"$f":"IF(AT353,$AR$26,NA())","v":212},{"$f":"IF(AT353,NA(),$AR$26)","v":{"$error":"#N/A"}}]
[322,{"$f":"OFFSET(InputPriceData!B$15,CalculationsAndCharts!$A354+$A$11,0,1,1)","v":"2014-01-08"},{"$f":"OFFSET(InputPriceData!G$15,CalculationsAndCharts!$A354+$A$11,IF($C$7,8,0),1,1)","v":2332700},{"$f":"OFFSET(InputPriceData!C$15,CalculationsAndCharts!$A354+$A$11,IF($C$7,8,0),1,1)","v":99.33},{"$f":"OFFSET(InputPriceData!D$15,CalculationsAndCharts!$A354+$A$11,IF($C$7,8,0),1,1)","v":99.33},{"$f":"OFFSET(InputPriceData!E$15,CalculationsAndCharts!$A354+$A$11,IF($C$7,8,0),1,1)","v":97.64},{"$f":"OFFSET(InputPriceData!F$15,CalculationsAndCharts!$A354+$A$11,IF($C$7,8,0),1,1)","v":98.09},22.763500000000004,91.054000000000016,100.16749999999999,101.4225,99.72,{"$f":"IF(D354<=G354,C354,NA())","v":{"$error":"#N/A"}},{"$f":"IF(D354<=G354,NA(),C354)","v":2332700},false,"DOWN",false,{"$error":"#N/A"},{"$error":"#N/A"},{"$f":"AND(OR(NOT($R$11),AT354),OR(NOT($R$12),J354>=I354),OR(NOT($R$13),I354>=H354),OR(NOT($R$14),G354>=I354))","v":true},false,false,false,false,false,{"$error":"#N/A"},false,{"$error":"#N/A"},{"$f":"AND(   OR(NOT($R$11),NOT(AT354)),   OR(NOT($R$12),J354<=I354),   OR(NOT($R$13),I354<=H354),   OR(NOT($R$14),G354<=I354)   )","v":false},false,false,{"$f":"IF(AE354,TRUE,IF(AG355,FALSE,AF355))","v":false},{"$f":"AND(AF354,O354)","v":false},false,{"$error":"#N/A"},{"$f":"IF($R$3,H354,NA())","v":22.763500000000004},{"$f":"IF($R$4,I354,NA())","v":91.054000000000016},{"$f":"IF($R$5,J354,NA())","v":100.16749999999999},{"$f":"IF($R$6,K354,NA())","v":101.4225},{"$f":"IF($R$6,L354,NA())","v":99.72},null,{"$f":"OFFSET(InputIndexData!F$15,CalculationsAndCharts!$A354+$A$11,IF($C$7,8,0),1,1)","v":177.41},{"$f":"AVERAGE(OFFSET(AP354,0,0,$D$17,1))","v":159.6114},{"$f":"IF(AQ354-AQ355>=0,1,-1)","v":1},{"$f":"AVERAGE(OFFSET(AR354,0,0,$D$18,1))","v":1},{"$f":"OR(AS354>0,AND(AS354=0,AS355>0))","v":true},null,212,{"$error":"#N/A"}]
[323,{"$f":"OFFSET(InputPriceData!B$15,CalculationsAndCharts!$A355+$A$11,0,1,1)","v":"2014-01-07"},{"$f":"OFFSET(InputPriceData!G$15,CalculationsAndCharts!$A355+$A$11,IF($C$7,8,0),1,1)","v":2561700},{"$f":"OFFSET(InputPriceData!C$15,CalculationsAndCharts!$A355+$A$11,IF($C$7,8,0),1,1)","v":97.42},{"$f":"OFFSET(InputPriceData!D$15,CalculationsAndCharts!$A355+$A$11,IF($C$7,8,0),1,1)","v":100.01},{"$f":"OFFSET(InputPriceData!E$15,CalculationsAndCharts!$A355+$A$11,IF($C$7,8,0),1,1)","v":97.2},{"$f":"OFFSET(InputPriceData!F$15,CalculationsAndCharts!$A355+$A$11,IF($C$7,8,0),1,1)","v":99.22},22.273050000000001,89.092200000000005,100.40149999999998,101.77374999999999,100.16874999999999,2561700,{"$error":"#N/A"},false,"DOWN",false,{"$error":"#N/A"},{"$error":"#N/A"},true,false,false,false,false,false,{"$error":"#N/A"},false,{"$error":"#N/A"},false,false,false,false,false,false,{"$error":"#N/A"},22.273050000000001,89.092200000000005,100.40149999999998,101.77374999999999,100.16874999999999,null,{"$f":"OFFSET(InputIndexData!F$15,CalculationsAndCharts!$A355+$A$11,IF($C$7,8,0),1,1)","v":177.37},156.06320000000002,1,1,true,null,212,{"$error":"#N/A"}]
[324,{"$f":"OFFSET(InputPriceData!B$15,CalculationsAndCharts!$A356+$A$11,0,1,1)","v":"2014-01-06"},{"$f":"OFFSET(InputPriceData!G$15,CalculationsAndCharts!$A356+$A$11,IF($C$7,8,0),1,1)","v":1850200},{"$f":"OFFSET(InputPriceData!C$15,CalculationsAndCharts!$A356+$A$11,IF($C$7,8,0),1,1)","v":100.95},{"$f":"OFFSET(InputPriceData!D$15,CalculationsAndCharts!$A356+$A$11,IF($C$7,8,0),1,1)","v":101.03},{"$f":"OFFSET(InputPriceData!E$15,CalculationsAndCharts!$A356+$A$11,IF($C$7,8,0),1,1)","v":98.64},{"$f":"OFFSET(InputPriceData!F$15,CalculationsAndCharts!$A356+$A$11,IF($C$7,8,0),1,1)","v":99.43},21.776950000000003,87.107800000000012,100.5585,102.04124999999999,100.7,{"$error":"#N/A"},1850200,false,"DOWN",false,{"$error":"#N/A"},{"$error":"#N/A"},true,false,false,false,false,true,189.20000000000002,false,{"$error":"#N/A"},false,false,false,false,false,false,{"$error":"#N/A"},21.776950000000003,87.107800000000012,100.5585,102.04124999999999,100.7,null,{"$f":"OFFSET(InputIndexData!F$15,CalculationsAndCharts!$A356+$A$11,IF($C$7,8,0),1,1)","v":176.29},152.51580000000001,1,1,true,null,212,{"$error":"#N/A"}]
[325,{"$f":"OFFSET(InputPriceData!B$15,CalculationsAndCharts!$A357+$A$11,0,1,1)","v":"2014-01-03"},{"$f":"OFFSET(InputPriceData!G$15,CalculationsAndCharts!$A357+$A$11,IF($C$7,8,0),1,1)","v":1234400},{"$f":"OFFSET(InputPriceData!C$15,CalculationsAndCharts!$A357+$A$11,IF($C$7,8,0),1,1)","v":101.5},{"$f":"OFFSET(InputPriceData!D$15,CalculationsAndCharts!$A357+$A$11,IF($C$7,8,0),1,1)","v":101.68},{"$f":"OFFSET(InputPriceData!E$15,CalculationsAndCharts!$A357+$A$11,IF($C$7,8,0),1,1)","v":100.24},{"$f":"OFFSET(InputPriceData!F$15,CalculationsAndCharts!$A357+$A$11,IF($C$7,8,0),1,1)","v":100.42},21.279799999999994,85.119199999999978,100.60199999999998,102.15750000000001,100.92125,{"$error":"#N/A"},1234400,false,"DOWN",true,{"$error":"#N/A"},100.42,true,false,false,true,true,false,189.20000000000002,false,{"$error":"#N/A"},false,false,false,false,false,false,{"$error":"#N/A"},21.279799999999994,85.119199999999978,100.60199999999998,102.15750000000001,100.92125,null,{"$f":"OFFSET(InputIndexData!F$15,CalculationsAndCharts!$A357+$A$11,IF($C$7,8,0),1,1)","v":176.8},148.99,1,1,true,null,212,{"$error":"#N/A"}]
[326,{"$f":"OFFSET(InputPriceData!B$15,CalculationsAndCharts!$A358+$A$11,0,1,1)","v":"2014-01-02"},{"$f":"OFFSET(InputPriceData!G$15,CalculationsAndCharts!$A358+$A$11,IF($C$7,8,0),1,1)","v":1393500},{"$f":"OFFSET(InputPriceData!C$15,CalculationsAndCharts!$A358+$A$11,IF($C$7,8,0),1,1)","v":101.4},{"$f":"OFFSET(InputPriceData!D$15,CalculationsAndCharts!$A358+$A$11,IF($C$7,8,0),1,1)","v":102.51},{"$f":"OFFSET(InputPriceData!E$15,CalculationsAndCharts!$A358+$A$11,IF($C$7,8,0),1,1)","v":100.95},{"$f":"OFFSET(InputPriceData!F$15,CalculationsAndCharts!$A358+$A$11,IF($C$7,8,0),1,1)","v":101.48},20.777699999999999,83.110799999999998,100.68699999999998,102.06875000000001,100.83,1393500,{"$error":"#N/A"},false,"UP",false,{"$error":"#N/A"},{"$error":"#N/A"},true,false,false,true,false,false,189.20000000000002,false,{"$error":"#N/A"},false,false,false,false,false,false,{"$error":"#N/A"},20.777699999999999,83.110799999999998,100.68699999999998,102.06875000000001,100.83,null,{"$f":"OFFSET(InputIndexData!F$15,CalculationsAndCharts!$A358+$A$11,IF($C$7,8,0),1,1)","v":176.83},145.45400000000004,1,1,true,null,212,{"$error":"#N/A"}]
[327,{"$f":"OFFSET(InputPriceData!B$15,CalculationsAndCharts!$A359+$A$11,0,1,1)","v":"2013-12-31"},{"$f":"OFFSET(InputPriceData!G$15,CalculationsAndCharts!$A359+$A$11,IF($C$7,8,0),1,1)","v":856800},{"$f":"OFFSET(InputPriceData!C$15,CalculationsAndCharts!$A359+$A$11,IF($C$7,8,0),1,1)","v":101.31},{"$f":"OFFSET(InputPriceData!D$15,CalculationsAndCharts!$A359+$A$11,IF($C$7,8,0),1,1)","v":102.16},{"$f":"OFFSET(InputPriceData!E$15,CalculationsAndCharts!$A359+$A$11,IF($C$7,8,0),1,1)","v":100.7},{"$f":"OFFSET(InputPriceData!F$15,CalculationsAndCharts!$A359+$A$11,IF($C$7,8,0),1,1)","v":101.86},20.270299999999995,81.081199999999981,100.76849999999999,101.78625000000001,100.41500000000001,856800,{"$error":"#N/A"},false,"UP",false,{"$error":"#N/A"},{"$error":"#N/A"},true,false,false,true,false,false,189.20000000000002,false,{"$error":"#N/A"},false,false,false,false,false,false,{"$error":"#N/A"},20.270299999999995,81.081199999999981,100.76849999999999,101.78625000000001,100.41500000000001,null,{"$f":"OFFSET(InputIndexData!F$15,CalculationsAndCharts!$A359+$A$11,IF($C$7,8,0),1,1)","v":178.54},141.91740000000001,1,1,true,null,212,{"$error":"#N/A"}]
[328,{"$f":"OFFSET(InputPriceData!B$15,CalculationsAndCharts!$A360+$A$11,0,1,1)","v":"2013-12-30"},{"$f":"OFFSET(InputPriceData!G$15,CalculationsAndCharts!$A360+$A$11,IF($C$7,8,0),1,1)","v":553100},{"$f":"OFFSET(InputPriceData!C$15,CalculationsAndCharts!$A360+$A$11,IF($C$7,8,0),1,1)","v":101.79},{"$f":"OFFSET(InputPriceData!D$15,CalculationsAndCharts!$A360+$A$11,IF($C$7,8,0),1,1)","v":102.05},{"$f":"OFFSET(InputPriceData!E$15,CalculationsAndCharts!$A360+$A$11,IF($C$7,8,0),1,1)","v":100.97},{"$f":"OFFSET(InputPriceData!F$15,CalculationsAndCharts!$A360+$A$11,IF($C$7,8,0),1,1)","v":101.13},19.760999999999996,79.043999999999983,100.85499999999998,101.455,99.960000000000008,{"$error":"#N/A"},553100,false,"UP",false,{"$error":"#N/A"},{"$error":"#N/A"},true,false,false,true,false,false,189.20000000000002,false,{"$f":"IF(AA360,$F$11,NA())","v":{"$error":"#N/A"}},false,false,false,false,false,false,{"$error":"#N/A"},19.760999999999996,79.043999999999983,100.85499999999998,101.455,99.960000000000008,null,{"$f":"OFFSET(InputIndexData!F$15,CalculationsAndCharts!$A360+$A$11,IF($C$7,8,0),1,1)","v":177.7},138.34660000000002,1,1,true,null,212,{"$error":"#N/A"}]
[329,{"$f":"OFFSET(InputPriceData!B$15,CalculationsAndCharts!$A361+$A$11,0,1,1)","v":"2013-12-27"},{"$f":"OFFSET(InputPriceData!G$15,CalculationsAndCharts!$A361+$A$11,IF($C$7,8,0),1,1)","v":480400},{"$f":"OFFSET(InputPriceData!C$15,CalculationsAndCharts!$A361+$A$11,IF($C$7,8,0),1,1)","v":101.81},{"$f":"OFFSET(InputPriceData!D$15,CalculationsAndCharts!$A361+$A$11,IF($C$7,8,0),1,1)","v":102.61},{"$f":"OFFSET(InputPriceData!E$15,CalculationsAndCharts!$A361+$A$11,IF($C$7,8,0),1,1)","v":101.42},{"$f":"OFFSET(InputPriceData!F$15,CalculationsAndCharts!$A361+$A$11,IF($C$7,8,0),1,1)","v":101.69},19.255349999999996,77.021399999999986,100.91599999999998,101.03249999999998,99.48875000000001,{"$error":"#N/A"},480400,false,"UP",false,{"$f":"IF(O361,G361,NA())","v":{"$error":"#N/A"}},{"$f":"IF(Q361,G361,NA())","v":{"$error":"#N/A"}},true,false,false,true,false,false,189.20000000000002,false,{"$error":"#N/A"},false,false,false,false,false,false,{"$error":"#N/A"},19.255349999999996,77.021399999999986,100.91599999999998,101.03249999999998,99.48875000000001,null,{"$f":"OFFSET(InputIndexData!F$15,CalculationsAndCharts!$A361+$A$11,IF($C$7,8,0),1,1)","v":177.73},134.79259999999999,1,1,true,null,212,{"$error":"#N/A"}]
[330,{"$f":"OFFSET(InputPriceData!B$15,CalculationsAndCharts!$A362+$A$11,0,1,1)","v":"2013-12-26"},{"$f":"OFFSET(InputPriceData!G$15,CalculationsAndCharts!$A362+$A$11,IF($C$7,8,0),1,1)","v":403300},{"$f":"OFFSET(InputPriceData!C$15,CalculationsAndCharts!$A362+$A$11,IF($C$7,8,0),1,1)","v":101.66},{"$f":"OFFSET(InputPriceData!D$15,CalculationsAndCharts!$A362+$A$11,IF($C$7,8,0),1,1)","v":102.14},{"$f":"OFFSET(InputPriceData!E$15,CalculationsAndCharts!$A362+$A$11,IF($C$7,8,0),1,1)","v":101.23},{"$f":"OFFSET(InputPriceData!F$15,CalculationsAndCharts!$A362+$A$11,IF($C$7,8,0),1,1)","v":101.9},18.746899999999997,74.987599999999986,100.93849999999999,100.61375,98.990000000000009,403300,{"$error":"#N/A"},false,"UP",false,{"$error":"#N/A"},{"$error":"#N/A"},true,false,false,true,false,false,189.20000000000002,false,{"$error":"#N/A"},false,false,false,false,false,false,{"$error":"#N/A"},18.746899999999997,74.987599999999986,100.93849999999999,100.61375,98.990000000000009,null,{"$f":"OFFSET(InputIndexData!F$15,CalculationsAndCharts!$A362+$A$11,IF($C$7,8,0),1,1)","v":177.74},131.238,1,1,true,null,212,{"$error":"#N/A"}]
[331,{"$f":"OFFSET(InputPriceData!B$15,CalculationsAndCharts!$A363+$A$11,0,1,1)","v":"2013-12-24"},{"$f":"OFFSET(InputPriceData!G$15,CalculationsAndCharts!$A363+$A$11,IF($C$7,8,0),1,1)","v":351400},{"$f":"OFFSET(InputPriceData!C$15,CalculationsAndCharts!$A363+$A$11,IF($C$7,8,0),1,1)","v":101.58},{"$f":"OFFSET(InputPriceData!D$15,CalculationsAndCharts!$A363+$A$11,IF($C$7,8,0),1,1)","v":102.15},{"$f":"OFFSET(InputPriceData!E$15,CalculationsAndCharts!$A363+$A$11,IF($C$7,8,0),1,1)","v":101.45},{"$f":"OFFSET(InputPriceData!F$15,CalculationsAndCharts!$A363+$A$11,IF($C$7,8,0),1,1)","v":101.63},18.237399999999997,72.94959999999999,100.95599999999999,100.39874999999999,98.592500000000001,351400,{"$error":"#N/A"},false,"UP",false,{"$error":"#N/A"},{"$error":"#N/A"},true,false,true,true,false,false,189.20000000000002,false,{"$error":"#N/A"},false,false,false,false,false,false,{"$error":"#N/A"},18.237399999999997,72.94959999999999,100.95599999999999,100.39874999999999,98.592500000000001,null,{"$f":"OFFSET(InputIndexData!F$15,CalculationsAndCharts!$A363+$A$11,IF($C$7,8,0),1,1)","v":176.84},127.6832,1,1,true,null,212,{"$error":"#N/A"}]
[332,{"$f":"OFFSET(InputPriceData!B$15,CalculationsAndCharts!$A364+$A$11,0,1,1)","v":"2013-12-23"},{"$f":"OFFSET(InputPriceData!G$15,CalculationsAndCharts!$A364+$A$11,IF($C$7,8,0),1,1)","v":714200},{"$f":"OFFSET(InputPriceData!C$15,CalculationsAndCharts!$A364+$A$11,IF($C$7,8,0),1,1)","v":100.77},{"$f":"OFFSET(InputPriceData!D$15,CalculationsAndCharts!$A364+$A$11,IF($C$7,8,0),1,1)","v":101.96},{"$f":"OFFSET(InputPriceData!E$15,CalculationsAndCharts!$A364+$A$11,IF($C$7,8,0),1,1)","v":100.41},{"$f":"OFFSET(InputPriceData!F$15,CalculationsAndCharts!$A364+$A$11,IF($C$7,8,0),1,1)","v":101.44},17.729249999999993,70.916999999999973,100.96699999999997,100.22749999999999,98.176249999999996,714200,{"$error":"#N/A"},true,"UP",false,101.44,{"$error":"#N/A"},true,true,false,false,false,false,{"$error":"#N/A"},false,{"$error":"#N/A"},false,false,false,false,false,false,{"$error":"#N/A"},17.729249999999993,70.916999999999973,100.96699999999997,100.22749999999999,98.176249999999996,null,{"$f":"OFFSET(InputIndexData!F$15,CalculationsAndCharts!$A364+$A$11,IF($C$7,8,0),1,1)","v":176.46},124.1464,1,1,true,null,212,{"$error":"#N/A"}]
[333,{"$f":"OFFSET(InputPriceData!B$15,CalculationsAndCharts!$A365+$A$11,0,1,1)","v":"2013-12-20"},{"$f":"OFFSET(InputPriceData!G$15,CalculationsAndCharts!$A365+$A$11,IF($C$7,8,0),1,1)","v":1065000},{"$f":"OFFSET(InputPriceData!C$15,CalculationsAndCharts!$A365+$A$11,IF($C$7,8,0),1,1)","v":100.34},{"$f":"OFFSET(InputPriceData!D$15,CalculationsAndCharts!$A365+$A$11,IF($C$7,8,0),1,1)","v":100.97},{"$f":"OFFSET(InputPriceData!E$15,CalculationsAndCharts!$A365+$A$11,IF($C$7,8,0),1,1)","v":99.51},{"$f":"OFFSET(InputPriceData!F$15,CalculationsAndCharts!$A365+$A$11,IF($C$7,8,0),1,1)","v":100.28},17.222049999999996,68.888199999999983,100.87749999999997,100.36875000000001,98.136250000000004,{"$error":"#N/A"},1065000,false,"DOWN",false,{"$error":"#N/A"},{"$error":"#N/A"},true,false,false,false,false,false,{"$error":"#N/A"},false,{"$error":"#N/A"},false,false,false,false,false,false,{"$error":"#N/A"},17.222049999999996,68.888199999999983,100.87749999999997,100.36875000000001,98.136250000000004,null,{"$f":"OFFSET(InputIndexData!F$15,CalculationsAndCharts!$A365+$A$11,IF($C$7,8,0),1,1)","v":175.52},120.6172,1,1,true,null,212,{"$error":"#N/A"}]
[334,{"$f":"OFFSET(InputPriceData!B$15,CalculationsAndCharts!$A366+$A$11,0,1,1)","v":"2013-12-19"},{"$f":"OFFSET(InputPriceData!G$15,CalculationsAndCharts!$A366+$A$11,IF($C$7,8,0),1,1)","v":1853600},{"$f":"OFFSET(InputPriceData!C$15,CalculationsAndCharts!$A366+$A$11,IF($C$7,8,0),1,1)","v":98.64},{"$f":"OFFSET(InputPriceData!D$15,CalculationsAndCharts!$A366+$A$11,IF($C$7,8,0),1,1)","v":100.25},{"$f":"OFFSET(InputPriceData!E$15,CalculationsAndCharts!$A366+$A$11,IF($C$7,8,0),1,1)","v":97.63},{"$f":"OFFSET(InputPriceData!F$15,CalculationsAndCharts!$A366+$A$11,IF($C$7,8,0),1,1)","v":100.08},16.720649999999999,66.882599999999996,100.77099999999999,100.6,98.423750000000013,1853600,{"$error":"#N/A"},false,"DOWN",false,{"$error":"#N/A"},{"$error":"#N/A"},true,false,false,false,false,false,{"$error":"#N/A"},false,{"$error":"#N/A"},false,false,false,false,false,false,{"$error":"#N/A"},16.720649999999999,66.882599999999996,100.77099999999999,100.6,98.423750000000013,null,{"$f":"OFFSET(InputIndexData!F$15,CalculationsAndCharts!$A366+$A$11,IF($C$7,8,0),1,1)","v":174.5},117.10679999999998,1,1,true,null,212,{"$error":"#N/A"}]
[335,{"$f":"OFFSET(InputPriceData!B$15,CalculationsAndCharts!$A367+$A$11,0,1,1)","v":"2013-12-18"},{"$f":"OFFSET(InputPriceData!G$15,CalculationsAndCharts!$A367+$A$11,IF($C$7,8,0),1,1)","v":992700},{"$f":"OFFSET(InputPriceData!C$15,CalculationsAndCharts!$A367+$A$11,IF($C$7,8,0),1,1)","v":98.06},{"$f":"OFFSET(InputPriceData!D$15,CalculationsAndCharts!$A367+$A$11,IF($C$7,8,0),1,1)","v":99.51},{"$f":"OFFSET(InputPriceData!E$15,CalculationsAndCharts!$A367+$A$11,IF($C$7,8,0),1,1)","v":97.06},{"$f":"OFFSET(InputPriceData!F$15,CalculationsAndCharts!$A367+$A$11,IF($C$7,8,0),1,1)","v":99.14},16.22025,64.881,100.702,100.97999999999999,98.987499999999997,992700,{"$error":"#N/A"},false,"DOWN",false,{"$error":"#N/A"},{"$error":"#N/A"},true,false,false,false,false,false,{"$error":"#N/A"},false,{"$error":"#N/A"},false,false,false,false,false,false,{"$error":"#N/A"},16.22025,64.881,100.702,100.97999999999999,98.987499999999997,null,{"$f":"OFFSET(InputIndexData!F$15,CalculationsAndCharts!$A367+$A$11,IF($C$7,8,0),1,1)","v":174.7},113.61679999999998,1,1,true,null,212,{"$error":"#N/A"}]
[336,{"$f":"OFFSET(InputPriceData!B$15,CalculationsAndCharts!$A368+$A$11,0,1,1)","v":"2013-12-17"},{"$f":"OFFSET(InputPriceData!G$15,CalculationsAndCharts!$A368+$A$11,IF($C$7,8,0),1,1)","v":763100},{"$f":"OFFSET(InputPriceData!C$15,CalculationsAndCharts!$A368+$A$11,IF($C$7,8,0),1,1)","v":98.6},{"$f":"OFFSET(InputPriceData!D$15,CalculationsAndCharts!$A368+$A$11,IF($C$7,8,0),1,1)","v":98.67},{"$f":"OFFSET(InputPriceData!E$15,CalculationsAndCharts!$A368+$A$11,IF($C$7,8,0),1,1)","v":97.2},{"$f":"OFFSET(InputPriceData!F$15,CalculationsAndCharts!$A368+$A$11,IF($C$7,8,0),1,1)","v":97.51},15.724549999999999,62.898199999999996,100.59899999999999,101.35499999999999,99.511250000000004,{"$error":"#N/A"},763100,false,"DOWN",false,{"$error":"#N/A"},{"$error":"#N/A"},true,false,false,false,false,false,{"$error":"#N/A"},{"$f":"AND(OR(W368,Y368),OR(AF368,AH368))","v":false},{"$error":"#N/A"},false,false,false,false,false,false,{"$error":"#N/A"},15.724549999999999,62.898199999999996,100.59899999999999,101.35499999999999,99.511250000000004,null,{"$f":"OFFSET(InputIndexData!F$15,CalculationsAndCharts!$A368+$A$11,IF($C$7,8,0),1,1)","v":171.77},110.12279999999998,1,1,true,null,212,{"$error":"#N/A"}]
[337,{"$f":"OFFSET(InputPriceData!B$15,CalculationsAndCharts!$A369+$A$11,0,1,1)","v":"2013-12-16"},{"$f":"OFFSET(InputPriceData!G$15,CalculationsAndCharts!$A369+$A$11,IF($C$7,8,0),1,1)","v":907700},{"$f":"OFFSET(InputPriceData!C$15,CalculationsAndCharts!$A369+$A$11,IF($C$7,8,0),1,1)","v":98.32},{"$f":"OFFSET(InputPriceData!D$15,CalculationsAndCharts!$A369+$A$11,IF($C$7,8,0),1,1)","v":99.26},{"$f":"OFFSET(InputPriceData!E$15,CalculationsAndCharts!$A369+$A$11,IF($C$7,8,0),1,1)","v":97.43},{"$f":"OFFSET(InputPriceData!F$15,CalculationsAndCharts!$A369+$A$11,IF($C$7,8,0),1,1)","v":98.53},15.237,60.948,100.5775,101.82375,99.887500000000017,907700,{"$error":"#N/A"},false,"DOWN",false,{"$error":"#N/A"},{"$error":"#N/A"},true,false,false,false,false,false,{"$error":"#N/A"},false,{"$error":"#N/A"},false,false,false,false,false,false,{"$error":"#N/A"},15.237,60.948,100.5775,101.82375,99.887500000000017,null,{"$f":"OFFSET(InputIndexData!F$15,CalculationsAndCharts!$A369+$A$11,IF($C$7,8,0),1,1)","v":172.32},106.68739999999998,1,1,true,null,212,{"$error":"#N/A"}]
[338,{"$f":"OFFSET(InputPriceData!B$15,CalculationsAndCharts!$A370+$A$11,0,1,1)","v":"2013-12-13"},{"$f":"OFFSET(InputPriceData!G$15,CalculationsAndCharts!$A370+$A$11,IF($C$7,8,0),1,1)","v":862000},{"$f":"OFFSET(InputPriceData!C$15,CalculationsAndCharts!$A370+$A$11,IF($C$7,8,0),1,1)","v":99.26},{"$f":"OFFSET(InputPriceData!D$15,CalculationsAndCharts!$A370+$A$11,IF($C$7,8,0),1,1)","v":100.42},{"$f":"OFFSET(InputPriceData!E$15,CalculationsAndCharts!$A370+$A$11,IF($C$7,8,0),1,1)","v":98.05},{"$f":"OFFSET(InputPriceData!F$15,CalculationsAndCharts!$A370+$A$11,IF($C$7,8,0),1,1)","v":98.33},14.744349999999999,58.977399999999996,100.48699999999999,102.30125,100.31250000000001,{"$error":"#N/A"},862000,false,"DOWN",false,{"$error":"#N/A"},{"$error":"#N/A"},true,false,false,false,false,false,{"$error":"#N/A"},false,{"$error":"#N/A"},false,false,false,false,false,false,{"$error":"#N/A"},14.744349999999999,58.977399999999996,100.48699999999999,102.30125,100.31250000000001,null,{"$f":"OFFSET(InputIndexData!F$15,CalculationsAndCharts!$A370+$A$11,IF($C$7,8,0),1,1)","v":171.25},103.241,1,1,true,null,212,{"$error":"#N/A"}]
[339,{"$f":"OFFSET(InputPriceData!B$15,CalculationsAndCharts!$A371+$A$11,0,1,1)","v":"2013-12-12"},{"$f":"OFFSET(InputPriceData!G$15,CalculationsAndCharts!$A371+$A$11,IF($C$7,8,0),1,1)","v":1482500},{"$f":"OFFSET(InputPriceData!C$15,CalculationsAndCharts!$A371+$A$11,IF($C$7,8,0),1,1)","v":100.07},{"$f":"OFFSET(InputPriceData!D$15,CalculationsAndCharts!$A371+$A$11,IF($C$7,8,0),1,1)","v":100.78},{"$f":"OFFSET(InputPriceData!E$15,CalculationsAndCharts!$A371+$A$11,IF($C$7,8,0),1,1)","v":98.12},{"$f":"OFFSET(InputPriceData!F$15,CalculationsAndCharts!$A371+$A$11,IF($C$7,8,0),1,1)","v":98.88},14.252699999999999,57.010799999999996,100.3665,102.68125000000001,100.83875,{"$error":"#N/A"},1482500,false,"DOWN",false,{"$error":"#N/A"},{"$error":"#N/A"},true,false,false,false,false,{"$f":"X372","v":false},{"$error":"#N/A"},false,{"$error":"#N/A"},false,false,false,false,false,false,{"$error":"#N/A"},14.252699999999999,57.010799999999996,100.3665,102.68125000000001,100.83875,null,{"$f":"OFFSET(InputIndexData!F$15,CalculationsAndCharts!$A371+$A$11,IF($C$7,8,0),1,1)","v":171.27},99.816000000000003,1,1,true,null,212,{"$error":"#N/A"}]
[340,{"$f":"OFFSET(InputPriceData!B$15,CalculationsAndCharts!$A372+$A$11,0,1,1)","v":"2013-12-11"},{"$f":"OFFSET(InputPriceData!G$15,CalculationsAndCharts!$A372+$A$11,IF($C$7,8,0),1,1)","v":1627900},{"$f":"OFFSET(InputPriceData!C$15,CalculationsAndCharts!$A372+$A$11,IF($C$7,8,0),1,1)","v":102.35},{"$f":"OFFSET(InputPriceData!D$15,CalculationsAndCharts!$A372+$A$11,IF($C$7,8,0),1,1)","v":103.09},{"$f":"OFFSET(InputPriceData!E$15,CalculationsAndCharts!$A372+$A$11,IF($C$7,8,0),1,1)","v":100.09},{"$f":"OFFSET(InputPriceData!F$15,CalculationsAndCharts!$A372+$A$11,IF($C$7,8,0),1,1)","v":100.32},13.758299999999998,55.033199999999994,100.17500000000001,103.10000000000001,101.345,{"$error":"#N/A"},1627900,false,"DOWN",false,{"$error":"#N/A"},{"$error":"#N/A"},true,false,false,false,false,false,{"$error":"#N/A"},false,{"$error":"#N/A"},false,false,false,false,false,false,{"$error":"#N/A"},13.758299999999998,55.033199999999994,100.17500000000001,103.10000000000001,101.345,null,{"$f":"OFFSET(InputIndexData!F$15,CalculationsAndCharts!$A372+$A$11,IF($C$7,8,0),1,1)","v":171.84},96.390600000000006,1,1,true,null,212,{"$error":"#N/A"}]
[341,{"$f":"OFFSET(InputPriceData!B$15,CalculationsAndCharts!$A373+$A$11,0,1,1)","v":"2013-12-10"},{"$f":"OFFSET(InputPriceData!G$15,CalculationsAndCharts!$A373+$A$11,IF($C$7,8,0),1,1)","v":1061300},{"$f":"OFFSET(InputPriceData!C$15,CalculationsAndCharts!$A373+$A$11,IF($C$7,8,0),1,1)","v":102.4},{"$f":"OFFSET(InputPriceData!D$15,CalculationsAndCharts!$A373+$A$11,IF($C$7,8,0),1,1)","v":102.82},{"$f":"OFFSET(InputPriceData!E$15,CalculationsAndCharts!$A373+$A$11,IF($C$7,8,0),1,1)","v":101.81},{"$f":"OFFSET(InputPriceData!F$15,CalculationsAndCharts!$A373+$A$11,IF($C$7,8,0),1,1)","v":101.99},13.256699999999999,53.026799999999994,99.902000000000001,103.09375,101.60499999999999,{"$error":"#N/A"},1061300,false,"DOWN",false,{"$error":"#N/A"},{"$error":"#N/A"},true,false,false,false,false,false,{"$error":"#N/A"},false,{"$error":"#N/A"},false,false,false,false,false,false,{"$error":"#N/A"},13.256699999999999,53.026799999999994,99.902000000000001,103.09375,101.60499999999999,null,{"$f":"OFFSET(InputIndexData!F$15,CalculationsAndCharts!$A373+$A$11,IF($C$7,8,0),1,1)","v":173.79},92.953800000000015,1,1,true,null,212,{"$error":"#N/A"}]
[342,{"$f":"OFFSET(InputPriceData!B$15,CalculationsAndCharts!$A374+$A$11,0,1,1)","v":"2013-12-09"},{"$f":"OFFSET(InputPriceData!G$15,CalculationsAndCharts!$A374+$A$11,IF($C$7,8,0),1,1)","v":1004400},{"$f":"OFFSET(InputPriceData!C$15,CalculationsAndCharts!$A374+$A$11,IF($C$7,8,0),1,1)","v":102.14},{"$f":"OFFSET(InputPriceData!D$15,CalculationsAndCharts!$A374+$A$11,IF($C$7,8,0),1,1)","v":103.29},{"$f":"OFFSET(InputPriceData!E$15,CalculationsAndCharts!$A374+$A$11,IF($C$7,8,0),1,1)","v":102.14},{"$f":"OFFSET(InputPriceData!F$15,CalculationsAndCharts!$A374+$A$11,IF($C$7,8,0),1,1)","v":102.77},12.746749999999997,50.986999999999988,99.533999999999992,103.04249999999999,101.55374999999998,1004400,{"$error":"#N/A"},false,"DOWN",false,{"$error":"#N/A"},{"$error":"#N/A"},true,false,false,false,false,false,{"$error":"#N/A"},false,{"$error":"#N/A"},false,false,false,false,false,false,{"$error":"#N/A"},12.746749999999997,50.986999999999988,99.533999999999992,103.04249999999999,101.55374999999998,null,{"$f":"OFFSET(InputIndexData!F$15,CalculationsAndCharts!$A374+$A$11,IF($C$7,8,0),1,1)","v":174.42},89.478000000000009,1,1,true,null,212,{"$error":"#N/A"}]
[343,{"$f":"OFFSET(InputPriceData!B$15,CalculationsAndCharts!$A375+$A$11,0,1,1)","v":"2013-12-06"},{"$f":"OFFSET(InputPriceData!G$15,CalculationsAndCharts!$A375+$A$11,IF($C$7,8,0),1,1)","v":1261800},{"$f":"OFFSET(InputPriceData!C$15,CalculationsAndCharts!$A375+$A$11,IF($C$7,8,0),1,1)","v":101.4},{"$f":"OFFSET(InputPriceData!D$15,CalculationsAndCharts!$A375+$A$11,IF($C$7,8,0),1,1)","v":102.51},{"$f":"OFFSET(InputPriceData!E$15,CalculationsAndCharts!$A375+$A$11,IF($C$7,8,0),1,1)","v":101.25},{"$f":"OFFSET(InputPriceData!F$15,CalculationsAndCharts!$A375+$A$11,IF($C$7,8,0),1,1)","v":102.36},12.232899999999997,48.931599999999989,99.08,102.99874999999997,101.505,1261800,{"$error":"#N/A"},false,"DOWN",false,{"$error":"#N/A"},{"$error":"#N/A"},true,false,false,false,false,true,189.20000000000002,false,{"$error":"#N/A"},false,false,false,false,false,false,{"$error":"#N/A"},12.232899999999997,48.931599999999989,99.08,102.99874999999997,101.505,null,{"$f":"OFFSET(InputIndexData!F$15,CalculationsAndCharts!$A375+$A$11,IF($C$7,8,0),1,1)","v":173.97},85.98960000000001,1,1,true,null,212,{"$error":"#N/A"}]
[344,{"$f":"OFFSET(InputPriceData!B$15,CalculationsAndCharts!$A376+$A$11,0,1,1)","v":"2013-12-05"},{"$f":"OFFSET(InputPriceData!G$15,CalculationsAndCharts!$A376+$A$11,IF($C$7,8,0),1,1)","v":1264500},{"$f":"OFFSET(InputPriceData!C$15,CalculationsAndCharts!$A376+$A$11,IF($C$7,8,0),1,1)","v":101.86},{"$f":"OFFSET(InputPriceData!D$15,CalculationsAndCharts!$A376+$A$11,IF($C$7,8,0),1,1)","v":102.42},{"$f":"OFFSET(InputPriceData!E$15,CalculationsAndCharts!$A376+$A$11,IF($C$7,8,0),1,1)","v":100.21},{"$f":"OFFSET(InputPriceData!F$15,CalculationsAndCharts!$A376+$A$11,IF($C$7,8,0),1,1)","v":100.3},11.721099999999996,46.884399999999985,98.660499999999985,102.91875,101.31750000000001,{"$error":"#N/A"},1264500,false,"DOWN",true,{"$error":"#N/A"},100.3,true,false,false,true,true,false,189.20000000000002,false,{"$error":"#N/A"},false,false,false,false,false,false,{"$error":"#N/A"},11.721099999999996,46.884399999999985,98.660499999999985,102.91875,101.31750000000001,null,{"$f":"OFFSET(InputIndexData!F$15,CalculationsAndCharts!$A376+$A$11,IF($C$7,8,0),1,1)","v":172.05},82.510199999999998,1,1,true,null,212,{"$error":"#N/A"}]
[345,{"$f":"OFFSET(InputPriceData!B$15,CalculationsAndCharts!$A377+$A$11,0,1,1)","v":"2013-12-04"},{"$f":"OFFSET(InputPriceData!G$15,CalculationsAndCharts!$A377+$A$11,IF($C$7,8,0),1,1)","v":1356600},{"$f":"OFFSET(InputPriceData!C$15,CalculationsAndCharts!$A377+$A$11,IF($C$7,8,0),1,1)","v":102.99},{"$f":"OFFSET(InputPriceData!D$15,CalculationsAndCharts!$A377+$A$11,IF($C$7,8,0),1,1)","v":103.08},{"$f":"OFFSET(InputPriceData!E$15,CalculationsAndCharts!$A377+$A$11,IF($C$7,8,0),1,1)","v":100.83},{"$f":"OFFSET(InputPriceData!F$15,CalculationsAndCharts!$A377+$A$11,IF($C$7,8,0),1,1)","v":102.12},11.219599999999998,44.878399999999992,98.363500000000002,102.61499999999999,101.065,{"$error":"#N/A"},1356600,false,"UP",false,{"$error":"#N/A"},{"$error":"#N/A"},true,false,false,true,false,false,189.20000000000002,false,{"$error":"#N/A"},false,false,false,false,false,false,{"$error":"#N/A"},11.219599999999998,44.878399999999992,98.363500000000002,102.61499999999999,101.065,null,{"$f":"OFFSET(InputIndexData!F$15,CalculationsAndCharts!$A377+$A$11,IF($C$7,8,0),1,1)","v":172.81},79.069199999999995,1,1,true,null,212,{"$error":"#N/A"}]
[346,{"$f":"OFFSET(InputPriceData!B$15,CalculationsAndCharts!$A378+$A$11,0,1,1)","v":"2013-12-03"},{"$f":"OFFSET(InputPriceData!G$15,CalculationsAndCharts!$A378+$A$11,IF($C$7,8,0),1,1)","v":1162500},{"$f":"OFFSET(InputPriceData!C$15,CalculationsAndCharts!$A378+$A$11,IF($C$7,8,0),1,1)","v":103.24},{"$f":"OFFSET(InputPriceData!D$15,CalculationsAndCharts!$A378+$A$11,IF($C$7,8,0),1,1)","v":103.46},{"$f":"OFFSET(InputPriceData!E$15,CalculationsAndCharts!$A378+$A$11,IF($C$7,8,0),1,1)","v":102.26},{"$f":"OFFSET(InputPriceData!F$15,CalculationsAndCharts!$A378+$A$11,IF($C$7,8,0),1,1)","v":103.11},10.709000000000001,42.836000000000006,97.881,102.23,100.7175,{"$error":"#N/A"},1162500,false,"UP",false,{"$error":"#N/A"},{"$error":"#N/A"},true,false,false,true,false,false,189.20000000000002,false,{"$error":"#N/A"},false,false,false,false,false,false,{"$error":"#N/A"},10.709000000000001,42.836000000000006,97.881,102.23,100.7175,null,{"$f":"OFFSET(InputIndexData!F$15,CalculationsAndCharts!$A378+$A$11,IF($C$7,8,0),1,1)","v":172.83},75.613,1,1,true,null,212,{"$error":"#N/A"}]
[347,{"$f":"OFFSET(InputPriceData!B$15,CalculationsAndCharts!$A379+$A$11,0,1,1)","v":"2013-12-02"},{"$f":"OFFSET(InputPriceData!G$15,CalculationsAndCharts!$A379+$A$11,IF($C$7,8,0),1,1)","v":993500},{"$f":"OFFSET(InputPriceData!C$15,CalculationsAndCharts!$A379+$A$11,IF($C$7,8,0),1,1)","v":102.37},{"$f":"OFFSET(InputPriceData!D$15,CalculationsAndCharts!$A379+$A$11,IF($C$7,8,0),1,1)","v":104.13},{"$f":"OFFSET(InputPriceData!E$15,CalculationsAndCharts!$A379+$A$11,IF($C$7,8,0),1,1)","v":102.17},{"$f":"OFFSET(InputPriceData!F$15,CalculationsAndCharts!$A379+$A$11,IF($C$7,8,0),1,1)","v":103.59},10.19345,40.773800000000001,97.357500000000002,101.77375000000001,100.0775,993500,{"$error":"#N/A"},false,"UP",false,{"$error":"#N/A"},{"$error":"#N/A"},true,false,false,true,false,false,189.20000000000002,false,{"$error":"#N/A"},false,false,false,false,false,false,{"$error":"#N/A"},10.19345,40.773800000000001,97.357500000000002,101.77375000000001,100.0775,null,{"$f":"OFFSET(InputIndexData!F$15,CalculationsAndCharts!$A379+$A$11,IF($C$7,8,0),1,1)","v":173.58},72.156399999999991,1,1,true,null,212,{"$error":"#N/A"}]
[348,{"$f":"OFFSET(InputPriceData!B$15,CalculationsAndCharts!$A380+$A$11,0,1,1)","v":"2013-11-29"},{"$f":"OFFSET(InputPriceData!G$15,CalculationsAndCharts!$A380+$A$11,IF($C$7,8,0),1,1)","v":427900},{"$f":"OFFSET(InputPriceData!C$15,CalculationsAndCharts!$A380+$A$11,IF($C$7,8,0),1,1)","v":102.17},{"$f":"OFFSET(InputPriceData!D$15,CalculationsAndCharts!$A380+$A$11,IF($C$7,8,0),1,1)","v":103.04},{"$f":"OFFSET(InputPriceData!E$15,CalculationsAndCharts!$A380+$A$11,IF($C$7,8,0),1,1)","v":102.17},{"$f":"OFFSET(InputPriceData!F$15,CalculationsAndCharts!$A380+$A$11,IF($C$7,8,0),1,1)","v":102.35},9.6754999999999995,38.701999999999998,96.754999999999995,100.98625,99.339999999999989,427900,{"$error":"#N/A"},false,"UP",false,{"$error":"#N/A"},{"$error":"#N/A"},true,false,false,true,false,false,189.20000000000002,false,{"$error":"#N/A"},false,false,false,false,false,false,{"$error":"#N/A"},9.6754999999999995,38.701999999999998,96.754999999999995,100.98625,99.339999999999989,null,{"$f":"OFFSET(InputIndexData!F$15,CalculationsAndCharts!$A380+$A$11,IF($C$7,8,0),1,1)","v":174.03},68.684799999999996,1,1,true,null,212,{"$error":"#N/A"}]
[349,{"$f":"OFFSET(InputPriceData!B$15,CalculationsAndCharts!$A381+$A$11,0,1,1)","v":"2013-11-27"},{"$f":"OFFSET(InputPriceData!G$15,CalculationsAndCharts!$A381+$A$11,IF($C$7,8,0),1,1)","v":1068400},{"$f":"OFFSET(InputPriceData!C$15,CalculationsAndCharts!$A381+$A$11,IF($C$7,8,0),1,1)","v":101.89},{"$f":"OFFSET(InputPriceData!D$15,CalculationsAndCharts!$A381+$A$11,IF($C$7,8,0),1,1)","v":102.41},{"$f":"OFFSET(InputPriceData!E$15,CalculationsAndCharts!$A381+$A$11,IF($C$7,8,0),1,1)","v":101.4},{"$f":"OFFSET(InputPriceData!F$15,CalculationsAndCharts!$A381+$A$11,IF($C$7,8,0),1,1)","v":102.14},9.1637500000000003,36.655000000000001,91.637500000000003,100.27625,98.582499999999996,1068400,{"$error":"#N/A"},false,"UP",false,{"$error":"#N/A"},{"$error":"#N/A"},true,false,false,true,false,false,189.20000000000002,false,{"$error":"#N/A"},false,false,false,false,false,false,{"$error":"#N/A"},9.1637500000000003,36.655000000000001,91.637500000000003,100.27625,98.582499999999996,null,{"$f":"OFFSET(InputIndexData!F$15,CalculationsAndCharts!$A381+$A$11,IF($C$7,8,0),1,1)","v":174.15},65.204199999999986,1,1,true,null,212,{"$error":"#N/A"}]
[350,{"$f":"OFFSET(InputPriceData!B$15,CalculationsAndCharts!$A382+$A$11,0,1,1)","v":"2013-11-26"},{"$f":"OFFSET(InputPriceData!G$15,CalculationsAndCharts!$A382+$A$11,IF($C$7,8,0),1,1)","v":1585700},{"$f":"OFFSET(InputPriceData!C$15,CalculationsAndCharts!$A382+$A$11,IF($C$7,8,0),1,1)","v":101.96},{"$f":"OFFSET(InputPriceData!D$15,CalculationsAndCharts!$A382+$A$11,IF($C$7,8,0),1,1)","v":102.94},{"$f":"OFFSET(InputPriceData!E$15,CalculationsAndCharts!$A382+$A$11,IF($C$7,8,0),1,1)","v":101.75},{"$f":"OFFSET(InputPriceData!F$15,CalculationsAndCharts!$A382+$A$11,IF($C$7,8,0),1,1)","v":102.25},8.6530500000000004,34.612200000000001,86.530500000000004,99.566250000000011,97.851249999999993,1585700,{"$error":"#N/A"},false,"UP",false,{"$error":"#N/A"},{"$error":"#N/A"},true,false,{"$f":"U383","v":false},true,false,false,189.20000000000002,false,{"$error":"#N/A"},false,false,false,false,false,false,{"$error":"#N/A"},8.6530500000000004,34.612200000000001,86.530500000000004,99.566250000000011,97.851249999999993,null,{"$f":"OFFSET(InputIndexData!F$15,CalculationsAndCharts!$A382+$A$11,IF($C$7,8,0),1,1)","v":173.72},61.721199999999989,1,1,true,null,212,{"$error":"#N/A"}]
[351,{"$f":"OFFSET(InputPriceData!B$15,CalculationsAndCharts!$A383+$A$11,0,1,1)","v":"2013-11-25"},{"$f":"OFFSET(InputPriceData!G$15,CalculationsAndCharts!$A383+$A$11,IF($C$7,8,0),1,1)","v":870900},{"$f":"OFFSET(InputPriceData!C$15,CalculationsAndCharts!$A383+$A$11,IF($C$7,8,0),1,1)","v":99.92},{"$f":"OFFSET(InputPriceData!D$15,CalculationsAndCharts!$A383+$A$11,IF($C$7,8,0),1,1)","v":101.87},{"$f":"OFFSET(InputPriceData!E$15,CalculationsAndCharts!$A383+$A$11,IF($C$7,8,0),1,1)","v":99.75},{"$f":"OFFSET(InputPriceData!F$15,CalculationsAndCharts!$A383+$A$11,IF($C$7,8,0),1,1)","v":101.85},8.1417999999999999,32.5672,81.418000000000006,98.715000000000003,97.024999999999991,870900,{"$error":"#N/A"},false,"UP",false,{"$error":"#N/A"},{"$error":"#N/A"},true,false,false,true,false,false,189.20000000000002,false,{"$error":"#N/A"},false,false,false,false,false,false,{"$error":"#N/A"},8.1417999999999999,32.5672,81.418000000000006,98.715000000000003,97.024999999999991,null,{"$f":"OFFSET(InputIndexData!F$15,CalculationsAndCharts!$A383+$A$11,IF($C$7,8,0),1,1)","v":173.68},58.246799999999993,1,1,true,null,212,{"$error":"#N/A"}]
[352,{"$f":"OFFSET(InputPriceData!B$15,CalculationsAndCharts!$A384+$A$11,0,1,1)","v":"2013-11-22"},{"$f":"OFFSET(InputPriceData!G$15,CalculationsAndCharts!$A384+$A$11,IF($C$7,8,0),1,1)","v":1628200},{"$f":"OFFSET(InputPriceData!C$15,CalculationsAndCharts!$A384+$A$11,IF($C$7,8,0),1,1)","v":98.22},{"$f":"OFFSET(InputPriceData!D$15,CalculationsAndCharts!$A384+$A$11,IF($C$7,8,0),1,1)","v":99.99},{"$f":"OFFSET(InputPriceData!E$15,CalculationsAndCharts!$A384+$A$11,IF($C$7,8,0),1,1)","v":98.19},{"$f":"OFFSET(InputPriceData!F$15,CalculationsAndCharts!$A384+$A$11,IF($C$7,8,0),1,1)","v":99.65},7.6325500000000002,30.530200000000001,76.325500000000005,97.865000000000009,96.309999999999988,1628200,{"$error":"#N/A"},false,"UP",false,{"$error":"#N/A"},{"$error":"#N/A"},true,false,false,true,false,false,189.20000000000002,false,{"$error":"#N/A"},false,false,false,false,false,false,{"$error":"#N/A"},7.6325500000000002,30.530200000000001,76.325500000000005,97.865000000000009,96.309999999999988,null,{"$f":"OFFSET(InputIndexData!F$15,CalculationsAndCharts!$A384+$A$11,IF($C$7,8,0),1,1)","v":173.85},54.773199999999989,1,1,true,null,212,{"$error":"#N/A"}]
[353,{"$f":"OFFSET(InputPriceData!B$15,CalculationsAndCharts!$A385+$A$11,0,1,1)","v":"2013-11-21"},{"$f":"OFFSET(InputPriceData!G$15,CalculationsAndCharts!$A385+$A$11,IF($C$7,8,0),1,1)","v":2007400},{"$f":"OFFSET(InputPriceData!C$15,CalculationsAndCharts!$A385+$A$11,IF($C$7,8,0),1,1)","v":98.61},{"$f":"OFFSET(InputPriceData!D$15,CalculationsAndCharts!$A385+$A$11,IF($C$7,8,0),1,1)","v":100},{"$f":"OFFSET(InputPriceData!E$15,CalculationsAndCharts!$A385+$A$11,IF($C$7,8,0),1,1)","v":98.05},{"$f":"OFFSET(InputPriceData!F$15,CalculationsAndCharts!$A385+$A$11,IF($C$7,8,0),1,1)","v":98.15},7.1342999999999996,28.537199999999999,71.342999999999989,97.253750000000011,95.797499999999999,{"$error":"#N/A"},2007400,false,"UP",false,{"$error":"#N/A"},{"$error":"#N/A"},true,false,false,true,false,false,189.20000000000002,false,{"$error":"#N/A"},false,false,false,false,false,false,{"$error":"#N/A"},7.1342999999999996,28.537199999999999,71.342999999999989,97.253750000000011,95.797499999999999,null,{"$f":"OFFSET(InputIndexData!F$15,CalculationsAndCharts!$A385+$A$11,IF($C$7,8,0),1,1)","v":172.98},51.296199999999999,1,1,true,null,212,{"$error":"#N/A"}]
[354,{"$f":"OFFSET(InputPriceData!B$15,CalculationsAndCharts!$A386+$A$11,0,1,1)","v":"2013-11-20"},{"$f":"OFFSET(InputPriceData!G$15,CalculationsAndCharts!$A386+$A$11,IF($C$7,8,0),1,1)","v":2011100},{"$f":"OFFSET(InputPriceData!C$15,CalculationsAndCharts!$A386+$A$11,IF($C$7,8,0),1,1)","v":97.49},{"$f":"OFFSET(InputPriceData!D$15,CalculationsAndCharts!$A386+$A$11,IF($C$7,8,0),1,1)","v":99.81},{"$f":"OFFSET(InputPriceData!E$15,CalculationsAndCharts!$A386+$A$11,IF($C$7,8,0),1,1)","v":97.14},{"$f":"OFFSET(InputPriceData!F$15,CalculationsAndCharts!$A386+$A$11,IF($C$7,8,0),1,1)","v":98.7},6.6435500000000003,26.574200000000001,66.435500000000005,96.655000000000015,95.245000000000005,2011100,{"$error":"#N/A"},false,"UP",false,{"$error":"#N/A"},{"$error":"#N/A"},true,false,false,true,false,false,189.20000000000002,false,{"$error":"#N/A"},false,false,false,false,false,false,{"$error":"#N/A"},6.6435500000000003,26.574200000000001,66.435500000000005,96.655000000000015,95.245000000000005,null,{"$f":"OFFSET(InputIndexData!F$15,CalculationsAndCharts!$A386+$A$11,IF($C$7,8,0),1,1)","v":171.6},47.836599999999997,1,1,true,null,212,{"$error":"#N/A"}]
[355,{"$f":"OFFSET(InputPriceData!B$15,CalculationsAndCharts!$A387+$A$11,0,1,1)","v":"2013-11-19"},{"$f":"OFFSET(InputPriceData!G$15,CalculationsAndCharts!$A387+$A$11,IF($C$7,8,0),1,1)","v":2012800},{"$f":"OFFSET(InputPriceData!C$15,CalculationsAndCharts!$A387+$A$11,IF($C$7,8,0),1,1)","v":97.37},{"$f":"OFFSET(InputPriceData!D$15,CalculationsAndCharts!$A387+$A$11,IF($C$7,8,0),1,1)","v":97.83},{"$f":"OFFSET(InputPriceData!E$15,CalculationsAndCharts!$A387+$A$11,IF($C$7,8,0),1,1)","v":96.27},{"$f":"OFFSET(InputPriceData!F$15,CalculationsAndCharts!$A387+$A$11,IF($C$7,8,0),1,1)","v":97.08},6.1500500000000002,24.600200000000001,61.500500000000002,96.025000000000006,94.711250000000007,{"$error":"#N/A"},2012800,false,"UP",false,{"$error":"#N/A"},{"$error":"#N/A"},true,false,false,{"$f":"IF(V387,TRUE,IF(X388,FALSE,W388))","v":true},false,false,189.20000000000002,false,{"$error":"#N/A"},false,false,false,false,false,false,{"$error":"#N/A"},6.1500500000000002,24.600200000000001,61.500500000000002,96.025000000000006,94.711250000000007,null,{"$f":"OFFSET(InputIndexData!F$15,CalculationsAndCharts!$A387+$A$11,IF($C$7,8,0),1,1)","v":172.14},44.404600000000002,1,1,true,null,212,{"$error":"#N/A"}]
[356,{"$f":"OFFSET(InputPriceData!B$15,CalculationsAndCharts!$A388+$A$11,0,1,1)","v":"2013-11-18"},{"$f":"OFFSET(InputPriceData!G$15,CalculationsAndCharts!$A388+$A$11,IF($C$7,8,0),1,1)","v":863600},{"$f":"OFFSET(InputPriceData!C$15,CalculationsAndCharts!$A388+$A$11,IF($C$7,8,0),1,1)","v":96.71},{"$f":"OFFSET(InputPriceData!D$15,CalculationsAndCharts!$A388+$A$11,IF($C$7,8,0),1,1)","v":97.36},{"$f":"OFFSET(InputPriceData!E$15,CalculationsAndCharts!$A388+$A$11,IF($C$7,8,0),1,1)","v":96.11},{"$f":"OFFSET(InputPriceData!F$15,CalculationsAndCharts!$A388+$A$11,IF($C$7,8,0),1,1)","v":97.08},5.66465,22.6586,56.646500000000003,95.73,94.366250000000008,863600,{"$error":"#N/A"},false,"UP",false,{"$error":"#N/A"},{"$error":"#N/A"},true,false,false,true,false,false,189.20000000000002,false,{"$error":"#N/A"},false,false,false,false,false,false,{"$error":"#N/A"},5.66465,22.6586,56.646500000000003,95.73,94.366250000000008,null,{"$f":"OFFSET(InputIndexData!F$15,CalculationsAndCharts!$A388+$A$11,IF($C$7,8,0),1,1)","v":172.51},40.961800000000004,1,1,true,null,212,{"$error":"#N/A"}]
[357,{"$f":"OFFSET(InputPriceData!B$15,CalculationsAndCharts!$A389+$A$11,0,1,1)","v":"2013-11-15"},{"$f":"OFFSET(InputPriceData!G$15,CalculationsAndCharts!$A389+$A$11,IF($C$7,8,0),1,1)","v":1116900},{"$f":"OFFSET(InputPriceData!C$15,CalculationsAndCharts!$A389+$A$11,IF($C$7,8,0),1,1)","v":95.86},{"$f":"OFFSET(InputPriceData!D$15,CalculationsAndCharts!$A389+$A$11,IF($C$7,8,0),1,1)","v":96.73},{"$f":"OFFSET(InputPriceData!E$15,CalculationsAndCharts!$A389+$A$11,IF($C$7,8,0),1,1)","v":95.55},{"$f":"OFFSET(InputPriceData!F$15,CalculationsAndCharts!$A389+$A$11,IF($C$7,8,0),1,1)","v":96.72},5.1792500000000006,20.717000000000002,51.792500000000004,95.537499999999994,93.59,1116900,{"$error":"#N/A"},false,"UP",false,{"$error":"#N/A"},{"$error":"#N/A"},true,false,false,true,false,false,189.20000000000002,false,{"$error":"#N/A"},false,false,false,false,false,false,{"$error":"#N/A"},5.1792500000000006,20.717000000000002,51.792500000000004,95.537499999999994,93.59,null,{"$f":"OFFSET(InputIndexData!F$15,CalculationsAndCharts!$A389+$A$11,IF($C$7,8,0),1,1)","v":173.12},37.511600000000001,1,1,true,null,212,{"$error":"#N/A"}]
[358,{"$f":"OFFSET(InputPriceData!B$15,CalculationsAndCharts!$A390+$A$11,0,1,1)","v":"2013-11-14"},{"$f":"OFFSET(InputPriceData!G$15,CalculationsAndCharts!$A390+$A$11,IF($C$7,8,0),1,1)","v":1129100},{"$f":"OFFSET(InputPriceData!C$15,CalculationsAndCharts!$A390+$A$11,IF($C$7,8,0),1,1)","v":95.32},{"$f":"OFFSET(InputPriceData!D$15,CalculationsAndCharts!$A390+$A$11,IF($C$7,8,0),1,1)","v":96.13},{"$f":"OFFSET(InputPriceData!E$15,CalculationsAndCharts!$A390+$A$11,IF($C$7,8,0),1,1)","v":95.14},{"$f":"OFFSET(InputPriceData!F$15,CalculationsAndCharts!$A390+$A$11,IF($C$7,8,0),1,1)","v":95.92},4.6956499999999997,18.782599999999999,46.956499999999998,95.09375,93.114999999999995,1129100,{"$error":"#N/A"},false,"UP",false,{"$error":"#N/A"},{"$error":"#N/A"},true,false,false,true,false,false,189.20000000000002,false,{"$error":"#N/A"},false,false,false,false,false,false,{"$error":"#N/A"},4.6956499999999997,18.782599999999999,46.956499999999998,95.09375,93.114999999999995,null,{"$f":"OFFSET(InputIndexData!F$15,CalculationsAndCharts!$A390+$A$11,IF($C$7,8,0),1,1)","v":172.37},34.049199999999999,1,1,true,null,212,{"$error":"#N/A"}]
[359,{"$f":"OFFSET(InputPriceData!B$15,CalculationsAndCharts!$A391+$A$11,0,1,1)","v":"2013-11-13"},{"$f":"OFFSET(InputPriceData!G$15,CalculationsAndCharts!$A391+$A$11,IF($C$7,8,0),1,1)","v":947800},{"$f":"OFFSET(InputPriceData!C$15,CalculationsAndCharts!$A391+$A$11,IF($C$7,8,0),1,1)","v":94.4},{"$f":"OFFSET(InputPriceData!D$15,CalculationsAndCharts!$A391+$A$11,IF($C$7,8,0),1,1)","v":95.07},{"$f":"OFFSET(InputPriceData!E$15,CalculationsAndCharts!$A391+$A$11,IF($C$7,8,0),1,1)","v":94.03},{"$f":"OFFSET(InputPriceData!F$15,CalculationsAndCharts!$A391+$A$11,IF($C$7,8,0),1,1)","v":95.05},4.2160499999999992,16.864199999999997,42.160499999999999,94.72750000000002,92.692499999999995,947800,{"$error":"#N/A"},false,"UP",false,{"$error":"#N/A"},{"$error":"#N/A"},true,false,false,true,false,false,189.20000000000002,false,{"$error":"#N/A"},false,false,false,false,false,false,{"$error":"#N/A"},4.2160499999999992,16.864199999999997,42.160499999999999,94.72750000000002,92.692499999999995,null,{"$f":"OFFSET(InputIndexData!F$15,CalculationsAndCharts!$A391+$A$11,IF($C$7,8,0),1,1)","v":171.51},30.601799999999997,1,1,true,null,212,{"$error":"#N/A"}]
[360,{"$f":"OFFSET(InputPriceData!B$15,CalculationsAndCharts!$A392+$A$11,0,1,1)","v":"2013-11-12"},{"$f":"OFFSET(InputPriceData!G$15,CalculationsAndCharts!$A392+$A$11,IF($C$7,8,0),1,1)","v":1068400},{"$f":"OFFSET(InputPriceData!C$15,CalculationsAndCharts!$A392+$A$11,IF($C$7,8,0),1,1)","v":94.39},{"$f":"OFFSET(InputPriceData!D$15,CalculationsAndCharts!$A392+$A$11,IF($C$7,8,0),1,1)","v":95.1},{"$f":"OFFSET(InputPriceData!E$15,CalculationsAndCharts!$A392+$A$11,IF($C$7,8,0),1,1)","v":94.09},{"$f":"OFFSET(InputPriceData!F$15,CalculationsAndCharts!$A392+$A$11,IF($C$7,8,0),1,1)","v":94.86},3.7407999999999997,14.963199999999999,37.408000000000001,94.298749999999998,92.247500000000002,1068400,{"$error":"#N/A"},false,"UP",false,{"$error":"#N/A"},{"$error":"#N/A"},true,false,false,true,false,false,189.20000000000002,false,{"$error":"#N/A"},false,false,false,false,false,false,{"$error":"#N/A"},3.7407999999999997,14.963199999999999,37.408000000000001,94.298749999999998,92.247500000000002,null,{"$f":"OFFSET(InputIndexData!F$15,CalculationsAndCharts!$A392+$A$11,IF($C$7,8,0),1,1)","v":170.15},27.171600000000002,1,1,true,null,212,{"$error":"#N/A"}]
[361,{"$f":"OFFSET(InputPriceData!B$15,CalculationsAndCharts!$A393+$A$11,0,1,1)","v":"2013-11-11"},{"$f":"OFFSET(InputPriceData!G$15,CalculationsAndCharts!$A393+$A$11,IF($C$7,8,0),1,1)","v":980100},{"$f":"OFFSET(InputPriceData!C$15,CalculationsAndCharts!$A393+$A$11,IF($C$7,8,0),1,1)","v":93.86},{"$f":"OFFSET(InputPriceData!D$15,CalculationsAndCharts!$A393+$A$11,IF($C$7,8,0),1,1)","v":95.21},{"$f":"OFFSET(InputPriceData!E$15,CalculationsAndCharts!$A393+$A$11,IF($C$7,8,0),1,1)","v":93.63},{"$f":"OFFSET(InputPriceData!F$15,CalculationsAndCharts!$A393+$A$11,IF($C$7,8,0),1,1)","v":94.63},3.2664999999999997,13.065999999999999,32.664999999999999,82.411249999999995,80.486249999999998,980100,{"$error":"#N/A"},false,"UP",false,{"$error":"#N/A"},{"$error":"#N/A"},true,false,false,true,false,false,189.20000000000002,false,{"$error":"#N/A"},false,false,false,false,false,false,{"$error":"#N/A"},3.2664999999999997,13.065999999999999,32.664999999999999,82.411249999999995,80.486249999999998,null,{"$f":"OFFSET(InputIndexData!F$15,CalculationsAndCharts!$A393+$A$11,IF($C$7,8,0),1,1)","v":170.49},23.768600000000003,1,1,true,null,212,{"$error":"#N/A"}]
[362,{"$f":"OFFSET(InputPriceData!B$15,CalculationsAndCharts!$A394+$A$11,0,1,1)","v":"2013-11-08"},{"$f":"OFFSET(InputPriceData!G$15,CalculationsAndCharts!$A394+$A$11,IF($C$7,8,0),1,1)","v":1590300},{"$f":"OFFSET(InputPriceData!C$15,CalculationsAndCharts!$A394+$A$11,IF($C$7,8,0),1,1)","v":94.14},{"$f":"OFFSET(InputPriceData!D$15,CalculationsAndCharts!$A394+$A$11,IF($C$7,8,0),1,1)","v":94.77},{"$f":"OFFSET(InputPriceData!E$15,CalculationsAndCharts!$A394+$A$11,IF($C$7,8,0),1,1)","v":92.87},{"$f":"OFFSET(InputPriceData!F$15,CalculationsAndCharts!$A394+$A$11,IF($C$7,8,0),1,1)","v":93.69},2.7933499999999998,11.173399999999999,27.933499999999999,70.510000000000005,68.782499999999999,{"$error":"#N/A"},1590300,false,"UP",false,{"$error":"#N/A"},{"$error":"#N/A"},true,false,false,true,false,false,189.20000000000002,false,{"$error":"#N/A"},false,false,false,false,false,false,{"$error":"#N/A"},2.7933499999999998,11.173399999999999,27.933499999999999,70.510000000000005,68.782499999999999,null,{"$f":"OFFSET(InputIndexData!F$15,CalculationsAndCharts!$A394+$A$11,IF($C$7,8,0),1,1)","v":170.46},20.358800000000002,1,1,true,null,212,{"$error":"#N/A"}]
[363,{"$f":"OFFSET(InputPriceData!B$15,CalculationsAndCharts!$A395+$A$11,0,1,1)","v":"2013-11-07"},{"$f":"OFFSET(InputPriceData!G$15,CalculationsAndCharts!$A395+$A$11,IF($C$7,8,0),1,1)","v":1626600},{"$f":"OFFSET(InputPriceData!C$15,CalculationsAndCharts!$A395+$A$11,IF($C$7,8,0),1,1)","v":95.47},{"$f":"OFFSET(InputPriceData!D$15,CalculationsAndCharts!$A395+$A$11,IF($C$7,8,0),1,1)","v":95.47},{"$f":"OFFSET(InputPriceData!E$15,CalculationsAndCharts!$A395+$A$11,IF($C$7,8,0),1,1)","v":93.51},{"$f":"OFFSET(InputPriceData!F$15,CalculationsAndCharts!$A395+$A$11,IF($C$7,8,0),1,1)","v":93.97},2.3249,9.2995999999999999,23.248999999999999,58.66375,57.173749999999998,{"$error":"#N/A"},1626600,false,"UP",false,{"$error":"#N/A"},{"$error":"#N/A"},true,false,false,true,false,false,189.20000000000002,false,{"$error":"#N/A"},false,false,false,false,false,false,{"$error":"#N/A"},2.3249,9.2995999999999999,23.248999999999999,58.66375,57.173749999999998,null,{"$f":"OFFSET(InputIndexData!F$15,CalculationsAndCharts!$A395+$A$11,IF($C$7,8,0),1,1)","v":168.2},16.9496,1,1,true,null,212,{"$error":"#N/A"}]
[364,{"$f":"OFFSET(InputPriceData!B$15,CalculationsAndCharts!$A396+$A$11,0,1,1)","v":"2013-11-06"},{"$f":"OFFSET(InputPriceData!G$15,CalculationsAndCharts!$A396+$A$11,IF($C$7,8,0),1,1)","v":2782100},{"$f":"OFFSET(InputPriceData!C$15,CalculationsAndCharts!$A396+$A$11,IF($C$7,8,0),1,1)","v":90.39},{"$f":"OFFSET(InputPriceData!D$15,CalculationsAndCharts!$A396+$A$11,IF($C$7,8,0),1,1)","v":95.82},{"$f":"OFFSET(InputPriceData!E$15,CalculationsAndCharts!$A396+$A$11,IF($C$7,8,0),1,1)","v":89.9},{"$f":"OFFSET(InputPriceData!F$15,CalculationsAndCharts!$A396+$A$11,IF($C$7,8,0),1,1)","v":94.36},1.8550499999999999,7.4201999999999995,18.5505,46.73,45.484999999999999,2782100,{"$error":"#N/A"},false,"UP",false,{"$error":"#N/A"},{"$error":"#N/A"},true,false,false,true,false,false,189.20000000000002,false,{"$error":"#N/A"},false,false,false,false,false,false,{"$error":"#N/A"},1.8550499999999999,7.4201999999999995,18.5505,46.73,45.484999999999999,null,{"$f":"OFFSET(InputIndexData!F$15,CalculationsAndCharts!$A396+$A$11,IF($C$7,8,0),1,1)","v":170.35},13.585599999999999,1,1,true,null,212,{"$error":"#N/A"}]
[365,{"$f":"OFFSET(InputPriceData!B$15,CalculationsAndCharts!$A397+$A$11,0,1,1)","v":"2013-11-05"},{"$f":"OFFSET(InputPriceData!G$15,CalculationsAndCharts!$A397+$A$11,IF($C$7,8,0),1,1)","v":1457600},{"$f":"OFFSET(InputPriceData!C$15,CalculationsAndCharts!$A397+$A$11,IF($C$7,8,0),1,1)","v":92.21},{"$f":"OFFSET(InputPriceData!D$15,CalculationsAndCharts!$A397+$A$11,IF($C$7,8,0),1,1)","v":93.18},{"$f":"OFFSET(InputPriceData!E$15,CalculationsAndCharts!$A397+$A$11,IF($C$7,8,0),1,1)","v":91.75},{"$f":"OFFSET(InputPriceData!F$15,CalculationsAndCharts!$A397+$A$11,IF($C$7,8,0),1,1)","v":92.47},1.3832500000000001,5.5330000000000004,13.832500000000001,34.752499999999998,34.247500000000002,1457600,{"$error":"#N/A"},false,"UP",false,{"$error":"#N/A"},{"$error":"#N/A"},true,false,false,true,false,false,189.20000000000002,false,{"$error":"#N/A"},false,false,false,false,false,false,{"$error":"#N/A"},1.3832500000000001,5.5330000000000004,13.832500000000001,34.752499999999998,34.247500000000002,null,{"$f":"OFFSET(InputIndexData!F$15,CalculationsAndCharts!$A397+$A$11,IF($C$7,8,0),1,1)","v":169.48},10.178599999999999,1,1,true,null,212,{"$error":"#N/A"}]
[366,{"$f":"OFFSET(InputPriceData!B$15,CalculationsAndCharts!$A398+$A$11,0,1,1)","v":"2013-11-04"},{"$f":"OFFSET(InputPriceData!G$15,CalculationsAndCharts!$A398+$A$11,IF($C$7,8,0),1,1)","v":1461200},{"$f":"OFFSET(InputPriceData!C$15,CalculationsAndCharts!$A398+$A$11,IF($C$7,8,0),1,1)","v":91.88},{"$f":"OFFSET(InputPriceData!D$15,CalculationsAndCharts!$A398+$A$11,IF($C$7,8,0),1,1)","v":93.2},{"$f":"OFFSET(InputPriceData!E$15,CalculationsAndCharts!$A398+$A$11,IF($C$7,8,0),1,1)","v":91.76},{"$f":"OFFSET(InputPriceData!F$15,CalculationsAndCharts!$A398+$A$11,IF($C$7,8,0),1,1)","v":92.64},0.92090000000000005,3.6836000000000002,9.2089999999999996,23.105,22.778750000000002,1461200,{"$error":"#N/A"},false,"UP",false,{"$error":"#N/A"},{"$error":"#N/A"},true,false,true,true,false,false,189.20000000000002,false,{"$error":"#N/A"},false,false,false,false,false,false,{"$error":"#N/A"},0.92090000000000005,3.6836000000000002,9.2089999999999996,23.105,22.778750000000002,null,{"$f":"OFFSET(InputIndexData!F$15,CalculationsAndCharts!$A398+$A$11,IF($C$7,8,0),1,1)","v":170.02},6.7890000000000006,1,1,true,null,212,{"$error":"#N/A"}]
[367,{"$f":"OFFSET(InputPriceData!B$15,CalculationsAndCharts!$A399+$A$11,0,1,1)","v":"2013-11-01"},{"$f":"OFFSET(InputPriceData!G$15,CalculationsAndCharts!$A399+$A$11,IF($C$7,8,0),1,1)","v":1019200},{"$f":"OFFSET(InputPriceData!C$15,CalculationsAndCharts!$A399+$A$11,IF($C$7,8,0),1,1)","v":90.85},{"$f":"OFFSET(InputPriceData!D$15,CalculationsAndCharts!$A399+$A$11,IF($C$7,8,0),1,1)","v":91.64},{"$f":"OFFSET(InputPriceData!E$15,CalculationsAndCharts!$A399+$A$11,IF($C$7,8,0),1,1)","v":90.47},{"$f":"OFFSET(InputPriceData!F$15,CalculationsAndCharts!$A399+$A$11,IF($C$7,8,0),1,1)","v":91.54},0.45770000000000005,1.8308000000000002,4.577,11.455,11.30875,1019200,{"$error":"#N/A"},true,"UP",false,91.54,{"$error":"#N/A"},true,true,false,false,false,false,{"$error":"#N/A"},false,{"$error":"#N/A"},false,false,false,false,false,false,{"$error":"#N/A"},0.45770000000000005,1.8308000000000002,4.577,11.455,11.30875,null,{"$f":"OFFSET(InputIndexData!F$15,CalculationsAndCharts!$A399+$A$11,IF($C$7,8,0),1,1)","v":169.43},3.3886000000000003,1,1,true,null,212,{"$error":"#N/A"}]
[368,{"$f":"OFFSET(InputPriceData!B$15,CalculationsAndCharts!$A400+$A$11,0,1,1)","v":"00:00:00"},{"$f":"OFFSET(InputPriceData!G$15,CalculationsAndCharts!$A400+$A$11,IF($C$7,8,0),1,1)","v":0},{"$f":"OFFSET(InputPriceData!C$15,CalculationsAndCharts!$A400+$A$11,IF($C$7,8,0),1,1)","v":0},{"$f":"OFFSET(InputPriceData!D$15,CalculationsAndCharts!$A400+$A$11,IF($C$7,8,0),1,1)","v":0},{"$f":"OFFSET(InputPriceData!E$15,CalculationsAndCharts!$A400+$A$11,IF($C$7,8,0),1,1)","v":0},{"$f":"OFFSET(InputPriceData!F$15,CalculationsAndCharts!$A400+$A$11,IF($C$7,8,0),1,1)","v":0},0,0,0,0,0,0,{"$error":"#N/A"},false,0,false,{"$error":"#N/A"},{"$error":"#N/A"},true,false,false,false,false,false,{"$error":"#N/A"},false,{"$error":"#N/A"},false,false,false,false,false,false,{"$error":"#N/A"},0,0,0,0,0,null,{"$f":"OFFSET(InputIndexData!F$15,CalculationsAndCharts!$A400+$A$11,IF($C$7,8,0),1,1)","v":0},0,1,1,true,null,212,{"$error":"#N/A"}]
[369,{"$f":"OFFSET(InputPriceData!B$15,CalculationsAndCharts!$A401+$A$11,0,1,1)","v":"00:00:00"},{"$f":"OFFSET(InputPriceData!G$15,CalculationsAndCharts!$A401+$A$11,IF($C$7,8,0),1,1)","v":0},{"$f":"OFFSET(InputPriceData!C$15,CalculationsAndCharts!$A401+$A$11,IF($C$7,8,0),1,1)","v":0},{"$f":"OFFSET(InputPriceData!D$15,CalculationsAndCharts!$A401+$A$11,IF($C$7,8,0),1,1)","v":0},{"$f":"OFFSET(InputPriceData!E$15,CalculationsAndCharts!$A401+$A$11,IF($C$7,8,0),1,1)","v":0},{"$f":"OFFSET(InputPriceData!F$15,CalculationsAndCharts!$A401+$A$11,IF($C$7,8,0),1,1)","v":0},0,0,0,0,0,0,{"$error":"#N/A"},false,0,false,{"$error":"#N/A"},{"$error":"#N/A"},true,false,false,false,false,false,{"$error":"#N/A"},false,{"$error":"#N/A"},false,false,false,false,false,false,{"$error":"#N/A"},0,0,0,0,0,null,{"$f":"OFFSET(InputIndexData!F$15,CalculationsAndCharts!$A401+$A$11,IF($C$7,8,0),1,1)","v":0},0,1,1,true,null,212,{"$error":"#N/A"}]
[370,{"$f":"OFFSET(InputPriceData!B$15,CalculationsAndCharts!$A402+$A$11,0,1,1)","v":"00:00:00"},{"$f":"OFFSET(InputPriceData!G$15,CalculationsAndCharts!$A402+$A$11,IF($C$7,8,0),1,1)","v":0},{"$f":"OFFSET(InputPriceData!C$15,CalculationsAndCharts!$A402+$A$11,IF($C$7,8,0),1,1)","v":0},{"$f":"OFFSET(InputPriceData!D$15,CalculationsAndCharts!$A402+$A$11,IF($C$7,8,0),1,1)","v":0},{"$f":"OFFSET(InputPriceData!E$15,CalculationsAndCharts!$A402+$A$11,IF($C$7,8,0),1,1)","v":0},{"$f":"OFFSET(InputPriceData!F$15,CalculationsAndCharts!$A402+$A$11,IF($C$7,8,0),1,1)","v":0},0,0,0,0,0,0,{"$error":"#N/A"},false,0,false,{"$error":"#N/A"},{"$error":"#N/A"},true,false,false,false,false,false,{"$error":"#N/A"},false,{"$error":"#N/A"},false,false,false,false,false,false,{"$error":"#N/A"},0,0,0,0,0,null,{"$f":"OFFSET(InputIndexData!F$15,CalculationsAndCharts!$A402+$A$11,IF($C$7,8,0),1,1)","v":0},0,1,1,true,null,212,{"$error":"#N/A"}]
[371,{"$f":"OFFSET(InputPriceData!B$15,CalculationsAndCharts!$A403+$A$11,0,1,1)","v":"00:00:00"},{"$f":"OFFSET(InputPriceData!G$15,CalculationsAndCharts!$A403+$A$11,IF($C$7,8,0),1,1)","v":0},{"$f":"OFFSET(InputPriceData!C$15,CalculationsAndCharts!$A403+$A$11,IF($C$7,8,0),1,1)","v":0},{"$f":"OFFSET(InputPriceData!D$15,CalculationsAndCharts!$A403+$A$11,IF($C$7,8,0),1,1)","v":0},{"$f":"OFFSET(InputPriceData!E$15,CalculationsAndCharts!$A403+$A$11,IF($C$7,8,0),1,1)","v":0},{"$f":"OFFSET(InputPriceData!F$15,CalculationsAndCharts!$A403+$A$11,IF($C$7,8,0),1,1)","v":0},0,0,0,0,0,0,{"$error":"#N/A"},false,0,false,{"$error":"#N/A"},{"$error":"#N/A"},true,false,false,false,false,false,{"$error":"#N/A"},false,{"$error":"#N/A"},false,false,false,false,false,false,{"$error":"#N/A"},0,0,0,0,0,null,{"$f":"OFFSET(InputIndexData!F$15,CalculationsAndCharts!$A403+$A$11,IF($C$7,8,0),1,1)","v":0},0,1,1,true,null,212,{"$error":"#N/A"}]
[372,{"$f":"OFFSET(InputPriceData!B$15,CalculationsAndCharts!$A404+$A$11,0,1,1)","v":"00:00:00"},{"$f":"OFFSET(InputPriceData!G$15,CalculationsAndCharts!$A404+$A$11,IF($C$7,8,0),1,1)","v":0},{"$f":"OFFSET(InputPriceData!C$15,CalculationsAndCharts!$A404+$A$11,IF($C$7,8,0),1,1)","v":0},{"$f":"OFFSET(InputPriceData!D$15,CalculationsAndCharts!$A404+$A$11,IF($C$7,8,0),1,1)","v":0},{"$f":"OFFSET(InputPriceData!E$15,CalculationsAndCharts!$A404+$A$11,IF($C$7,8,0),1,1)","v":0},{"$f":"OFFSET(InputPriceData!F$15,CalculationsAndCharts!$A404+$A$11,IF($C$7,8,0),1,1)","v":0},0,0,0,0,0,0,{"$error":"#N/A"},false,0,false,{"$error":"#N/A"},{"$error":"#N/A"},true,false,false,false,false,false,{"$error":"#N/A"},false,{"$error":"#N/A"},false,false,false,false,false,false,{"$error":"#N/A"},0,0,0,0,0,null,{"$f":"OFFSET(InputIndexData!F$15,CalculationsAndCharts!$A404+$A$11,IF($C$7,8,0),1,1)","v":0},0,1,1,true,null,212,{"$error":"#N/A"}]
[373,{"$f":"OFFSET(InputPriceData!B$15,CalculationsAndCharts!$A405+$A$11,0,1,1)","v":"00:00:00"},{"$f":"OFFSET(InputPriceData!G$15,CalculationsAndCharts!$A405+$A$11,IF($C$7,8,0),1,1)","v":0},{"$f":"OFFSET(InputPriceData!C$15,CalculationsAndCharts!$A405+$A$11,IF($C$7,8,0),1,1)","v":0},{"$f":"OFFSET(InputPriceData!D$15,CalculationsAndCharts!$A405+$A$11,IF($C$7,8,0),1,1)","v":0},{"$f":"OFFSET(InputPriceData!E$15,CalculationsAndCharts!$A405+$A$11,IF($C$7,8,0),1,1)","v":0},{"$f":"OFFSET(InputPriceData!F$15,CalculationsAndCharts!$A405+$A$11,IF($C$7,8,0),1,1)","v":0},0,0,0,0,0,0,{"$error":"#N/A"},false,0,false,{"$error":"#N/A"},{"$error":"#N/A"},true,false,false,false,false,false,{"$error":"#N/A"},false,{"$error":"#N/A"},false,false,false,false,false,false,{"$error":"#N/A"},0,0,0,0,0,null,{"$f":"OFFSET(InputIndexData!F$15,CalculationsAndCharts!$A405+$A$11,IF($C$7,8,0),1,1)","v":0},0,1,1,true,null,212,{"$error":"#N/A"}]
[374,{"$f":"OFFSET(InputPriceData!B$15,CalculationsAndCharts!$A406+$A$11,0,1,1)","v":"00:00:00"},{"$f":"OFFSET(InputPriceData!G$15,CalculationsAndCharts!$A406+$A$11,IF($C$7,8,0),1,1)","v":0},{"$f":"OFFSET(InputPriceData!C$15,CalculationsAndCharts!$A406+$A$11,IF($C$7,8,0),1,1)","v":0},{"$f":"OFFSET(InputPriceData!D$15,CalculationsAndCharts!$A406+$A$11,IF($C$7,8,0),1,1)","v":0},{"$f":"OFFSET(InputPriceData!E$15,CalculationsAndCharts!$A406+$A$11,IF($C$7,8,0),1,1)","v":0},{"$f":"OFFSET(InputPriceData!F$15,CalculationsAndCharts!$A406+$A$11,IF($C$7,8,0),1,1)","v":0},0,0,0,0,0,0,{"$error":"#N/A"},false,0,false,{"$error":"#N/A"},{"$error":"#N/A"},true,false,false,false,false,false,{"$error":"#N/A"},false,{"$error":"#N/A"},false,false,false,false,false,false,{"$error":"#N/A"},0,0,0,0,0,null,{"$f":"OFFSET(InputIndexData!F$15,CalculationsAndCharts!$A406+$A$11,IF($C$7,8,0),1,1)","v":0},0,1,1,true,null,212,{"$error":"#N/A"}]
[375,{"$f":"OFFSET(InputPriceData!B$15,CalculationsAndCharts!$A407+$A$11,0,1,1)","v":"00:00:00"},{"$f":"OFFSET(InputPriceData!G$15,CalculationsAndCharts!$A407+$A$11,IF($C$7,8,0),1,1)","v":0},{"$f":"OFFSET(InputPriceData!C$15,CalculationsAndCharts!$A407+$A$11,IF($C$7,8,0),1,1)","v":0},{"$f":"OFFSET(InputPriceData!D$15,CalculationsAndCharts!$A407+$A$11,IF($C$7,8,0),1,1)","v":0},{"$f":"OFFSET(InputPriceData!E$15,CalculationsAndCharts!$A407+$A$11,IF($C$7,8,0),1,1)","v":0},{"$f":"OFFSET(InputPriceData!F$15,CalculationsAndCharts!$A407+$A$11,IF($C$7,8,0),1,1)","v":0},0,0,0,0,0,0,{"$error":"#N/A"},false,0,false,{"$error":"#N/A"},{"$error":"#N/A"},true,false,false,false,false,false,{"$error":"#N/A"},false,{"$error":"#N/A"},false,false,false,false,false,false,{"$error":"#N/A"},0,0,0,0,0,null,{"$f":"OFFSET(InputIndexData!F$15,CalculationsAndCharts!$A407+$A$11,IF($C$7,8,0),1,1)","v":0},0,1,1,true,null,212,{"$error":"#N/A"}]
[376,{"$f":"OFFSET(InputPriceData!B$15,CalculationsAndCharts!$A408+$A$11,0,1,1)","v":"00:00:00"},{"$f":"OFFSET(InputPriceData!G$15,CalculationsAndCharts!$A408+$A$11,IF($C$7,8,0),1,1)","v":0},{"$f":"OFFSET(InputPriceData!C$15,CalculationsAndCharts!$A408+$A$11,IF($C$7,8,0),1,1)","v":0},{"$f":"OFFSET(InputPriceData!D$15,CalculationsAndCharts!$A408+$A$11,IF($C$7,8,0),1,1)","v":0},{"$f":"OFFSET(InputPriceData!E$15,CalculationsAndCharts!$A408+$A$11,IF($C$7,8,0),1,1)","v":0},{"$f":"OFFSET(InputPriceData!F$15,CalculationsAndCharts!$A408+$A$11,IF($C$7,8,0),1,1)","v":0},0,0,0,0,0,0,{"$error":"#N/A"},false,0,false,{"$error":"#N/A"},{"$error":"#N/A"},true,false,false,false,false,false,{"$error":"#N/A"},false,{"$error":"#N/A"},false,false,false,false,false,false,{"$error":"#N/A"},0,0,0,0,0,null,{"$f":"OFFSET(InputIndexData!F$15,CalculationsAndCharts!$A408+$A$11,IF($C$7,8,0),1,1)","v":0},0,1,1,true,null,212,{"$error":"#N/A"}]
[377,{"$f":"OFFSET(InputPriceData!B$15,CalculationsAndCharts!$A409+$A$11,0,1,1)","v":"00:00:00"},{"$f":"OFFSET(InputPriceData!G$15,CalculationsAndCharts!$A409+$A$11,IF($C$7,8,0),1,1)","v":0},{"$f":"OFFSET(InputPriceData!C$15,CalculationsAndCharts!$A409+$A$11,IF($C$7,8,0),1,1)","v":0},{"$f":"OFFSET(InputPriceData!D$15,CalculationsAndCharts!$A409+$A$11,IF($C$7,8,0),1,1)","v":0},{"$f":"OFFSET(InputPriceData!E$15,CalculationsAndCharts!$A409+$A$11,IF($C$7,8,0),1,1)","v":0},{"$f":"OFFSET(InputPriceData!F$15,CalculationsAndCharts!$A409+$A$11,IF($C$7,8,0),1,1)","v":0},0,0,0,0,0,0,{"$error":"#N/A"},false,0,false,{"$error":"#N/A"},{"$error":"#N/A"},true,false,false,false,false,false,{"$error":"#N/A"},false,{"$error":"#N/A"},false,false,false,false,false,false,{"$error":"#N/A"},0,0,0,0,0,null,{"$f":"OFFSET(InputIndexData!F$15,CalculationsAndCharts!$A409+$A$11,IF($C$7,8,0),1,1)","v":0},0,1,1,true,null,212,{"$error":"#N/A"}]
[378,{"$f":"OFFSET(InputPriceData!B$15,CalculationsAndCharts!$A410+$A$11,0,1,1)","v":"00:00:00"},{"$f":"OFFSET(InputPriceData!G$15,CalculationsAndCharts!$A410+$A$11,IF($C$7,8,0),1,1)","v":0},{"$f":"OFFSET(InputPriceData!C$15,CalculationsAndCharts!$A410+$A$11,IF($C$7,8,0),1,1)","v":0},{"$f":"OFFSET(InputPriceData!D$15,CalculationsAndCharts!$A410+$A$11,IF($C$7,8,0),1,1)","v":0},{"$f":"OFFSET(InputPriceData!E$15,CalculationsAndCharts!$A410+$A$11,IF($C$7,8,0),1,1)","v":0},{"$f":"OFFSET(InputPriceData!F$15,CalculationsAndCharts!$A410+$A$11,IF($C$7,8,0),1,1)","v":0},0,0,0,0,0,0,{"$error":"#N/A"},false,0,false,{"$error":"#N/A"},{"$error":"#N/A"},true,false,false,false,false,false,{"$error":"#N/A"},false,{"$error":"#N/A"},false,false,false,false,false,false,{"$error":"#N/A"},0,0,0,0,0,null,{"$f":"OFFSET(InputIndexData!F$15,CalculationsAndCharts!$A410+$A$11,IF($C$7,8,0),1,1)","v":0},0,1,1,true,null,212,{"$error":"#N/A"}]
[379,{"$f":"OFFSET(InputPriceData!B$15,CalculationsAndCharts!$A411+$A$11,0,1,1)","v":"00:00:00"},{"$f":"OFFSET(InputPriceData!G$15,CalculationsAndCharts!$A411+$A$11,IF($C$7,8,0),1,1)","v":0},{"$f":"OFFSET(InputPriceData!C$15,CalculationsAndCharts!$A411+$A$11,IF($C$7,8,0),1,1)","v":0},{"$f":"OFFSET(InputPriceData!D$15,CalculationsAndCharts!$A411+$A$11,IF($C$7,8,0),1,1)","v":0},{"$f":"OFFSET(InputPriceData!E$15,CalculationsAndCharts!$A411+$A$11,IF($C$7,8,0),1,1)","v":0},{"$f":"OFFSET(InputPriceData!F$15,CalculationsAndCharts!$A411+$A$11,IF($C$7,8,0),1,1)","v":0},0,0,0,0,0,0,{"$error":"#N/A"},false,0,false,{"$error":"#N/A"},{"$error":"#N/A"},true,false,false,false,false,false,{"$error":"#N/A"},false,{"$error":"#N/A"},false,false,false,false,false,false,{"$error":"#N/A"},0,0,0,0,0,null,{"$f":"OFFSET(InputIndexData!F$15,CalculationsAndCharts!$A411+$A$11,IF($C$7,8,0),1,1)","v":0},0,1,1,true,null,212,{"$error":"#N/A"}]
[380,{"$f":"OFFSET(InputPriceData!B$15,CalculationsAndCharts!$A412+$A$11,0,1,1)","v":"00:00:00"},{"$f":"OFFSET(InputPriceData!G$15,CalculationsAndCharts!$A412+$A$11,IF($C$7,8,0),1,1)","v":0},{"$f":"OFFSET(InputPriceData!C$15,CalculationsAndCharts!$A412+$A$11,IF($C$7,8,0),1,1)","v":0},{"$f":"OFFSET(InputPriceData!D$15,CalculationsAndCharts!$A412+$A$11,IF($C$7,8,0),1,1)","v":0},{"$f":"OFFSET(InputPriceData!E$15,CalculationsAndCharts!$A412+$A$11,IF($C$7,8,0),1,1)","v":0},{"$f":"OFFSET(InputPriceData!F$15,CalculationsAndCharts!$A412+$A$11,IF($C$7,8,0),1,1)","v":0},0,0,0,0,0,0,{"$error":"#N/A"},false,0,false,{"$error":"#N/A"},{"$error":"#N/A"},true,false,false,false,false,false,{"$error":"#N/A"},false,{"$error":"#N/A"},false,false,false,false,false,false,{"$error":"#N/A"},0,0,0,0,0,null,{"$f":"OFFSET(InputIndexData!F$15,CalculationsAndCharts!$A412+$A$11,IF($C$7,8,0),1,1)","v":0},0,1,1,true,null,212,{"$error":"#N/A"}]
[381,{"$f":"OFFSET(InputPriceData!B$15,CalculationsAndCharts!$A413+$A$11,0,1,1)","v":"00:00:00"},{"$f":"OFFSET(InputPriceData!G$15,CalculationsAndCharts!$A413+$A$11,IF($C$7,8,0),1,1)","v":0},{"$f":"OFFSET(InputPriceData!C$15,CalculationsAndCharts!$A413+$A$11,IF($C$7,8,0),1,1)","v":0},{"$f":"OFFSET(InputPriceData!D$15,CalculationsAndCharts!$A413+$A$11,IF($C$7,8,0),1,1)","v":0},{"$f":"OFFSET(InputPriceData!E$15,CalculationsAndCharts!$A413+$A$11,IF($C$7,8,0),1,1)","v":0},{"$f":"OFFSET(InputPriceData!F$15,CalculationsAndCharts!$A413+$A$11,IF($C$7,8,0),1,1)","v":0},0,0,0,0,0,0,{"$error":"#N/A"},false,0,false,{"$error":"#N/A"},{"$error":"#N/A"},true,false,false,false,false,false,{"$error":"#N/A"},false,{"$error":"#N/A"},false,false,false,false,false,false,{"$error":"#N/A"},0,0,0,0,0,null,{"$f":"OFFSET(InputIndexData!F$15,CalculationsAndCharts!$A413+$A$11,IF($C$7,8,0),1,1)","v":0},0,1,1,true,null,212,{"$error":"#N/A"}]
[382,{"$f":"OFFSET(InputPriceData!B$15,CalculationsAndCharts!$A414+$A$11,0,1,1)","v":"00:00:00"},{"$f":"OFFSET(InputPriceData!G$15,CalculationsAndCharts!$A414+$A$11,IF($C$7,8,0),1,1)","v":0},{"$f":"OFFSET(InputPriceData!C$15,CalculationsAndCharts!$A414+$A$11,IF($C$7,8,0),1,1)","v":0},{"$f":"OFFSET(InputPriceData!D$15,CalculationsAndCharts!$A414+$A$11,IF($C$7,8,0),1,1)","v":0},{"$f":"OFFSET(InputPriceData!E$15,CalculationsAndCharts!$A414+$A$11,IF($C$7,8,0),1,1)","v":0},{"$f":"OFFSET(InputPriceData!F$15,CalculationsAndCharts!$A414+$A$11,IF($C$7,8,0),1,1)","v":0},0,0,0,0,0,0,{"$error":"#N/A"},false,0,false,{"$error":"#N/A"},{"$error":"#N/A"},true,false,false,false,false,false,{"$error":"#N/A"},false,{"$error":"#N/A"},false,false,false,false,false,false,{"$error":"#N/A"},0,0,0,0,0,null,{"$f":"OFFSET(InputIndexData!F$15,CalculationsAndCharts!$A414+$A$11,IF($C$7,8,0),1,1)","v":0},0,1,1,true,null,212,{"$error":"#N/A"}]
[383,{"$f":"OFFSET(InputPriceData!B$15,CalculationsAndCharts!$A415+$A$11,0,1,1)","v":"00:00:00"},{"$f":"OFFSET(InputPriceData!G$15,CalculationsAndCharts!$A415+$A$11,IF($C$7,8,0),1,1)","v":0},{"$f":"OFFSET(InputPriceData!C$15,CalculationsAndCharts!$A415+$A$11,IF($C$7,8,0),1,1)","v":0},{"$f":"OFFSET(InputPriceData!D$15,CalculationsAndCharts!$A415+$A$11,IF($C$7,8,0),1,1)","v":0},{"$f":"OFFSET(InputPriceData!E$15,CalculationsAndCharts!$A415+$A$11,IF($C$7,8,0),1,1)","v":0},{"$f":"OFFSET(InputPriceData!F$15,CalculationsAndCharts!$A415+$A$11,IF($C$7,8,0),1,1)","v":0},0,0,0,0,0,0,{"$error":"#N/A"},false,0,false,{"$error":"#N/A"},{"$error":"#N/A"},true,false,false,false,false,false,{"$error":"#N/A"},false,{"$error":"#N/A"},false,false,false,false,false,false,{"$error":"#N/A"},0,0,0,0,0,null,{"$f":"OFFSET(InputIndexData!F$15,CalculationsAndCharts!$A415+$A$11,IF($C$7,8,0),1,1)","v":0},0,1,1,true,null,212,{"$error":"#N/A"}]
[384,{"$f":"OFFSET(InputPriceData!B$15,CalculationsAndCharts!$A416+$A$11,0,1,1)","v":"00:00:00"},{"$f":"OFFSET(InputPriceData!G$15,CalculationsAndCharts!$A416+$A$11,IF($C$7,8,0),1,1)","v":0},{"$f":"OFFSET(InputPriceData!C$15,CalculationsAndCharts!$A416+$A$11,IF($C$7,8,0),1,1)","v":0},{"$f":"OFFSET(InputPriceData!D$15,CalculationsAndCharts!$A416+$A$11,IF($C$7,8,0),1,1)","v":0},{"$f":"OFFSET(InputPriceData!E$15,CalculationsAndCharts!$A416+$A$11,IF($C$7,8,0),1,1)","v":0},{"$f":"OFFSET(InputPriceData!F$15,CalculationsAndCharts!$A416+$A$11,IF($C$7,8,0),1,1)","v":0},0,0,0,0,0,0,{"$error":"#N/A"},false,0,false,{"$error":"#N/A"},{"$error":"#N/A"},true,false,false,false,false,false,{"$error":"#N/A"},false,{"$error":"#N/A"},false,false,false,false,false,false,{"$error":"#N/A"},0,0,0,0,0,null,{"$f":"OFFSET(InputIndexData!F$15,CalculationsAndCharts!$A416+$A$11,IF($C$7,8,0),1,1)","v":0},0,1,1,true,null,212,{"$error":"#N/A"}]
[385,{"$f":"OFFSET(InputPriceData!B$15,CalculationsAndCharts!$A417+$A$11,0,1,1)","v":"00:00:00"},{"$f":"OFFSET(InputPriceData!G$15,CalculationsAndCharts!$A417+$A$11,IF($C$7,8,0),1,1)","v":0},{"$f":"OFFSET(InputPriceData!C$15,CalculationsAndCharts!$A417+$A$11,IF($C$7,8,0),1,1)","v":0},{"$f":"OFFSET(InputPriceData!D$15,CalculationsAndCharts!$A417+$A$11,IF($C$7,8,0),1,1)","v":0},{"$f":"OFFSET(InputPriceData!E$15,CalculationsAndCharts!$A417+$A$11,IF($C$7,8,0),1,1)","v":0},{"$f":"OFFSET(InputPriceData!F$15,CalculationsAndCharts!$A417+$A$11,IF($C$7,8,0),1,1)","v":0},{"$f":"AVERAGE(OFFSET(G417,0,0,$A$17,1))","v":0},{"$f":"AVERAGE(OFFSET(G417,0,0,$A$18,1))","v":0},{"$f":"AVERAGE(OFFSET(G417,0,0,$A$19,1))","v":0},{"$f":"AVERAGE(OFFSET(E417,0,0,$A$20,1))","v":0},{"$f":"AVERAGE(OFFSET(F417,0,0,$A$21,1))","v":0},0,{"$error":"#N/A"},{"$f":"AND(G418<=K418,G417>K417,OR(P418=\"DOWN\",P418=0))","v":false},{"$f":"IF(AND(OR(P418=0,P418=\"UP\"),Q417),\"DOWN\",IF(AND(OR(P418=0,P418=\"DOWN\"),O417),\"UP\",P418))","v":0},{"$f":"AND(G418>=L418,G417<L417,OR(P418=0,P418=\"UP\"))","v":false},{"$error":"#N/A"},{"$error":"#N/A"},true,{"$f":"AND(T417,O417)","v":false},false,false,{"$f":"AND(W417,Q417)","v":false},false,{"$f":"IF(AND(NOT(AA417),OR(W417,Y417)),$F$11,NA())","v":{"$error":"#N/A"}},false,{"$error":"#N/A"},false,{"$f":"AND(AC417,Q417)","v":false},{"$f":"AD418","v":false},false,false,{"$f":"AG418","v":false},{"$f":"IF(AND(NOT(AA417),OR(AF417,AH417)),$F$11,NA())","v":{"$error":"#N/A"}},0,0,0,0,0,null,{"$f":"OFFSET(InputIndexData!F$15,CalculationsAndCharts!$A417+$A$11,IF($C$7,8,0),1,1)","v":0},0,1,1,true,null,{"$f":"IF(AT417,$AR$26,NA())","v":212},{"$f":"IF(AT417,NA(),$AR$26)","v":{"$error":"#N/A"}}]
[386,{"$f":"OFFSET(InputPriceData!B$15,CalculationsAndCharts!$A418+$A$11,0,1,1)","v":"00:00:00"},{"$f":"OFFSET(InputPriceData!G$15,CalculationsAndCharts!$A418+$A$11,IF($C$7,8,0),1,1)","v":0},{"$f":"OFFSET(InputPriceData!C$15,CalculationsAndCharts!$A418+$A$11,IF($C$7,8,0),1,1)","v":0},{"$f":"OFFSET(InputPriceData!D$15,CalculationsAndCharts!$A418+$A$11,IF($C$7,8,0),1,1)","v":0},{"$f":"OFFSET(InputPriceData!E$15,CalculationsAndCharts!$A418+$A$11,IF($C$7,8,0),1,1)","v":0},{"$f":"OFFSET(InputPriceData!F$15,CalculationsAndCharts!$A418+$A$11,IF($C$7,8,0),1,1)","v":0},0,0,0,0,0,{"$f":"IF(D418<=G418,C418,NA())","v":0},{"$f":"IF(D418<=G418,NA(),C418)","v":{"$error":"#N/A"}},false,0,false,{"$error":"#N/A"},{"$error":"#N/A"},{"$f":"AND(OR(NOT($R$11),AT418),OR(NOT($R$12),J418>=I418),OR(NOT($R$13),I418>=H418),OR(NOT($R$14),G418>=I418))","v":true},false,false,false,false,false,{"$error":"#N/A"},false,{"$error":"#N/A"},{"$f":"AND(   OR(NOT($R$11),NOT(AT418)),   OR(NOT($R$12),J418<=I418),   OR(NOT($R$13),I418<=H418),   OR(NOT($R$14),G418<=I418)   )","v":false},false,false,{"$f":"IF(AE418,TRUE,IF(AG419,FALSE,AF419))","v":false},{"$f":"AND(AF418,O418)","v":false},false,{"$error":"#N/A"},{"$f":"IF($R$3,H418,NA())","v":0},{"$f":"IF($R$4,I418,NA())","v":0},{"$f":"IF($R$5,J418,NA())","v":0},{"$f":"IF($R$6,K418,NA())","v":0},{"$f":"IF($R$6,L418,NA())","v":0},null,{"$f":"OFFSET(InputIndexData!F$15,CalculationsAndCharts!$A418+$A$11,IF($C$7,8,0),1,1)","v":0},{"$f":"AVERAGE(OFFSET(AP418,0,0,$D$17,1))","v":0},{"$f":"IF(AQ418-AQ419>=0,1,-1)","v":1},{"$f":"AVERAGE(OFFSET(AR418,0,0,$D$18,1))","v":1},{"$f":"OR(AS418>0,AND(AS418=0,AS419>0))","v":true},null,212,{"$error":"#N/A"}]
[387,{"$f":"OFFSET(InputPriceData!B$15,CalculationsAndCharts!$A419+$A$11,0,1,1)","v":"00:00:00"},{"$f":"OFFSET(InputPriceData!G$15,CalculationsAndCharts!$A419+$A$11,IF($C$7,8,0),1,1)","v":0},{"$f":"OFFSET(InputPriceData!C$15,CalculationsAndCharts!$A419+$A$11,IF($C$7,8,0),1,1)","v":0},{"$f":"OFFSET(InputPriceData!D$15,CalculationsAndCharts!$A419+$A$11,IF($C$7,8,0),1,1)","v":0},{"$f":"OFFSET(InputPriceData!E$15,CalculationsAndCharts!$A419+$A$11,IF($C$7,8,0),1,1)","v":0},{"$f":"OFFSET(InputPriceData!F$15,CalculationsAndCharts!$A419+$A$11,IF($C$7,8,0),1,1)","v":0},0,0,0,0,0,0,{"$error":"#N/A"},false,0,false,{"$error":"#N/A"},{"$error":"#N/A"},true,false,false,false,false,false,{"$error":"#N/A"},false,{"$error":"#N/A"},false,false,false,false,false,false,{"$error":"#N/A"},0,0,0,0,0,null,{"$f":"OFFSET(InputIndexData!F$15,CalculationsAndCharts!$A419+$A$11,IF($C$7,8,0),1,1)","v":0},0,1,1,true,null,212,{"$error":"#N/A"}]
[388,{"$f":"OFFSET(InputPriceData!B$15,CalculationsAndCharts!$A420+$A$11,0,1,1)","v":"00:00:00"},{"$f":"OFFSET(InputPriceData!G$15,CalculationsAndCharts!$A420+$A$11,IF($C$7,8,0),1,1)","v":0},{"$f":"OFFSET(InputPriceData!C$15,CalculationsAndCharts!$A420+$A$11,IF($C$7,8,0),1,1)","v":0},{"$f":"OFFSET(InputPriceData!D$15,CalculationsAndCharts!$A420+$A$11,IF($C$7,8,0),1,1)","v":0},{"$f":"OFFSET(InputPriceData!E$15,CalculationsAndCharts!$A420+$A$11,IF($C$7,8,0),1,1)","v":0},{"$f":"OFFSET(InputPriceData!F$15,CalculationsAndCharts!$A420+$A$11,IF($C$7,8,0),1,1)","v":0},0,0,0,0,0,0,{"$error":"#N/A"},false,0,false,{"$error":"#N/A"},{"$error":"#N/A"},true,false,false,false,false,false,{"$error":"#N/A"},false,{"$error":"#N/A"},false,false,false,false,false,false,{"$error":"#N/A"},0,0,0,0,0,null,{"$f":"OFFSET(InputIndexData!F$15,CalculationsAndCharts!$A420+$A$11,IF($C$7,8,0),1,1)","v":0},0,1,1,true,null,212,{"$error":"#N/A"}]
[389,{"$f":"OFFSET(InputPriceData!B$15,CalculationsAndCharts!$A421+$A$11,0,1,1)","v":"00:00:00"},{"$f":"OFFSET(InputPriceData!G$15,CalculationsAndCharts!$A421+$A$11,IF($C$7,8,0),1,1)","v":0},{"$f":"OFFSET(InputPriceData!C$15,CalculationsAndCharts!$A421+$A$11,IF($C$7,8,0),1,1)","v":0},{"$f":"OFFSET(InputPriceData!D$15,CalculationsAndCharts!$A421+$A$11,IF($C$7,8,0),1,1)","v":0},{"$f":"OFFSET(InputPriceData!E$15,CalculationsAndCharts!$A421+$A$11,IF($C$7,8,0),1,1)","v":0},{"$f":"OFFSET(InputPriceData!F$15,CalculationsAndCharts!$A421+$A$11,IF($C$7,8,0),1,1)","v":0},0,0,0,0,0,0,{"$error":"#N/A"},false,0,false,{"$error":"#N/A"},{"$error":"#N/A"},true,false,false,false,false,false,{"$error":"#N/A"},false,{"$error":"#N/A"},false,false,false,false,false,false,{"$error":"#N/A"},0,0,0,0,0,null,{"$f":"OFFSET(InputIndexData!F$15,CalculationsAndCharts!$A421+$A$11,IF($C$7,8,0),1,1)","v":0},0,1,1,true,null,212,{"$error":"#N/A"}]
[390,{"$f":"OFFSET(InputPriceData!B$15,CalculationsAndCharts!$A422+$A$11,0,1,1)","v":"00:00:00"},{"$f":"OFFSET(InputPriceData!G$15,CalculationsAndCharts!$A422+$A$11,IF($C$7,8,0),1,1)","v":0},{"$f":"OFFSET(InputPriceData!C$15,CalculationsAndCharts!$A422+$A$11,IF($C$7,8,0),1,1)","v":0},{"$f":"OFFSET(InputPriceData!D$15,CalculationsAndCharts!$A422+$A$11,IF($C$7,8,0),1,1)","v":0},{"$f":"OFFSET(InputPriceData!E$15,CalculationsAndCharts!$A422+$A$11,IF($C$7,8,0),1,1)","v":0},{"$f":"OFFSET(InputPriceData!F$15,CalculationsAndCharts!$A422+$A$11,IF($C$7,8,0),1,1)","v":0},0,0,0,0,0,0,{"$error":"#N/A"},false,0,false,{"$error":"#N/A"},{"$error":"#N/A"},true,false,false,false,false,false,{"$error":"#N/A"},false,{"$error":"#N/A"},false,false,false,false,false,false,{"$error":"#N/A"},0,0,0,0,0,null,{"$f":"OFFSET(InputIndexData!F$15,CalculationsAndCharts!$A422+$A$11,IF($C$7,8,0),1,1)","v":0},0,1,1,true,null,212,{"$error":"#N/A"}]
[391,{"$f":"OFFSET(InputPriceData!B$15,CalculationsAndCharts!$A423+$A$11,0,1,1)","v":"00:00:00"},{"$f":"OFFSET(InputPriceData!G$15,CalculationsAndCharts!$A423+$A$11,IF($C$7,8,0),1,1)","v":0},{"$f":"OFFSET(InputPriceData!C$15,CalculationsAndCharts!$A423+$A$11,IF($C$7,8,0),1,1)","v":0},{"$f":"OFFSET(InputPriceData!D$15,CalculationsAndCharts!$A423+$A$11,IF($C$7,8,0),1,1)","v":0},{"$f":"OFFSET(InputPriceData!E$15,CalculationsAndCharts!$A423+$A$11,IF($C$7,8,0),1,1)","v":0},{"$f":"OFFSET(InputPriceData!F$15,CalculationsAndCharts!$A423+$A$11,IF($C$7,8,0),1,1)","v":0},0,0,0,0,0,0,{"$error":"#N/A"},false,0,false,{"$error":"#N/A"},{"$error":"#N/A"},true,false,false,false,false,false,{"$error":"#N/A"},false,{"$error":"#N/A"},false,false,false,false,false,false,{"$error":"#N/A"},0,0,0,0,0,null,{"$f":"OFFSET(InputIndexData!F$15,CalculationsAndCharts!$A423+$A$11,IF($C$7,8,0),1,1)","v":0},0,1,1,true,null,212,{"$error":"#N/A"}]
[392,{"$f":"OFFSET(InputPriceData!B$15,CalculationsAndCharts!$A424+$A$11,0,1,1)","v":"00:00:00"},{"$f":"OFFSET(InputPriceData!G$15,CalculationsAndCharts!$A424+$A$11,IF($C$7,8,0),1,1)","v":0},{"$f":"OFFSET(InputPriceData!C$15,CalculationsAndCharts!$A424+$A$11,IF($C$7,8,0),1,1)","v":0},{"$f":"OFFSET(InputPriceData!D$15,CalculationsAndCharts!$A424+$A$11,IF($C$7,8,0),1,1)","v":0},{"$f":"OFFSET(InputPriceData!E$15,CalculationsAndCharts!$A424+$A$11,IF($C$7,8,0),1,1)","v":0},{"$f":"OFFSET(InputPriceData!F$15,CalculationsAndCharts!$A424+$A$11,IF($C$7,8,0),1,1)","v":0},0,0,0,0,0,0,{"$error":"#N/A"},false,0,false,{"$error":"#N/A"},{"$error":"#N/A"},true,false,false,false,false,false,{"$error":"#N/A"},false,{"$f":"IF(AA424,$F$11,NA())","v":{"$error":"#N/A"}},false,false,false,false,false,false,{"$error":"#N/A"},0,0,0,0,0,null,{"$f":"OFFSET(InputIndexData!F$15,CalculationsAndCharts!$A424+$A$11,IF($C$7,8,0),1,1)","v":0},0,1,1,true,null,212,{"$error":"#N/A"}]
[393,{"$f":"OFFSET(InputPriceData!B$15,CalculationsAndCharts!$A425+$A$11,0,1,1)","v":"00:00:00"},{"$f":"OFFSET(InputPriceData!G$15,CalculationsAndCharts!$A425+$A$11,IF($C$7,8,0),1,1)","v":0},{"$f":"OFFSET(InputPriceData!C$15,CalculationsAndCharts!$A425+$A$11,IF($C$7,8,0),1,1)","v":0},{"$f":"OFFSET(InputPriceData!D$15,CalculationsAndCharts!$A425+$A$11,IF($C$7,8,0),1,1)","v":0},{"$f":"OFFSET(InputPriceData!E$15,CalculationsAndCharts!$A425+$A$11,IF($C$7,8,0),1,1)","v":0},{"$f":"OFFSET(InputPriceData!F$15,CalculationsAndCharts!$A425+$A$11,IF($C$7,8,0),1,1)","v":0},0,0,0,0,0,0,{"$error":"#N/A"},false,0,false,{"$f":"IF(O425,G425,NA())","v":{"$error":"#N/A"}},{"$f":"IF(Q425,G425,NA())","v":{"$error":"#N/A"}},true,false,false,false,false,false,{"$error":"#N/A"},false,{"$error":"#N/A"},false,false,false,false,false,false,{"$error":"#N/A"},0,0,0,0,0,null,{"$f":"OFFSET(InputIndexData!F$15,CalculationsAndCharts!$A425+$A$11,IF($C$7,8,0),1,1)","v":0},0,1,1,true,null,212,{"$error":"#N/A"}]
[394,{"$f":"OFFSET(InputPriceData!B$15,CalculationsAndCharts!$A426+$A$11,0,1,1)","v":"00:00:00"},{"$f":"OFFSET(InputPriceData!G$15,CalculationsAndCharts!$A426+$A$11,IF($C$7,8,0),1,1)","v":0},{"$f":"OFFSET(InputPriceData!C$15,CalculationsAndCharts!$A426+$A$11,IF($C$7,8,0),1,1)","v":0},{"$f":"OFFSET(InputPriceData!D$15,CalculationsAndCharts!$A426+$A$11,IF($C$7,8,0),1,1)","v":0},{"$f":"OFFSET(InputPriceData!E$15,CalculationsAndCharts!$A426+$A$11,IF($C$7,8,0),1,1)","v":0},{"$f":"OFFSET(InputPriceData!F$15,CalculationsAndCharts!$A426+$A$11,IF($C$7,8,0),1,1)","v":0},0,0,0,0,0,0,{"$error":"#N/A"},false,0,false,{"$error":"#N/A"},{"$error":"#N/A"},true,false,false,false,false,false,{"$error":"#N/A"},false,{"$error":"#N/A"},false,false,false,false,false,false,{"$error":"#N/A"},0,0,0,0,0,null,{"$f":"OFFSET(InputIndexData!F$15,CalculationsAndCharts!$A426+$A$11,IF($C$7,8,0),1,1)","v":0},0,1,1,true,null,212,{"$error":"#N/A"}]
[395,{"$f":"OFFSET(InputPriceData!B$15,CalculationsAndCharts!$A427+$A$11,0,1,1)","v":"00:00:00"},{"$f":"OFFSET(InputPriceData!G$15,CalculationsAndCharts!$A427+$A$11,IF($C$7,8,0),1,1)","v":0},{"$f":"OFFSET(InputPriceData!C$15,CalculationsAndCharts!$A427+$A$11,IF($C$7,8,0),1,1)","v":0},{"$f":"OFFSET(InputPriceData!D$15,CalculationsAndCharts!$A427+$A$11,IF($C$7,8,0),1,1)","v":0},{"$f":"OFFSET(InputPriceData!E$15,CalculationsAndCharts!$A427+$A$11,IF($C$7,8,0),1,1)","v":0},{"$f":"OFFSET(InputPriceData!F$15,CalculationsAndCharts!$A427+$A$11,IF($C$7,8,0),1,1)","v":0},0,0,0,0,0,0,{"$error":"#N/A"},false,0,false,{"$error":"#N/A"},{"$error":"#N/A"},true,false,false,false,false,false,{"$error":"#N/A"},false,{"$error":"#N/A"},false,false,false,false,false,false,{"$error":"#N/A"},0,0,0,0,0,null,{"$f":"OFFSET(InputIndexData!F$15,CalculationsAndCharts!$A427+$A$11,IF($C$7,8,0),1,1)","v":0},0,1,1,true,null,212,{"$error":"#N/A"}]
[396,{"$f":"OFFSET(InputPriceData!B$15,CalculationsAndCharts!$A428+$A$11,0,1,1)","v":"00:00:00"},{"$f":"OFFSET(InputPriceData!G$15,CalculationsAndCharts!$A428+$A$11,IF($C$7,8,0),1,1)","v":0},{"$f":"OFFSET(InputPriceData!C$15,CalculationsAndCharts!$A428+$A$11,IF($C$7,8,0),1,1)","v":0},{"$f":"OFFSET(InputPriceData!D$15,CalculationsAndCharts!$A428+$A$11,IF($C$7,8,0),1,1)","v":0},{"$f":"OFFSET(InputPriceData!E$15,CalculationsAndCharts!$A428+$A$11,IF($C$7,8,0),1,1)","v":0},{"$f":"OFFSET(InputPriceData!F$15,CalculationsAndCharts!$A428+$A$11,IF($C$7,8,0),1,1)","v":0},0,0,0,0,0,0,{"$error":"#N/A"},false,0,false,{"$error":"#N/A"},{"$error":"#N/A"},true,false,false,false,false,false,{"$error":"#N/A"},false,{"$error":"#N/A"},false,false,false,false,false,false,{"$error":"#N/A"},0,0,0,0,0,null,{"$f":"OFFSET(InputIndexData!F$15,CalculationsAndCharts!$A428+$A$11,IF($C$7,8,0),1,1)","v":0},0,1,1,true,null,212,{"$error":"#N/A"}]
[397,{"$f":"OFFSET(InputPriceData!B$15,CalculationsAndCharts!$A429+$A$11,0,1,1)","v":"00:00:00"},{"$f":"OFFSET(InputPriceData!G$15,CalculationsAndCharts!$A429+$A$11,IF($C$7,8,0),1,1)","v":0},{"$f":"OFFSET(InputPriceData!C$15,CalculationsAndCharts!$A429+$A$11,IF($C$7,8,0),1,1)","v":0},{"$f":"OFFSET(InputPriceData!D$15,CalculationsAndCharts!$A429+$A$11,IF($C$7,8,0),1,1)","v":0},{"$f":"OFFSET(InputPriceData!E$15,CalculationsAndCharts!$A429+$A$11,IF($C$7,8,0),1,1)","v":0},{"$f":"OFFSET(InputPriceData!F$15,CalculationsAndCharts!$A429+$A$11,IF($C$7,8,0),1,1)","v":0},0,0,0,0,0,0,{"$error":"#N/A"},false,0,false,{"$error":"#N/A"},{"$error":"#N/A"},true,false,false,false,false,false,{"$error":"#N/A"},false,{"$error":"#N/A"},false,false,false,false,false,false,{"$error":"#N/A"},0,0,0,0,0,null,{"$f":"OFFSET(InputIndexData!F$15,CalculationsAndCharts!$A429+$A$11,IF($C$7,8,0),1,1)","v":0},0,1,1,true,null,212,{"$error":"#N/A"}]
[398,{"$f":"OFFSET(InputPriceData!B$15,CalculationsAndCharts!$A430+$A$11,0,1,1)","v":"00:00:00"},{"$f":"OFFSET(InputPriceData!G$15,CalculationsAndCharts!$A430+$A$11,IF($C$7,8,0),1,1)","v":0},{"$f":"OFFSET(InputPriceData!C$15,CalculationsAndCharts!$A430+$A$11,IF($C$7,8,0),1,1)","v":0},{"$f":"OFFSET(InputPriceData!D$15,CalculationsAndCharts!$A430+$A$11,IF($C$7,8,0),1,1)","v":0},{"$f":"OFFSET(InputPriceData!E$15,CalculationsAndCharts!$A430+$A$11,IF($C$7,8,0),1,1)","v":0},{"$f":"OFFSET(InputPriceData!F$15,CalculationsAndCharts!$A430+$A$11,IF($C$7,8,0),1,1)","v":0},0,0,0,0,0,0,{"$error":"#N/A"},false,0,false,{"$error":"#N/A"},{"$error":"#N/A"},true,false,false,false,false,false,{"$error":"#N/A"},false,{"$error":"#N/A"},false,false,false,false,false,false,{"$error":"#N/A"},0,0,0,0,0,null,{"$f":"OFFSET(InputIndexData!F$15,CalculationsAndCharts!$A430+$A$11,IF($C$7,8,0),1,1)","v":0},0,1,1,true,null,212,{"$error":"#N/A"}]
[399,{"$f":"OFFSET(InputPriceData!B$15,CalculationsAndCharts!$A431+$A$11,0,1,1)","v":"00:00:00"},{"$f":"OFFSET(InputPriceData!G$15,CalculationsAndCharts!$A431+$A$11,IF($C$7,8,0),1,1)","v":0},{"$f":"OFFSET(InputPriceData!C$15,CalculationsAndCharts!$A431+$A$11,IF($C$7,8,0),1,1)","v":0},{"$f":"OFFSET(InputPriceData!D$15,CalculationsAndCharts!$A431+$A$11,IF($C$7,8,0),1,1)","v":0},{"$f":"OFFSET(InputPriceData!E$15,CalculationsAndCharts!$A431+$A$11,IF($C$7,8,0),1,1)","v":0},{"$f":"OFFSET(InputPriceData!F$15,CalculationsAndCharts!$A431+$A$11,IF($C$7,8,0),1,1)","v":0},0,0,0,0,0,0,{"$error":"#N/A"},false,0,false,{"$error":"#N/A"},{"$error":"#N/A"},true,false,false,false,false,false,{"$error":"#N/A"},false,{"$error":"#N/A"},false,false,false,false,false,false,{"$error":"#N/A"},0,0,0,0,0,null,{"$f":"OFFSET(InputIndexData!F$15,CalculationsAndCharts!$A431+$A$11,IF($C$7,8,0),1,1)","v":0},0,1,1,true,null,212,{"$error":"#N/A"}]
[400,{"$f":"OFFSET(InputPriceData!B$15,CalculationsAndCharts!$A432+$A$11,0,1,1)","v":"00:00:00"},{"$f":"OFFSET(InputPriceData!G$15,CalculationsAndCharts!$A432+$A$11,IF($C$7,8,0),1,1)","v":0},{"$f":"OFFSET(InputPriceData!C$15,CalculationsAndCharts!$A432+$A$11,IF($C$7,8,0),1,1)","v":0},{"$f":"OFFSET(InputPriceData!D$15,CalculationsAndCharts!$A432+$A$11,IF($C$7,8,0),1,1)","v":0},{"$f":"OFFSET(InputPriceData!E$15,CalculationsAndCharts!$A432+$A$11,IF($C$7,8,0),1,1)","v":0},{"$f":"OFFSET(InputPriceData!F$15,CalculationsAndCharts!$A432+$A$11,IF($C$7,8,0),1,1)","v":0},0,0,0,0,0,0,{"$error":"#N/A"},false,0,false,{"$error":"#N/A"},{"$error":"#N/A"},true,false,false,false,false,false,{"$error":"#N/A"},{"$f":"AND(OR(W432,Y432),OR(AF432,AH432))","v":false},{"$error":"#N/A"},false,false,false,false,false,false,{"$error":"#N/A"},0,0,0,0,0,null,{"$f":"OFFSET(InputIndexData!F$15,CalculationsAndCharts!$A432+$A$11,IF($C$7,8,0),1,1)","v":0},0,1,1,true,null,212,{"$error":"#N/A"}]
[401,{"$f":"OFFSET(InputPriceData!B$15,CalculationsAndCharts!$A433+$A$11,0,1,1)","v":"00:00:00"},{"$f":"OFFSET(InputPriceData!G$15,CalculationsAndCharts!$A433+$A$11,IF($C$7,8,0),1,1)","v":0},{"$f":"OFFSET(InputPriceData!C$15,CalculationsAndCharts!$A433+$A$11,IF($C$7,8,0),1,1)","v":0},{"$f":"OFFSET(InputPriceData!D$15,CalculationsAndCharts!$A433+$A$11,IF($C$7,8,0),1,1)","v":0},{"$f":"OFFSET(InputPriceData!E$15,CalculationsAndCharts!$A433+$A$11,IF($C$7,8,0),1,1)","v":0},{"$f":"OFFSET(InputPriceData!F$15,CalculationsAndCharts!$A433+$A$11,IF($C$7,8,0),1,1)","v":0},0,0,0,0,0,0,{"$error":"#N/A"},false,0,false,{"$error":"#N/A"},{"$error":"#N/A"},true,false,false,false,false,false,{"$error":"#N/A"},false,{"$error":"#N/A"},false,false,false,false,false,false,{"$error":"#N/A"},0,0,0,0,0,null,{"$f":"OFFSET(InputIndexData!F$15,CalculationsAndCharts!$A433+$A$11,IF($C$7,8,0),1,1)","v":0},0,1,1,true,null,212,{"$error":"#N/A"}]
[402,{"$f":"OFFSET(InputPriceData!B$15,CalculationsAndCharts!$A434+$A$11,0,1,1)","v":"00:00:00"},{"$f":"OFFSET(InputPriceData!G$15,CalculationsAndCharts!$A434+$A$11,IF($C$7,8,0),1,1)","v":0},{"$f":"OFFSET(InputPriceData!C$15,CalculationsAndCharts!$A434+$A$11,IF($C$7,8,0),1,1)","v":0},{"$f":"OFFSET(InputPriceData!D$15,CalculationsAndCharts!$A434+$A$11,IF($C$7,8,0),1,1)","v":0},{"$f":"OFFSET(InputPriceData!E$15,CalculationsAndCharts!$A434+$A$11,IF($C$7,8,0),1,1)","v":0},{"$f":"OFFSET(InputPriceData!F$15,CalculationsAndCharts!$A434+$A$11,IF($C$7,8,0),1,1)","v":0},0,0,0,0,0,0,{"$error":"#N/A"},false,0,false,{"$error":"#N/A"},{"$error":"#N/A"},true,false,false,false,false,false,{"$error":"#N/A"},false,{"$error":"#N/A"},false,false,false,false,false,false,{"$error":"#N/A"},0,0,0,0,0,null,{"$f":"OFFSET(InputIndexData!F$15,CalculationsAndCharts!$A434+$A$11,IF($C$7,8,0),1,1)","v":0},0,1,1,true,null,212,{"$error":"#N/A"}]
[403,{"$f":"OFFSET(InputPriceData!B$15,CalculationsAndCharts!$A435+$A$11,0,1,1)","v":"00:00:00"},{"$f":"OFFSET(InputPriceData!G$15,CalculationsAndCharts!$A435+$A$11,IF($C$7,8,0),1,1)","v":0},{"$f":"OFFSET(InputPriceData!C$15,CalculationsAndCharts!$A435+$A$11,IF($C$7,8,0),1,1)","v":0},{"$f":"OFFSET(InputPriceData!D$15,CalculationsAndCharts!$A435+$A$11,IF($C$7,8,0),1,1)","v":0},{"$f":"OFFSET(InputPriceData!E$15,CalculationsAndCharts!$A435+$A$11,IF($C$7,8,0),1,1)","v":0},{"$f":"OFFSET(InputPriceData!F$15,CalculationsAndCharts!$A435+$A$11,IF($C$7,8,0),1,1)","v":0},0,0,0,0,0,0,{"$error":"#N/A"},false,0,false,{"$error":"#N/A"},{"$error":"#N/A"},true,false,false,false,false,{"$f":"X436","v":false},{"$error":"#N/A"},false,{"$error":"#N/A"},false,false,false,false,false,false,{"$error":"#N/A"},0,0,0,0,0,null,{"$f":"OFFSET(InputIndexData!F$15,CalculationsAndCharts!$A435+$A$11,IF($C$7,8,0),1,1)","v":0},0,1,1,true,null,212,{"$error":"#N/A"}]
[404,{"$f":"OFFSET(InputPriceData!B$15,CalculationsAndCharts!$A436+$A$11,0,1,1)","v":"00:00:00"},{"$f":"OFFSET(InputPriceData!G$15,CalculationsAndCharts!$A436+$A$11,IF($C$7,8,0),1,1)","v":0},{"$f":"OFFSET(InputPriceData!C$15,CalculationsAndCharts!$A436+$A$11,IF($C$7,8,0),1,1)","v":0},{"$f":"OFFSET(InputPriceData!D$15,CalculationsAndCharts!$A436+$A$11,IF($C$7,8,0),1,1)","v":0},{"$f":"OFFSET(InputPriceData!E$15,CalculationsAndCharts!$A436+$A$11,IF($C$7,8,0),1,1)","v":0},{"$f":"OFFSET(InputPriceData!F$15,CalculationsAndCharts!$A436+$A$11,IF($C$7,8,0),1,1)","v":0},0,0,0,0,0,0,{"$error":"#N/A"},false,0,false,{"$error":"#N/A"},{"$error":"#N/A"},true,false,false,false,false,false,{"$error":"#N/A"},false,{"$error":"#N/A"},false,false,false,false,false,false,{"$error":"#N/A"},0,0,0,0,0,null,{"$f":"OFFSET(InputIndexData!F$15,CalculationsAndCharts!$A436+$A$11,IF($C$7,8,0),1,1)","v":0},0,1,1,true,null,212,{"$error":"#N/A"}]
[405,{"$f":"OFFSET(InputPriceData!B$15,CalculationsAndCharts!$A437+$A$11,0,1,1)","v":"00:00:00"},{"$f":"OFFSET(InputPriceData!G$15,CalculationsAndCharts!$A437+$A$11,IF($C$7,8,0),1,1)","v":0},{"$f":"OFFSET(InputPriceData!C$15,CalculationsAndCharts!$A437+$A$11,IF($C$7,8,0),1,1)","v":0},{"$f":"OFFSET(InputPriceData!D$15,CalculationsAndCharts!$A437+$A$11,IF($C$7,8,0),1,1)","v":0},{"$f":"OFFSET(InputPriceData!E$15,CalculationsAndCharts!$A437+$A$11,IF($C$7,8,0),1,1)","v":0},{"$f":"OFFSET(InputPriceData!F$15,CalculationsAndCharts!$A437+$A$11,IF($C$7,8,0),1,1)","v":0},0,0,0,0,0,0,{"$error":"#N/A"},false,0,false,{"$error":"#N/A"},{"$error":"#N/A"},true,false,false,false,false,false,{"$error":"#N/A"},false,{"$error":"#N/A"},false,false,false,false,false,false,{"$error":"#N/A"},0,0,0,0,0,null,{"$f":"OFFSET(InputIndexData!F$15,CalculationsAndCharts!$A437+$A$11,IF($C$7,8,0),1,1)","v":0},0,1,1,true,null,212,{"$error":"#N/A"}]
[406,{"$f":"OFFSET(InputPriceData!B$15,CalculationsAndCharts!$A438+$A$11,0,1,1)","v":"00:00:00"},{"$f":"OFFSET(InputPriceData!G$15,CalculationsAndCharts!$A438+$A$11,IF($C$7,8,0),1,1)","v":0},{"$f":"OFFSET(InputPriceData!C$15,CalculationsAndCharts!$A438+$A$11,IF($C$7,8,0),1,1)","v":0},{"$f":"OFFSET(InputPriceData!D$15,CalculationsAndCharts!$A438+$A$11,IF($C$7,8,0),1,1)","v":0},{"$f":"OFFSET(InputPriceData!E$15,CalculationsAndCharts!$A438+$A$11,IF($C$7,8,0),1,1)","v":0},{"$f":"OFFSET(InputPriceData!F$15,CalculationsAndCharts!$A438+$A$11,IF($C$7,8,0),1,1)","v":0},0,0,0,0,0,0,{"$error":"#N/A"},false,0,false,{"$error":"#N/A"},{"$error":"#N/A"},true,false,false,false,false,false,{"$error":"#N/A"},false,{"$error":"#N/A"},false,false,false,false,false,false,{"$error":"#N/A"},0,0,0,0,0,null,{"$f":"OFFSET(InputIndexData!F$15,CalculationsAndCharts!$A438+$A$11,IF($C$7,8,0),1,1)","v":0},0,1,1,true,null,212,{"$error":"#N/A"}]
[407,{"$f":"OFFSET(InputPriceData!B$15,CalculationsAndCharts!$A439+$A$11,0,1,1)","v":"00:00:00"},{"$f":"OFFSET(InputPriceData!G$15,CalculationsAndCharts!$A439+$A$11,IF($C$7,8,0),1,1)","v":0},{"$f":"OFFSET(InputPriceData!C$15,CalculationsAndCharts!$A439+$A$11,IF($C$7,8,0),1,1)","v":0},{"$f":"OFFSET(InputPriceData!D$15,CalculationsAndCharts!$A439+$A$11,IF($C$7,8,0),1,1)","v":0},{"$f":"OFFSET(InputPriceData!E$15,CalculationsAndCharts!$A439+$A$11,IF($C$7,8,0),1,1)","v":0},{"$f":"OFFSET(InputPriceData!F$15,CalculationsAndCharts!$A439+$A$11,IF($C$7,8,0),1,1)","v":0},0,0,0,0,0,0,{"$error":"#N/A"},false,0,false,{"$error":"#N/A"},{"$error":"#N/A"},true,false,false,false,false,false,{"$error":"#N/A"},false,{"$error":"#N/A"},false,false,false,false,false,false,{"$error":"#N/A"},0,0,0,0,0,null,{"$f":"OFFSET(InputIndexData!F$15,CalculationsAndCharts!$A439+$A$11,IF($C$7,8,0),1,1)","v":0},0,1,1,true,null,212,{"$error":"#N/A"}]
[408,{"$f":"OFFSET(InputPriceData!B$15,CalculationsAndCharts!$A440+$A$11,0,1,1)","v":"00:00:00"},{"$f":"OFFSET(InputPriceData!G$15,CalculationsAndCharts!$A440+$A$11,IF($C$7,8,0),1,1)","v":0},{"$f":"OFFSET(InputPriceData!C$15,CalculationsAndCharts!$A440+$A$11,IF($C$7,8,0),1,1)","v":0},{"$f":"OFFSET(InputPriceData!D$15,CalculationsAndCharts!$A440+$A$11,IF($C$7,8,0),1,1)","v":0},{"$f":"OFFSET(InputPriceData!E$15,CalculationsAndCharts!$A440+$A$11,IF($C$7,8,0),1,1)","v":0},{"$f":"OFFSET(InputPriceData!F$15,CalculationsAndCharts!$A440+$A$11,IF($C$7,8,0),1,1)","v":0},0,0,0,0,0,0,{"$error":"#N/A"},false,0,false,{"$error":"#N/A"},{"$error":"#N/A"},true,false,false,false,false,false,{"$error":"#N/A"},false,{"$error":"#N/A"},false,false,false,false,false,false,{"$error":"#N/A"},0,0,0,0,0,null,{"$f":"OFFSET(InputIndexData!F$15,CalculationsAndCharts!$A440+$A$11,IF($C$7,8,0),1,1)","v":0},0,1,1,true,null,212,{"$error":"#N/A"}]
[409,{"$f":"OFFSET(InputPriceData!B$15,CalculationsAndCharts!$A441+$A$11,0,1,1)","v":"00:00:00"},{"$f":"OFFSET(InputPriceData!G$15,CalculationsAndCharts!$A441+$A$11,IF($C$7,8,0),1,1)","v":0},{"$f":"OFFSET(InputPriceData!C$15,CalculationsAndCharts!$A441+$A$11,IF($C$7,8,0),1,1)","v":0},{"$f":"OFFSET(InputPriceData!D$15,CalculationsAndCharts!$A441+$A$11,IF($C$7,8,0),1,1)","v":0},{"$f":"OFFSET(InputPriceData!E$15,CalculationsAndCharts!$A441+$A$11,IF($C$7,8,0),1,1)","v":0},{"$f":"OFFSET(InputPriceData!F$15,CalculationsAndCharts!$A441+$A$11,IF($C$7,8,0),1,1)","v":0},0,0,0,0,0,0,{"$error":"#N/A"},false,0,false,{"$error":"#N/A"},{"$error":"#N/A"},true,false,false,false,false,false,{"$error":"#N/A"},false,{"$error":"#N/A"},false,false,false,false,false,false,{"$error":"#N/A"},0,0,0,0,0,null,{"$f":"OFFSET(InputIndexData!F$15,CalculationsAndCharts!$A441+$A$11,IF($C$7,8,0),1,1)","v":0},0,1,1,true,null,212,{"$error":"#N/A"}]
[410,{"$f":"OFFSET(InputPriceData!B$15,CalculationsAndCharts!$A442+$A$11,0,1,1)","v":"00:00:00"},{"$f":"OFFSET(InputPriceData!G$15,CalculationsAndCharts!$A442+$A$11,IF($C$7,8,0),1,1)","v":0},{"$f":"OFFSET(InputPriceData!C$15,CalculationsAndCharts!$A442+$A$11,IF($C$7,8,0),1,1)","v":0},{"$f":"OFFSET(InputPriceData!D$15,CalculationsAndCharts!$A442+$A$11,IF($C$7,8,0),1,1)","v":0},{"$f":"OFFSET(InputPriceData!E$15,CalculationsAndCharts!$A442+$A$11,IF($C$7,8,0),1,1)","v":0},{"$f":"OFFSET(InputPriceData!F$15,CalculationsAndCharts!$A442+$A$11,IF($C$7,8,0),1,1)","v":0},0,0,0,0,0,0,{"$error":"#N/A"},false,0,false,{"$error":"#N/A"},{"$error":"#N/A"},true,false,false,false,false,false,{"$error":"#N/A"},false,{"$error":"#N/A"},false,false,false,false,false,false,{"$error":"#N/A"},0,0,0,0,0,null,{"$f":"OFFSET(InputIndexData!F$15,CalculationsAndCharts!$A442+$A$11,IF($C$7,8,0),1,1)","v":0},0,1,1,true,null,212,{"$error":"#N/A"}]
[411,{"$f":"OFFSET(InputPriceData!B$15,CalculationsAndCharts!$A443+$A$11,0,1,1)","v":"00:00:00"},{"$f":"OFFSET(InputPriceData!G$15,CalculationsAndCharts!$A443+$A$11,IF($C$7,8,0),1,1)","v":0},{"$f":"OFFSET(InputPriceData!C$15,CalculationsAndCharts!$A443+$A$11,IF($C$7,8,0),1,1)","v":0},{"$f":"OFFSET(InputPriceData!D$15,CalculationsAndCharts!$A443+$A$11,IF($C$7,8,0),1,1)","v":0},{"$f":"OFFSET(InputPriceData!E$15,CalculationsAndCharts!$A443+$A$11,IF($C$7,8,0),1,1)","v":0},{"$f":"OFFSET(InputPriceData!F$15,CalculationsAndCharts!$A443+$A$11,IF($C$7,8,0),1,1)","v":0},0,0,0,0,0,0,{"$error":"#N/A"},false,0,false,{"$error":"#N/A"},{"$error":"#N/A"},true,false,false,false,false,false,{"$error":"#N/A"},false,{"$error":"#N/A"},false,false,false,false,false,false,{"$error":"#N/A"},0,0,0,0,0,null,{"$f":"OFFSET(InputIndexData!F$15,CalculationsAndCharts!$A443+$A$11,IF($C$7,8,0),1,1)","v":0},0,1,1,true,null,212,{"$error":"#N/A"}]
[412,{"$f":"OFFSET(InputPriceData!B$15,CalculationsAndCharts!$A444+$A$11,0,1,1)","v":"00:00:00"},{"$f":"OFFSET(InputPriceData!G$15,CalculationsAndCharts!$A444+$A$11,IF($C$7,8,0),1,1)","v":0},{"$f":"OFFSET(InputPriceData!C$15,CalculationsAndCharts!$A444+$A$11,IF($C$7,8,0),1,1)","v":0},{"$f":"OFFSET(InputPriceData!D$15,CalculationsAndCharts!$A444+$A$11,IF($C$7,8,0),1,1)","v":0},{"$f":"OFFSET(InputPriceData!E$15,CalculationsAndCharts!$A444+$A$11,IF($C$7,8,0),1,1)","v":0},{"$f":"OFFSET(InputPriceData!F$15,CalculationsAndCharts!$A444+$A$11,IF($C$7,8,0),1,1)","v":0},0,0,0,0,0,0,{"$error":"#N/A"},false,0,false,{"$error":"#N/A"},{"$error":"#N/A"},true,false,false,false,false,false,{"$error":"#N/A"},false,{"$error":"#N/A"},false,false,false,false,false,false,{"$error":"#N/A"},0,0,0,0,0,null,{"$f":"OFFSET(InputIndexData!F$15,CalculationsAndCharts!$A444+$A$11,IF($C$7,8,0),1,1)","v":0},0,1,1,true,null,212,{"$error":"#N/A"}]
[413,{"$f":"OFFSET(InputPriceData!B$15,CalculationsAndCharts!$A445+$A$11,0,1,1)","v":"00:00:00"},{"$f":"OFFSET(InputPriceData!G$15,CalculationsAndCharts!$A445+$A$11,IF($C$7,8,0),1,1)","v":0},{"$f":"OFFSET(InputPriceData!C$15,CalculationsAndCharts!$A445+$A$11,IF($C$7,8,0),1,1)","v":0},{"$f":"OFFSET(InputPriceData!D$15,CalculationsAndCharts!$A445+$A$11,IF($C$7,8,0),1,1)","v":0},{"$f":"OFFSET(InputPriceData!E$15,CalculationsAndCharts!$A445+$A$11,IF($C$7,8,0),1,1)","v":0},{"$f":"OFFSET(InputPriceData!F$15,CalculationsAndCharts!$A445+$A$11,IF($C$7,8,0),1,1)","v":0},0,0,0,0,0,0,{"$error":"#N/A"},false,0,false,{"$error":"#N/A"},{"$error":"#N/A"},true,false,false,false,false,false,{"$error":"#N/A"},false,{"$error":"#N/A"},false,false,false,false,false,false,{"$error":"#N/A"},0,0,0,0,0,null,{"$f":"OFFSET(InputIndexData!F$15,CalculationsAndCharts!$A445+$A$11,IF($C$7,8,0),1,1)","v":0},0,1,1,true,null,212,{"$error":"#N/A"}]
[414,{"$f":"OFFSET(InputPriceData!B$15,CalculationsAndCharts!$A446+$A$11,0,1,1)","v":"00:00:00"},{"$f":"OFFSET(InputPriceData!G$15,CalculationsAndCharts!$A446+$A$11,IF($C$7,8,0),1,1)","v":0},{"$f":"OFFSET(InputPriceData!C$15,CalculationsAndCharts!$A446+$A$11,IF($C$7,8,0),1,1)","v":0},{"$f":"OFFSET(InputPriceData!D$15,CalculationsAndCharts!$A446+$A$11,IF($C$7,8,0),1,1)","v":0},{"$f":"OFFSET(InputPriceData!E$15,CalculationsAndCharts!$A446+$A$11,IF($C$7,8,0),1,1)","v":0},{"$f":"OFFSET(InputPriceData!F$15,CalculationsAndCharts!$A446+$A$11,IF($C$7,8,0),1,1)","v":0},0,0,0,0,0,0,{"$error":"#N/A"},false,0,false,{"$error":"#N/A"},{"$error":"#N/A"},true,false,{"$f":"U447","v":false},false,false,false,{"$error":"#N/A"},false,{"$error":"#N/A"},false,false,false,false,false,false,{"$error":"#N/A"},0,0,0,0,0,null,{"$f":"OFFSET(InputIndexData!F$15,CalculationsAndCharts!$A446+$A$11,IF($C$7,8,0),1,1)","v":0},0,1,1,true,null,212,{"$error":"#N/A"}]
[415,{"$f":"OFFSET(InputPriceData!B$15,CalculationsAndCharts!$A447+$A$11,0,1,1)","v":"00:00:00"},{"$f":"OFFSET(InputPriceData!G$15,CalculationsAndCharts!$A447+$A$11,IF($C$7,8,0),1,1)","v":0},{"$f":"OFFSET(InputPriceData!C$15,CalculationsAndCharts!$A447+$A$11,IF($C$7,8,0),1,1)","v":0},{"$f":"OFFSET(InputPriceData!D$15,CalculationsAndCharts!$A447+$A$11,IF($C$7,8,0),1,1)","v":0},{"$f":"OFFSET(InputPriceData!E$15,CalculationsAndCharts!$A447+$A$11,IF($C$7,8,0),1,1)","v":0},{"$f":"OFFSET(InputPriceData!F$15,CalculationsAndCharts!$A447+$A$11,IF($C$7,8,0),1,1)","v":0},0,0,0,0,0,0,{"$error":"#N/A"},false,0,false,{"$error":"#N/A"},{"$error":"#N/A"},true,false,false,false,false,false,{"$error":"#N/A"},false,{"$error":"#N/A"},false,false,false,false,false,false,{"$error":"#N/A"},0,0,0,0,0,null,{"$f":"OFFSET(InputIndexData!F$15,CalculationsAndCharts!$A447+$A$11,IF($C$7,8,0),1,1)","v":0},0,1,1,true,null,212,{"$error":"#N/A"}]
[416,{"$f":"OFFSET(InputPriceData!B$15,CalculationsAndCharts!$A448+$A$11,0,1,1)","v":"00:00:00"},{"$f":"OFFSET(InputPriceData!G$15,CalculationsAndCharts!$A448+$A$11,IF($C$7,8,0),1,1)","v":0},{"$f":"OFFSET(InputPriceData!C$15,CalculationsAndCharts!$A448+$A$11,IF($C$7,8,0),1,1)","v":0},{"$f":"OFFSET(InputPriceData!D$15,CalculationsAndCharts!$A448+$A$11,IF($C$7,8,0),1,1)","v":0},{"$f":"OFFSET(InputPriceData!E$15,CalculationsAndCharts!$A448+$A$11,IF($C$7,8,0),1,1)","v":0},{"$f":"OFFSET(InputPriceData!F$15,CalculationsAndCharts!$A448+$A$11,IF($C$7,8,0),1,1)","v":0},0,0,0,0,0,0,{"$error":"#N/A"},false,0,false,{"$error":"#N/A"},{"$error":"#N/A"},true,false,false,false,false,false,{"$error":"#N/A"},false,{"$error":"#N/A"},false,false,false,false,false,false,{"$error":"#N/A"},0,0,0,0,0,null,{"$f":"OFFSET(InputIndexData!F$15,CalculationsAndCharts!$A448+$A$11,IF($C$7,8,0),1,1)","v":0},0,1,1,true,null,212,{"$error":"#N/A"}]
[417,{"$f":"OFFSET(InputPriceData!B$15,CalculationsAndCharts!$A449+$A$11,0,1,1)","v":"00:00:00"},{"$f":"OFFSET(InputPriceData!G$15,CalculationsAndCharts!$A449+$A$11,IF($C$7,8,0),1,1)","v":0},{"$f":"OFFSET(InputPriceData!C$15,CalculationsAndCharts!$A449+$A$11,IF($C$7,8,0),1,1)","v":0},{"$f":"OFFSET(InputPriceData!D$15,CalculationsAndCharts!$A449+$A$11,IF($C$7,8,0),1,1)","v":0},{"$f":"OFFSET(InputPriceData!E$15,CalculationsAndCharts!$A449+$A$11,IF($C$7,8,0),1,1)","v":0},{"$f":"OFFSET(InputPriceData!F$15,CalculationsAndCharts!$A449+$A$11,IF($C$7,8,0),1,1)","v":0},0,0,0,0,0,0,{"$error":"#N/A"},false,0,false,{"$error":"#N/A"},{"$error":"#N/A"},true,false,false,false,false,false,{"$error":"#N/A"},false,{"$error":"#N/A"},false,false,false,false,false,false,{"$error":"#N/A"},0,0,0,0,0,null,{"$f":"OFFSET(InputIndexData!F$15,CalculationsAndCharts!$A449+$A$11,IF($C$7,8,0),1,1)","v":0},0,1,1,true,null,212,{"$error":"#N/A"}]
[418,{"$f":"OFFSET(InputPriceData!B$15,CalculationsAndCharts!$A450+$A$11,0,1,1)","v":"00:00:00"},{"$f":"OFFSET(InputPriceData!G$15,CalculationsAndCharts!$A450+$A$11,IF($C$7,8,0),1,1)","v":0},{"$f":"OFFSET(InputPriceData!C$15,CalculationsAndCharts!$A450+$A$11,IF($C$7,8,0),1,1)","v":0},{"$f":"OFFSET(InputPriceData!D$15,CalculationsAndCharts!$A450+$A$11,IF($C$7,8,0),1,1)","v":0},{"$f":"OFFSET(InputPriceData!E$15,CalculationsAndCharts!$A450+$A$11,IF($C$7,8,0),1,1)","v":0},{"$f":"OFFSET(InputPriceData!F$15,CalculationsAndCharts!$A450+$A$11,IF($C$7,8,0),1,1)","v":0},0,0,0,0,0,0,{"$error":"#N/A"},false,0,false,{"$error":"#N/A"},{"$error":"#N/A"},true,false,false,false,false,false,{"$error":"#N/A"},false,{"$error":"#N/A"},false,false,false,false,false,false,{"$error":"#N/A"},0,0,0,0,0,null,{"$f":"OFFSET(InputIndexData!F$15,CalculationsAndCharts!$A450+$A$11,IF($C$7,8,0),1,1)","v":0},0,1,1,true,null,212,{"$error":"#N/A"}]
[419,{"$f":"OFFSET(InputPriceData!B$15,CalculationsAndCharts!$A451+$A$11,0,1,1)","v":"00:00:00"},{"$f":"OFFSET(InputPriceData!G$15,CalculationsAndCharts!$A451+$A$11,IF($C$7,8,0),1,1)","v":0},{"$f":"OFFSET(InputPriceData!C$15,CalculationsAndCharts!$A451+$A$11,IF($C$7,8,0),1,1)","v":0},{"$f":"OFFSET(InputPriceData!D$15,CalculationsAndCharts!$A451+$A$11,IF($C$7,8,0),1,1)","v":0},{"$f":"OFFSET(InputPriceData!E$15,CalculationsAndCharts!$A451+$A$11,IF($C$7,8,0),1,1)","v":0},{"$f":"OFFSET(InputPriceData!F$15,CalculationsAndCharts!$A451+$A$11,IF($C$7,8,0),1,1)","v":0},0,0,0,0,0,0,{"$error":"#N/A"},false,0,false,{"$error":"#N/A"},{"$error":"#N/A"},true,false,false,{"$f":"IF(V451,TRUE,IF(X452,FALSE,W452))","v":false},false,false,{"$error":"#N/A"},false,{"$error":"#N/A"},false,false,false,false,false,false,{"$error":"#N/A"},0,0,0,0,0,null,{"$f":"OFFSET(InputIndexData!F$15,CalculationsAndCharts!$A451+$A$11,IF($C$7,8,0),1,1)","v":0},0,1,1,true,null,212,{"$error":"#N/A"}]
[420,{"$f":"OFFSET(InputPriceData!B$15,CalculationsAndCharts!$A452+$A$11,0,1,1)","v":"00:00:00"},{"$f":"OFFSET(InputPriceData!G$15,CalculationsAndCharts!$A452+$A$11,IF($C$7,8,0),1,1)","v":0},{"$f":"OFFSET(InputPriceData!C$15,CalculationsAndCharts!$A452+$A$11,IF($C$7,8,0),1,1)","v":0},{"$f":"OFFSET(InputPriceData!D$15,CalculationsAndCharts!$A452+$A$11,IF($C$7,8,0),1,1)","v":0},{"$f":"OFFSET(InputPriceData!E$15,CalculationsAndCharts!$A452+$A$11,IF($C$7,8,0),1,1)","v":0},{"$f":"OFFSET(InputPriceData!F$15,CalculationsAndCharts!$A452+$A$11,IF($C$7,8,0),1,1)","v":0},0,0,0,0,0,0,{"$error":"#N/A"},false,0,false,{"$error":"#N/A"},{"$error":"#N/A"},true,false,false,false,false,false,{"$error":"#N/A"},false,{"$error":"#N/A"},false,false,false,false,false,false,{"$error":"#N/A"},0,0,0,0,0,null,{"$f":"OFFSET(InputIndexData!F$15,CalculationsAndCharts!$A452+$A$11,IF($C$7,8,0),1,1)","v":0},0,1,1,true,null,212,{"$error":"#N/A"}]
[421,{"$f":"OFFSET(InputPriceData!B$15,CalculationsAndCharts!$A453+$A$11,0,1,1)","v":"00:00:00"},{"$f":"OFFSET(InputPriceData!G$15,CalculationsAndCharts!$A453+$A$11,IF($C$7,8,0),1,1)","v":0},{"$f":"OFFSET(InputPriceData!C$15,CalculationsAndCharts!$A453+$A$11,IF($C$7,8,0),1,1)","v":0},{"$f":"OFFSET(InputPriceData!D$15,CalculationsAndCharts!$A453+$A$11,IF($C$7,8,0),1,1)","v":0},{"$f":"OFFSET(InputPriceData!E$15,CalculationsAndCharts!$A453+$A$11,IF($C$7,8,0),1,1)","v":0},{"$f":"OFFSET(InputPriceData!F$15,CalculationsAndCharts!$A453+$A$11,IF($C$7,8,0),1,1)","v":0},0,0,0,0,0,0,{"$error":"#N/A"},false,0,false,{"$error":"#N/A"},{"$error":"#N/A"},true,false,false,false,false,false,{"$error":"#N/A"},false,{"$error":"#N/A"},false,false,false,false,false,false,{"$error":"#N/A"},0,0,0,0,0,null,{"$f":"OFFSET(InputIndexData!F$15,CalculationsAndCharts!$A453+$A$11,IF($C$7,8,0),1,1)","v":0},0,1,1,true,null,212,{"$error":"#N/A"}]
[422,{"$f":"OFFSET(InputPriceData!B$15,CalculationsAndCharts!$A454+$A$11,0,1,1)","v":"00:00:00"},{"$f":"OFFSET(InputPriceData!G$15,CalculationsAndCharts!$A454+$A$11,IF($C$7,8,0),1,1)","v":0},{"$f":"OFFSET(InputPriceData!C$15,CalculationsAndCharts!$A454+$A$11,IF($C$7,8,0),1,1)","v":0},{"$f":"OFFSET(InputPriceData!D$15,CalculationsAndCharts!$A454+$A$11,IF($C$7,8,0),1,1)","v":0},{"$f":"OFFSET(InputPriceData!E$15,CalculationsAndCharts!$A454+$A$11,IF($C$7,8,0),1,1)","v":0},{"$f":"OFFSET(InputPriceData!F$15,CalculationsAndCharts!$A454+$A$11,IF($C$7,8,0),1,1)","v":0},0,0,0,0,0,0,{"$error":"#N/A"},false,0,false,{"$error":"#N/A"},{"$error":"#N/A"},true,false,false,false,false,false,{"$error":"#N/A"},false,{"$error":"#N/A"},false,false,false,false,false,false,{"$error":"#N/A"},0,0,0,0,0,null,{"$f":"OFFSET(InputIndexData!F$15,CalculationsAndCharts!$A454+$A$11,IF($C$7,8,0),1,1)","v":0},0,1,1,true,null,212,{"$error":"#N/A"}]
[423,{"$f":"OFFSET(InputPriceData!B$15,CalculationsAndCharts!$A455+$A$11,0,1,1)","v":"00:00:00"},{"$f":"OFFSET(InputPriceData!G$15,CalculationsAndCharts!$A455+$A$11,IF($C$7,8,0),1,1)","v":0},{"$f":"OFFSET(InputPriceData!C$15,CalculationsAndCharts!$A455+$A$11,IF($C$7,8,0),1,1)","v":0},{"$f":"OFFSET(InputPriceData!D$15,CalculationsAndCharts!$A455+$A$11,IF($C$7,8,0),1,1)","v":0},{"$f":"OFFSET(InputPriceData!E$15,CalculationsAndCharts!$A455+$A$11,IF($C$7,8,0),1,1)","v":0},{"$f":"OFFSET(InputPriceData!F$15,CalculationsAndCharts!$A455+$A$11,IF($C$7,8,0),1,1)","v":0},0,0,0,0,0,0,{"$error":"#N/A"},false,0,false,{"$error":"#N/A"},{"$error":"#N/A"},true,false,false,false,false,false,{"$error":"#N/A"},false,{"$error":"#N/A"},false,false,false,false,false,false,{"$error":"#N/A"},0,0,0,0,0,null,{"$f":"OFFSET(InputIndexData!F$15,CalculationsAndCharts!$A455+$A$11,IF($C$7,8,0),1,1)","v":0},0,1,1,true,null,212,{"$error":"#N/A"}]
[424,{"$f":"OFFSET(InputPriceData!B$15,CalculationsAndCharts!$A456+$A$11,0,1,1)","v":"00:00:00"},{"$f":"OFFSET(InputPriceData!G$15,CalculationsAndCharts!$A456+$A$11,IF($C$7,8,0),1,1)","v":0},{"$f":"OFFSET(InputPriceData!C$15,CalculationsAndCharts!$A456+$A$11,IF($C$7,8,0),1,1)","v":0},{"$f":"OFFSET(InputPriceData!D$15,CalculationsAndCharts!$A456+$A$11,IF($C$7,8,0),1,1)","v":0},{"$f":"OFFSET(InputPriceData!E$15,CalculationsAndCharts!$A456+$A$11,IF($C$7,8,0),1,1)","v":0},{"$f":"OFFSET(InputPriceData!F$15,CalculationsAndCharts!$A456+$A$11,IF($C$7,8,0),1,1)","v":0},0,0,0,0,0,0,{"$error":"#N/A"},false,0,false,{"$error":"#N/A"},{"$error":"#N/A"},true,false,false,false,false,false,{"$error":"#N/A"},false,{"$error":"#N/A"},false,false,false,false,false,false,{"$error":"#N/A"},0,0,0,0,0,null,{"$f":"OFFSET(InputIndexData!F$15,CalculationsAndCharts!$A456+$A$11,IF($C$7,8,0),1,1)","v":0},0,1,1,true,null,212,{"$error":"#N/A"}]
[425,{"$f":"OFFSET(InputPriceData!B$15,CalculationsAndCharts!$A457+$A$11,0,1,1)","v":"00:00:00"},{"$f":"OFFSET(InputPriceData!G$15,CalculationsAndCharts!$A457+$A$11,IF($C$7,8,0),1,1)","v":0},{"$f":"OFFSET(InputPriceData!C$15,CalculationsAndCharts!$A457+$A$11,IF($C$7,8,0),1,1)","v":0},{"$f":"OFFSET(InputPriceData!D$15,CalculationsAndCharts!$A457+$A$11,IF($C$7,8,0),1,1)","v":0},{"$f":"OFFSET(InputPriceData!E$15,CalculationsAndCharts!$A457+$A$11,IF($C$7,8,0),1,1)","v":0},{"$f":"OFFSET(InputPriceData!F$15,CalculationsAndCharts!$A457+$A$11,IF($C$7,8,0),1,1)","v":0},0,0,0,0,0,0,{"$error":"#N/A"},false,0,false,{"$error":"#N/A"},{"$error":"#N/A"},true,false,false,false,false,false,{"$error":"#N/A"},false,{"$error":"#N/A"},false,false,false,false,false,false,{"$error":"#N/A"},0,0,0,0,0,null,{"$f":"OFFSET(InputIndexData!F$15,CalculationsAndCharts!$A457+$A$11,IF($C$7,8,0),1,1)","v":0},0,1,1,true,null,212,{"$error":"#N/A"}]
[426,{"$f":"OFFSET(InputPriceData!B$15,CalculationsAndCharts!$A458+$A$11,0,1,1)","v":"00:00:00"},{"$f":"OFFSET(InputPriceData!G$15,CalculationsAndCharts!$A458+$A$11,IF($C$7,8,0),1,1)","v":0},{"$f":"OFFSET(InputPriceData!C$15,CalculationsAndCharts!$A458+$A$11,IF($C$7,8,0),1,1)","v":0},{"$f":"OFFSET(InputPriceData!D$15,CalculationsAndCharts!$A458+$A$11,IF($C$7,8,0),1,1)","v":0},{"$f":"OFFSET(InputPriceData!E$15,CalculationsAndCharts!$A458+$A$11,IF($C$7,8,0),1,1)","v":0},{"$f":"OFFSET(InputPriceData!F$15,CalculationsAndCharts!$A458+$A$11,IF($C$7,8,0),1,1)","v":0},0,0,0,0,0,0,{"$error":"#N/A"},false,0,false,{"$error":"#N/A"},{"$error":"#N/A"},true,false,false,false,false,false,{"$error":"#N/A"},false,{"$error":"#N/A"},false,false,false,false,false,false,{"$error":"#N/A"},0,0,0,0,0,null,{"$f":"OFFSET(InputIndexData!F$15,CalculationsAndCharts!$A458+$A$11,IF($C$7,8,0),1,1)","v":0},0,1,1,true,null,212,{"$error":"#N/A"}]
[427,{"$f":"OFFSET(InputPriceData!B$15,CalculationsAndCharts!$A459+$A$11,0,1,1)","v":"00:00:00"},{"$f":"OFFSET(InputPriceData!G$15,CalculationsAndCharts!$A459+$A$11,IF($C$7,8,0),1,1)","v":0},{"$f":"OFFSET(InputPriceData!C$15,CalculationsAndCharts!$A459+$A$11,IF($C$7,8,0),1,1)","v":0},{"$f":"OFFSET(InputPriceData!D$15,CalculationsAndCharts!$A459+$A$11,IF($C$7,8,0),1,1)","v":0},{"$f":"OFFSET(InputPriceData!E$15,CalculationsAndCharts!$A459+$A$11,IF($C$7,8,0),1,1)","v":0},{"$f":"OFFSET(InputPriceData!F$15,CalculationsAndCharts!$A459+$A$11,IF($C$7,8,0),1,1)","v":0},0,0,0,0,0,0,{"$error":"#N/A"},false,0,false,{"$error":"#N/A"},{"$error":"#N/A"},true,false,false,false,false,false,{"$error":"#N/A"},false,{"$error":"#N/A"},false,false,false,false,false,false,{"$error":"#N/A"},0,0,0,0,0,null,{"$f":"OFFSET(InputIndexData!F$15,CalculationsAndCharts!$A459+$A$11,IF($C$7,8,0),1,1)","v":0},0,1,1,true,null,212,{"$error":"#N/A"}]
[428,{"$f":"OFFSET(InputPriceData!B$15,CalculationsAndCharts!$A460+$A$11,0,1,1)","v":"00:00:00"},{"$f":"OFFSET(InputPriceData!G$15,CalculationsAndCharts!$A460+$A$11,IF($C$7,8,0),1,1)","v":0},{"$f":"OFFSET(InputPriceData!C$15,CalculationsAndCharts!$A460+$A$11,IF($C$7,8,0),1,1)","v":0},{"$f":"OFFSET(InputPriceData!D$15,CalculationsAndCharts!$A460+$A$11,IF($C$7,8,0),1,1)","v":0},{"$f":"OFFSET(InputPriceData!E$15,CalculationsAndCharts!$A460+$A$11,IF($C$7,8,0),1,1)","v":0},{"$f":"OFFSET(InputPriceData!F$15,CalculationsAndCharts!$A460+$A$11,IF($C$7,8,0),1,1)","v":0},0,0,0,0,0,0,{"$error":"#N/A"},false,0,false,{"$error":"#N/A"},{"$error":"#N/A"},true,false,false,false,false,false,{"$error":"#N/A"},false,{"$error":"#N/A"},false,false,false,false,false,false,{"$error":"#N/A"},0,0,0,0,0,null,{"$f":"OFFSET(InputIndexData!F$15,CalculationsAndCharts!$A460+$A$11,IF($C$7,8,0),1,1)","v":0},0,1,1,true,null,212,{"$error":"#N/A"}]
[429,{"$f":"OFFSET(InputPriceData!B$15,CalculationsAndCharts!$A461+$A$11,0,1,1)","v":"00:00:00"},{"$f":"OFFSET(InputPriceData!G$15,CalculationsAndCharts!$A461+$A$11,IF($C$7,8,0),1,1)","v":0},{"$f":"OFFSET(InputPriceData!C$15,CalculationsAndCharts!$A461+$A$11,IF($C$7,8,0),1,1)","v":0},{"$f":"OFFSET(InputPriceData!D$15,CalculationsAndCharts!$A461+$A$11,IF($C$7,8,0),1,1)","v":0},{"$f":"OFFSET(InputPriceData!E$15,CalculationsAndCharts!$A461+$A$11,IF($C$7,8,0),1,1)","v":0},{"$f":"OFFSET(InputPriceData!F$15,CalculationsAndCharts!$A461+$A$11,IF($C$7,8,0),1,1)","v":0},0,0,0,0,0,0,{"$error":"#N/A"},false,0,false,{"$error":"#N/A"},{"$error":"#N/A"},true,false,false,false,false,false,{"$error":"#N/A"},false,{"$error":"#N/A"},false,false,false,false,false,false,{"$error":"#N/A"},0,0,0,0,0,null,{"$f":"OFFSET(InputIndexData!F$15,CalculationsAndCharts!$A461+$A$11,IF($C$7,8,0),1,1)","v":0},0,1,1,true,null,212,{"$error":"#N/A"}]
[430,{"$f":"OFFSET(InputPriceData!B$15,CalculationsAndCharts!$A462+$A$11,0,1,1)","v":"00:00:00"},{"$f":"OFFSET(InputPriceData!G$15,CalculationsAndCharts!$A462+$A$11,IF($C$7,8,0),1,1)","v":0},{"$f":"OFFSET(InputPriceData!C$15,CalculationsAndCharts!$A462+$A$11,IF($C$7,8,0),1,1)","v":0},{"$f":"OFFSET(InputPriceData!D$15,CalculationsAndCharts!$A462+$A$11,IF($C$7,8,0),1,1)","v":0},{"$f":"OFFSET(InputPriceData!E$15,CalculationsAndCharts!$A462+$A$11,IF($C$7,8,0),1,1)","v":0},{"$f":"OFFSET(InputPriceData!F$15,CalculationsAndCharts!$A462+$A$11,IF($C$7,8,0),1,1)","v":0},0,0,0,0,0,0,{"$error":"#N/A"},false,0,false,{"$error":"#N/A"},{"$error":"#N/A"},true,false,false,false,false,false,{"$error":"#N/A"},false,{"$error":"#N/A"},false,false,false,false,false,false,{"$error":"#N/A"},0,0,0,0,0,null,{"$f":"OFFSET(InputIndexData!F$15,CalculationsAndCharts!$A462+$A$11,IF($C$7,8,0),1,1)","v":0},0,1,1,true,null,212,{"$error":"#N/A"}]
[431,{"$f":"OFFSET(InputPriceData!B$15,CalculationsAndCharts!$A463+$A$11,0,1,1)","v":"00:00:00"},{"$f":"OFFSET(InputPriceData!G$15,CalculationsAndCharts!$A463+$A$11,IF($C$7,8,0),1,1)","v":0},{"$f":"OFFSET(InputPriceData!C$15,CalculationsAndCharts!$A463+$A$11,IF($C$7,8,0),1,1)","v":0},{"$f":"OFFSET(InputPriceData!D$15,CalculationsAndCharts!$A463+$A$11,IF($C$7,8,0),1,1)","v":0},{"$f":"OFFSET(InputPriceData!E$15,CalculationsAndCharts!$A463+$A$11,IF($C$7,8,0),1,1)","v":0},{"$f":"OFFSET(InputPriceData!F$15,CalculationsAndCharts!$A463+$A$11,IF($C$7,8,0),1,1)","v":0},0,0,0,0,0,0,{"$error":"#N/A"},false,0,false,{"$error":"#N/A"},{"$error":"#N/A"},true,false,false,false,false,false,{"$error":"#N/A"},false,{"$error":"#N/A"},false,false,false,false,false,false,{"$error":"#N/A"},0,0,0,0,0,null,{"$f":"OFFSET(InputIndexData!F$15,CalculationsAndCharts!$A463+$A$11,IF($C$7,8,0),1,1)","v":0},0,1,1,true,null,212,{"$error":"#N/A"}]
[432,{"$f":"OFFSET(InputPriceData!B$15,CalculationsAndCharts!$A464+$A$11,0,1,1)","v":"00:00:00"},{"$f":"OFFSET(InputPriceData!G$15,CalculationsAndCharts!$A464+$A$11,IF($C$7,8,0),1,1)","v":0},{"$f":"OFFSET(InputPriceData!C$15,CalculationsAndCharts!$A464+$A$11,IF($C$7,8,0),1,1)","v":0},{"$f":"OFFSET(InputPriceData!D$15,CalculationsAndCharts!$A464+$A$11,IF($C$7,8,0),1,1)","v":0},{"$f":"OFFSET(InputPriceData!E$15,CalculationsAndCharts!$A464+$A$11,IF($C$7,8,0),1,1)","v":0},{"$f":"OFFSET(InputPriceData!F$15,CalculationsAndCharts!$A464+$A$11,IF($C$7,8,0),1,1)","v":0},0,0,0,0,0,0,{"$error":"#N/A"},false,0,false,{"$error":"#N/A"},{"$error":"#N/A"},true,false,false,false,false,false,{"$error":"#N/A"},false,{"$error":"#N/A"},false,false,false,false,false,false,{"$error":"#N/A"},0,0,0,0,0,null,{"$f":"OFFSET(InputIndexData!F$15,CalculationsAndCharts!$A464+$A$11,IF($C$7,8,0),1,1)","v":0},0,1,1,true,null,212,{"$error":"#N/A"}]
[433,{"$f":"OFFSET(InputPriceData!B$15,CalculationsAndCharts!$A465+$A$11,0,1,1)","v":"00:00:00"},{"$f":"OFFSET(InputPriceData!G$15,CalculationsAndCharts!$A465+$A$11,IF($C$7,8,0),1,1)","v":0},{"$f":"OFFSET(InputPriceData!C$15,CalculationsAndCharts!$A465+$A$11,IF($C$7,8,0),1,1)","v":0},{"$f":"OFFSET(InputPriceData!D$15,CalculationsAndCharts!$A465+$A$11,IF($C$7,8,0),1,1)","v":0},{"$f":"OFFSET(InputPriceData!E$15,CalculationsAndCharts!$A465+$A$11,IF($C$7,8,0),1,1)","v":0},{"$f":"OFFSET(InputPriceData!F$15,CalculationsAndCharts!$A465+$A$11,IF($C$7,8,0),1,1)","v":0},0,0,0,0,0,0,{"$error":"#N/A"},false,0,false,{"$error":"#N/A"},{"$error":"#N/A"},true,false,false,false,false,false,{"$error":"#N/A"},false,{"$error":"#N/A"},false,false,false,false,false,false,{"$error":"#N/A"},0,0,0,0,0,null,{"$f":"OFFSET(InputIndexData!F$15,CalculationsAndCharts!$A465+$A$11,IF($C$7,8,0),1,1)","v":0},0,1,1,true,null,212,{"$error":"#N/A"}]
[434,{"$f":"OFFSET(InputPriceData!B$15,CalculationsAndCharts!$A466+$A$11,0,1,1)","v":"00:00:00"},{"$f":"OFFSET(InputPriceData!G$15,CalculationsAndCharts!$A466+$A$11,IF($C$7,8,0),1,1)","v":0},{"$f":"OFFSET(InputPriceData!C$15,CalculationsAndCharts!$A466+$A$11,IF($C$7,8,0),1,1)","v":0},{"$f":"OFFSET(InputPriceData!D$15,CalculationsAndCharts!$A466+$A$11,IF($C$7,8,0),1,1)","v":0},{"$f":"OFFSET(InputPriceData!E$15,CalculationsAndCharts!$A466+$A$11,IF($C$7,8,0),1,1)","v":0},{"$f":"OFFSET(InputPriceData!F$15,CalculationsAndCharts!$A466+$A$11,IF($C$7,8,0),1,1)","v":0},0,0,0,0,0,0,{"$error":"#N/A"},false,0,false,{"$error":"#N/A"},{"$error":"#N/A"},true,false,false,false,false,false,{"$error":"#N/A"},false,{"$error":"#N/A"},false,false,false,false,false,false,{"$error":"#N/A"},0,0,0,0,0,null,{"$f":"OFFSET(InputIndexData!F$15,CalculationsAndCharts!$A466+$A$11,IF($C$7,8,0),1,1)","v":0},0,1,1,true,null,212,{"$error":"#N/A"}]
[435,{"$f":"OFFSET(InputPriceData!B$15,CalculationsAndCharts!$A467+$A$11,0,1,1)","v":"00:00:00"},{"$f":"OFFSET(InputPriceData!G$15,CalculationsAndCharts!$A467+$A$11,IF($C$7,8,0),1,1)","v":0},{"$f":"OFFSET(InputPriceData!C$15,CalculationsAndCharts!$A467+$A$11,IF($C$7,8,0),1,1)","v":0},{"$f":"OFFSET(InputPriceData!D$15,CalculationsAndCharts!$A467+$A$11,IF($C$7,8,0),1,1)","v":0},{"$f":"OFFSET(InputPriceData!E$15,CalculationsAndCharts!$A467+$A$11,IF($C$7,8,0),1,1)","v":0},{"$f":"OFFSET(InputPriceData!F$15,CalculationsAndCharts!$A467+$A$11,IF($C$7,8,0),1,1)","v":0},0,0,0,0,0,0,{"$error":"#N/A"},false,0,false,{"$error":"#N/A"},{"$error":"#N/A"},true,false,false,false,false,false,{"$error":"#N/A"},false,{"$error":"#N/A"},false,false,false,false,false,false,{"$error":"#N/A"},0,0,0,0,0,null,{"$f":"OFFSET(InputIndexData!F$15,CalculationsAndCharts!$A467+$A$11,IF($C$7,8,0),1,1)","v":0},0,1,1,true,null,212,{"$error":"#N/A"}]
[436,{"$f":"OFFSET(InputPriceData!B$15,CalculationsAndCharts!$A468+$A$11,0,1,1)","v":"00:00:00"},{"$f":"OFFSET(InputPriceData!G$15,CalculationsAndCharts!$A468+$A$11,IF($C$7,8,0),1,1)","v":0},{"$f":"OFFSET(InputPriceData!C$15,CalculationsAndCharts!$A468+$A$11,IF($C$7,8,0),1,1)","v":0},{"$f":"OFFSET(InputPriceData!D$15,CalculationsAndCharts!$A468+$A$11,IF($C$7,8,0),1,1)","v":0},{"$f":"OFFSET(InputPriceData!E$15,CalculationsAndCharts!$A468+$A$11,IF($C$7,8,0),1,1)","v":0},{"$f":"OFFSET(InputPriceData!F$15,CalculationsAndCharts!$A468+$A$11,IF($C$7,8,0),1,1)","v":0},0,0,0,0,0,0,{"$error":"#N/A"},false,0,false,{"$error":"#N/A"},{"$error":"#N/A"},true,false,false,false,false,false,{"$error":"#N/A"},false,{"$error":"#N/A"},false,false,false,false,false,false,{"$error":"#N/A"},0,0,0,0,0,null,{"$f":"OFFSET(InputIndexData!F$15,CalculationsAndCharts!$A468+$A$11,IF($C$7,8,0),1,1)","v":0},0,1,1,true,null,212,{"$error":"#N/A"}]
[437,{"$f":"OFFSET(InputPriceData!B$15,CalculationsAndCharts!$A469+$A$11,0,1,1)","v":"00:00:00"},{"$f":"OFFSET(InputPriceData!G$15,CalculationsAndCharts!$A469+$A$11,IF($C$7,8,0),1,1)","v":0},{"$f":"OFFSET(InputPriceData!C$15,CalculationsAndCharts!$A469+$A$11,IF($C$7,8,0),1,1)","v":0},{"$f":"OFFSET(InputPriceData!D$15,CalculationsAndCharts!$A469+$A$11,IF($C$7,8,0),1,1)","v":0},{"$f":"OFFSET(InputPriceData!E$15,CalculationsAndCharts!$A469+$A$11,IF($C$7,8,0),1,1)","v":0},{"$f":"OFFSET(InputPriceData!F$15,CalculationsAndCharts!$A469+$A$11,IF($C$7,8,0),1,1)","v":0},0,0,0,0,0,0,{"$error":"#N/A"},false,0,false,{"$error":"#N/A"},{"$error":"#N/A"},true,false,false,false,false,false,{"$error":"#N/A"},false,{"$error":"#N/A"},false,false,false,false,false,false,{"$error":"#N/A"},0,0,0,0,0,null,{"$f":"OFFSET(InputIndexData!F$15,CalculationsAndCharts!$A469+$A$11,IF($C$7,8,0),1,1)","v":0},0,1,1,true,null,212,{"$error":"#N/A"}]
[438,{"$f":"OFFSET(InputPriceData!B$15,CalculationsAndCharts!$A470+$A$11,0,1,1)","v":"00:00:00"},{"$f":"OFFSET(InputPriceData!G$15,CalculationsAndCharts!$A470+$A$11,IF($C$7,8,0),1,1)","v":0},{"$f":"OFFSET(InputPriceData!C$15,CalculationsAndCharts!$A470+$A$11,IF($C$7,8,0),1,1)","v":0},{"$f":"OFFSET(InputPriceData!D$15,CalculationsAndCharts!$A470+$A$11,IF($C$7,8,0),1,1)","v":0},{"$f":"OFFSET(InputPriceData!E$15,CalculationsAndCharts!$A470+$A$11,IF($C$7,8,0),1,1)","v":0},{"$f":"OFFSET(InputPriceData!F$15,CalculationsAndCharts!$A470+$A$11,IF($C$7,8,0),1,1)","v":0},0,0,0,0,0,0,{"$error":"#N/A"},false,0,false,{"$error":"#N/A"},{"$error":"#N/A"},true,false,false,false,false,false,{"$error":"#N/A"},false,{"$error":"#N/A"},false,false,false,false,false,false,{"$error":"#N/A"},0,0,0,0,0,null,{"$f":"OFFSET(InputIndexData!F$15,CalculationsAndCharts!$A470+$A$11,IF($C$7,8,0),1,1)","v":0},0,1,1,true,null,212,{"$error":"#N/A"}]
[439,{"$f":"OFFSET(InputPriceData!B$15,CalculationsAndCharts!$A471+$A$11,0,1,1)","v":"00:00:00"},{"$f":"OFFSET(InputPriceData!G$15,CalculationsAndCharts!$A471+$A$11,IF($C$7,8,0),1,1)","v":0},{"$f":"OFFSET(InputPriceData!C$15,CalculationsAndCharts!$A471+$A$11,IF($C$7,8,0),1,1)","v":0},{"$f":"OFFSET(InputPriceData!D$15,CalculationsAndCharts!$A471+$A$11,IF($C$7,8,0),1,1)","v":0},{"$f":"OFFSET(InputPriceData!E$15,CalculationsAndCharts!$A471+$A$11,IF($C$7,8,0),1,1)","v":0},{"$f":"OFFSET(InputPriceData!F$15,CalculationsAndCharts!$A471+$A$11,IF($C$7,8,0),1,1)","v":0},0,0,0,0,0,0,{"$error":"#N/A"},false,0,false,{"$error":"#N/A"},{"$error":"#N/A"},true,false,false,false,false,false,{"$error":"#N/A"},false,{"$error":"#N/A"},false,false,false,false,false,false,{"$error":"#N/A"},0,0,0,0,0,null,{"$f":"OFFSET(InputIndexData!F$15,CalculationsAndCharts!$A471+$A$11,IF($C$7,8,0),1,1)","v":0},0,1,1,true,null,212,{"$error":"#N/A"}]
[440,{"$f":"OFFSET(InputPriceData!B$15,CalculationsAndCharts!$A472+$A$11,0,1,1)","v":"00:00:00"},{"$f":"OFFSET(InputPriceData!G$15,CalculationsAndCharts!$A472+$A$11,IF($C$7,8,0),1,1)","v":0},{"$f":"OFFSET(InputPriceData!C$15,CalculationsAndCharts!$A472+$A$11,IF($C$7,8,0),1,1)","v":0},{"$f":"OFFSET(InputPriceData!D$15,CalculationsAndCharts!$A472+$A$11,IF($C$7,8,0),1,1)","v":0},{"$f":"OFFSET(InputPriceData!E$15,CalculationsAndCharts!$A472+$A$11,IF($C$7,8,0),1,1)","v":0},{"$f":"OFFSET(InputPriceData!F$15,CalculationsAndCharts!$A472+$A$11,IF($C$7,8,0),1,1)","v":0},0,0,0,0,0,0,{"$error":"#N/A"},false,0,false,{"$error":"#N/A"},{"$error":"#N/A"},true,false,false,false,false,false,{"$error":"#N/A"},false,{"$error":"#N/A"},false,false,false,false,false,false,{"$error":"#N/A"},0,0,0,0,0,null,{"$f":"OFFSET(InputIndexData!F$15,CalculationsAndCharts!$A472+$A$11,IF($C$7,8,0),1,1)","v":0},0,1,1,true,null,212,{"$error":"#N/A"}]
[441,{"$f":"OFFSET(InputPriceData!B$15,CalculationsAndCharts!$A473+$A$11,0,1,1)","v":"00:00:00"},{"$f":"OFFSET(InputPriceData!G$15,CalculationsAndCharts!$A473+$A$11,IF($C$7,8,0),1,1)","v":0},{"$f":"OFFSET(InputPriceData!C$15,CalculationsAndCharts!$A473+$A$11,IF($C$7,8,0),1,1)","v":0},{"$f":"OFFSET(InputPriceData!D$15,CalculationsAndCharts!$A473+$A$11,IF($C$7,8,0),1,1)","v":0},{"$f":"OFFSET(InputPriceData!E$15,CalculationsAndCharts!$A473+$A$11,IF($C$7,8,0),1,1)","v":0},{"$f":"OFFSET(InputPriceData!F$15,CalculationsAndCharts!$A473+$A$11,IF($C$7,8,0),1,1)","v":0},0,0,0,0,0,0,{"$error":"#N/A"},false,0,false,{"$error":"#N/A"},{"$error":"#N/A"},true,false,false,false,false,false,{"$error":"#N/A"},false,{"$error":"#N/A"},false,false,false,false,false,false,{"$error":"#N/A"},0,0,0,0,0,null,{"$f":"OFFSET(InputIndexData!F$15,CalculationsAndCharts!$A473+$A$11,IF($C$7,8,0),1,1)","v":0},0,1,1,true,null,212,{"$error":"#N/A"}]
[442,{"$f":"OFFSET(InputPriceData!B$15,CalculationsAndCharts!$A474+$A$11,0,1,1)","v":"00:00:00"},{"$f":"OFFSET(InputPriceData!G$15,CalculationsAndCharts!$A474+$A$11,IF($C$7,8,0),1,1)","v":0},{"$f":"OFFSET(InputPriceData!C$15,CalculationsAndCharts!$A474+$A$11,IF($C$7,8,0),1,1)","v":0},{"$f":"OFFSET(InputPriceData!D$15,CalculationsAndCharts!$A474+$A$11,IF($C$7,8,0),1,1)","v":0},{"$f":"OFFSET(InputPriceData!E$15,CalculationsAndCharts!$A474+$A$11,IF($C$7,8,0),1,1)","v":0},{"$f":"OFFSET(InputPriceData!F$15,CalculationsAndCharts!$A474+$A$11,IF($C$7,8,0),1,1)","v":0},0,0,0,0,0,0,{"$error":"#N/A"},false,0,false,{"$error":"#N/A"},{"$error":"#N/A"},true,false,false,false,false,false,{"$error":"#N/A"},false,{"$error":"#N/A"},false,false,false,false,false,false,{"$error":"#N/A"},0,0,0,0,0,null,{"$f":"OFFSET(InputIndexData!F$15,CalculationsAndCharts!$A474+$A$11,IF($C$7,8,0),1,1)","v":0},0,1,1,true,null,212,{"$error":"#N/A"}]
[443,{"$f":"OFFSET(InputPriceData!B$15,CalculationsAndCharts!$A475+$A$11,0,1,1)","v":"00:00:00"},{"$f":"OFFSET(InputPriceData!G$15,CalculationsAndCharts!$A475+$A$11,IF($C$7,8,0),1,1)","v":0},{"$f":"OFFSET(InputPriceData!C$15,CalculationsAndCharts!$A475+$A$11,IF($C$7,8,0),1,1)","v":0},{"$f":"OFFSET(InputPriceData!D$15,CalculationsAndCharts!$A475+$A$11,IF($C$7,8,0),1,1)","v":0},{"$f":"OFFSET(InputPriceData!E$15,CalculationsAndCharts!$A475+$A$11,IF($C$7,8,0),1,1)","v":0},{"$f":"OFFSET(InputPriceData!F$15,CalculationsAndCharts!$A475+$A$11,IF($C$7,8,0),1,1)","v":0},0,0,0,0,0,0,{"$error":"#N/A"},false,0,false,{"$error":"#N/A"},{"$error":"#N/A"},true,false,false,false,false,false,{"$error":"#N/A"},false,{"$error":"#N/A"},false,false,false,false,false,false,{"$error":"#N/A"},0,0,0,0,0,null,{"$f":"OFFSET(InputIndexData!F$15,CalculationsAndCharts!$A475+$A$11,IF($C$7,8,0),1,1)","v":0},0,1,1,true,null,212,{"$error":"#N/A"}]
[444,{"$f":"OFFSET(InputPriceData!B$15,CalculationsAndCharts!$A476+$A$11,0,1,1)","v":"00:00:00"},{"$f":"OFFSET(InputPriceData!G$15,CalculationsAndCharts!$A476+$A$11,IF($C$7,8,0),1,1)","v":0},{"$f":"OFFSET(InputPriceData!C$15,CalculationsAndCharts!$A476+$A$11,IF($C$7,8,0),1,1)","v":0},{"$f":"OFFSET(InputPriceData!D$15,CalculationsAndCharts!$A476+$A$11,IF($C$7,8,0),1,1)","v":0},{"$f":"OFFSET(InputPriceData!E$15,CalculationsAndCharts!$A476+$A$11,IF($C$7,8,0),1,1)","v":0},{"$f":"OFFSET(InputPriceData!F$15,CalculationsAndCharts!$A476+$A$11,IF($C$7,8,0),1,1)","v":0},0,0,0,0,0,0,{"$error":"#N/A"},false,0,false,{"$error":"#N/A"},{"$error":"#N/A"},true,false,false,false,false,false,{"$error":"#N/A"},false,{"$error":"#N/A"},false,false,false,false,false,false,{"$error":"#N/A"},0,0,0,0,0,null,{"$f":"OFFSET(InputIndexData!F$15,CalculationsAndCharts!$A476+$A$11,IF($C$7,8,0),1,1)","v":0},0,1,1,true,null,212,{"$error":"#N/A"}]
[445,{"$f":"OFFSET(InputPriceData!B$15,CalculationsAndCharts!$A477+$A$11,0,1,1)","v":"00:00:00"},{"$f":"OFFSET(InputPriceData!G$15,CalculationsAndCharts!$A477+$A$11,IF($C$7,8,0),1,1)","v":0},{"$f":"OFFSET(InputPriceData!C$15,CalculationsAndCharts!$A477+$A$11,IF($C$7,8,0),1,1)","v":0},{"$f":"OFFSET(InputPriceData!D$15,CalculationsAndCharts!$A477+$A$11,IF($C$7,8,0),1,1)","v":0},{"$f":"OFFSET(InputPriceData!E$15,CalculationsAndCharts!$A477+$A$11,IF($C$7,8,0),1,1)","v":0},{"$f":"OFFSET(InputPriceData!F$15,CalculationsAndCharts!$A477+$A$11,IF($C$7,8,0),1,1)","v":0},0,0,0,0,0,0,{"$error":"#N/A"},false,0,false,{"$error":"#N/A"},{"$error":"#N/A"},true,false,false,false,false,false,{"$error":"#N/A"},false,{"$error":"#N/A"},false,false,false,false,false,false,{"$error":"#N/A"},0,0,0,0,0,null,{"$f":"OFFSET(InputIndexData!F$15,CalculationsAndCharts!$A477+$A$11,IF($C$7,8,0),1,1)","v":0},0,1,1,true,null,212,{"$error":"#N/A"}]
[446,{"$f":"OFFSET(InputPriceData!B$15,CalculationsAndCharts!$A478+$A$11,0,1,1)","v":"00:00:00"},{"$f":"OFFSET(InputPriceData!G$15,CalculationsAndCharts!$A478+$A$11,IF($C$7,8,0),1,1)","v":0},{"$f":"OFFSET(InputPriceData!C$15,CalculationsAndCharts!$A478+$A$11,IF($C$7,8,0),1,1)","v":0},{"$f":"OFFSET(InputPriceData!D$15,CalculationsAndCharts!$A478+$A$11,IF($C$7,8,0),1,1)","v":0},{"$f":"OFFSET(InputPriceData!E$15,CalculationsAndCharts!$A478+$A$11,IF($C$7,8,0),1,1)","v":0},{"$f":"OFFSET(InputPriceData!F$15,CalculationsAndCharts!$A478+$A$11,IF($C$7,8,0),1,1)","v":0},0,0,0,0,0,0,{"$error":"#N/A"},false,0,false,{"$error":"#N/A"},{"$error":"#N/A"},true,false,false,false,false,false,{"$error":"#N/A"},false,{"$error":"#N/A"},false,false,false,false,false,false,{"$error":"#N/A"},0,0,0,0,0,null,{"$f":"OFFSET(InputIndexData!F$15,CalculationsAndCharts!$A478+$A$11,IF($C$7,8,0),1,1)","v":0},0,1,1,true,null,212,{"$error":"#N/A"}]
[447,{"$f":"OFFSET(InputPriceData!B$15,CalculationsAndCharts!$A479+$A$11,0,1,1)","v":"00:00:00"},{"$f":"OFFSET(InputPriceData!G$15,CalculationsAndCharts!$A479+$A$11,IF($C$7,8,0),1,1)","v":0},{"$f":"OFFSET(InputPriceData!C$15,CalculationsAndCharts!$A479+$A$11,IF($C$7,8,0),1,1)","v":0},{"$f":"OFFSET(InputPriceData!D$15,CalculationsAndCharts!$A479+$A$11,IF($C$7,8,0),1,1)","v":0},{"$f":"OFFSET(InputPriceData!E$15,CalculationsAndCharts!$A479+$A$11,IF($C$7,8,0),1,1)","v":0},{"$f":"OFFSET(InputPriceData!F$15,CalculationsAndCharts!$A479+$A$11,IF($C$7,8,0),1,1)","v":0},0,0,0,0,0,0,{"$error":"#N/A"},false,0,false,{"$error":"#N/A"},{"$error":"#N/A"},true,false,false,false,false,false,{"$error":"#N/A"},false,{"$error":"#N/A"},false,false,false,false,false,false,{"$error":"#N/A"},0,0,0,0,0,null,{"$f":"OFFSET(InputIndexData!F$15,CalculationsAndCharts!$A479+$A$11,IF($C$7,8,0),1,1)","v":0},0,1,1,true,null,212,{"$error":"#N/A"}]
[448,{"$f":"OFFSET(InputPriceData!B$15,CalculationsAndCharts!$A480+$A$11,0,1,1)","v":"00:00:00"},{"$f":"OFFSET(InputPriceData!G$15,CalculationsAndCharts!$A480+$A$11,IF($C$7,8,0),1,1)","v":0},{"$f":"OFFSET(InputPriceData!C$15,CalculationsAndCharts!$A480+$A$11,IF($C$7,8,0),1,1)","v":0},{"$f":"OFFSET(InputPriceData!D$15,CalculationsAndCharts!$A480+$A$11,IF($C$7,8,0),1,1)","v":0},{"$f":"OFFSET(InputPriceData!E$15,CalculationsAndCharts!$A480+$A$11,IF($C$7,8,0),1,1)","v":0},{"$f":"OFFSET(InputPriceData!F$15,CalculationsAndCharts!$A480+$A$11,IF($C$7,8,0),1,1)","v":0},0,0,0,0,0,0,{"$error":"#N/A"},false,0,false,{"$error":"#N/A"},{"$error":"#N/A"},true,false,false,false,false,false,{"$error":"#N/A"},false,{"$error":"#N/A"},false,false,false,false,false,false,{"$error":"#N/A"},0,0,0,0,0,null,{"$f":"OFFSET(InputIndexData!F$15,CalculationsAndCharts!$A480+$A$11,IF($C$7,8,0),1,1)","v":0},0,1,1,true,null,212,{"$error":"#N/A"}]
[449,{"$f":"OFFSET(InputPriceData!B$15,CalculationsAndCharts!$A481+$A$11,0,1,1)","v":"00:00:00"},{"$f":"OFFSET(InputPriceData!G$15,CalculationsAndCharts!$A481+$A$11,IF($C$7,8,0),1,1)","v":0},{"$f":"OFFSET(InputPriceData!C$15,CalculationsAndCharts!$A481+$A$11,IF($C$7,8,0),1,1)","v":0},{"$f":"OFFSET(InputPriceData!D$15,CalculationsAndCharts!$A481+$A$11,IF($C$7,8,0),1,1)","v":0},{"$f":"OFFSET(InputPriceData!E$15,CalculationsAndCharts!$A481+$A$11,IF($C$7,8,0),1,1)","v":0},{"$f":"OFFSET(InputPriceData!F$15,CalculationsAndCharts!$A481+$A$11,IF($C$7,8,0),1,1)","v":0},{"$f":"AVERAGE(OFFSET(G481,0,0,$A$17,1))","v":0},{"$f":"AVERAGE(OFFSET(G481,0,0,$A$18,1))","v":0},{"$f":"AVERAGE(OFFSET(G481,0,0,$A$19,1))","v":0},{"$f":"AVERAGE(OFFSET(E481,0,0,$A$20,1))","v":0},{"$f":"AVERAGE(OFFSET(F481,0,0,$A$21,1))","v":0},0,{"$error":"#N/A"},{"$f":"AND(G482<=K482,G481>K481,OR(P482=\"DOWN\",P482=0))","v":false},{"$f":"IF(AND(OR(P482=0,P482=\"UP\"),Q481),\"DOWN\",IF(AND(OR(P482=0,P482=\"DOWN\"),O481),\"UP\",P482))","v":0},{"$f":"AND(G482>=L482,G481<L481,OR(P482=0,P482=\"UP\"))","v":false},{"$error":"#N/A"},{"$error":"#N/A"},true,{"$f":"AND(T481,O481)","v":false},false,false,{"$f":"AND(W481,Q481)","v":false},false,{"$f":"IF(AND(NOT(AA481),OR(W481,Y481)),$F$11,NA())","v":{"$error":"#N/A"}},false,{"$error":"#N/A"},false,{"$f":"AND(AC481,Q481)","v":false},{"$f":"AD482","v":false},false,false,{"$f":"AG482","v":false},{"$f":"IF(AND(NOT(AA481),OR(AF481,AH481)),$F$11,NA())","v":{"$error":"#N/A"}},0,0,0,0,0,null,{"$f":"OFFSET(InputIndexData!F$15,CalculationsAndCharts!$A481+$A$11,IF($C$7,8,0),1,1)","v":0},0,1,1,true,null,{"$f":"IF(AT481,$AR$26,NA())","v":212},{"$f":"IF(AT481,NA(),$AR$26)","v":{"$error":"#N/A"}}]
[450,{"$f":"OFFSET(InputPriceData!B$15,CalculationsAndCharts!$A482+$A$11,0,1,1)","v":"00:00:00"},{"$f":"OFFSET(InputPriceData!G$15,CalculationsAndCharts!$A482+$A$11,IF($C$7,8,0),1,1)","v":0},{"$f":"OFFSET(InputPriceData!C$15,CalculationsAndCharts!$A482+$A$11,IF($C$7,8,0),1,1)","v":0},{"$f":"OFFSET(InputPriceData!D$15,CalculationsAndCharts!$A482+$A$11,IF($C$7,8,0),1,1)","v":0},{"$f":"OFFSET(InputPriceData!E$15,CalculationsAndCharts!$A482+$A$11,IF($C$7,8,0),1,1)","v":0},{"$f":"OFFSET(InputPriceData!F$15,CalculationsAndCharts!$A482+$A$11,IF($C$7,8,0),1,1)","v":0},0,0,0,0,0,{"$f":"IF(D482<=G482,C482,NA())","v":0},{"$f":"IF(D482<=G482,NA(),C482)","v":{"$error":"#N/A"}},false,0,false,{"$error":"#N/A"},{"$error":"#N/A"},{"$f":"AND(OR(NOT($R$11),AT482),OR(NOT($R$12),J482>=I482),OR(NOT($R$13),I482>=H482),OR(NOT($R$14),G482>=I482))","v":true},false,false,false,false,false,{"$error":"#N/A"},false,{"$error":"#N/A"},{"$f":"AND(   OR(NOT($R$11),NOT(AT482)),   OR(NOT($R$12),J482<=I482),   OR(NOT($R$13),I482<=H482),   OR(NOT($R$14),G482<=I482)   )","v":false},false,false,{"$f":"IF(AE482,TRUE,IF(AG483,FALSE,AF483))","v":false},{"$f":"AND(AF482,O482)","v":false},false,{"$error":"#N/A"},{"$f":"IF($R$3,H482,NA())","v":0},{"$f":"IF($R$4,I482,NA())","v":0},{"$f":"IF($R$5,J482,NA())","v":0},{"$f":"IF($R$6,K482,NA())","v":0},{"$f":"IF($R$6,L482,NA())","v":0},null,{"$f":"OFFSET(InputIndexData!F$15,CalculationsAndCharts!$A482+$A$11,IF($C$7,8,0),1,1)","v":0},{"$f":"AVERAGE(OFFSET(AP482,0,0,$D$17,1))","v":0},{"$f":"IF(AQ482-AQ483>=0,1,-1)","v":1},{"$f":"AVERAGE(OFFSET(AR482,0,0,$D$18,1))","v":1},{"$f":"OR(AS482>0,AND(AS482=0,AS483>0))","v":true},null,212,{"$error":"#N/A"}]
[451,{"$f":"OFFSET(InputPriceData!B$15,CalculationsAndCharts!$A483+$A$11,0,1,1)","v":"00:00:00"},{"$f":"OFFSET(InputPriceData!G$15,CalculationsAndCharts!$A483+$A$11,IF($C$7,8,0),1,1)","v":0},{"$f":"OFFSET(InputPriceData!C$15,CalculationsAndCharts!$A483+$A$11,IF($C$7,8,0),1,1)","v":0},{"$f":"OFFSET(InputPriceData!D$15,CalculationsAndCharts!$A483+$A$11,IF($C$7,8,0),1,1)","v":0},{"$f":"OFFSET(InputPriceData!E$15,CalculationsAndCharts!$A483+$A$11,IF($C$7,8,0),1,1)","v":0},{"$f":"OFFSET(InputPriceData!F$15,CalculationsAndCharts!$A483+$A$11,IF($C$7,8,0),1,1)","v":0},0,0,0,0,0,0,{"$error":"#N/A"},false,0,false,{"$error":"#N/A"},{"$error":"#N/A"},true,false,false,false,false,false,{"$error":"#N/A"},false,{"$error":"#N/A"},false,false,false,false,false,false,{"$error":"#N/A"},0,0,0,0,0,null,{"$f":"OFFSET(InputIndexData!F$15,CalculationsAndCharts!$A483+$A$11,IF($C$7,8,0),1,1)","v":0},0,1,1,true,null,212,{"$error":"#N/A"}]
[452,{"$f":"OFFSET(InputPriceData!B$15,CalculationsAndCharts!$A484+$A$11,0,1,1)","v":"00:00:00"},{"$f":"OFFSET(InputPriceData!G$15,CalculationsAndCharts!$A484+$A$11,IF($C$7,8,0),1,1)","v":0},{"$f":"OFFSET(InputPriceData!C$15,CalculationsAndCharts!$A484+$A$11,IF($C$7,8,0),1,1)","v":0},{"$f":"OFFSET(InputPriceData!D$15,CalculationsAndCharts!$A484+$A$11,IF($C$7,8,0),1,1)","v":0},{"$f":"OFFSET(InputPriceData!E$15,CalculationsAndCharts!$A484+$A$11,IF($C$7,8,0),1,1)","v":0},{"$f":"OFFSET(InputPriceData!F$15,CalculationsAndCharts!$A484+$A$11,IF($C$7,8,0),1,1)","v":0},0,0,0,0,0,0,{"$error":"#N/A"},false,0,false,{"$error":"#N/A"},{"$error":"#N/A"},true,false,false,false,false,false,{"$error":"#N/A"},false,{"$error":"#N/A"},false,false,false,false,false,false,{"$error":"#N/A"},0,0,0,0,0,null,{"$f":"OFFSET(InputIndexData!F$15,CalculationsAndCharts!$A484+$A$11,IF($C$7,8,0),1,1)","v":0},0,1,1,true,null,212,{"$error":"#N/A"}]
[453,{"$f":"OFFSET(InputPriceData!B$15,CalculationsAndCharts!$A485+$A$11,0,1,1)","v":"00:00:00"},{"$f":"OFFSET(InputPriceData!G$15,CalculationsAndCharts!$A485+$A$11,IF($C$7,8,0),1,1)","v":0},{"$f":"OFFSET(InputPriceData!C$15,CalculationsAndCharts!$A485+$A$11,IF($C$7,8,0),1,1)","v":0},{"$f":"OFFSET(InputPriceData!D$15,CalculationsAndCharts!$A485+$A$11,IF($C$7,8,0),1,1)","v":0},{"$f":"OFFSET(InputPriceData!E$15,CalculationsAndCharts!$A485+$A$11,IF($C$7,8,0),1,1)","v":0},{"$f":"OFFSET(InputPriceData!F$15,CalculationsAndCharts!$A485+$A$11,IF($C$7,8,0),1,1)","v":0},0,0,0,0,0,0,{"$error":"#N/A"},false,0,false,{"$error":"#N/A"},{"$error":"#N/A"},true,false,false,false,false,false,{"$error":"#N/A"},false,{"$error":"#N/A"},false,false,false,false,false,false,{"$error":"#N/A"},0,0,0,0,0,null,{"$f":"OFFSET(InputIndexData!F$15,CalculationsAndCharts!$A485+$A$11,IF($C$7,8,0),1,1)","v":0},0,1,1,true,null,212,{"$error":"#N/A"}]
[454,{"$f":"OFFSET(InputPriceData!B$15,CalculationsAndCharts!$A486+$A$11,0,1,1)","v":"00:00:00"},{"$f":"OFFSET(InputPriceData!G$15,CalculationsAndCharts!$A486+$A$11,IF($C$7,8,0),1,1)","v":0},{"$f":"OFFSET(InputPriceData!C$15,CalculationsAndCharts!$A486+$A$11,IF($C$7,8,0),1,1)","v":0},{"$f":"OFFSET(InputPriceData!D$15,CalculationsAndCharts!$A486+$A$11,IF($C$7,8,0),1,1)","v":0},{"$f":"OFFSET(InputPriceData!E$15,CalculationsAndCharts!$A486+$A$11,IF($C$7,8,0),1,1)","v":0},{"$f":"OFFSET(InputPriceData!F$15,CalculationsAndCharts!$A486+$A$11,IF($C$7,8,0),1,1)","v":0},0,0,0,0,0,0,{"$error":"#N/A"},false,0,false,{"$error":"#N/A"},{"$error":"#N/A"},true,false,false,false,false,false,{"$error":"#N/A"},false,{"$error":"#N/A"},false,false,false,false,false,false,{"$error":"#N/A"},0,0,0,0,0,null,{"$f":"OFFSET(InputIndexData!F$15,CalculationsAndCharts!$A486+$A$11,IF($C$7,8,0),1,1)","v":0},0,1,1,true,null,212,{"$error":"#N/A"}]
[455,{"$f":"OFFSET(InputPriceData!B$15,CalculationsAndCharts!$A487+$A$11,0,1,1)","v":"00:00:00"},{"$f":"OFFSET(InputPriceData!G$15,CalculationsAndCharts!$A487+$A$11,IF($C$7,8,0),1,1)","v":0},{"$f":"OFFSET(InputPriceData!C$15,CalculationsAndCharts!$A487+$A$11,IF($C$7,8,0),1,1)","v":0},{"$f":"OFFSET(InputPriceData!D$15,CalculationsAndCharts!$A487+$A$11,IF($C$7,8,0),1,1)","v":0},{"$f":"OFFSET(InputPriceData!E$15,CalculationsAndCharts!$A487+$A$11,IF($C$7,8,0),1,1)","v":0},{"$f":"OFFSET(InputPriceData!F$15,CalculationsAndCharts!$A487+$A$11,IF($C$7,8,0),1,1)","v":0},0,0,0,0,0,0,{"$error":"#N/A"},false,0,false,{"$error":"#N/A"},{"$error":"#N/A"},true,false,false,false,false,false,{"$error":"#N/A"},false,{"$error":"#N/A"},false,false,false,false,false,false,{"$error":"#N/A"},0,0,0,0,0,null,{"$f":"OFFSET(InputIndexData!F$15,CalculationsAndCharts!$A487+$A$11,IF($C$7,8,0),1,1)","v":0},0,1,1,true,null,212,{"$error":"#N/A"}]
[456,{"$f":"OFFSET(InputPriceData!B$15,CalculationsAndCharts!$A488+$A$11,0,1,1)","v":"00:00:00"},{"$f":"OFFSET(InputPriceData!G$15,CalculationsAndCharts!$A488+$A$11,IF($C$7,8,0),1,1)","v":0},{"$f":"OFFSET(InputPriceData!C$15,CalculationsAndCharts!$A488+$A$11,IF($C$7,8,0),1,1)","v":0},{"$f":"OFFSET(InputPriceData!D$15,CalculationsAndCharts!$A488+$A$11,IF($C$7,8,0),1,1)","v":0},{"$f":"OFFSET(InputPriceData!E$15,CalculationsAndCharts!$A488+$A$11,IF($C$7,8,0),1,1)","v":0},{"$f":"OFFSET(InputPriceData!F$15,CalculationsAndCharts!$A488+$A$11,IF($C$7,8,0),1,1)","v":0},0,0,0,0,0,0,{"$error":"#N/A"},false,0,false,{"$error":"#N/A"},{"$error":"#N/A"},true,false,false,false,false,false,{"$error":"#N/A"},false,{"$f":"IF(AA488,$F$11,NA())","v":{"$error":"#N/A"}},false,false,false,false,false,false,{"$error":"#N/A"},0,0,0,0,0,null,{"$f":"OFFSET(InputIndexData!F$15,CalculationsAndCharts!$A488+$A$11,IF($C$7,8,0),1,1)","v":0},0,1,1,true,null,212,{"$error":"#N/A"}]
[457,{"$f":"OFFSET(InputPriceData!B$15,CalculationsAndCharts!$A489+$A$11,0,1,1)","v":"00:00:00"},{"$f":"OFFSET(InputPriceData!G$15,CalculationsAndCharts!$A489+$A$11,IF($C$7,8,0),1,1)","v":0},{"$f":"OFFSET(InputPriceData!C$15,CalculationsAndCharts!$A489+$A$11,IF($C$7,8,0),1,1)","v":0},{"$f":"OFFSET(InputPriceData!D$15,CalculationsAndCharts!$A489+$A$11,IF($C$7,8,0),1,1)","v":0},{"$f":"OFFSET(InputPriceData!E$15,CalculationsAndCharts!$A489+$A$11,IF($C$7,8,0),1,1)","v":0},{"$f":"OFFSET(InputPriceData!F$15,CalculationsAndCharts!$A489+$A$11,IF($C$7,8,0),1,1)","v":0},0,0,0,0,0,0,{"$error":"#N/A"},false,0,false,{"$f":"IF(O489,G489,NA())","v":{"$error":"#N/A"}},{"$f":"IF(Q489,G489,NA())","v":{"$error":"#N/A"}},true,false,false,false,false,false,{"$error":"#N/A"},false,{"$error":"#N/A"},false,false,false,false,false,false,{"$error":"#N/A"},0,0,0,0,0,null,{"$f":"OFFSET(InputIndexData!F$15,CalculationsAndCharts!$A489+$A$11,IF($C$7,8,0),1,1)","v":0},0,1,1,true,null,212,{"$error":"#N/A"}]
[458,{"$f":"OFFSET(InputPriceData!B$15,CalculationsAndCharts!$A490+$A$11,0,1,1)","v":"00:00:00"},{"$f":"OFFSET(InputPriceData!G$15,CalculationsAndCharts!$A490+$A$11,IF($C$7,8,0),1,1)","v":0},{"$f":"OFFSET(InputPriceData!C$15,CalculationsAndCharts!$A490+$A$11,IF($C$7,8,0),1,1)","v":0},{"$f":"OFFSET(InputPriceData!D$15,CalculationsAndCharts!$A490+$A$11,IF($C$7,8,0),1,1)","v":0},{"$f":"OFFSET(InputPriceData!E$15,CalculationsAndCharts!$A490+$A$11,IF($C$7,8,0),1,1)","v":0},{"$f":"OFFSET(InputPriceData!F$15,CalculationsAndCharts!$A490+$A$11,IF($C$7,8,0),1,1)","v":0},0,0,0,0,0,0,{"$error":"#N/A"},false,0,false,{"$error":"#N/A"},{"$error":"#N/A"},true,false,false,false,false,false,{"$error":"#N/A"},false,{"$error":"#N/A"},false,false,false,false,false,false,{"$error":"#N/A"},0,0,0,0,0,null,{"$f":"OFFSET(InputIndexData!F$15,CalculationsAndCharts!$A490+$A$11,IF($C$7,8,0),1,1)","v":0},0,1,1,true,null,212,{"$error":"#N/A"}]
[459,{"$f":"OFFSET(InputPriceData!B$15,CalculationsAndCharts!$A491+$A$11,0,1,1)","v":"00:00:00"},{"$f":"OFFSET(InputPriceData!G$15,CalculationsAndCharts!$A491+$A$11,IF($C$7,8,0),1,1)","v":0},{"$f":"OFFSET(InputPriceData!C$15,CalculationsAndCharts!$A491+$A$11,IF($C$7,8,0),1,1)","v":0},{"$f":"OFFSET(InputPriceData!D$15,CalculationsAndCharts!$A491+$A$11,IF($C$7,8,0),1,1)","v":0},{"$f":"OFFSET(InputPriceData!E$15,CalculationsAndCharts!$A491+$A$11,IF($C$7,8,0),1,1)","v":0},{"$f":"OFFSET(InputPriceData!F$15,CalculationsAndCharts!$A491+$A$11,IF($C$7,8,0),1,1)","v":0},0,0,0,0,0,0,{"$error":"#N/A"},false,0,false,{"$error":"#N/A"},{"$error":"#N/A"},true,false,false,false,false,false,{"$error":"#N/A"},false,{"$error":"#N/A"},false,false,false,false,false,false,{"$error":"#N/A"},0,0,0,0,0,null,{"$f":"OFFSET(InputIndexData!F$15,CalculationsAndCharts!$A491+$A$11,IF($C$7,8,0),1,1)","v":0},0,1,1,true,null,212,{"$error":"#N/A"}]
[460,{"$f":"OFFSET(InputPriceData!B$15,CalculationsAndCharts!$A492+$A$11,0,1,1)","v":"00:00:00"},{"$f":"OFFSET(InputPriceData!G$15,CalculationsAndCharts!$A492+$A$11,IF($C$7,8,0),1,1)","v":0},{"$f":"OFFSET(InputPriceData!C$15,CalculationsAndCharts!$A492+$A$11,IF($C$7,8,0),1,1)","v":0},{"$f":"OFFSET(InputPriceData!D$15,CalculationsAndCharts!$A492+$A$11,IF($C$7,8,0),1,1)","v":0},{"$f":"OFFSET(InputPriceData!E$15,CalculationsAndCharts!$A492+$A$11,IF($C$7,8,0),1,1)","v":0},{"$f":"OFFSET(InputPriceData!F$15,CalculationsAndCharts!$A492+$A$11,IF($C$7,8,0),1,1)","v":0},0,0,0,0,0,0,{"$error":"#N/A"},false,0,false,{"$error":"#N/A"},{"$error":"#N/A"},true,false,false,false,false,false,{"$error":"#N/A"},false,{"$error":"#N/A"},false,false,false,false,false,false,{"$error":"#N/A"},0,0,0,0,0,null,{"$f":"OFFSET(InputIndexData!F$15,CalculationsAndCharts!$A492+$A$11,IF($C$7,8,0),1,1)","v":0},0,1,1,true,null,212,{"$error":"#N/A"}]
[461,{"$f":"OFFSET(InputPriceData!B$15,CalculationsAndCharts!$A493+$A$11,0,1,1)","v":"00:00:00"},{"$f":"OFFSET(InputPriceData!G$15,CalculationsAndCharts!$A493+$A$11,IF($C$7,8,0),1,1)","v":0},{"$f":"OFFSET(InputPriceData!C$15,CalculationsAndCharts!$A493+$A$11,IF($C$7,8,0),1,1)","v":0},{"$f":"OFFSET(InputPriceData!D$15,CalculationsAndCharts!$A493+$A$11,IF($C$7,8,0),1,1)","v":0},{"$f":"OFFSET(InputPriceData!E$15,CalculationsAndCharts!$A493+$A$11,IF($C$7,8,0),1,1)","v":0},{"$f":"OFFSET(InputPriceData!F$15,CalculationsAndCharts!$A493+$A$11,IF($C$7,8,0),1,1)","v":0},0,0,0,0,0,0,{"$error":"#N/A"},false,0,false,{"$error":"#N/A"},{"$error":"#N/A"},true,false,false,false,false,false,{"$error":"#N/A"},false,{"$error":"#N/A"},false,false,false,false,false,false,{"$error":"#N/A"},0,0,0,0,0,null,{"$f":"OFFSET(InputIndexData!F$15,CalculationsAndCharts!$A493+$A$11,IF($C$7,8,0),1,1)","v":0},0,1,1,true,null,212,{"$error":"#N/A"}]
[462,{"$f":"OFFSET(InputPriceData!B$15,CalculationsAndCharts!$A494+$A$11,0,1,1)","v":"00:00:00"},{"$f":"OFFSET(InputPriceData!G$15,CalculationsAndCharts!$A494+$A$11,IF($C$7,8,0),1,1)","v":0},{"$f":"OFFSET(InputPriceData!C$15,CalculationsAndCharts!$A494+$A$11,IF($C$7,8,0),1,1)","v":0},{"$f":"OFFSET(InputPriceData!D$15,CalculationsAndCharts!$A494+$A$11,IF($C$7,8,0),1,1)","v":0},{"$f":"OFFSET(InputPriceData!E$15,CalculationsAndCharts!$A494+$A$11,IF($C$7,8,0),1,1)","v":0},{"$f":"OFFSET(InputPriceData!F$15,CalculationsAndCharts!$A494+$A$11,IF($C$7,8,0),1,1)","v":0},0,0,0,0,0,0,{"$error":"#N/A"},false,0,false,{"$error":"#N/A"},{"$error":"#N/A"},true,false,false,false,false,false,{"$error":"#N/A"},false,{"$error":"#N/A"},false,false,false,false,false,false,{"$error":"#N/A"},0,0,0,0,0,null,{"$f":"OFFSET(InputIndexData!F$15,CalculationsAndCharts!$A494+$A$11,IF($C$7,8,0),1,1)","v":0},0,1,1,true,null,212,{"$error":"#N/A"}]
[463,{"$f":"OFFSET(InputPriceData!B$15,CalculationsAndCharts!$A495+$A$11,0,1,1)","v":"00:00:00"},{"$f":"OFFSET(InputPriceData!G$15,CalculationsAndCharts!$A495+$A$11,IF($C$7,8,0),1,1)","v":0},{"$f":"OFFSET(InputPriceData!C$15,CalculationsAndCharts!$A495+$A$11,IF($C$7,8,0),1,1)","v":0},{"$f":"OFFSET(InputPriceData!D$15,CalculationsAndCharts!$A495+$A$11,IF($C$7,8,0),1,1)","v":0},{"$f":"OFFSET(InputPriceData!E$15,CalculationsAndCharts!$A495+$A$11,IF($C$7,8,0),1,1)","v":0},{"$f":"OFFSET(InputPriceData!F$15,CalculationsAndCharts!$A495+$A$11,IF($C$7,8,0),1,1)","v":0},0,0,0,0,0,0,{"$error":"#N/A"},false,0,false,{"$error":"#N/A"},{"$error":"#N/A"},true,false,false,false,false,false,{"$error":"#N/A"},false,{"$error":"#N/A"},false,false,false,false,false,false,{"$error":"#N/A"},0,0,0,0,0,null,{"$f":"OFFSET(InputIndexData!F$15,CalculationsAndCharts!$A495+$A$11,IF($C$7,8,0),1,1)","v":0},0,1,1,true,null,212,{"$error":"#N/A"}]
[464,{"$f":"OFFSET(InputPriceData!B$15,CalculationsAndCharts!$A496+$A$11,0,1,1)","v":"00:00:00"},{"$f":"OFFSET(InputPriceData!G$15,CalculationsAndCharts!$A496+$A$11,IF($C$7,8,0),1,1)","v":0},{"$f":"OFFSET(InputPriceData!C$15,CalculationsAndCharts!$A496+$A$11,IF($C$7,8,0),1,1)","v":0},{"$f":"OFFSET(InputPriceData!D$15,CalculationsAndCharts!$A496+$A$11,IF($C$7,8,0),1,1)","v":0},{"$f":"OFFSET(InputPriceData!E$15,CalculationsAndCharts!$A496+$A$11,IF($C$7,8,0),1,1)","v":0},{"$f":"OFFSET(InputPriceData!F$15,CalculationsAndCharts!$A496+$A$11,IF($C$7,8,0),1,1)","v":0},0,0,0,0,0,0,{"$error":"#N/A"},false,0,false,{"$error":"#N/A"},{"$error":"#N/A"},true,false,false,false,false,false,{"$error":"#N/A"},{"$f":"AND(OR(W496,Y496),OR(AF496,AH496))","v":false},{"$error":"#N/A"},false,false,false,false,false,false,{"$error":"#N/A"},0,0,0,0,0,null,{"$f":"OFFSET(InputIndexData!F$15,CalculationsAndCharts!$A496+$A$11,IF($C$7,8,0),1,1)","v":0},0,1,1,true,null,212,{"$error":"#N/A"}]
[465,{"$f":"OFFSET(InputPriceData!B$15,CalculationsAndCharts!$A497+$A$11,0,1,1)","v":"00:00:00"},{"$f":"OFFSET(InputPriceData!G$15,CalculationsAndCharts!$A497+$A$11,IF($C$7,8,0),1,1)","v":0},{"$f":"OFFSET(InputPriceData!C$15,CalculationsAndCharts!$A497+$A$11,IF($C$7,8,0),1,1)","v":0},{"$f":"OFFSET(InputPriceData!D$15,CalculationsAndCharts!$A497+$A$11,IF($C$7,8,0),1,1)","v":0},{"$f":"OFFSET(InputPriceData!E$15,CalculationsAndCharts!$A497+$A$11,IF($C$7,8,0),1,1)","v":0},{"$f":"OFFSET(InputPriceData!F$15,CalculationsAndCharts!$A497+$A$11,IF($C$7,8,0),1,1)","v":0},0,0,0,0,0,0,{"$error":"#N/A"},false,0,false,{"$error":"#N/A"},{"$error":"#N/A"},true,false,false,false,false,false,{"$error":"#N/A"},false,{"$error":"#N/A"},false,false,false,false,false,false,{"$error":"#N/A"},0,0,0,0,0,null,{"$f":"OFFSET(InputIndexData!F$15,CalculationsAndCharts!$A497+$A$11,IF($C$7,8,0),1,1)","v":0},0,1,1,true,null,212,{"$error":"#N/A"}]
[466,{"$f":"OFFSET(InputPriceData!B$15,CalculationsAndCharts!$A498+$A$11,0,1,1)","v":"00:00:00"},{"$f":"OFFSET(InputPriceData!G$15,CalculationsAndCharts!$A498+$A$11,IF($C$7,8,0),1,1)","v":0},{"$f":"OFFSET(InputPriceData!C$15,CalculationsAndCharts!$A498+$A$11,IF($C$7,8,0),1,1)","v":0},{"$f":"OFFSET(InputPriceData!D$15,CalculationsAndCharts!$A498+$A$11,IF($C$7,8,0),1,1)","v":0},{"$f":"OFFSET(InputPriceData!E$15,CalculationsAndCharts!$A498+$A$11,IF($C$7,8,0),1,1)","v":0},{"$f":"OFFSET(InputPriceData!F$15,CalculationsAndCharts!$A498+$A$11,IF($C$7,8,0),1,1)","v":0},0,0,0,0,0,0,{"$error":"#N/A"},false,0,false,{"$error":"#N/A"},{"$error":"#N/A"},true,false,false,false,false,false,{"$error":"#N/A"},false,{"$error":"#N/A"},false,false,false,false,false,false,{"$error":"#N/A"},0,0,0,0,0,null,{"$f":"OFFSET(InputIndexData!F$15,CalculationsAndCharts!$A498+$A$11,IF($C$7,8,0),1,1)","v":0},0,1,1,true,null,212,{"$error":"#N/A"}]
[467,{"$f":"OFFSET(InputPriceData!B$15,CalculationsAndCharts!$A499+$A$11,0,1,1)","v":"00:00:00"},{"$f":"OFFSET(InputPriceData!G$15,CalculationsAndCharts!$A499+$A$11,IF($C$7,8,0),1,1)","v":0},{"$f":"OFFSET(InputPriceData!C$15,CalculationsAndCharts!$A499+$A$11,IF($C$7,8,0),1,1)","v":0},{"$f":"OFFSET(InputPriceData!D$15,CalculationsAndCharts!$A499+$A$11,IF($C$7,8,0),1,1)","v":0},{"$f":"OFFSET(InputPriceData!E$15,CalculationsAndCharts!$A499+$A$11,IF($C$7,8,0),1,1)","v":0},{"$f":"OFFSET(InputPriceData!F$15,CalculationsAndCharts!$A499+$A$11,IF($C$7,8,0),1,1)","v":0},0,0,0,0,0,0,{"$error":"#N/A"},false,0,false,{"$error":"#N/A"},{"$error":"#N/A"},true,false,false,false,false,{"$f":"X500","v":false},{"$error":"#N/A"},false,{"$error":"#N/A"},false,false,false,false,false,false,{"$error":"#N/A"},0,0,0,0,0,null,{"$f":"OFFSET(InputIndexData!F$15,CalculationsAndCharts!$A499+$A$11,IF($C$7,8,0),1,1)","v":0},0,1,1,true,null,212,{"$error":"#N/A"}]
[468,{"$f":"OFFSET(InputPriceData!B$15,CalculationsAndCharts!$A500+$A$11,0,1,1)","v":"00:00:00"},{"$f":"OFFSET(InputPriceData!G$15,CalculationsAndCharts!$A500+$A$11,IF($C$7,8,0),1,1)","v":0},{"$f":"OFFSET(InputPriceData!C$15,CalculationsAndCharts!$A500+$A$11,IF($C$7,8,0),1,1)","v":0},{"$f":"OFFSET(InputPriceData!D$15,CalculationsAndCharts!$A500+$A$11,IF($C$7,8,0),1,1)","v":0},{"$f":"OFFSET(InputPriceData!E$15,CalculationsAndCharts!$A500+$A$11,IF($C$7,8,0),1,1)","v":0},{"$f":"OFFSET(InputPriceData!F$15,CalculationsAndCharts!$A500+$A$11,IF($C$7,8,0),1,1)","v":0},0,0,0,0,0,0,{"$error":"#N/A"},false,0,false,{"$error":"#N/A"},{"$error":"#N/A"},true,false,false,false,false,false,{"$error":"#N/A"},false,{"$error":"#N/A"},false,false,false,false,false,false,{"$error":"#N/A"},0,0,0,0,0,null,{"$f":"OFFSET(InputIndexData!F$15,CalculationsAndCharts!$A500+$A$11,IF($C$7,8,0),1,1)","v":0},0,1,1,true,null,212,{"$error":"#N/A"}]
[469,{"$f":"OFFSET(InputPriceData!B$15,CalculationsAndCharts!$A501+$A$11,0,1,1)","v":"00:00:00"},{"$f":"OFFSET(InputPriceData!G$15,CalculationsAndCharts!$A501+$A$11,IF($C$7,8,0),1,1)","v":0},{"$f":"OFFSET(InputPriceData!C$15,CalculationsAndCharts!$A501+$A$11,IF($C$7,8,0),1,1)","v":0},{"$f":"OFFSET(InputPriceData!D$15,CalculationsAndCharts!$A501+$A$11,IF($C$7,8,0),1,1)","v":0},{"$f":"OFFSET(InputPriceData!E$15,CalculationsAndCharts!$A501+$A$11,IF($C$7,8,0),1,1)","v":0},{"$f":"OFFSET(InputPriceData!F$15,CalculationsAndCharts!$A501+$A$11,IF($C$7,8,0),1,1)","v":0},0,0,0,0,0,0,{"$error":"#N/A"},false,0,false,{"$error":"#N/A"},{"$error":"#N/A"},true,false,false,false,false,false,{"$error":"#N/A"},false,{"$error":"#N/A"},false,false,false,false,false,false,{"$error":"#N/A"},0,0,0,0,0,null,{"$f":"OFFSET(InputIndexData!F$15,CalculationsAndCharts!$A501+$A$11,IF($C$7,8,0),1,1)","v":0},0,1,1,true,null,212,{"$error":"#N/A"}]
[474,{"$f":"OFFSET(InputPriceData!B$15,CalculationsAndCharts!$A506+$A$11,0,1,1)","v":"00:00:00"},{"$f":"OFFSET(InputPriceData!G$15,CalculationsAndCharts!$A506+$A$11,IF($C$7,8,0),1,1)","v":0},{"$f":"OFFSET(InputPriceData!C$15,CalculationsAndCharts!$A506+$A$11,IF($C$7,8,0),1,1)","v":0},{"$f":"OFFSET(InputPriceData!D$15,CalculationsAndCharts!$A506+$A$11,IF($C$7,8,0),1,1)","v":0},{"$f":"OFFSET(InputPriceData!E$15,CalculationsAndCharts!$A506+$A$11,IF($C$7,8,0),1,1)","v":0},{"$f":"OFFSET(InputPriceData!F$15,CalculationsAndCharts!$A506+$A$11,IF($C$7,8,0),1,1)","v":0},0,0,0,0,0,0,{"$error":"#N/A"},false,0,false,{"$error":"#N/A"},{"$error":"#N/A"},true,false,false,false,false,false,{"$error":"#N/A"},false,{"$error":"#N/A"},false,false,false,false,false,false,{"$error":"#N/A"},0,0,0,0,0,null,{"$f":"OFFSET(InputIndexData!F$15,CalculationsAndCharts!$A506+$A$11,IF($C$7,8,0),1,1)","v":0},0,1,1,true,null,212,{"$error":"#N/A"}]
[479,{"$f":"OFFSET(InputPriceData!B$15,CalculationsAndCharts!$A511+$A$11,0,1,1)","v":"00:00:00"},{"$f":"OFFSET(InputPriceData!G$15,CalculationsAndCharts!$A511+$A$11,IF($C$7,8,0),1,1)","v":0},{"$f":"OFFSET(InputPriceData!C$15,CalculationsAndCharts!$A511+$A$11,IF($C$7,8,0),1,1)","v":0},{"$f":"OFFSET(InputPriceData!D$15,CalculationsAndCharts!$A511+$A$11,IF($C$7,8,0),1,1)","v":0},{"$f":"OFFSET(InputPriceData!E$15,CalculationsAndCharts!$A511+$A$11,IF($C$7,8,0),1,1)","v":0},{"$f":"OFFSET(InputPriceData!F$15,CalculationsAndCharts!$A511+$A$11,IF($C$7,8,0),1,1)","v":0},0,0,0,0,0,0,{"$error":"#N/A"},false,0,false,{"$error":"#N/A"},{"$error":"#N/A"},true,false,false,false,false,false,{"$error":"#N/A"},false,{"$error":"#N/A"},false,false,false,false,false,false,{"$error":"#N/A"},0,0,0,0,0,null,{"$f":"OFFSET(InputIndexData!F$15,CalculationsAndCharts!$A511+$A$11,IF($C$7,8,0),1,1)","v":0},0,1,1,true,null,212,{"$error":"#N/A"}]
[480,{"$f":"OFFSET(InputPriceData!B$15,CalculationsAndCharts!$A512+$A$11,0,1,1)","v":"00:00:00"},{"$f":"OFFSET(InputPriceData!G$15,CalculationsAndCharts!$A512+$A$11,IF($C$7,8,0),1,1)","v":0},{"$f":"OFFSET(InputPriceData!C$15,CalculationsAndCharts!$A512+$A$11,IF($C$7,8,0),1,1)","v":0},{"$f":"OFFSET(InputPriceData!D$15,CalculationsAndCharts!$A512+$A$11,IF($C$7,8,0),1,1)","v":0},{"$f":"OFFSET(InputPriceData!E$15,CalculationsAndCharts!$A512+$A$11,IF($C$7,8,0),1,1)","v":0},{"$f":"OFFSET(InputPriceData!F$15,CalculationsAndCharts!$A512+$A$11,IF($C$7,8,0),1,1)","v":0},0,0,0,0,0,0,{"$error":"#N/A"},false,0,false,{"$error":"#N/A"},{"$error":"#N/A"},true,false,false,false,false,false,{"$error":"#N/A"},false,{"$error":"#N/A"},false,false,false,false,false,false,{"$error":"#N/A"},0,0,0,0,0,null,{"$f":"OFFSET(InputIndexData!F$15,CalculationsAndCharts!$A512+$A$11,IF($C$7,8,0),1,1)","v":0},0,1,1,true,null,212,{"$error":"#N/A"}]
[485,{"$f":"OFFSET(InputPriceData!B$15,CalculationsAndCharts!$A517+$A$11,0,1,1)","v":"00:00:00"},{"$f":"OFFSET(InputPriceData!G$15,CalculationsAndCharts!$A517+$A$11,IF($C$7,8,0),1,1)","v":0},{"$f":"OFFSET(InputPriceData!C$15,CalculationsAndCharts!$A517+$A$11,IF($C$7,8,0),1,1)","v":0},{"$f":"OFFSET(InputPriceData!D$15,CalculationsAndCharts!$A517+$A$11,IF($C$7,8,0),1,1)","v":0},{"$f":"OFFSET(InputPriceData!E$15,CalculationsAndCharts!$A517+$A$11,IF($C$7,8,0),1,1)","v":0},{"$f":"OFFSET(InputPriceData!F$15,CalculationsAndCharts!$A517+$A$11,IF($C$7,8,0),1,1)","v":0},0,0,0,0,0,0,{"$error":"#N/A"},false,0,false,{"$error":"#N/A"},{"$error":"#N/A"},true,false,false,false,false,false,{"$error":"#N/A"},false,{"$error":"#N/A"},false,false,false,false,false,false,{"$error":"#N/A"},0,0,0,0,0,null,{"$f":"OFFSET(InputIndexData!F$15,CalculationsAndCharts!$A517+$A$11,IF($C$7,8,0),1,1)","v":0},0,1,1,true,null,212,{"$error":"#N/A"}]
[490,{"$f":"OFFSET(InputPriceData!B$15,CalculationsAndCharts!$A522+$A$11,0,1,1)","v":"00:00:00"},{"$f":"OFFSET(InputPriceData!G$15,CalculationsAndCharts!$A522+$A$11,IF($C$7,8,0),1,1)","v":0},{"$f":"OFFSET(InputPriceData!C$15,CalculationsAndCharts!$A522+$A$11,IF($C$7,8,0),1,1)","v":0},{"$f":"OFFSET(InputPriceData!D$15,CalculationsAndCharts!$A522+$A$11,IF($C$7,8,0),1,1)","v":0},{"$f":"OFFSET(InputPriceData!E$15,CalculationsAndCharts!$A522+$A$11,IF($C$7,8,0),1,1)","v":0},{"$f":"OFFSET(InputPriceData!F$15,CalculationsAndCharts!$A522+$A$11,IF($C$7,8,0),1,1)","v":0},0,0,0,0,0,0,{"$error":"#N/A"},false,0,false,{"$error":"#N/A"},{"$error":"#N/A"},true,false,false,false,false,false,{"$error":"#N/A"},false,{"$error":"#N/A"},false,false,false,false,false,false,{"$error":"#N/A"},0,0,0,0,0,null,{"$f":"OFFSET(InputIndexData!F$15,CalculationsAndCharts!$A522+$A$11,IF($C$7,8,0),1,1)","v":0},0,1,1,true,null,212,{"$error":"#N/A"}]
[494,{"$f":"OFFSET(InputPriceData!B$15,CalculationsAndCharts!$A526+$A$11,0,1,1)","v":"00:00:00"},{"$f":"OFFSET(InputPriceData!G$15,CalculationsAndCharts!$A526+$A$11,IF($C$7,8,0),1,1)","v":0},{"$f":"OFFSET(InputPriceData!C$15,CalculationsAndCharts!$A526+$A$11,IF($C$7,8,0),1,1)","v":0},{"$f":"OFFSET(InputPriceData!D$15,CalculationsAndCharts!$A526+$A$11,IF($C$7,8,0),1,1)","v":0},{"$f":"OFFSET(InputPriceData!E$15,CalculationsAndCharts!$A526+$A$11,IF($C$7,8,0),1,1)","v":0},{"$f":"OFFSET(InputPriceData!F$15,CalculationsAndCharts!$A526+$A$11,IF($C$7,8,0),1,1)","v":0},0,0,0,0,0,0,{"$error":"#N/A"},false,0,false,{"$error":"#N/A"},{"$error":"#N/A"},true,false,false,false,false,false,{"$error":"#N/A"},false,{"$error":"#N/A"},false,false,false,false,false,false,{"$error":"#N/A"},0,0,0,0,0,null,{"$f":"OFFSET(InputIndexData!F$15,CalculationsAndCharts!$A526+$A$11,IF($C$7,8,0),1,1)","v":0},0,1,1,true,null,212,{"$error":"#N/A"}]
[495,{"$f":"OFFSET(InputPriceData!B$15,CalculationsAndCharts!$A527+$A$11,0,1,1)","v":"00:00:00"},{"$f":"OFFSET(InputPriceData!G$15,CalculationsAndCharts!$A527+$A$11,IF($C$7,8,0),1,1)","v":0},{"$f":"OFFSET(InputPriceData!C$15,CalculationsAndCharts!$A527+$A$11,IF($C$7,8,0),1,1)","v":0},{"$f":"OFFSET(InputPriceData!D$15,CalculationsAndCharts!$A527+$A$11,IF($C$7,8,0),1,1)","v":0},{"$f":"OFFSET(InputPriceData!E$15,CalculationsAndCharts!$A527+$A$11,IF($C$7,8,0),1,1)","v":0},{"$f":"OFFSET(InputPriceData!F$15,CalculationsAndCharts!$A527+$A$11,IF($C$7,8,0),1,1)","v":0},0,0,0,0,0,0,{"$error":"#N/A"},false,0,false,{"$error":"#N/A"},{"$error":"#N/A"},true,false,false,false,false,false,{"$error":"#N/A"},false,{"$error":"#N/A"},false,false,false,false,false,false,{"$error":"#N/A"},0,0,0,0,0,null,{"$f":"OFFSET(InputIndexData!F$15,CalculationsAndCharts!$A527+$A$11,IF($C$7,8,0),1,1)","v":0},0,1,1,true,null,212,{"$error":"#N/A"}]
[500,{"$f":"OFFSET(InputPriceData!B$15,CalculationsAndCharts!$A532+$A$11,0,1,1)","v":"00:00:00"},{"$f":"OFFSET(InputPriceData!G$15,CalculationsAndCharts!$A532+$A$11,IF($C$7,8,0),1,1)","v":0},{"$f":"OFFSET(InputPriceData!C$15,CalculationsAndCharts!$A532+$A$11,IF($C$7,8,0),1,1)","v":0},{"$f":"OFFSET(InputPriceData!D$15,CalculationsAndCharts!$A532+$A$11,IF($C$7,8,0),1,1)","v":0},{"$f":"OFFSET(InputPriceData!E$15,CalculationsAndCharts!$A532+$A$11,IF($C$7,8,0),1,1)","v":0},{"$f":"OFFSET(InputPriceData!F$15,CalculationsAndCharts!$A532+$A$11,IF($C$7,8,0),1,1)","v":0},0,0,0,0,0,0,{"$error":"#N/A"},false,0,false,{"$error":"#N/A"},{"$error":"#N/A"},true,false,false,false,false,false,{"$error":"#N/A"},false,{"$error":"#N/A"},false,false,false,false,false,false,{"$error":"#N/A"},0,0,0,0,0,null,{"$f":"OFFSET(InputIndexData!F$15,CalculationsAndCharts!$A532+$A$11,IF($C$7,8,0),1,1)","v":0},0,1,1,true,null,212,{"$error":"#N/A"}]
[505,{"$f":"OFFSET(InputPriceData!B$15,CalculationsAndCharts!$A537+$A$11,0,1,1)","v":"00:00:00"},{"$f":"OFFSET(InputPriceData!G$15,CalculationsAndCharts!$A537+$A$11,IF($C$7,8,0),1,1)","v":0},{"$f":"OFFSET(InputPriceData!C$15,CalculationsAndCharts!$A537+$A$11,IF($C$7,8,0),1,1)","v":0},{"$f":"OFFSET(InputPriceData!D$15,CalculationsAndCharts!$A537+$A$11,IF($C$7,8,0),1,1)","v":0},{"$f":"OFFSET(InputPriceData!E$15,CalculationsAndCharts!$A537+$A$11,IF($C$7,8,0),1,1)","v":0},{"$f":"OFFSET(InputPriceData!F$15,CalculationsAndCharts!$A537+$A$11,IF($C$7,8,0),1,1)","v":0},0,0,0,0,0,0,{"$error":"#N/A"},false,0,false,{"$error":"#N/A"},{"$error":"#N/A"},true,false,false,false,false,false,{"$error":"#N/A"},false,{"$error":"#N/A"},false,false,false,false,false,false,{"$error":"#N/A"},0,0,0,0,0,null,{"$f":"OFFSET(InputIndexData!F$15,CalculationsAndCharts!$A537+$A$11,IF($C$7,8,0),1,1)","v":0},0,1,1,true,null,212,{"$error":"#N/A"}]
[508,{"$f":"OFFSET(InputPriceData!B$15,CalculationsAndCharts!$A540+$A$11,0,1,1)","v":"00:00:00"},{"$f":"OFFSET(InputPriceData!G$15,CalculationsAndCharts!$A540+$A$11,IF($C$7,8,0),1,1)","v":0},{"$f":"OFFSET(InputPriceData!C$15,CalculationsAndCharts!$A540+$A$11,IF($C$7,8,0),1,1)","v":0},{"$f":"OFFSET(InputPriceData!D$15,CalculationsAndCharts!$A540+$A$11,IF($C$7,8,0),1,1)","v":0},{"$f":"OFFSET(InputPriceData!E$15,CalculationsAndCharts!$A540+$A$11,IF($C$7,8,0),1,1)","v":0},{"$f":"OFFSET(InputPriceData!F$15,CalculationsAndCharts!$A540+$A$11,IF($C$7,8,0),1,1)","v":0},0,0,0,0,0,0,{"$error":"#N/A"},false,0,false,{"$error":"#N/A"},{"$error":"#N/A"},true,false,false,false,false,false,{"$error":"#N/A"},false,{"$error":"#N/A"},false,false,false,false,false,false,{"$error":"#N/A"},0,0,0,0,0,null,{"$f":"OFFSET(InputIndexData!F$15,CalculationsAndCharts!$A540+$A$11,IF($C$7,8,0),1,1)","v":0},0,1,1,true,null,212,{"$error":"#N/A"}]
[510,{"$f":"OFFSET(InputPriceData!B$15,CalculationsAndCharts!$A542+$A$11,0,1,1)","v":"00:00:00"},{"$f":"OFFSET(InputPriceData!G$15,CalculationsAndCharts!$A542+$A$11,IF($C$7,8,0),1,1)","v":0},{"$f":"OFFSET(InputPriceData!C$15,CalculationsAndCharts!$A542+$A$11,IF($C$7,8,0),1,1)","v":0},{"$f":"OFFSET(InputPriceData!D$15,CalculationsAndCharts!$A542+$A$11,IF($C$7,8,0),1,1)","v":0},{"$f":"OFFSET(InputPriceData!E$15,CalculationsAndCharts!$A542+$A$11,IF($C$7,8,0),1,1)","v":0},{"$f":"OFFSET(InputPriceData!F$15,CalculationsAndCharts!$A542+$A$11,IF($C$7,8,0),1,1)","v":0},0,0,0,0,0,0,{"$error":"#N/A"},false,0,false,{"$error":"#N/A"},{"$error":"#N/A"},true,false,false,false,false,false,{"$error":"#N/A"},false,{"$error":"#N/A"},false,false,false,false,false,false,{"$error":"#N/A"},0,0,0,0,0,null,{"$f":"OFFSET(InputIndexData!F$15,CalculationsAndCharts!$A542+$A$11,IF($C$7,8,0),1,1)","v":0},0,1,1,true,null,212,{"$error":"#N/A"}]
[515,{"$f":"OFFSET(InputPriceData!B$15,CalculationsAndCharts!$A547+$A$11,0,1,1)","v":"00:00:00"},{"$f":"OFFSET(InputPriceData!G$15,CalculationsAndCharts!$A547+$A$11,IF($C$7,8,0),1,1)","v":0},{"$f":"OFFSET(InputPriceData!C$15,CalculationsAndCharts!$A547+$A$11,IF($C$7,8,0),1,1)","v":0},{"$f":"OFFSET(InputPriceData!D$15,CalculationsAndCharts!$A547+$A$11,IF($C$7,8,0),1,1)","v":0},{"$f":"OFFSET(InputPriceData!E$15,CalculationsAndCharts!$A547+$A$11,IF($C$7,8,0),1,1)","v":0},{"$f":"OFFSET(InputPriceData!F$15,CalculationsAndCharts!$A547+$A$11,IF($C$7,8,0),1,1)","v":0},0,0,0,0,0,0,{"$error":"#N/A"},false,0,false,{"$error":"#N/A"},{"$error":"#N/A"},true,false,false,false,false,false,{"$error":"#N/A"},false,{"$error":"#N/A"},false,false,false,false,false,false,{"$error":"#N/A"},0,0,0,0,0,null,{"$f":"OFFSET(InputIndexData!F$15,CalculationsAndCharts!$A547+$A$11,IF($C$7,8,0),1,1)","v":0},0,1,1,true,null,212,{"$error":"#N/A"}]
[520,{"$f":"OFFSET(InputPriceData!B$15,CalculationsAndCharts!$A552+$A$11,0,1,1)","v":"00:00:00"},{"$f":"OFFSET(InputPriceData!G$15,CalculationsAndCharts!$A552+$A$11,IF($C$7,8,0),1,1)","v":0},{"$f":"OFFSET(InputPriceData!C$15,CalculationsAndCharts!$A552+$A$11,IF($C$7,8,0),1,1)","v":0},{"$f":"OFFSET(InputPriceData!D$15,CalculationsAndCharts!$A552+$A$11,IF($C$7,8,0),1,1)","v":0},{"$f":"OFFSET(InputPriceData!E$15,CalculationsAndCharts!$A552+$A$11,IF($C$7,8,0),1,1)","v":0},{"$f":"OFFSET(InputPriceData!F$15,CalculationsAndCharts!$A552+$A$11,IF($C$7,8,0),1,1)","v":0},0,0,0,0,0,0,{"$error":"#N/A"},false,0,false,{"$error":"#N/A"},{"$error":"#N/A"},true,false,false,false,false,false,{"$error":"#N/A"},false,{"$f":"IF(AA552,$F$11,NA())","v":{"$error":"#N/A"}},false,false,false,false,false,false,{"$error":"#N/A"},0,0,0,0,0,null,{"$f":"OFFSET(InputIndexData!F$15,CalculationsAndCharts!$A552+$A$11,IF($C$7,8,0),1,1)","v":0},0,1,1,true,null,212,{"$error":"#N/A"}]
[525,{"$f":"OFFSET(InputPriceData!B$15,CalculationsAndCharts!$A557+$A$11,0,1,1)","v":"00:00:00"},{"$f":"OFFSET(InputPriceData!G$15,CalculationsAndCharts!$A557+$A$11,IF($C$7,8,0),1,1)","v":0},{"$f":"OFFSET(InputPriceData!C$15,CalculationsAndCharts!$A557+$A$11,IF($C$7,8,0),1,1)","v":0},{"$f":"OFFSET(InputPriceData!D$15,CalculationsAndCharts!$A557+$A$11,IF($C$7,8,0),1,1)","v":0},{"$f":"OFFSET(InputPriceData!E$15,CalculationsAndCharts!$A557+$A$11,IF($C$7,8,0),1,1)","v":0},{"$f":"OFFSET(InputPriceData!F$15,CalculationsAndCharts!$A557+$A$11,IF($C$7,8,0),1,1)","v":0},0,0,0,0,0,0,{"$error":"#N/A"},false,0,false,{"$error":"#N/A"},{"$error":"#N/A"},true,false,false,false,false,false,{"$error":"#N/A"},false,{"$error":"#N/A"},false,false,false,false,false,false,{"$error":"#N/A"},0,0,0,0,0,null,{"$f":"OFFSET(InputIndexData!F$15,CalculationsAndCharts!$A557+$A$11,IF($C$7,8,0),1,1)","v":0},0,1,1,true,null,212,{"$error":"#N/A"}]
[526,{"$f":"OFFSET(InputPriceData!B$15,CalculationsAndCharts!$A558+$A$11,0,1,1)","v":"00:00:00"},{"$f":"OFFSET(InputPriceData!G$15,CalculationsAndCharts!$A558+$A$11,IF($C$7,8,0),1,1)","v":0},{"$f":"OFFSET(InputPriceData!C$15,CalculationsAndCharts!$A558+$A$11,IF($C$7,8,0),1,1)","v":0},{"$f":"OFFSET(InputPriceData!D$15,CalculationsAndCharts!$A558+$A$11,IF($C$7,8,0),1,1)","v":0},{"$f":"OFFSET(InputPriceData!E$15,CalculationsAndCharts!$A558+$A$11,IF($C$7,8,0),1,1)","v":0},{"$f":"OFFSET(InputPriceData!F$15,CalculationsAndCharts!$A558+$A$11,IF($C$7,8,0),1,1)","v":0},0,0,0,0,0,0,{"$error":"#N/A"},false,0,false,{"$error":"#N/A"},{"$error":"#N/A"},true,false,false,false,false,false,{"$error":"#N/A"},false,{"$error":"#N/A"},false,false,false,false,false,false,{"$error":"#N/A"},0,0,0,0,0,null,{"$f":"OFFSET(InputIndexData!F$15,CalculationsAndCharts!$A558+$A$11,IF($C$7,8,0),1,1)","v":0},0,1,1,true,null,212,{"$error":"#N/A"}]
[531,{"$f":"OFFSET(InputPriceData!B$15,CalculationsAndCharts!$A563+$A$11,0,1,1)","v":"00:00:00"},{"$f":"OFFSET(InputPriceData!G$15,CalculationsAndCharts!$A563+$A$11,IF($C$7,8,0),1,1)","v":0},{"$f":"OFFSET(InputPriceData!C$15,CalculationsAndCharts!$A563+$A$11,IF($C$7,8,0),1,1)","v":0},{"$f":"OFFSET(InputPriceData!D$15,CalculationsAndCharts!$A563+$A$11,IF($C$7,8,0),1,1)","v":0},{"$f":"OFFSET(InputPriceData!E$15,CalculationsAndCharts!$A563+$A$11,IF($C$7,8,0),1,1)","v":0},{"$f":"OFFSET(InputPriceData!F$15,CalculationsAndCharts!$A563+$A$11,IF($C$7,8,0),1,1)","v":0},0,0,0,0,0,0,{"$error":"#N/A"},false,0,false,{"$error":"#N/A"},{"$error":"#N/A"},true,false,false,false,false,{"$f":"X564","v":false},{"$error":"#N/A"},false,{"$error":"#N/A"},false,false,false,false,false,false,{"$error":"#N/A"},0,0,0,0,0,null,{"$f":"OFFSET(InputIndexData!F$15,CalculationsAndCharts!$A563+$A$11,IF($C$7,8,0),1,1)","v":0},0,1,1,true,null,212,{"$error":"#N/A"}]
[535,{"$f":"OFFSET(InputPriceData!B$15,CalculationsAndCharts!$A567+$A$11,0,1,1)","v":"00:00:00"},{"$f":"OFFSET(InputPriceData!G$15,CalculationsAndCharts!$A567+$A$11,IF($C$7,8,0),1,1)","v":0},{"$f":"OFFSET(InputPriceData!C$15,CalculationsAndCharts!$A567+$A$11,IF($C$7,8,0),1,1)","v":0},{"$f":"OFFSET(InputPriceData!D$15,CalculationsAndCharts!$A567+$A$11,IF($C$7,8,0),1,1)","v":0},{"$f":"OFFSET(InputPriceData!E$15,CalculationsAndCharts!$A567+$A$11,IF($C$7,8,0),1,1)","v":0},{"$f":"OFFSET(InputPriceData!F$15,CalculationsAndCharts!$A567+$A$11,IF($C$7,8,0),1,1)","v":0},0,0,0,0,0,0,{"$error":"#N/A"},false,0,false,{"$error":"#N/A"},{"$error":"#N/A"},true,false,false,false,false,false,{"$error":"#N/A"},false,{"$error":"#N/A"},false,false,false,false,false,false,{"$error":"#N/A"},0,0,0,0,0,null,{"$f":"OFFSET(InputIndexData!F$15,CalculationsAndCharts!$A567+$A$11,IF($C$7,8,0),1,1)","v":0},0,1,1,true,null,212,{"$error":"#N/A"}]
[540,{"$f":"OFFSET(InputPriceData!B$15,CalculationsAndCharts!$A572+$A$11,0,1,1)","v":"00:00:00"},{"$f":"OFFSET(InputPriceData!G$15,CalculationsAndCharts!$A572+$A$11,IF($C$7,8,0),1,1)","v":0},{"$f":"OFFSET(InputPriceData!C$15,CalculationsAndCharts!$A572+$A$11,IF($C$7,8,0),1,1)","v":0},{"$f":"OFFSET(InputPriceData!D$15,CalculationsAndCharts!$A572+$A$11,IF($C$7,8,0),1,1)","v":0},{"$f":"OFFSET(InputPriceData!E$15,CalculationsAndCharts!$A572+$A$11,IF($C$7,8,0),1,1)","v":0},{"$f":"OFFSET(InputPriceData!F$15,CalculationsAndCharts!$A572+$A$11,IF($C$7,8,0),1,1)","v":0},0,0,0,0,0,0,{"$error":"#N/A"},false,0,false,{"$error":"#N/A"},{"$error":"#N/A"},true,false,false,false,false,false,{"$error":"#N/A"},false,{"$error":"#N/A"},false,false,false,false,false,false,{"$error":"#N/A"},0,0,0,0,0,null,{"$f":"OFFSET(InputIndexData!F$15,CalculationsAndCharts!$A572+$A$11,IF($C$7,8,0),1,1)","v":0},0,1,1,true,null,212,{"$error":"#N/A"}]
[541,{"$f":"OFFSET(InputPriceData!B$15,CalculationsAndCharts!$A573+$A$11,0,1,1)","v":"00:00:00"},{"$f":"OFFSET(InputPriceData!G$15,CalculationsAndCharts!$A573+$A$11,IF($C$7,8,0),1,1)","v":0},{"$f":"OFFSET(InputPriceData!C$15,CalculationsAndCharts!$A573+$A$11,IF($C$7,8,0),1,1)","v":0},{"$f":"OFFSET(InputPriceData!D$15,CalculationsAndCharts!$A573+$A$11,IF($C$7,8,0),1,1)","v":0},{"$f":"OFFSET(InputPriceData!E$15,CalculationsAndCharts!$A573+$A$11,IF($C$7,8,0),1,1)","v":0},{"$f":"OFFSET(InputPriceData!F$15,CalculationsAndCharts!$A573+$A$11,IF($C$7,8,0),1,1)","v":0},0,0,0,0,0,0,{"$error":"#N/A"},false,0,false,{"$error":"#N/A"},{"$error":"#N/A"},true,false,false,false,false,false,{"$error":"#N/A"},false,{"$error":"#N/A"},false,false,false,false,false,false,{"$error":"#N/A"},0,0,0,0,0,null,{"$f":"OFFSET(InputIndexData!F$15,CalculationsAndCharts!$A573+$A$11,IF($C$7,8,0),1,1)","v":0},0,1,1,true,null,212,{"$error":"#N/A"}]
[546,{"$f":"OFFSET(InputPriceData!B$15,CalculationsAndCharts!$A578+$A$11,0,1,1)","v":"00:00:00"},{"$f":"OFFSET(InputPriceData!G$15,CalculationsAndCharts!$A578+$A$11,IF($C$7,8,0),1,1)","v":0},{"$f":"OFFSET(InputPriceData!C$15,CalculationsAndCharts!$A578+$A$11,IF($C$7,8,0),1,1)","v":0},{"$f":"OFFSET(InputPriceData!D$15,CalculationsAndCharts!$A578+$A$11,IF($C$7,8,0),1,1)","v":0},{"$f":"OFFSET(InputPriceData!E$15,CalculationsAndCharts!$A578+$A$11,IF($C$7,8,0),1,1)","v":0},{"$f":"OFFSET(InputPriceData!F$15,CalculationsAndCharts!$A578+$A$11,IF($C$7,8,0),1,1)","v":0},0,0,0,0,0,0,{"$error":"#N/A"},false,0,false,{"$error":"#N/A"},{"$error":"#N/A"},true,false,false,false,false,false,{"$error":"#N/A"},false,{"$error":"#N/A"},false,false,false,false,false,false,{"$error":"#N/A"},0,0,0,0,0,null,{"$f":"OFFSET(InputIndexData!F$15,CalculationsAndCharts!$A578+$A$11,IF($C$7,8,0),1,1)","v":0},0,1,1,true,null,212,{"$error":"#N/A"}]
[549,{"$f":"OFFSET(InputPriceData!B$15,CalculationsAndCharts!$A581+$A$11,0,1,1)","v":"00:00:00"},{"$f":"OFFSET(InputPriceData!G$15,CalculationsAndCharts!$A581+$A$11,IF($C$7,8,0),1,1)","v":0},{"$f":"OFFSET(InputPriceData!C$15,CalculationsAndCharts!$A581+$A$11,IF($C$7,8,0),1,1)","v":0},{"$f":"OFFSET(InputPriceData!D$15,CalculationsAndCharts!$A581+$A$11,IF($C$7,8,0),1,1)","v":0},{"$f":"OFFSET(InputPriceData!E$15,CalculationsAndCharts!$A581+$A$11,IF($C$7,8,0),1,1)","v":0},{"$f":"OFFSET(InputPriceData!F$15,CalculationsAndCharts!$A581+$A$11,IF($C$7,8,0),1,1)","v":0},0,0,0,0,0,0,{"$error":"#N/A"},false,0,false,{"$error":"#N/A"},{"$error":"#N/A"},true,false,false,false,false,false,{"$error":"#N/A"},false,{"$error":"#N/A"},false,false,false,false,false,false,{"$error":"#N/A"},0,0,0,0,0,null,{"$f":"OFFSET(InputIndexData!F$15,CalculationsAndCharts!$A581+$A$11,IF($C$7,8,0),1,1)","v":0},0,1,1,true,null,212,{"$error":"#N/A"}]
[555,{"$f":"OFFSET(InputPriceData!B$15,CalculationsAndCharts!$A587+$A$11,0,1,1)","v":"00:00:00"},{"$f":"OFFSET(InputPriceData!G$15,CalculationsAndCharts!$A587+$A$11,IF($C$7,8,0),1,1)","v":0},{"$f":"OFFSET(InputPriceData!C$15,CalculationsAndCharts!$A587+$A$11,IF($C$7,8,0),1,1)","v":0},{"$f":"OFFSET(InputPriceData!D$15,CalculationsAndCharts!$A587+$A$11,IF($C$7,8,0),1,1)","v":0},{"$f":"OFFSET(InputPriceData!E$15,CalculationsAndCharts!$A587+$A$11,IF($C$7,8,0),1,1)","v":0},{"$f":"OFFSET(InputPriceData!F$15,CalculationsAndCharts!$A587+$A$11,IF($C$7,8,0),1,1)","v":0},0,0,0,0,0,0,{"$error":"#N/A"},false,0,false,{"$error":"#N/A"},{"$error":"#N/A"},true,false,false,false,false,false,{"$error":"#N/A"},false,{"$error":"#N/A"},false,false,false,false,false,false,{"$error":"#N/A"},0,0,0,0,0,null,{"$f":"OFFSET(InputIndexData!F$15,CalculationsAndCharts!$A587+$A$11,IF($C$7,8,0),1,1)","v":0},0,1,1,true,null,212,{"$error":"#N/A"}]
[556,{"$f":"OFFSET(InputPriceData!B$15,CalculationsAndCharts!$A588+$A$11,0,1,1)","v":"00:00:00"},{"$f":"OFFSET(InputPriceData!G$15,CalculationsAndCharts!$A588+$A$11,IF($C$7,8,0),1,1)","v":0},{"$f":"OFFSET(InputPriceData!C$15,CalculationsAndCharts!$A588+$A$11,IF($C$7,8,0),1,1)","v":0},{"$f":"OFFSET(InputPriceData!D$15,CalculationsAndCharts!$A588+$A$11,IF($C$7,8,0),1,1)","v":0},{"$f":"OFFSET(InputPriceData!E$15,CalculationsAndCharts!$A588+$A$11,IF($C$7,8,0),1,1)","v":0},{"$f":"OFFSET(InputPriceData!F$15,CalculationsAndCharts!$A588+$A$11,IF($C$7,8,0),1,1)","v":0},0,0,0,0,0,0,{"$error":"#N/A"},false,0,false,{"$error":"#N/A"},{"$error":"#N/A"},true,false,false,false,false,false,{"$error":"#N/A"},false,{"$error":"#N/A"},false,false,false,false,false,false,{"$error":"#N/A"},0,0,0,0,0,null,{"$f":"OFFSET(InputIndexData!F$15,CalculationsAndCharts!$A588+$A$11,IF($C$7,8,0),1,1)","v":0},0,1,1,true,null,212,{"$error":"#N/A"}]
[561,{"$f":"OFFSET(InputPriceData!B$15,CalculationsAndCharts!$A593+$A$11,0,1,1)","v":"00:00:00"},{"$f":"OFFSET(InputPriceData!G$15,CalculationsAndCharts!$A593+$A$11,IF($C$7,8,0),1,1)","v":0},{"$f":"OFFSET(InputPriceData!C$15,CalculationsAndCharts!$A593+$A$11,IF($C$7,8,0),1,1)","v":0},{"$f":"OFFSET(InputPriceData!D$15,CalculationsAndCharts!$A593+$A$11,IF($C$7,8,0),1,1)","v":0},{"$f":"OFFSET(InputPriceData!E$15,CalculationsAndCharts!$A593+$A$11,IF($C$7,8,0),1,1)","v":0},{"$f":"OFFSET(InputPriceData!F$15,CalculationsAndCharts!$A593+$A$11,IF($C$7,8,0),1,1)","v":0},0,0,0,0,0,0,{"$error":"#N/A"},false,0,false,{"$error":"#N/A"},{"$error":"#N/A"},true,false,false,false,false,false,{"$error":"#N/A"},false,{"$error":"#N/A"},false,false,false,false,false,false,{"$error":"#N/A"},0,0,0,0,0,null,{"$f":"OFFSET(InputIndexData!F$15,CalculationsAndCharts!$A593+$A$11,IF($C$7,8,0),1,1)","v":0},0,1,1,true,null,212,{"$error":"#N/A"}]
[566,{"$f":"OFFSET(InputPriceData!B$15,CalculationsAndCharts!$A598+$A$11,0,1,1)","v":"00:00:00"},{"$f":"OFFSET(InputPriceData!G$15,CalculationsAndCharts!$A598+$A$11,IF($C$7,8,0),1,1)","v":0},{"$f":"OFFSET(InputPriceData!C$15,CalculationsAndCharts!$A598+$A$11,IF($C$7,8,0),1,1)","v":0},{"$f":"OFFSET(InputPriceData!D$15,CalculationsAndCharts!$A598+$A$11,IF($C$7,8,0),1,1)","v":0},{"$f":"OFFSET(InputPriceData!E$15,CalculationsAndCharts!$A598+$A$11,IF($C$7,8,0),1,1)","v":0},{"$f":"OFFSET(InputPriceData!F$15,CalculationsAndCharts!$A598+$A$11,IF($C$7,8,0),1,1)","v":0},0,0,0,0,0,0,{"$error":"#N/A"},false,0,false,{"$error":"#N/A"},{"$error":"#N/A"},true,false,false,false,false,false,{"$error":"#N/A"},false,{"$error":"#N/A"},false,false,false,false,false,false,{"$error":"#N/A"},0,0,0,0,0,null,{"$f":"OFFSET(InputIndexData!F$15,CalculationsAndCharts!$A598+$A$11,IF($C$7,8,0),1,1)","v":0},0,1,1,true,null,212,{"$error":"#N/A"}]
[571,{"$f":"OFFSET(InputPriceData!B$15,CalculationsAndCharts!$A603+$A$11,0,1,1)","v":"00:00:00"},{"$f":"OFFSET(InputPriceData!G$15,CalculationsAndCharts!$A603+$A$11,IF($C$7,8,0),1,1)","v":0},{"$f":"OFFSET(InputPriceData!C$15,CalculationsAndCharts!$A603+$A$11,IF($C$7,8,0),1,1)","v":0},{"$f":"OFFSET(InputPriceData!D$15,CalculationsAndCharts!$A603+$A$11,IF($C$7,8,0),1,1)","v":0},{"$f":"OFFSET(InputPriceData!E$15,CalculationsAndCharts!$A603+$A$11,IF($C$7,8,0),1,1)","v":0},{"$f":"OFFSET(InputPriceData!F$15,CalculationsAndCharts!$A603+$A$11,IF($C$7,8,0),1,1)","v":0},0,0,0,0,0,0,{"$error":"#N/A"},false,0,false,{"$error":"#N/A"},{"$error":"#N/A"},true,false,false,false,false,false,{"$error":"#N/A"},false,{"$error":"#N/A"},false,false,false,false,false,false,{"$error":"#N/A"},0,0,0,0,0,null,{"$f":"OFFSET(InputIndexData!F$15,CalculationsAndCharts!$A603+$A$11,IF($C$7,8,0),1,1)","v":0},0,1,1,true,null,212,{"$error":"#N/A"}]
[574,{"$f":"OFFSET(InputPriceData!B$15,CalculationsAndCharts!$A606+$A$11,0,1,1)","v":"00:00:00"},{"$f":"OFFSET(InputPriceData!G$15,CalculationsAndCharts!$A606+$A$11,IF($C$7,8,0),1,1)","v":0},{"$f":"OFFSET(InputPriceData!C$15,CalculationsAndCharts!$A606+$A$11,IF($C$7,8,0),1,1)","v":0},{"$f":"OFFSET(InputPriceData!D$15,CalculationsAndCharts!$A606+$A$11,IF($C$7,8,0),1,1)","v":0},{"$f":"OFFSET(InputPriceData!E$15,CalculationsAndCharts!$A606+$A$11,IF($C$7,8,0),1,1)","v":0},{"$f":"OFFSET(InputPriceData!F$15,CalculationsAndCharts!$A606+$A$11,IF($C$7,8,0),1,1)","v":0},0,0,0,0,0,0,{"$error":"#N/A"},false,0,false,{"$error":"#N/A"},{"$error":"#N/A"},true,false,false,false,false,false,{"$error":"#N/A"},false,{"$error":"#N/A"},false,false,false,false,false,false,{"$error":"#N/A"},0,0,0,0,0,null,{"$f":"OFFSET(InputIndexData!F$15,CalculationsAndCharts!$A606+$A$11,IF($C$7,8,0),1,1)","v":0},0,1,1,true,null,212,{"$error":"#N/A"}]
[576,{"$f":"OFFSET(InputPriceData!B$15,CalculationsAndCharts!$A608+$A$11,0,1,1)","v":"00:00:00"},{"$f":"OFFSET(InputPriceData!G$15,CalculationsAndCharts!$A608+$A$11,IF($C$7,8,0),1,1)","v":0},{"$f":"OFFSET(InputPriceData!C$15,CalculationsAndCharts!$A608+$A$11,IF($C$7,8,0),1,1)","v":0},{"$f":"OFFSET(InputPriceData!D$15,CalculationsAndCharts!$A608+$A$11,IF($C$7,8,0),1,1)","v":0},{"$f":"OFFSET(InputPriceData!E$15,CalculationsAndCharts!$A608+$A$11,IF($C$7,8,0),1,1)","v":0},{"$f":"OFFSET(InputPriceData!F$15,CalculationsAndCharts!$A608+$A$11,IF($C$7,8,0),1,1)","v":0},0,0,0,0,0,0,{"$error":"#N/A"},false,0,false,{"$error":"#N/A"},{"$error":"#N/A"},true,false,false,false,false,false,{"$error":"#N/A"},false,{"$error":"#N/A"},false,false,false,false,false,false,{"$error":"#N/A"},0,0,0,0,0,null,{"$f":"OFFSET(InputIndexData!F$15,CalculationsAndCharts!$A608+$A$11,IF($C$7,8,0),1,1)","v":0},0,1,1,true,null,212,{"$error":"#N/A"}]
[581,{"$f":"OFFSET(InputPriceData!B$15,CalculationsAndCharts!$A613+$A$11,0,1,1)","v":"00:00:00"},{"$f":"OFFSET(InputPriceData!G$15,CalculationsAndCharts!$A613+$A$11,IF($C$7,8,0),1,1)","v":0},{"$f":"OFFSET(InputPriceData!C$15,CalculationsAndCharts!$A613+$A$11,IF($C$7,8,0),1,1)","v":0},{"$f":"OFFSET(InputPriceData!D$15,CalculationsAndCharts!$A613+$A$11,IF($C$7,8,0),1,1)","v":0},{"$f":"OFFSET(InputPriceData!E$15,CalculationsAndCharts!$A613+$A$11,IF($C$7,8,0),1,1)","v":0},{"$f":"OFFSET(InputPriceData!F$15,CalculationsAndCharts!$A613+$A$11,IF($C$7,8,0),1,1)","v":0},0,0,0,0,0,0,{"$error":"#N/A"},false,0,false,{"$error":"#N/A"},{"$error":"#N/A"},true,false,false,false,false,false,{"$error":"#N/A"},false,{"$error":"#N/A"},false,false,false,false,false,false,{"$error":"#N/A"},0,0,0,0,0,null,{"$f":"OFFSET(InputIndexData!F$15,CalculationsAndCharts!$A613+$A$11,IF($C$7,8,0),1,1)","v":0},0,1,1,true,null,212,{"$error":"#N/A"}]
[586,{"$f":"OFFSET(InputPriceData!B$15,CalculationsAndCharts!$A618+$A$11,0,1,1)","v":"00:00:00"},{"$f":"OFFSET(InputPriceData!G$15,CalculationsAndCharts!$A618+$A$11,IF($C$7,8,0),1,1)","v":0},{"$f":"OFFSET(InputPriceData!C$15,CalculationsAndCharts!$A618+$A$11,IF($C$7,8,0),1,1)","v":0},{"$f":"OFFSET(InputPriceData!D$15,CalculationsAndCharts!$A618+$A$11,IF($C$7,8,0),1,1)","v":0},{"$f":"OFFSET(InputPriceData!E$15,CalculationsAndCharts!$A618+$A$11,IF($C$7,8,0),1,1)","v":0},{"$f":"OFFSET(InputPriceData!F$15,CalculationsAndCharts!$A618+$A$11,IF($C$7,8,0),1,1)","v":0},0,0,0,0,0,0,{"$error":"#N/A"},false,0,false,{"$error":"#N/A"},{"$error":"#N/A"},true,false,false,false,false,false,{"$error":"#N/A"},false,{"$error":"#N/A"},false,false,false,false,false,false,{"$error":"#N/A"},0,0,0,0,0,null,{"$f":"OFFSET(InputIndexData!F$15,CalculationsAndCharts!$A618+$A$11,IF($C$7,8,0),1,1)","v":0},0,1,1,true,null,212,{"$error":"#N/A"}]
[587,{"$f":"OFFSET(InputPriceData!B$15,CalculationsAndCharts!$A619+$A$11,0,1,1)","v":"00:00:00"},{"$f":"OFFSET(InputPriceData!G$15,CalculationsAndCharts!$A619+$A$11,IF($C$7,8,0),1,1)","v":0},{"$f":"OFFSET(InputPriceData!C$15,CalculationsAndCharts!$A619+$A$11,IF($C$7,8,0),1,1)","v":0},{"$f":"OFFSET(InputPriceData!D$15,CalculationsAndCharts!$A619+$A$11,IF($C$7,8,0),1,1)","v":0},{"$f":"OFFSET(InputPriceData!E$15,CalculationsAndCharts!$A619+$A$11,IF($C$7,8,0),1,1)","v":0},{"$f":"OFFSET(InputPriceData!F$15,CalculationsAndCharts!$A619+$A$11,IF($C$7,8,0),1,1)","v":0},0,0,0,0,0,0,{"$error":"#N/A"},false,0,false,{"$error":"#N/A"},{"$error":"#N/A"},true,false,false,false,false,false,{"$error":"#N/A"},false,{"$error":"#N/A"},false,false,false,false,false,false,{"$error":"#N/A"},0,0,0,0,0,null,{"$f":"OFFSET(InputIndexData!F$15,CalculationsAndCharts!$A619+$A$11,IF($C$7,8,0),1,1)","v":0},0,1,1,true,null,212,{"$error":"#N/A"}]
[592,{"$f":"OFFSET(InputPriceData!B$15,CalculationsAndCharts!$A624+$A$11,0,1,1)","v":"00:00:00"},{"$f":"OFFSET(InputPriceData!G$15,CalculationsAndCharts!$A624+$A$11,IF($C$7,8,0),1,1)","v":0},{"$f":"OFFSET(InputPriceData!C$15,CalculationsAndCharts!$A624+$A$11,IF($C$7,8,0),1,1)","v":0},{"$f":"OFFSET(InputPriceData!D$15,CalculationsAndCharts!$A624+$A$11,IF($C$7,8,0),1,1)","v":0},{"$f":"OFFSET(InputPriceData!E$15,CalculationsAndCharts!$A624+$A$11,IF($C$7,8,0),1,1)","v":0},{"$f":"OFFSET(InputPriceData!F$15,CalculationsAndCharts!$A624+$A$11,IF($C$7,8,0),1,1)","v":0},0,0,0,0,0,0,{"$error":"#N/A"},false,0,false,{"$error":"#N/A"},{"$error":"#N/A"},true,false,false,false,false,false,{"$error":"#N/A"},{"$f":"AND(OR(W624,Y624),OR(AF624,AH624))","v":false},{"$error":"#N/A"},false,false,false,false,false,false,{"$error":"#N/A"},0,0,0,0,0,null,{"$f":"OFFSET(InputIndexData!F$15,CalculationsAndCharts!$A624+$A$11,IF($C$7,8,0),1,1)","v":0},0,1,1,true,null,212,{"$error":"#N/A"}]
[596,{"$f":"OFFSET(InputPriceData!B$15,CalculationsAndCharts!$A628+$A$11,0,1,1)","v":"00:00:00"},{"$f":"OFFSET(InputPriceData!G$15,CalculationsAndCharts!$A628+$A$11,IF($C$7,8,0),1,1)","v":0},{"$f":"OFFSET(InputPriceData!C$15,CalculationsAndCharts!$A628+$A$11,IF($C$7,8,0),1,1)","v":0},{"$f":"OFFSET(InputPriceData!D$15,CalculationsAndCharts!$A628+$A$11,IF($C$7,8,0),1,1)","v":0},{"$f":"OFFSET(InputPriceData!E$15,CalculationsAndCharts!$A628+$A$11,IF($C$7,8,0),1,1)","v":0},{"$f":"OFFSET(InputPriceData!F$15,CalculationsAndCharts!$A628+$A$11,IF($C$7,8,0),1,1)","v":0},0,0,0,0,0,0,{"$error":"#N/A"},false,0,false,{"$error":"#N/A"},{"$error":"#N/A"},true,false,false,false,false,false,{"$error":"#N/A"},false,{"$error":"#N/A"},false,false,false,false,false,false,{"$error":"#N/A"},0,0,0,0,0,null,{"$f":"OFFSET(InputIndexData!F$15,CalculationsAndCharts!$A628+$A$11,IF($C$7,8,0),1,1)","v":0},0,1,1,true,null,212,{"$error":"#N/A"}]
[601,{"$f":"OFFSET(InputPriceData!B$15,CalculationsAndCharts!$A633+$A$11,0,1,1)","v":"00:00:00"},{"$f":"OFFSET(InputPriceData!G$15,CalculationsAndCharts!$A633+$A$11,IF($C$7,8,0),1,1)","v":0},{"$f":"OFFSET(InputPriceData!C$15,CalculationsAndCharts!$A633+$A$11,IF($C$7,8,0),1,1)","v":0},{"$f":"OFFSET(InputPriceData!D$15,CalculationsAndCharts!$A633+$A$11,IF($C$7,8,0),1,1)","v":0},{"$f":"OFFSET(InputPriceData!E$15,CalculationsAndCharts!$A633+$A$11,IF($C$7,8,0),1,1)","v":0},{"$f":"OFFSET(InputPriceData!F$15,CalculationsAndCharts!$A633+$A$11,IF($C$7,8,0),1,1)","v":0},0,0,0,0,0,0,{"$error":"#N/A"},false,0,false,{"$error":"#N/A"},{"$error":"#N/A"},true,false,false,false,false,false,{"$error":"#N/A"},false,{"$error":"#N/A"},false,false,false,false,false,false,{"$error":"#N/A"},0,0,0,0,0,null,{"$f":"OFFSET(InputIndexData!F$15,CalculationsAndCharts!$A633+$A$11,IF($C$7,8,0),1,1)","v":0},0,1,1,true,null,212,{"$error":"#N/A"}]
[602,{"$f":"OFFSET(InputPriceData!B$15,CalculationsAndCharts!$A634+$A$11,0,1,1)","v":"00:00:00"},{"$f":"OFFSET(InputPriceData!G$15,CalculationsAndCharts!$A634+$A$11,IF($C$7,8,0),1,1)","v":0},{"$f":"OFFSET(InputPriceData!C$15,CalculationsAndCharts!$A634+$A$11,IF($C$7,8,0),1,1)","v":0},{"$f":"OFFSET(InputPriceData!D$15,CalculationsAndCharts!$A634+$A$11,IF($C$7,8,0),1,1)","v":0},{"$f":"OFFSET(InputPriceData!E$15,CalculationsAndCharts!$A634+$A$11,IF($C$7,8,0),1,1)","v":0},{"$f":"OFFSET(InputPriceData!F$15,CalculationsAndCharts!$A634+$A$11,IF($C$7,8,0),1,1)","v":0},0,0,0,0,0,0,{"$error":"#N/A"},false,0,false,{"$error":"#N/A"},{"$error":"#N/A"},true,false,false,false,false,false,{"$error":"#N/A"},false,{"$error":"#N/A"},false,false,false,false,false,false,{"$error":"#N/A"},0,0,0,0,0,null,{"$f":"OFFSET(InputIndexData!F$15,CalculationsAndCharts!$A634+$A$11,IF($C$7,8,0),1,1)","v":0},0,1,1,true,null,212,{"$error":"#N/A"}]
[607,{"$f":"OFFSET(InputPriceData!B$15,CalculationsAndCharts!$A639+$A$11,0,1,1)","v":"00:00:00"},{"$f":"OFFSET(InputPriceData!G$15,CalculationsAndCharts!$A639+$A$11,IF($C$7,8,0),1,1)","v":0},{"$f":"OFFSET(InputPriceData!C$15,CalculationsAndCharts!$A639+$A$11,IF($C$7,8,0),1,1)","v":0},{"$f":"OFFSET(InputPriceData!D$15,CalculationsAndCharts!$A639+$A$11,IF($C$7,8,0),1,1)","v":0},{"$f":"OFFSET(InputPriceData!E$15,CalculationsAndCharts!$A639+$A$11,IF($C$7,8,0),1,1)","v":0},{"$f":"OFFSET(InputPriceData!F$15,CalculationsAndCharts!$A639+$A$11,IF($C$7,8,0),1,1)","v":0},0,0,0,0,0,0,{"$error":"#N/A"},false,0,false,{"$error":"#N/A"},{"$error":"#N/A"},true,false,false,false,false,false,{"$error":"#N/A"},false,{"$error":"#N/A"},false,false,false,false,false,false,{"$error":"#N/A"},0,0,0,0,0,null,{"$f":"OFFSET(InputIndexData!F$15,CalculationsAndCharts!$A639+$A$11,IF($C$7,8,0),1,1)","v":0},0,1,1,true,null,212,{"$error":"#N/A"}]
[612,{"$f":"OFFSET(InputPriceData!B$15,CalculationsAndCharts!$A644+$A$11,0,1,1)","v":"00:00:00"},{"$f":"OFFSET(InputPriceData!G$15,CalculationsAndCharts!$A644+$A$11,IF($C$7,8,0),1,1)","v":0},{"$f":"OFFSET(InputPriceData!C$15,CalculationsAndCharts!$A644+$A$11,IF($C$7,8,0),1,1)","v":0},{"$f":"OFFSET(InputPriceData!D$15,CalculationsAndCharts!$A644+$A$11,IF($C$7,8,0),1,1)","v":0},{"$f":"OFFSET(InputPriceData!E$15,CalculationsAndCharts!$A644+$A$11,IF($C$7,8,0),1,1)","v":0},{"$f":"OFFSET(InputPriceData!F$15,CalculationsAndCharts!$A644+$A$11,IF($C$7,8,0),1,1)","v":0},0,0,0,0,0,0,{"$error":"#N/A"},false,0,false,{"$error":"#N/A"},{"$error":"#N/A"},true,false,false,false,false,false,{"$error":"#N/A"},false,{"$error":"#N/A"},false,false,false,false,false,false,{"$error":"#N/A"},0,0,0,0,0,null,{"$f":"OFFSET(InputIndexData!F$15,CalculationsAndCharts!$A644+$A$11,IF($C$7,8,0),1,1)","v":0},0,1,1,true,null,212,{"$error":"#N/A"}]
[614,{"$f":"OFFSET(InputPriceData!B$15,CalculationsAndCharts!$A646+$A$11,0,1,1)","v":"00:00:00"},{"$f":"OFFSET(InputPriceData!G$15,CalculationsAndCharts!$A646+$A$11,IF($C$7,8,0),1,1)","v":0},{"$f":"OFFSET(InputPriceData!C$15,CalculationsAndCharts!$A646+$A$11,IF($C$7,8,0),1,1)","v":0},{"$f":"OFFSET(InputPriceData!D$15,CalculationsAndCharts!$A646+$A$11,IF($C$7,8,0),1,1)","v":0},{"$f":"OFFSET(InputPriceData!E$15,CalculationsAndCharts!$A646+$A$11,IF($C$7,8,0),1,1)","v":0},{"$f":"OFFSET(InputPriceData!F$15,CalculationsAndCharts!$A646+$A$11,IF($C$7,8,0),1,1)","v":0},0,0,0,0,0,0,{"$error":"#N/A"},false,0,false,{"$error":"#N/A"},{"$error":"#N/A"},true,false,false,false,false,false,{"$error":"#N/A"},false,{"$error":"#N/A"},false,false,false,false,false,false,{"$error":"#N/A"},0,0,0,0,0,null,{"$f":"OFFSET(InputIndexData!F$15,CalculationsAndCharts!$A646+$A$11,IF($C$7,8,0),1,1)","v":0},0,1,1,true,null,212,{"$error":"#N/A"}]
[617,{"$f":"OFFSET(InputPriceData!B$15,CalculationsAndCharts!$A649+$A$11,0,1,1)","v":"00:00:00"},{"$f":"OFFSET(InputPriceData!G$15,CalculationsAndCharts!$A649+$A$11,IF($C$7,8,0),1,1)","v":0},{"$f":"OFFSET(InputPriceData!C$15,CalculationsAndCharts!$A649+$A$11,IF($C$7,8,0),1,1)","v":0},{"$f":"OFFSET(InputPriceData!D$15,CalculationsAndCharts!$A649+$A$11,IF($C$7,8,0),1,1)","v":0},{"$f":"OFFSET(InputPriceData!E$15,CalculationsAndCharts!$A649+$A$11,IF($C$7,8,0),1,1)","v":0},{"$f":"OFFSET(InputPriceData!F$15,CalculationsAndCharts!$A649+$A$11,IF($C$7,8,0),1,1)","v":0},0,0,0,0,0,0,{"$error":"#N/A"},false,0,false,{"$error":"#N/A"},{"$error":"#N/A"},true,false,false,false,false,false,{"$error":"#N/A"},false,{"$error":"#N/A"},false,false,false,false,false,false,{"$error":"#N/A"},0,0,0,0,0,null,{"$f":"OFFSET(InputIndexData!F$15,CalculationsAndCharts!$A649+$A$11,IF($C$7,8,0),1,1)","v":0},0,1,1,true,null,212,{"$error":"#N/A"}]
[622,{"$f":"OFFSET(InputPriceData!B$15,CalculationsAndCharts!$A654+$A$11,0,1,1)","v":"00:00:00"},{"$f":"OFFSET(InputPriceData!G$15,CalculationsAndCharts!$A654+$A$11,IF($C$7,8,0),1,1)","v":0},{"$f":"OFFSET(InputPriceData!C$15,CalculationsAndCharts!$A654+$A$11,IF($C$7,8,0),1,1)","v":0},{"$f":"OFFSET(InputPriceData!D$15,CalculationsAndCharts!$A654+$A$11,IF($C$7,8,0),1,1)","v":0},{"$f":"OFFSET(InputPriceData!E$15,CalculationsAndCharts!$A654+$A$11,IF($C$7,8,0),1,1)","v":0},{"$f":"OFFSET(InputPriceData!F$15,CalculationsAndCharts!$A654+$A$11,IF($C$7,8,0),1,1)","v":0},0,0,0,0,0,0,{"$error":"#N/A"},false,0,false,{"$error":"#N/A"},{"$error":"#N/A"},true,false,false,false,false,false,{"$error":"#N/A"},false,{"$error":"#N/A"},false,false,false,false,false,false,{"$error":"#N/A"},0,0,0,0,0,null,{"$f":"OFFSET(InputIndexData!F$15,CalculationsAndCharts!$A654+$A$11,IF($C$7,8,0),1,1)","v":0},0,1,1,true,null,212,{"$error":"#N/A"}]
[627,{"$f":"OFFSET(InputPriceData!B$15,CalculationsAndCharts!$A659+$A$11,0,1,1)","v":"00:00:00"},{"$f":"OFFSET(InputPriceData!G$15,CalculationsAndCharts!$A659+$A$11,IF($C$7,8,0),1,1)","v":0},{"$f":"OFFSET(InputPriceData!C$15,CalculationsAndCharts!$A659+$A$11,IF($C$7,8,0),1,1)","v":0},{"$f":"OFFSET(InputPriceData!D$15,CalculationsAndCharts!$A659+$A$11,IF($C$7,8,0),1,1)","v":0},{"$f":"OFFSET(InputPriceData!E$15,CalculationsAndCharts!$A659+$A$11,IF($C$7,8,0),1,1)","v":0},{"$f":"OFFSET(InputPriceData!F$15,CalculationsAndCharts!$A659+$A$11,IF($C$7,8,0),1,1)","v":0},0,0,0,0,0,0,{"$error":"#N/A"},false,0,false,{"$error":"#N/A"},{"$error":"#N/A"},true,false,false,false,false,false,{"$error":"#N/A"},false,{"$error":"#N/A"},false,false,false,false,false,false,{"$error":"#N/A"},0,0,0,0,0,null,{"$f":"OFFSET(InputIndexData!F$15,CalculationsAndCharts!$A659+$A$11,IF($C$7,8,0),1,1)","v":0},0,1,1,true,null,212,{"$error":"#N/A"}]
[632,{"$f":"OFFSET(InputPriceData!B$15,CalculationsAndCharts!$A664+$A$11,0,1,1)","v":"00:00:00"},{"$f":"OFFSET(InputPriceData!G$15,CalculationsAndCharts!$A664+$A$11,IF($C$7,8,0),1,1)","v":0},{"$f":"OFFSET(InputPriceData!C$15,CalculationsAndCharts!$A664+$A$11,IF($C$7,8,0),1,1)","v":0},{"$f":"OFFSET(InputPriceData!D$15,CalculationsAndCharts!$A664+$A$11,IF($C$7,8,0),1,1)","v":0},{"$f":"OFFSET(InputPriceData!E$15,CalculationsAndCharts!$A664+$A$11,IF($C$7,8,0),1,1)","v":0},{"$f":"OFFSET(InputPriceData!F$15,CalculationsAndCharts!$A664+$A$11,IF($C$7,8,0),1,1)","v":0},0,0,0,0,0,0,{"$error":"#N/A"},false,0,false,{"$error":"#N/A"},{"$error":"#N/A"},true,false,false,false,false,false,{"$error":"#N/A"},false,{"$error":"#N/A"},false,false,false,false,false,false,{"$error":"#N/A"},0,0,0,0,0,null,{"$f":"OFFSET(InputIndexData!F$15,CalculationsAndCharts!$A664+$A$11,IF($C$7,8,0),1,1)","v":0},0,1,1,true,null,212,{"$error":"#N/A"}]
[635,{"$f":"OFFSET(InputPriceData!B$15,CalculationsAndCharts!$A667+$A$11,0,1,1)","v":"00:00:00"},{"$f":"OFFSET(InputPriceData!G$15,CalculationsAndCharts!$A667+$A$11,IF($C$7,8,0),1,1)","v":0},{"$f":"OFFSET(InputPriceData!C$15,CalculationsAndCharts!$A667+$A$11,IF($C$7,8,0),1,1)","v":0},{"$f":"OFFSET(InputPriceData!D$15,CalculationsAndCharts!$A667+$A$11,IF($C$7,8,0),1,1)","v":0},{"$f":"OFFSET(InputPriceData!E$15,CalculationsAndCharts!$A667+$A$11,IF($C$7,8,0),1,1)","v":0},{"$f":"OFFSET(InputPriceData!F$15,CalculationsAndCharts!$A667+$A$11,IF($C$7,8,0),1,1)","v":0},0,0,0,0,0,0,{"$error":"#N/A"},false,0,false,{"$error":"#N/A"},{"$error":"#N/A"},true,false,false,false,false,false,{"$error":"#N/A"},false,{"$error":"#N/A"},false,false,false,false,false,false,{"$error":"#N/A"},0,0,0,0,0,null,{"$f":"OFFSET(InputIndexData!F$15,CalculationsAndCharts!$A667+$A$11,IF($C$7,8,0),1,1)","v":0},0,1,1,true,null,212,{"$error":"#N/A"}]
[637,{"$f":"OFFSET(InputPriceData!B$15,CalculationsAndCharts!$A669+$A$11,0,1,1)","v":"00:00:00"},{"$f":"OFFSET(InputPriceData!G$15,CalculationsAndCharts!$A669+$A$11,IF($C$7,8,0),1,1)","v":0},{"$f":"OFFSET(InputPriceData!C$15,CalculationsAndCharts!$A669+$A$11,IF($C$7,8,0),1,1)","v":0},{"$f":"OFFSET(InputPriceData!D$15,CalculationsAndCharts!$A669+$A$11,IF($C$7,8,0),1,1)","v":0},{"$f":"OFFSET(InputPriceData!E$15,CalculationsAndCharts!$A669+$A$11,IF($C$7,8,0),1,1)","v":0},{"$f":"OFFSET(InputPriceData!F$15,CalculationsAndCharts!$A669+$A$11,IF($C$7,8,0),1,1)","v":0},0,0,0,0,0,0,{"$error":"#N/A"},false,0,false,{"$error":"#N/A"},{"$error":"#N/A"},true,false,false,false,false,false,{"$error":"#N/A"},false,{"$error":"#N/A"},false,false,false,false,false,false,{"$error":"#N/A"},0,0,0,0,0,null,{"$f":"OFFSET(InputIndexData!F$15,CalculationsAndCharts!$A669+$A$11,IF($C$7,8,0),1,1)","v":0},0,1,1,true,null,212,{"$error":"#N/A"}]
[642,{"$f":"OFFSET(InputPriceData!B$15,CalculationsAndCharts!$A674+$A$11,0,1,1)","v":"00:00:00"},{"$f":"OFFSET(InputPriceData!G$15,CalculationsAndCharts!$A674+$A$11,IF($C$7,8,0),1,1)","v":0},{"$f":"OFFSET(InputPriceData!C$15,CalculationsAndCharts!$A674+$A$11,IF($C$7,8,0),1,1)","v":0},{"$f":"OFFSET(InputPriceData!D$15,CalculationsAndCharts!$A674+$A$11,IF($C$7,8,0),1,1)","v":0},{"$f":"OFFSET(InputPriceData!E$15,CalculationsAndCharts!$A674+$A$11,IF($C$7,8,0),1,1)","v":0},{"$f":"OFFSET(InputPriceData!F$15,CalculationsAndCharts!$A674+$A$11,IF($C$7,8,0),1,1)","v":0},0,0,0,0,0,{"$f":"IF(D674<=G674,C674,NA())","v":0},{"$f":"IF(D674<=G674,NA(),C674)","v":{"$error":"#N/A"}},false,0,false,{"$error":"#N/A"},{"$error":"#N/A"},{"$f":"AND(OR(NOT($R$11),AT674),OR(NOT($R$12),J674>=I674),OR(NOT($R$13),I674>=H674),OR(NOT($R$14),G674>=I674))","v":true},false,false,false,false,false,{"$error":"#N/A"},false,{"$error":"#N/A"},{"$f":"AND(   OR(NOT($R$11),NOT(AT674)),   OR(NOT($R$12),J674<=I674),   OR(NOT($R$13),I674<=H674),   OR(NOT($R$14),G674<=I674)   )","v":false},false,false,{"$f":"IF(AE674,TRUE,IF(AG675,FALSE,AF675))","v":false},{"$f":"AND(AF674,O674)","v":false},false,{"$error":"#N/A"},{"$f":"IF($R$3,H674,NA())","v":0},{"$f":"IF($R$4,I674,NA())","v":0},{"$f":"IF($R$5,J674,NA())","v":0},{"$f":"IF($R$6,K674,NA())","v":0},{"$f":"IF($R$6,L674,NA())","v":0},null,{"$f":"OFFSET(InputIndexData!F$15,CalculationsAndCharts!$A674+$A$11,IF($C$7,8,0),1,1)","v":0},{"$f":"AVERAGE(OFFSET(AP674,0,0,$D$17,1))","v":0},{"$f":"IF(AQ674-AQ675>=0,1,-1)","v":1},{"$f":"AVERAGE(OFFSET(AR674,0,0,$D$18,1))","v":1},{"$f":"OR(AS674>0,AND(AS674=0,AS675>0))","v":true},null,212,{"$error":"#N/A"}]
[647,{"$f":"OFFSET(InputPriceData!B$15,CalculationsAndCharts!$A679+$A$11,0,1,1)","v":"00:00:00"},{"$f":"OFFSET(InputPriceData!G$15,CalculationsAndCharts!$A679+$A$11,IF($C$7,8,0),1,1)","v":0},{"$f":"OFFSET(InputPriceData!C$15,CalculationsAndCharts!$A679+$A$11,IF($C$7,8,0),1,1)","v":0},{"$f":"OFFSET(InputPriceData!D$15,CalculationsAndCharts!$A679+$A$11,IF($C$7,8,0),1,1)","v":0},{"$f":"OFFSET(InputPriceData!E$15,CalculationsAndCharts!$A679+$A$11,IF($C$7,8,0),1,1)","v":0},{"$f":"OFFSET(InputPriceData!F$15,CalculationsAndCharts!$A679+$A$11,IF($C$7,8,0),1,1)","v":0},0,0,0,0,0,0,{"$error":"#N/A"},false,0,false,{"$error":"#N/A"},{"$error":"#N/A"},true,false,false,false,false,false,{"$error":"#N/A"},false,{"$error":"#N/A"},false,false,false,false,false,false,{"$error":"#N/A"},0,0,0,0,0,null,{"$f":"OFFSET(InputIndexData!F$15,CalculationsAndCharts!$A679+$A$11,IF($C$7,8,0),1,1)","v":0},0,1,1,true,null,212,{"$error":"#N/A"}]
[648,{"$f":"OFFSET(InputPriceData!B$15,CalculationsAndCharts!$A680+$A$11,0,1,1)","v":"00:00:00"},{"$f":"OFFSET(InputPriceData!G$15,CalculationsAndCharts!$A680+$A$11,IF($C$7,8,0),1,1)","v":0},{"$f":"OFFSET(InputPriceData!C$15,CalculationsAndCharts!$A680+$A$11,IF($C$7,8,0),1,1)","v":0},{"$f":"OFFSET(InputPriceData!D$15,CalculationsAndCharts!$A680+$A$11,IF($C$7,8,0),1,1)","v":0},{"$f":"OFFSET(InputPriceData!E$15,CalculationsAndCharts!$A680+$A$11,IF($C$7,8,0),1,1)","v":0},{"$f":"OFFSET(InputPriceData!F$15,CalculationsAndCharts!$A680+$A$11,IF($C$7,8,0),1,1)","v":0},0,0,0,0,0,0,{"$error":"#N/A"},false,0,false,{"$error":"#N/A"},{"$error":"#N/A"},true,false,false,false,false,false,{"$error":"#N/A"},false,{"$f":"IF(AA680,$F$11,NA())","v":{"$error":"#N/A"}},false,false,false,false,false,false,{"$error":"#N/A"},0,0,0,0,0,null,{"$f":"OFFSET(InputIndexData!F$15,CalculationsAndCharts!$A680+$A$11,IF($C$7,8,0),1,1)","v":0},0,1,1,true,null,212,{"$error":"#N/A"}]
[653,{"$f":"OFFSET(InputPriceData!B$15,CalculationsAndCharts!$A685+$A$11,0,1,1)","v":"00:00:00"},{"$f":"OFFSET(InputPriceData!G$15,CalculationsAndCharts!$A685+$A$11,IF($C$7,8,0),1,1)","v":0},{"$f":"OFFSET(InputPriceData!C$15,CalculationsAndCharts!$A685+$A$11,IF($C$7,8,0),1,1)","v":0},{"$f":"OFFSET(InputPriceData!D$15,CalculationsAndCharts!$A685+$A$11,IF($C$7,8,0),1,1)","v":0},{"$f":"OFFSET(InputPriceData!E$15,CalculationsAndCharts!$A685+$A$11,IF($C$7,8,0),1,1)","v":0},{"$f":"OFFSET(InputPriceData!F$15,CalculationsAndCharts!$A685+$A$11,IF($C$7,8,0),1,1)","v":0},0,0,0,0,0,0,{"$error":"#N/A"},false,0,false,{"$error":"#N/A"},{"$error":"#N/A"},true,false,false,false,false,false,{"$error":"#N/A"},false,{"$error":"#N/A"},false,false,false,false,false,false,{"$error":"#N/A"},0,0,0,0,0,null,{"$f":"OFFSET(InputIndexData!F$15,CalculationsAndCharts!$A685+$A$11,IF($C$7,8,0),1,1)","v":0},0,1,1,true,null,212,{"$error":"#N/A"}]
[657,{"$f":"OFFSET(InputPriceData!B$15,CalculationsAndCharts!$A689+$A$11,0,1,1)","v":"00:00:00"},{"$f":"OFFSET(InputPriceData!G$15,CalculationsAndCharts!$A689+$A$11,IF($C$7,8,0),1,1)","v":0},{"$f":"OFFSET(InputPriceData!C$15,CalculationsAndCharts!$A689+$A$11,IF($C$7,8,0),1,1)","v":0},{"$f":"OFFSET(InputPriceData!D$15,CalculationsAndCharts!$A689+$A$11,IF($C$7,8,0),1,1)","v":0},{"$f":"OFFSET(InputPriceData!E$15,CalculationsAndCharts!$A689+$A$11,IF($C$7,8,0),1,1)","v":0},{"$f":"OFFSET(InputPriceData!F$15,CalculationsAndCharts!$A689+$A$11,IF($C$7,8,0),1,1)","v":0},0,0,0,0,0,0,{"$error":"#N/A"},false,0,false,{"$error":"#N/A"},{"$error":"#N/A"},true,false,false,false,false,false,{"$error":"#N/A"},false,{"$error":"#N/A"},false,false,false,false,false,false,{"$error":"#N/A"},0,0,0,0,0,null,{"$f":"OFFSET(InputIndexData!F$15,CalculationsAndCharts!$A689+$A$11,IF($C$7,8,0),1,1)","v":0},0,1,1,true,null,212,{"$error":"#N/A"}]
[662,{"$f":"OFFSET(InputPriceData!B$15,CalculationsAndCharts!$A694+$A$11,0,1,1)","v":"00:00:00"},{"$f":"OFFSET(InputPriceData!G$15,CalculationsAndCharts!$A694+$A$11,IF($C$7,8,0),1,1)","v":0},{"$f":"OFFSET(InputPriceData!C$15,CalculationsAndCharts!$A694+$A$11,IF($C$7,8,0),1,1)","v":0},{"$f":"OFFSET(InputPriceData!D$15,CalculationsAndCharts!$A694+$A$11,IF($C$7,8,0),1,1)","v":0},{"$f":"OFFSET(InputPriceData!E$15,CalculationsAndCharts!$A694+$A$11,IF($C$7,8,0),1,1)","v":0},{"$f":"OFFSET(InputPriceData!F$15,CalculationsAndCharts!$A694+$A$11,IF($C$7,8,0),1,1)","v":0},0,0,0,0,0,0,{"$error":"#N/A"},false,0,false,{"$error":"#N/A"},{"$error":"#N/A"},true,false,false,false,false,false,{"$error":"#N/A"},false,{"$error":"#N/A"},false,false,false,false,false,false,{"$error":"#N/A"},0,0,0,0,0,null,{"$f":"OFFSET(InputIndexData!F$15,CalculationsAndCharts!$A694+$A$11,IF($C$7,8,0),1,1)","v":0},0,1,1,true,null,212,{"$error":"#N/A"}]
[663,{"$f":"OFFSET(InputPriceData!B$15,CalculationsAndCharts!$A695+$A$11,0,1,1)","v":"00:00:00"},{"$f":"OFFSET(InputPriceData!G$15,CalculationsAndCharts!$A695+$A$11,IF($C$7,8,0),1,1)","v":0},{"$f":"OFFSET(InputPriceData!C$15,CalculationsAndCharts!$A695+$A$11,IF($C$7,8,0),1,1)","v":0},{"$f":"OFFSET(InputPriceData!D$15,CalculationsAndCharts!$A695+$A$11,IF($C$7,8,0),1,1)","v":0},{"$f":"OFFSET(InputPriceData!E$15,CalculationsAndCharts!$A695+$A$11,IF($C$7,8,0),1,1)","v":0},{"$f":"OFFSET(InputPriceData!F$15,CalculationsAndCharts!$A695+$A$11,IF($C$7,8,0),1,1)","v":0},0,0,0,0,0,0,{"$error":"#N/A"},false,0,false,{"$error":"#N/A"},{"$error":"#N/A"},true,false,false,false,false,false,{"$error":"#N/A"},false,{"$error":"#N/A"},false,false,false,false,false,false,{"$error":"#N/A"},0,0,0,0,0,null,{"$f":"OFFSET(InputIndexData!F$15,CalculationsAndCharts!$A695+$A$11,IF($C$7,8,0),1,1)","v":0},0,1,1,true,null,212,{"$error":"#N/A"}]
[668,{"$f":"OFFSET(InputPriceData!B$15,CalculationsAndCharts!$A700+$A$11,0,1,1)","v":"00:00:00"},{"$f":"OFFSET(InputPriceData!G$15,CalculationsAndCharts!$A700+$A$11,IF($C$7,8,0),1,1)","v":0},{"$f":"OFFSET(InputPriceData!C$15,CalculationsAndCharts!$A700+$A$11,IF($C$7,8,0),1,1)","v":0},{"$f":"OFFSET(InputPriceData!D$15,CalculationsAndCharts!$A700+$A$11,IF($C$7,8,0),1,1)","v":0},{"$f":"OFFSET(InputPriceData!E$15,CalculationsAndCharts!$A700+$A$11,IF($C$7,8,0),1,1)","v":0},{"$f":"OFFSET(InputPriceData!F$15,CalculationsAndCharts!$A700+$A$11,IF($C$7,8,0),1,1)","v":0},0,0,0,0,0,0,{"$error":"#N/A"},false,0,false,{"$error":"#N/A"},{"$error":"#N/A"},true,false,false,false,false,false,{"$error":"#N/A"},false,{"$error":"#N/A"},false,false,false,false,false,false,{"$error":"#N/A"},0,0,0,0,0,null,{"$f":"OFFSET(InputIndexData!F$15,CalculationsAndCharts!$A700+$A$11,IF($C$7,8,0),1,1)","v":0},0,1,1,true,null,212,{"$error":"#N/A"}]
[673,{"$f":"OFFSET(InputPriceData!B$15,CalculationsAndCharts!$A705+$A$11,0,1,1)","v":"00:00:00"},{"$f":"OFFSET(InputPriceData!G$15,CalculationsAndCharts!$A705+$A$11,IF($C$7,8,0),1,1)","v":0},{"$f":"OFFSET(InputPriceData!C$15,CalculationsAndCharts!$A705+$A$11,IF($C$7,8,0),1,1)","v":0},{"$f":"OFFSET(InputPriceData!D$15,CalculationsAndCharts!$A705+$A$11,IF($C$7,8,0),1,1)","v":0},{"$f":"OFFSET(InputPriceData!E$15,CalculationsAndCharts!$A705+$A$11,IF($C$7,8,0),1,1)","v":0},{"$f":"OFFSET(InputPriceData!F$15,CalculationsAndCharts!$A705+$A$11,IF($C$7,8,0),1,1)","v":0},0,0,0,0,0,0,{"$error":"#N/A"},false,0,false,{"$error":"#N/A"},{"$error":"#N/A"},true,false,false,false,false,false,{"$error":"#N/A"},false,{"$error":"#N/A"},false,false,false,false,false,false,{"$error":"#N/A"},0,0,0,0,0,null,{"$f":"OFFSET(InputIndexData!F$15,CalculationsAndCharts!$A705+$A$11,IF($C$7,8,0),1,1)","v":0},0,1,1,true,null,212,{"$error":"#N/A"}]
[675,{"$f":"OFFSET(InputPriceData!B$15,CalculationsAndCharts!$A707+$A$11,0,1,1)","v":"00:00:00"},{"$f":"OFFSET(InputPriceData!G$15,CalculationsAndCharts!$A707+$A$11,IF($C$7,8,0),1,1)","v":0},{"$f":"OFFSET(InputPriceData!C$15,CalculationsAndCharts!$A707+$A$11,IF($C$7,8,0),1,1)","v":0},{"$f":"OFFSET(InputPriceData!D$15,CalculationsAndCharts!$A707+$A$11,IF($C$7,8,0),1,1)","v":0},{"$f":"OFFSET(InputPriceData!E$15,CalculationsAndCharts!$A707+$A$11,IF($C$7,8,0),1,1)","v":0},{"$f":"OFFSET(InputPriceData!F$15,CalculationsAndCharts!$A707+$A$11,IF($C$7,8,0),1,1)","v":0},0,0,0,0,0,0,{"$error":"#N/A"},false,0,false,{"$error":"#N/A"},{"$error":"#N/A"},true,false,false,{"$f":"IF(V707,TRUE,IF(X708,FALSE,W708))","v":false},false,false,{"$error":"#N/A"},false,{"$error":"#N/A"},false,false,false,false,false,false,{"$error":"#N/A"},0,0,0,0,0,null,{"$f":"OFFSET(InputIndexData!F$15,CalculationsAndCharts!$A707+$A$11,IF($C$7,8,0),1,1)","v":0},0,1,1,true,null,212,{"$error":"#N/A"}]
[678,{"$f":"OFFSET(InputPriceData!B$15,CalculationsAndCharts!$A710+$A$11,0,1,1)","v":"00:00:00"},{"$f":"OFFSET(InputPriceData!G$15,CalculationsAndCharts!$A710+$A$11,IF($C$7,8,0),1,1)","v":0},{"$f":"OFFSET(InputPriceData!C$15,CalculationsAndCharts!$A710+$A$11,IF($C$7,8,0),1,1)","v":0},{"$f":"OFFSET(InputPriceData!D$15,CalculationsAndCharts!$A710+$A$11,IF($C$7,8,0),1,1)","v":0},{"$f":"OFFSET(InputPriceData!E$15,CalculationsAndCharts!$A710+$A$11,IF($C$7,8,0),1,1)","v":0},{"$f":"OFFSET(InputPriceData!F$15,CalculationsAndCharts!$A710+$A$11,IF($C$7,8,0),1,1)","v":0},0,0,0,0,0,0,{"$error":"#N/A"},false,0,false,{"$error":"#N/A"},{"$error":"#N/A"},true,false,false,false,false,false,{"$error":"#N/A"},false,{"$error":"#N/A"},false,false,false,false,false,false,{"$error":"#N/A"},0,0,0,0,0,null,{"$f":"OFFSET(InputIndexData!F$15,CalculationsAndCharts!$A710+$A$11,IF($C$7,8,0),1,1)","v":0},0,1,1,true,null,212,{"$error":"#N/A"}]
[683,{"$f":"OFFSET(InputPriceData!B$15,CalculationsAndCharts!$A715+$A$11,0,1,1)","v":"00:00:00"},{"$f":"OFFSET(InputPriceData!G$15,CalculationsAndCharts!$A715+$A$11,IF($C$7,8,0),1,1)","v":0},{"$f":"OFFSET(InputPriceData!C$15,CalculationsAndCharts!$A715+$A$11,IF($C$7,8,0),1,1)","v":0},{"$f":"OFFSET(InputPriceData!D$15,CalculationsAndCharts!$A715+$A$11,IF($C$7,8,0),1,1)","v":0},{"$f":"OFFSET(InputPriceData!E$15,CalculationsAndCharts!$A715+$A$11,IF($C$7,8,0),1,1)","v":0},{"$f":"OFFSET(InputPriceData!F$15,CalculationsAndCharts!$A715+$A$11,IF($C$7,8,0),1,1)","v":0},0,0,0,0,0,0,{"$error":"#N/A"},false,0,false,{"$error":"#N/A"},{"$error":"#N/A"},true,false,false,false,false,false,{"$error":"#N/A"},false,{"$error":"#N/A"},false,false,false,false,false,false,{"$error":"#N/A"},0,0,0,0,0,null,{"$f":"OFFSET(InputIndexData!F$15,CalculationsAndCharts!$A715+$A$11,IF($C$7,8,0),1,1)","v":0},0,1,1,true,null,212,{"$error":"#N/A"}]
[688,{"$f":"OFFSET(InputPriceData!B$15,CalculationsAndCharts!$A720+$A$11,0,1,1)","v":"00:00:00"},{"$f":"OFFSET(InputPriceData!G$15,CalculationsAndCharts!$A720+$A$11,IF($C$7,8,0),1,1)","v":0},{"$f":"OFFSET(InputPriceData!C$15,CalculationsAndCharts!$A720+$A$11,IF($C$7,8,0),1,1)","v":0},{"$f":"OFFSET(InputPriceData!D$15,CalculationsAndCharts!$A720+$A$11,IF($C$7,8,0),1,1)","v":0},{"$f":"OFFSET(InputPriceData!E$15,CalculationsAndCharts!$A720+$A$11,IF($C$7,8,0),1,1)","v":0},{"$f":"OFFSET(InputPriceData!F$15,CalculationsAndCharts!$A720+$A$11,IF($C$7,8,0),1,1)","v":0},0,0,0,0,0,0,{"$error":"#N/A"},false,0,false,{"$error":"#N/A"},{"$error":"#N/A"},true,false,false,false,false,false,{"$error":"#N/A"},false,{"$error":"#N/A"},false,false,false,false,false,false,{"$error":"#N/A"},0,0,0,0,0,null,{"$f":"OFFSET(InputIndexData!F$15,CalculationsAndCharts!$A720+$A$11,IF($C$7,8,0),1,1)","v":0},0,1,1,true,null,212,{"$error":"#N/A"}]
[693,{"$f":"OFFSET(InputPriceData!B$15,CalculationsAndCharts!$A725+$A$11,0,1,1)","v":"00:00:00"},{"$f":"OFFSET(InputPriceData!G$15,CalculationsAndCharts!$A725+$A$11,IF($C$7,8,0),1,1)","v":0},{"$f":"OFFSET(InputPriceData!C$15,CalculationsAndCharts!$A725+$A$11,IF($C$7,8,0),1,1)","v":0},{"$f":"OFFSET(InputPriceData!D$15,CalculationsAndCharts!$A725+$A$11,IF($C$7,8,0),1,1)","v":0},{"$f":"OFFSET(InputPriceData!E$15,CalculationsAndCharts!$A725+$A$11,IF($C$7,8,0),1,1)","v":0},{"$f":"OFFSET(InputPriceData!F$15,CalculationsAndCharts!$A725+$A$11,IF($C$7,8,0),1,1)","v":0},0,0,0,0,0,0,{"$error":"#N/A"},false,0,false,{"$error":"#N/A"},{"$error":"#N/A"},true,false,false,false,false,false,{"$error":"#N/A"},false,{"$error":"#N/A"},false,false,false,false,false,false,{"$error":"#N/A"},0,0,0,0,0,null,{"$f":"OFFSET(InputIndexData!F$15,CalculationsAndCharts!$A725+$A$11,IF($C$7,8,0),1,1)","v":0},0,1,1,true,null,212,{"$error":"#N/A"}]
[696,{"$f":"OFFSET(InputPriceData!B$15,CalculationsAndCharts!$A728+$A$11,0,1,1)","v":"00:00:00"},{"$f":"OFFSET(InputPriceData!G$15,CalculationsAndCharts!$A728+$A$11,IF($C$7,8,0),1,1)","v":0},{"$f":"OFFSET(InputPriceData!C$15,CalculationsAndCharts!$A728+$A$11,IF($C$7,8,0),1,1)","v":0},{"$f":"OFFSET(InputPriceData!D$15,CalculationsAndCharts!$A728+$A$11,IF($C$7,8,0),1,1)","v":0},{"$f":"OFFSET(InputPriceData!E$15,CalculationsAndCharts!$A728+$A$11,IF($C$7,8,0),1,1)","v":0},{"$f":"OFFSET(InputPriceData!F$15,CalculationsAndCharts!$A728+$A$11,IF($C$7,8,0),1,1)","v":0},0,0,0,0,0,0,{"$error":"#N/A"},false,0,false,{"$error":"#N/A"},{"$error":"#N/A"},true,false,false,false,false,false,{"$error":"#N/A"},false,{"$error":"#N/A"},false,false,false,false,false,false,{"$error":"#N/A"},0,0,0,0,0,null,{"$f":"OFFSET(InputIndexData!F$15,CalculationsAndCharts!$A728+$A$11,IF($C$7,8,0),1,1)","v":0},0,1,1,true,null,212,{"$error":"#N/A"}]
[698,{"$f":"OFFSET(InputPriceData!B$15,CalculationsAndCharts!$A730+$A$11,0,1,1)","v":"00:00:00"},{"$f":"OFFSET(InputPriceData!G$15,CalculationsAndCharts!$A730+$A$11,IF($C$7,8,0),1,1)","v":0},{"$f":"OFFSET(InputPriceData!C$15,CalculationsAndCharts!$A730+$A$11,IF($C$7,8,0),1,1)","v":0},{"$f":"OFFSET(InputPriceData!D$15,CalculationsAndCharts!$A730+$A$11,IF($C$7,8,0),1,1)","v":0},{"$f":"OFFSET(InputPriceData!E$15,CalculationsAndCharts!$A730+$A$11,IF($C$7,8,0),1,1)","v":0},{"$f":"OFFSET(InputPriceData!F$15,CalculationsAndCharts!$A730+$A$11,IF($C$7,8,0),1,1)","v":0},0,0,0,0,0,0,{"$error":"#N/A"},false,0,false,{"$error":"#N/A"},{"$error":"#N/A"},true,false,false,false,false,false,{"$error":"#N/A"},false,{"$error":"#N/A"},false,false,false,false,false,false,{"$error":"#N/A"},0,0,0,0,0,null,{"$f":"OFFSET(InputIndexData!F$15,CalculationsAndCharts!$A730+$A$11,IF($C$7,8,0),1,1)","v":0},0,1,1,true,null,212,{"$error":"#N/A"}]
[703,{"$f":"OFFSET(InputPriceData!B$15,CalculationsAndCharts!$A735+$A$11,0,1,1)","v":"00:00:00"},{"$f":"OFFSET(InputPriceData!G$15,CalculationsAndCharts!$A735+$A$11,IF($C$7,8,0),1,1)","v":0},{"$f":"OFFSET(InputPriceData!C$15,CalculationsAndCharts!$A735+$A$11,IF($C$7,8,0),1,1)","v":0},{"$f":"OFFSET(InputPriceData!D$15,CalculationsAndCharts!$A735+$A$11,IF($C$7,8,0),1,1)","v":0},{"$f":"OFFSET(InputPriceData!E$15,CalculationsAndCharts!$A735+$A$11,IF($C$7,8,0),1,1)","v":0},{"$f":"OFFSET(InputPriceData!F$15,CalculationsAndCharts!$A735+$A$11,IF($C$7,8,0),1,1)","v":0},0,0,0,0,0,0,{"$error":"#N/A"},false,0,false,{"$error":"#N/A"},{"$error":"#N/A"},true,false,false,false,false,false,{"$error":"#N/A"},false,{"$error":"#N/A"},false,false,false,false,false,false,{"$error":"#N/A"},0,0,0,0,0,null,{"$f":"OFFSET(InputIndexData!F$15,CalculationsAndCharts!$A735+$A$11,IF($C$7,8,0),1,1)","v":0},0,1,1,true,null,212,{"$error":"#N/A"}]
[708,{"$f":"OFFSET(InputPriceData!B$15,CalculationsAndCharts!$A740+$A$11,0,1,1)","v":"00:00:00"},{"$f":"OFFSET(InputPriceData!G$15,CalculationsAndCharts!$A740+$A$11,IF($C$7,8,0),1,1)","v":0},{"$f":"OFFSET(InputPriceData!C$15,CalculationsAndCharts!$A740+$A$11,IF($C$7,8,0),1,1)","v":0},{"$f":"OFFSET(InputPriceData!D$15,CalculationsAndCharts!$A740+$A$11,IF($C$7,8,0),1,1)","v":0},{"$f":"OFFSET(InputPriceData!E$15,CalculationsAndCharts!$A740+$A$11,IF($C$7,8,0),1,1)","v":0},{"$f":"OFFSET(InputPriceData!F$15,CalculationsAndCharts!$A740+$A$11,IF($C$7,8,0),1,1)","v":0},0,0,0,0,0,0,{"$error":"#N/A"},false,0,false,{"$error":"#N/A"},{"$error":"#N/A"},true,false,false,false,false,false,{"$error":"#N/A"},false,{"$error":"#N/A"},false,false,false,false,false,false,{"$error":"#N/A"},0,0,0,0,0,null,{"$f":"OFFSET(InputIndexData!F$15,CalculationsAndCharts!$A740+$A$11,IF($C$7,8,0),1,1)","v":0},0,1,1,true,null,212,{"$error":"#N/A"}]
[709,{"$f":"OFFSET(InputPriceData!B$15,CalculationsAndCharts!$A741+$A$11,0,1,1)","v":"00:00:00"},{"$f":"OFFSET(InputPriceData!G$15,CalculationsAndCharts!$A741+$A$11,IF($C$7,8,0),1,1)","v":0},{"$f":"OFFSET(InputPriceData!C$15,CalculationsAndCharts!$A741+$A$11,IF($C$7,8,0),1,1)","v":0},{"$f":"OFFSET(InputPriceData!D$15,CalculationsAndCharts!$A741+$A$11,IF($C$7,8,0),1,1)","v":0},{"$f":"OFFSET(InputPriceData!E$15,CalculationsAndCharts!$A741+$A$11,IF($C$7,8,0),1,1)","v":0},{"$f":"OFFSET(InputPriceData!F$15,CalculationsAndCharts!$A741+$A$11,IF($C$7,8,0),1,1)","v":0},0,0,0,0,0,0,{"$error":"#N/A"},false,0,false,{"$error":"#N/A"},{"$error":"#N/A"},true,false,false,false,false,false,{"$error":"#N/A"},false,{"$error":"#N/A"},false,false,false,false,false,false,{"$error":"#N/A"},0,0,0,0,0,null,{"$f":"OFFSET(InputIndexData!F$15,CalculationsAndCharts!$A741+$A$11,IF($C$7,8,0),1,1)","v":0},0,1,1,true,null,212,{"$error":"#N/A"}]
[714,{"$f":"OFFSET(InputPriceData!B$15,CalculationsAndCharts!$A746+$A$11,0,1,1)","v":"00:00:00"},{"$f":"OFFSET(InputPriceData!G$15,CalculationsAndCharts!$A746+$A$11,IF($C$7,8,0),1,1)","v":0},{"$f":"OFFSET(InputPriceData!C$15,CalculationsAndCharts!$A746+$A$11,IF($C$7,8,0),1,1)","v":0},{"$f":"OFFSET(InputPriceData!D$15,CalculationsAndCharts!$A746+$A$11,IF($C$7,8,0),1,1)","v":0},{"$f":"OFFSET(InputPriceData!E$15,CalculationsAndCharts!$A746+$A$11,IF($C$7,8,0),1,1)","v":0},{"$f":"OFFSET(InputPriceData!F$15,CalculationsAndCharts!$A746+$A$11,IF($C$7,8,0),1,1)","v":0},0,0,0,0,0,0,{"$error":"#N/A"},false,0,false,{"$error":"#N/A"},{"$error":"#N/A"},true,false,false,false,false,false,{"$error":"#N/A"},false,{"$error":"#N/A"},false,false,false,false,false,false,{"$error":"#N/A"},0,0,0,0,0,null,{"$f":"OFFSET(InputIndexData!F$15,CalculationsAndCharts!$A746+$A$11,IF($C$7,8,0),1,1)","v":0},0,1,1,true,null,212,{"$error":"#N/A"}]
[718,{"$f":"OFFSET(InputPriceData!B$15,CalculationsAndCharts!$A750+$A$11,0,1,1)","v":"00:00:00"},{"$f":"OFFSET(InputPriceData!G$15,CalculationsAndCharts!$A750+$A$11,IF($C$7,8,0),1,1)","v":0},{"$f":"OFFSET(InputPriceData!C$15,CalculationsAndCharts!$A750+$A$11,IF($C$7,8,0),1,1)","v":0},{"$f":"OFFSET(InputPriceData!D$15,CalculationsAndCharts!$A750+$A$11,IF($C$7,8,0),1,1)","v":0},{"$f":"OFFSET(InputPriceData!E$15,CalculationsAndCharts!$A750+$A$11,IF($C$7,8,0),1,1)","v":0},{"$f":"OFFSET(InputPriceData!F$15,CalculationsAndCharts!$A750+$A$11,IF($C$7,8,0),1,1)","v":0},0,0,0,0,0,0,{"$error":"#N/A"},false,0,false,{"$error":"#N/A"},{"$error":"#N/A"},true,false,false,false,false,false,{"$error":"#N/A"},false,{"$error":"#N/A"},false,false,false,false,false,false,{"$error":"#N/A"},0,0,0,0,0,null,{"$f":"OFFSET(InputIndexData!F$15,CalculationsAndCharts!$A750+$A$11,IF($C$7,8,0),1,1)","v":0},0,1,1,true,null,212,{"$error":"#N/A"}]
[723,{"$f":"OFFSET(InputPriceData!B$15,CalculationsAndCharts!$A755+$A$11,0,1,1)","v":"00:00:00"},{"$f":"OFFSET(InputPriceData!G$15,CalculationsAndCharts!$A755+$A$11,IF($C$7,8,0),1,1)","v":0},{"$f":"OFFSET(InputPriceData!C$15,CalculationsAndCharts!$A755+$A$11,IF($C$7,8,0),1,1)","v":0},{"$f":"OFFSET(InputPriceData!D$15,CalculationsAndCharts!$A755+$A$11,IF($C$7,8,0),1,1)","v":0},{"$f":"OFFSET(InputPriceData!E$15,CalculationsAndCharts!$A755+$A$11,IF($C$7,8,0),1,1)","v":0},{"$f":"OFFSET(InputPriceData!F$15,CalculationsAndCharts!$A755+$A$11,IF($C$7,8,0),1,1)","v":0},0,0,0,0,0,0,{"$error":"#N/A"},false,0,false,{"$error":"#N/A"},{"$error":"#N/A"},true,false,false,false,false,{"$f":"X756","v":false},{"$error":"#N/A"},false,{"$error":"#N/A"},false,false,false,false,false,false,{"$error":"#N/A"},0,0,0,0,0,null,{"$f":"OFFSET(InputIndexData!F$15,CalculationsAndCharts!$A755+$A$11,IF($C$7,8,0),1,1)","v":0},0,1,1,true,null,212,{"$error":"#N/A"}]
[724,{"$f":"OFFSET(InputPriceData!B$15,CalculationsAndCharts!$A756+$A$11,0,1,1)","v":"00:00:00"},{"$f":"OFFSET(InputPriceData!G$15,CalculationsAndCharts!$A756+$A$11,IF($C$7,8,0),1,1)","v":0},{"$f":"OFFSET(InputPriceData!C$15,CalculationsAndCharts!$A756+$A$11,IF($C$7,8,0),1,1)","v":0},{"$f":"OFFSET(InputPriceData!D$15,CalculationsAndCharts!$A756+$A$11,IF($C$7,8,0),1,1)","v":0},{"$f":"OFFSET(InputPriceData!E$15,CalculationsAndCharts!$A756+$A$11,IF($C$7,8,0),1,1)","v":0},{"$f":"OFFSET(InputPriceData!F$15,CalculationsAndCharts!$A756+$A$11,IF($C$7,8,0),1,1)","v":0},0,0,0,0,0,0,{"$error":"#N/A"},false,0,false,{"$error":"#N/A"},{"$error":"#N/A"},true,false,false,false,false,false,{"$error":"#N/A"},false,{"$error":"#N/A"},false,false,false,false,false,false,{"$error":"#N/A"},0,0,0,0,0,null,{"$f":"OFFSET(InputIndexData!F$15,CalculationsAndCharts!$A756+$A$11,IF($C$7,8,0),1,1)","v":0},0,1,1,true,null,212,{"$error":"#N/A"}]
[729,{"$f":"OFFSET(InputPriceData!B$15,CalculationsAndCharts!$A761+$A$11,0,1,1)","v":"00:00:00"},{"$f":"OFFSET(InputPriceData!G$15,CalculationsAndCharts!$A761+$A$11,IF($C$7,8,0),1,1)","v":0},{"$f":"OFFSET(InputPriceData!C$15,CalculationsAndCharts!$A761+$A$11,IF($C$7,8,0),1,1)","v":0},{"$f":"OFFSET(InputPriceData!D$15,CalculationsAndCharts!$A761+$A$11,IF($C$7,8,0),1,1)","v":0},{"$f":"OFFSET(InputPriceData!E$15,CalculationsAndCharts!$A761+$A$11,IF($C$7,8,0),1,1)","v":0},{"$f":"OFFSET(InputPriceData!F$15,CalculationsAndCharts!$A761+$A$11,IF($C$7,8,0),1,1)","v":0},0,0,0,0,0,0,{"$error":"#N/A"},false,0,false,{"$error":"#N/A"},{"$error":"#N/A"},true,false,false,false,false,false,{"$error":"#N/A"},false,{"$error":"#N/A"},false,false,false,false,false,false,{"$error":"#N/A"},0,0,0,0,0,null,{"$f":"OFFSET(InputIndexData!F$15,CalculationsAndCharts!$A761+$A$11,IF($C$7,8,0),1,1)","v":0},0,1,1,true,null,212,{"$error":"#N/A"}]
[734,{"$f":"OFFSET(InputPriceData!B$15,CalculationsAndCharts!$A766+$A$11,0,1,1)","v":"00:00:00"},{"$f":"OFFSET(InputPriceData!G$15,CalculationsAndCharts!$A766+$A$11,IF($C$7,8,0),1,1)","v":0},{"$f":"OFFSET(InputPriceData!C$15,CalculationsAndCharts!$A766+$A$11,IF($C$7,8,0),1,1)","v":0},{"$f":"OFFSET(InputPriceData!D$15,CalculationsAndCharts!$A766+$A$11,IF($C$7,8,0),1,1)","v":0},{"$f":"OFFSET(InputPriceData!E$15,CalculationsAndCharts!$A766+$A$11,IF($C$7,8,0),1,1)","v":0},{"$f":"OFFSET(InputPriceData!F$15,CalculationsAndCharts!$A766+$A$11,IF($C$7,8,0),1,1)","v":0},0,0,0,0,0,0,{"$error":"#N/A"},false,0,false,{"$error":"#N/A"},{"$error":"#N/A"},true,false,{"$f":"U767","v":false},false,false,false,{"$error":"#N/A"},false,{"$error":"#N/A"},false,false,false,false,false,false,{"$error":"#N/A"},0,0,0,0,0,null,{"$f":"OFFSET(InputIndexData!F$15,CalculationsAndCharts!$A766+$A$11,IF($C$7,8,0),1,1)","v":0},0,1,1,true,null,212,{"$error":"#N/A"}]
[736,{"$f":"OFFSET(InputPriceData!B$15,CalculationsAndCharts!$A768+$A$11,0,1,1)","v":"00:00:00"},{"$f":"OFFSET(InputPriceData!G$15,CalculationsAndCharts!$A768+$A$11,IF($C$7,8,0),1,1)","v":0},{"$f":"OFFSET(InputPriceData!C$15,CalculationsAndCharts!$A768+$A$11,IF($C$7,8,0),1,1)","v":0},{"$f":"OFFSET(InputPriceData!D$15,CalculationsAndCharts!$A768+$A$11,IF($C$7,8,0),1,1)","v":0},{"$f":"OFFSET(InputPriceData!E$15,CalculationsAndCharts!$A768+$A$11,IF($C$7,8,0),1,1)","v":0},{"$f":"OFFSET(InputPriceData!F$15,CalculationsAndCharts!$A768+$A$11,IF($C$7,8,0),1,1)","v":0},0,0,0,0,0,0,{"$error":"#N/A"},false,0,false,{"$error":"#N/A"},{"$error":"#N/A"},true,false,false,false,false,false,{"$error":"#N/A"},false,{"$error":"#N/A"},false,false,false,false,false,false,{"$error":"#N/A"},0,0,0,0,0,null,{"$f":"OFFSET(InputIndexData!F$15,CalculationsAndCharts!$A768+$A$11,IF($C$7,8,0),1,1)","v":0},0,1,1,true,null,212,{"$error":"#N/A"}]
[739,{"$f":"OFFSET(InputPriceData!B$15,CalculationsAndCharts!$A771+$A$11,0,1,1)","v":"00:00:00"},{"$f":"OFFSET(InputPriceData!G$15,CalculationsAndCharts!$A771+$A$11,IF($C$7,8,0),1,1)","v":0},{"$f":"OFFSET(InputPriceData!C$15,CalculationsAndCharts!$A771+$A$11,IF($C$7,8,0),1,1)","v":0},{"$f":"OFFSET(InputPriceData!D$15,CalculationsAndCharts!$A771+$A$11,IF($C$7,8,0),1,1)","v":0},{"$f":"OFFSET(InputPriceData!E$15,CalculationsAndCharts!$A771+$A$11,IF($C$7,8,0),1,1)","v":0},{"$f":"OFFSET(InputPriceData!F$15,CalculationsAndCharts!$A771+$A$11,IF($C$7,8,0),1,1)","v":0},0,0,0,0,0,0,{"$error":"#N/A"},false,0,false,{"$error":"#N/A"},{"$error":"#N/A"},true,false,false,{"$f":"IF(V771,TRUE,IF(X772,FALSE,W772))","v":false},false,false,{"$error":"#N/A"},false,{"$error":"#N/A"},false,false,false,false,false,false,{"$error":"#N/A"},0,0,0,0,0,null,{"$f":"OFFSET(InputIndexData!F$15,CalculationsAndCharts!$A771+$A$11,IF($C$7,8,0),1,1)","v":0},0,1,1,true,null,212,{"$error":"#N/A"}]
[744,{"$f":"OFFSET(InputPriceData!B$15,CalculationsAndCharts!$A776+$A$11,0,1,1)","v":"00:00:00"},{"$f":"OFFSET(InputPriceData!G$15,CalculationsAndCharts!$A776+$A$11,IF($C$7,8,0),1,1)","v":0},{"$f":"OFFSET(InputPriceData!C$15,CalculationsAndCharts!$A776+$A$11,IF($C$7,8,0),1,1)","v":0},{"$f":"OFFSET(InputPriceData!D$15,CalculationsAndCharts!$A776+$A$11,IF($C$7,8,0),1,1)","v":0},{"$f":"OFFSET(InputPriceData!E$15,CalculationsAndCharts!$A776+$A$11,IF($C$7,8,0),1,1)","v":0},{"$f":"OFFSET(InputPriceData!F$15,CalculationsAndCharts!$A776+$A$11,IF($C$7,8,0),1,1)","v":0},0,0,0,0,0,0,{"$error":"#N/A"},false,0,false,{"$error":"#N/A"},{"$error":"#N/A"},true,false,false,false,false,false,{"$error":"#N/A"},false,{"$error":"#N/A"},false,false,false,false,false,false,{"$error":"#N/A"},0,0,0,0,0,null,{"$f":"OFFSET(InputIndexData!F$15,CalculationsAndCharts!$A776+$A$11,IF($C$7,8,0),1,1)","v":0},0,1,1,true,null,212,{"$error":"#N/A"}]
[749,{"$f":"OFFSET(InputPriceData!B$15,CalculationsAndCharts!$A781+$A$11,0,1,1)","v":"00:00:00"},{"$f":"OFFSET(InputPriceData!G$15,CalculationsAndCharts!$A781+$A$11,IF($C$7,8,0),1,1)","v":0},{"$f":"OFFSET(InputPriceData!C$15,CalculationsAndCharts!$A781+$A$11,IF($C$7,8,0),1,1)","v":0},{"$f":"OFFSET(InputPriceData!D$15,CalculationsAndCharts!$A781+$A$11,IF($C$7,8,0),1,1)","v":0},{"$f":"OFFSET(InputPriceData!E$15,CalculationsAndCharts!$A781+$A$11,IF($C$7,8,0),1,1)","v":0},{"$f":"OFFSET(InputPriceData!F$15,CalculationsAndCharts!$A781+$A$11,IF($C$7,8,0),1,1)","v":0},0,0,0,0,0,0,{"$error":"#N/A"},false,0,false,{"$error":"#N/A"},{"$error":"#N/A"},true,false,false,false,false,false,{"$error":"#N/A"},false,{"$error":"#N/A"},false,false,false,false,false,false,{"$error":"#N/A"},0,0,0,0,0,null,{"$f":"OFFSET(InputIndexData!F$15,CalculationsAndCharts!$A781+$A$11,IF($C$7,8,0),1,1)","v":0},0,1,1,true,null,212,{"$error":"#N/A"}]
[754,{"$f":"OFFSET(InputPriceData!B$15,CalculationsAndCharts!$A786+$A$11,0,1,1)","v":"00:00:00"},{"$f":"OFFSET(InputPriceData!G$15,CalculationsAndCharts!$A786+$A$11,IF($C$7,8,0),1,1)","v":0},{"$f":"OFFSET(InputPriceData!C$15,CalculationsAndCharts!$A786+$A$11,IF($C$7,8,0),1,1)","v":0},{"$f":"OFFSET(InputPriceData!D$15,CalculationsAndCharts!$A786+$A$11,IF($C$7,8,0),1,1)","v":0},{"$f":"OFFSET(InputPriceData!E$15,CalculationsAndCharts!$A786+$A$11,IF($C$7,8,0),1,1)","v":0},{"$f":"OFFSET(InputPriceData!F$15,CalculationsAndCharts!$A786+$A$11,IF($C$7,8,0),1,1)","v":0},0,0,0,0,0,0,{"$error":"#N/A"},false,0,false,{"$error":"#N/A"},{"$error":"#N/A"},true,false,false,false,false,false,{"$error":"#N/A"},false,{"$error":"#N/A"},false,false,false,false,false,false,{"$error":"#N/A"},0,0,0,0,0,null,{"$f":"OFFSET(InputIndexData!F$15,CalculationsAndCharts!$A786+$A$11,IF($C$7,8,0),1,1)","v":0},0,1,1,true,null,212,{"$error":"#N/A"}]
[755,{"$f":"OFFSET(InputPriceData!B$15,CalculationsAndCharts!$A787+$A$11,0,1,1)","v":"00:00:00"},{"$f":"OFFSET(InputPriceData!G$15,CalculationsAndCharts!$A787+$A$11,IF($C$7,8,0),1,1)","v":0},{"$f":"OFFSET(InputPriceData!C$15,CalculationsAndCharts!$A787+$A$11,IF($C$7,8,0),1,1)","v":0},{"$f":"OFFSET(InputPriceData!D$15,CalculationsAndCharts!$A787+$A$11,IF($C$7,8,0),1,1)","v":0},{"$f":"OFFSET(InputPriceData!E$15,CalculationsAndCharts!$A787+$A$11,IF($C$7,8,0),1,1)","v":0},{"$f":"OFFSET(InputPriceData!F$15,CalculationsAndCharts!$A787+$A$11,IF($C$7,8,0),1,1)","v":0},0,0,0,0,0,0,{"$error":"#N/A"},false,0,false,{"$error":"#N/A"},{"$error":"#N/A"},true,false,false,false,false,false,{"$error":"#N/A"},false,{"$error":"#N/A"},false,false,false,false,false,false,{"$error":"#N/A"},0,0,0,0,0,null,{"$f":"OFFSET(InputIndexData!F$15,CalculationsAndCharts!$A787+$A$11,IF($C$7,8,0),1,1)","v":0},0,1,1,true,null,212,{"$error":"#N/A"}]
[759,{"$f":"OFFSET(InputPriceData!B$15,CalculationsAndCharts!$A791+$A$11,0,1,1)","v":"00:00:00"},{"$f":"OFFSET(InputPriceData!G$15,CalculationsAndCharts!$A791+$A$11,IF($C$7,8,0),1,1)","v":0},{"$f":"OFFSET(InputPriceData!C$15,CalculationsAndCharts!$A791+$A$11,IF($C$7,8,0),1,1)","v":0},{"$f":"OFFSET(InputPriceData!D$15,CalculationsAndCharts!$A791+$A$11,IF($C$7,8,0),1,1)","v":0},{"$f":"OFFSET(InputPriceData!E$15,CalculationsAndCharts!$A791+$A$11,IF($C$7,8,0),1,1)","v":0},{"$f":"OFFSET(InputPriceData!F$15,CalculationsAndCharts!$A791+$A$11,IF($C$7,8,0),1,1)","v":0},0,0,0,0,0,0,{"$error":"#N/A"},false,0,false,{"$error":"#N/A"},{"$error":"#N/A"},true,false,false,false,false,false,{"$error":"#N/A"},false,{"$error":"#N/A"},false,false,false,false,false,false,{"$error":"#N/A"},0,0,0,0,0,null,{"$f":"OFFSET(InputIndexData!F$15,CalculationsAndCharts!$A791+$A$11,IF($C$7,8,0),1,1)","v":0},0,1,1,true,null,212,{"$error":"#N/A"}]
[764,{"$f":"OFFSET(InputPriceData!B$15,CalculationsAndCharts!$A796+$A$11,0,1,1)","v":"00:00:00"},{"$f":"OFFSET(InputPriceData!G$15,CalculationsAndCharts!$A796+$A$11,IF($C$7,8,0),1,1)","v":0},{"$f":"OFFSET(InputPriceData!C$15,CalculationsAndCharts!$A796+$A$11,IF($C$7,8,0),1,1)","v":0},{"$f":"OFFSET(InputPriceData!D$15,CalculationsAndCharts!$A796+$A$11,IF($C$7,8,0),1,1)","v":0},{"$f":"OFFSET(InputPriceData!E$15,CalculationsAndCharts!$A796+$A$11,IF($C$7,8,0),1,1)","v":0},{"$f":"OFFSET(InputPriceData!F$15,CalculationsAndCharts!$A796+$A$11,IF($C$7,8,0),1,1)","v":0},0,0,0,0,0,0,{"$error":"#N/A"},false,0,false,{"$error":"#N/A"},{"$error":"#N/A"},true,false,false,false,false,false,{"$error":"#N/A"},false,{"$error":"#N/A"},false,false,false,false,false,false,{"$error":"#N/A"},0,0,0,0,0,null,{"$f":"OFFSET(InputIndexData!F$15,CalculationsAndCharts!$A796+$A$11,IF($C$7,8,0),1,1)","v":0},0,1,1,true,null,212,{"$error":"#N/A"}]
[769,{"$f":"OFFSET(InputPriceData!B$15,CalculationsAndCharts!$A801+$A$11,0,1,1)","v":"00:00:00"},{"$f":"OFFSET(InputPriceData!G$15,CalculationsAndCharts!$A801+$A$11,IF($C$7,8,0),1,1)","v":0},{"$f":"OFFSET(InputPriceData!C$15,CalculationsAndCharts!$A801+$A$11,IF($C$7,8,0),1,1)","v":0},{"$f":"OFFSET(InputPriceData!D$15,CalculationsAndCharts!$A801+$A$11,IF($C$7,8,0),1,1)","v":0},{"$f":"OFFSET(InputPriceData!E$15,CalculationsAndCharts!$A801+$A$11,IF($C$7,8,0),1,1)","v":0},{"$f":"OFFSET(InputPriceData!F$15,CalculationsAndCharts!$A801+$A$11,IF($C$7,8,0),1,1)","v":0},{"$f":"AVERAGE(OFFSET(G801,0,0,$A$17,1))","v":0},{"$f":"AVERAGE(OFFSET(G801,0,0,$A$18,1))","v":0},{"$f":"AVERAGE(OFFSET(G801,0,0,$A$19,1))","v":0},{"$f":"AVERAGE(OFFSET(E801,0,0,$A$20,1))","v":0},{"$f":"AVERAGE(OFFSET(F801,0,0,$A$21,1))","v":0},0,{"$error":"#N/A"},{"$f":"AND(G802<=K802,G801>K801,OR(P802=\"DOWN\",P802=0))","v":false},{"$f":"IF(AND(OR(P802=0,P802=\"UP\"),Q801),\"DOWN\",IF(AND(OR(P802=0,P802=\"DOWN\"),O801),\"UP\",P802))","v":0},{"$f":"AND(G802>=L802,G801<L801,OR(P802=0,P802=\"UP\"))","v":false},{"$error":"#N/A"},{"$error":"#N/A"},true,{"$f":"AND(T801,O801)","v":false},false,false,{"$f":"AND(W801,Q801)","v":false},false,{"$f":"IF(AND(NOT(AA801),OR(W801,Y801)),$F$11,NA())","v":{"$error":"#N/A"}},false,{"$error":"#N/A"},false,{"$f":"AND(AC801,Q801)","v":false},{"$f":"AD802","v":false},false,false,{"$f":"AG802","v":false},{"$f":"IF(AND(NOT(AA801),OR(AF801,AH801)),$F$11,NA())","v":{"$error":"#N/A"}},0,0,0,0,0,null,{"$f":"OFFSET(InputIndexData!F$15,CalculationsAndCharts!$A801+$A$11,IF($C$7,8,0),1,1)","v":0},0,1,1,true,null,{"$f":"IF(AT801,$AR$26,NA())","v":212},{"$f":"IF(AT801,NA(),$AR$26)","v":{"$error":"#N/A"}}]
[770,{"$f":"OFFSET(InputPriceData!B$15,CalculationsAndCharts!$A802+$A$11,0,1,1)","v":"00:00:00"},{"$f":"OFFSET(InputPriceData!G$15,CalculationsAndCharts!$A802+$A$11,IF($C$7,8,0),1,1)","v":0},{"$f":"OFFSET(InputPriceData!C$15,CalculationsAndCharts!$A802+$A$11,IF($C$7,8,0),1,1)","v":0},{"$f":"OFFSET(InputPriceData!D$15,CalculationsAndCharts!$A802+$A$11,IF($C$7,8,0),1,1)","v":0},{"$f":"OFFSET(InputPriceData!E$15,CalculationsAndCharts!$A802+$A$11,IF($C$7,8,0),1,1)","v":0},{"$f":"OFFSET(InputPriceData!F$15,CalculationsAndCharts!$A802+$A$11,IF($C$7,8,0),1,1)","v":0},0,0,0,0,0,{"$f":"IF(D802<=G802,C802,NA())","v":0},{"$f":"IF(D802<=G802,NA(),C802)","v":{"$error":"#N/A"}},false,0,false,{"$error":"#N/A"},{"$error":"#N/A"},{"$f":"AND(OR(NOT($R$11),AT802),OR(NOT($R$12),J802>=I802),OR(NOT($R$13),I802>=H802),OR(NOT($R$14),G802>=I802))","v":true},false,false,false,false,false,{"$error":"#N/A"},false,{"$error":"#N/A"},{"$f":"AND(   OR(NOT($R$11),NOT(AT802)),   OR(NOT($R$12),J802<=I802),   OR(NOT($R$13),I802<=H802),   OR(NOT($R$14),G802<=I802)   )","v":false},false,false,{"$f":"IF(AE802,TRUE,IF(AG803,FALSE,AF803))","v":false},{"$f":"AND(AF802,O802)","v":false},false,{"$error":"#N/A"},{"$f":"IF($R$3,H802,NA())","v":0},{"$f":"IF($R$4,I802,NA())","v":0},{"$f":"IF($R$5,J802,NA())","v":0},{"$f":"IF($R$6,K802,NA())","v":0},{"$f":"IF($R$6,L802,NA())","v":0},null,{"$f":"OFFSET(InputIndexData!F$15,CalculationsAndCharts!$A802+$A$11,IF($C$7,8,0),1,1)","v":0},{"$f":"AVERAGE(OFFSET(AP802,0,0,$D$17,1))","v":0},{"$f":"IF(AQ802-AQ803>=0,1,-1)","v":1},{"$f":"AVERAGE(OFFSET(AR802,0,0,$D$18,1))","v":1},{"$f":"OR(AS802>0,AND(AS802=0,AS803>0))","v":true},null,212,{"$error":"#N/A"}]
[775,{"$f":"OFFSET(InputPriceData!B$15,CalculationsAndCharts!$A807+$A$11,0,1,1)","v":"00:00:00"},{"$f":"OFFSET(InputPriceData!G$15,CalculationsAndCharts!$A807+$A$11,IF($C$7,8,0),1,1)","v":0},{"$f":"OFFSET(InputPriceData!C$15,CalculationsAndCharts!$A807+$A$11,IF($C$7,8,0),1,1)","v":0},{"$f":"OFFSET(InputPriceData!D$15,CalculationsAndCharts!$A807+$A$11,IF($C$7,8,0),1,1)","v":0},{"$f":"OFFSET(InputPriceData!E$15,CalculationsAndCharts!$A807+$A$11,IF($C$7,8,0),1,1)","v":0},{"$f":"OFFSET(InputPriceData!F$15,CalculationsAndCharts!$A807+$A$11,IF($C$7,8,0),1,1)","v":0},0,0,0,0,0,0,{"$error":"#N/A"},false,0,false,{"$error":"#N/A"},{"$error":"#N/A"},true,false,false,false,false,false,{"$error":"#N/A"},false,{"$error":"#N/A"},false,false,false,false,false,false,{"$error":"#N/A"},0,0,0,0,0,null,{"$f":"OFFSET(InputIndexData!F$15,CalculationsAndCharts!$A807+$A$11,IF($C$7,8,0),1,1)","v":0},0,1,1,true,null,212,{"$error":"#N/A"}]
[779,{"$f":"OFFSET(InputPriceData!B$15,CalculationsAndCharts!$A811+$A$11,0,1,1)","v":"00:00:00"},{"$f":"OFFSET(InputPriceData!G$15,CalculationsAndCharts!$A811+$A$11,IF($C$7,8,0),1,1)","v":0},{"$f":"OFFSET(InputPriceData!C$15,CalculationsAndCharts!$A811+$A$11,IF($C$7,8,0),1,1)","v":0},{"$f":"OFFSET(InputPriceData!D$15,CalculationsAndCharts!$A811+$A$11,IF($C$7,8,0),1,1)","v":0},{"$f":"OFFSET(InputPriceData!E$15,CalculationsAndCharts!$A811+$A$11,IF($C$7,8,0),1,1)","v":0},{"$f":"OFFSET(InputPriceData!F$15,CalculationsAndCharts!$A811+$A$11,IF($C$7,8,0),1,1)","v":0},0,0,0,0,0,0,{"$error":"#N/A"},false,0,false,{"$error":"#N/A"},{"$error":"#N/A"},true,false,false,false,false,false,{"$error":"#N/A"},false,{"$error":"#N/A"},false,false,false,false,false,false,{"$error":"#N/A"},0,0,0,0,0,null,{"$f":"OFFSET(InputIndexData!F$15,CalculationsAndCharts!$A811+$A$11,IF($C$7,8,0),1,1)","v":0},0,1,1,true,null,212,{"$error":"#N/A"}]
[784,{"$f":"OFFSET(InputPriceData!B$15,CalculationsAndCharts!$A816+$A$11,0,1,1)","v":"00:00:00"},{"$f":"OFFSET(InputPriceData!G$15,CalculationsAndCharts!$A816+$A$11,IF($C$7,8,0),1,1)","v":0},{"$f":"OFFSET(InputPriceData!C$15,CalculationsAndCharts!$A816+$A$11,IF($C$7,8,0),1,1)","v":0},{"$f":"OFFSET(InputPriceData!D$15,CalculationsAndCharts!$A816+$A$11,IF($C$7,8,0),1,1)","v":0},{"$f":"OFFSET(InputPriceData!E$15,CalculationsAndCharts!$A816+$A$11,IF($C$7,8,0),1,1)","v":0},{"$f":"OFFSET(InputPriceData!F$15,CalculationsAndCharts!$A816+$A$11,IF($C$7,8,0),1,1)","v":0},0,0,0,0,0,0,{"$error":"#N/A"},false,0,false,{"$error":"#N/A"},{"$error":"#N/A"},true,false,false,false,false,false,{"$error":"#N/A"},{"$f":"AND(OR(W816,Y816),OR(AF816,AH816))","v":false},{"$error":"#N/A"},false,false,false,false,false,false,{"$error":"#N/A"},0,0,0,0,0,null,{"$f":"OFFSET(InputIndexData!F$15,CalculationsAndCharts!$A816+$A$11,IF($C$7,8,0),1,1)","v":0},0,1,1,true,null,212,{"$error":"#N/A"}]
[785,{"$f":"OFFSET(InputPriceData!B$15,CalculationsAndCharts!$A817+$A$11,0,1,1)","v":"00:00:00"},{"$f":"OFFSET(InputPriceData!G$15,CalculationsAndCharts!$A817+$A$11,IF($C$7,8,0),1,1)","v":0},{"$f":"OFFSET(InputPriceData!C$15,CalculationsAndCharts!$A817+$A$11,IF($C$7,8,0),1,1)","v":0},{"$f":"OFFSET(InputPriceData!D$15,CalculationsAndCharts!$A817+$A$11,IF($C$7,8,0),1,1)","v":0},{"$f":"OFFSET(InputPriceData!E$15,CalculationsAndCharts!$A817+$A$11,IF($C$7,8,0),1,1)","v":0},{"$f":"OFFSET(InputPriceData!F$15,CalculationsAndCharts!$A817+$A$11,IF($C$7,8,0),1,1)","v":0},0,0,0,0,0,0,{"$error":"#N/A"},false,0,false,{"$error":"#N/A"},{"$error":"#N/A"},true,false,false,false,false,false,{"$error":"#N/A"},false,{"$error":"#N/A"},false,false,false,false,false,false,{"$error":"#N/A"},0,0,0,0,0,null,{"$f":"OFFSET(InputIndexData!F$15,CalculationsAndCharts!$A817+$A$11,IF($C$7,8,0),1,1)","v":0},0,1,1,true,null,212,{"$error":"#N/A"}]
[790,{"$f":"OFFSET(InputPriceData!B$15,CalculationsAndCharts!$A822+$A$11,0,1,1)","v":"00:00:00"},{"$f":"OFFSET(InputPriceData!G$15,CalculationsAndCharts!$A822+$A$11,IF($C$7,8,0),1,1)","v":0},{"$f":"OFFSET(InputPriceData!C$15,CalculationsAndCharts!$A822+$A$11,IF($C$7,8,0),1,1)","v":0},{"$f":"OFFSET(InputPriceData!D$15,CalculationsAndCharts!$A822+$A$11,IF($C$7,8,0),1,1)","v":0},{"$f":"OFFSET(InputPriceData!E$15,CalculationsAndCharts!$A822+$A$11,IF($C$7,8,0),1,1)","v":0},{"$f":"OFFSET(InputPriceData!F$15,CalculationsAndCharts!$A822+$A$11,IF($C$7,8,0),1,1)","v":0},0,0,0,0,0,0,{"$error":"#N/A"},false,0,false,{"$error":"#N/A"},{"$error":"#N/A"},true,false,false,false,false,false,{"$error":"#N/A"},false,{"$error":"#N/A"},false,false,false,false,false,false,{"$error":"#N/A"},0,0,0,0,0,null,{"$f":"OFFSET(InputIndexData!F$15,CalculationsAndCharts!$A822+$A$11,IF($C$7,8,0),1,1)","v":0},0,1,1,true,null,212,{"$error":"#N/A"}]
[795,{"$f":"OFFSET(InputPriceData!B$15,CalculationsAndCharts!$A827+$A$11,0,1,1)","v":"00:00:00"},{"$f":"OFFSET(InputPriceData!G$15,CalculationsAndCharts!$A827+$A$11,IF($C$7,8,0),1,1)","v":0},{"$f":"OFFSET(InputPriceData!C$15,CalculationsAndCharts!$A827+$A$11,IF($C$7,8,0),1,1)","v":0},{"$f":"OFFSET(InputPriceData!D$15,CalculationsAndCharts!$A827+$A$11,IF($C$7,8,0),1,1)","v":0},{"$f":"OFFSET(InputPriceData!E$15,CalculationsAndCharts!$A827+$A$11,IF($C$7,8,0),1,1)","v":0},{"$f":"OFFSET(InputPriceData!F$15,CalculationsAndCharts!$A827+$A$11,IF($C$7,8,0),1,1)","v":0},0,0,0,0,0,0,{"$error":"#N/A"},false,0,false,{"$error":"#N/A"},{"$error":"#N/A"},true,false,false,false,false,false,{"$error":"#N/A"},false,{"$error":"#N/A"},false,false,false,false,false,false,{"$error":"#N/A"},0,0,0,0,0,null,{"$f":"OFFSET(InputIndexData!F$15,CalculationsAndCharts!$A827+$A$11,IF($C$7,8,0),1,1)","v":0},0,1,1,true,null,212,{"$error":"#N/A"}]
[797,{"$f":"OFFSET(InputPriceData!B$15,CalculationsAndCharts!$A829+$A$11,0,1,1)","v":"00:00:00"},{"$f":"OFFSET(InputPriceData!G$15,CalculationsAndCharts!$A829+$A$11,IF($C$7,8,0),1,1)","v":0},{"$f":"OFFSET(InputPriceData!C$15,CalculationsAndCharts!$A829+$A$11,IF($C$7,8,0),1,1)","v":0},{"$f":"OFFSET(InputPriceData!D$15,CalculationsAndCharts!$A829+$A$11,IF($C$7,8,0),1,1)","v":0},{"$f":"OFFSET(InputPriceData!E$15,CalculationsAndCharts!$A829+$A$11,IF($C$7,8,0),1,1)","v":0},{"$f":"OFFSET(InputPriceData!F$15,CalculationsAndCharts!$A829+$A$11,IF($C$7,8,0),1,1)","v":0},0,0,0,0,0,0,{"$error":"#N/A"},false,0,false,{"$error":"#N/A"},{"$error":"#N/A"},true,false,false,false,false,false,{"$error":"#N/A"},false,{"$error":"#N/A"},false,false,false,false,false,false,{"$error":"#N/A"},0,0,0,0,0,null,{"$f":"OFFSET(InputIndexData!F$15,CalculationsAndCharts!$A829+$A$11,IF($C$7,8,0),1,1)","v":0},0,1,1,true,null,212,{"$error":"#N/A"}]
[800,{"$f":"OFFSET(InputPriceData!B$15,CalculationsAndCharts!$A832+$A$11,0,1,1)","v":"00:00:00"},{"$f":"OFFSET(InputPriceData!G$15,CalculationsAndCharts!$A832+$A$11,IF($C$7,8,0),1,1)","v":0},{"$f":"OFFSET(InputPriceData!C$15,CalculationsAndCharts!$A832+$A$11,IF($C$7,8,0),1,1)","v":0},{"$f":"OFFSET(InputPriceData!D$15,CalculationsAndCharts!$A832+$A$11,IF($C$7,8,0),1,1)","v":0},{"$f":"OFFSET(InputPriceData!E$15,CalculationsAndCharts!$A832+$A$11,IF($C$7,8,0),1,1)","v":0},{"$f":"OFFSET(InputPriceData!F$15,CalculationsAndCharts!$A832+$A$11,IF($C$7,8,0),1,1)","v":0},0,0,0,0,0,0,{"$error":"#N/A"},false,0,false,{"$error":"#N/A"},{"$error":"#N/A"},true,false,false,false,false,false,{"$error":"#N/A"},false,{"$error":"#N/A"},false,false,false,false,false,false,{"$error":"#N/A"},0,0,0,0,0,null,{"$f":"OFFSET(InputIndexData!F$15,CalculationsAndCharts!$A832+$A$11,IF($C$7,8,0),1,1)","v":0},0,1,1,true,null,212,{"$error":"#N/A"}]
[805,{"$f":"OFFSET(InputPriceData!B$15,CalculationsAndCharts!$A837+$A$11,0,1,1)","v":"00:00:00"},{"$f":"OFFSET(InputPriceData!G$15,CalculationsAndCharts!$A837+$A$11,IF($C$7,8,0),1,1)","v":0},{"$f":"OFFSET(InputPriceData!C$15,CalculationsAndCharts!$A837+$A$11,IF($C$7,8,0),1,1)","v":0},{"$f":"OFFSET(InputPriceData!D$15,CalculationsAndCharts!$A837+$A$11,IF($C$7,8,0),1,1)","v":0},{"$f":"OFFSET(InputPriceData!E$15,CalculationsAndCharts!$A837+$A$11,IF($C$7,8,0),1,1)","v":0},{"$f":"OFFSET(InputPriceData!F$15,CalculationsAndCharts!$A837+$A$11,IF($C$7,8,0),1,1)","v":0},0,0,0,0,0,0,{"$error":"#N/A"},false,0,false,{"$error":"#N/A"},{"$error":"#N/A"},true,false,false,false,false,false,{"$error":"#N/A"},false,{"$error":"#N/A"},false,false,false,false,false,false,{"$error":"#N/A"},0,0,0,0,0,null,{"$f":"OFFSET(InputIndexData!F$15,CalculationsAndCharts!$A837+$A$11,IF($C$7,8,0),1,1)","v":0},0,1,1,true,null,212,{"$error":"#N/A"}]
[810,{"$f":"OFFSET(InputPriceData!B$15,CalculationsAndCharts!$A842+$A$11,0,1,1)","v":"00:00:00"},{"$f":"OFFSET(InputPriceData!G$15,CalculationsAndCharts!$A842+$A$11,IF($C$7,8,0),1,1)","v":0},{"$f":"OFFSET(InputPriceData!C$15,CalculationsAndCharts!$A842+$A$11,IF($C$7,8,0),1,1)","v":0},{"$f":"OFFSET(InputPriceData!D$15,CalculationsAndCharts!$A842+$A$11,IF($C$7,8,0),1,1)","v":0},{"$f":"OFFSET(InputPriceData!E$15,CalculationsAndCharts!$A842+$A$11,IF($C$7,8,0),1,1)","v":0},{"$f":"OFFSET(InputPriceData!F$15,CalculationsAndCharts!$A842+$A$11,IF($C$7,8,0),1,1)","v":0},0,0,0,0,0,0,{"$error":"#N/A"},false,0,false,{"$error":"#N/A"},{"$error":"#N/A"},true,false,false,false,false,false,{"$error":"#N/A"},false,{"$error":"#N/A"},false,false,false,false,false,false,{"$error":"#N/A"},0,0,0,0,0,null,{"$f":"OFFSET(InputIndexData!F$15,CalculationsAndCharts!$A842+$A$11,IF($C$7,8,0),1,1)","v":0},0,1,1,true,null,212,{"$error":"#N/A"}]
[815,{"$f":"OFFSET(InputPriceData!B$15,CalculationsAndCharts!$A847+$A$11,0,1,1)","v":"00:00:00"},{"$f":"OFFSET(InputPriceData!G$15,CalculationsAndCharts!$A847+$A$11,IF($C$7,8,0),1,1)","v":0},{"$f":"OFFSET(InputPriceData!C$15,CalculationsAndCharts!$A847+$A$11,IF($C$7,8,0),1,1)","v":0},{"$f":"OFFSET(InputPriceData!D$15,CalculationsAndCharts!$A847+$A$11,IF($C$7,8,0),1,1)","v":0},{"$f":"OFFSET(InputPriceData!E$15,CalculationsAndCharts!$A847+$A$11,IF($C$7,8,0),1,1)","v":0},{"$f":"OFFSET(InputPriceData!F$15,CalculationsAndCharts!$A847+$A$11,IF($C$7,8,0),1,1)","v":0},0,0,0,0,0,0,{"$error":"#N/A"},false,0,false,{"$error":"#N/A"},{"$error":"#N/A"},true,false,false,false,false,false,{"$error":"#N/A"},false,{"$error":"#N/A"},false,false,false,false,false,false,{"$error":"#N/A"},0,0,0,0,0,null,{"$f":"OFFSET(InputIndexData!F$15,CalculationsAndCharts!$A847+$A$11,IF($C$7,8,0),1,1)","v":0},0,1,1,true,null,212,{"$error":"#N/A"}]
[816,{"$f":"OFFSET(InputPriceData!B$15,CalculationsAndCharts!$A848+$A$11,0,1,1)","v":"00:00:00"},{"$f":"OFFSET(InputPriceData!G$15,CalculationsAndCharts!$A848+$A$11,IF($C$7,8,0),1,1)","v":0},{"$f":"OFFSET(InputPriceData!C$15,CalculationsAndCharts!$A848+$A$11,IF($C$7,8,0),1,1)","v":0},{"$f":"OFFSET(InputPriceData!D$15,CalculationsAndCharts!$A848+$A$11,IF($C$7,8,0),1,1)","v":0},{"$f":"OFFSET(InputPriceData!E$15,CalculationsAndCharts!$A848+$A$11,IF($C$7,8,0),1,1)","v":0},{"$f":"OFFSET(InputPriceData!F$15,CalculationsAndCharts!$A848+$A$11,IF($C$7,8,0),1,1)","v":0},0,0,0,0,0,0,{"$error":"#N/A"},false,0,false,{"$error":"#N/A"},{"$error":"#N/A"},true,false,false,false,false,false,{"$error":"#N/A"},false,{"$error":"#N/A"},false,false,false,false,false,false,{"$error":"#N/A"},0,0,0,0,0,null,{"$f":"OFFSET(InputIndexData!F$15,CalculationsAndCharts!$A848+$A$11,IF($C$7,8,0),1,1)","v":0},0,1,1,true,null,212,{"$error":"#N/A"}]
[820,{"$f":"OFFSET(InputPriceData!B$15,CalculationsAndCharts!$A852+$A$11,0,1,1)","v":"00:00:00"},{"$f":"OFFSET(InputPriceData!G$15,CalculationsAndCharts!$A852+$A$11,IF($C$7,8,0),1,1)","v":0},{"$f":"OFFSET(InputPriceData!C$15,CalculationsAndCharts!$A852+$A$11,IF($C$7,8,0),1,1)","v":0},{"$f":"OFFSET(InputPriceData!D$15,CalculationsAndCharts!$A852+$A$11,IF($C$7,8,0),1,1)","v":0},{"$f":"OFFSET(InputPriceData!E$15,CalculationsAndCharts!$A852+$A$11,IF($C$7,8,0),1,1)","v":0},{"$f":"OFFSET(InputPriceData!F$15,CalculationsAndCharts!$A852+$A$11,IF($C$7,8,0),1,1)","v":0},0,0,0,0,0,0,{"$error":"#N/A"},false,0,false,{"$error":"#N/A"},{"$error":"#N/A"},true,false,false,false,false,false,{"$error":"#N/A"},false,{"$error":"#N/A"},false,false,false,false,false,false,{"$error":"#N/A"},0,0,0,0,0,null,{"$f":"OFFSET(InputIndexData!F$15,CalculationsAndCharts!$A852+$A$11,IF($C$7,8,0),1,1)","v":0},0,1,1,true,null,212,{"$error":"#N/A"}]
[825,{"$f":"OFFSET(InputPriceData!B$15,CalculationsAndCharts!$A857+$A$11,0,1,1)","v":"00:00:00"},{"$f":"OFFSET(InputPriceData!G$15,CalculationsAndCharts!$A857+$A$11,IF($C$7,8,0),1,1)","v":0},{"$f":"OFFSET(InputPriceData!C$15,CalculationsAndCharts!$A857+$A$11,IF($C$7,8,0),1,1)","v":0},{"$f":"OFFSET(InputPriceData!D$15,CalculationsAndCharts!$A857+$A$11,IF($C$7,8,0),1,1)","v":0},{"$f":"OFFSET(InputPriceData!E$15,CalculationsAndCharts!$A857+$A$11,IF($C$7,8,0),1,1)","v":0},{"$f":"OFFSET(InputPriceData!F$15,CalculationsAndCharts!$A857+$A$11,IF($C$7,8,0),1,1)","v":0},0,0,0,0,0,0,{"$error":"#N/A"},false,0,false,{"$error":"#N/A"},{"$error":"#N/A"},true,false,false,false,false,false,{"$error":"#N/A"},false,{"$error":"#N/A"},false,false,false,false,false,false,{"$error":"#N/A"},0,0,0,0,0,null,{"$f":"OFFSET(InputIndexData!F$15,CalculationsAndCharts!$A857+$A$11,IF($C$7,8,0),1,1)","v":0},0,1,1,true,null,212,{"$error":"#N/A"}]
[830,{"$f":"OFFSET(InputPriceData!B$15,CalculationsAndCharts!$A862+$A$11,0,1,1)","v":"00:00:00"},{"$f":"OFFSET(InputPriceData!G$15,CalculationsAndCharts!$A862+$A$11,IF($C$7,8,0),1,1)","v":0},{"$f":"OFFSET(InputPriceData!C$15,CalculationsAndCharts!$A862+$A$11,IF($C$7,8,0),1,1)","v":0},{"$f":"OFFSET(InputPriceData!D$15,CalculationsAndCharts!$A862+$A$11,IF($C$7,8,0),1,1)","v":0},{"$f":"OFFSET(InputPriceData!E$15,CalculationsAndCharts!$A862+$A$11,IF($C$7,8,0),1,1)","v":0},{"$f":"OFFSET(InputPriceData!F$15,CalculationsAndCharts!$A862+$A$11,IF($C$7,8,0),1,1)","v":0},0,0,0,0,0,0,{"$error":"#N/A"},false,0,false,{"$error":"#N/A"},{"$error":"#N/A"},true,false,false,false,false,false,{"$error":"#N/A"},false,{"$error":"#N/A"},false,false,false,false,false,false,{"$error":"#N/A"},0,0,0,0,0,null,{"$f":"OFFSET(InputIndexData!F$15,CalculationsAndCharts!$A862+$A$11,IF($C$7,8,0),1,1)","v":0},0,1,1,true,null,212,{"$error":"#N/A"}]
[831,{"$f":"OFFSET(InputPriceData!B$15,CalculationsAndCharts!$A863+$A$11,0,1,1)","v":"00:00:00"},{"$f":"OFFSET(InputPriceData!G$15,CalculationsAndCharts!$A863+$A$11,IF($C$7,8,0),1,1)","v":0},{"$f":"OFFSET(InputPriceData!C$15,CalculationsAndCharts!$A863+$A$11,IF($C$7,8,0),1,1)","v":0},{"$f":"OFFSET(InputPriceData!D$15,CalculationsAndCharts!$A863+$A$11,IF($C$7,8,0),1,1)","v":0},{"$f":"OFFSET(InputPriceData!E$15,CalculationsAndCharts!$A863+$A$11,IF($C$7,8,0),1,1)","v":0},{"$f":"OFFSET(InputPriceData!F$15,CalculationsAndCharts!$A863+$A$11,IF($C$7,8,0),1,1)","v":0},0,0,0,0,0,0,{"$error":"#N/A"},false,0,false,{"$error":"#N/A"},{"$error":"#N/A"},true,false,false,false,false,false,{"$error":"#N/A"},false,{"$error":"#N/A"},false,false,false,false,false,false,{"$error":"#N/A"},0,0,0,0,0,null,{"$f":"OFFSET(InputIndexData!F$15,CalculationsAndCharts!$A863+$A$11,IF($C$7,8,0),1,1)","v":0},0,1,1,true,null,212,{"$error":"#N/A"}]
[836,{"$f":"OFFSET(InputPriceData!B$15,CalculationsAndCharts!$A868+$A$11,0,1,1)","v":"00:00:00"},{"$f":"OFFSET(InputPriceData!G$15,CalculationsAndCharts!$A868+$A$11,IF($C$7,8,0),1,1)","v":0},{"$f":"OFFSET(InputPriceData!C$15,CalculationsAndCharts!$A868+$A$11,IF($C$7,8,0),1,1)","v":0},{"$f":"OFFSET(InputPriceData!D$15,CalculationsAndCharts!$A868+$A$11,IF($C$7,8,0),1,1)","v":0},{"$f":"OFFSET(InputPriceData!E$15,CalculationsAndCharts!$A868+$A$11,IF($C$7,8,0),1,1)","v":0},{"$f":"OFFSET(InputPriceData!F$15,CalculationsAndCharts!$A868+$A$11,IF($C$7,8,0),1,1)","v":0},0,0,0,0,0,0,{"$error":"#N/A"},false,0,false,{"$error":"#N/A"},{"$error":"#N/A"},true,false,false,false,false,false,{"$error":"#N/A"},false,{"$error":"#N/A"},false,false,false,false,false,false,{"$error":"#N/A"},0,0,0,0,0,null,{"$f":"OFFSET(InputIndexData!F$15,CalculationsAndCharts!$A868+$A$11,IF($C$7,8,0),1,1)","v":0},0,1,1,true,null,212,{"$error":"#N/A"}]
[841,{"$f":"OFFSET(InputPriceData!B$15,CalculationsAndCharts!$A873+$A$11,0,1,1)","v":"00:00:00"},{"$f":"OFFSET(InputPriceData!G$15,CalculationsAndCharts!$A873+$A$11,IF($C$7,8,0),1,1)","v":0},{"$f":"OFFSET(InputPriceData!C$15,CalculationsAndCharts!$A873+$A$11,IF($C$7,8,0),1,1)","v":0},{"$f":"OFFSET(InputPriceData!D$15,CalculationsAndCharts!$A873+$A$11,IF($C$7,8,0),1,1)","v":0},{"$f":"OFFSET(InputPriceData!E$15,CalculationsAndCharts!$A873+$A$11,IF($C$7,8,0),1,1)","v":0},{"$f":"OFFSET(InputPriceData!F$15,CalculationsAndCharts!$A873+$A$11,IF($C$7,8,0),1,1)","v":0},0,0,0,0,0,0,{"$error":"#N/A"},false,0,false,{"$f":"IF(O873,G873,NA())","v":{"$error":"#N/A"}},{"$f":"IF(Q873,G873,NA())","v":{"$error":"#N/A"}},true,false,false,false,false,false,{"$error":"#N/A"},false,{"$error":"#N/A"},false,false,false,false,false,false,{"$error":"#N/A"},0,0,0,0,0,null,{"$f":"OFFSET(InputIndexData!F$15,CalculationsAndCharts!$A873+$A$11,IF($C$7,8,0),1,1)","v":0},0,1,1,true,null,212,{"$error":"#N/A"}]
[845,{"$f":"OFFSET(InputPriceData!B$15,CalculationsAndCharts!$A877+$A$11,0,1,1)","v":"00:00:00"},{"$f":"OFFSET(InputPriceData!G$15,CalculationsAndCharts!$A877+$A$11,IF($C$7,8,0),1,1)","v":0},{"$f":"OFFSET(InputPriceData!C$15,CalculationsAndCharts!$A877+$A$11,IF($C$7,8,0),1,1)","v":0},{"$f":"OFFSET(InputPriceData!D$15,CalculationsAndCharts!$A877+$A$11,IF($C$7,8,0),1,1)","v":0},{"$f":"OFFSET(InputPriceData!E$15,CalculationsAndCharts!$A877+$A$11,IF($C$7,8,0),1,1)","v":0},{"$f":"OFFSET(InputPriceData!F$15,CalculationsAndCharts!$A877+$A$11,IF($C$7,8,0),1,1)","v":0},0,0,0,0,0,0,{"$error":"#N/A"},false,0,false,{"$error":"#N/A"},{"$error":"#N/A"},true,false,false,false,false,false,{"$error":"#N/A"},false,{"$error":"#N/A"},false,false,false,false,false,false,{"$error":"#N/A"},0,0,0,0,0,null,{"$f":"OFFSET(InputIndexData!F$15,CalculationsAndCharts!$A877+$A$11,IF($C$7,8,0),1,1)","v":0},0,1,1,true,null,212,{"$error":"#N/A"}]
[846,{"$f":"OFFSET(InputPriceData!B$15,CalculationsAndCharts!$A878+$A$11,0,1,1)","v":"00:00:00"},{"$f":"OFFSET(InputPriceData!G$15,CalculationsAndCharts!$A878+$A$11,IF($C$7,8,0),1,1)","v":0},{"$f":"OFFSET(InputPriceData!C$15,CalculationsAndCharts!$A878+$A$11,IF($C$7,8,0),1,1)","v":0},{"$f":"OFFSET(InputPriceData!D$15,CalculationsAndCharts!$A878+$A$11,IF($C$7,8,0),1,1)","v":0},{"$f":"OFFSET(InputPriceData!E$15,CalculationsAndCharts!$A878+$A$11,IF($C$7,8,0),1,1)","v":0},{"$f":"OFFSET(InputPriceData!F$15,CalculationsAndCharts!$A878+$A$11,IF($C$7,8,0),1,1)","v":0},0,0,0,0,0,0,{"$error":"#N/A"},false,0,false,{"$error":"#N/A"},{"$error":"#N/A"},true,false,false,false,false,false,{"$error":"#N/A"},false,{"$error":"#N/A"},false,false,false,false,false,false,{"$error":"#N/A"},0,0,0,0,0,null,{"$f":"OFFSET(InputIndexData!F$15,CalculationsAndCharts!$A878+$A$11,IF($C$7,8,0),1,1)","v":0},0,1,1,true,null,212,{"$error":"#N/A"}]
[851,{"$f":"OFFSET(InputPriceData!B$15,CalculationsAndCharts!$A883+$A$11,0,1,1)","v":"00:00:00"},{"$f":"OFFSET(InputPriceData!G$15,CalculationsAndCharts!$A883+$A$11,IF($C$7,8,0),1,1)","v":0},{"$f":"OFFSET(InputPriceData!C$15,CalculationsAndCharts!$A883+$A$11,IF($C$7,8,0),1,1)","v":0},{"$f":"OFFSET(InputPriceData!D$15,CalculationsAndCharts!$A883+$A$11,IF($C$7,8,0),1,1)","v":0},{"$f":"OFFSET(InputPriceData!E$15,CalculationsAndCharts!$A883+$A$11,IF($C$7,8,0),1,1)","v":0},{"$f":"OFFSET(InputPriceData!F$15,CalculationsAndCharts!$A883+$A$11,IF($C$7,8,0),1,1)","v":0},0,0,0,0,0,0,{"$error":"#N/A"},false,0,false,{"$error":"#N/A"},{"$error":"#N/A"},true,false,false,false,false,{"$f":"X884","v":false},{"$error":"#N/A"},false,{"$error":"#N/A"},false,false,false,false,false,false,{"$error":"#N/A"},0,0,0,0,0,null,{"$f":"OFFSET(InputIndexData!F$15,CalculationsAndCharts!$A883+$A$11,IF($C$7,8,0),1,1)","v":0},0,1,1,true,null,212,{"$error":"#N/A"}]
[856,{"$f":"OFFSET(InputPriceData!B$15,CalculationsAndCharts!$A888+$A$11,0,1,1)","v":"00:00:00"},{"$f":"OFFSET(InputPriceData!G$15,CalculationsAndCharts!$A888+$A$11,IF($C$7,8,0),1,1)","v":0},{"$f":"OFFSET(InputPriceData!C$15,CalculationsAndCharts!$A888+$A$11,IF($C$7,8,0),1,1)","v":0},{"$f":"OFFSET(InputPriceData!D$15,CalculationsAndCharts!$A888+$A$11,IF($C$7,8,0),1,1)","v":0},{"$f":"OFFSET(InputPriceData!E$15,CalculationsAndCharts!$A888+$A$11,IF($C$7,8,0),1,1)","v":0},{"$f":"OFFSET(InputPriceData!F$15,CalculationsAndCharts!$A888+$A$11,IF($C$7,8,0),1,1)","v":0},0,0,0,0,0,0,{"$error":"#N/A"},false,0,false,{"$error":"#N/A"},{"$error":"#N/A"},true,false,false,false,false,false,{"$error":"#N/A"},false,{"$error":"#N/A"},false,false,false,false,false,false,{"$error":"#N/A"},0,0,0,0,0,null,{"$f":"OFFSET(InputIndexData!F$15,CalculationsAndCharts!$A888+$A$11,IF($C$7,8,0),1,1)","v":0},0,1,1,true,null,212,{"$error":"#N/A"}]
[861,{"$f":"OFFSET(InputPriceData!B$15,CalculationsAndCharts!$A893+$A$11,0,1,1)","v":"00:00:00"},{"$f":"OFFSET(InputPriceData!G$15,CalculationsAndCharts!$A893+$A$11,IF($C$7,8,0),1,1)","v":0},{"$f":"OFFSET(InputPriceData!C$15,CalculationsAndCharts!$A893+$A$11,IF($C$7,8,0),1,1)","v":0},{"$f":"OFFSET(InputPriceData!D$15,CalculationsAndCharts!$A893+$A$11,IF($C$7,8,0),1,1)","v":0},{"$f":"OFFSET(InputPriceData!E$15,CalculationsAndCharts!$A893+$A$11,IF($C$7,8,0),1,1)","v":0},{"$f":"OFFSET(InputPriceData!F$15,CalculationsAndCharts!$A893+$A$11,IF($C$7,8,0),1,1)","v":0},0,0,0,0,0,0,{"$error":"#N/A"},false,0,false,{"$error":"#N/A"},{"$error":"#N/A"},true,false,false,false,false,false,{"$error":"#N/A"},false,{"$error":"#N/A"},false,false,false,false,false,false,{"$error":"#N/A"},0,0,0,0,0,null,{"$f":"OFFSET(InputIndexData!F$15,CalculationsAndCharts!$A893+$A$11,IF($C$7,8,0),1,1)","v":0},0,1,1,true,null,212,{"$error":"#N/A"}]
[863,{"$f":"OFFSET(InputPriceData!B$15,CalculationsAndCharts!$A895+$A$11,0,1,1)","v":"00:00:00"},{"$f":"OFFSET(InputPriceData!G$15,CalculationsAndCharts!$A895+$A$11,IF($C$7,8,0),1,1)","v":0},{"$f":"OFFSET(InputPriceData!C$15,CalculationsAndCharts!$A895+$A$11,IF($C$7,8,0),1,1)","v":0},{"$f":"OFFSET(InputPriceData!D$15,CalculationsAndCharts!$A895+$A$11,IF($C$7,8,0),1,1)","v":0},{"$f":"OFFSET(InputPriceData!E$15,CalculationsAndCharts!$A895+$A$11,IF($C$7,8,0),1,1)","v":0},{"$f":"OFFSET(InputPriceData!F$15,CalculationsAndCharts!$A895+$A$11,IF($C$7,8,0),1,1)","v":0},0,0,0,0,0,0,{"$error":"#N/A"},false,0,false,{"$error":"#N/A"},{"$error":"#N/A"},true,false,false,false,false,false,{"$error":"#N/A"},false,{"$error":"#N/A"},false,false,false,false,false,false,{"$error":"#N/A"},0,0,0,0,0,null,{"$f":"OFFSET(InputIndexData!F$15,CalculationsAndCharts!$A895+$A$11,IF($C$7,8,0),1,1)","v":0},0,1,1,true,null,212,{"$error":"#N/A"}]
[866,{"$f":"OFFSET(InputPriceData!B$15,CalculationsAndCharts!$A898+$A$11,0,1,1)","v":"00:00:00"},{"$f":"OFFSET(InputPriceData!G$15,CalculationsAndCharts!$A898+$A$11,IF($C$7,8,0),1,1)","v":0},{"$f":"OFFSET(InputPriceData!C$15,CalculationsAndCharts!$A898+$A$11,IF($C$7,8,0),1,1)","v":0},{"$f":"OFFSET(InputPriceData!D$15,CalculationsAndCharts!$A898+$A$11,IF($C$7,8,0),1,1)","v":0},{"$f":"OFFSET(InputPriceData!E$15,CalculationsAndCharts!$A898+$A$11,IF($C$7,8,0),1,1)","v":0},{"$f":"OFFSET(InputPriceData!F$15,CalculationsAndCharts!$A898+$A$11,IF($C$7,8,0),1,1)","v":0},0,0,0,0,0,0,{"$error":"#N/A"},false,0,false,{"$error":"#N/A"},{"$error":"#N/A"},true,false,false,false,false,false,{"$error":"#N/A"},false,{"$error":"#N/A"},false,false,false,false,false,false,{"$error":"#N/A"},0,0,0,0,0,null,{"$f":"OFFSET(InputIndexData!F$15,CalculationsAndCharts!$A898+$A$11,IF($C$7,8,0),1,1)","v":0},0,1,1,true,null,212,{"$error":"#N/A"}]
[871,{"$f":"OFFSET(InputPriceData!B$15,CalculationsAndCharts!$A903+$A$11,0,1,1)","v":"00:00:00"},{"$f":"OFFSET(InputPriceData!G$15,CalculationsAndCharts!$A903+$A$11,IF($C$7,8,0),1,1)","v":0},{"$f":"OFFSET(InputPriceData!C$15,CalculationsAndCharts!$A903+$A$11,IF($C$7,8,0),1,1)","v":0},{"$f":"OFFSET(InputPriceData!D$15,CalculationsAndCharts!$A903+$A$11,IF($C$7,8,0),1,1)","v":0},{"$f":"OFFSET(InputPriceData!E$15,CalculationsAndCharts!$A903+$A$11,IF($C$7,8,0),1,1)","v":0},{"$f":"OFFSET(InputPriceData!F$15,CalculationsAndCharts!$A903+$A$11,IF($C$7,8,0),1,1)","v":0},0,0,0,0,0,0,{"$error":"#N/A"},false,0,false,{"$error":"#N/A"},{"$error":"#N/A"},true,false,false,false,false,false,{"$error":"#N/A"},false,{"$error":"#N/A"},false,false,false,false,false,false,{"$error":"#N/A"},0,0,0,0,0,null,{"$f":"OFFSET(InputIndexData!F$15,CalculationsAndCharts!$A903+$A$11,IF($C$7,8,0),1,1)","v":0},0,1,1,true,null,212,{"$error":"#N/A"}]
[876,{"$f":"OFFSET(InputPriceData!B$15,CalculationsAndCharts!$A908+$A$11,0,1,1)","v":"00:00:00"},{"$f":"OFFSET(InputPriceData!G$15,CalculationsAndCharts!$A908+$A$11,IF($C$7,8,0),1,1)","v":0},{"$f":"OFFSET(InputPriceData!C$15,CalculationsAndCharts!$A908+$A$11,IF($C$7,8,0),1,1)","v":0},{"$f":"OFFSET(InputPriceData!D$15,CalculationsAndCharts!$A908+$A$11,IF($C$7,8,0),1,1)","v":0},{"$f":"OFFSET(InputPriceData!E$15,CalculationsAndCharts!$A908+$A$11,IF($C$7,8,0),1,1)","v":0},{"$f":"OFFSET(InputPriceData!F$15,CalculationsAndCharts!$A908+$A$11,IF($C$7,8,0),1,1)","v":0},0,0,0,0,0,0,{"$error":"#N/A"},false,0,false,{"$error":"#N/A"},{"$error":"#N/A"},true,false,false,false,false,false,{"$error":"#N/A"},false,{"$error":"#N/A"},false,false,false,false,false,false,{"$error":"#N/A"},0,0,0,0,0,null,{"$f":"OFFSET(InputIndexData!F$15,CalculationsAndCharts!$A908+$A$11,IF($C$7,8,0),1,1)","v":0},0,1,1,true,null,212,{"$error":"#N/A"}]
[877,{"$f":"OFFSET(InputPriceData!B$15,CalculationsAndCharts!$A909+$A$11,0,1,1)","v":"00:00:00"},{"$f":"OFFSET(InputPriceData!G$15,CalculationsAndCharts!$A909+$A$11,IF($C$7,8,0),1,1)","v":0},{"$f":"OFFSET(InputPriceData!C$15,CalculationsAndCharts!$A909+$A$11,IF($C$7,8,0),1,1)","v":0},{"$f":"OFFSET(InputPriceData!D$15,CalculationsAndCharts!$A909+$A$11,IF($C$7,8,0),1,1)","v":0},{"$f":"OFFSET(InputPriceData!E$15,CalculationsAndCharts!$A909+$A$11,IF($C$7,8,0),1,1)","v":0},{"$f":"OFFSET(InputPriceData!F$15,CalculationsAndCharts!$A909+$A$11,IF($C$7,8,0),1,1)","v":0},0,0,0,0,0,0,{"$error":"#N/A"},false,0,false,{"$error":"#N/A"},{"$error":"#N/A"},true,false,false,false,false,false,{"$error":"#N/A"},false,{"$error":"#N/A"},false,false,false,false,false,false,{"$error":"#N/A"},0,0,0,0,0,null,{"$f":"OFFSET(InputIndexData!F$15,CalculationsAndCharts!$A909+$A$11,IF($C$7,8,0),1,1)","v":0},0,1,1,true,null,212,{"$error":"#N/A"}]
[881,{"$f":"OFFSET(InputPriceData!B$15,CalculationsAndCharts!$A913+$A$11,0,1,1)","v":"00:00:00"},{"$f":"OFFSET(InputPriceData!G$15,CalculationsAndCharts!$A913+$A$11,IF($C$7,8,0),1,1)","v":0},{"$f":"OFFSET(InputPriceData!C$15,CalculationsAndCharts!$A913+$A$11,IF($C$7,8,0),1,1)","v":0},{"$f":"OFFSET(InputPriceData!D$15,CalculationsAndCharts!$A913+$A$11,IF($C$7,8,0),1,1)","v":0},{"$f":"OFFSET(InputPriceData!E$15,CalculationsAndCharts!$A913+$A$11,IF($C$7,8,0),1,1)","v":0},{"$f":"OFFSET(InputPriceData!F$15,CalculationsAndCharts!$A913+$A$11,IF($C$7,8,0),1,1)","v":0},0,0,0,0,0,0,{"$error":"#N/A"},false,0,false,{"$error":"#N/A"},{"$error":"#N/A"},true,false,false,false,false,false,{"$error":"#N/A"},false,{"$error":"#N/A"},false,false,false,false,false,false,{"$error":"#N/A"},0,0,0,0,0,null,{"$f":"OFFSET(InputIndexData!F$15,CalculationsAndCharts!$A913+$A$11,IF($C$7,8,0),1,1)","v":0},0,1,1,true,null,212,{"$error":"#N/A"}]
[886,{"$f":"OFFSET(InputPriceData!B$15,CalculationsAndCharts!$A918+$A$11,0,1,1)","v":"00:00:00"},{"$f":"OFFSET(InputPriceData!G$15,CalculationsAndCharts!$A918+$A$11,IF($C$7,8,0),1,1)","v":0},{"$f":"OFFSET(InputPriceData!C$15,CalculationsAndCharts!$A918+$A$11,IF($C$7,8,0),1,1)","v":0},{"$f":"OFFSET(InputPriceData!D$15,CalculationsAndCharts!$A918+$A$11,IF($C$7,8,0),1,1)","v":0},{"$f":"OFFSET(InputPriceData!E$15,CalculationsAndCharts!$A918+$A$11,IF($C$7,8,0),1,1)","v":0},{"$f":"OFFSET(InputPriceData!F$15,CalculationsAndCharts!$A918+$A$11,IF($C$7,8,0),1,1)","v":0},0,0,0,0,0,0,{"$error":"#N/A"},false,0,false,{"$error":"#N/A"},{"$error":"#N/A"},true,false,false,false,false,false,{"$error":"#N/A"},false,{"$error":"#N/A"},false,false,false,false,false,false,{"$error":"#N/A"},0,0,0,0,0,null,{"$f":"OFFSET(InputIndexData!F$15,CalculationsAndCharts!$A918+$A$11,IF($C$7,8,0),1,1)","v":0},0,1,1,true,null,212,{"$error":"#N/A"}]
[891,{"$f":"OFFSET(InputPriceData!B$15,CalculationsAndCharts!$A923+$A$11,0,1,1)","v":"00:00:00"},{"$f":"OFFSET(InputPriceData!G$15,CalculationsAndCharts!$A923+$A$11,IF($C$7,8,0),1,1)","v":0},{"$f":"OFFSET(InputPriceData!C$15,CalculationsAndCharts!$A923+$A$11,IF($C$7,8,0),1,1)","v":0},{"$f":"OFFSET(InputPriceData!D$15,CalculationsAndCharts!$A923+$A$11,IF($C$7,8,0),1,1)","v":0},{"$f":"OFFSET(InputPriceData!E$15,CalculationsAndCharts!$A923+$A$11,IF($C$7,8,0),1,1)","v":0},{"$f":"OFFSET(InputPriceData!F$15,CalculationsAndCharts!$A923+$A$11,IF($C$7,8,0),1,1)","v":0},0,0,0,0,0,0,{"$error":"#N/A"},false,0,false,{"$error":"#N/A"},{"$error":"#N/A"},true,false,false,false,false,false,{"$error":"#N/A"},false,{"$error":"#N/A"},false,false,false,false,false,false,{"$error":"#N/A"},0,0,0,0,0,null,{"$f":"OFFSET(InputIndexData!F$15,CalculationsAndCharts!$A923+$A$11,IF($C$7,8,0),1,1)","v":0},0,1,1,true,null,212,{"$error":"#N/A"}]
[892,{"$f":"OFFSET(InputPriceData!B$15,CalculationsAndCharts!$A924+$A$11,0,1,1)","v":"00:00:00"},{"$f":"OFFSET(InputPriceData!G$15,CalculationsAndCharts!$A924+$A$11,IF($C$7,8,0),1,1)","v":0},{"$f":"OFFSET(InputPriceData!C$15,CalculationsAndCharts!$A924+$A$11,IF($C$7,8,0),1,1)","v":0},{"$f":"OFFSET(InputPriceData!D$15,CalculationsAndCharts!$A924+$A$11,IF($C$7,8,0),1,1)","v":0},{"$f":"OFFSET(InputPriceData!E$15,CalculationsAndCharts!$A924+$A$11,IF($C$7,8,0),1,1)","v":0},{"$f":"OFFSET(InputPriceData!F$15,CalculationsAndCharts!$A924+$A$11,IF($C$7,8,0),1,1)","v":0},0,0,0,0,0,0,{"$error":"#N/A"},false,0,false,{"$error":"#N/A"},{"$error":"#N/A"},true,false,false,false,false,false,{"$error":"#N/A"},false,{"$error":"#N/A"},false,false,false,false,false,false,{"$error":"#N/A"},0,0,0,0,0,null,{"$f":"OFFSET(InputIndexData!F$15,CalculationsAndCharts!$A924+$A$11,IF($C$7,8,0),1,1)","v":0},0,1,1,true,null,212,{"$error":"#N/A"}]
[897,{"$f":"OFFSET(InputPriceData!B$15,CalculationsAndCharts!$A929+$A$11,0,1,1)","v":"00:00:00"},{"$f":"OFFSET(InputPriceData!G$15,CalculationsAndCharts!$A929+$A$11,IF($C$7,8,0),1,1)","v":0},{"$f":"OFFSET(InputPriceData!C$15,CalculationsAndCharts!$A929+$A$11,IF($C$7,8,0),1,1)","v":0},{"$f":"OFFSET(InputPriceData!D$15,CalculationsAndCharts!$A929+$A$11,IF($C$7,8,0),1,1)","v":0},{"$f":"OFFSET(InputPriceData!E$15,CalculationsAndCharts!$A929+$A$11,IF($C$7,8,0),1,1)","v":0},{"$f":"OFFSET(InputPriceData!F$15,CalculationsAndCharts!$A929+$A$11,IF($C$7,8,0),1,1)","v":0},{"$f":"AVERAGE(OFFSET(G929,0,0,$A$17,1))","v":0},{"$f":"AVERAGE(OFFSET(G929,0,0,$A$18,1))","v":0},{"$f":"AVERAGE(OFFSET(G929,0,0,$A$19,1))","v":0},{"$f":"AVERAGE(OFFSET(E929,0,0,$A$20,1))","v":0},{"$f":"AVERAGE(OFFSET(F929,0,0,$A$21,1))","v":0},0,{"$error":"#N/A"},{"$f":"AND(G930<=K930,G929>K929,OR(P930=\"DOWN\",P930=0))","v":false},{"$f":"IF(AND(OR(P930=0,P930=\"UP\"),Q929),\"DOWN\",IF(AND(OR(P930=0,P930=\"DOWN\"),O929),\"UP\",P930))","v":0},{"$f":"AND(G930>=L930,G929<L929,OR(P930=0,P930=\"UP\"))","v":false},{"$error":"#N/A"},{"$error":"#N/A"},true,{"$f":"AND(T929,O929)","v":false},false,false,{"$f":"AND(W929,Q929)","v":false},false,{"$f":"IF(AND(NOT(AA929),OR(W929,Y929)),$F$11,NA())","v":{"$error":"#N/A"}},false,{"$error":"#N/A"},false,{"$f":"AND(AC929,Q929)","v":false},{"$f":"AD930","v":false},false,false,{"$f":"AG930","v":false},{"$f":"IF(AND(NOT(AA929),OR(AF929,AH929)),$F$11,NA())","v":{"$error":"#N/A"}},0,0,0,0,0,null,{"$f":"OFFSET(InputIndexData!F$15,CalculationsAndCharts!$A929+$A$11,IF($C$7,8,0),1,1)","v":0},0,1,1,true,null,{"$f":"IF(AT929,$AR$26,NA())","v":212},{"$f":"IF(AT929,NA(),$AR$26)","v":{"$error":"#N/A"}}]
[902,{"$f":"OFFSET(InputPriceData!B$15,CalculationsAndCharts!$A934+$A$11,0,1,1)","v":"00:00:00"},{"$f":"OFFSET(InputPriceData!G$15,CalculationsAndCharts!$A934+$A$11,IF($C$7,8,0),1,1)","v":0},{"$f":"OFFSET(InputPriceData!C$15,CalculationsAndCharts!$A934+$A$11,IF($C$7,8,0),1,1)","v":0},{"$f":"OFFSET(InputPriceData!D$15,CalculationsAndCharts!$A934+$A$11,IF($C$7,8,0),1,1)","v":0},{"$f":"OFFSET(InputPriceData!E$15,CalculationsAndCharts!$A934+$A$11,IF($C$7,8,0),1,1)","v":0},{"$f":"OFFSET(InputPriceData!F$15,CalculationsAndCharts!$A934+$A$11,IF($C$7,8,0),1,1)","v":0},0,0,0,0,0,0,{"$error":"#N/A"},false,0,false,{"$error":"#N/A"},{"$error":"#N/A"},true,false,false,false,false,false,{"$error":"#N/A"},false,{"$error":"#N/A"},false,false,false,false,false,false,{"$error":"#N/A"},0,0,0,0,0,null,{"$f":"OFFSET(InputIndexData!F$15,CalculationsAndCharts!$A934+$A$11,IF($C$7,8,0),1,1)","v":0},0,1,1,true,null,212,{"$error":"#N/A"}]
[906,{"$f":"OFFSET(InputPriceData!B$15,CalculationsAndCharts!$A938+$A$11,0,1,1)","v":"00:00:00"},{"$f":"OFFSET(InputPriceData!G$15,CalculationsAndCharts!$A938+$A$11,IF($C$7,8,0),1,1)","v":0},{"$f":"OFFSET(InputPriceData!C$15,CalculationsAndCharts!$A938+$A$11,IF($C$7,8,0),1,1)","v":0},{"$f":"OFFSET(InputPriceData!D$15,CalculationsAndCharts!$A938+$A$11,IF($C$7,8,0),1,1)","v":0},{"$f":"OFFSET(InputPriceData!E$15,CalculationsAndCharts!$A938+$A$11,IF($C$7,8,0),1,1)","v":0},{"$f":"OFFSET(InputPriceData!F$15,CalculationsAndCharts!$A938+$A$11,IF($C$7,8,0),1,1)","v":0},0,0,0,0,0,0,{"$error":"#N/A"},false,0,false,{"$error":"#N/A"},{"$error":"#N/A"},true,false,false,false,false,false,{"$error":"#N/A"},false,{"$error":"#N/A"},false,false,false,false,false,false,{"$error":"#N/A"},0,0,0,0,0,null,{"$f":"OFFSET(InputIndexData!F$15,CalculationsAndCharts!$A938+$A$11,IF($C$7,8,0),1,1)","v":0},0,1,1,true,null,212,{"$error":"#N/A"}]
[907,{"$f":"OFFSET(InputPriceData!B$15,CalculationsAndCharts!$A939+$A$11,0,1,1)","v":"00:00:00"},{"$f":"OFFSET(InputPriceData!G$15,CalculationsAndCharts!$A939+$A$11,IF($C$7,8,0),1,1)","v":0},{"$f":"OFFSET(InputPriceData!C$15,CalculationsAndCharts!$A939+$A$11,IF($C$7,8,0),1,1)","v":0},{"$f":"OFFSET(InputPriceData!D$15,CalculationsAndCharts!$A939+$A$11,IF($C$7,8,0),1,1)","v":0},{"$f":"OFFSET(InputPriceData!E$15,CalculationsAndCharts!$A939+$A$11,IF($C$7,8,0),1,1)","v":0},{"$f":"OFFSET(InputPriceData!F$15,CalculationsAndCharts!$A939+$A$11,IF($C$7,8,0),1,1)","v":0},0,0,0,0,0,0,{"$error":"#N/A"},false,0,false,{"$error":"#N/A"},{"$error":"#N/A"},true,false,false,false,false,false,{"$error":"#N/A"},false,{"$error":"#N/A"},false,false,false,false,false,false,{"$error":"#N/A"},0,0,0,0,0,null,{"$f":"OFFSET(InputIndexData!F$15,CalculationsAndCharts!$A939+$A$11,IF($C$7,8,0),1,1)","v":0},0,1,1,true,null,212,{"$error":"#N/A"}]
[912,{"$f":"OFFSET(InputPriceData!B$15,CalculationsAndCharts!$A944+$A$11,0,1,1)","v":"00:00:00"},{"$f":"OFFSET(InputPriceData!G$15,CalculationsAndCharts!$A944+$A$11,IF($C$7,8,0),1,1)","v":0},{"$f":"OFFSET(InputPriceData!C$15,CalculationsAndCharts!$A944+$A$11,IF($C$7,8,0),1,1)","v":0},{"$f":"OFFSET(InputPriceData!D$15,CalculationsAndCharts!$A944+$A$11,IF($C$7,8,0),1,1)","v":0},{"$f":"OFFSET(InputPriceData!E$15,CalculationsAndCharts!$A944+$A$11,IF($C$7,8,0),1,1)","v":0},{"$f":"OFFSET(InputPriceData!F$15,CalculationsAndCharts!$A944+$A$11,IF($C$7,8,0),1,1)","v":0},0,0,0,0,0,0,{"$error":"#N/A"},false,0,false,{"$error":"#N/A"},{"$error":"#N/A"},true,false,false,false,false,false,{"$error":"#N/A"},{"$f":"AND(OR(W944,Y944),OR(AF944,AH944))","v":false},{"$error":"#N/A"},false,false,false,false,false,false,{"$error":"#N/A"},0,0,0,0,0,null,{"$f":"OFFSET(InputIndexData!F$15,CalculationsAndCharts!$A944+$A$11,IF($C$7,8,0),1,1)","v":0},0,1,1,true,null,212,{"$error":"#N/A"}]
[917,{"$f":"OFFSET(InputPriceData!B$15,CalculationsAndCharts!$A949+$A$11,0,1,1)","v":"00:00:00"},{"$f":"OFFSET(InputPriceData!G$15,CalculationsAndCharts!$A949+$A$11,IF($C$7,8,0),1,1)","v":0},{"$f":"OFFSET(InputPriceData!C$15,CalculationsAndCharts!$A949+$A$11,IF($C$7,8,0),1,1)","v":0},{"$f":"OFFSET(InputPriceData!D$15,CalculationsAndCharts!$A949+$A$11,IF($C$7,8,0),1,1)","v":0},{"$f":"OFFSET(InputPriceData!E$15,CalculationsAndCharts!$A949+$A$11,IF($C$7,8,0),1,1)","v":0},{"$f":"OFFSET(InputPriceData!F$15,CalculationsAndCharts!$A949+$A$11,IF($C$7,8,0),1,1)","v":0},0,0,0,0,0,0,{"$error":"#N/A"},false,0,false,{"$error":"#N/A"},{"$error":"#N/A"},true,false,false,false,false,false,{"$error":"#N/A"},false,{"$error":"#N/A"},false,false,false,false,false,false,{"$error":"#N/A"},0,0,0,0,0,null,{"$f":"OFFSET(InputIndexData!F$15,CalculationsAndCharts!$A949+$A$11,IF($C$7,8,0),1,1)","v":0},0,1,1,true,null,212,{"$error":"#N/A"}]
[922,{"$f":"OFFSET(InputPriceData!B$15,CalculationsAndCharts!$A954+$A$11,0,1,1)","v":"00:00:00"},{"$f":"OFFSET(InputPriceData!G$15,CalculationsAndCharts!$A954+$A$11,IF($C$7,8,0),1,1)","v":0},{"$f":"OFFSET(InputPriceData!C$15,CalculationsAndCharts!$A954+$A$11,IF($C$7,8,0),1,1)","v":0},{"$f":"OFFSET(InputPriceData!D$15,CalculationsAndCharts!$A954+$A$11,IF($C$7,8,0),1,1)","v":0},{"$f":"OFFSET(InputPriceData!E$15,CalculationsAndCharts!$A954+$A$11,IF($C$7,8,0),1,1)","v":0},{"$f":"OFFSET(InputPriceData!F$15,CalculationsAndCharts!$A954+$A$11,IF($C$7,8,0),1,1)","v":0},0,0,0,0,0,0,{"$error":"#N/A"},false,0,false,{"$error":"#N/A"},{"$error":"#N/A"},true,false,false,false,false,false,{"$error":"#N/A"},false,{"$error":"#N/A"},{"$f":"AND(   OR(NOT($R$11),NOT(AT954)),   OR(NOT($R$12),J954<=I954),   OR(NOT($R$13),I954<=H954),   OR(NOT($R$14),G954<=I954)   )","v":false},false,false,false,false,false,{"$error":"#N/A"},0,0,0,0,0,null,{"$f":"OFFSET(InputIndexData!F$15,CalculationsAndCharts!$A954+$A$11,IF($C$7,8,0),1,1)","v":0},0,1,1,true,null,212,{"$error":"#N/A"}]
[924,{"$f":"OFFSET(InputPriceData!B$15,CalculationsAndCharts!$A956+$A$11,0,1,1)","v":"00:00:00"},{"$f":"OFFSET(InputPriceData!G$15,CalculationsAndCharts!$A956+$A$11,IF($C$7,8,0),1,1)","v":0},{"$f":"OFFSET(InputPriceData!C$15,CalculationsAndCharts!$A956+$A$11,IF($C$7,8,0),1,1)","v":0},{"$f":"OFFSET(InputPriceData!D$15,CalculationsAndCharts!$A956+$A$11,IF($C$7,8,0),1,1)","v":0},{"$f":"OFFSET(InputPriceData!E$15,CalculationsAndCharts!$A956+$A$11,IF($C$7,8,0),1,1)","v":0},{"$f":"OFFSET(InputPriceData!F$15,CalculationsAndCharts!$A956+$A$11,IF($C$7,8,0),1,1)","v":0},0,0,0,0,0,0,{"$error":"#N/A"},false,0,false,{"$error":"#N/A"},{"$error":"#N/A"},true,false,false,false,false,false,{"$error":"#N/A"},false,{"$error":"#N/A"},false,false,false,false,false,false,{"$error":"#N/A"},0,0,0,0,0,null,{"$f":"OFFSET(InputIndexData!F$15,CalculationsAndCharts!$A956+$A$11,IF($C$7,8,0),1,1)","v":0},0,1,1,true,null,212,{"$error":"#N/A"}]
[927,{"$f":"OFFSET(InputPriceData!B$15,CalculationsAndCharts!$A959+$A$11,0,1,1)","v":"00:00:00"},{"$f":"OFFSET(InputPriceData!G$15,CalculationsAndCharts!$A959+$A$11,IF($C$7,8,0),1,1)","v":0},{"$f":"OFFSET(InputPriceData!C$15,CalculationsAndCharts!$A959+$A$11,IF($C$7,8,0),1,1)","v":0},{"$f":"OFFSET(InputPriceData!D$15,CalculationsAndCharts!$A959+$A$11,IF($C$7,8,0),1,1)","v":0},{"$f":"OFFSET(InputPriceData!E$15,CalculationsAndCharts!$A959+$A$11,IF($C$7,8,0),1,1)","v":0},{"$f":"OFFSET(InputPriceData!F$15,CalculationsAndCharts!$A959+$A$11,IF($C$7,8,0),1,1)","v":0},0,0,0,0,0,0,{"$error":"#N/A"},false,0,false,{"$error":"#N/A"},{"$error":"#N/A"},true,false,false,false,false,false,{"$error":"#N/A"},false,{"$error":"#N/A"},false,false,false,false,false,false,{"$error":"#N/A"},0,0,0,0,0,null,{"$f":"OFFSET(InputIndexData!F$15,CalculationsAndCharts!$A959+$A$11,IF($C$7,8,0),1,1)","v":0},0,1,1,true,null,212,{"$error":"#N/A"}]
[932,{"$f":"OFFSET(InputPriceData!B$15,CalculationsAndCharts!$A964+$A$11,0,1,1)","v":"00:00:00"},{"$f":"OFFSET(InputPriceData!G$15,CalculationsAndCharts!$A964+$A$11,IF($C$7,8,0),1,1)","v":0},{"$f":"OFFSET(InputPriceData!C$15,CalculationsAndCharts!$A964+$A$11,IF($C$7,8,0),1,1)","v":0},{"$f":"OFFSET(InputPriceData!D$15,CalculationsAndCharts!$A964+$A$11,IF($C$7,8,0),1,1)","v":0},{"$f":"OFFSET(InputPriceData!E$15,CalculationsAndCharts!$A964+$A$11,IF($C$7,8,0),1,1)","v":0},{"$f":"OFFSET(InputPriceData!F$15,CalculationsAndCharts!$A964+$A$11,IF($C$7,8,0),1,1)","v":0},0,0,0,0,0,0,{"$error":"#N/A"},false,0,false,{"$error":"#N/A"},{"$error":"#N/A"},true,false,false,false,false,false,{"$error":"#N/A"},false,{"$error":"#N/A"},false,false,false,false,false,false,{"$error":"#N/A"},0,0,0,0,0,null,{"$f":"OFFSET(InputIndexData!F$15,CalculationsAndCharts!$A964+$A$11,IF($C$7,8,0),1,1)","v":0},0,1,1,true,null,212,{"$error":"#N/A"}]
[937,{"$f":"OFFSET(InputPriceData!B$15,CalculationsAndCharts!$A969+$A$11,0,1,1)","v":"00:00:00"},{"$f":"OFFSET(InputPriceData!G$15,CalculationsAndCharts!$A969+$A$11,IF($C$7,8,0),1,1)","v":0},{"$f":"OFFSET(InputPriceData!C$15,CalculationsAndCharts!$A969+$A$11,IF($C$7,8,0),1,1)","v":0},{"$f":"OFFSET(InputPriceData!D$15,CalculationsAndCharts!$A969+$A$11,IF($C$7,8,0),1,1)","v":0},{"$f":"OFFSET(InputPriceData!E$15,CalculationsAndCharts!$A969+$A$11,IF($C$7,8,0),1,1)","v":0},{"$f":"OFFSET(InputPriceData!F$15,CalculationsAndCharts!$A969+$A$11,IF($C$7,8,0),1,1)","v":0},0,0,0,0,0,0,{"$error":"#N/A"},false,0,false,{"$error":"#N/A"},{"$error":"#N/A"},true,false,false,false,false,false,{"$error":"#N/A"},false,{"$error":"#N/A"},false,false,false,false,false,false,{"$error":"#N/A"},0,0,0,0,0,null,{"$f":"OFFSET(InputIndexData!F$15,CalculationsAndCharts!$A969+$A$11,IF($C$7,8,0),1,1)","v":0},0,1,1,true,null,212,{"$error":"#N/A"}]
[938,{"$f":"OFFSET(InputPriceData!B$15,CalculationsAndCharts!$A970+$A$11,0,1,1)","v":"00:00:00"},{"$f":"OFFSET(InputPriceData!G$15,CalculationsAndCharts!$A970+$A$11,IF($C$7,8,0),1,1)","v":0},{"$f":"OFFSET(InputPriceData!C$15,CalculationsAndCharts!$A970+$A$11,IF($C$7,8,0),1,1)","v":0},{"$f":"OFFSET(InputPriceData!D$15,CalculationsAndCharts!$A970+$A$11,IF($C$7,8,0),1,1)","v":0},{"$f":"OFFSET(InputPriceData!E$15,CalculationsAndCharts!$A970+$A$11,IF($C$7,8,0),1,1)","v":0},{"$f":"OFFSET(InputPriceData!F$15,CalculationsAndCharts!$A970+$A$11,IF($C$7,8,0),1,1)","v":0},0,0,0,0,0,0,{"$error":"#N/A"},false,0,false,{"$error":"#N/A"},{"$error":"#N/A"},true,false,false,false,false,false,{"$error":"#N/A"},false,{"$error":"#N/A"},false,false,false,false,false,false,{"$error":"#N/A"},0,0,0,0,0,null,{"$f":"OFFSET(InputIndexData!F$15,CalculationsAndCharts!$A970+$A$11,IF($C$7,8,0),1,1)","v":0},0,1,1,true,null,212,{"$error":"#N/A"}]
[943,{"$f":"OFFSET(InputPriceData!B$15,CalculationsAndCharts!$A975+$A$11,0,1,1)","v":"00:00:00"},{"$f":"OFFSET(InputPriceData!G$15,CalculationsAndCharts!$A975+$A$11,IF($C$7,8,0),1,1)","v":0},{"$f":"OFFSET(InputPriceData!C$15,CalculationsAndCharts!$A975+$A$11,IF($C$7,8,0),1,1)","v":0},{"$f":"OFFSET(InputPriceData!D$15,CalculationsAndCharts!$A975+$A$11,IF($C$7,8,0),1,1)","v":0},{"$f":"OFFSET(InputPriceData!E$15,CalculationsAndCharts!$A975+$A$11,IF($C$7,8,0),1,1)","v":0},{"$f":"OFFSET(InputPriceData!F$15,CalculationsAndCharts!$A975+$A$11,IF($C$7,8,0),1,1)","v":0},0,0,0,0,0,0,{"$error":"#N/A"},false,0,false,{"$error":"#N/A"},{"$error":"#N/A"},true,false,false,false,false,false,{"$error":"#N/A"},false,{"$error":"#N/A"},false,false,false,false,false,false,{"$error":"#N/A"},0,0,0,0,0,null,{"$f":"OFFSET(InputIndexData!F$15,CalculationsAndCharts!$A975+$A$11,IF($C$7,8,0),1,1)","v":0},0,1,1,true,null,212,{"$error":"#N/A"}]
[946,{"$f":"OFFSET(InputPriceData!B$15,CalculationsAndCharts!$A978+$A$11,0,1,1)","v":"00:00:00"},{"$f":"OFFSET(InputPriceData!G$15,CalculationsAndCharts!$A978+$A$11,IF($C$7,8,0),1,1)","v":0},{"$f":"OFFSET(InputPriceData!C$15,CalculationsAndCharts!$A978+$A$11,IF($C$7,8,0),1,1)","v":0},{"$f":"OFFSET(InputPriceData!D$15,CalculationsAndCharts!$A978+$A$11,IF($C$7,8,0),1,1)","v":0},{"$f":"OFFSET(InputPriceData!E$15,CalculationsAndCharts!$A978+$A$11,IF($C$7,8,0),1,1)","v":0},{"$f":"OFFSET(InputPriceData!F$15,CalculationsAndCharts!$A978+$A$11,IF($C$7,8,0),1,1)","v":0},0,0,0,0,0,0,{"$error":"#N/A"},false,0,false,{"$error":"#N/A"},{"$error":"#N/A"},true,false,false,false,false,false,{"$error":"#N/A"},false,{"$error":"#N/A"},false,false,false,false,false,false,{"$error":"#N/A"},0,0,0,0,0,null,{"$f":"OFFSET(InputIndexData!F$15,CalculationsAndCharts!$A978+$A$11,IF($C$7,8,0),1,1)","v":0},0,1,1,true,null,212,{"$error":"#N/A"}]
[952,{"$f":"OFFSET(InputPriceData!B$15,CalculationsAndCharts!$A984+$A$11,0,1,1)","v":"00:00:00"},{"$f":"OFFSET(InputPriceData!G$15,CalculationsAndCharts!$A984+$A$11,IF($C$7,8,0),1,1)","v":0},{"$f":"OFFSET(InputPriceData!C$15,CalculationsAndCharts!$A984+$A$11,IF($C$7,8,0),1,1)","v":0},{"$f":"OFFSET(InputPriceData!D$15,CalculationsAndCharts!$A984+$A$11,IF($C$7,8,0),1,1)","v":0},{"$f":"OFFSET(InputPriceData!E$15,CalculationsAndCharts!$A984+$A$11,IF($C$7,8,0),1,1)","v":0},{"$f":"OFFSET(InputPriceData!F$15,CalculationsAndCharts!$A984+$A$11,IF($C$7,8,0),1,1)","v":0},0,0,0,0,0,0,{"$error":"#N/A"},false,0,false,{"$error":"#N/A"},{"$error":"#N/A"},true,false,false,false,false,false,{"$error":"#N/A"},false,{"$error":"#N/A"},false,false,false,false,false,false,{"$error":"#N/A"},0,0,0,0,0,null,{"$f":"OFFSET(InputIndexData!F$15,CalculationsAndCharts!$A984+$A$11,IF($C$7,8,0),1,1)","v":0},0,1,1,true,null,212,{"$error":"#N/A"}]
[953,{"$f":"OFFSET(InputPriceData!B$15,CalculationsAndCharts!$A985+$A$11,0,1,1)","v":"00:00:00"},{"$f":"OFFSET(InputPriceData!G$15,CalculationsAndCharts!$A985+$A$11,IF($C$7,8,0),1,1)","v":0},{"$f":"OFFSET(InputPriceData!C$15,CalculationsAndCharts!$A985+$A$11,IF($C$7,8,0),1,1)","v":0},{"$f":"OFFSET(InputPriceData!D$15,CalculationsAndCharts!$A985+$A$11,IF($C$7,8,0),1,1)","v":0},{"$f":"OFFSET(InputPriceData!E$15,CalculationsAndCharts!$A985+$A$11,IF($C$7,8,0),1,1)","v":0},{"$f":"OFFSET(InputPriceData!F$15,CalculationsAndCharts!$A985+$A$11,IF($C$7,8,0),1,1)","v":0},0,0,0,0,0,0,{"$error":"#N/A"},false,0,false,{"$error":"#N/A"},{"$error":"#N/A"},true,false,false,false,false,false,{"$error":"#N/A"},false,{"$error":"#N/A"},false,false,false,false,false,false,{"$error":"#N/A"},0,0,0,0,0,null,{"$f":"OFFSET(InputIndexData!F$15,CalculationsAndCharts!$A985+$A$11,IF($C$7,8,0),1,1)","v":0},0,1,1,true,null,212,{"$error":"#N/A"}]
[958,{"$f":"OFFSET(InputPriceData!B$15,CalculationsAndCharts!$A990+$A$11,0,1,1)","v":"00:00:00"},{"$f":"OFFSET(InputPriceData!G$15,CalculationsAndCharts!$A990+$A$11,IF($C$7,8,0),1,1)","v":0},{"$f":"OFFSET(InputPriceData!C$15,CalculationsAndCharts!$A990+$A$11,IF($C$7,8,0),1,1)","v":0},{"$f":"OFFSET(InputPriceData!D$15,CalculationsAndCharts!$A990+$A$11,IF($C$7,8,0),1,1)","v":0},{"$f":"OFFSET(InputPriceData!E$15,CalculationsAndCharts!$A990+$A$11,IF($C$7,8,0),1,1)","v":0},{"$f":"OFFSET(InputPriceData!F$15,CalculationsAndCharts!$A990+$A$11,IF($C$7,8,0),1,1)","v":0},0,0,0,0,0,0,{"$error":"#N/A"},false,0,false,{"$error":"#N/A"},{"$error":"#N/A"},true,false,false,false,false,false,{"$error":"#N/A"},false,{"$error":"#N/A"},false,false,false,false,false,false,{"$error":"#N/A"},0,0,0,0,0,null,{"$f":"OFFSET(InputIndexData!F$15,CalculationsAndCharts!$A990+$A$11,IF($C$7,8,0),1,1)","v":0},0,1,1,true,null,212,{"$error":"#N/A"}]
[963,{"$f":"OFFSET(InputPriceData!B$15,CalculationsAndCharts!$A995+$A$11,0,1,1)","v":"00:00:00"},{"$f":"OFFSET(InputPriceData!G$15,CalculationsAndCharts!$A995+$A$11,IF($C$7,8,0),1,1)","v":0},{"$f":"OFFSET(InputPriceData!C$15,CalculationsAndCharts!$A995+$A$11,IF($C$7,8,0),1,1)","v":0},{"$f":"OFFSET(InputPriceData!D$15,CalculationsAndCharts!$A995+$A$11,IF($C$7,8,0),1,1)","v":0},{"$f":"OFFSET(InputPriceData!E$15,CalculationsAndCharts!$A995+$A$11,IF($C$7,8,0),1,1)","v":0},{"$f":"OFFSET(InputPriceData!F$15,CalculationsAndCharts!$A995+$A$11,IF($C$7,8,0),1,1)","v":0},0,0,0,0,0,0,{"$error":"#N/A"},false,0,false,{"$error":"#N/A"},{"$error":"#N/A"},true,false,false,false,false,false,{"$error":"#N/A"},false,{"$error":"#N/A"},false,false,false,false,false,false,{"$error":"#N/A"},0,0,0,0,0,null,{"$f":"OFFSET(InputIndexData!F$15,CalculationsAndCharts!$A995+$A$11,IF($C$7,8,0),1,1)","v":0},0,1,1,true,null,212,{"$error":"#N/A"}]
[967,{"$f":"OFFSET(InputPriceData!B$15,CalculationsAndCharts!$A999+$A$11,0,1,1)","v":"00:00:00"},{"$f":"OFFSET(InputPriceData!G$15,CalculationsAndCharts!$A999+$A$11,IF($C$7,8,0),1,1)","v":0},{"$f":"OFFSET(InputPriceData!C$15,CalculationsAndCharts!$A999+$A$11,IF($C$7,8,0),1,1)","v":0},{"$f":"OFFSET(InputPriceData!D$15,CalculationsAndCharts!$A999+$A$11,IF($C$7,8,0),1,1)","v":0},{"$f":"OFFSET(InputPriceData!E$15,CalculationsAndCharts!$A999+$A$11,IF($C$7,8,0),1,1)","v":0},{"$f":"OFFSET(InputPriceData!F$15,CalculationsAndCharts!$A999+$A$11,IF($C$7,8,0),1,1)","v":0},0,0,0,0,0,0,{"$error":"#N/A"},false,0,false,{"$error":"#N/A"},{"$error":"#N/A"},true,false,false,false,false,false,{"$error":"#N/A"},false,{"$error":"#N/A"},false,false,false,false,false,false,{"$error":"#N/A"},0,0,0,0,0,null,{"$f":"OFFSET(InputIndexData!F$15,CalculationsAndCharts!$A999+$A$11,IF($C$7,8,0),1,1)","v":0},0,1,1,true,null,212,{"$error":"#N/A"}]
[968,{"$f":"OFFSET(InputPriceData!B$15,CalculationsAndCharts!$A1000+$A$11,0,1,1)","v":"00:00:00"},{"$f":"OFFSET(InputPriceData!G$15,CalculationsAndCharts!$A1000+$A$11,IF($C$7,8,0),1,1)","v":0},{"$f":"OFFSET(InputPriceData!C$15,CalculationsAndCharts!$A1000+$A$11,IF($C$7,8,0),1,1)","v":0},{"$f":"OFFSET(InputPriceData!D$15,CalculationsAndCharts!$A1000+$A$11,IF($C$7,8,0),1,1)","v":0},{"$f":"OFFSET(InputPriceData!E$15,CalculationsAndCharts!$A1000+$A$11,IF($C$7,8,0),1,1)","v":0},{"$f":"OFFSET(InputPriceData!F$15,CalculationsAndCharts!$A1000+$A$11,IF($C$7,8,0),1,1)","v":0},0,0,0,0,0,0,{"$error":"#N/A"},false,0,false,{"$error":"#N/A"},{"$error":"#N/A"},true,false,false,false,false,false,{"$error":"#N/A"},false,{"$f":"IF(AA1000,$F$11,NA())","v":{"$error":"#N/A"}},false,false,false,false,false,false,{"$error":"#N/A"},0,0,0,0,0,null,{"$f":"OFFSET(InputIndexData!F$15,CalculationsAndCharts!$A1000+$A$11,IF($C$7,8,0),1,1)","v":0},0,1,1,true,null,212,{"$error":"#N/A"}]
[973,{"$f":"OFFSET(InputPriceData!B$15,CalculationsAndCharts!$A1005+$A$11,0,1,1)","v":"00:00:00"},{"$f":"OFFSET(InputPriceData!G$15,CalculationsAndCharts!$A1005+$A$11,IF($C$7,8,0),1,1)","v":0},{"$f":"OFFSET(InputPriceData!C$15,CalculationsAndCharts!$A1005+$A$11,IF($C$7,8,0),1,1)","v":0},{"$f":"OFFSET(InputPriceData!D$15,CalculationsAndCharts!$A1005+$A$11,IF($C$7,8,0),1,1)","v":0},{"$f":"OFFSET(InputPriceData!E$15,CalculationsAndCharts!$A1005+$A$11,IF($C$7,8,0),1,1)","v":0},{"$f":"OFFSET(InputPriceData!F$15,CalculationsAndCharts!$A1005+$A$11,IF($C$7,8,0),1,1)","v":0},0,0,0,0,0,0,{"$error":"#N/A"},false,0,false,{"$error":"#N/A"},{"$error":"#N/A"},true,false,false,false,false,false,{"$error":"#N/A"},false,{"$error":"#N/A"},false,false,false,false,false,false,{"$error":"#N/A"},0,0,0,0,0,null,{"$f":"OFFSET(InputIndexData!F$15,CalculationsAndCharts!$A1005+$A$11,IF($C$7,8,0),1,1)","v":0},0,1,1,true,null,212,{"$error":"#N/A"}]
[978,{"$f":"OFFSET(InputPriceData!B$15,CalculationsAndCharts!$A1010+$A$11,0,1,1)","v":"00:00:00"},{"$f":"OFFSET(InputPriceData!G$15,CalculationsAndCharts!$A1010+$A$11,IF($C$7,8,0),1,1)","v":0},{"$f":"OFFSET(InputPriceData!C$15,CalculationsAndCharts!$A1010+$A$11,IF($C$7,8,0),1,1)","v":0},{"$f":"OFFSET(InputPriceData!D$15,CalculationsAndCharts!$A1010+$A$11,IF($C$7,8,0),1,1)","v":0},{"$f":"OFFSET(InputPriceData!E$15,CalculationsAndCharts!$A1010+$A$11,IF($C$7,8,0),1,1)","v":0},{"$f":"OFFSET(InputPriceData!F$15,CalculationsAndCharts!$A1010+$A$11,IF($C$7,8,0),1,1)","v":0},0,0,0,0,0,0,{"$error":"#N/A"},false,0,false,{"$error":"#N/A"},{"$error":"#N/A"},true,false,false,false,false,false,{"$error":"#N/A"},false,{"$error":"#N/A"},false,false,false,false,false,false,{"$error":"#N/A"},0,0,0,0,0,null,{"$f":"OFFSET(InputIndexData!F$15,CalculationsAndCharts!$A1010+$A$11,IF($C$7,8,0),1,1)","v":0},0,1,1,true,null,212,{"$error":"#N/A"}]
[983,{"$f":"OFFSET(InputPriceData!B$15,CalculationsAndCharts!$A1015+$A$11,0,1,1)","v":"00:00:00"},{"$f":"OFFSET(InputPriceData!G$15,CalculationsAndCharts!$A1015+$A$11,IF($C$7,8,0),1,1)","v":0},{"$f":"OFFSET(InputPriceData!C$15,CalculationsAndCharts!$A1015+$A$11,IF($C$7,8,0),1,1)","v":0},{"$f":"OFFSET(InputPriceData!D$15,CalculationsAndCharts!$A1015+$A$11,IF($C$7,8,0),1,1)","v":0},{"$f":"OFFSET(InputPriceData!E$15,CalculationsAndCharts!$A1015+$A$11,IF($C$7,8,0),1,1)","v":0},{"$f":"OFFSET(InputPriceData!F$15,CalculationsAndCharts!$A1015+$A$11,IF($C$7,8,0),1,1)","v":0},0,0,0,0,0,0,{"$error":"#N/A"},false,0,false,{"$error":"#N/A"},{"$error":"#N/A"},true,false,false,false,false,false,{"$error":"#N/A"},false,{"$error":"#N/A"},false,false,false,false,false,false,{"$error":"#N/A"},0,0,0,0,0,null,{"$f":"OFFSET(InputIndexData!F$15,CalculationsAndCharts!$A1015+$A$11,IF($C$7,8,0),1,1)","v":0},0,1,1,true,null,212,{"$error":"#N/A"}]
[985,{"$f":"OFFSET(InputPriceData!B$15,CalculationsAndCharts!$A1017+$A$11,0,1,1)","v":"00:00:00"},{"$f":"OFFSET(InputPriceData!G$15,CalculationsAndCharts!$A1017+$A$11,IF($C$7,8,0),1,1)","v":0},{"$f":"OFFSET(InputPriceData!C$15,CalculationsAndCharts!$A1017+$A$11,IF($C$7,8,0),1,1)","v":0},{"$f":"OFFSET(InputPriceData!D$15,CalculationsAndCharts!$A1017+$A$11,IF($C$7,8,0),1,1)","v":0},{"$f":"OFFSET(InputPriceData!E$15,CalculationsAndCharts!$A1017+$A$11,IF($C$7,8,0),1,1)","v":0},{"$f":"OFFSET(InputPriceData!F$15,CalculationsAndCharts!$A1017+$A$11,IF($C$7,8,0),1,1)","v":0},0,0,0,0,0,0,{"$error":"#N/A"},false,0,false,{"$error":"#N/A"},{"$error":"#N/A"},true,false,false,false,false,false,{"$error":"#N/A"},false,{"$error":"#N/A"},false,false,false,false,false,false,{"$error":"#N/A"},0,0,0,0,0,null,{"$f":"OFFSET(InputIndexData!F$15,CalculationsAndCharts!$A1017+$A$11,IF($C$7,8,0),1,1)","v":0},0,1,1,true,null,212,{"$error":"#N/A"}]
[988,{"$f":"OFFSET(InputPriceData!B$15,CalculationsAndCharts!$A1020+$A$11,0,1,1)","v":"00:00:00"},{"$f":"OFFSET(InputPriceData!G$15,CalculationsAndCharts!$A1020+$A$11,IF($C$7,8,0),1,1)","v":0},{"$f":"OFFSET(InputPriceData!C$15,CalculationsAndCharts!$A1020+$A$11,IF($C$7,8,0),1,1)","v":0},{"$f":"OFFSET(InputPriceData!D$15,CalculationsAndCharts!$A1020+$A$11,IF($C$7,8,0),1,1)","v":0},{"$f":"OFFSET(InputPriceData!E$15,CalculationsAndCharts!$A1020+$A$11,IF($C$7,8,0),1,1)","v":0},{"$f":"OFFSET(InputPriceData!F$15,CalculationsAndCharts!$A1020+$A$11,IF($C$7,8,0),1,1)","v":0},0,0,0,0,0,0,{"$error":"#N/A"},false,0,false,{"$error":"#N/A"},{"$error":"#N/A"},true,false,false,false,false,false,{"$error":"#N/A"},false,{"$error":"#N/A"},false,false,false,false,false,false,{"$error":"#N/A"},0,0,0,0,0,null,{"$f":"OFFSET(InputIndexData!F$15,CalculationsAndCharts!$A1020+$A$11,IF($C$7,8,0),1,1)","v":0},0,1,1,true,null,212,{"$error":"#N/A"}]
[993,{"$f":"OFFSET(InputPriceData!B$15,CalculationsAndCharts!$A1025+$A$11,0,1,1)","v":"00:00:00"},{"$f":"OFFSET(InputPriceData!G$15,CalculationsAndCharts!$A1025+$A$11,IF($C$7,8,0),1,1)","v":0},{"$f":"OFFSET(InputPriceData!C$15,CalculationsAndCharts!$A1025+$A$11,IF($C$7,8,0),1,1)","v":0},{"$f":"OFFSET(InputPriceData!D$15,CalculationsAndCharts!$A1025+$A$11,IF($C$7,8,0),1,1)","v":0},{"$f":"OFFSET(InputPriceData!E$15,CalculationsAndCharts!$A1025+$A$11,IF($C$7,8,0),1,1)","v":0},{"$f":"OFFSET(InputPriceData!F$15,CalculationsAndCharts!$A1025+$A$11,IF($C$7,8,0),1,1)","v":0},0,0,0,0,0,0,{"$error":"#N/A"},false,0,false,{"$error":"#N/A"},{"$error":"#N/A"},true,false,false,false,false,false,{"$error":"#N/A"},false,{"$error":"#N/A"},false,false,false,false,false,false,{"$error":"#N/A"},0,0,0,0,0,null,{"$f":"OFFSET(InputIndexData!F$15,CalculationsAndCharts!$A1025+$A$11,IF($C$7,8,0),1,1)","v":0},0,1,1,true,null,212,{"$error":"#N/A"}]
[998,{"$f":"OFFSET(InputPriceData!B$15,CalculationsAndCharts!$A1030+$A$11,0,1,1)","v":"00:00:00"},{"$f":"OFFSET(InputPriceData!G$15,CalculationsAndCharts!$A1030+$A$11,IF($C$7,8,0),1,1)","v":0},{"$f":"OFFSET(InputPriceData!C$15,CalculationsAndCharts!$A1030+$A$11,IF($C$7,8,0),1,1)","v":0},{"$f":"OFFSET(InputPriceData!D$15,CalculationsAndCharts!$A1030+$A$11,IF($C$7,8,0),1,1)","v":0},{"$f":"OFFSET(InputPriceData!E$15,CalculationsAndCharts!$A1030+$A$11,IF($C$7,8,0),1,1)","v":0},{"$f":"OFFSET(InputPriceData!F$15,CalculationsAndCharts!$A1030+$A$11,IF($C$7,8,0),1,1)","v":0},0,0,0,0,0,0,{"$error":"#N/A"},false,0,false,{"$error":"#N/A"},{"$error":"#N/A"},true,false,false,false,false,false,{"$error":"#N/A"},false,{"$error":"#N/A"},false,false,false,false,false,false,{"$error":"#N/A"},0,0,0,0,0,null,{"$f":"OFFSET(InputIndexData!F$15,CalculationsAndCharts!$A1030+$A$11,IF($C$7,8,0),1,1)","v":0},0,1,1,true,null,212,{"$error":"#N/A"}]
[999,{"$f":"OFFSET(InputPriceData!B$15,CalculationsAndCharts!$A1031+$A$11,0,1,1)","v":"00:00:00"},{"$f":"OFFSET(InputPriceData!G$15,CalculationsAndCharts!$A1031+$A$11,IF($C$7,8,0),1,1)","v":0},{"$f":"OFFSET(InputPriceData!C$15,CalculationsAndCharts!$A1031+$A$11,IF($C$7,8,0),1,1)","v":0},{"$f":"OFFSET(InputPriceData!D$15,CalculationsAndCharts!$A1031+$A$11,IF($C$7,8,0),1,1)","v":0},{"$f":"OFFSET(InputPriceData!E$15,CalculationsAndCharts!$A1031+$A$11,IF($C$7,8,0),1,1)","v":0},{"$f":"OFFSET(InputPriceData!F$15,CalculationsAndCharts!$A1031+$A$11,IF($C$7,8,0),1,1)","v":0},0,0,0,0,0,0,{"$error":"#N/A"},false,0,false,{"$error":"#N/A"},{"$error":"#N/A"},true,false,false,false,false,false,{"$error":"#N/A"},false,{"$error":"#N/A"},false,false,false,false,false,false,{"$error":"#N/A"},0,0,0,0,0,null,{"$f":"OFFSET(InputIndexData!F$15,CalculationsAndCharts!$A1031+$A$11,IF($C$7,8,0),1,1)","v":0},0,1,1,true,null,212,{"$error":"#N/A"}]
[1004,{"$f":"OFFSET(InputPriceData!B$15,CalculationsAndCharts!$A1036+$A$11,0,1,1)","v":"00:00:00"},{"$f":"OFFSET(InputPriceData!G$15,CalculationsAndCharts!$A1036+$A$11,IF($C$7,8,0),1,1)","v":0},{"$f":"OFFSET(InputPriceData!C$15,CalculationsAndCharts!$A1036+$A$11,IF($C$7,8,0),1,1)","v":0},{"$f":"OFFSET(InputPriceData!D$15,CalculationsAndCharts!$A1036+$A$11,IF($C$7,8,0),1,1)","v":0},{"$f":"OFFSET(InputPriceData!E$15,CalculationsAndCharts!$A1036+$A$11,IF($C$7,8,0),1,1)","v":0},{"$f":"OFFSET(InputPriceData!F$15,CalculationsAndCharts!$A1036+$A$11,IF($C$7,8,0),1,1)","v":0},0,0,0,0,0,0,{"$error":"#N/A"},false,0,false,{"$error":"#N/A"},{"$error":"#N/A"},true,false,false,false,false,false,{"$error":"#N/A"},false,{"$error":"#N/A"},false,false,false,false,false,false,{"$error":"#N/A"},0,0,0,0,0,null,{"$f":"OFFSET(InputIndexData!F$15,CalculationsAndCharts!$A1036+$A$11,IF($C$7,8,0),1,1)","v":0},0,1,1,true,null,212,{"$error":"#N/A"}]
[1007,{"$f":"OFFSET(InputPriceData!B$15,CalculationsAndCharts!$A1039+$A$11,0,1,1)","v":"00:00:00"},{"$f":"OFFSET(InputPriceData!G$15,CalculationsAndCharts!$A1039+$A$11,IF($C$7,8,0),1,1)","v":0},{"$f":"OFFSET(InputPriceData!C$15,CalculationsAndCharts!$A1039+$A$11,IF($C$7,8,0),1,1)","v":0},{"$f":"OFFSET(InputPriceData!D$15,CalculationsAndCharts!$A1039+$A$11,IF($C$7,8,0),1,1)","v":0},{"$f":"OFFSET(InputPriceData!E$15,CalculationsAndCharts!$A1039+$A$11,IF($C$7,8,0),1,1)","v":0},{"$f":"OFFSET(InputPriceData!F$15,CalculationsAndCharts!$A1039+$A$11,IF($C$7,8,0),1,1)","v":0},0,0,0,0,0,0,{"$error":"#N/A"},false,0,false,{"$error":"#N/A"},{"$error":"#N/A"},true,false,false,false,false,false,{"$error":"#N/A"},false,{"$error":"#N/A"},false,false,false,false,false,false,{"$error":"#N/A"},0,0,0,0,0,null,{"$f":"OFFSET(InputIndexData!F$15,CalculationsAndCharts!$A1039+$A$11,IF($C$7,8,0),1,1)","v":0},0,1,1,true,null,212,{"$error":"#N/A"}]
[1013,{"$f":"OFFSET(InputPriceData!B$15,CalculationsAndCharts!$A1045+$A$11,0,1,1)","v":"00:00:00"},{"$f":"OFFSET(InputPriceData!G$15,CalculationsAndCharts!$A1045+$A$11,IF($C$7,8,0),1,1)","v":0},{"$f":"OFFSET(InputPriceData!C$15,CalculationsAndCharts!$A1045+$A$11,IF($C$7,8,0),1,1)","v":0},{"$f":"OFFSET(InputPriceData!D$15,CalculationsAndCharts!$A1045+$A$11,IF($C$7,8,0),1,1)","v":0},{"$f":"OFFSET(InputPriceData!E$15,CalculationsAndCharts!$A1045+$A$11,IF($C$7,8,0),1,1)","v":0},{"$f":"OFFSET(InputPriceData!F$15,CalculationsAndCharts!$A1045+$A$11,IF($C$7,8,0),1,1)","v":0},0,0,0,0,0,0,{"$error":"#N/A"},false,0,false,{"$error":"#N/A"},{"$error":"#N/A"},true,false,false,false,false,false,{"$error":"#N/A"},false,{"$error":"#N/A"},false,false,false,false,false,false,{"$error":"#N/A"},0,0,0,0,0,null,{"$f":"OFFSET(InputIndexData!F$15,CalculationsAndCharts!$A1045+$A$11,IF($C$7,8,0),1,1)","v":0},0,1,1,true,null,212,{"$error":"#N/A"}]
[1014,{"$f":"OFFSET(InputPriceData!B$15,CalculationsAndCharts!$A1046+$A$11,0,1,1)","v":"00:00:00"},{"$f":"OFFSET(InputPriceData!G$15,CalculationsAndCharts!$A1046+$A$11,IF($C$7,8,0),1,1)","v":0},{"$f":"OFFSET(InputPriceData!C$15,CalculationsAndCharts!$A1046+$A$11,IF($C$7,8,0),1,1)","v":0},{"$f":"OFFSET(InputPriceData!D$15,CalculationsAndCharts!$A1046+$A$11,IF($C$7,8,0),1,1)","v":0},{"$f":"OFFSET(InputPriceData!E$15,CalculationsAndCharts!$A1046+$A$11,IF($C$7,8,0),1,1)","v":0},{"$f":"OFFSET(InputPriceData!F$15,CalculationsAndCharts!$A1046+$A$11,IF($C$7,8,0),1,1)","v":0},0,0,0,0,0,0,{"$error":"#N/A"},false,0,false,{"$error":"#N/A"},{"$error":"#N/A"},true,false,false,false,false,false,{"$error":"#N/A"},false,{"$error":"#N/A"},false,false,false,false,false,false,{"$error":"#N/A"},0,0,0,0,0,null,{"$f":"OFFSET(InputIndexData!F$15,CalculationsAndCharts!$A1046+$A$11,IF($C$7,8,0),1,1)","v":0},0,1,1,true,null,212,{"$error":"#N/A"}]
[1019,{"$f":"OFFSET(InputPriceData!B$15,CalculationsAndCharts!$A1051+$A$11,0,1,1)","v":"00:00:00"},{"$f":"OFFSET(InputPriceData!G$15,CalculationsAndCharts!$A1051+$A$11,IF($C$7,8,0),1,1)","v":0},{"$f":"OFFSET(InputPriceData!C$15,CalculationsAndCharts!$A1051+$A$11,IF($C$7,8,0),1,1)","v":0},{"$f":"OFFSET(InputPriceData!D$15,CalculationsAndCharts!$A1051+$A$11,IF($C$7,8,0),1,1)","v":0},{"$f":"OFFSET(InputPriceData!E$15,CalculationsAndCharts!$A1051+$A$11,IF($C$7,8,0),1,1)","v":0},{"$f":"OFFSET(InputPriceData!F$15,CalculationsAndCharts!$A1051+$A$11,IF($C$7,8,0),1,1)","v":0},0,0,0,0,0,0,{"$error":"#N/A"},false,0,false,{"$error":"#N/A"},{"$error":"#N/A"},true,false,false,false,false,false,{"$error":"#N/A"},false,{"$error":"#N/A"},false,false,false,false,false,false,{"$error":"#N/A"},0,0,0,0,0,null,{"$f":"OFFSET(InputIndexData!F$15,CalculationsAndCharts!$A1051+$A$11,IF($C$7,8,0),1,1)","v":0},0,1,1,true,null,212,{"$error":"#N/A"}]
[1024,{"$f":"OFFSET(InputPriceData!B$15,CalculationsAndCharts!$A1056+$A$11,0,1,1)","v":"00:00:00"},{"$f":"OFFSET(InputPriceData!G$15,CalculationsAndCharts!$A1056+$A$11,IF($C$7,8,0),1,1)","v":0},{"$f":"OFFSET(InputPriceData!C$15,CalculationsAndCharts!$A1056+$A$11,IF($C$7,8,0),1,1)","v":0},{"$f":"OFFSET(InputPriceData!D$15,CalculationsAndCharts!$A1056+$A$11,IF($C$7,8,0),1,1)","v":0},{"$f":"OFFSET(InputPriceData!E$15,CalculationsAndCharts!$A1056+$A$11,IF($C$7,8,0),1,1)","v":0},{"$f":"OFFSET(InputPriceData!F$15,CalculationsAndCharts!$A1056+$A$11,IF($C$7,8,0),1,1)","v":0},0,0,0,0,0,0,{"$error":"#N/A"},false,0,false,{"$error":"#N/A"},{"$error":"#N/A"},true,false,false,false,false,false,{"$error":"#N/A"},false,{"$error":"#N/A"},false,false,false,false,false,false,{"$error":"#N/A"},0,0,0,0,0,null,{"$f":"OFFSET(InputIndexData!F$15,CalculationsAndCharts!$A1056+$A$11,IF($C$7,8,0),1,1)","v":0},0,1,1,true,null,212,{"$error":"#N/A"}]
[1028,{"$f":"OFFSET(InputPriceData!B$15,CalculationsAndCharts!$A1060+$A$11,0,1,1)","v":"00:00:00"},{"$f":"OFFSET(InputPriceData!G$15,CalculationsAndCharts!$A1060+$A$11,IF($C$7,8,0),1,1)","v":0},{"$f":"OFFSET(InputPriceData!C$15,CalculationsAndCharts!$A1060+$A$11,IF($C$7,8,0),1,1)","v":0},{"$f":"OFFSET(InputPriceData!D$15,CalculationsAndCharts!$A1060+$A$11,IF($C$7,8,0),1,1)","v":0},{"$f":"OFFSET(InputPriceData!E$15,CalculationsAndCharts!$A1060+$A$11,IF($C$7,8,0),1,1)","v":0},{"$f":"OFFSET(InputPriceData!F$15,CalculationsAndCharts!$A1060+$A$11,IF($C$7,8,0),1,1)","v":0},0,0,0,0,0,0,{"$error":"#N/A"},false,0,false,{"$error":"#N/A"},{"$error":"#N/A"},true,false,false,false,false,false,{"$error":"#N/A"},false,{"$error":"#N/A"},false,false,false,false,false,false,{"$error":"#N/A"},0,0,0,0,0,null,{"$f":"OFFSET(InputIndexData!F$15,CalculationsAndCharts!$A1060+$A$11,IF($C$7,8,0),1,1)","v":0},0,1,1,true,null,212,{"$error":"#N/A"}]
[1029,{"$f":"OFFSET(InputPriceData!B$15,CalculationsAndCharts!$A1061+$A$11,0,1,1)","v":"00:00:00"},{"$f":"OFFSET(InputPriceData!G$15,CalculationsAndCharts!$A1061+$A$11,IF($C$7,8,0),1,1)","v":0},{"$f":"OFFSET(InputPriceData!C$15,CalculationsAndCharts!$A1061+$A$11,IF($C$7,8,0),1,1)","v":0},{"$f":"OFFSET(InputPriceData!D$15,CalculationsAndCharts!$A1061+$A$11,IF($C$7,8,0),1,1)","v":0},{"$f":"OFFSET(InputPriceData!E$15,CalculationsAndCharts!$A1061+$A$11,IF($C$7,8,0),1,1)","v":0},{"$f":"OFFSET(InputPriceData!F$15,CalculationsAndCharts!$A1061+$A$11,IF($C$7,8,0),1,1)","v":0},0,0,0,0,0,0,{"$error":"#N/A"},false,0,false,{"$error":"#N/A"},{"$error":"#N/A"},true,false,false,false,false,false,{"$error":"#N/A"},false,{"$error":"#N/A"},false,false,false,false,false,false,{"$error":"#N/A"},0,0,0,0,0,null,{"$f":"OFFSET(InputIndexData!F$15,CalculationsAndCharts!$A1061+$A$11,IF($C$7,8,0),1,1)","v":0},0,1,1,true,null,212,{"$error":"#N/A"}]
[1034,{"$f":"OFFSET(InputPriceData!B$15,CalculationsAndCharts!$A1066+$A$11,0,1,1)","v":"00:00:00"},{"$f":"OFFSET(InputPriceData!G$15,CalculationsAndCharts!$A1066+$A$11,IF($C$7,8,0),1,1)","v":0},{"$f":"OFFSET(InputPriceData!C$15,CalculationsAndCharts!$A1066+$A$11,IF($C$7,8,0),1,1)","v":0},{"$f":"OFFSET(InputPriceData!D$15,CalculationsAndCharts!$A1066+$A$11,IF($C$7,8,0),1,1)","v":0},{"$f":"OFFSET(InputPriceData!E$15,CalculationsAndCharts!$A1066+$A$11,IF($C$7,8,0),1,1)","v":0},{"$f":"OFFSET(InputPriceData!F$15,CalculationsAndCharts!$A1066+$A$11,IF($C$7,8,0),1,1)","v":0},0,0,0,0,0,0,{"$error":"#N/A"},false,0,false,{"$error":"#N/A"},{"$error":"#N/A"},true,false,false,false,false,false,{"$error":"#N/A"},false,{"$error":"#N/A"},false,false,false,false,false,false,{"$error":"#N/A"},0,0,0,0,0,null,{"$f":"OFFSET(InputIndexData!F$15,CalculationsAndCharts!$A1066+$A$11,IF($C$7,8,0),1,1)","v":0},0,1,1,true,null,212,{"$error":"#N/A"}]
[1039,{"$f":"OFFSET(InputPriceData!B$15,CalculationsAndCharts!$A1071+$A$11,0,1,1)","v":"00:00:00"},{"$f":"OFFSET(InputPriceData!G$15,CalculationsAndCharts!$A1071+$A$11,IF($C$7,8,0),1,1)","v":0},{"$f":"OFFSET(InputPriceData!C$15,CalculationsAndCharts!$A1071+$A$11,IF($C$7,8,0),1,1)","v":0},{"$f":"OFFSET(InputPriceData!D$15,CalculationsAndCharts!$A1071+$A$11,IF($C$7,8,0),1,1)","v":0},{"$f":"OFFSET(InputPriceData!E$15,CalculationsAndCharts!$A1071+$A$11,IF($C$7,8,0),1,1)","v":0},{"$f":"OFFSET(InputPriceData!F$15,CalculationsAndCharts!$A1071+$A$11,IF($C$7,8,0),1,1)","v":0},0,0,0,0,0,0,{"$error":"#N/A"},false,0,false,{"$error":"#N/A"},{"$error":"#N/A"},true,false,false,false,false,false,{"$error":"#N/A"},false,{"$error":"#N/A"},false,false,false,false,false,false,{"$error":"#N/A"},0,0,0,0,0,null,{"$f":"OFFSET(InputIndexData!F$15,CalculationsAndCharts!$A1071+$A$11,IF($C$7,8,0),1,1)","v":0},0,1,1,true,null,212,{"$error":"#N/A"}]
[1044,{"$f":"OFFSET(InputPriceData!B$15,CalculationsAndCharts!$A1076+$A$11,0,1,1)","v":"00:00:00"},{"$f":"OFFSET(InputPriceData!G$15,CalculationsAndCharts!$A1076+$A$11,IF($C$7,8,0),1,1)","v":0},{"$f":"OFFSET(InputPriceData!C$15,CalculationsAndCharts!$A1076+$A$11,IF($C$7,8,0),1,1)","v":0},{"$f":"OFFSET(InputPriceData!D$15,CalculationsAndCharts!$A1076+$A$11,IF($C$7,8,0),1,1)","v":0},{"$f":"OFFSET(InputPriceData!E$15,CalculationsAndCharts!$A1076+$A$11,IF($C$7,8,0),1,1)","v":0},{"$f":"OFFSET(InputPriceData!F$15,CalculationsAndCharts!$A1076+$A$11,IF($C$7,8,0),1,1)","v":0},0,0,0,0,0,0,{"$error":"#N/A"},false,0,false,{"$error":"#N/A"},{"$error":"#N/A"},true,false,false,false,false,false,{"$error":"#N/A"},false,{"$error":"#N/A"},false,false,false,false,false,false,{"$error":"#N/A"},0,0,0,0,0,null,{"$f":"OFFSET(InputIndexData!F$15,CalculationsAndCharts!$A1076+$A$11,IF($C$7,8,0),1,1)","v":0},0,1,1,true,null,212,{"$error":"#N/A"}]
[1045,{"$f":"OFFSET(InputPriceData!B$15,CalculationsAndCharts!$A1077+$A$11,0,1,1)","v":"00:00:00"},{"$f":"OFFSET(InputPriceData!G$15,CalculationsAndCharts!$A1077+$A$11,IF($C$7,8,0),1,1)","v":0},{"$f":"OFFSET(InputPriceData!C$15,CalculationsAndCharts!$A1077+$A$11,IF($C$7,8,0),1,1)","v":0},{"$f":"OFFSET(InputPriceData!D$15,CalculationsAndCharts!$A1077+$A$11,IF($C$7,8,0),1,1)","v":0},{"$f":"OFFSET(InputPriceData!E$15,CalculationsAndCharts!$A1077+$A$11,IF($C$7,8,0),1,1)","v":0},{"$f":"OFFSET(InputPriceData!F$15,CalculationsAndCharts!$A1077+$A$11,IF($C$7,8,0),1,1)","v":0},0,0,0,0,0,0,{"$error":"#N/A"},false,0,false,{"$error":"#N/A"},{"$error":"#N/A"},true,false,false,false,false,false,{"$error":"#N/A"},false,{"$error":"#N/A"},false,false,false,false,false,false,{"$error":"#N/A"},0,0,0,0,0,null,{"$f":"OFFSET(InputIndexData!F$15,CalculationsAndCharts!$A1077+$A$11,IF($C$7,8,0),1,1)","v":0},0,1,1,true,null,212,{"$error":"#N/A"}]
[1051,{"$f":"OFFSET(InputPriceData!B$15,CalculationsAndCharts!$A1083+$A$11,0,1,1)","v":"00:00:00"},{"$f":"OFFSET(InputPriceData!G$15,CalculationsAndCharts!$A1083+$A$11,IF($C$7,8,0),1,1)","v":0},{"$f":"OFFSET(InputPriceData!C$15,CalculationsAndCharts!$A1083+$A$11,IF($C$7,8,0),1,1)","v":0},{"$f":"OFFSET(InputPriceData!D$15,CalculationsAndCharts!$A1083+$A$11,IF($C$7,8,0),1,1)","v":0},{"$f":"OFFSET(InputPriceData!E$15,CalculationsAndCharts!$A1083+$A$11,IF($C$7,8,0),1,1)","v":0},{"$f":"OFFSET(InputPriceData!F$15,CalculationsAndCharts!$A1083+$A$11,IF($C$7,8,0),1,1)","v":0},0,0,0,0,0,0,{"$error":"#N/A"},false,0,false,{"$error":"#N/A"},{"$error":"#N/A"},true,false,false,false,false,false,{"$error":"#N/A"},false,{"$error":"#N/A"},false,false,false,false,false,false,{"$error":"#N/A"},0,0,0,0,0,null,{"$f":"OFFSET(InputIndexData!F$15,CalculationsAndCharts!$A1083+$A$11,IF($C$7,8,0),1,1)","v":0},0,1,1,true,null,212,{"$error":"#N/A"}]
[1054,{"$f":"OFFSET(InputPriceData!B$15,CalculationsAndCharts!$A1086+$A$11,0,1,1)","v":"00:00:00"},{"$f":"OFFSET(InputPriceData!G$15,CalculationsAndCharts!$A1086+$A$11,IF($C$7,8,0),1,1)","v":0},{"$f":"OFFSET(InputPriceData!C$15,CalculationsAndCharts!$A1086+$A$11,IF($C$7,8,0),1,1)","v":0},{"$f":"OFFSET(InputPriceData!D$15,CalculationsAndCharts!$A1086+$A$11,IF($C$7,8,0),1,1)","v":0},{"$f":"OFFSET(InputPriceData!E$15,CalculationsAndCharts!$A1086+$A$11,IF($C$7,8,0),1,1)","v":0},{"$f":"OFFSET(InputPriceData!F$15,CalculationsAndCharts!$A1086+$A$11,IF($C$7,8,0),1,1)","v":0},0,0,0,0,0,0,{"$error":"#N/A"},false,0,false,{"$error":"#N/A"},{"$error":"#N/A"},true,false,{"$f":"U1087","v":false},false,false,false,{"$error":"#N/A"},false,{"$error":"#N/A"},false,false,false,false,false,false,{"$error":"#N/A"},0,0,0,0,0,null,{"$f":"OFFSET(InputIndexData!F$15,CalculationsAndCharts!$A1086+$A$11,IF($C$7,8,0),1,1)","v":0},0,1,1,true,null,212,{"$error":"#N/A"}]
[1059,{"$f":"OFFSET(InputPriceData!B$15,CalculationsAndCharts!$A1091+$A$11,0,1,1)","v":"00:00:00"},{"$f":"OFFSET(InputPriceData!G$15,CalculationsAndCharts!$A1091+$A$11,IF($C$7,8,0),1,1)","v":0},{"$f":"OFFSET(InputPriceData!C$15,CalculationsAndCharts!$A1091+$A$11,IF($C$7,8,0),1,1)","v":0},{"$f":"OFFSET(InputPriceData!D$15,CalculationsAndCharts!$A1091+$A$11,IF($C$7,8,0),1,1)","v":0},{"$f":"OFFSET(InputPriceData!E$15,CalculationsAndCharts!$A1091+$A$11,IF($C$7,8,0),1,1)","v":0},{"$f":"OFFSET(InputPriceData!F$15,CalculationsAndCharts!$A1091+$A$11,IF($C$7,8,0),1,1)","v":0},0,0,0,0,0,0,{"$error":"#N/A"},false,0,false,{"$error":"#N/A"},{"$error":"#N/A"},true,false,false,{"$f":"IF(V1091,TRUE,IF(X1092,FALSE,W1092))","v":false},false,false,{"$error":"#N/A"},false,{"$error":"#N/A"},false,false,false,false,false,false,{"$error":"#N/A"},0,0,0,0,0,null,{"$f":"OFFSET(InputIndexData!F$15,CalculationsAndCharts!$A1091+$A$11,IF($C$7,8,0),1,1)","v":0},0,1,1,true,null,212,{"$error":"#N/A"}]
[1060,{"$f":"OFFSET(InputPriceData!B$15,CalculationsAndCharts!$A1092+$A$11,0,1,1)","v":"00:00:00"},{"$f":"OFFSET(InputPriceData!G$15,CalculationsAndCharts!$A1092+$A$11,IF($C$7,8,0),1,1)","v":0},{"$f":"OFFSET(InputPriceData!C$15,CalculationsAndCharts!$A1092+$A$11,IF($C$7,8,0),1,1)","v":0},{"$f":"OFFSET(InputPriceData!D$15,CalculationsAndCharts!$A1092+$A$11,IF($C$7,8,0),1,1)","v":0},{"$f":"OFFSET(InputPriceData!E$15,CalculationsAndCharts!$A1092+$A$11,IF($C$7,8,0),1,1)","v":0},{"$f":"OFFSET(InputPriceData!F$15,CalculationsAndCharts!$A1092+$A$11,IF($C$7,8,0),1,1)","v":0},0,0,0,0,0,0,{"$error":"#N/A"},false,0,false,{"$error":"#N/A"},{"$error":"#N/A"},true,false,false,false,false,false,{"$error":"#N/A"},false,{"$error":"#N/A"},false,false,false,false,false,false,{"$error":"#N/A"},0,0,0,0,0,null,{"$f":"OFFSET(InputIndexData!F$15,CalculationsAndCharts!$A1092+$A$11,IF($C$7,8,0),1,1)","v":0},0,1,1,true,null,212,{"$error":"#N/A"}]
[1065,{"$f":"OFFSET(InputPriceData!B$15,CalculationsAndCharts!$A1097+$A$11,0,1,1)","v":"00:00:00"},{"$f":"OFFSET(InputPriceData!G$15,CalculationsAndCharts!$A1097+$A$11,IF($C$7,8,0),1,1)","v":0},{"$f":"OFFSET(InputPriceData!C$15,CalculationsAndCharts!$A1097+$A$11,IF($C$7,8,0),1,1)","v":0},{"$f":"OFFSET(InputPriceData!D$15,CalculationsAndCharts!$A1097+$A$11,IF($C$7,8,0),1,1)","v":0},{"$f":"OFFSET(InputPriceData!E$15,CalculationsAndCharts!$A1097+$A$11,IF($C$7,8,0),1,1)","v":0},{"$f":"OFFSET(InputPriceData!F$15,CalculationsAndCharts!$A1097+$A$11,IF($C$7,8,0),1,1)","v":0},0,0,0,0,0,0,{"$error":"#N/A"},false,0,false,{"$error":"#N/A"},{"$error":"#N/A"},true,false,false,false,false,false,{"$error":"#N/A"},false,{"$error":"#N/A"},false,false,false,false,false,false,{"$error":"#N/A"},0,0,0,0,0,null,{"$f":"OFFSET(InputIndexData!F$15,CalculationsAndCharts!$A1097+$A$11,IF($C$7,8,0),1,1)","v":0},0,1,1,true,null,212,{"$error":"#N/A"}]
[1068,{"$f":"OFFSET(InputPriceData!B$15,CalculationsAndCharts!$A1100+$A$11,0,1,1)","v":"00:00:00"},{"$f":"OFFSET(InputPriceData!G$15,CalculationsAndCharts!$A1100+$A$11,IF($C$7,8,0),1,1)","v":0},{"$f":"OFFSET(InputPriceData!C$15,CalculationsAndCharts!$A1100+$A$11,IF($C$7,8,0),1,1)","v":0},{"$f":"OFFSET(InputPriceData!D$15,CalculationsAndCharts!$A1100+$A$11,IF($C$7,8,0),1,1)","v":0},{"$f":"OFFSET(InputPriceData!E$15,CalculationsAndCharts!$A1100+$A$11,IF($C$7,8,0),1,1)","v":0},{"$f":"OFFSET(InputPriceData!F$15,CalculationsAndCharts!$A1100+$A$11,IF($C$7,8,0),1,1)","v":0},0,0,0,0,0,0,{"$error":"#N/A"},false,0,false,{"$error":"#N/A"},{"$error":"#N/A"},true,false,false,false,false,false,{"$error":"#N/A"},false,{"$error":"#N/A"},false,false,false,false,false,false,{"$error":"#N/A"},0,0,0,0,0,null,{"$f":"OFFSET(InputIndexData!F$15,CalculationsAndCharts!$A1100+$A$11,IF($C$7,8,0),1,1)","v":0},0,1,1,true,null,212,{"$error":"#N/A"}]
[1074,{"$f":"OFFSET(InputPriceData!B$15,CalculationsAndCharts!$A1106+$A$11,0,1,1)","v":"00:00:00"},{"$f":"OFFSET(InputPriceData!G$15,CalculationsAndCharts!$A1106+$A$11,IF($C$7,8,0),1,1)","v":0},{"$f":"OFFSET(InputPriceData!C$15,CalculationsAndCharts!$A1106+$A$11,IF($C$7,8,0),1,1)","v":0},{"$f":"OFFSET(InputPriceData!D$15,CalculationsAndCharts!$A1106+$A$11,IF($C$7,8,0),1,1)","v":0},{"$f":"OFFSET(InputPriceData!E$15,CalculationsAndCharts!$A1106+$A$11,IF($C$7,8,0),1,1)","v":0},{"$f":"OFFSET(InputPriceData!F$15,CalculationsAndCharts!$A1106+$A$11,IF($C$7,8,0),1,1)","v":0},0,0,0,0,0,0,{"$error":"#N/A"},false,0,false,{"$error":"#N/A"},{"$error":"#N/A"},true,false,false,false,false,false,{"$error":"#N/A"},false,{"$error":"#N/A"},false,false,false,false,false,false,{"$error":"#N/A"},0,0,0,0,0,null,{"$f":"OFFSET(InputIndexData!F$15,CalculationsAndCharts!$A1106+$A$11,IF($C$7,8,0),1,1)","v":0},0,1,1,true,null,212,{"$error":"#N/A"}]
[1075,{"$f":"OFFSET(InputPriceData!B$15,CalculationsAndCharts!$A1107+$A$11,0,1,1)","v":"00:00:00"},{"$f":"OFFSET(InputPriceData!G$15,CalculationsAndCharts!$A1107+$A$11,IF($C$7,8,0),1,1)","v":0},{"$f":"OFFSET(InputPriceData!C$15,CalculationsAndCharts!$A1107+$A$11,IF($C$7,8,0),1,1)","v":0},{"$f":"OFFSET(InputPriceData!D$15,CalculationsAndCharts!$A1107+$A$11,IF($C$7,8,0),1,1)","v":0},{"$f":"OFFSET(InputPriceData!E$15,CalculationsAndCharts!$A1107+$A$11,IF($C$7,8,0),1,1)","v":0},{"$f":"OFFSET(InputPriceData!F$15,CalculationsAndCharts!$A1107+$A$11,IF($C$7,8,0),1,1)","v":0},0,0,0,0,0,0,{"$error":"#N/A"},false,0,false,{"$error":"#N/A"},{"$error":"#N/A"},true,false,false,false,false,false,{"$error":"#N/A"},false,{"$error":"#N/A"},false,false,false,false,false,false,{"$error":"#N/A"},0,0,0,0,0,null,{"$f":"OFFSET(InputIndexData!F$15,CalculationsAndCharts!$A1107+$A$11,IF($C$7,8,0),1,1)","v":0},0,1,1,true,null,212,{"$error":"#N/A"}]
[1080,{"$f":"OFFSET(InputPriceData!B$15,CalculationsAndCharts!$A1112+$A$11,0,1,1)","v":"00:00:00"},{"$f":"OFFSET(InputPriceData!G$15,CalculationsAndCharts!$A1112+$A$11,IF($C$7,8,0),1,1)","v":0},{"$f":"OFFSET(InputPriceData!C$15,CalculationsAndCharts!$A1112+$A$11,IF($C$7,8,0),1,1)","v":0},{"$f":"OFFSET(InputPriceData!D$15,CalculationsAndCharts!$A1112+$A$11,IF($C$7,8,0),1,1)","v":0},{"$f":"OFFSET(InputPriceData!E$15,CalculationsAndCharts!$A1112+$A$11,IF($C$7,8,0),1,1)","v":0},{"$f":"OFFSET(InputPriceData!F$15,CalculationsAndCharts!$A1112+$A$11,IF($C$7,8,0),1,1)","v":0},0,0,0,0,0,0,{"$error":"#N/A"},false,0,false,{"$error":"#N/A"},{"$error":"#N/A"},true,false,false,false,false,false,{"$error":"#N/A"},false,{"$error":"#N/A"},false,false,false,false,false,false,{"$error":"#N/A"},0,0,0,0,0,null,{"$f":"OFFSET(InputIndexData!F$15,CalculationsAndCharts!$A1112+$A$11,IF($C$7,8,0),1,1)","v":0},0,1,1,true,null,212,{"$error":"#N/A"}]
[1085,{"$f":"OFFSET(InputPriceData!B$15,CalculationsAndCharts!$A1117+$A$11,0,1,1)","v":"00:00:00"},{"$f":"OFFSET(InputPriceData!G$15,CalculationsAndCharts!$A1117+$A$11,IF($C$7,8,0),1,1)","v":0},{"$f":"OFFSET(InputPriceData!C$15,CalculationsAndCharts!$A1117+$A$11,IF($C$7,8,0),1,1)","v":0},{"$f":"OFFSET(InputPriceData!D$15,CalculationsAndCharts!$A1117+$A$11,IF($C$7,8,0),1,1)","v":0},{"$f":"OFFSET(InputPriceData!E$15,CalculationsAndCharts!$A1117+$A$11,IF($C$7,8,0),1,1)","v":0},{"$f":"OFFSET(InputPriceData!F$15,CalculationsAndCharts!$A1117+$A$11,IF($C$7,8,0),1,1)","v":0},0,0,0,0,0,0,{"$error":"#N/A"},false,0,false,{"$error":"#N/A"},{"$error":"#N/A"},true,false,false,false,false,false,{"$error":"#N/A"},false,{"$error":"#N/A"},false,false,false,false,false,false,{"$error":"#N/A"},0,0,0,0,0,null,{"$f":"OFFSET(InputIndexData!F$15,CalculationsAndCharts!$A1117+$A$11,IF($C$7,8,0),1,1)","v":0},0,1,1,true,null,212,{"$error":"#N/A"}]
[1090,{"$f":"OFFSET(InputPriceData!B$15,CalculationsAndCharts!$A1122+$A$11,0,1,1)","v":"00:00:00"},{"$f":"OFFSET(InputPriceData!G$15,CalculationsAndCharts!$A1122+$A$11,IF($C$7,8,0),1,1)","v":0},{"$f":"OFFSET(InputPriceData!C$15,CalculationsAndCharts!$A1122+$A$11,IF($C$7,8,0),1,1)","v":0},{"$f":"OFFSET(InputPriceData!D$15,CalculationsAndCharts!$A1122+$A$11,IF($C$7,8,0),1,1)","v":0},{"$f":"OFFSET(InputPriceData!E$15,CalculationsAndCharts!$A1122+$A$11,IF($C$7,8,0),1,1)","v":0},{"$f":"OFFSET(InputPriceData!F$15,CalculationsAndCharts!$A1122+$A$11,IF($C$7,8,0),1,1)","v":0},0,0,0,0,0,{"$f":"IF(D1122<=G1122,C1122,NA())","v":0},{"$f":"IF(D1122<=G1122,NA(),C1122)","v":{"$error":"#N/A"}},false,0,false,{"$error":"#N/A"},{"$error":"#N/A"},{"$f":"AND(OR(NOT($R$11),AT1122),OR(NOT($R$12),J1122>=I1122),OR(NOT($R$13),I1122>=H1122),OR(NOT($R$14),G1122>=I1122))","v":true},false,false,false,false,false,{"$error":"#N/A"},false,{"$error":"#N/A"},false,false,false,{"$f":"IF(AE1122,TRUE,IF(AG1123,FALSE,AF1123))","v":false},{"$f":"AND(AF1122,O1122)","v":false},false,{"$error":"#N/A"},{"$f":"IF($R$3,H1122,NA())","v":0},{"$f":"IF($R$4,I1122,NA())","v":0},{"$f":"IF($R$5,J1122,NA())","v":0},{"$f":"IF($R$6,K1122,NA())","v":0},{"$f":"IF($R$6,L1122,NA())","v":0},null,{"$f":"OFFSET(InputIndexData!F$15,CalculationsAndCharts!$A1122+$A$11,IF($C$7,8,0),1,1)","v":0},{"$f":"AVERAGE(OFFSET(AP1122,0,0,$D$17,1))","v":0},{"$f":"IF(AQ1122-AQ1123>=0,1,-1)","v":1},{"$f":"AVERAGE(OFFSET(AR1122,0,0,$D$18,1))","v":1},{"$f":"OR(AS1122>0,AND(AS1122=0,AS1123>0))","v":true},null,212,{"$error":"#N/A"}]
[1091,{"$f":"OFFSET(InputPriceData!B$15,CalculationsAndCharts!$A1123+$A$11,0,1,1)","v":"00:00:00"},{"$f":"OFFSET(InputPriceData!G$15,CalculationsAndCharts!$A1123+$A$11,IF($C$7,8,0),1,1)","v":0},{"$f":"OFFSET(InputPriceData!C$15,CalculationsAndCharts!$A1123+$A$11,IF($C$7,8,0),1,1)","v":0},{"$f":"OFFSET(InputPriceData!D$15,CalculationsAndCharts!$A1123+$A$11,IF($C$7,8,0),1,1)","v":0},{"$f":"OFFSET(InputPriceData!E$15,CalculationsAndCharts!$A1123+$A$11,IF($C$7,8,0),1,1)","v":0},{"$f":"OFFSET(InputPriceData!F$15,CalculationsAndCharts!$A1123+$A$11,IF($C$7,8,0),1,1)","v":0},0,0,0,0,0,0,{"$error":"#N/A"},false,0,false,{"$error":"#N/A"},{"$error":"#N/A"},true,false,false,false,false,false,{"$error":"#N/A"},false,{"$error":"#N/A"},false,false,false,false,false,false,{"$error":"#N/A"},0,0,0,0,0,null,{"$f":"OFFSET(InputIndexData!F$15,CalculationsAndCharts!$A1123+$A$11,IF($C$7,8,0),1,1)","v":0},0,1,1,true,null,212,{"$error":"#N/A"}]
[1095,{"$f":"OFFSET(InputPriceData!B$15,CalculationsAndCharts!$A1127+$A$11,0,1,1)","v":"00:00:00"},{"$f":"OFFSET(InputPriceData!G$15,CalculationsAndCharts!$A1127+$A$11,IF($C$7,8,0),1,1)","v":0},{"$f":"OFFSET(InputPriceData!C$15,CalculationsAndCharts!$A1127+$A$11,IF($C$7,8,0),1,1)","v":0},{"$f":"OFFSET(InputPriceData!D$15,CalculationsAndCharts!$A1127+$A$11,IF($C$7,8,0),1,1)","v":0},{"$f":"OFFSET(InputPriceData!E$15,CalculationsAndCharts!$A1127+$A$11,IF($C$7,8,0),1,1)","v":0},{"$f":"OFFSET(InputPriceData!F$15,CalculationsAndCharts!$A1127+$A$11,IF($C$7,8,0),1,1)","v":0},0,0,0,0,0,0,{"$error":"#N/A"},false,0,false,{"$error":"#N/A"},{"$error":"#N/A"},true,false,false,false,false,false,{"$error":"#N/A"},false,{"$error":"#N/A"},false,false,false,false,false,false,{"$error":"#N/A"},0,0,0,0,0,null,{"$f":"OFFSET(InputIndexData!F$15,CalculationsAndCharts!$A1127+$A$11,IF($C$7,8,0),1,1)","v":0},0,1,1,true,null,212,{"$error":"#N/A"}]
[1100,{"$f":"OFFSET(InputPriceData!B$15,CalculationsAndCharts!$A1132+$A$11,0,1,1)","v":"00:00:00"},{"$f":"OFFSET(InputPriceData!G$15,CalculationsAndCharts!$A1132+$A$11,IF($C$7,8,0),1,1)","v":0},{"$f":"OFFSET(InputPriceData!C$15,CalculationsAndCharts!$A1132+$A$11,IF($C$7,8,0),1,1)","v":0},{"$f":"OFFSET(InputPriceData!D$15,CalculationsAndCharts!$A1132+$A$11,IF($C$7,8,0),1,1)","v":0},{"$f":"OFFSET(InputPriceData!E$15,CalculationsAndCharts!$A1132+$A$11,IF($C$7,8,0),1,1)","v":0},{"$f":"OFFSET(InputPriceData!F$15,CalculationsAndCharts!$A1132+$A$11,IF($C$7,8,0),1,1)","v":0},0,0,0,0,0,0,{"$error":"#N/A"},false,0,false,{"$error":"#N/A"},{"$error":"#N/A"},true,false,false,false,false,false,{"$error":"#N/A"},false,{"$error":"#N/A"},false,false,false,false,false,false,{"$error":"#N/A"},0,0,0,0,0,null,{"$f":"OFFSET(InputIndexData!F$15,CalculationsAndCharts!$A1132+$A$11,IF($C$7,8,0),1,1)","v":0},0,1,1,true,null,212,{"$error":"#N/A"}]
[1105,{"$f":"OFFSET(InputPriceData!B$15,CalculationsAndCharts!$A1137+$A$11,0,1,1)","v":"00:00:00"},{"$f":"OFFSET(InputPriceData!G$15,CalculationsAndCharts!$A1137+$A$11,IF($C$7,8,0),1,1)","v":0},{"$f":"OFFSET(InputPriceData!C$15,CalculationsAndCharts!$A1137+$A$11,IF($C$7,8,0),1,1)","v":0},{"$f":"OFFSET(InputPriceData!D$15,CalculationsAndCharts!$A1137+$A$11,IF($C$7,8,0),1,1)","v":0},{"$f":"OFFSET(InputPriceData!E$15,CalculationsAndCharts!$A1137+$A$11,IF($C$7,8,0),1,1)","v":0},{"$f":"OFFSET(InputPriceData!F$15,CalculationsAndCharts!$A1137+$A$11,IF($C$7,8,0),1,1)","v":0},0,0,0,0,0,0,{"$error":"#N/A"},false,0,false,{"$error":"#N/A"},{"$error":"#N/A"},true,false,false,false,false,false,{"$error":"#N/A"},false,{"$error":"#N/A"},false,false,false,false,false,false,{"$error":"#N/A"},0,0,0,0,0,null,{"$f":"OFFSET(InputIndexData!F$15,CalculationsAndCharts!$A1137+$A$11,IF($C$7,8,0),1,1)","v":0},0,1,1,true,null,212,{"$error":"#N/A"}]
[1106,{"$f":"OFFSET(InputPriceData!B$15,CalculationsAndCharts!$A1138+$A$11,0,1,1)","v":"00:00:00"},{"$f":"OFFSET(InputPriceData!G$15,CalculationsAndCharts!$A1138+$A$11,IF($C$7,8,0),1,1)","v":0},{"$f":"OFFSET(InputPriceData!C$15,CalculationsAndCharts!$A1138+$A$11,IF($C$7,8,0),1,1)","v":0},{"$f":"OFFSET(InputPriceData!D$15,CalculationsAndCharts!$A1138+$A$11,IF($C$7,8,0),1,1)","v":0},{"$f":"OFFSET(InputPriceData!E$15,CalculationsAndCharts!$A1138+$A$11,IF($C$7,8,0),1,1)","v":0},{"$f":"OFFSET(InputPriceData!F$15,CalculationsAndCharts!$A1138+$A$11,IF($C$7,8,0),1,1)","v":0},0,0,0,0,0,0,{"$error":"#N/A"},false,0,false,{"$error":"#N/A"},{"$error":"#N/A"},true,false,false,false,false,false,{"$error":"#N/A"},false,{"$error":"#N/A"},false,false,false,false,false,false,{"$error":"#N/A"},0,0,0,0,0,null,{"$f":"OFFSET(InputIndexData!F$15,CalculationsAndCharts!$A1138+$A$11,IF($C$7,8,0),1,1)","v":0},0,1,1,true,null,212,{"$error":"#N/A"}]
[1112,{"$f":"OFFSET(InputPriceData!B$15,CalculationsAndCharts!$A1144+$A$11,0,1,1)","v":"00:00:00"},{"$f":"OFFSET(InputPriceData!G$15,CalculationsAndCharts!$A1144+$A$11,IF($C$7,8,0),1,1)","v":0},{"$f":"OFFSET(InputPriceData!C$15,CalculationsAndCharts!$A1144+$A$11,IF($C$7,8,0),1,1)","v":0},{"$f":"OFFSET(InputPriceData!D$15,CalculationsAndCharts!$A1144+$A$11,IF($C$7,8,0),1,1)","v":0},{"$f":"OFFSET(InputPriceData!E$15,CalculationsAndCharts!$A1144+$A$11,IF($C$7,8,0),1,1)","v":0},{"$f":"OFFSET(InputPriceData!F$15,CalculationsAndCharts!$A1144+$A$11,IF($C$7,8,0),1,1)","v":0},0,0,0,0,0,0,{"$error":"#N/A"},false,0,false,{"$error":"#N/A"},{"$error":"#N/A"},true,false,false,false,false,false,{"$error":"#N/A"},false,{"$error":"#N/A"},false,false,false,false,false,false,{"$error":"#N/A"},0,0,0,0,0,null,{"$f":"OFFSET(InputIndexData!F$15,CalculationsAndCharts!$A1144+$A$11,IF($C$7,8,0),1,1)","v":0},0,1,1,true,null,212,{"$error":"#N/A"}]
[1115,{"$f":"OFFSET(InputPriceData!B$15,CalculationsAndCharts!$A1147+$A$11,0,1,1)","v":"00:00:00"},{"$f":"OFFSET(InputPriceData!G$15,CalculationsAndCharts!$A1147+$A$11,IF($C$7,8,0),1,1)","v":0},{"$f":"OFFSET(InputPriceData!C$15,CalculationsAndCharts!$A1147+$A$11,IF($C$7,8,0),1,1)","v":0},{"$f":"OFFSET(InputPriceData!D$15,CalculationsAndCharts!$A1147+$A$11,IF($C$7,8,0),1,1)","v":0},{"$f":"OFFSET(InputPriceData!E$15,CalculationsAndCharts!$A1147+$A$11,IF($C$7,8,0),1,1)","v":0},{"$f":"OFFSET(InputPriceData!F$15,CalculationsAndCharts!$A1147+$A$11,IF($C$7,8,0),1,1)","v":0},0,0,0,0,0,0,{"$error":"#N/A"},false,0,false,{"$error":"#N/A"},{"$error":"#N/A"},true,false,false,false,false,false,{"$error":"#N/A"},false,{"$error":"#N/A"},false,false,false,false,false,false,{"$error":"#N/A"},0,0,0,0,0,null,{"$f":"OFFSET(InputIndexData!F$15,CalculationsAndCharts!$A1147+$A$11,IF($C$7,8,0),1,1)","v":0},0,1,1,true,null,212,{"$error":"#N/A"}]
[1120,{"$f":"OFFSET(InputPriceData!B$15,CalculationsAndCharts!$A1152+$A$11,0,1,1)","v":"00:00:00"},{"$f":"OFFSET(InputPriceData!G$15,CalculationsAndCharts!$A1152+$A$11,IF($C$7,8,0),1,1)","v":0},{"$f":"OFFSET(InputPriceData!C$15,CalculationsAndCharts!$A1152+$A$11,IF($C$7,8,0),1,1)","v":0},{"$f":"OFFSET(InputPriceData!D$15,CalculationsAndCharts!$A1152+$A$11,IF($C$7,8,0),1,1)","v":0},{"$f":"OFFSET(InputPriceData!E$15,CalculationsAndCharts!$A1152+$A$11,IF($C$7,8,0),1,1)","v":0},{"$f":"OFFSET(InputPriceData!F$15,CalculationsAndCharts!$A1152+$A$11,IF($C$7,8,0),1,1)","v":0},0,0,0,0,0,0,{"$error":"#N/A"},false,0,false,{"$error":"#N/A"},{"$error":"#N/A"},true,false,false,false,false,false,{"$error":"#N/A"},false,{"$error":"#N/A"},false,false,false,false,false,false,{"$error":"#N/A"},0,0,0,0,0,null,{"$f":"OFFSET(InputIndexData!F$15,CalculationsAndCharts!$A1152+$A$11,IF($C$7,8,0),1,1)","v":0},0,1,1,true,null,212,{"$error":"#N/A"}]
[1121,{"$f":"OFFSET(InputPriceData!B$15,CalculationsAndCharts!$A1153+$A$11,0,1,1)","v":"00:00:00"},{"$f":"OFFSET(InputPriceData!G$15,CalculationsAndCharts!$A1153+$A$11,IF($C$7,8,0),1,1)","v":0},{"$f":"OFFSET(InputPriceData!C$15,CalculationsAndCharts!$A1153+$A$11,IF($C$7,8,0),1,1)","v":0},{"$f":"OFFSET(InputPriceData!D$15,CalculationsAndCharts!$A1153+$A$11,IF($C$7,8,0),1,1)","v":0},{"$f":"OFFSET(InputPriceData!E$15,CalculationsAndCharts!$A1153+$A$11,IF($C$7,8,0),1,1)","v":0},{"$f":"OFFSET(InputPriceData!F$15,CalculationsAndCharts!$A1153+$A$11,IF($C$7,8,0),1,1)","v":0},0,0,0,0,0,0,{"$error":"#N/A"},false,0,false,{"$error":"#N/A"},{"$error":"#N/A"},true,false,false,false,false,false,{"$error":"#N/A"},false,{"$error":"#N/A"},false,false,false,false,false,false,{"$error":"#N/A"},0,0,0,0,0,null,{"$f":"OFFSET(InputIndexData!F$15,CalculationsAndCharts!$A1153+$A$11,IF($C$7,8,0),1,1)","v":0},0,1,1,true,null,212,{"$error":"#N/A"}]
[1126,{"$f":"OFFSET(InputPriceData!B$15,CalculationsAndCharts!$A1158+$A$11,0,1,1)","v":"00:00:00"},{"$f":"OFFSET(InputPriceData!G$15,CalculationsAndCharts!$A1158+$A$11,IF($C$7,8,0),1,1)","v":0},{"$f":"OFFSET(InputPriceData!C$15,CalculationsAndCharts!$A1158+$A$11,IF($C$7,8,0),1,1)","v":0},{"$f":"OFFSET(InputPriceData!D$15,CalculationsAndCharts!$A1158+$A$11,IF($C$7,8,0),1,1)","v":0},{"$f":"OFFSET(InputPriceData!E$15,CalculationsAndCharts!$A1158+$A$11,IF($C$7,8,0),1,1)","v":0},{"$f":"OFFSET(InputPriceData!F$15,CalculationsAndCharts!$A1158+$A$11,IF($C$7,8,0),1,1)","v":0},0,0,0,0,0,0,{"$error":"#N/A"},false,0,false,{"$error":"#N/A"},{"$error":"#N/A"},true,false,false,false,false,false,{"$error":"#N/A"},false,{"$error":"#N/A"},false,false,false,false,false,false,{"$error":"#N/A"},0,0,0,0,0,null,{"$f":"OFFSET(InputIndexData!F$15,CalculationsAndCharts!$A1158+$A$11,IF($C$7,8,0),1,1)","v":0},0,1,1,true,null,212,{"$error":"#N/A"}]
[1130,{"$f":"OFFSET(InputPriceData!B$15,CalculationsAndCharts!$A1162+$A$11,0,1,1)","v":"00:00:00"},{"$f":"OFFSET(InputPriceData!G$15,CalculationsAndCharts!$A1162+$A$11,IF($C$7,8,0),1,1)","v":0},{"$f":"OFFSET(InputPriceData!C$15,CalculationsAndCharts!$A1162+$A$11,IF($C$7,8,0),1,1)","v":0},{"$f":"OFFSET(InputPriceData!D$15,CalculationsAndCharts!$A1162+$A$11,IF($C$7,8,0),1,1)","v":0},{"$f":"OFFSET(InputPriceData!E$15,CalculationsAndCharts!$A1162+$A$11,IF($C$7,8,0),1,1)","v":0},{"$f":"OFFSET(InputPriceData!F$15,CalculationsAndCharts!$A1162+$A$11,IF($C$7,8,0),1,1)","v":0},0,0,0,0,0,0,{"$error":"#N/A"},false,0,false,{"$error":"#N/A"},{"$error":"#N/A"},true,false,false,false,false,false,{"$error":"#N/A"},false,{"$error":"#N/A"},false,false,false,false,false,false,{"$error":"#N/A"},0,0,0,0,0,null,{"$f":"OFFSET(InputIndexData!F$15,CalculationsAndCharts!$A1162+$A$11,IF($C$7,8,0),1,1)","v":0},0,1,1,true,null,212,{"$error":"#N/A"}]
[1135,{"$f":"OFFSET(InputPriceData!B$15,CalculationsAndCharts!$A1167+$A$11,0,1,1)","v":"00:00:00"},{"$f":"OFFSET(InputPriceData!G$15,CalculationsAndCharts!$A1167+$A$11,IF($C$7,8,0),1,1)","v":0},{"$f":"OFFSET(InputPriceData!C$15,CalculationsAndCharts!$A1167+$A$11,IF($C$7,8,0),1,1)","v":0},{"$f":"OFFSET(InputPriceData!D$15,CalculationsAndCharts!$A1167+$A$11,IF($C$7,8,0),1,1)","v":0},{"$f":"OFFSET(InputPriceData!E$15,CalculationsAndCharts!$A1167+$A$11,IF($C$7,8,0),1,1)","v":0},{"$f":"OFFSET(InputPriceData!F$15,CalculationsAndCharts!$A1167+$A$11,IF($C$7,8,0),1,1)","v":0},0,0,0,0,0,0,{"$error":"#N/A"},false,0,false,{"$error":"#N/A"},{"$error":"#N/A"},true,false,false,false,false,false,{"$error":"#N/A"},false,{"$error":"#N/A"},false,false,false,false,false,false,{"$error":"#N/A"},0,0,0,0,0,null,{"$f":"OFFSET(InputIndexData!F$15,CalculationsAndCharts!$A1167+$A$11,IF($C$7,8,0),1,1)","v":0},0,1,1,true,null,212,{"$error":"#N/A"}]
[1136,{"$f":"OFFSET(InputPriceData!B$15,CalculationsAndCharts!$A1168+$A$11,0,1,1)","v":"00:00:00"},{"$f":"OFFSET(InputPriceData!G$15,CalculationsAndCharts!$A1168+$A$11,IF($C$7,8,0),1,1)","v":0},{"$f":"OFFSET(InputPriceData!C$15,CalculationsAndCharts!$A1168+$A$11,IF($C$7,8,0),1,1)","v":0},{"$f":"OFFSET(InputPriceData!D$15,CalculationsAndCharts!$A1168+$A$11,IF($C$7,8,0),1,1)","v":0},{"$f":"OFFSET(InputPriceData!E$15,CalculationsAndCharts!$A1168+$A$11,IF($C$7,8,0),1,1)","v":0},{"$f":"OFFSET(InputPriceData!F$15,CalculationsAndCharts!$A1168+$A$11,IF($C$7,8,0),1,1)","v":0},0,0,0,0,0,0,{"$error":"#N/A"},false,0,false,{"$error":"#N/A"},{"$error":"#N/A"},true,false,false,false,false,false,{"$error":"#N/A"},false,{"$error":"#N/A"},false,false,false,false,false,false,{"$error":"#N/A"},0,0,0,0,0,null,{"$f":"OFFSET(InputIndexData!F$15,CalculationsAndCharts!$A1168+$A$11,IF($C$7,8,0),1,1)","v":0},0,1,1,true,null,212,{"$error":"#N/A"}]
[1141,{"$f":"OFFSET(InputPriceData!B$15,CalculationsAndCharts!$A1173+$A$11,0,1,1)","v":"00:00:00"},{"$f":"OFFSET(InputPriceData!G$15,CalculationsAndCharts!$A1173+$A$11,IF($C$7,8,0),1,1)","v":0},{"$f":"OFFSET(InputPriceData!C$15,CalculationsAndCharts!$A1173+$A$11,IF($C$7,8,0),1,1)","v":0},{"$f":"OFFSET(InputPriceData!D$15,CalculationsAndCharts!$A1173+$A$11,IF($C$7,8,0),1,1)","v":0},{"$f":"OFFSET(InputPriceData!E$15,CalculationsAndCharts!$A1173+$A$11,IF($C$7,8,0),1,1)","v":0},{"$f":"OFFSET(InputPriceData!F$15,CalculationsAndCharts!$A1173+$A$11,IF($C$7,8,0),1,1)","v":0},0,0,0,0,0,0,{"$error":"#N/A"},false,0,false,{"$error":"#N/A"},{"$error":"#N/A"},true,false,false,false,false,false,{"$error":"#N/A"},false,{"$error":"#N/A"},false,false,false,false,false,false,{"$error":"#N/A"},0,0,0,0,0,null,{"$f":"OFFSET(InputIndexData!F$15,CalculationsAndCharts!$A1173+$A$11,IF($C$7,8,0),1,1)","v":0},0,1,1,true,null,212,{"$error":"#N/A"}]
[1146,{"$f":"OFFSET(InputPriceData!B$15,CalculationsAndCharts!$A1178+$A$11,0,1,1)","v":"00:00:00"},{"$f":"OFFSET(InputPriceData!G$15,CalculationsAndCharts!$A1178+$A$11,IF($C$7,8,0),1,1)","v":0},{"$f":"OFFSET(InputPriceData!C$15,CalculationsAndCharts!$A1178+$A$11,IF($C$7,8,0),1,1)","v":0},{"$f":"OFFSET(InputPriceData!D$15,CalculationsAndCharts!$A1178+$A$11,IF($C$7,8,0),1,1)","v":0},{"$f":"OFFSET(InputPriceData!E$15,CalculationsAndCharts!$A1178+$A$11,IF($C$7,8,0),1,1)","v":0},{"$f":"OFFSET(InputPriceData!F$15,CalculationsAndCharts!$A1178+$A$11,IF($C$7,8,0),1,1)","v":0},0,0,0,0,0,0,{"$error":"#N/A"},false,0,false,{"$error":"#N/A"},{"$error":"#N/A"},true,false,false,false,false,false,{"$error":"#N/A"},false,{"$error":"#N/A"},false,false,false,false,false,false,{"$error":"#N/A"},0,0,0,0,0,null,{"$f":"OFFSET(InputIndexData!F$15,CalculationsAndCharts!$A1178+$A$11,IF($C$7,8,0),1,1)","v":0},0,1,1,true,null,212,{"$error":"#N/A"}]
[1151,{"$f":"OFFSET(InputPriceData!B$15,CalculationsAndCharts!$A1183+$A$11,0,1,1)","v":"00:00:00"},{"$f":"OFFSET(InputPriceData!G$15,CalculationsAndCharts!$A1183+$A$11,IF($C$7,8,0),1,1)","v":0},{"$f":"OFFSET(InputPriceData!C$15,CalculationsAndCharts!$A1183+$A$11,IF($C$7,8,0),1,1)","v":0},{"$f":"OFFSET(InputPriceData!D$15,CalculationsAndCharts!$A1183+$A$11,IF($C$7,8,0),1,1)","v":0},{"$f":"OFFSET(InputPriceData!E$15,CalculationsAndCharts!$A1183+$A$11,IF($C$7,8,0),1,1)","v":0},{"$f":"OFFSET(InputPriceData!F$15,CalculationsAndCharts!$A1183+$A$11,IF($C$7,8,0),1,1)","v":0},0,0,0,0,0,0,{"$error":"#N/A"},false,0,false,{"$error":"#N/A"},{"$error":"#N/A"},true,false,false,false,false,false,{"$error":"#N/A"},false,{"$error":"#N/A"},false,false,false,false,false,false,{"$error":"#N/A"},0,0,0,0,0,null,{"$f":"OFFSET(InputIndexData!F$15,CalculationsAndCharts!$A1183+$A$11,IF($C$7,8,0),1,1)","v":0},0,1,1,true,null,212,{"$error":"#N/A"}]
[1152,{"$f":"OFFSET(InputPriceData!B$15,CalculationsAndCharts!$A1184+$A$11,0,1,1)","v":"00:00:00"},{"$f":"OFFSET(InputPriceData!G$15,CalculationsAndCharts!$A1184+$A$11,IF($C$7,8,0),1,1)","v":0},{"$f":"OFFSET(InputPriceData!C$15,CalculationsAndCharts!$A1184+$A$11,IF($C$7,8,0),1,1)","v":0},{"$f":"OFFSET(InputPriceData!D$15,CalculationsAndCharts!$A1184+$A$11,IF($C$7,8,0),1,1)","v":0},{"$f":"OFFSET(InputPriceData!E$15,CalculationsAndCharts!$A1184+$A$11,IF($C$7,8,0),1,1)","v":0},{"$f":"OFFSET(InputPriceData!F$15,CalculationsAndCharts!$A1184+$A$11,IF($C$7,8,0),1,1)","v":0},0,0,0,0,0,0,{"$error":"#N/A"},false,0,false,{"$error":"#N/A"},{"$error":"#N/A"},true,false,false,false,false,false,{"$error":"#N/A"},false,{"$error":"#N/A"},false,false,false,false,false,false,{"$error":"#N/A"},0,0,0,0,0,null,{"$f":"OFFSET(InputIndexData!F$15,CalculationsAndCharts!$A1184+$A$11,IF($C$7,8,0),1,1)","v":0},0,1,1,true,null,212,{"$error":"#N/A"}]
[1156,{"$f":"OFFSET(InputPriceData!B$15,CalculationsAndCharts!$A1188+$A$11,0,1,1)","v":"00:00:00"},{"$f":"OFFSET(InputPriceData!G$15,CalculationsAndCharts!$A1188+$A$11,IF($C$7,8,0),1,1)","v":0},{"$f":"OFFSET(InputPriceData!C$15,CalculationsAndCharts!$A1188+$A$11,IF($C$7,8,0),1,1)","v":0},{"$f":"OFFSET(InputPriceData!D$15,CalculationsAndCharts!$A1188+$A$11,IF($C$7,8,0),1,1)","v":0},{"$f":"OFFSET(InputPriceData!E$15,CalculationsAndCharts!$A1188+$A$11,IF($C$7,8,0),1,1)","v":0},{"$f":"OFFSET(InputPriceData!F$15,CalculationsAndCharts!$A1188+$A$11,IF($C$7,8,0),1,1)","v":0},0,0,0,0,0,0,{"$error":"#N/A"},false,0,false,{"$error":"#N/A"},{"$error":"#N/A"},true,false,false,false,false,false,{"$error":"#N/A"},false,{"$error":"#N/A"},false,false,false,false,false,false,{"$error":"#N/A"},0,0,0,0,0,null,{"$f":"OFFSET(InputIndexData!F$15,CalculationsAndCharts!$A1188+$A$11,IF($C$7,8,0),1,1)","v":0},0,1,1,true,null,212,{"$error":"#N/A"}]
[1161,{"$f":"OFFSET(InputPriceData!B$15,CalculationsAndCharts!$A1193+$A$11,0,1,1)","v":"00:00:00"},{"$f":"OFFSET(InputPriceData!G$15,CalculationsAndCharts!$A1193+$A$11,IF($C$7,8,0),1,1)","v":0},{"$f":"OFFSET(InputPriceData!C$15,CalculationsAndCharts!$A1193+$A$11,IF($C$7,8,0),1,1)","v":0},{"$f":"OFFSET(InputPriceData!D$15,CalculationsAndCharts!$A1193+$A$11,IF($C$7,8,0),1,1)","v":0},{"$f":"OFFSET(InputPriceData!E$15,CalculationsAndCharts!$A1193+$A$11,IF($C$7,8,0),1,1)","v":0},{"$f":"OFFSET(InputPriceData!F$15,CalculationsAndCharts!$A1193+$A$11,IF($C$7,8,0),1,1)","v":0},0,0,0,0,0,0,{"$error":"#N/A"},false,0,false,{"$f":"IF(O1193,G1193,NA())","v":{"$error":"#N/A"}},{"$f":"IF(Q1193,G1193,NA())","v":{"$error":"#N/A"}},true,false,false,false,false,false,{"$error":"#N/A"},false,{"$error":"#N/A"},false,false,false,false,false,false,{"$error":"#N/A"},0,0,0,0,0,null,{"$f":"OFFSET(InputIndexData!F$15,CalculationsAndCharts!$A1193+$A$11,IF($C$7,8,0),1,1)","v":0},0,1,1,true,null,212,{"$error":"#N/A"}]
[1166,{"$f":"OFFSET(InputPriceData!B$15,CalculationsAndCharts!$A1198+$A$11,0,1,1)","v":"00:00:00"},{"$f":"OFFSET(InputPriceData!G$15,CalculationsAndCharts!$A1198+$A$11,IF($C$7,8,0),1,1)","v":0},{"$f":"OFFSET(InputPriceData!C$15,CalculationsAndCharts!$A1198+$A$11,IF($C$7,8,0),1,1)","v":0},{"$f":"OFFSET(InputPriceData!D$15,CalculationsAndCharts!$A1198+$A$11,IF($C$7,8,0),1,1)","v":0},{"$f":"OFFSET(InputPriceData!E$15,CalculationsAndCharts!$A1198+$A$11,IF($C$7,8,0),1,1)","v":0},{"$f":"OFFSET(InputPriceData!F$15,CalculationsAndCharts!$A1198+$A$11,IF($C$7,8,0),1,1)","v":0},0,0,0,0,0,0,{"$error":"#N/A"},false,0,false,{"$error":"#N/A"},{"$error":"#N/A"},true,false,false,false,false,false,{"$error":"#N/A"},false,{"$error":"#N/A"},false,false,false,false,false,false,{"$error":"#N/A"},0,0,0,0,0,null,{"$f":"OFFSET(InputIndexData!F$15,CalculationsAndCharts!$A1198+$A$11,IF($C$7,8,0),1,1)","v":0},0,1,1,true,null,212,{"$error":"#N/A"}]
[1167,{"$f":"OFFSET(InputPriceData!B$15,CalculationsAndCharts!$A1199+$A$11,0,1,1)","v":"00:00:00"},{"$f":"OFFSET(InputPriceData!G$15,CalculationsAndCharts!$A1199+$A$11,IF($C$7,8,0),1,1)","v":0},{"$f":"OFFSET(InputPriceData!C$15,CalculationsAndCharts!$A1199+$A$11,IF($C$7,8,0),1,1)","v":0},{"$f":"OFFSET(InputPriceData!D$15,CalculationsAndCharts!$A1199+$A$11,IF($C$7,8,0),1,1)","v":0},{"$f":"OFFSET(InputPriceData!E$15,CalculationsAndCharts!$A1199+$A$11,IF($C$7,8,0),1,1)","v":0},{"$f":"OFFSET(InputPriceData!F$15,CalculationsAndCharts!$A1199+$A$11,IF($C$7,8,0),1,1)","v":0},0,0,0,0,0,0,{"$error":"#N/A"},false,0,false,{"$error":"#N/A"},{"$error":"#N/A"},true,false,false,false,false,false,{"$error":"#N/A"},false,{"$error":"#N/A"},false,false,false,false,false,false,{"$error":"#N/A"},0,0,0,0,0,null,{"$f":"OFFSET(InputIndexData!F$15,CalculationsAndCharts!$A1199+$A$11,IF($C$7,8,0),1,1)","v":0},0,1,1,true,null,212,{"$error":"#N/A"}]
[1173,{"$f":"OFFSET(InputPriceData!B$15,CalculationsAndCharts!$A1205+$A$11,0,1,1)","v":"00:00:00"},{"$f":"OFFSET(InputPriceData!G$15,CalculationsAndCharts!$A1205+$A$11,IF($C$7,8,0),1,1)","v":0},{"$f":"OFFSET(InputPriceData!C$15,CalculationsAndCharts!$A1205+$A$11,IF($C$7,8,0),1,1)","v":0},{"$f":"OFFSET(InputPriceData!D$15,CalculationsAndCharts!$A1205+$A$11,IF($C$7,8,0),1,1)","v":0},{"$f":"OFFSET(InputPriceData!E$15,CalculationsAndCharts!$A1205+$A$11,IF($C$7,8,0),1,1)","v":0},{"$f":"OFFSET(InputPriceData!F$15,CalculationsAndCharts!$A1205+$A$11,IF($C$7,8,0),1,1)","v":0},0,0,0,0,0,0,{"$error":"#N/A"},false,0,false,{"$error":"#N/A"},{"$error":"#N/A"},true,false,false,false,false,false,{"$error":"#N/A"},false,{"$error":"#N/A"},false,false,false,false,false,false,{"$error":"#N/A"},0,0,0,0,0,null,{"$f":"OFFSET(InputIndexData!F$15,CalculationsAndCharts!$A1205+$A$11,IF($C$7,8,0),1,1)","v":0},0,1,1,true,null,212,{"$error":"#N/A"}]
[1176,{"$f":"OFFSET(InputPriceData!B$15,CalculationsAndCharts!$A1208+$A$11,0,1,1)","v":"00:00:00"},{"$f":"OFFSET(InputPriceData!G$15,CalculationsAndCharts!$A1208+$A$11,IF($C$7,8,0),1,1)","v":0},{"$f":"OFFSET(InputPriceData!C$15,CalculationsAndCharts!$A1208+$A$11,IF($C$7,8,0),1,1)","v":0},{"$f":"OFFSET(InputPriceData!D$15,CalculationsAndCharts!$A1208+$A$11,IF($C$7,8,0),1,1)","v":0},{"$f":"OFFSET(InputPriceData!E$15,CalculationsAndCharts!$A1208+$A$11,IF($C$7,8,0),1,1)","v":0},{"$f":"OFFSET(InputPriceData!F$15,CalculationsAndCharts!$A1208+$A$11,IF($C$7,8,0),1,1)","v":0},0,0,0,0,0,0,{"$error":"#N/A"},false,0,false,{"$error":"#N/A"},{"$error":"#N/A"},true,false,false,false,false,false,{"$error":"#N/A"},false,{"$error":"#N/A"},false,false,false,false,false,false,{"$error":"#N/A"},0,0,0,0,0,null,{"$f":"OFFSET(InputIndexData!F$15,CalculationsAndCharts!$A1208+$A$11,IF($C$7,8,0),1,1)","v":0},0,1,1,true,null,212,{"$error":"#N/A"}]
[1181,{"$f":"OFFSET(InputPriceData!B$15,CalculationsAndCharts!$A1213+$A$11,0,1,1)","v":"00:00:00"},{"$f":"OFFSET(InputPriceData!G$15,CalculationsAndCharts!$A1213+$A$11,IF($C$7,8,0),1,1)","v":0},{"$f":"OFFSET(InputPriceData!C$15,CalculationsAndCharts!$A1213+$A$11,IF($C$7,8,0),1,1)","v":0},{"$f":"OFFSET(InputPriceData!D$15,CalculationsAndCharts!$A1213+$A$11,IF($C$7,8,0),1,1)","v":0},{"$f":"OFFSET(InputPriceData!E$15,CalculationsAndCharts!$A1213+$A$11,IF($C$7,8,0),1,1)","v":0},{"$f":"OFFSET(InputPriceData!F$15,CalculationsAndCharts!$A1213+$A$11,IF($C$7,8,0),1,1)","v":0},0,0,0,0,0,0,{"$error":"#N/A"},false,0,false,{"$error":"#N/A"},{"$error":"#N/A"},true,false,false,false,false,false,{"$error":"#N/A"},false,{"$error":"#N/A"},false,false,false,false,false,false,{"$error":"#N/A"},0,0,0,0,0,null,{"$f":"OFFSET(InputIndexData!F$15,CalculationsAndCharts!$A1213+$A$11,IF($C$7,8,0),1,1)","v":0},0,1,1,true,null,212,{"$error":"#N/A"}]
[1182,{"$f":"OFFSET(InputPriceData!B$15,CalculationsAndCharts!$A1214+$A$11,0,1,1)","v":"00:00:00"},{"$f":"OFFSET(InputPriceData!G$15,CalculationsAndCharts!$A1214+$A$11,IF($C$7,8,0),1,1)","v":0},{"$f":"OFFSET(InputPriceData!C$15,CalculationsAndCharts!$A1214+$A$11,IF($C$7,8,0),1,1)","v":0},{"$f":"OFFSET(InputPriceData!D$15,CalculationsAndCharts!$A1214+$A$11,IF($C$7,8,0),1,1)","v":0},{"$f":"OFFSET(InputPriceData!E$15,CalculationsAndCharts!$A1214+$A$11,IF($C$7,8,0),1,1)","v":0},{"$f":"OFFSET(InputPriceData!F$15,CalculationsAndCharts!$A1214+$A$11,IF($C$7,8,0),1,1)","v":0},0,0,0,0,0,0,{"$error":"#N/A"},false,0,false,{"$error":"#N/A"},{"$error":"#N/A"},true,false,{"$f":"U1215","v":false},false,false,false,{"$error":"#N/A"},false,{"$error":"#N/A"},false,false,false,false,false,false,{"$error":"#N/A"},0,0,0,0,0,null,{"$f":"OFFSET(InputIndexData!F$15,CalculationsAndCharts!$A1214+$A$11,IF($C$7,8,0),1,1)","v":0},0,1,1,true,null,212,{"$error":"#N/A"}]
[1187,{"$f":"OFFSET(InputPriceData!B$15,CalculationsAndCharts!$A1219+$A$11,0,1,1)","v":"00:00:00"},{"$f":"OFFSET(InputPriceData!G$15,CalculationsAndCharts!$A1219+$A$11,IF($C$7,8,0),1,1)","v":0},{"$f":"OFFSET(InputPriceData!C$15,CalculationsAndCharts!$A1219+$A$11,IF($C$7,8,0),1,1)","v":0},{"$f":"OFFSET(InputPriceData!D$15,CalculationsAndCharts!$A1219+$A$11,IF($C$7,8,0),1,1)","v":0},{"$f":"OFFSET(InputPriceData!E$15,CalculationsAndCharts!$A1219+$A$11,IF($C$7,8,0),1,1)","v":0},{"$f":"OFFSET(InputPriceData!F$15,CalculationsAndCharts!$A1219+$A$11,IF($C$7,8,0),1,1)","v":0},0,0,0,0,0,0,{"$error":"#N/A"},false,0,false,{"$error":"#N/A"},{"$error":"#N/A"},true,false,false,{"$f":"IF(V1219,TRUE,IF(X1220,FALSE,W1220))","v":false},false,false,{"$error":"#N/A"},false,{"$error":"#N/A"},false,false,false,false,false,false,{"$error":"#N/A"},0,0,0,0,0,null,{"$f":"OFFSET(InputIndexData!F$15,CalculationsAndCharts!$A1219+$A$11,IF($C$7,8,0),1,1)","v":0},0,1,1,true,null,212,{"$error":"#N/A"}]
[1192,{"$f":"OFFSET(InputPriceData!B$15,CalculationsAndCharts!$A1224+$A$11,0,1,1)","v":"00:00:00"},{"$f":"OFFSET(InputPriceData!G$15,CalculationsAndCharts!$A1224+$A$11,IF($C$7,8,0),1,1)","v":0},{"$f":"OFFSET(InputPriceData!C$15,CalculationsAndCharts!$A1224+$A$11,IF($C$7,8,0),1,1)","v":0},{"$f":"OFFSET(InputPriceData!D$15,CalculationsAndCharts!$A1224+$A$11,IF($C$7,8,0),1,1)","v":0},{"$f":"OFFSET(InputPriceData!E$15,CalculationsAndCharts!$A1224+$A$11,IF($C$7,8,0),1,1)","v":0},{"$f":"OFFSET(InputPriceData!F$15,CalculationsAndCharts!$A1224+$A$11,IF($C$7,8,0),1,1)","v":0},0,0,0,0,0,0,{"$error":"#N/A"},false,0,false,{"$error":"#N/A"},{"$error":"#N/A"},true,false,false,false,false,false,{"$error":"#N/A"},false,{"$error":"#N/A"},false,false,false,false,false,false,{"$error":"#N/A"},0,0,0,0,0,null,{"$f":"OFFSET(InputIndexData!F$15,CalculationsAndCharts!$A1224+$A$11,IF($C$7,8,0),1,1)","v":0},0,1,1,true,null,212,{"$error":"#N/A"}]
[1195,{"$f":"OFFSET(InputPriceData!B$15,CalculationsAndCharts!$A1227+$A$11,0,1,1)","v":"00:00:00"},{"$f":"OFFSET(InputPriceData!G$15,CalculationsAndCharts!$A1227+$A$11,IF($C$7,8,0),1,1)","v":0},{"$f":"OFFSET(InputPriceData!C$15,CalculationsAndCharts!$A1227+$A$11,IF($C$7,8,0),1,1)","v":0},{"$f":"OFFSET(InputPriceData!D$15,CalculationsAndCharts!$A1227+$A$11,IF($C$7,8,0),1,1)","v":0},{"$f":"OFFSET(InputPriceData!E$15,CalculationsAndCharts!$A1227+$A$11,IF($C$7,8,0),1,1)","v":0},{"$f":"OFFSET(InputPriceData!F$15,CalculationsAndCharts!$A1227+$A$11,IF($C$7,8,0),1,1)","v":0},0,0,0,0,0,0,{"$error":"#N/A"},false,0,false,{"$error":"#N/A"},{"$error":"#N/A"},true,false,false,false,false,false,{"$error":"#N/A"},false,{"$error":"#N/A"},false,false,false,false,false,false,{"$error":"#N/A"},0,0,0,0,0,null,{"$f":"OFFSET(InputIndexData!F$15,CalculationsAndCharts!$A1227+$A$11,IF($C$7,8,0),1,1)","v":0},0,1,1,true,null,212,{"$error":"#N/A"}]
[1197,{"$f":"OFFSET(InputPriceData!B$15,CalculationsAndCharts!$A1229+$A$11,0,1,1)","v":"00:00:00"},{"$f":"OFFSET(InputPriceData!G$15,CalculationsAndCharts!$A1229+$A$11,IF($C$7,8,0),1,1)","v":0},{"$f":"OFFSET(InputPriceData!C$15,CalculationsAndCharts!$A1229+$A$11,IF($C$7,8,0),1,1)","v":0},{"$f":"OFFSET(InputPriceData!D$15,CalculationsAndCharts!$A1229+$A$11,IF($C$7,8,0),1,1)","v":0},{"$f":"OFFSET(InputPriceData!E$15,CalculationsAndCharts!$A1229+$A$11,IF($C$7,8,0),1,1)","v":0},{"$f":"OFFSET(InputPriceData!F$15,CalculationsAndCharts!$A1229+$A$11,IF($C$7,8,0),1,1)","v":0},0,0,0,0,0,0,{"$error":"#N/A"},false,0,false,{"$error":"#N/A"},{"$error":"#N/A"},true,false,false,false,false,false,{"$error":"#N/A"},false,{"$error":"#N/A"},false,false,false,false,false,false,{"$error":"#N/A"},0,0,0,0,0,null,{"$f":"OFFSET(InputIndexData!F$15,CalculationsAndCharts!$A1229+$A$11,IF($C$7,8,0),1,1)","v":0},0,1,1,true,null,212,{"$error":"#N/A"}]
[1202,{"$f":"OFFSET(InputPriceData!B$15,CalculationsAndCharts!$A1234+$A$11,0,1,1)","v":"00:00:00"},{"$f":"OFFSET(InputPriceData!G$15,CalculationsAndCharts!$A1234+$A$11,IF($C$7,8,0),1,1)","v":0},{"$f":"OFFSET(InputPriceData!C$15,CalculationsAndCharts!$A1234+$A$11,IF($C$7,8,0),1,1)","v":0},{"$f":"OFFSET(InputPriceData!D$15,CalculationsAndCharts!$A1234+$A$11,IF($C$7,8,0),1,1)","v":0},{"$f":"OFFSET(InputPriceData!E$15,CalculationsAndCharts!$A1234+$A$11,IF($C$7,8,0),1,1)","v":0},{"$f":"OFFSET(InputPriceData!F$15,CalculationsAndCharts!$A1234+$A$11,IF($C$7,8,0),1,1)","v":0},0,0,0,0,0,0,{"$error":"#N/A"},false,0,false,{"$error":"#N/A"},{"$error":"#N/A"},true,false,false,false,false,false,{"$error":"#N/A"},false,{"$error":"#N/A"},false,false,false,false,false,false,{"$error":"#N/A"},0,0,0,0,0,null,{"$f":"OFFSET(InputIndexData!F$15,CalculationsAndCharts!$A1234+$A$11,IF($C$7,8,0),1,1)","v":0},0,1,1,true,null,212,{"$error":"#N/A"}]
[1207,{"$f":"OFFSET(InputPriceData!B$15,CalculationsAndCharts!$A1239+$A$11,0,1,1)","v":"00:00:00"},{"$f":"OFFSET(InputPriceData!G$15,CalculationsAndCharts!$A1239+$A$11,IF($C$7,8,0),1,1)","v":0},{"$f":"OFFSET(InputPriceData!C$15,CalculationsAndCharts!$A1239+$A$11,IF($C$7,8,0),1,1)","v":0},{"$f":"OFFSET(InputPriceData!D$15,CalculationsAndCharts!$A1239+$A$11,IF($C$7,8,0),1,1)","v":0},{"$f":"OFFSET(InputPriceData!E$15,CalculationsAndCharts!$A1239+$A$11,IF($C$7,8,0),1,1)","v":0},{"$f":"OFFSET(InputPriceData!F$15,CalculationsAndCharts!$A1239+$A$11,IF($C$7,8,0),1,1)","v":0},0,0,0,0,0,0,{"$error":"#N/A"},false,0,false,{"$error":"#N/A"},{"$error":"#N/A"},true,false,false,false,false,false,{"$error":"#N/A"},false,{"$error":"#N/A"},false,false,false,false,false,false,{"$error":"#N/A"},0,0,0,0,0,null,{"$f":"OFFSET(InputIndexData!F$15,CalculationsAndCharts!$A1239+$A$11,IF($C$7,8,0),1,1)","v":0},0,1,1,true,null,212,{"$error":"#N/A"}]
[1212,{"$f":"OFFSET(InputPriceData!B$15,CalculationsAndCharts!$A1244+$A$11,0,1,1)","v":"00:00:00"},{"$f":"OFFSET(InputPriceData!G$15,CalculationsAndCharts!$A1244+$A$11,IF($C$7,8,0),1,1)","v":0},{"$f":"OFFSET(InputPriceData!C$15,CalculationsAndCharts!$A1244+$A$11,IF($C$7,8,0),1,1)","v":0},{"$f":"OFFSET(InputPriceData!D$15,CalculationsAndCharts!$A1244+$A$11,IF($C$7,8,0),1,1)","v":0},{"$f":"OFFSET(InputPriceData!E$15,CalculationsAndCharts!$A1244+$A$11,IF($C$7,8,0),1,1)","v":0},{"$f":"OFFSET(InputPriceData!F$15,CalculationsAndCharts!$A1244+$A$11,IF($C$7,8,0),1,1)","v":0},0,0,0,0,0,0,{"$error":"#N/A"},false,0,false,{"$error":"#N/A"},{"$error":"#N/A"},true,false,false,false,false,false,{"$error":"#N/A"},false,{"$error":"#N/A"},false,false,false,false,false,false,{"$error":"#N/A"},0,0,0,0,0,null,{"$f":"OFFSET(InputIndexData!F$15,CalculationsAndCharts!$A1244+$A$11,IF($C$7,8,0),1,1)","v":0},0,1,1,true,null,212,{"$error":"#N/A"}]
[1213,{"$f":"OFFSET(InputPriceData!B$15,CalculationsAndCharts!$A1245+$A$11,0,1,1)","v":"00:00:00"},{"$f":"OFFSET(InputPriceData!G$15,CalculationsAndCharts!$A1245+$A$11,IF($C$7,8,0),1,1)","v":0},{"$f":"OFFSET(InputPriceData!C$15,CalculationsAndCharts!$A1245+$A$11,IF($C$7,8,0),1,1)","v":0},{"$f":"OFFSET(InputPriceData!D$15,CalculationsAndCharts!$A1245+$A$11,IF($C$7,8,0),1,1)","v":0},{"$f":"OFFSET(InputPriceData!E$15,CalculationsAndCharts!$A1245+$A$11,IF($C$7,8,0),1,1)","v":0},{"$f":"OFFSET(InputPriceData!F$15,CalculationsAndCharts!$A1245+$A$11,IF($C$7,8,0),1,1)","v":0},0,0,0,0,0,0,{"$error":"#N/A"},false,0,false,{"$error":"#N/A"},{"$error":"#N/A"},true,false,false,false,false,false,{"$error":"#N/A"},false,{"$error":"#N/A"},false,false,false,false,false,false,{"$error":"#N/A"},0,0,0,0,0,null,{"$f":"OFFSET(InputIndexData!F$15,CalculationsAndCharts!$A1245+$A$11,IF($C$7,8,0),1,1)","v":0},0,1,1,true,null,212,{"$error":"#N/A"}]
[1217,{"$f":"OFFSET(InputPriceData!B$15,CalculationsAndCharts!$A1249+$A$11,0,1,1)","v":"00:00:00"},{"$f":"OFFSET(InputPriceData!G$15,CalculationsAndCharts!$A1249+$A$11,IF($C$7,8,0),1,1)","v":0},{"$f":"OFFSET(InputPriceData!C$15,CalculationsAndCharts!$A1249+$A$11,IF($C$7,8,0),1,1)","v":0},{"$f":"OFFSET(InputPriceData!D$15,CalculationsAndCharts!$A1249+$A$11,IF($C$7,8,0),1,1)","v":0},{"$f":"OFFSET(InputPriceData!E$15,CalculationsAndCharts!$A1249+$A$11,IF($C$7,8,0),1,1)","v":0},{"$f":"OFFSET(InputPriceData!F$15,CalculationsAndCharts!$A1249+$A$11,IF($C$7,8,0),1,1)","v":0},{"$f":"AVERAGE(OFFSET(G1249,0,0,$A$17,1))","v":0},{"$f":"AVERAGE(OFFSET(G1249,0,0,$A$18,1))","v":0},{"$f":"AVERAGE(OFFSET(G1249,0,0,$A$19,1))","v":0},{"$f":"AVERAGE(OFFSET(E1249,0,0,$A$20,1))","v":0},{"$f":"AVERAGE(OFFSET(F1249,0,0,$A$21,1))","v":0},0,{"$error":"#N/A"},{"$f":"AND(G1250<=K1250,G1249>K1249,OR(P1250=\"DOWN\",P1250=0))","v":false},{"$f":"IF(AND(OR(P1250=0,P1250=\"UP\"),Q1249),\"DOWN\",IF(AND(OR(P1250=0,P1250=\"DOWN\"),O1249),\"UP\",P1250))","v":0},{"$f":"AND(G1250>=L1250,G1249<L1249,OR(P1250=0,P1250=\"UP\"))","v":false},{"$error":"#N/A"},{"$error":"#N/A"},true,{"$f":"AND(T1249,O1249)","v":false},false,false,{"$f":"AND(W1249,Q1249)","v":false},false,{"$f":"IF(AND(NOT(AA1249),OR(W1249,Y1249)),$F$11,NA())","v":{"$error":"#N/A"}},false,{"$error":"#N/A"},false,{"$f":"AND(AC1249,Q1249)","v":false},{"$f":"AD1250","v":false},false,false,{"$f":"AG1250","v":false},{"$f":"IF(AND(NOT(AA1249),OR(AF1249,AH1249)),$F$11,NA())","v":{"$error":"#N/A"}},0,0,0,0,0,null,{"$f":"OFFSET(InputIndexData!F$15,CalculationsAndCharts!$A1249+$A$11,IF($C$7,8,0),1,1)","v":0},0,1,1,true,null,{"$f":"IF(AT1249,$AR$26,NA())","v":212},{"$f":"IF(AT1249,NA(),$AR$26)","v":{"$error":"#N/A"}}]
[1222,{"$f":"OFFSET(InputPriceData!B$15,CalculationsAndCharts!$A1254+$A$11,0,1,1)","v":"00:00:00"},{"$f":"OFFSET(InputPriceData!G$15,CalculationsAndCharts!$A1254+$A$11,IF($C$7,8,0),1,1)","v":0},{"$f":"OFFSET(InputPriceData!C$15,CalculationsAndCharts!$A1254+$A$11,IF($C$7,8,0),1,1)","v":0},{"$f":"OFFSET(InputPriceData!D$15,CalculationsAndCharts!$A1254+$A$11,IF($C$7,8,0),1,1)","v":0},{"$f":"OFFSET(InputPriceData!E$15,CalculationsAndCharts!$A1254+$A$11,IF($C$7,8,0),1,1)","v":0},{"$f":"OFFSET(InputPriceData!F$15,CalculationsAndCharts!$A1254+$A$11,IF($C$7,8,0),1,1)","v":0},0,0,0,0,0,0,{"$error":"#N/A"},false,0,false,{"$error":"#N/A"},{"$error":"#N/A"},true,false,false,false,false,false,{"$error":"#N/A"},false,{"$error":"#N/A"},false,false,false,false,false,false,{"$error":"#N/A"},0,0,0,0,0,null,{"$f":"OFFSET(InputIndexData!F$15,CalculationsAndCharts!$A1254+$A$11,IF($C$7,8,0),1,1)","v":0},0,1,1,true,null,212,{"$error":"#N/A"}]
[1227,{"$f":"OFFSET(InputPriceData!B$15,CalculationsAndCharts!$A1259+$A$11,0,1,1)","v":"00:00:00"},{"$f":"OFFSET(InputPriceData!G$15,CalculationsAndCharts!$A1259+$A$11,IF($C$7,8,0),1,1)","v":0},{"$f":"OFFSET(InputPriceData!C$15,CalculationsAndCharts!$A1259+$A$11,IF($C$7,8,0),1,1)","v":0},{"$f":"OFFSET(InputPriceData!D$15,CalculationsAndCharts!$A1259+$A$11,IF($C$7,8,0),1,1)","v":0},{"$f":"OFFSET(InputPriceData!E$15,CalculationsAndCharts!$A1259+$A$11,IF($C$7,8,0),1,1)","v":0},{"$f":"OFFSET(InputPriceData!F$15,CalculationsAndCharts!$A1259+$A$11,IF($C$7,8,0),1,1)","v":0},0,0,0,0,0,0,{"$error":"#N/A"},false,0,false,{"$error":"#N/A"},{"$error":"#N/A"},true,false,false,false,false,false,{"$error":"#N/A"},false,{"$error":"#N/A"},false,false,false,false,false,false,{"$error":"#N/A"},0,0,0,0,0,null,{"$f":"OFFSET(InputIndexData!F$15,CalculationsAndCharts!$A1259+$A$11,IF($C$7,8,0),1,1)","v":0},0,1,1,true,null,212,{"$error":"#N/A"}]
[1228,{"$f":"OFFSET(InputPriceData!B$15,CalculationsAndCharts!$A1260+$A$11,0,1,1)","v":"00:00:00"},{"$f":"OFFSET(InputPriceData!G$15,CalculationsAndCharts!$A1260+$A$11,IF($C$7,8,0),1,1)","v":0},{"$f":"OFFSET(InputPriceData!C$15,CalculationsAndCharts!$A1260+$A$11,IF($C$7,8,0),1,1)","v":0},{"$f":"OFFSET(InputPriceData!D$15,CalculationsAndCharts!$A1260+$A$11,IF($C$7,8,0),1,1)","v":0},{"$f":"OFFSET(InputPriceData!E$15,CalculationsAndCharts!$A1260+$A$11,IF($C$7,8,0),1,1)","v":0},{"$f":"OFFSET(InputPriceData!F$15,CalculationsAndCharts!$A1260+$A$11,IF($C$7,8,0),1,1)","v":0},0,0,0,0,0,0,{"$error":"#N/A"},false,0,false,{"$error":"#N/A"},{"$error":"#N/A"},true,false,false,false,false,false,{"$error":"#N/A"},false,{"$error":"#N/A"},false,false,false,false,false,false,{"$error":"#N/A"},0,0,0,0,0,null,{"$f":"OFFSET(InputIndexData!F$15,CalculationsAndCharts!$A1260+$A$11,IF($C$7,8,0),1,1)","v":0},0,1,1,true,null,212,{"$error":"#N/A"}]
[1233,{"$f":"OFFSET(InputPriceData!B$15,CalculationsAndCharts!$A1265+$A$11,0,1,1)","v":"00:00:00"},{"$f":"OFFSET(InputPriceData!G$15,CalculationsAndCharts!$A1265+$A$11,IF($C$7,8,0),1,1)","v":0},{"$f":"OFFSET(InputPriceData!C$15,CalculationsAndCharts!$A1265+$A$11,IF($C$7,8,0),1,1)","v":0},{"$f":"OFFSET(InputPriceData!D$15,CalculationsAndCharts!$A1265+$A$11,IF($C$7,8,0),1,1)","v":0},{"$f":"OFFSET(InputPriceData!E$15,CalculationsAndCharts!$A1265+$A$11,IF($C$7,8,0),1,1)","v":0},{"$f":"OFFSET(InputPriceData!F$15,CalculationsAndCharts!$A1265+$A$11,IF($C$7,8,0),1,1)","v":0},0,0,0,0,0,0,{"$error":"#N/A"},false,0,false,{"$error":"#N/A"},{"$error":"#N/A"},true,false,false,false,false,false,{"$error":"#N/A"},false,{"$error":"#N/A"},false,false,false,false,false,false,{"$error":"#N/A"},0,0,0,0,0,null,{"$f":"OFFSET(InputIndexData!F$15,CalculationsAndCharts!$A1265+$A$11,IF($C$7,8,0),1,1)","v":0},0,1,1,true,null,212,{"$error":"#N/A"}]
[1238,{"$f":"OFFSET(InputPriceData!B$15,CalculationsAndCharts!$A1270+$A$11,0,1,1)","v":"00:00:00"},{"$f":"OFFSET(InputPriceData!G$15,CalculationsAndCharts!$A1270+$A$11,IF($C$7,8,0),1,1)","v":0},{"$f":"OFFSET(InputPriceData!C$15,CalculationsAndCharts!$A1270+$A$11,IF($C$7,8,0),1,1)","v":0},{"$f":"OFFSET(InputPriceData!D$15,CalculationsAndCharts!$A1270+$A$11,IF($C$7,8,0),1,1)","v":0},{"$f":"OFFSET(InputPriceData!E$15,CalculationsAndCharts!$A1270+$A$11,IF($C$7,8,0),1,1)","v":0},{"$f":"OFFSET(InputPriceData!F$15,CalculationsAndCharts!$A1270+$A$11,IF($C$7,8,0),1,1)","v":0},0,0,0,0,0,0,{"$error":"#N/A"},false,0,false,{"$error":"#N/A"},{"$error":"#N/A"},true,false,false,false,false,false,{"$error":"#N/A"},false,{"$error":"#N/A"},false,false,false,false,false,false,{"$error":"#N/A"},0,0,0,0,0,null,{"$f":"OFFSET(InputIndexData!F$15,CalculationsAndCharts!$A1270+$A$11,IF($C$7,8,0),1,1)","v":0},0,1,1,true,null,212,{"$error":"#N/A"}]
[1242,{"$f":"OFFSET(InputPriceData!B$15,CalculationsAndCharts!$A1274+$A$11,0,1,1)","v":"00:00:00"},{"$f":"OFFSET(InputPriceData!G$15,CalculationsAndCharts!$A1274+$A$11,IF($C$7,8,0),1,1)","v":0},{"$f":"OFFSET(InputPriceData!C$15,CalculationsAndCharts!$A1274+$A$11,IF($C$7,8,0),1,1)","v":0},{"$f":"OFFSET(InputPriceData!D$15,CalculationsAndCharts!$A1274+$A$11,IF($C$7,8,0),1,1)","v":0},{"$f":"OFFSET(InputPriceData!E$15,CalculationsAndCharts!$A1274+$A$11,IF($C$7,8,0),1,1)","v":0},{"$f":"OFFSET(InputPriceData!F$15,CalculationsAndCharts!$A1274+$A$11,IF($C$7,8,0),1,1)","v":0},0,0,0,0,0,0,{"$error":"#N/A"},false,0,false,{"$error":"#N/A"},{"$error":"#N/A"},true,false,false,false,false,false,{"$error":"#N/A"},false,{"$error":"#N/A"},{"$f":"AND(   OR(NOT($R$11),NOT(AT1274)),   OR(NOT($R$12),J1274<=I1274),   OR(NOT($R$13),I1274<=H1274),   OR(NOT($R$14),G1274<=I1274)   )","v":false},false,false,false,false,false,{"$error":"#N/A"},0,0,0,0,0,null,{"$f":"OFFSET(InputIndexData!F$15,CalculationsAndCharts!$A1274+$A$11,IF($C$7,8,0),1,1)","v":0},0,1,1,true,null,212,{"$error":"#N/A"}]
[1243,{"$f":"OFFSET(InputPriceData!B$15,CalculationsAndCharts!$A1275+$A$11,0,1,1)","v":"00:00:00"},{"$f":"OFFSET(InputPriceData!G$15,CalculationsAndCharts!$A1275+$A$11,IF($C$7,8,0),1,1)","v":0},{"$f":"OFFSET(InputPriceData!C$15,CalculationsAndCharts!$A1275+$A$11,IF($C$7,8,0),1,1)","v":0},{"$f":"OFFSET(InputPriceData!D$15,CalculationsAndCharts!$A1275+$A$11,IF($C$7,8,0),1,1)","v":0},{"$f":"OFFSET(InputPriceData!E$15,CalculationsAndCharts!$A1275+$A$11,IF($C$7,8,0),1,1)","v":0},{"$f":"OFFSET(InputPriceData!F$15,CalculationsAndCharts!$A1275+$A$11,IF($C$7,8,0),1,1)","v":0},0,0,0,0,0,0,{"$error":"#N/A"},false,0,false,{"$error":"#N/A"},{"$error":"#N/A"},true,false,false,false,false,false,{"$error":"#N/A"},false,{"$error":"#N/A"},false,false,false,false,false,false,{"$error":"#N/A"},0,0,0,0,0,null,{"$f":"OFFSET(InputIndexData!F$15,CalculationsAndCharts!$A1275+$A$11,IF($C$7,8,0),1,1)","v":0},0,1,1,true,null,212,{"$error":"#N/A"}]
[1248,{"$f":"OFFSET(InputPriceData!B$15,CalculationsAndCharts!$A1280+$A$11,0,1,1)","v":"00:00:00"},{"$f":"OFFSET(InputPriceData!G$15,CalculationsAndCharts!$A1280+$A$11,IF($C$7,8,0),1,1)","v":0},{"$f":"OFFSET(InputPriceData!C$15,CalculationsAndCharts!$A1280+$A$11,IF($C$7,8,0),1,1)","v":0},{"$f":"OFFSET(InputPriceData!D$15,CalculationsAndCharts!$A1280+$A$11,IF($C$7,8,0),1,1)","v":0},{"$f":"OFFSET(InputPriceData!E$15,CalculationsAndCharts!$A1280+$A$11,IF($C$7,8,0),1,1)","v":0},{"$f":"OFFSET(InputPriceData!F$15,CalculationsAndCharts!$A1280+$A$11,IF($C$7,8,0),1,1)","v":0},0,0,0,0,0,0,{"$error":"#N/A"},false,0,false,{"$error":"#N/A"},{"$error":"#N/A"},true,false,false,false,false,false,{"$error":"#N/A"},false,{"$error":"#N/A"},false,false,false,false,false,false,{"$error":"#N/A"},0,0,0,0,0,null,{"$f":"OFFSET(InputIndexData!F$15,CalculationsAndCharts!$A1280+$A$11,IF($C$7,8,0),1,1)","v":0},0,1,1,true,null,212,{"$error":"#N/A"}]
[1253,{"$f":"OFFSET(InputPriceData!B$15,CalculationsAndCharts!$A1285+$A$11,0,1,1)","v":"00:00:00"},{"$f":"OFFSET(InputPriceData!G$15,CalculationsAndCharts!$A1285+$A$11,IF($C$7,8,0),1,1)","v":0},{"$f":"OFFSET(InputPriceData!C$15,CalculationsAndCharts!$A1285+$A$11,IF($C$7,8,0),1,1)","v":0},{"$f":"OFFSET(InputPriceData!D$15,CalculationsAndCharts!$A1285+$A$11,IF($C$7,8,0),1,1)","v":0},{"$f":"OFFSET(InputPriceData!E$15,CalculationsAndCharts!$A1285+$A$11,IF($C$7,8,0),1,1)","v":0},{"$f":"OFFSET(InputPriceData!F$15,CalculationsAndCharts!$A1285+$A$11,IF($C$7,8,0),1,1)","v":0},0,0,0,0,0,0,{"$error":"#N/A"},false,0,false,{"$error":"#N/A"},{"$error":"#N/A"},true,false,false,false,false,false,{"$error":"#N/A"},false,{"$error":"#N/A"},false,false,false,false,false,false,{"$error":"#N/A"},0,0,0,0,0,null,{"$f":"OFFSET(InputIndexData!F$15,CalculationsAndCharts!$A1285+$A$11,IF($C$7,8,0),1,1)","v":0},0,1,1,true,null,212,{"$error":"#N/A"}]
[1256,{"$f":"OFFSET(InputPriceData!B$15,CalculationsAndCharts!$A1288+$A$11,0,1,1)","v":"00:00:00"},{"$f":"OFFSET(InputPriceData!G$15,CalculationsAndCharts!$A1288+$A$11,IF($C$7,8,0),1,1)","v":0},{"$f":"OFFSET(InputPriceData!C$15,CalculationsAndCharts!$A1288+$A$11,IF($C$7,8,0),1,1)","v":0},{"$f":"OFFSET(InputPriceData!D$15,CalculationsAndCharts!$A1288+$A$11,IF($C$7,8,0),1,1)","v":0},{"$f":"OFFSET(InputPriceData!E$15,CalculationsAndCharts!$A1288+$A$11,IF($C$7,8,0),1,1)","v":0},{"$f":"OFFSET(InputPriceData!F$15,CalculationsAndCharts!$A1288+$A$11,IF($C$7,8,0),1,1)","v":0},0,0,0,0,0,0,{"$error":"#N/A"},false,0,false,{"$error":"#N/A"},{"$error":"#N/A"},true,false,false,false,false,false,{"$error":"#N/A"},false,{"$error":"#N/A"},false,false,false,false,false,false,{"$error":"#N/A"},0,0,0,0,0,null,{"$f":"OFFSET(InputIndexData!F$15,CalculationsAndCharts!$A1288+$A$11,IF($C$7,8,0),1,1)","v":0},0,1,1,true,null,212,{"$error":"#N/A"}]
[1258,{"$f":"OFFSET(InputPriceData!B$15,CalculationsAndCharts!$A1290+$A$11,0,1,1)","v":"00:00:00"},{"$f":"OFFSET(InputPriceData!G$15,CalculationsAndCharts!$A1290+$A$11,IF($C$7,8,0),1,1)","v":0},{"$f":"OFFSET(InputPriceData!C$15,CalculationsAndCharts!$A1290+$A$11,IF($C$7,8,0),1,1)","v":0},{"$f":"OFFSET(InputPriceData!D$15,CalculationsAndCharts!$A1290+$A$11,IF($C$7,8,0),1,1)","v":0},{"$f":"OFFSET(InputPriceData!E$15,CalculationsAndCharts!$A1290+$A$11,IF($C$7,8,0),1,1)","v":0},{"$f":"OFFSET(InputPriceData!F$15,CalculationsAndCharts!$A1290+$A$11,IF($C$7,8,0),1,1)","v":0},0,0,0,0,0,0,{"$error":"#N/A"},false,0,false,{"$error":"#N/A"},{"$error":"#N/A"},true,false,false,false,false,false,{"$error":"#N/A"},false,{"$error":"#N/A"},false,false,false,false,false,false,{"$error":"#N/A"},0,0,0,0,0,null,{"$f":"OFFSET(InputIndexData!F$15,CalculationsAndCharts!$A1290+$A$11,IF($C$7,8,0),1,1)","v":0},0,1,1,true,null,212,{"$error":"#N/A"}]
[1263,{"$f":"OFFSET(InputPriceData!B$15,CalculationsAndCharts!$A1295+$A$11,0,1,1)","v":"00:00:00"},{"$f":"OFFSET(InputPriceData!G$15,CalculationsAndCharts!$A1295+$A$11,IF($C$7,8,0),1,1)","v":0},{"$f":"OFFSET(InputPriceData!C$15,CalculationsAndCharts!$A1295+$A$11,IF($C$7,8,0),1,1)","v":0},{"$f":"OFFSET(InputPriceData!D$15,CalculationsAndCharts!$A1295+$A$11,IF($C$7,8,0),1,1)","v":0},{"$f":"OFFSET(InputPriceData!E$15,CalculationsAndCharts!$A1295+$A$11,IF($C$7,8,0),1,1)","v":0},{"$f":"OFFSET(InputPriceData!F$15,CalculationsAndCharts!$A1295+$A$11,IF($C$7,8,0),1,1)","v":0},0,0,0,0,0,0,{"$error":"#N/A"},false,0,false,{"$error":"#N/A"},{"$error":"#N/A"},true,false,false,false,false,false,{"$error":"#N/A"},false,{"$error":"#N/A"},false,false,false,false,false,false,{"$error":"#N/A"},0,0,0,0,0,null,{"$f":"OFFSET(InputIndexData!F$15,CalculationsAndCharts!$A1295+$A$11,IF($C$7,8,0),1,1)","v":0},0,1,1,true,null,212,{"$error":"#N/A"}]
[1268,{"$f":"OFFSET(InputPriceData!B$15,CalculationsAndCharts!$A1300+$A$11,0,1,1)","v":"00:00:00"},{"$f":"OFFSET(InputPriceData!G$15,CalculationsAndCharts!$A1300+$A$11,IF($C$7,8,0),1,1)","v":0},{"$f":"OFFSET(InputPriceData!C$15,CalculationsAndCharts!$A1300+$A$11,IF($C$7,8,0),1,1)","v":0},{"$f":"OFFSET(InputPriceData!D$15,CalculationsAndCharts!$A1300+$A$11,IF($C$7,8,0),1,1)","v":0},{"$f":"OFFSET(InputPriceData!E$15,CalculationsAndCharts!$A1300+$A$11,IF($C$7,8,0),1,1)","v":0},{"$f":"OFFSET(InputPriceData!F$15,CalculationsAndCharts!$A1300+$A$11,IF($C$7,8,0),1,1)","v":0},0,0,0,0,0,0,{"$error":"#N/A"},false,0,false,{"$error":"#N/A"},{"$error":"#N/A"},true,false,false,false,false,false,{"$error":"#N/A"},false,{"$error":"#N/A"},false,false,false,false,false,false,{"$error":"#N/A"},0,0,0,0,0,null,{"$f":"OFFSET(InputIndexData!F$15,CalculationsAndCharts!$A1300+$A$11,IF($C$7,8,0),1,1)","v":0},0,1,1,true,null,212,{"$error":"#N/A"}]
[1273,{"$f":"OFFSET(InputPriceData!B$15,CalculationsAndCharts!$A1305+$A$11,0,1,1)","v":"00:00:00"},{"$f":"OFFSET(InputPriceData!G$15,CalculationsAndCharts!$A1305+$A$11,IF($C$7,8,0),1,1)","v":0},{"$f":"OFFSET(InputPriceData!C$15,CalculationsAndCharts!$A1305+$A$11,IF($C$7,8,0),1,1)","v":0},{"$f":"OFFSET(InputPriceData!D$15,CalculationsAndCharts!$A1305+$A$11,IF($C$7,8,0),1,1)","v":0},{"$f":"OFFSET(InputPriceData!E$15,CalculationsAndCharts!$A1305+$A$11,IF($C$7,8,0),1,1)","v":0},{"$f":"OFFSET(InputPriceData!F$15,CalculationsAndCharts!$A1305+$A$11,IF($C$7,8,0),1,1)","v":0},0,0,0,0,0,0,{"$error":"#N/A"},false,0,false,{"$error":"#N/A"},{"$error":"#N/A"},true,false,false,false,false,false,{"$error":"#N/A"},false,{"$error":"#N/A"},false,false,false,false,false,false,{"$error":"#N/A"},0,0,0,0,0,null,{"$f":"OFFSET(InputIndexData!F$15,CalculationsAndCharts!$A1305+$A$11,IF($C$7,8,0),1,1)","v":0},0,1,1,true,null,212,{"$error":"#N/A"}]
[1274,{"$f":"OFFSET(InputPriceData!B$15,CalculationsAndCharts!$A1306+$A$11,0,1,1)","v":"00:00:00"},{"$f":"OFFSET(InputPriceData!G$15,CalculationsAndCharts!$A1306+$A$11,IF($C$7,8,0),1,1)","v":0},{"$f":"OFFSET(InputPriceData!C$15,CalculationsAndCharts!$A1306+$A$11,IF($C$7,8,0),1,1)","v":0},{"$f":"OFFSET(InputPriceData!D$15,CalculationsAndCharts!$A1306+$A$11,IF($C$7,8,0),1,1)","v":0},{"$f":"OFFSET(InputPriceData!E$15,CalculationsAndCharts!$A1306+$A$11,IF($C$7,8,0),1,1)","v":0},{"$f":"OFFSET(InputPriceData!F$15,CalculationsAndCharts!$A1306+$A$11,IF($C$7,8,0),1,1)","v":0},0,0,0,0,0,0,{"$error":"#N/A"},false,0,false,{"$error":"#N/A"},{"$error":"#N/A"},true,false,false,false,false,false,{"$error":"#N/A"},false,{"$error":"#N/A"},false,false,false,false,false,false,{"$error":"#N/A"},0,0,0,0,0,null,{"$f":"OFFSET(InputIndexData!F$15,CalculationsAndCharts!$A1306+$A$11,IF($C$7,8,0),1,1)","v":0},0,1,1,true,null,212,{"$error":"#N/A"}]
[1278,{"$f":"OFFSET(InputPriceData!B$15,CalculationsAndCharts!$A1310+$A$11,0,1,1)","v":"00:00:00"},{"$f":"OFFSET(InputPriceData!G$15,CalculationsAndCharts!$A1310+$A$11,IF($C$7,8,0),1,1)","v":0},{"$f":"OFFSET(InputPriceData!C$15,CalculationsAndCharts!$A1310+$A$11,IF($C$7,8,0),1,1)","v":0},{"$f":"OFFSET(InputPriceData!D$15,CalculationsAndCharts!$A1310+$A$11,IF($C$7,8,0),1,1)","v":0},{"$f":"OFFSET(InputPriceData!E$15,CalculationsAndCharts!$A1310+$A$11,IF($C$7,8,0),1,1)","v":0},{"$f":"OFFSET(InputPriceData!F$15,CalculationsAndCharts!$A1310+$A$11,IF($C$7,8,0),1,1)","v":0},0,0,0,0,0,0,{"$error":"#N/A"},false,0,false,{"$error":"#N/A"},{"$error":"#N/A"},true,false,false,false,false,false,{"$error":"#N/A"},false,{"$error":"#N/A"},false,false,false,false,false,false,{"$error":"#N/A"},0,0,0,0,0,null,{"$f":"OFFSET(InputIndexData!F$15,CalculationsAndCharts!$A1310+$A$11,IF($C$7,8,0),1,1)","v":0},0,1,1,true,null,212,{"$error":"#N/A"}]
[1283,{"$f":"OFFSET(InputPriceData!B$15,CalculationsAndCharts!$A1315+$A$11,0,1,1)","v":"00:00:00"},{"$f":"OFFSET(InputPriceData!G$15,CalculationsAndCharts!$A1315+$A$11,IF($C$7,8,0),1,1)","v":0},{"$f":"OFFSET(InputPriceData!C$15,CalculationsAndCharts!$A1315+$A$11,IF($C$7,8,0),1,1)","v":0},{"$f":"OFFSET(InputPriceData!D$15,CalculationsAndCharts!$A1315+$A$11,IF($C$7,8,0),1,1)","v":0},{"$f":"OFFSET(InputPriceData!E$15,CalculationsAndCharts!$A1315+$A$11,IF($C$7,8,0),1,1)","v":0},{"$f":"OFFSET(InputPriceData!F$15,CalculationsAndCharts!$A1315+$A$11,IF($C$7,8,0),1,1)","v":0},0,0,0,0,0,0,{"$error":"#N/A"},false,0,false,{"$error":"#N/A"},{"$error":"#N/A"},true,false,false,false,false,false,{"$error":"#N/A"},false,{"$error":"#N/A"},false,false,false,false,false,false,{"$error":"#N/A"},0,0,0,0,0,null,{"$f":"OFFSET(InputIndexData!F$15,CalculationsAndCharts!$A1315+$A$11,IF($C$7,8,0),1,1)","v":0},0,1,1,true,null,212,{"$error":"#N/A"}]
[1288,{"$f":"OFFSET(InputPriceData!B$15,CalculationsAndCharts!$A1320+$A$11,0,1,1)","v":"00:00:00"},{"$f":"OFFSET(InputPriceData!G$15,CalculationsAndCharts!$A1320+$A$11,IF($C$7,8,0),1,1)","v":0},{"$f":"OFFSET(InputPriceData!C$15,CalculationsAndCharts!$A1320+$A$11,IF($C$7,8,0),1,1)","v":0},{"$f":"OFFSET(InputPriceData!D$15,CalculationsAndCharts!$A1320+$A$11,IF($C$7,8,0),1,1)","v":0},{"$f":"OFFSET(InputPriceData!E$15,CalculationsAndCharts!$A1320+$A$11,IF($C$7,8,0),1,1)","v":0},{"$f":"OFFSET(InputPriceData!F$15,CalculationsAndCharts!$A1320+$A$11,IF($C$7,8,0),1,1)","v":0},0,0,0,0,0,0,{"$error":"#N/A"},false,0,false,{"$error":"#N/A"},{"$error":"#N/A"},true,false,false,false,false,false,{"$error":"#N/A"},false,{"$f":"IF(AA1320,$F$11,NA())","v":{"$error":"#N/A"}},false,false,false,false,false,false,{"$error":"#N/A"},0,0,0,0,0,null,{"$f":"OFFSET(InputIndexData!F$15,CalculationsAndCharts!$A1320+$A$11,IF($C$7,8,0),1,1)","v":0},0,1,1,true,null,212,{"$error":"#N/A"}]
[1289,{"$f":"OFFSET(InputPriceData!B$15,CalculationsAndCharts!$A1321+$A$11,0,1,1)","v":"00:00:00"},{"$f":"OFFSET(InputPriceData!G$15,CalculationsAndCharts!$A1321+$A$11,IF($C$7,8,0),1,1)","v":0},{"$f":"OFFSET(InputPriceData!C$15,CalculationsAndCharts!$A1321+$A$11,IF($C$7,8,0),1,1)","v":0},{"$f":"OFFSET(InputPriceData!D$15,CalculationsAndCharts!$A1321+$A$11,IF($C$7,8,0),1,1)","v":0},{"$f":"OFFSET(InputPriceData!E$15,CalculationsAndCharts!$A1321+$A$11,IF($C$7,8,0),1,1)","v":0},{"$f":"OFFSET(InputPriceData!F$15,CalculationsAndCharts!$A1321+$A$11,IF($C$7,8,0),1,1)","v":0},0,0,0,0,0,0,{"$error":"#N/A"},false,0,false,{"$f":"IF(O1321,G1321,NA())","v":{"$error":"#N/A"}},{"$f":"IF(Q1321,G1321,NA())","v":{"$error":"#N/A"}},true,false,false,false,false,false,{"$error":"#N/A"},false,{"$error":"#N/A"},false,false,false,false,false,false,{"$error":"#N/A"},0,0,0,0,0,null,{"$f":"OFFSET(InputIndexData!F$15,CalculationsAndCharts!$A1321+$A$11,IF($C$7,8,0),1,1)","v":0},0,1,1,true,null,212,{"$error":"#N/A"}]
[1294,{"$f":"OFFSET(InputPriceData!B$15,CalculationsAndCharts!$A1326+$A$11,0,1,1)","v":"00:00:00"},{"$f":"OFFSET(InputPriceData!G$15,CalculationsAndCharts!$A1326+$A$11,IF($C$7,8,0),1,1)","v":0},{"$f":"OFFSET(InputPriceData!C$15,CalculationsAndCharts!$A1326+$A$11,IF($C$7,8,0),1,1)","v":0},{"$f":"OFFSET(InputPriceData!D$15,CalculationsAndCharts!$A1326+$A$11,IF($C$7,8,0),1,1)","v":0},{"$f":"OFFSET(InputPriceData!E$15,CalculationsAndCharts!$A1326+$A$11,IF($C$7,8,0),1,1)","v":0},{"$f":"OFFSET(InputPriceData!F$15,CalculationsAndCharts!$A1326+$A$11,IF($C$7,8,0),1,1)","v":0},0,0,0,0,0,0,{"$error":"#N/A"},false,0,false,{"$error":"#N/A"},{"$error":"#N/A"},true,false,false,false,false,false,{"$error":"#N/A"},false,{"$error":"#N/A"},false,false,false,false,false,false,{"$error":"#N/A"},0,0,0,0,0,null,{"$f":"OFFSET(InputIndexData!F$15,CalculationsAndCharts!$A1326+$A$11,IF($C$7,8,0),1,1)","v":0},0,1,1,true,null,212,{"$error":"#N/A"}]
[1299,{"$f":"OFFSET(InputPriceData!B$15,CalculationsAndCharts!$A1331+$A$11,0,1,1)","v":"00:00:00"},{"$f":"OFFSET(InputPriceData!G$15,CalculationsAndCharts!$A1331+$A$11,IF($C$7,8,0),1,1)","v":0},{"$f":"OFFSET(InputPriceData!C$15,CalculationsAndCharts!$A1331+$A$11,IF($C$7,8,0),1,1)","v":0},{"$f":"OFFSET(InputPriceData!D$15,CalculationsAndCharts!$A1331+$A$11,IF($C$7,8,0),1,1)","v":0},{"$f":"OFFSET(InputPriceData!E$15,CalculationsAndCharts!$A1331+$A$11,IF($C$7,8,0),1,1)","v":0},{"$f":"OFFSET(InputPriceData!F$15,CalculationsAndCharts!$A1331+$A$11,IF($C$7,8,0),1,1)","v":0},0,0,0,0,0,0,{"$error":"#N/A"},false,0,false,{"$error":"#N/A"},{"$error":"#N/A"},true,false,false,false,false,{"$f":"X1332","v":false},{"$error":"#N/A"},false,{"$error":"#N/A"},false,false,false,false,false,false,{"$error":"#N/A"},0,0,0,0,0,null,{"$f":"OFFSET(InputIndexData!F$15,CalculationsAndCharts!$A1331+$A$11,IF($C$7,8,0),1,1)","v":0},0,1,1,true,null,212,{"$error":"#N/A"}]
[1303,{"$f":"OFFSET(InputPriceData!B$15,CalculationsAndCharts!$A1335+$A$11,0,1,1)","v":"00:00:00"},{"$f":"OFFSET(InputPriceData!G$15,CalculationsAndCharts!$A1335+$A$11,IF($C$7,8,0),1,1)","v":0},{"$f":"OFFSET(InputPriceData!C$15,CalculationsAndCharts!$A1335+$A$11,IF($C$7,8,0),1,1)","v":0},{"$f":"OFFSET(InputPriceData!D$15,CalculationsAndCharts!$A1335+$A$11,IF($C$7,8,0),1,1)","v":0},{"$f":"OFFSET(InputPriceData!E$15,CalculationsAndCharts!$A1335+$A$11,IF($C$7,8,0),1,1)","v":0},{"$f":"OFFSET(InputPriceData!F$15,CalculationsAndCharts!$A1335+$A$11,IF($C$7,8,0),1,1)","v":0},0,0,0,0,0,0,{"$error":"#N/A"},false,0,false,{"$error":"#N/A"},{"$error":"#N/A"},true,false,false,false,false,false,{"$error":"#N/A"},false,{"$error":"#N/A"},false,false,false,false,false,false,{"$error":"#N/A"},0,0,0,0,0,null,{"$f":"OFFSET(InputIndexData!F$15,CalculationsAndCharts!$A1335+$A$11,IF($C$7,8,0),1,1)","v":0},0,1,1,true,null,212,{"$error":"#N/A"}]
[1304,{"$f":"OFFSET(InputPriceData!B$15,CalculationsAndCharts!$A1336+$A$11,0,1,1)","v":"00:00:00"},{"$f":"OFFSET(InputPriceData!G$15,CalculationsAndCharts!$A1336+$A$11,IF($C$7,8,0),1,1)","v":0},{"$f":"OFFSET(InputPriceData!C$15,CalculationsAndCharts!$A1336+$A$11,IF($C$7,8,0),1,1)","v":0},{"$f":"OFFSET(InputPriceData!D$15,CalculationsAndCharts!$A1336+$A$11,IF($C$7,8,0),1,1)","v":0},{"$f":"OFFSET(InputPriceData!E$15,CalculationsAndCharts!$A1336+$A$11,IF($C$7,8,0),1,1)","v":0},{"$f":"OFFSET(InputPriceData!F$15,CalculationsAndCharts!$A1336+$A$11,IF($C$7,8,0),1,1)","v":0},0,0,0,0,0,0,{"$error":"#N/A"},false,0,false,{"$error":"#N/A"},{"$error":"#N/A"},true,false,false,false,false,false,{"$error":"#N/A"},false,{"$error":"#N/A"},false,false,false,false,false,false,{"$error":"#N/A"},0,0,0,0,0,null,{"$f":"OFFSET(InputIndexData!F$15,CalculationsAndCharts!$A1336+$A$11,IF($C$7,8,0),1,1)","v":0},0,1,1,true,null,212,{"$error":"#N/A"}]
[1309,{"$f":"OFFSET(InputPriceData!B$15,CalculationsAndCharts!$A1341+$A$11,0,1,1)","v":"00:00:00"},{"$f":"OFFSET(InputPriceData!G$15,CalculationsAndCharts!$A1341+$A$11,IF($C$7,8,0),1,1)","v":0},{"$f":"OFFSET(InputPriceData!C$15,CalculationsAndCharts!$A1341+$A$11,IF($C$7,8,0),1,1)","v":0},{"$f":"OFFSET(InputPriceData!D$15,CalculationsAndCharts!$A1341+$A$11,IF($C$7,8,0),1,1)","v":0},{"$f":"OFFSET(InputPriceData!E$15,CalculationsAndCharts!$A1341+$A$11,IF($C$7,8,0),1,1)","v":0},{"$f":"OFFSET(InputPriceData!F$15,CalculationsAndCharts!$A1341+$A$11,IF($C$7,8,0),1,1)","v":0},0,0,0,0,0,0,{"$error":"#N/A"},false,0,false,{"$error":"#N/A"},{"$error":"#N/A"},true,false,false,false,false,false,{"$error":"#N/A"},false,{"$error":"#N/A"},false,false,false,false,false,false,{"$error":"#N/A"},0,0,0,0,0,null,{"$f":"OFFSET(InputIndexData!F$15,CalculationsAndCharts!$A1341+$A$11,IF($C$7,8,0),1,1)","v":0},0,1,1,true,null,212,{"$error":"#N/A"}]
[1314,{"$f":"OFFSET(InputPriceData!B$15,CalculationsAndCharts!$A1346+$A$11,0,1,1)","v":"00:00:00"},{"$f":"OFFSET(InputPriceData!G$15,CalculationsAndCharts!$A1346+$A$11,IF($C$7,8,0),1,1)","v":0},{"$f":"OFFSET(InputPriceData!C$15,CalculationsAndCharts!$A1346+$A$11,IF($C$7,8,0),1,1)","v":0},{"$f":"OFFSET(InputPriceData!D$15,CalculationsAndCharts!$A1346+$A$11,IF($C$7,8,0),1,1)","v":0},{"$f":"OFFSET(InputPriceData!E$15,CalculationsAndCharts!$A1346+$A$11,IF($C$7,8,0),1,1)","v":0},{"$f":"OFFSET(InputPriceData!F$15,CalculationsAndCharts!$A1346+$A$11,IF($C$7,8,0),1,1)","v":0},0,0,0,0,0,0,{"$error":"#N/A"},false,0,false,{"$error":"#N/A"},{"$error":"#N/A"},true,false,false,false,false,false,{"$error":"#N/A"},false,{"$error":"#N/A"},false,false,false,false,false,false,{"$error":"#N/A"},0,0,0,0,0,null,{"$f":"OFFSET(InputIndexData!F$15,CalculationsAndCharts!$A1346+$A$11,IF($C$7,8,0),1,1)","v":0},0,1,1,true,null,212,{"$error":"#N/A"}]
[1317,{"$f":"OFFSET(InputPriceData!B$15,CalculationsAndCharts!$A1349+$A$11,0,1,1)","v":"00:00:00"},{"$f":"OFFSET(InputPriceData!G$15,CalculationsAndCharts!$A1349+$A$11,IF($C$7,8,0),1,1)","v":0},{"$f":"OFFSET(InputPriceData!C$15,CalculationsAndCharts!$A1349+$A$11,IF($C$7,8,0),1,1)","v":0},{"$f":"OFFSET(InputPriceData!D$15,CalculationsAndCharts!$A1349+$A$11,IF($C$7,8,0),1,1)","v":0},{"$f":"OFFSET(InputPriceData!E$15,CalculationsAndCharts!$A1349+$A$11,IF($C$7,8,0),1,1)","v":0},{"$f":"OFFSET(InputPriceData!F$15,CalculationsAndCharts!$A1349+$A$11,IF($C$7,8,0),1,1)","v":0},0,0,0,0,0,0,{"$error":"#N/A"},false,0,false,{"$error":"#N/A"},{"$error":"#N/A"},true,false,false,false,false,false,{"$error":"#N/A"},false,{"$error":"#N/A"},false,false,false,false,false,false,{"$error":"#N/A"},0,0,0,0,0,null,{"$f":"OFFSET(InputIndexData!F$15,CalculationsAndCharts!$A1349+$A$11,IF($C$7,8,0),1,1)","v":0},0,1,1,true,null,212,{"$error":"#N/A"}]
[1319,{"$f":"OFFSET(InputPriceData!B$15,CalculationsAndCharts!$A1351+$A$11,0,1,1)","v":"00:00:00"},{"$f":"OFFSET(InputPriceData!G$15,CalculationsAndCharts!$A1351+$A$11,IF($C$7,8,0),1,1)","v":0},{"$f":"OFFSET(InputPriceData!C$15,CalculationsAndCharts!$A1351+$A$11,IF($C$7,8,0),1,1)","v":0},{"$f":"OFFSET(InputPriceData!D$15,CalculationsAndCharts!$A1351+$A$11,IF($C$7,8,0),1,1)","v":0},{"$f":"OFFSET(InputPriceData!E$15,CalculationsAndCharts!$A1351+$A$11,IF($C$7,8,0),1,1)","v":0},{"$f":"OFFSET(InputPriceData!F$15,CalculationsAndCharts!$A1351+$A$11,IF($C$7,8,0),1,1)","v":0},0,0,0,0,0,0,{"$error":"#N/A"},false,0,false,{"$error":"#N/A"},{"$error":"#N/A"},true,false,false,false,false,false,{"$error":"#N/A"},false,{"$error":"#N/A"},false,false,false,false,false,false,{"$error":"#N/A"},0,0,0,0,0,null,{"$f":"OFFSET(InputIndexData!F$15,CalculationsAndCharts!$A1351+$A$11,IF($C$7,8,0),1,1)","v":0},0,1,1,true,null,212,{"$error":"#N/A"}]
[1324,{"$f":"OFFSET(InputPriceData!B$15,CalculationsAndCharts!$A1356+$A$11,0,1,1)","v":"00:00:00"},{"$f":"OFFSET(InputPriceData!G$15,CalculationsAndCharts!$A1356+$A$11,IF($C$7,8,0),1,1)","v":0},{"$f":"OFFSET(InputPriceData!C$15,CalculationsAndCharts!$A1356+$A$11,IF($C$7,8,0),1,1)","v":0},{"$f":"OFFSET(InputPriceData!D$15,CalculationsAndCharts!$A1356+$A$11,IF($C$7,8,0),1,1)","v":0},{"$f":"OFFSET(InputPriceData!E$15,CalculationsAndCharts!$A1356+$A$11,IF($C$7,8,0),1,1)","v":0},{"$f":"OFFSET(InputPriceData!F$15,CalculationsAndCharts!$A1356+$A$11,IF($C$7,8,0),1,1)","v":0},0,0,0,0,0,0,{"$error":"#N/A"},false,0,false,{"$error":"#N/A"},{"$error":"#N/A"},true,false,false,false,false,false,{"$error":"#N/A"},false,{"$error":"#N/A"},false,false,false,false,false,false,{"$error":"#N/A"},0,0,0,0,0,null,{"$f":"OFFSET(InputIndexData!F$15,CalculationsAndCharts!$A1356+$A$11,IF($C$7,8,0),1,1)","v":0},0,1,1,true,null,212,{"$error":"#N/A"}]
[1329,{"$f":"OFFSET(InputPriceData!B$15,CalculationsAndCharts!$A1361+$A$11,0,1,1)","v":"00:00:00"},{"$f":"OFFSET(InputPriceData!G$15,CalculationsAndCharts!$A1361+$A$11,IF($C$7,8,0),1,1)","v":0},{"$f":"OFFSET(InputPriceData!C$15,CalculationsAndCharts!$A1361+$A$11,IF($C$7,8,0),1,1)","v":0},{"$f":"OFFSET(InputPriceData!D$15,CalculationsAndCharts!$A1361+$A$11,IF($C$7,8,0),1,1)","v":0},{"$f":"OFFSET(InputPriceData!E$15,CalculationsAndCharts!$A1361+$A$11,IF($C$7,8,0),1,1)","v":0},{"$f":"OFFSET(InputPriceData!F$15,CalculationsAndCharts!$A1361+$A$11,IF($C$7,8,0),1,1)","v":0},0,0,0,0,0,0,{"$error":"#N/A"},false,0,false,{"$error":"#N/A"},{"$error":"#N/A"},true,false,false,false,false,false,{"$error":"#N/A"},false,{"$error":"#N/A"},false,false,false,false,false,false,{"$error":"#N/A"},0,0,0,0,0,null,{"$f":"OFFSET(InputIndexData!F$15,CalculationsAndCharts!$A1361+$A$11,IF($C$7,8,0),1,1)","v":0},0,1,1,true,null,212,{"$error":"#N/A"}]
[1334,{"$f":"OFFSET(InputPriceData!B$15,CalculationsAndCharts!$A1366+$A$11,0,1,1)","v":"00:00:00"},{"$f":"OFFSET(InputPriceData!G$15,CalculationsAndCharts!$A1366+$A$11,IF($C$7,8,0),1,1)","v":0},{"$f":"OFFSET(InputPriceData!C$15,CalculationsAndCharts!$A1366+$A$11,IF($C$7,8,0),1,1)","v":0},{"$f":"OFFSET(InputPriceData!D$15,CalculationsAndCharts!$A1366+$A$11,IF($C$7,8,0),1,1)","v":0},{"$f":"OFFSET(InputPriceData!E$15,CalculationsAndCharts!$A1366+$A$11,IF($C$7,8,0),1,1)","v":0},{"$f":"OFFSET(InputPriceData!F$15,CalculationsAndCharts!$A1366+$A$11,IF($C$7,8,0),1,1)","v":0},0,0,0,0,0,0,{"$error":"#N/A"},false,0,false,{"$error":"#N/A"},{"$error":"#N/A"},true,false,false,false,false,false,{"$error":"#N/A"},false,{"$error":"#N/A"},false,false,false,false,false,false,{"$error":"#N/A"},0,0,0,0,0,null,{"$f":"OFFSET(InputIndexData!F$15,CalculationsAndCharts!$A1366+$A$11,IF($C$7,8,0),1,1)","v":0},0,1,1,true,null,212,{"$error":"#N/A"}]
[1335,{"$f":"OFFSET(InputPriceData!B$15,CalculationsAndCharts!$A1367+$A$11,0,1,1)","v":"00:00:00"},{"$f":"OFFSET(InputPriceData!G$15,CalculationsAndCharts!$A1367+$A$11,IF($C$7,8,0),1,1)","v":0},{"$f":"OFFSET(InputPriceData!C$15,CalculationsAndCharts!$A1367+$A$11,IF($C$7,8,0),1,1)","v":0},{"$f":"OFFSET(InputPriceData!D$15,CalculationsAndCharts!$A1367+$A$11,IF($C$7,8,0),1,1)","v":0},{"$f":"OFFSET(InputPriceData!E$15,CalculationsAndCharts!$A1367+$A$11,IF($C$7,8,0),1,1)","v":0},{"$f":"OFFSET(InputPriceData!F$15,CalculationsAndCharts!$A1367+$A$11,IF($C$7,8,0),1,1)","v":0},0,0,0,0,0,0,{"$error":"#N/A"},false,0,false,{"$error":"#N/A"},{"$error":"#N/A"},true,false,false,false,false,false,{"$error":"#N/A"},false,{"$error":"#N/A"},false,false,false,false,false,false,{"$error":"#N/A"},0,0,0,0,0,null,{"$f":"OFFSET(InputIndexData!F$15,CalculationsAndCharts!$A1367+$A$11,IF($C$7,8,0),1,1)","v":0},0,1,1,true,null,212,{"$error":"#N/A"}]
[1340,{"$f":"OFFSET(InputPriceData!B$15,CalculationsAndCharts!$A1372+$A$11,0,1,1)","v":"00:00:00"},{"$f":"OFFSET(InputPriceData!G$15,CalculationsAndCharts!$A1372+$A$11,IF($C$7,8,0),1,1)","v":0},{"$f":"OFFSET(InputPriceData!C$15,CalculationsAndCharts!$A1372+$A$11,IF($C$7,8,0),1,1)","v":0},{"$f":"OFFSET(InputPriceData!D$15,CalculationsAndCharts!$A1372+$A$11,IF($C$7,8,0),1,1)","v":0},{"$f":"OFFSET(InputPriceData!E$15,CalculationsAndCharts!$A1372+$A$11,IF($C$7,8,0),1,1)","v":0},{"$f":"OFFSET(InputPriceData!F$15,CalculationsAndCharts!$A1372+$A$11,IF($C$7,8,0),1,1)","v":0},0,0,0,0,0,0,{"$error":"#N/A"},false,0,false,{"$error":"#N/A"},{"$error":"#N/A"},true,false,false,false,false,false,{"$error":"#N/A"},false,{"$error":"#N/A"},false,false,false,false,false,false,{"$error":"#N/A"},0,0,0,0,0,null,{"$f":"OFFSET(InputIndexData!F$15,CalculationsAndCharts!$A1372+$A$11,IF($C$7,8,0),1,1)","v":0},0,1,1,true,null,212,{"$error":"#N/A"}]
[1344,{"$f":"OFFSET(InputPriceData!B$15,CalculationsAndCharts!$A1376+$A$11,0,1,1)","v":"00:00:00"},{"$f":"OFFSET(InputPriceData!G$15,CalculationsAndCharts!$A1376+$A$11,IF($C$7,8,0),1,1)","v":0},{"$f":"OFFSET(InputPriceData!C$15,CalculationsAndCharts!$A1376+$A$11,IF($C$7,8,0),1,1)","v":0},{"$f":"OFFSET(InputPriceData!D$15,CalculationsAndCharts!$A1376+$A$11,IF($C$7,8,0),1,1)","v":0},{"$f":"OFFSET(InputPriceData!E$15,CalculationsAndCharts!$A1376+$A$11,IF($C$7,8,0),1,1)","v":0},{"$f":"OFFSET(InputPriceData!F$15,CalculationsAndCharts!$A1376+$A$11,IF($C$7,8,0),1,1)","v":0},0,0,0,0,0,0,{"$error":"#N/A"},false,0,false,{"$error":"#N/A"},{"$error":"#N/A"},true,false,false,false,false,false,{"$error":"#N/A"},false,{"$error":"#N/A"},false,false,false,false,false,false,{"$error":"#N/A"},0,0,0,0,0,null,{"$f":"OFFSET(InputIndexData!F$15,CalculationsAndCharts!$A1376+$A$11,IF($C$7,8,0),1,1)","v":0},0,1,1,true,null,212,{"$error":"#N/A"}]
[1349,{"$f":"OFFSET(InputPriceData!B$15,CalculationsAndCharts!$A1381+$A$11,0,1,1)","v":"00:00:00"},{"$f":"OFFSET(InputPriceData!G$15,CalculationsAndCharts!$A1381+$A$11,IF($C$7,8,0),1,1)","v":0},{"$f":"OFFSET(InputPriceData!C$15,CalculationsAndCharts!$A1381+$A$11,IF($C$7,8,0),1,1)","v":0},{"$f":"OFFSET(InputPriceData!D$15,CalculationsAndCharts!$A1381+$A$11,IF($C$7,8,0),1,1)","v":0},{"$f":"OFFSET(InputPriceData!E$15,CalculationsAndCharts!$A1381+$A$11,IF($C$7,8,0),1,1)","v":0},{"$f":"OFFSET(InputPriceData!F$15,CalculationsAndCharts!$A1381+$A$11,IF($C$7,8,0),1,1)","v":0},0,0,0,0,0,0,{"$error":"#N/A"},false,0,false,{"$error":"#N/A"},{"$error":"#N/A"},true,false,false,false,false,false,{"$error":"#N/A"},false,{"$error":"#N/A"},false,false,false,false,false,false,{"$error":"#N/A"},0,0,0,0,0,null,{"$f":"OFFSET(InputIndexData!F$15,CalculationsAndCharts!$A1381+$A$11,IF($C$7,8,0),1,1)","v":0},0,1,1,true,null,212,{"$error":"#N/A"}]
[1350,{"$f":"OFFSET(InputPriceData!B$15,CalculationsAndCharts!$A1382+$A$11,0,1,1)","v":"00:00:00"},{"$f":"OFFSET(InputPriceData!G$15,CalculationsAndCharts!$A1382+$A$11,IF($C$7,8,0),1,1)","v":0},{"$f":"OFFSET(InputPriceData!C$15,CalculationsAndCharts!$A1382+$A$11,IF($C$7,8,0),1,1)","v":0},{"$f":"OFFSET(InputPriceData!D$15,CalculationsAndCharts!$A1382+$A$11,IF($C$7,8,0),1,1)","v":0},{"$f":"OFFSET(InputPriceData!E$15,CalculationsAndCharts!$A1382+$A$11,IF($C$7,8,0),1,1)","v":0},{"$f":"OFFSET(InputPriceData!F$15,CalculationsAndCharts!$A1382+$A$11,IF($C$7,8,0),1,1)","v":0},0,0,0,0,0,0,{"$error":"#N/A"},false,0,false,{"$error":"#N/A"},{"$error":"#N/A"},true,false,false,false,false,false,{"$error":"#N/A"},false,{"$error":"#N/A"},false,false,false,false,false,false,{"$error":"#N/A"},0,0,0,0,0,null,{"$f":"OFFSET(InputIndexData!F$15,CalculationsAndCharts!$A1382+$A$11,IF($C$7,8,0),1,1)","v":0},0,1,1,true,null,212,{"$error":"#N/A"}]
[1355,{"$f":"OFFSET(InputPriceData!B$15,CalculationsAndCharts!$A1387+$A$11,0,1,1)","v":"00:00:00"},{"$f":"OFFSET(InputPriceData!G$15,CalculationsAndCharts!$A1387+$A$11,IF($C$7,8,0),1,1)","v":0},{"$f":"OFFSET(InputPriceData!C$15,CalculationsAndCharts!$A1387+$A$11,IF($C$7,8,0),1,1)","v":0},{"$f":"OFFSET(InputPriceData!D$15,CalculationsAndCharts!$A1387+$A$11,IF($C$7,8,0),1,1)","v":0},{"$f":"OFFSET(InputPriceData!E$15,CalculationsAndCharts!$A1387+$A$11,IF($C$7,8,0),1,1)","v":0},{"$f":"OFFSET(InputPriceData!F$15,CalculationsAndCharts!$A1387+$A$11,IF($C$7,8,0),1,1)","v":0},0,0,0,0,0,0,{"$error":"#N/A"},false,0,false,{"$error":"#N/A"},{"$error":"#N/A"},true,false,false,false,false,false,{"$error":"#N/A"},false,{"$error":"#N/A"},false,false,false,false,false,false,{"$error":"#N/A"},0,0,0,0,0,null,{"$f":"OFFSET(InputIndexData!F$15,CalculationsAndCharts!$A1387+$A$11,IF($C$7,8,0),1,1)","v":0},0,1,1,true,null,212,{"$error":"#N/A"}]
[1360,{"$f":"OFFSET(InputPriceData!B$15,CalculationsAndCharts!$A1392+$A$11,0,1,1)","v":"00:00:00"},{"$f":"OFFSET(InputPriceData!G$15,CalculationsAndCharts!$A1392+$A$11,IF($C$7,8,0),1,1)","v":0},{"$f":"OFFSET(InputPriceData!C$15,CalculationsAndCharts!$A1392+$A$11,IF($C$7,8,0),1,1)","v":0},{"$f":"OFFSET(InputPriceData!D$15,CalculationsAndCharts!$A1392+$A$11,IF($C$7,8,0),1,1)","v":0},{"$f":"OFFSET(InputPriceData!E$15,CalculationsAndCharts!$A1392+$A$11,IF($C$7,8,0),1,1)","v":0},{"$f":"OFFSET(InputPriceData!F$15,CalculationsAndCharts!$A1392+$A$11,IF($C$7,8,0),1,1)","v":0},0,0,0,0,0,0,{"$error":"#N/A"},false,0,false,{"$error":"#N/A"},{"$error":"#N/A"},true,false,false,false,false,false,{"$error":"#N/A"},{"$f":"AND(OR(W1392,Y1392),OR(AF1392,AH1392))","v":false},{"$error":"#N/A"},false,false,false,false,false,false,{"$error":"#N/A"},0,0,0,0,0,null,{"$f":"OFFSET(InputIndexData!F$15,CalculationsAndCharts!$A1392+$A$11,IF($C$7,8,0),1,1)","v":0},0,1,1,true,null,212,{"$error":"#N/A"}]
[1364,{"$f":"OFFSET(InputPriceData!B$15,CalculationsAndCharts!$A1396+$A$11,0,1,1)","v":"00:00:00"},{"$f":"OFFSET(InputPriceData!G$15,CalculationsAndCharts!$A1396+$A$11,IF($C$7,8,0),1,1)","v":0},{"$f":"OFFSET(InputPriceData!C$15,CalculationsAndCharts!$A1396+$A$11,IF($C$7,8,0),1,1)","v":0},{"$f":"OFFSET(InputPriceData!D$15,CalculationsAndCharts!$A1396+$A$11,IF($C$7,8,0),1,1)","v":0},{"$f":"OFFSET(InputPriceData!E$15,CalculationsAndCharts!$A1396+$A$11,IF($C$7,8,0),1,1)","v":0},{"$f":"OFFSET(InputPriceData!F$15,CalculationsAndCharts!$A1396+$A$11,IF($C$7,8,0),1,1)","v":0},0,0,0,0,0,0,{"$error":"#N/A"},false,0,false,{"$error":"#N/A"},{"$error":"#N/A"},true,false,false,false,false,false,{"$error":"#N/A"},false,{"$error":"#N/A"},false,false,false,false,false,false,{"$error":"#N/A"},0,0,0,0,0,null,{"$f":"OFFSET(InputIndexData!F$15,CalculationsAndCharts!$A1396+$A$11,IF($C$7,8,0),1,1)","v":0},0,1,1,true,null,212,{"$error":"#N/A"}]
[1365,{"$f":"OFFSET(InputPriceData!B$15,CalculationsAndCharts!$A1397+$A$11,0,1,1)","v":"00:00:00"},{"$f":"OFFSET(InputPriceData!G$15,CalculationsAndCharts!$A1397+$A$11,IF($C$7,8,0),1,1)","v":0},{"$f":"OFFSET(InputPriceData!C$15,CalculationsAndCharts!$A1397+$A$11,IF($C$7,8,0),1,1)","v":0},{"$f":"OFFSET(InputPriceData!D$15,CalculationsAndCharts!$A1397+$A$11,IF($C$7,8,0),1,1)","v":0},{"$f":"OFFSET(InputPriceData!E$15,CalculationsAndCharts!$A1397+$A$11,IF($C$7,8,0),1,1)","v":0},{"$f":"OFFSET(InputPriceData!F$15,CalculationsAndCharts!$A1397+$A$11,IF($C$7,8,0),1,1)","v":0},0,0,0,0,0,0,{"$error":"#N/A"},false,0,false,{"$error":"#N/A"},{"$error":"#N/A"},true,false,false,false,false,false,{"$error":"#N/A"},false,{"$error":"#N/A"},false,false,false,false,false,false,{"$error":"#N/A"},0,0,0,0,0,null,{"$f":"OFFSET(InputIndexData!F$15,CalculationsAndCharts!$A1397+$A$11,IF($C$7,8,0),1,1)","v":0},0,1,1,true,null,212,{"$error":"#N/A"}]
[1370,{"$f":"OFFSET(InputPriceData!B$15,CalculationsAndCharts!$A1402+$A$11,0,1,1)","v":"00:00:00"},{"$f":"OFFSET(InputPriceData!G$15,CalculationsAndCharts!$A1402+$A$11,IF($C$7,8,0),1,1)","v":0},{"$f":"OFFSET(InputPriceData!C$15,CalculationsAndCharts!$A1402+$A$11,IF($C$7,8,0),1,1)","v":0},{"$f":"OFFSET(InputPriceData!D$15,CalculationsAndCharts!$A1402+$A$11,IF($C$7,8,0),1,1)","v":0},{"$f":"OFFSET(InputPriceData!E$15,CalculationsAndCharts!$A1402+$A$11,IF($C$7,8,0),1,1)","v":0},{"$f":"OFFSET(InputPriceData!F$15,CalculationsAndCharts!$A1402+$A$11,IF($C$7,8,0),1,1)","v":0},0,0,0,0,0,0,{"$error":"#N/A"},false,0,false,{"$error":"#N/A"},{"$error":"#N/A"},true,false,false,false,false,false,{"$error":"#N/A"},false,{"$error":"#N/A"},{"$f":"AND(   OR(NOT($R$11),NOT(AT1402)),   OR(NOT($R$12),J1402<=I1402),   OR(NOT($R$13),I1402<=H1402),   OR(NOT($R$14),G1402<=I1402)   )","v":false},false,false,false,false,false,{"$error":"#N/A"},0,0,0,0,0,null,{"$f":"OFFSET(InputIndexData!F$15,CalculationsAndCharts!$A1402+$A$11,IF($C$7,8,0),1,1)","v":0},0,1,1,true,null,212,{"$error":"#N/A"}]
[1375,{"$f":"OFFSET(InputPriceData!B$15,CalculationsAndCharts!$A1407+$A$11,0,1,1)","v":"00:00:00"},{"$f":"OFFSET(InputPriceData!G$15,CalculationsAndCharts!$A1407+$A$11,IF($C$7,8,0),1,1)","v":0},{"$f":"OFFSET(InputPriceData!C$15,CalculationsAndCharts!$A1407+$A$11,IF($C$7,8,0),1,1)","v":0},{"$f":"OFFSET(InputPriceData!D$15,CalculationsAndCharts!$A1407+$A$11,IF($C$7,8,0),1,1)","v":0},{"$f":"OFFSET(InputPriceData!E$15,CalculationsAndCharts!$A1407+$A$11,IF($C$7,8,0),1,1)","v":0},{"$f":"OFFSET(InputPriceData!F$15,CalculationsAndCharts!$A1407+$A$11,IF($C$7,8,0),1,1)","v":0},0,0,0,0,0,0,{"$error":"#N/A"},false,0,false,{"$error":"#N/A"},{"$error":"#N/A"},true,false,false,false,false,false,{"$error":"#N/A"},false,{"$error":"#N/A"},false,false,false,false,false,false,{"$error":"#N/A"},0,0,0,0,0,null,{"$f":"OFFSET(InputIndexData!F$15,CalculationsAndCharts!$A1407+$A$11,IF($C$7,8,0),1,1)","v":0},0,1,1,true,null,212,{"$error":"#N/A"}]
[1380,{"$f":"OFFSET(InputPriceData!B$15,CalculationsAndCharts!$A1412+$A$11,0,1,1)","v":"00:00:00"},{"$f":"OFFSET(InputPriceData!G$15,CalculationsAndCharts!$A1412+$A$11,IF($C$7,8,0),1,1)","v":0},{"$f":"OFFSET(InputPriceData!C$15,CalculationsAndCharts!$A1412+$A$11,IF($C$7,8,0),1,1)","v":0},{"$f":"OFFSET(InputPriceData!D$15,CalculationsAndCharts!$A1412+$A$11,IF($C$7,8,0),1,1)","v":0},{"$f":"OFFSET(InputPriceData!E$15,CalculationsAndCharts!$A1412+$A$11,IF($C$7,8,0),1,1)","v":0},{"$f":"OFFSET(InputPriceData!F$15,CalculationsAndCharts!$A1412+$A$11,IF($C$7,8,0),1,1)","v":0},0,0,0,0,0,0,{"$error":"#N/A"},false,0,false,{"$error":"#N/A"},{"$error":"#N/A"},true,false,false,false,false,false,{"$error":"#N/A"},false,{"$error":"#N/A"},false,false,false,false,false,false,{"$error":"#N/A"},0,0,0,0,0,null,{"$f":"OFFSET(InputIndexData!F$15,CalculationsAndCharts!$A1412+$A$11,IF($C$7,8,0),1,1)","v":0},0,1,1,true,null,212,{"$error":"#N/A"}]
[1383,{"$f":"OFFSET(InputPriceData!B$15,CalculationsAndCharts!$A1415+$A$11,0,1,1)","v":"00:00:00"},{"$f":"OFFSET(InputPriceData!G$15,CalculationsAndCharts!$A1415+$A$11,IF($C$7,8,0),1,1)","v":0},{"$f":"OFFSET(InputPriceData!C$15,CalculationsAndCharts!$A1415+$A$11,IF($C$7,8,0),1,1)","v":0},{"$f":"OFFSET(InputPriceData!D$15,CalculationsAndCharts!$A1415+$A$11,IF($C$7,8,0),1,1)","v":0},{"$f":"OFFSET(InputPriceData!E$15,CalculationsAndCharts!$A1415+$A$11,IF($C$7,8,0),1,1)","v":0},{"$f":"OFFSET(InputPriceData!F$15,CalculationsAndCharts!$A1415+$A$11,IF($C$7,8,0),1,1)","v":0},0,0,0,0,0,0,{"$error":"#N/A"},false,0,false,{"$error":"#N/A"},{"$error":"#N/A"},true,false,false,false,false,false,{"$error":"#N/A"},false,{"$error":"#N/A"},false,false,false,false,false,false,{"$error":"#N/A"},0,0,0,0,0,null,{"$f":"OFFSET(InputIndexData!F$15,CalculationsAndCharts!$A1415+$A$11,IF($C$7,8,0),1,1)","v":0},0,1,1,true,null,212,{"$error":"#N/A"}]
[1385,{"$f":"OFFSET(InputPriceData!B$15,CalculationsAndCharts!$A1417+$A$11,0,1,1)","v":"00:00:00"},{"$f":"OFFSET(InputPriceData!G$15,CalculationsAndCharts!$A1417+$A$11,IF($C$7,8,0),1,1)","v":0},{"$f":"OFFSET(InputPriceData!C$15,CalculationsAndCharts!$A1417+$A$11,IF($C$7,8,0),1,1)","v":0},{"$f":"OFFSET(InputPriceData!D$15,CalculationsAndCharts!$A1417+$A$11,IF($C$7,8,0),1,1)","v":0},{"$f":"OFFSET(InputPriceData!E$15,CalculationsAndCharts!$A1417+$A$11,IF($C$7,8,0),1,1)","v":0},{"$f":"OFFSET(InputPriceData!F$15,CalculationsAndCharts!$A1417+$A$11,IF($C$7,8,0),1,1)","v":0},0,0,0,0,0,0,{"$error":"#N/A"},false,0,false,{"$error":"#N/A"},{"$error":"#N/A"},true,false,false,false,false,false,{"$error":"#N/A"},false,{"$error":"#N/A"},false,false,false,false,false,false,{"$error":"#N/A"},0,0,0,0,0,null,{"$f":"OFFSET(InputIndexData!F$15,CalculationsAndCharts!$A1417+$A$11,IF($C$7,8,0),1,1)","v":0},0,1,1,true,null,212,{"$error":"#N/A"}]
[1390,{"$f":"OFFSET(InputPriceData!B$15,CalculationsAndCharts!$A1422+$A$11,0,1,1)","v":"00:00:00"},{"$f":"OFFSET(InputPriceData!G$15,CalculationsAndCharts!$A1422+$A$11,IF($C$7,8,0),1,1)","v":0},{"$f":"OFFSET(InputPriceData!C$15,CalculationsAndCharts!$A1422+$A$11,IF($C$7,8,0),1,1)","v":0},{"$f":"OFFSET(InputPriceData!D$15,CalculationsAndCharts!$A1422+$A$11,IF($C$7,8,0),1,1)","v":0},{"$f":"OFFSET(InputPriceData!E$15,CalculationsAndCharts!$A1422+$A$11,IF($C$7,8,0),1,1)","v":0},{"$f":"OFFSET(InputPriceData!F$15,CalculationsAndCharts!$A1422+$A$11,IF($C$7,8,0),1,1)","v":0},0,0,0,0,0,0,{"$error":"#N/A"},false,0,false,{"$error":"#N/A"},{"$error":"#N/A"},true,false,false,false,false,false,{"$error":"#N/A"},false,{"$error":"#N/A"},false,false,false,false,false,false,{"$error":"#N/A"},0,0,0,0,0,null,{"$f":"OFFSET(InputIndexData!F$15,CalculationsAndCharts!$A1422+$A$11,IF($C$7,8,0),1,1)","v":0},0,1,1,true,null,212,{"$error":"#N/A"}]
[1395,{"$f":"OFFSET(InputPriceData!B$15,CalculationsAndCharts!$A1427+$A$11,0,1,1)","v":"00:00:00"},{"$f":"OFFSET(InputPriceData!G$15,CalculationsAndCharts!$A1427+$A$11,IF($C$7,8,0),1,1)","v":0},{"$f":"OFFSET(InputPriceData!C$15,CalculationsAndCharts!$A1427+$A$11,IF($C$7,8,0),1,1)","v":0},{"$f":"OFFSET(InputPriceData!D$15,CalculationsAndCharts!$A1427+$A$11,IF($C$7,8,0),1,1)","v":0},{"$f":"OFFSET(InputPriceData!E$15,CalculationsAndCharts!$A1427+$A$11,IF($C$7,8,0),1,1)","v":0},{"$f":"OFFSET(InputPriceData!F$15,CalculationsAndCharts!$A1427+$A$11,IF($C$7,8,0),1,1)","v":0},0,0,0,0,0,0,{"$error":"#N/A"},false,0,false,{"$error":"#N/A"},{"$error":"#N/A"},true,false,false,false,false,false,{"$error":"#N/A"},false,{"$error":"#N/A"},false,false,false,false,false,false,{"$error":"#N/A"},0,0,0,0,0,null,{"$f":"OFFSET(InputIndexData!F$15,CalculationsAndCharts!$A1427+$A$11,IF($C$7,8,0),1,1)","v":0},0,1,1,true,null,212,{"$error":"#N/A"}]
[1396,{"$f":"OFFSET(InputPriceData!B$15,CalculationsAndCharts!$A1428+$A$11,0,1,1)","v":"00:00:00"},{"$f":"OFFSET(InputPriceData!G$15,CalculationsAndCharts!$A1428+$A$11,IF($C$7,8,0),1,1)","v":0},{"$f":"OFFSET(InputPriceData!C$15,CalculationsAndCharts!$A1428+$A$11,IF($C$7,8,0),1,1)","v":0},{"$f":"OFFSET(InputPriceData!D$15,CalculationsAndCharts!$A1428+$A$11,IF($C$7,8,0),1,1)","v":0},{"$f":"OFFSET(InputPriceData!E$15,CalculationsAndCharts!$A1428+$A$11,IF($C$7,8,0),1,1)","v":0},{"$f":"OFFSET(InputPriceData!F$15,CalculationsAndCharts!$A1428+$A$11,IF($C$7,8,0),1,1)","v":0},0,0,0,0,0,0,{"$error":"#N/A"},false,0,false,{"$error":"#N/A"},{"$error":"#N/A"},true,false,false,false,false,false,{"$error":"#N/A"},false,{"$error":"#N/A"},false,false,false,false,false,false,{"$error":"#N/A"},0,0,0,0,0,null,{"$f":"OFFSET(InputIndexData!F$15,CalculationsAndCharts!$A1428+$A$11,IF($C$7,8,0),1,1)","v":0},0,1,1,true,null,212,{"$error":"#N/A"}]
[1401,{"$f":"OFFSET(InputPriceData!B$15,CalculationsAndCharts!$A1433+$A$11,0,1,1)","v":"00:00:00"},{"$f":"OFFSET(InputPriceData!G$15,CalculationsAndCharts!$A1433+$A$11,IF($C$7,8,0),1,1)","v":0},{"$f":"OFFSET(InputPriceData!C$15,CalculationsAndCharts!$A1433+$A$11,IF($C$7,8,0),1,1)","v":0},{"$f":"OFFSET(InputPriceData!D$15,CalculationsAndCharts!$A1433+$A$11,IF($C$7,8,0),1,1)","v":0},{"$f":"OFFSET(InputPriceData!E$15,CalculationsAndCharts!$A1433+$A$11,IF($C$7,8,0),1,1)","v":0},{"$f":"OFFSET(InputPriceData!F$15,CalculationsAndCharts!$A1433+$A$11,IF($C$7,8,0),1,1)","v":0},0,0,0,0,0,0,{"$error":"#N/A"},false,0,false,{"$error":"#N/A"},{"$error":"#N/A"},true,false,false,false,false,false,{"$error":"#N/A"},false,{"$error":"#N/A"},false,false,false,false,false,false,{"$error":"#N/A"},0,0,0,0,0,null,{"$f":"OFFSET(InputIndexData!F$15,CalculationsAndCharts!$A1433+$A$11,IF($C$7,8,0),1,1)","v":0},0,1,1,true,null,212,{"$error":"#N/A"}]
[1405,{"$f":"OFFSET(InputPriceData!B$15,CalculationsAndCharts!$A1437+$A$11,0,1,1)","v":"00:00:00"},{"$f":"OFFSET(InputPriceData!G$15,CalculationsAndCharts!$A1437+$A$11,IF($C$7,8,0),1,1)","v":0},{"$f":"OFFSET(InputPriceData!C$15,CalculationsAndCharts!$A1437+$A$11,IF($C$7,8,0),1,1)","v":0},{"$f":"OFFSET(InputPriceData!D$15,CalculationsAndCharts!$A1437+$A$11,IF($C$7,8,0),1,1)","v":0},{"$f":"OFFSET(InputPriceData!E$15,CalculationsAndCharts!$A1437+$A$11,IF($C$7,8,0),1,1)","v":0},{"$f":"OFFSET(InputPriceData!F$15,CalculationsAndCharts!$A1437+$A$11,IF($C$7,8,0),1,1)","v":0},0,0,0,0,0,0,{"$error":"#N/A"},false,0,false,{"$error":"#N/A"},{"$error":"#N/A"},true,false,false,false,false,false,{"$error":"#N/A"},false,{"$error":"#N/A"},false,false,false,false,false,false,{"$error":"#N/A"},0,0,0,0,0,null,{"$f":"OFFSET(InputIndexData!F$15,CalculationsAndCharts!$A1437+$A$11,IF($C$7,8,0),1,1)","v":0},0,1,1,true,null,212,{"$error":"#N/A"}]
[1410,{"$f":"OFFSET(InputPriceData!B$15,CalculationsAndCharts!$A1442+$A$11,0,1,1)","v":"00:00:00"},{"$f":"OFFSET(InputPriceData!G$15,CalculationsAndCharts!$A1442+$A$11,IF($C$7,8,0),1,1)","v":0},{"$f":"OFFSET(InputPriceData!C$15,CalculationsAndCharts!$A1442+$A$11,IF($C$7,8,0),1,1)","v":0},{"$f":"OFFSET(InputPriceData!D$15,CalculationsAndCharts!$A1442+$A$11,IF($C$7,8,0),1,1)","v":0},{"$f":"OFFSET(InputPriceData!E$15,CalculationsAndCharts!$A1442+$A$11,IF($C$7,8,0),1,1)","v":0},{"$f":"OFFSET(InputPriceData!F$15,CalculationsAndCharts!$A1442+$A$11,IF($C$7,8,0),1,1)","v":0},0,0,0,0,0,{"$f":"IF(D1442<=G1442,C1442,NA())","v":0},{"$f":"IF(D1442<=G1442,NA(),C1442)","v":{"$error":"#N/A"}},false,0,false,{"$error":"#N/A"},{"$error":"#N/A"},{"$f":"AND(OR(NOT($R$11),AT1442),OR(NOT($R$12),J1442>=I1442),OR(NOT($R$13),I1442>=H1442),OR(NOT($R$14),G1442>=I1442))","v":true},false,false,false,false,false,{"$error":"#N/A"},false,{"$error":"#N/A"},false,false,false,{"$f":"IF(AE1442,TRUE,IF(AG1443,FALSE,AF1443))","v":false},{"$f":"AND(AF1442,O1442)","v":false},false,{"$error":"#N/A"},{"$f":"IF($R$3,H1442,NA())","v":0},{"$f":"IF($R$4,I1442,NA())","v":0},{"$f":"IF($R$5,J1442,NA())","v":0},{"$f":"IF($R$6,K1442,NA())","v":0},{"$f":"IF($R$6,L1442,NA())","v":0},null,{"$f":"OFFSET(InputIndexData!F$15,CalculationsAndCharts!$A1442+$A$11,IF($C$7,8,0),1,1)","v":0},{"$f":"AVERAGE(OFFSET(AP1442,0,0,$D$17,1))","v":0},{"$f":"IF(AQ1442-AQ1443>=0,1,-1)","v":1},{"$f":"AVERAGE(OFFSET(AR1442,0,0,$D$18,1))","v":1},{"$f":"OR(AS1442>0,AND(AS1442=0,AS1443>0))","v":true},null,212,{"$error":"#N/A"}]
[1411,{"$f":"OFFSET(InputPriceData!B$15,CalculationsAndCharts!$A1443+$A$11,0,1,1)","v":"00:00:00"},{"$f":"OFFSET(InputPriceData!G$15,CalculationsAndCharts!$A1443+$A$11,IF($C$7,8,0),1,1)","v":0},{"$f":"OFFSET(InputPriceData!C$15,CalculationsAndCharts!$A1443+$A$11,IF($C$7,8,0),1,1)","v":0},{"$f":"OFFSET(InputPriceData!D$15,CalculationsAndCharts!$A1443+$A$11,IF($C$7,8,0),1,1)","v":0},{"$f":"OFFSET(InputPriceData!E$15,CalculationsAndCharts!$A1443+$A$11,IF($C$7,8,0),1,1)","v":0},{"$f":"OFFSET(InputPriceData!F$15,CalculationsAndCharts!$A1443+$A$11,IF($C$7,8,0),1,1)","v":0},0,0,0,0,0,0,{"$error":"#N/A"},false,0,false,{"$error":"#N/A"},{"$error":"#N/A"},true,false,false,false,false,false,{"$error":"#N/A"},false,{"$error":"#N/A"},false,false,false,false,false,false,{"$error":"#N/A"},0,0,0,0,0,null,{"$f":"OFFSET(InputIndexData!F$15,CalculationsAndCharts!$A1443+$A$11,IF($C$7,8,0),1,1)","v":0},0,1,1,true,null,212,{"$error":"#N/A"}]
[1416,{"$f":"OFFSET(InputPriceData!B$15,CalculationsAndCharts!$A1448+$A$11,0,1,1)","v":"00:00:00"},{"$f":"OFFSET(InputPriceData!G$15,CalculationsAndCharts!$A1448+$A$11,IF($C$7,8,0),1,1)","v":0},{"$f":"OFFSET(InputPriceData!C$15,CalculationsAndCharts!$A1448+$A$11,IF($C$7,8,0),1,1)","v":0},{"$f":"OFFSET(InputPriceData!D$15,CalculationsAndCharts!$A1448+$A$11,IF($C$7,8,0),1,1)","v":0},{"$f":"OFFSET(InputPriceData!E$15,CalculationsAndCharts!$A1448+$A$11,IF($C$7,8,0),1,1)","v":0},{"$f":"OFFSET(InputPriceData!F$15,CalculationsAndCharts!$A1448+$A$11,IF($C$7,8,0),1,1)","v":0},0,0,0,0,0,0,{"$error":"#N/A"},false,0,false,{"$error":"#N/A"},{"$error":"#N/A"},true,false,false,false,false,false,{"$error":"#N/A"},false,{"$f":"IF(AA1448,$F$11,NA())","v":{"$error":"#N/A"}},false,false,false,false,false,false,{"$error":"#N/A"},0,0,0,0,0,null,{"$f":"OFFSET(InputIndexData!F$15,CalculationsAndCharts!$A1448+$A$11,IF($C$7,8,0),1,1)","v":0},0,1,1,true,null,212,{"$error":"#N/A"}]
[1421,{"$f":"OFFSET(InputPriceData!B$15,CalculationsAndCharts!$A1453+$A$11,0,1,1)","v":"00:00:00"},{"$f":"OFFSET(InputPriceData!G$15,CalculationsAndCharts!$A1453+$A$11,IF($C$7,8,0),1,1)","v":0},{"$f":"OFFSET(InputPriceData!C$15,CalculationsAndCharts!$A1453+$A$11,IF($C$7,8,0),1,1)","v":0},{"$f":"OFFSET(InputPriceData!D$15,CalculationsAndCharts!$A1453+$A$11,IF($C$7,8,0),1,1)","v":0},{"$f":"OFFSET(InputPriceData!E$15,CalculationsAndCharts!$A1453+$A$11,IF($C$7,8,0),1,1)","v":0},{"$f":"OFFSET(InputPriceData!F$15,CalculationsAndCharts!$A1453+$A$11,IF($C$7,8,0),1,1)","v":0},0,0,0,0,0,0,{"$error":"#N/A"},false,0,false,{"$error":"#N/A"},{"$error":"#N/A"},true,false,false,false,false,false,{"$error":"#N/A"},false,{"$error":"#N/A"},false,false,false,false,false,false,{"$error":"#N/A"},0,0,0,0,0,null,{"$f":"OFFSET(InputIndexData!F$15,CalculationsAndCharts!$A1453+$A$11,IF($C$7,8,0),1,1)","v":0},0,1,1,true,null,212,{"$error":"#N/A"}]
[1423,{"$f":"OFFSET(InputPriceData!B$15,CalculationsAndCharts!$A1455+$A$11,0,1,1)","v":"00:00:00"},{"$f":"OFFSET(InputPriceData!G$15,CalculationsAndCharts!$A1455+$A$11,IF($C$7,8,0),1,1)","v":0},{"$f":"OFFSET(InputPriceData!C$15,CalculationsAndCharts!$A1455+$A$11,IF($C$7,8,0),1,1)","v":0},{"$f":"OFFSET(InputPriceData!D$15,CalculationsAndCharts!$A1455+$A$11,IF($C$7,8,0),1,1)","v":0},{"$f":"OFFSET(InputPriceData!E$15,CalculationsAndCharts!$A1455+$A$11,IF($C$7,8,0),1,1)","v":0},{"$f":"OFFSET(InputPriceData!F$15,CalculationsAndCharts!$A1455+$A$11,IF($C$7,8,0),1,1)","v":0},0,0,0,0,0,0,{"$error":"#N/A"},false,0,false,{"$error":"#N/A"},{"$error":"#N/A"},true,false,false,false,false,false,{"$error":"#N/A"},false,{"$error":"#N/A"},false,false,false,false,false,false,{"$error":"#N/A"},0,0,0,0,0,null,{"$f":"OFFSET(InputIndexData!F$15,CalculationsAndCharts!$A1455+$A$11,IF($C$7,8,0),1,1)","v":0},0,1,1,true,null,212,{"$error":"#N/A"}]
[1426,{"$f":"OFFSET(InputPriceData!B$15,CalculationsAndCharts!$A1458+$A$11,0,1,1)","v":"00:00:00"},{"$f":"OFFSET(InputPriceData!G$15,CalculationsAndCharts!$A1458+$A$11,IF($C$7,8,0),1,1)","v":0},{"$f":"OFFSET(InputPriceData!C$15,CalculationsAndCharts!$A1458+$A$11,IF($C$7,8,0),1,1)","v":0},{"$f":"OFFSET(InputPriceData!D$15,CalculationsAndCharts!$A1458+$A$11,IF($C$7,8,0),1,1)","v":0},{"$f":"OFFSET(InputPriceData!E$15,CalculationsAndCharts!$A1458+$A$11,IF($C$7,8,0),1,1)","v":0},{"$f":"OFFSET(InputPriceData!F$15,CalculationsAndCharts!$A1458+$A$11,IF($C$7,8,0),1,1)","v":0},0,0,0,0,0,0,{"$error":"#N/A"},false,0,false,{"$error":"#N/A"},{"$error":"#N/A"},true,false,false,false,false,false,{"$error":"#N/A"},false,{"$error":"#N/A"},false,false,false,false,false,false,{"$error":"#N/A"},0,0,0,0,0,null,{"$f":"OFFSET(InputIndexData!F$15,CalculationsAndCharts!$A1458+$A$11,IF($C$7,8,0),1,1)","v":0},0,1,1,true,null,212,{"$error":"#N/A"}]
[1431,{"$f":"OFFSET(InputPriceData!B$15,CalculationsAndCharts!$A1463+$A$11,0,1,1)","v":"00:00:00"},{"$f":"OFFSET(InputPriceData!G$15,CalculationsAndCharts!$A1463+$A$11,IF($C$7,8,0),1,1)","v":0},{"$f":"OFFSET(InputPriceData!C$15,CalculationsAndCharts!$A1463+$A$11,IF($C$7,8,0),1,1)","v":0},{"$f":"OFFSET(InputPriceData!D$15,CalculationsAndCharts!$A1463+$A$11,IF($C$7,8,0),1,1)","v":0},{"$f":"OFFSET(InputPriceData!E$15,CalculationsAndCharts!$A1463+$A$11,IF($C$7,8,0),1,1)","v":0},{"$f":"OFFSET(InputPriceData!F$15,CalculationsAndCharts!$A1463+$A$11,IF($C$7,8,0),1,1)","v":0},0,0,0,0,0,0,{"$error":"#N/A"},false,0,false,{"$error":"#N/A"},{"$error":"#N/A"},true,false,false,false,false,false,{"$error":"#N/A"},false,{"$error":"#N/A"},false,false,false,false,false,false,{"$error":"#N/A"},0,0,0,0,0,null,{"$f":"OFFSET(InputIndexData!F$15,CalculationsAndCharts!$A1463+$A$11,IF($C$7,8,0),1,1)","v":0},0,1,1,true,null,212,{"$error":"#N/A"}]
[1436,{"$f":"OFFSET(InputPriceData!B$15,CalculationsAndCharts!$A1468+$A$11,0,1,1)","v":"00:00:00"},{"$f":"OFFSET(InputPriceData!G$15,CalculationsAndCharts!$A1468+$A$11,IF($C$7,8,0),1,1)","v":0},{"$f":"OFFSET(InputPriceData!C$15,CalculationsAndCharts!$A1468+$A$11,IF($C$7,8,0),1,1)","v":0},{"$f":"OFFSET(InputPriceData!D$15,CalculationsAndCharts!$A1468+$A$11,IF($C$7,8,0),1,1)","v":0},{"$f":"OFFSET(InputPriceData!E$15,CalculationsAndCharts!$A1468+$A$11,IF($C$7,8,0),1,1)","v":0},{"$f":"OFFSET(InputPriceData!F$15,CalculationsAndCharts!$A1468+$A$11,IF($C$7,8,0),1,1)","v":0},0,0,0,0,0,0,{"$error":"#N/A"},false,0,false,{"$error":"#N/A"},{"$error":"#N/A"},true,false,false,false,false,false,{"$error":"#N/A"},false,{"$error":"#N/A"},false,false,false,false,false,false,{"$error":"#N/A"},0,0,0,0,0,null,{"$f":"OFFSET(InputIndexData!F$15,CalculationsAndCharts!$A1468+$A$11,IF($C$7,8,0),1,1)","v":0},0,1,1,true,null,212,{"$error":"#N/A"}]
[1441,{"$f":"OFFSET(InputPriceData!B$15,CalculationsAndCharts!$A1473+$A$11,0,1,1)","v":"00:00:00"},{"$f":"OFFSET(InputPriceData!G$15,CalculationsAndCharts!$A1473+$A$11,IF($C$7,8,0),1,1)","v":0},{"$f":"OFFSET(InputPriceData!C$15,CalculationsAndCharts!$A1473+$A$11,IF($C$7,8,0),1,1)","v":0},{"$f":"OFFSET(InputPriceData!D$15,CalculationsAndCharts!$A1473+$A$11,IF($C$7,8,0),1,1)","v":0},{"$f":"OFFSET(InputPriceData!E$15,CalculationsAndCharts!$A1473+$A$11,IF($C$7,8,0),1,1)","v":0},{"$f":"OFFSET(InputPriceData!F$15,CalculationsAndCharts!$A1473+$A$11,IF($C$7,8,0),1,1)","v":0},0,0,0,0,0,0,{"$error":"#N/A"},false,0,false,{"$error":"#N/A"},{"$error":"#N/A"},true,false,false,false,false,false,{"$error":"#N/A"},false,{"$error":"#N/A"},false,false,false,false,false,false,{"$error":"#N/A"},0,0,0,0,0,null,{"$f":"OFFSET(InputIndexData!F$15,CalculationsAndCharts!$A1473+$A$11,IF($C$7,8,0),1,1)","v":0},0,1,1,true,null,212,{"$error":"#N/A"}]
[1444,{"$f":"OFFSET(InputPriceData!B$15,CalculationsAndCharts!$A1476+$A$11,0,1,1)","v":"00:00:00"},{"$f":"OFFSET(InputPriceData!G$15,CalculationsAndCharts!$A1476+$A$11,IF($C$7,8,0),1,1)","v":0},{"$f":"OFFSET(InputPriceData!C$15,CalculationsAndCharts!$A1476+$A$11,IF($C$7,8,0),1,1)","v":0},{"$f":"OFFSET(InputPriceData!D$15,CalculationsAndCharts!$A1476+$A$11,IF($C$7,8,0),1,1)","v":0},{"$f":"OFFSET(InputPriceData!E$15,CalculationsAndCharts!$A1476+$A$11,IF($C$7,8,0),1,1)","v":0},{"$f":"OFFSET(InputPriceData!F$15,CalculationsAndCharts!$A1476+$A$11,IF($C$7,8,0),1,1)","v":0},0,0,0,0,0,0,{"$error":"#N/A"},false,0,false,{"$error":"#N/A"},{"$error":"#N/A"},true,false,false,false,false,false,{"$error":"#N/A"},false,{"$error":"#N/A"},false,false,false,false,false,false,{"$error":"#N/A"},0,0,0,0,0,null,{"$f":"OFFSET(InputIndexData!F$15,CalculationsAndCharts!$A1476+$A$11,IF($C$7,8,0),1,1)","v":0},0,1,1,true,null,212,{"$error":"#N/A"}]
[1446,{"$f":"OFFSET(InputPriceData!B$15,CalculationsAndCharts!$A1478+$A$11,0,1,1)","v":"00:00:00"},{"$f":"OFFSET(InputPriceData!G$15,CalculationsAndCharts!$A1478+$A$11,IF($C$7,8,0),1,1)","v":0},{"$f":"OFFSET(InputPriceData!C$15,CalculationsAndCharts!$A1478+$A$11,IF($C$7,8,0),1,1)","v":0},{"$f":"OFFSET(InputPriceData!D$15,CalculationsAndCharts!$A1478+$A$11,IF($C$7,8,0),1,1)","v":0},{"$f":"OFFSET(InputPriceData!E$15,CalculationsAndCharts!$A1478+$A$11,IF($C$7,8,0),1,1)","v":0},{"$f":"OFFSET(InputPriceData!F$15,CalculationsAndCharts!$A1478+$A$11,IF($C$7,8,0),1,1)","v":0},0,0,0,0,0,0,{"$error":"#N/A"},false,0,false,{"$error":"#N/A"},{"$error":"#N/A"},true,false,false,false,false,false,{"$error":"#N/A"},false,{"$error":"#N/A"},false,false,false,false,false,false,{"$error":"#N/A"},0,0,0,0,0,null,{"$f":"OFFSET(InputIndexData!F$15,CalculationsAndCharts!$A1478+$A$11,IF($C$7,8,0),1,1)","v":0},0,1,1,true,null,212,{"$error":"#N/A"}]
[1451,{"$f":"OFFSET(InputPriceData!B$15,CalculationsAndCharts!$A1483+$A$11,0,1,1)","v":"00:00:00"},{"$f":"OFFSET(InputPriceData!G$15,CalculationsAndCharts!$A1483+$A$11,IF($C$7,8,0),1,1)","v":0},{"$f":"OFFSET(InputPriceData!C$15,CalculationsAndCharts!$A1483+$A$11,IF($C$7,8,0),1,1)","v":0},{"$f":"OFFSET(InputPriceData!D$15,CalculationsAndCharts!$A1483+$A$11,IF($C$7,8,0),1,1)","v":0},{"$f":"OFFSET(InputPriceData!E$15,CalculationsAndCharts!$A1483+$A$11,IF($C$7,8,0),1,1)","v":0},{"$f":"OFFSET(InputPriceData!F$15,CalculationsAndCharts!$A1483+$A$11,IF($C$7,8,0),1,1)","v":0},0,0,0,0,0,0,{"$error":"#N/A"},false,0,false,{"$error":"#N/A"},{"$error":"#N/A"},true,false,false,false,false,false,{"$error":"#N/A"},false,{"$error":"#N/A"},false,false,false,false,false,false,{"$error":"#N/A"},0,0,0,0,0,null,{"$f":"OFFSET(InputIndexData!F$15,CalculationsAndCharts!$A1483+$A$11,IF($C$7,8,0),1,1)","v":0},0,1,1,true,null,212,{"$error":"#N/A"}]
[1456,{"$f":"OFFSET(InputPriceData!B$15,CalculationsAndCharts!$A1488+$A$11,0,1,1)","v":"00:00:00"},{"$f":"OFFSET(InputPriceData!G$15,CalculationsAndCharts!$A1488+$A$11,IF($C$7,8,0),1,1)","v":0},{"$f":"OFFSET(InputPriceData!C$15,CalculationsAndCharts!$A1488+$A$11,IF($C$7,8,0),1,1)","v":0},{"$f":"OFFSET(InputPriceData!D$15,CalculationsAndCharts!$A1488+$A$11,IF($C$7,8,0),1,1)","v":0},{"$f":"OFFSET(InputPriceData!E$15,CalculationsAndCharts!$A1488+$A$11,IF($C$7,8,0),1,1)","v":0},{"$f":"OFFSET(InputPriceData!F$15,CalculationsAndCharts!$A1488+$A$11,IF($C$7,8,0),1,1)","v":0},0,0,0,0,0,0,{"$error":"#N/A"},false,0,false,{"$error":"#N/A"},{"$error":"#N/A"},true,false,false,false,false,false,{"$error":"#N/A"},false,{"$error":"#N/A"},false,false,false,false,false,false,{"$error":"#N/A"},0,0,0,0,0,null,{"$f":"OFFSET(InputIndexData!F$15,CalculationsAndCharts!$A1488+$A$11,IF($C$7,8,0),1,1)","v":0},0,1,1,true,null,212,{"$error":"#N/A"}]
[1457,{"$f":"OFFSET(InputPriceData!B$15,CalculationsAndCharts!$A1489+$A$11,0,1,1)","v":"00:00:00"},{"$f":"OFFSET(InputPriceData!G$15,CalculationsAndCharts!$A1489+$A$11,IF($C$7,8,0),1,1)","v":0},{"$f":"OFFSET(InputPriceData!C$15,CalculationsAndCharts!$A1489+$A$11,IF($C$7,8,0),1,1)","v":0},{"$f":"OFFSET(InputPriceData!D$15,CalculationsAndCharts!$A1489+$A$11,IF($C$7,8,0),1,1)","v":0},{"$f":"OFFSET(InputPriceData!E$15,CalculationsAndCharts!$A1489+$A$11,IF($C$7,8,0),1,1)","v":0},{"$f":"OFFSET(InputPriceData!F$15,CalculationsAndCharts!$A1489+$A$11,IF($C$7,8,0),1,1)","v":0},0,0,0,0,0,0,{"$error":"#N/A"},false,0,false,{"$error":"#N/A"},{"$error":"#N/A"},true,false,false,false,false,false,{"$error":"#N/A"},false,{"$error":"#N/A"},false,false,false,false,false,false,{"$error":"#N/A"},0,0,0,0,0,null,{"$f":"OFFSET(InputIndexData!F$15,CalculationsAndCharts!$A1489+$A$11,IF($C$7,8,0),1,1)","v":0},0,1,1,true,null,212,{"$error":"#N/A"}]
[1462,{"$f":"OFFSET(InputPriceData!B$15,CalculationsAndCharts!$A1494+$A$11,0,1,1)","v":"00:00:00"},{"$f":"OFFSET(InputPriceData!G$15,CalculationsAndCharts!$A1494+$A$11,IF($C$7,8,0),1,1)","v":0},{"$f":"OFFSET(InputPriceData!C$15,CalculationsAndCharts!$A1494+$A$11,IF($C$7,8,0),1,1)","v":0},{"$f":"OFFSET(InputPriceData!D$15,CalculationsAndCharts!$A1494+$A$11,IF($C$7,8,0),1,1)","v":0},{"$f":"OFFSET(InputPriceData!E$15,CalculationsAndCharts!$A1494+$A$11,IF($C$7,8,0),1,1)","v":0},{"$f":"OFFSET(InputPriceData!F$15,CalculationsAndCharts!$A1494+$A$11,IF($C$7,8,0),1,1)","v":0},0,0,0,0,0,0,{"$error":"#N/A"},false,0,false,{"$error":"#N/A"},{"$error":"#N/A"},true,false,false,false,false,false,{"$error":"#N/A"},false,{"$error":"#N/A"},false,false,false,false,false,false,{"$error":"#N/A"},0,0,0,0,0,null,{"$f":"OFFSET(InputIndexData!F$15,CalculationsAndCharts!$A1494+$A$11,IF($C$7,8,0),1,1)","v":0},0,1,1,true,null,212,{"$error":"#N/A"}]
[1466,{"$f":"OFFSET(InputPriceData!B$15,CalculationsAndCharts!$A1498+$A$11,0,1,1)","v":"00:00:00"},{"$f":"OFFSET(InputPriceData!G$15,CalculationsAndCharts!$A1498+$A$11,IF($C$7,8,0),1,1)","v":0},{"$f":"OFFSET(InputPriceData!C$15,CalculationsAndCharts!$A1498+$A$11,IF($C$7,8,0),1,1)","v":0},{"$f":"OFFSET(InputPriceData!D$15,CalculationsAndCharts!$A1498+$A$11,IF($C$7,8,0),1,1)","v":0},{"$f":"OFFSET(InputPriceData!E$15,CalculationsAndCharts!$A1498+$A$11,IF($C$7,8,0),1,1)","v":0},{"$f":"OFFSET(InputPriceData!F$15,CalculationsAndCharts!$A1498+$A$11,IF($C$7,8,0),1,1)","v":0},0,0,0,0,0,0,{"$error":"#N/A"},false,0,false,{"$error":"#N/A"},{"$error":"#N/A"},true,false,false,false,false,false,{"$error":"#N/A"},false,{"$error":"#N/A"},false,false,false,false,false,false,{"$error":"#N/A"},0,0,0,0,0,null,{"$f":"OFFSET(InputIndexData!F$15,CalculationsAndCharts!$A1498+$A$11,IF($C$7,8,0),1,1)","v":0},0,1,1,true,null,212,{"$error":"#N/A"}]
[1471,{"$f":"OFFSET(InputPriceData!B$15,CalculationsAndCharts!$A1503+$A$11,0,1,1)","v":"00:00:00"},{"$f":"OFFSET(InputPriceData!G$15,CalculationsAndCharts!$A1503+$A$11,IF($C$7,8,0),1,1)","v":0},{"$f":"OFFSET(InputPriceData!C$15,CalculationsAndCharts!$A1503+$A$11,IF($C$7,8,0),1,1)","v":0},{"$f":"OFFSET(InputPriceData!D$15,CalculationsAndCharts!$A1503+$A$11,IF($C$7,8,0),1,1)","v":0},{"$f":"OFFSET(InputPriceData!E$15,CalculationsAndCharts!$A1503+$A$11,IF($C$7,8,0),1,1)","v":0},{"$f":"OFFSET(InputPriceData!F$15,CalculationsAndCharts!$A1503+$A$11,IF($C$7,8,0),1,1)","v":0},0,0,0,0,0,0,{"$error":"#N/A"},false,0,false,{"$error":"#N/A"},{"$error":"#N/A"},true,false,false,false,false,false,{"$error":"#N/A"},false,{"$error":"#N/A"},false,false,false,false,false,false,{"$error":"#N/A"},0,0,0,0,0,null,{"$f":"OFFSET(InputIndexData!F$15,CalculationsAndCharts!$A1503+$A$11,IF($C$7,8,0),1,1)","v":0},0,1,1,true,null,212,{"$error":"#N/A"}]
[1472,{"$f":"OFFSET(InputPriceData!B$15,CalculationsAndCharts!$A1504+$A$11,0,1,1)","v":"00:00:00"},{"$f":"OFFSET(InputPriceData!G$15,CalculationsAndCharts!$A1504+$A$11,IF($C$7,8,0),1,1)","v":0},{"$f":"OFFSET(InputPriceData!C$15,CalculationsAndCharts!$A1504+$A$11,IF($C$7,8,0),1,1)","v":0},{"$f":"OFFSET(InputPriceData!D$15,CalculationsAndCharts!$A1504+$A$11,IF($C$7,8,0),1,1)","v":0},{"$f":"OFFSET(InputPriceData!E$15,CalculationsAndCharts!$A1504+$A$11,IF($C$7,8,0),1,1)","v":0},{"$f":"OFFSET(InputPriceData!F$15,CalculationsAndCharts!$A1504+$A$11,IF($C$7,8,0),1,1)","v":0},0,0,0,0,0,0,{"$error":"#N/A"},false,0,false,{"$error":"#N/A"},{"$error":"#N/A"},true,false,false,false,false,false,{"$error":"#N/A"},false,{"$error":"#N/A"},false,false,false,false,false,false,{"$error":"#N/A"},0,0,0,0,0,null,{"$f":"OFFSET(InputIndexData!F$15,CalculationsAndCharts!$A1504+$A$11,IF($C$7,8,0),1,1)","v":0},0,1,1,true,null,212,{"$error":"#N/A"}]
[1477,{"$f":"OFFSET(InputPriceData!B$15,CalculationsAndCharts!$A1509+$A$11,0,1,1)","v":"00:00:00"},{"$f":"OFFSET(InputPriceData!G$15,CalculationsAndCharts!$A1509+$A$11,IF($C$7,8,0),1,1)","v":0},{"$f":"OFFSET(InputPriceData!C$15,CalculationsAndCharts!$A1509+$A$11,IF($C$7,8,0),1,1)","v":0},{"$f":"OFFSET(InputPriceData!D$15,CalculationsAndCharts!$A1509+$A$11,IF($C$7,8,0),1,1)","v":0},{"$f":"OFFSET(InputPriceData!E$15,CalculationsAndCharts!$A1509+$A$11,IF($C$7,8,0),1,1)","v":0},{"$f":"OFFSET(InputPriceData!F$15,CalculationsAndCharts!$A1509+$A$11,IF($C$7,8,0),1,1)","v":0},0,0,0,0,0,0,{"$error":"#N/A"},false,0,false,{"$error":"#N/A"},{"$error":"#N/A"},true,false,false,false,false,false,{"$error":"#N/A"},false,{"$error":"#N/A"},false,false,false,false,false,false,{"$error":"#N/A"},0,0,0,0,0,null,{"$f":"OFFSET(InputIndexData!F$15,CalculationsAndCharts!$A1509+$A$11,IF($C$7,8,0),1,1)","v":0},0,1,1,true,null,212,{"$error":"#N/A"}]
[1482,{"$f":"OFFSET(InputPriceData!B$15,CalculationsAndCharts!$A1514+$A$11,0,1,1)","v":"00:00:00"},{"$f":"OFFSET(InputPriceData!G$15,CalculationsAndCharts!$A1514+$A$11,IF($C$7,8,0),1,1)","v":0},{"$f":"OFFSET(InputPriceData!C$15,CalculationsAndCharts!$A1514+$A$11,IF($C$7,8,0),1,1)","v":0},{"$f":"OFFSET(InputPriceData!D$15,CalculationsAndCharts!$A1514+$A$11,IF($C$7,8,0),1,1)","v":0},{"$f":"OFFSET(InputPriceData!E$15,CalculationsAndCharts!$A1514+$A$11,IF($C$7,8,0),1,1)","v":0},{"$f":"OFFSET(InputPriceData!F$15,CalculationsAndCharts!$A1514+$A$11,IF($C$7,8,0),1,1)","v":0},0,0,0,0,0,0,{"$error":"#N/A"},false,0,false,{"$error":"#N/A"},{"$error":"#N/A"},true,false,false,false,false,false,{"$error":"#N/A"},false,{"$error":"#N/A"},false,false,false,false,false,false,{"$error":"#N/A"},0,0,0,0,0,null,{"$f":"OFFSET(InputIndexData!F$15,CalculationsAndCharts!$A1514+$A$11,IF($C$7,8,0),1,1)","v":0},0,1,1,true,null,212,{"$error":"#N/A"}]
[1484,{"$f":"OFFSET(InputPriceData!B$15,CalculationsAndCharts!$A1516+$A$11,0,1,1)","v":"00:00:00"},{"$f":"OFFSET(InputPriceData!G$15,CalculationsAndCharts!$A1516+$A$11,IF($C$7,8,0),1,1)","v":0},{"$f":"OFFSET(InputPriceData!C$15,CalculationsAndCharts!$A1516+$A$11,IF($C$7,8,0),1,1)","v":0},{"$f":"OFFSET(InputPriceData!D$15,CalculationsAndCharts!$A1516+$A$11,IF($C$7,8,0),1,1)","v":0},{"$f":"OFFSET(InputPriceData!E$15,CalculationsAndCharts!$A1516+$A$11,IF($C$7,8,0),1,1)","v":0},{"$f":"OFFSET(InputPriceData!F$15,CalculationsAndCharts!$A1516+$A$11,IF($C$7,8,0),1,1)","v":0},0,0,0,0,0,0,{"$error":"#N/A"},false,0,false,{"$error":"#N/A"},{"$error":"#N/A"},true,false,false,false,false,false,{"$error":"#N/A"},false,{"$error":"#N/A"},false,false,false,false,false,false,{"$error":"#N/A"},0,0,0,0,0,null,{"$f":"OFFSET(InputIndexData!F$15,CalculationsAndCharts!$A1516+$A$11,IF($C$7,8,0),1,1)","v":0},0,1,1,true,null,212,{"$error":"#N/A"}]
[1487,{"$f":"OFFSET(InputPriceData!B$15,CalculationsAndCharts!$A1519+$A$11,0,1,1)","v":"00:00:00"},{"$f":"OFFSET(InputPriceData!G$15,CalculationsAndCharts!$A1519+$A$11,IF($C$7,8,0),1,1)","v":0},{"$f":"OFFSET(InputPriceData!C$15,CalculationsAndCharts!$A1519+$A$11,IF($C$7,8,0),1,1)","v":0},{"$f":"OFFSET(InputPriceData!D$15,CalculationsAndCharts!$A1519+$A$11,IF($C$7,8,0),1,1)","v":0},{"$f":"OFFSET(InputPriceData!E$15,CalculationsAndCharts!$A1519+$A$11,IF($C$7,8,0),1,1)","v":0},{"$f":"OFFSET(InputPriceData!F$15,CalculationsAndCharts!$A1519+$A$11,IF($C$7,8,0),1,1)","v":0},0,0,0,0,0,0,{"$error":"#N/A"},false,0,false,{"$error":"#N/A"},{"$error":"#N/A"},true,false,false,false,false,false,{"$error":"#N/A"},false,{"$error":"#N/A"},false,false,false,false,false,false,{"$error":"#N/A"},0,0,0,0,0,null,{"$f":"OFFSET(InputIndexData!F$15,CalculationsAndCharts!$A1519+$A$11,IF($C$7,8,0),1,1)","v":0},0,1,1,true,null,212,{"$error":"#N/A"}]
[1492,{"$f":"OFFSET(InputPriceData!B$15,CalculationsAndCharts!$A1524+$A$11,0,1,1)","v":"00:00:00"},{"$f":"OFFSET(InputPriceData!G$15,CalculationsAndCharts!$A1524+$A$11,IF($C$7,8,0),1,1)","v":0},{"$f":"OFFSET(InputPriceData!C$15,CalculationsAndCharts!$A1524+$A$11,IF($C$7,8,0),1,1)","v":0},{"$f":"OFFSET(InputPriceData!D$15,CalculationsAndCharts!$A1524+$A$11,IF($C$7,8,0),1,1)","v":0},{"$f":"OFFSET(InputPriceData!E$15,CalculationsAndCharts!$A1524+$A$11,IF($C$7,8,0),1,1)","v":0},{"$f":"OFFSET(InputPriceData!F$15,CalculationsAndCharts!$A1524+$A$11,IF($C$7,8,0),1,1)","v":0},0,0,0,0,0,0,{"$error":"#N/A"},false,0,false,{"$error":"#N/A"},{"$error":"#N/A"},true,false,false,false,false,false,{"$error":"#N/A"},false,{"$error":"#N/A"},false,false,false,false,false,false,{"$error":"#N/A"},0,0,0,0,0,null,{"$f":"OFFSET(InputIndexData!F$15,CalculationsAndCharts!$A1524+$A$11,IF($C$7,8,0),1,1)","v":0},0,1,1,true,null,212,{"$error":"#N/A"}]
[1497,{"$f":"OFFSET(InputPriceData!B$15,CalculationsAndCharts!$A1529+$A$11,0,1,1)","v":"00:00:00"},{"$f":"OFFSET(InputPriceData!G$15,CalculationsAndCharts!$A1529+$A$11,IF($C$7,8,0),1,1)","v":0},{"$f":"OFFSET(InputPriceData!C$15,CalculationsAndCharts!$A1529+$A$11,IF($C$7,8,0),1,1)","v":0},{"$f":"OFFSET(InputPriceData!D$15,CalculationsAndCharts!$A1529+$A$11,IF($C$7,8,0),1,1)","v":0},{"$f":"OFFSET(InputPriceData!E$15,CalculationsAndCharts!$A1529+$A$11,IF($C$7,8,0),1,1)","v":0},{"$f":"OFFSET(InputPriceData!F$15,CalculationsAndCharts!$A1529+$A$11,IF($C$7,8,0),1,1)","v":0},0,0,0,0,0,0,{"$error":"#N/A"},false,0,false,{"$error":"#N/A"},{"$error":"#N/A"},true,false,false,false,false,false,{"$error":"#N/A"},false,{"$error":"#N/A"},false,false,false,false,false,false,{"$error":"#N/A"},0,0,0,0,0,null,{"$f":"OFFSET(InputIndexData!F$15,CalculationsAndCharts!$A1529+$A$11,IF($C$7,8,0),1,1)","v":0},0,1,1,true,null,212,{"$error":"#N/A"}]
[1502,{"$f":"OFFSET(InputPriceData!B$15,CalculationsAndCharts!$A1534+$A$11,0,1,1)","v":"00:00:00"},{"$f":"OFFSET(InputPriceData!G$15,CalculationsAndCharts!$A1534+$A$11,IF($C$7,8,0),1,1)","v":0},{"$f":"OFFSET(InputPriceData!C$15,CalculationsAndCharts!$A1534+$A$11,IF($C$7,8,0),1,1)","v":0},{"$f":"OFFSET(InputPriceData!D$15,CalculationsAndCharts!$A1534+$A$11,IF($C$7,8,0),1,1)","v":0},{"$f":"OFFSET(InputPriceData!E$15,CalculationsAndCharts!$A1534+$A$11,IF($C$7,8,0),1,1)","v":0},{"$f":"OFFSET(InputPriceData!F$15,CalculationsAndCharts!$A1534+$A$11,IF($C$7,8,0),1,1)","v":0},0,0,0,0,0,0,{"$error":"#N/A"},false,0,false,{"$error":"#N/A"},{"$error":"#N/A"},true,false,{"$f":"U1535","v":false},false,false,false,{"$error":"#N/A"},false,{"$error":"#N/A"},false,false,false,false,false,false,{"$error":"#N/A"},0,0,0,0,0,null,{"$f":"OFFSET(InputIndexData!F$15,CalculationsAndCharts!$A1534+$A$11,IF($C$7,8,0),1,1)","v":0},0,1,1,true,null,212,{"$error":"#N/A"}]
[1505,{"$f":"OFFSET(InputPriceData!B$15,CalculationsAndCharts!$A1537+$A$11,0,1,1)","v":"00:00:00"},{"$f":"OFFSET(InputPriceData!G$15,CalculationsAndCharts!$A1537+$A$11,IF($C$7,8,0),1,1)","v":0},{"$f":"OFFSET(InputPriceData!C$15,CalculationsAndCharts!$A1537+$A$11,IF($C$7,8,0),1,1)","v":0},{"$f":"OFFSET(InputPriceData!D$15,CalculationsAndCharts!$A1537+$A$11,IF($C$7,8,0),1,1)","v":0},{"$f":"OFFSET(InputPriceData!E$15,CalculationsAndCharts!$A1537+$A$11,IF($C$7,8,0),1,1)","v":0},{"$f":"OFFSET(InputPriceData!F$15,CalculationsAndCharts!$A1537+$A$11,IF($C$7,8,0),1,1)","v":0},0,0,0,0,0,0,{"$error":"#N/A"},false,0,false,{"$error":"#N/A"},{"$error":"#N/A"},true,false,false,false,false,false,{"$error":"#N/A"},false,{"$error":"#N/A"},false,false,false,false,false,false,{"$error":"#N/A"},0,0,0,0,0,null,{"$f":"OFFSET(InputIndexData!F$15,CalculationsAndCharts!$A1537+$A$11,IF($C$7,8,0),1,1)","v":0},0,1,1,true,null,212,{"$error":"#N/A"}]
[1507,{"$f":"OFFSET(InputPriceData!B$15,CalculationsAndCharts!$A1539+$A$11,0,1,1)","v":"00:00:00"},{"$f":"OFFSET(InputPriceData!G$15,CalculationsAndCharts!$A1539+$A$11,IF($C$7,8,0),1,1)","v":0},{"$f":"OFFSET(InputPriceData!C$15,CalculationsAndCharts!$A1539+$A$11,IF($C$7,8,0),1,1)","v":0},{"$f":"OFFSET(InputPriceData!D$15,CalculationsAndCharts!$A1539+$A$11,IF($C$7,8,0),1,1)","v":0},{"$f":"OFFSET(InputPriceData!E$15,CalculationsAndCharts!$A1539+$A$11,IF($C$7,8,0),1,1)","v":0},{"$f":"OFFSET(InputPriceData!F$15,CalculationsAndCharts!$A1539+$A$11,IF($C$7,8,0),1,1)","v":0},0,0,0,0,0,0,{"$error":"#N/A"},false,0,false,{"$error":"#N/A"},{"$error":"#N/A"},true,false,false,{"$f":"IF(V1539,TRUE,IF(X1540,FALSE,W1540))","v":false},false,false,{"$error":"#N/A"},false,{"$error":"#N/A"},false,false,false,false,false,false,{"$error":"#N/A"},0,0,0,0,0,null,{"$f":"OFFSET(InputIndexData!F$15,CalculationsAndCharts!$A1539+$A$11,IF($C$7,8,0),1,1)","v":0},0,1,1,true,null,212,{"$error":"#N/A"}]
[1512,{"$f":"OFFSET(InputPriceData!B$15,CalculationsAndCharts!$A1544+$A$11,0,1,1)","v":"00:00:00"},{"$f":"OFFSET(InputPriceData!G$15,CalculationsAndCharts!$A1544+$A$11,IF($C$7,8,0),1,1)","v":0},{"$f":"OFFSET(InputPriceData!C$15,CalculationsAndCharts!$A1544+$A$11,IF($C$7,8,0),1,1)","v":0},{"$f":"OFFSET(InputPriceData!D$15,CalculationsAndCharts!$A1544+$A$11,IF($C$7,8,0),1,1)","v":0},{"$f":"OFFSET(InputPriceData!E$15,CalculationsAndCharts!$A1544+$A$11,IF($C$7,8,0),1,1)","v":0},{"$f":"OFFSET(InputPriceData!F$15,CalculationsAndCharts!$A1544+$A$11,IF($C$7,8,0),1,1)","v":0},0,0,0,0,0,0,{"$error":"#N/A"},false,0,false,{"$error":"#N/A"},{"$error":"#N/A"},true,false,false,false,false,false,{"$error":"#N/A"},false,{"$error":"#N/A"},false,false,false,false,false,false,{"$error":"#N/A"},0,0,0,0,0,null,{"$f":"OFFSET(InputIndexData!F$15,CalculationsAndCharts!$A1544+$A$11,IF($C$7,8,0),1,1)","v":0},0,1,1,true,null,212,{"$error":"#N/A"}]
[1517,{"$f":"OFFSET(InputPriceData!B$15,CalculationsAndCharts!$A1549+$A$11,0,1,1)","v":"00:00:00"},{"$f":"OFFSET(InputPriceData!G$15,CalculationsAndCharts!$A1549+$A$11,IF($C$7,8,0),1,1)","v":0},{"$f":"OFFSET(InputPriceData!C$15,CalculationsAndCharts!$A1549+$A$11,IF($C$7,8,0),1,1)","v":0},{"$f":"OFFSET(InputPriceData!D$15,CalculationsAndCharts!$A1549+$A$11,IF($C$7,8,0),1,1)","v":0},{"$f":"OFFSET(InputPriceData!E$15,CalculationsAndCharts!$A1549+$A$11,IF($C$7,8,0),1,1)","v":0},{"$f":"OFFSET(InputPriceData!F$15,CalculationsAndCharts!$A1549+$A$11,IF($C$7,8,0),1,1)","v":0},0,0,0,0,0,0,{"$error":"#N/A"},false,0,false,{"$error":"#N/A"},{"$error":"#N/A"},true,false,false,false,false,false,{"$error":"#N/A"},false,{"$error":"#N/A"},false,false,false,false,false,false,{"$error":"#N/A"},0,0,0,0,0,null,{"$f":"OFFSET(InputIndexData!F$15,CalculationsAndCharts!$A1549+$A$11,IF($C$7,8,0),1,1)","v":0},0,1,1,true,null,212,{"$error":"#N/A"}]
[1518,{"$f":"OFFSET(InputPriceData!B$15,CalculationsAndCharts!$A1550+$A$11,0,1,1)","v":"00:00:00"},{"$f":"OFFSET(InputPriceData!G$15,CalculationsAndCharts!$A1550+$A$11,IF($C$7,8,0),1,1)","v":0},{"$f":"OFFSET(InputPriceData!C$15,CalculationsAndCharts!$A1550+$A$11,IF($C$7,8,0),1,1)","v":0},{"$f":"OFFSET(InputPriceData!D$15,CalculationsAndCharts!$A1550+$A$11,IF($C$7,8,0),1,1)","v":0},{"$f":"OFFSET(InputPriceData!E$15,CalculationsAndCharts!$A1550+$A$11,IF($C$7,8,0),1,1)","v":0},{"$f":"OFFSET(InputPriceData!F$15,CalculationsAndCharts!$A1550+$A$11,IF($C$7,8,0),1,1)","v":0},0,0,0,0,0,0,{"$error":"#N/A"},false,0,false,{"$error":"#N/A"},{"$error":"#N/A"},true,false,false,false,false,false,{"$error":"#N/A"},false,{"$error":"#N/A"},false,false,false,false,false,false,{"$error":"#N/A"},0,0,0,0,0,null,{"$f":"OFFSET(InputIndexData!F$15,CalculationsAndCharts!$A1550+$A$11,IF($C$7,8,0),1,1)","v":0},0,1,1,true,null,212,{"$error":"#N/A"}]
[1523,{"$f":"OFFSET(InputPriceData!B$15,CalculationsAndCharts!$A1555+$A$11,0,1,1)","v":"00:00:00"},{"$f":"OFFSET(InputPriceData!G$15,CalculationsAndCharts!$A1555+$A$11,IF($C$7,8,0),1,1)","v":0},{"$f":"OFFSET(InputPriceData!C$15,CalculationsAndCharts!$A1555+$A$11,IF($C$7,8,0),1,1)","v":0},{"$f":"OFFSET(InputPriceData!D$15,CalculationsAndCharts!$A1555+$A$11,IF($C$7,8,0),1,1)","v":0},{"$f":"OFFSET(InputPriceData!E$15,CalculationsAndCharts!$A1555+$A$11,IF($C$7,8,0),1,1)","v":0},{"$f":"OFFSET(InputPriceData!F$15,CalculationsAndCharts!$A1555+$A$11,IF($C$7,8,0),1,1)","v":0},0,0,0,0,0,0,{"$error":"#N/A"},false,0,false,{"$error":"#N/A"},{"$error":"#N/A"},true,false,false,false,false,false,{"$error":"#N/A"},false,{"$error":"#N/A"},false,false,false,false,false,false,{"$error":"#N/A"},0,0,0,0,0,null,{"$f":"OFFSET(InputIndexData!F$15,CalculationsAndCharts!$A1555+$A$11,IF($C$7,8,0),1,1)","v":0},0,1,1,true,null,212,{"$error":"#N/A"}]
[1527,{"$f":"OFFSET(InputPriceData!B$15,CalculationsAndCharts!$A1559+$A$11,0,1,1)","v":"00:00:00"},{"$f":"OFFSET(InputPriceData!G$15,CalculationsAndCharts!$A1559+$A$11,IF($C$7,8,0),1,1)","v":0},{"$f":"OFFSET(InputPriceData!C$15,CalculationsAndCharts!$A1559+$A$11,IF($C$7,8,0),1,1)","v":0},{"$f":"OFFSET(InputPriceData!D$15,CalculationsAndCharts!$A1559+$A$11,IF($C$7,8,0),1,1)","v":0},{"$f":"OFFSET(InputPriceData!E$15,CalculationsAndCharts!$A1559+$A$11,IF($C$7,8,0),1,1)","v":0},{"$f":"OFFSET(InputPriceData!F$15,CalculationsAndCharts!$A1559+$A$11,IF($C$7,8,0),1,1)","v":0},0,0,0,0,0,0,{"$error":"#N/A"},false,0,false,{"$error":"#N/A"},{"$error":"#N/A"},true,false,false,false,false,false,{"$error":"#N/A"},false,{"$error":"#N/A"},false,false,false,false,false,false,{"$error":"#N/A"},0,0,0,0,0,null,{"$f":"OFFSET(InputIndexData!F$15,CalculationsAndCharts!$A1559+$A$11,IF($C$7,8,0),1,1)","v":0},0,1,1,true,null,212,{"$error":"#N/A"}]
[1532,{"$f":"OFFSET(InputPriceData!B$15,CalculationsAndCharts!$A1564+$A$11,0,1,1)","v":"00:00:00"},{"$f":"OFFSET(InputPriceData!G$15,CalculationsAndCharts!$A1564+$A$11,IF($C$7,8,0),1,1)","v":0},{"$f":"OFFSET(InputPriceData!C$15,CalculationsAndCharts!$A1564+$A$11,IF($C$7,8,0),1,1)","v":0},{"$f":"OFFSET(InputPriceData!D$15,CalculationsAndCharts!$A1564+$A$11,IF($C$7,8,0),1,1)","v":0},{"$f":"OFFSET(InputPriceData!E$15,CalculationsAndCharts!$A1564+$A$11,IF($C$7,8,0),1,1)","v":0},{"$f":"OFFSET(InputPriceData!F$15,CalculationsAndCharts!$A1564+$A$11,IF($C$7,8,0),1,1)","v":0},0,0,0,0,0,0,{"$error":"#N/A"},false,0,false,{"$error":"#N/A"},{"$error":"#N/A"},true,false,false,false,false,false,{"$error":"#N/A"},false,{"$error":"#N/A"},false,false,false,false,false,false,{"$error":"#N/A"},0,0,0,0,0,null,{"$f":"OFFSET(InputIndexData!F$15,CalculationsAndCharts!$A1564+$A$11,IF($C$7,8,0),1,1)","v":0},0,1,1,true,null,212,{"$error":"#N/A"}]
[1533,{"$f":"OFFSET(InputPriceData!B$15,CalculationsAndCharts!$A1565+$A$11,0,1,1)","v":"00:00:00"},{"$f":"OFFSET(InputPriceData!G$15,CalculationsAndCharts!$A1565+$A$11,IF($C$7,8,0),1,1)","v":0},{"$f":"OFFSET(InputPriceData!C$15,CalculationsAndCharts!$A1565+$A$11,IF($C$7,8,0),1,1)","v":0},{"$f":"OFFSET(InputPriceData!D$15,CalculationsAndCharts!$A1565+$A$11,IF($C$7,8,0),1,1)","v":0},{"$f":"OFFSET(InputPriceData!E$15,CalculationsAndCharts!$A1565+$A$11,IF($C$7,8,0),1,1)","v":0},{"$f":"OFFSET(InputPriceData!F$15,CalculationsAndCharts!$A1565+$A$11,IF($C$7,8,0),1,1)","v":0},0,0,0,0,0,0,{"$error":"#N/A"},false,0,false,{"$error":"#N/A"},{"$error":"#N/A"},true,false,false,false,false,false,{"$error":"#N/A"},false,{"$error":"#N/A"},false,false,false,false,false,false,{"$error":"#N/A"},0,0,0,0,0,null,{"$f":"OFFSET(InputIndexData!F$15,CalculationsAndCharts!$A1565+$A$11,IF($C$7,8,0),1,1)","v":0},0,1,1,true,null,212,{"$error":"#N/A"}]
[1538,{"$f":"OFFSET(InputPriceData!B$15,CalculationsAndCharts!$A1570+$A$11,0,1,1)","v":"00:00:00"},{"$f":"OFFSET(InputPriceData!G$15,CalculationsAndCharts!$A1570+$A$11,IF($C$7,8,0),1,1)","v":0},{"$f":"OFFSET(InputPriceData!C$15,CalculationsAndCharts!$A1570+$A$11,IF($C$7,8,0),1,1)","v":0},{"$f":"OFFSET(InputPriceData!D$15,CalculationsAndCharts!$A1570+$A$11,IF($C$7,8,0),1,1)","v":0},{"$f":"OFFSET(InputPriceData!E$15,CalculationsAndCharts!$A1570+$A$11,IF($C$7,8,0),1,1)","v":0},{"$f":"OFFSET(InputPriceData!F$15,CalculationsAndCharts!$A1570+$A$11,IF($C$7,8,0),1,1)","v":0},0,0,0,0,0,{"$f":"IF(D1570<=G1570,C1570,NA())","v":0},{"$f":"IF(D1570<=G1570,NA(),C1570)","v":{"$error":"#N/A"}},false,0,false,{"$error":"#N/A"},{"$error":"#N/A"},{"$f":"AND(OR(NOT($R$11),AT1570),OR(NOT($R$12),J1570>=I1570),OR(NOT($R$13),I1570>=H1570),OR(NOT($R$14),G1570>=I1570))","v":true},false,false,false,false,false,{"$error":"#N/A"},false,{"$error":"#N/A"},false,false,false,{"$f":"IF(AE1570,TRUE,IF(AG1571,FALSE,AF1571))","v":false},{"$f":"AND(AF1570,O1570)","v":false},false,{"$error":"#N/A"},{"$f":"IF($R$3,H1570,NA())","v":0},{"$f":"IF($R$4,I1570,NA())","v":0},{"$f":"IF($R$5,J1570,NA())","v":0},{"$f":"IF($R$6,K1570,NA())","v":0},{"$f":"IF($R$6,L1570,NA())","v":0},null,{"$f":"OFFSET(InputIndexData!F$15,CalculationsAndCharts!$A1570+$A$11,IF($C$7,8,0),1,1)","v":0},{"$f":"AVERAGE(OFFSET(AP1570,0,0,$D$17,1))","v":0},{"$f":"IF(AQ1570-AQ1571>=0,1,-1)","v":1},{"$f":"AVERAGE(OFFSET(AR1570,0,0,$D$18,1))","v":1},{"$f":"OR(AS1570>0,AND(AS1570=0,AS1571>0))","v":true},null,212,{"$error":"#N/A"}]
[1543,{"$f":"OFFSET(InputPriceData!B$15,CalculationsAndCharts!$A1575+$A$11,0,1,1)","v":"00:00:00"},{"$f":"OFFSET(InputPriceData!G$15,CalculationsAndCharts!$A1575+$A$11,IF($C$7,8,0),1,1)","v":0},{"$f":"OFFSET(InputPriceData!C$15,CalculationsAndCharts!$A1575+$A$11,IF($C$7,8,0),1,1)","v":0},{"$f":"OFFSET(InputPriceData!D$15,CalculationsAndCharts!$A1575+$A$11,IF($C$7,8,0),1,1)","v":0},{"$f":"OFFSET(InputPriceData!E$15,CalculationsAndCharts!$A1575+$A$11,IF($C$7,8,0),1,1)","v":0},{"$f":"OFFSET(InputPriceData!F$15,CalculationsAndCharts!$A1575+$A$11,IF($C$7,8,0),1,1)","v":0},0,0,0,0,0,0,{"$error":"#N/A"},false,0,false,{"$error":"#N/A"},{"$error":"#N/A"},true,false,false,false,false,false,{"$error":"#N/A"},false,{"$error":"#N/A"},false,false,false,false,false,false,{"$error":"#N/A"},0,0,0,0,0,null,{"$f":"OFFSET(InputIndexData!F$15,CalculationsAndCharts!$A1575+$A$11,IF($C$7,8,0),1,1)","v":0},0,1,1,true,null,212,{"$error":"#N/A"}]
[1545,{"$f":"OFFSET(InputPriceData!B$15,CalculationsAndCharts!$A1577+$A$11,0,1,1)","v":"00:00:00"},{"$f":"OFFSET(InputPriceData!G$15,CalculationsAndCharts!$A1577+$A$11,IF($C$7,8,0),1,1)","v":0},{"$f":"OFFSET(InputPriceData!C$15,CalculationsAndCharts!$A1577+$A$11,IF($C$7,8,0),1,1)","v":0},{"$f":"OFFSET(InputPriceData!D$15,CalculationsAndCharts!$A1577+$A$11,IF($C$7,8,0),1,1)","v":0},{"$f":"OFFSET(InputPriceData!E$15,CalculationsAndCharts!$A1577+$A$11,IF($C$7,8,0),1,1)","v":0},{"$f":"OFFSET(InputPriceData!F$15,CalculationsAndCharts!$A1577+$A$11,IF($C$7,8,0),1,1)","v":0},0,0,0,0,0,0,{"$error":"#N/A"},false,0,false,{"$f":"IF(O1577,G1577,NA())","v":{"$error":"#N/A"}},{"$f":"IF(Q1577,G1577,NA())","v":{"$error":"#N/A"}},true,false,false,false,false,false,{"$error":"#N/A"},false,{"$error":"#N/A"},false,false,false,false,false,false,{"$error":"#N/A"},0,0,0,0,0,null,{"$f":"OFFSET(InputIndexData!F$15,CalculationsAndCharts!$A1577+$A$11,IF($C$7,8,0),1,1)","v":0},0,1,1,true,null,212,{"$error":"#N/A"}]
[1548,{"$f":"OFFSET(InputPriceData!B$15,CalculationsAndCharts!$A1580+$A$11,0,1,1)","v":"00:00:00"},{"$f":"OFFSET(InputPriceData!G$15,CalculationsAndCharts!$A1580+$A$11,IF($C$7,8,0),1,1)","v":0},{"$f":"OFFSET(InputPriceData!C$15,CalculationsAndCharts!$A1580+$A$11,IF($C$7,8,0),1,1)","v":0},{"$f":"OFFSET(InputPriceData!D$15,CalculationsAndCharts!$A1580+$A$11,IF($C$7,8,0),1,1)","v":0},{"$f":"OFFSET(InputPriceData!E$15,CalculationsAndCharts!$A1580+$A$11,IF($C$7,8,0),1,1)","v":0},{"$f":"OFFSET(InputPriceData!F$15,CalculationsAndCharts!$A1580+$A$11,IF($C$7,8,0),1,1)","v":0},0,0,0,0,0,0,{"$error":"#N/A"},false,0,false,{"$error":"#N/A"},{"$error":"#N/A"},true,false,false,false,false,false,{"$error":"#N/A"},false,{"$error":"#N/A"},false,false,false,false,false,false,{"$error":"#N/A"},0,0,0,0,0,null,{"$f":"OFFSET(InputIndexData!F$15,CalculationsAndCharts!$A1580+$A$11,IF($C$7,8,0),1,1)","v":0},0,1,1,true,null,212,{"$error":"#N/A"}]
[1553,{"$f":"OFFSET(InputPriceData!B$15,CalculationsAndCharts!$A1585+$A$11,0,1,1)","v":"00:00:00"},{"$f":"OFFSET(InputPriceData!G$15,CalculationsAndCharts!$A1585+$A$11,IF($C$7,8,0),1,1)","v":0},{"$f":"OFFSET(InputPriceData!C$15,CalculationsAndCharts!$A1585+$A$11,IF($C$7,8,0),1,1)","v":0},{"$f":"OFFSET(InputPriceData!D$15,CalculationsAndCharts!$A1585+$A$11,IF($C$7,8,0),1,1)","v":0},{"$f":"OFFSET(InputPriceData!E$15,CalculationsAndCharts!$A1585+$A$11,IF($C$7,8,0),1,1)","v":0},{"$f":"OFFSET(InputPriceData!F$15,CalculationsAndCharts!$A1585+$A$11,IF($C$7,8,0),1,1)","v":0},0,0,0,0,0,0,{"$error":"#N/A"},false,0,false,{"$error":"#N/A"},{"$error":"#N/A"},true,false,false,false,false,false,{"$error":"#N/A"},false,{"$error":"#N/A"},false,false,false,false,false,false,{"$error":"#N/A"},0,0,0,0,0,null,{"$f":"OFFSET(InputIndexData!F$15,CalculationsAndCharts!$A1585+$A$11,IF($C$7,8,0),1,1)","v":0},0,1,1,true,null,212,{"$error":"#N/A"}]
[1558,{"$f":"OFFSET(InputPriceData!B$15,CalculationsAndCharts!$A1590+$A$11,0,1,1)","v":"00:00:00"},{"$f":"OFFSET(InputPriceData!G$15,CalculationsAndCharts!$A1590+$A$11,IF($C$7,8,0),1,1)","v":0},{"$f":"OFFSET(InputPriceData!C$15,CalculationsAndCharts!$A1590+$A$11,IF($C$7,8,0),1,1)","v":0},{"$f":"OFFSET(InputPriceData!D$15,CalculationsAndCharts!$A1590+$A$11,IF($C$7,8,0),1,1)","v":0},{"$f":"OFFSET(InputPriceData!E$15,CalculationsAndCharts!$A1590+$A$11,IF($C$7,8,0),1,1)","v":0},{"$f":"OFFSET(InputPriceData!F$15,CalculationsAndCharts!$A1590+$A$11,IF($C$7,8,0),1,1)","v":0},0,0,0,0,0,0,{"$error":"#N/A"},false,0,false,{"$error":"#N/A"},{"$error":"#N/A"},true,false,false,false,false,false,{"$error":"#N/A"},false,{"$error":"#N/A"},false,false,false,false,false,false,{"$error":"#N/A"},0,0,0,0,0,null,{"$f":"OFFSET(InputIndexData!F$15,CalculationsAndCharts!$A1590+$A$11,IF($C$7,8,0),1,1)","v":0},0,1,1,true,null,212,{"$error":"#N/A"}]
[1563,{"$f":"OFFSET(InputPriceData!B$15,CalculationsAndCharts!$A1595+$A$11,0,1,1)","v":"00:00:00"},{"$f":"OFFSET(InputPriceData!G$15,CalculationsAndCharts!$A1595+$A$11,IF($C$7,8,0),1,1)","v":0},{"$f":"OFFSET(InputPriceData!C$15,CalculationsAndCharts!$A1595+$A$11,IF($C$7,8,0),1,1)","v":0},{"$f":"OFFSET(InputPriceData!D$15,CalculationsAndCharts!$A1595+$A$11,IF($C$7,8,0),1,1)","v":0},{"$f":"OFFSET(InputPriceData!E$15,CalculationsAndCharts!$A1595+$A$11,IF($C$7,8,0),1,1)","v":0},{"$f":"OFFSET(InputPriceData!F$15,CalculationsAndCharts!$A1595+$A$11,IF($C$7,8,0),1,1)","v":0},0,0,0,0,0,0,{"$error":"#N/A"},false,0,false,{"$error":"#N/A"},{"$error":"#N/A"},true,false,false,false,false,false,{"$error":"#N/A"},false,{"$error":"#N/A"},false,false,false,false,false,false,{"$error":"#N/A"},0,0,0,0,0,null,{"$f":"OFFSET(InputIndexData!F$15,CalculationsAndCharts!$A1595+$A$11,IF($C$7,8,0),1,1)","v":0},0,1,1,true,null,212,{"$error":"#N/A"}]
[1564,{"$f":"OFFSET(InputPriceData!B$15,CalculationsAndCharts!$A1596+$A$11,0,1,1)","v":"00:00:00"},{"$f":"OFFSET(InputPriceData!G$15,CalculationsAndCharts!$A1596+$A$11,IF($C$7,8,0),1,1)","v":0},{"$f":"OFFSET(InputPriceData!C$15,CalculationsAndCharts!$A1596+$A$11,IF($C$7,8,0),1,1)","v":0},{"$f":"OFFSET(InputPriceData!D$15,CalculationsAndCharts!$A1596+$A$11,IF($C$7,8,0),1,1)","v":0},{"$f":"OFFSET(InputPriceData!E$15,CalculationsAndCharts!$A1596+$A$11,IF($C$7,8,0),1,1)","v":0},{"$f":"OFFSET(InputPriceData!F$15,CalculationsAndCharts!$A1596+$A$11,IF($C$7,8,0),1,1)","v":0},0,0,0,0,0,0,{"$error":"#N/A"},false,0,false,{"$error":"#N/A"},{"$error":"#N/A"},true,false,false,false,false,false,{"$error":"#N/A"},false,{"$error":"#N/A"},false,false,false,false,false,false,{"$error":"#N/A"},0,0,0,0,0,null,{"$f":"OFFSET(InputIndexData!F$15,CalculationsAndCharts!$A1596+$A$11,IF($C$7,8,0),1,1)","v":0},0,1,1,true,null,212,{"$error":"#N/A"}]
[1568,{"$f":"OFFSET(InputPriceData!B$15,CalculationsAndCharts!$A1600+$A$11,0,1,1)","v":"00:00:00"},{"$f":"OFFSET(InputPriceData!G$15,CalculationsAndCharts!$A1600+$A$11,IF($C$7,8,0),1,1)","v":0},{"$f":"OFFSET(InputPriceData!C$15,CalculationsAndCharts!$A1600+$A$11,IF($C$7,8,0),1,1)","v":0},{"$f":"OFFSET(InputPriceData!D$15,CalculationsAndCharts!$A1600+$A$11,IF($C$7,8,0),1,1)","v":0},{"$f":"OFFSET(InputPriceData!E$15,CalculationsAndCharts!$A1600+$A$11,IF($C$7,8,0),1,1)","v":0},{"$f":"OFFSET(InputPriceData!F$15,CalculationsAndCharts!$A1600+$A$11,IF($C$7,8,0),1,1)","v":0},0,0,0,0,0,0,{"$error":"#N/A"},false,0,false,{"$error":"#N/A"},{"$error":"#N/A"},true,false,false,false,false,false,{"$error":"#N/A"},false,{"$error":"#N/A"},false,false,false,false,false,false,{"$error":"#N/A"},0,0,0,0,0,null,{"$f":"OFFSET(InputIndexData!F$15,CalculationsAndCharts!$A1600+$A$11,IF($C$7,8,0),1,1)","v":0},0,1,1,true,null,212,{"$error":"#N/A"}]
[1573,{"$f":"OFFSET(InputPriceData!B$15,CalculationsAndCharts!$A1605+$A$11,0,1,1)","v":"00:00:00"},{"$f":"OFFSET(InputPriceData!G$15,CalculationsAndCharts!$A1605+$A$11,IF($C$7,8,0),1,1)","v":0},{"$f":"OFFSET(InputPriceData!C$15,CalculationsAndCharts!$A1605+$A$11,IF($C$7,8,0),1,1)","v":0},{"$f":"OFFSET(InputPriceData!D$15,CalculationsAndCharts!$A1605+$A$11,IF($C$7,8,0),1,1)","v":0},{"$f":"OFFSET(InputPriceData!E$15,CalculationsAndCharts!$A1605+$A$11,IF($C$7,8,0),1,1)","v":0},{"$f":"OFFSET(InputPriceData!F$15,CalculationsAndCharts!$A1605+$A$11,IF($C$7,8,0),1,1)","v":0},0,0,0,0,0,0,{"$error":"#N/A"},false,0,false,{"$error":"#N/A"},{"$error":"#N/A"},true,false,false,false,false,false,{"$error":"#N/A"},false,{"$error":"#N/A"},false,false,false,false,false,false,{"$error":"#N/A"},0,0,0,0,0,null,{"$f":"OFFSET(InputIndexData!F$15,CalculationsAndCharts!$A1605+$A$11,IF($C$7,8,0),1,1)","v":0},0,1,1,true,null,212,{"$error":"#N/A"}]
[1578,{"$f":"OFFSET(InputPriceData!B$15,CalculationsAndCharts!$A1610+$A$11,0,1,1)","v":"00:00:00"},{"$f":"OFFSET(InputPriceData!G$15,CalculationsAndCharts!$A1610+$A$11,IF($C$7,8,0),1,1)","v":0},{"$f":"OFFSET(InputPriceData!C$15,CalculationsAndCharts!$A1610+$A$11,IF($C$7,8,0),1,1)","v":0},{"$f":"OFFSET(InputPriceData!D$15,CalculationsAndCharts!$A1610+$A$11,IF($C$7,8,0),1,1)","v":0},{"$f":"OFFSET(InputPriceData!E$15,CalculationsAndCharts!$A1610+$A$11,IF($C$7,8,0),1,1)","v":0},{"$f":"OFFSET(InputPriceData!F$15,CalculationsAndCharts!$A1610+$A$11,IF($C$7,8,0),1,1)","v":0},0,0,0,0,0,0,{"$error":"#N/A"},false,0,false,{"$error":"#N/A"},{"$error":"#N/A"},true,false,false,false,false,false,{"$error":"#N/A"},false,{"$error":"#N/A"},false,false,false,false,false,false,{"$error":"#N/A"},0,0,0,0,0,null,{"$f":"OFFSET(InputIndexData!F$15,CalculationsAndCharts!$A1610+$A$11,IF($C$7,8,0),1,1)","v":0},0,1,1,true,null,212,{"$error":"#N/A"}]
[1579,{"$f":"OFFSET(InputPriceData!B$15,CalculationsAndCharts!$A1611+$A$11,0,1,1)","v":"00:00:00"},{"$f":"OFFSET(InputPriceData!G$15,CalculationsAndCharts!$A1611+$A$11,IF($C$7,8,0),1,1)","v":0},{"$f":"OFFSET(InputPriceData!C$15,CalculationsAndCharts!$A1611+$A$11,IF($C$7,8,0),1,1)","v":0},{"$f":"OFFSET(InputPriceData!D$15,CalculationsAndCharts!$A1611+$A$11,IF($C$7,8,0),1,1)","v":0},{"$f":"OFFSET(InputPriceData!E$15,CalculationsAndCharts!$A1611+$A$11,IF($C$7,8,0),1,1)","v":0},{"$f":"OFFSET(InputPriceData!F$15,CalculationsAndCharts!$A1611+$A$11,IF($C$7,8,0),1,1)","v":0},0,0,0,0,0,0,{"$error":"#N/A"},false,0,false,{"$error":"#N/A"},{"$error":"#N/A"},true,false,false,false,false,false,{"$error":"#N/A"},false,{"$error":"#N/A"},false,false,false,false,false,false,{"$error":"#N/A"},0,0,0,0,0,null,{"$f":"OFFSET(InputIndexData!F$15,CalculationsAndCharts!$A1611+$A$11,IF($C$7,8,0),1,1)","v":0},0,1,1,true,null,212,{"$error":"#N/A"}]
[1584,{"$f":"OFFSET(InputPriceData!B$15,CalculationsAndCharts!$A1616+$A$11,0,1,1)","v":"00:00:00"},{"$f":"OFFSET(InputPriceData!G$15,CalculationsAndCharts!$A1616+$A$11,IF($C$7,8,0),1,1)","v":0},{"$f":"OFFSET(InputPriceData!C$15,CalculationsAndCharts!$A1616+$A$11,IF($C$7,8,0),1,1)","v":0},{"$f":"OFFSET(InputPriceData!D$15,CalculationsAndCharts!$A1616+$A$11,IF($C$7,8,0),1,1)","v":0},{"$f":"OFFSET(InputPriceData!E$15,CalculationsAndCharts!$A1616+$A$11,IF($C$7,8,0),1,1)","v":0},{"$f":"OFFSET(InputPriceData!F$15,CalculationsAndCharts!$A1616+$A$11,IF($C$7,8,0),1,1)","v":0},0,0,0,0,0,0,{"$error":"#N/A"},false,0,false,{"$error":"#N/A"},{"$error":"#N/A"},true,false,false,false,false,false,{"$error":"#N/A"},false,{"$error":"#N/A"},false,false,false,false,false,false,{"$error":"#N/A"},0,0,0,0,0,null,{"$f":"OFFSET(InputIndexData!F$15,CalculationsAndCharts!$A1616+$A$11,IF($C$7,8,0),1,1)","v":0},0,1,1,true,null,212,{"$error":"#N/A"}]
[1588,{"$f":"OFFSET(InputPriceData!B$15,CalculationsAndCharts!$A1620+$A$11,0,1,1)","v":"00:00:00"},{"$f":"OFFSET(InputPriceData!G$15,CalculationsAndCharts!$A1620+$A$11,IF($C$7,8,0),1,1)","v":0},{"$f":"OFFSET(InputPriceData!C$15,CalculationsAndCharts!$A1620+$A$11,IF($C$7,8,0),1,1)","v":0},{"$f":"OFFSET(InputPriceData!D$15,CalculationsAndCharts!$A1620+$A$11,IF($C$7,8,0),1,1)","v":0},{"$f":"OFFSET(InputPriceData!E$15,CalculationsAndCharts!$A1620+$A$11,IF($C$7,8,0),1,1)","v":0},{"$f":"OFFSET(InputPriceData!F$15,CalculationsAndCharts!$A1620+$A$11,IF($C$7,8,0),1,1)","v":0},0,0,0,0,0,0,{"$error":"#N/A"},false,0,false,{"$error":"#N/A"},{"$error":"#N/A"},true,false,false,false,false,false,{"$error":"#N/A"},false,{"$error":"#N/A"},false,false,false,false,false,false,{"$error":"#N/A"},0,0,0,0,0,null,{"$f":"OFFSET(InputIndexData!F$15,CalculationsAndCharts!$A1620+$A$11,IF($C$7,8,0),1,1)","v":0},0,1,1,true,null,212,{"$error":"#N/A"}]
[1593,{"$f":"OFFSET(InputPriceData!B$15,CalculationsAndCharts!$A1625+$A$11,0,1,1)","v":"00:00:00"},{"$f":"OFFSET(InputPriceData!G$15,CalculationsAndCharts!$A1625+$A$11,IF($C$7,8,0),1,1)","v":0},{"$f":"OFFSET(InputPriceData!C$15,CalculationsAndCharts!$A1625+$A$11,IF($C$7,8,0),1,1)","v":0},{"$f":"OFFSET(InputPriceData!D$15,CalculationsAndCharts!$A1625+$A$11,IF($C$7,8,0),1,1)","v":0},{"$f":"OFFSET(InputPriceData!E$15,CalculationsAndCharts!$A1625+$A$11,IF($C$7,8,0),1,1)","v":0},{"$f":"OFFSET(InputPriceData!F$15,CalculationsAndCharts!$A1625+$A$11,IF($C$7,8,0),1,1)","v":0},0,0,0,0,0,0,{"$error":"#N/A"},false,0,false,{"$error":"#N/A"},{"$error":"#N/A"},true,false,false,false,false,false,{"$error":"#N/A"},false,{"$error":"#N/A"},false,false,false,false,false,false,{"$error":"#N/A"},0,0,0,0,0,null,{"$f":"OFFSET(InputIndexData!F$15,CalculationsAndCharts!$A1625+$A$11,IF($C$7,8,0),1,1)","v":0},0,1,1,true,null,212,{"$error":"#N/A"}]
[1594,{"$f":"OFFSET(InputPriceData!B$15,CalculationsAndCharts!$A1626+$A$11,0,1,1)","v":"00:00:00"},{"$f":"OFFSET(InputPriceData!G$15,CalculationsAndCharts!$A1626+$A$11,IF($C$7,8,0),1,1)","v":0},{"$f":"OFFSET(InputPriceData!C$15,CalculationsAndCharts!$A1626+$A$11,IF($C$7,8,0),1,1)","v":0},{"$f":"OFFSET(InputPriceData!D$15,CalculationsAndCharts!$A1626+$A$11,IF($C$7,8,0),1,1)","v":0},{"$f":"OFFSET(InputPriceData!E$15,CalculationsAndCharts!$A1626+$A$11,IF($C$7,8,0),1,1)","v":0},{"$f":"OFFSET(InputPriceData!F$15,CalculationsAndCharts!$A1626+$A$11,IF($C$7,8,0),1,1)","v":0},0,0,0,0,0,0,{"$error":"#N/A"},false,0,false,{"$error":"#N/A"},{"$error":"#N/A"},true,false,false,false,false,false,{"$error":"#N/A"},false,{"$error":"#N/A"},false,false,false,false,false,false,{"$error":"#N/A"},0,0,0,0,0,null,{"$f":"OFFSET(InputIndexData!F$15,CalculationsAndCharts!$A1626+$A$11,IF($C$7,8,0),1,1)","v":0},0,1,1,true,null,212,{"$error":"#N/A"}]
[1599,{"$f":"OFFSET(InputPriceData!B$15,CalculationsAndCharts!$A1631+$A$11,0,1,1)","v":"00:00:00"},{"$f":"OFFSET(InputPriceData!G$15,CalculationsAndCharts!$A1631+$A$11,IF($C$7,8,0),1,1)","v":0},{"$f":"OFFSET(InputPriceData!C$15,CalculationsAndCharts!$A1631+$A$11,IF($C$7,8,0),1,1)","v":0},{"$f":"OFFSET(InputPriceData!D$15,CalculationsAndCharts!$A1631+$A$11,IF($C$7,8,0),1,1)","v":0},{"$f":"OFFSET(InputPriceData!E$15,CalculationsAndCharts!$A1631+$A$11,IF($C$7,8,0),1,1)","v":0},{"$f":"OFFSET(InputPriceData!F$15,CalculationsAndCharts!$A1631+$A$11,IF($C$7,8,0),1,1)","v":0},0,0,0,0,0,0,{"$error":"#N/A"},false,0,false,{"$error":"#N/A"},{"$error":"#N/A"},true,false,false,false,false,false,{"$error":"#N/A"},false,{"$error":"#N/A"},false,false,false,false,false,false,{"$error":"#N/A"},0,0,0,0,0,null,{"$f":"OFFSET(InputIndexData!F$15,CalculationsAndCharts!$A1631+$A$11,IF($C$7,8,0),1,1)","v":0},0,1,1,true,null,212,{"$error":"#N/A"}]
[1604,{"$f":"OFFSET(InputPriceData!B$15,CalculationsAndCharts!$A1636+$A$11,0,1,1)","v":"00:00:00"},{"$f":"OFFSET(InputPriceData!G$15,CalculationsAndCharts!$A1636+$A$11,IF($C$7,8,0),1,1)","v":0},{"$f":"OFFSET(InputPriceData!C$15,CalculationsAndCharts!$A1636+$A$11,IF($C$7,8,0),1,1)","v":0},{"$f":"OFFSET(InputPriceData!D$15,CalculationsAndCharts!$A1636+$A$11,IF($C$7,8,0),1,1)","v":0},{"$f":"OFFSET(InputPriceData!E$15,CalculationsAndCharts!$A1636+$A$11,IF($C$7,8,0),1,1)","v":0},{"$f":"OFFSET(InputPriceData!F$15,CalculationsAndCharts!$A1636+$A$11,IF($C$7,8,0),1,1)","v":0},0,0,0,0,0,0,{"$error":"#N/A"},false,0,false,{"$error":"#N/A"},{"$error":"#N/A"},true,false,false,false,false,false,{"$error":"#N/A"},false,{"$error":"#N/A"},false,false,false,false,false,false,{"$error":"#N/A"},0,0,0,0,0,null,{"$f":"OFFSET(InputIndexData!F$15,CalculationsAndCharts!$A1636+$A$11,IF($C$7,8,0),1,1)","v":0},0,1,1,true,null,212,{"$error":"#N/A"}]
[1606,{"$f":"OFFSET(InputPriceData!B$15,CalculationsAndCharts!$A1638+$A$11,0,1,1)","v":"00:00:00"},{"$f":"OFFSET(InputPriceData!G$15,CalculationsAndCharts!$A1638+$A$11,IF($C$7,8,0),1,1)","v":0},{"$f":"OFFSET(InputPriceData!C$15,CalculationsAndCharts!$A1638+$A$11,IF($C$7,8,0),1,1)","v":0},{"$f":"OFFSET(InputPriceData!D$15,CalculationsAndCharts!$A1638+$A$11,IF($C$7,8,0),1,1)","v":0},{"$f":"OFFSET(InputPriceData!E$15,CalculationsAndCharts!$A1638+$A$11,IF($C$7,8,0),1,1)","v":0},{"$f":"OFFSET(InputPriceData!F$15,CalculationsAndCharts!$A1638+$A$11,IF($C$7,8,0),1,1)","v":0},0,0,0,0,0,0,{"$error":"#N/A"},false,0,false,{"$error":"#N/A"},{"$error":"#N/A"},true,false,false,false,false,false,{"$error":"#N/A"},false,{"$error":"#N/A"},false,false,false,false,false,false,{"$error":"#N/A"},0,0,0,0,0,null,{"$f":"OFFSET(InputIndexData!F$15,CalculationsAndCharts!$A1638+$A$11,IF($C$7,8,0),1,1)","v":0},0,1,1,true,null,212,{"$error":"#N/A"}]
[1609,{"$f":"OFFSET(InputPriceData!B$15,CalculationsAndCharts!$A1641+$A$11,0,1,1)","v":"00:00:00"},{"$f":"OFFSET(InputPriceData!G$15,CalculationsAndCharts!$A1641+$A$11,IF($C$7,8,0),1,1)","v":0},{"$f":"OFFSET(InputPriceData!C$15,CalculationsAndCharts!$A1641+$A$11,IF($C$7,8,0),1,1)","v":0},{"$f":"OFFSET(InputPriceData!D$15,CalculationsAndCharts!$A1641+$A$11,IF($C$7,8,0),1,1)","v":0},{"$f":"OFFSET(InputPriceData!E$15,CalculationsAndCharts!$A1641+$A$11,IF($C$7,8,0),1,1)","v":0},{"$f":"OFFSET(InputPriceData!F$15,CalculationsAndCharts!$A1641+$A$11,IF($C$7,8,0),1,1)","v":0},0,0,0,0,0,0,{"$error":"#N/A"},false,0,false,{"$f":"IF(O1641,G1641,NA())","v":{"$error":"#N/A"}},{"$f":"IF(Q1641,G1641,NA())","v":{"$error":"#N/A"}},true,false,false,false,false,false,{"$error":"#N/A"},false,{"$error":"#N/A"},false,false,false,false,false,false,{"$error":"#N/A"},0,0,0,0,0,null,{"$f":"OFFSET(InputIndexData!F$15,CalculationsAndCharts!$A1641+$A$11,IF($C$7,8,0),1,1)","v":0},0,1,1,true,null,212,{"$error":"#N/A"}]
[1614,{"$f":"OFFSET(InputPriceData!B$15,CalculationsAndCharts!$A1646+$A$11,0,1,1)","v":"00:00:00"},{"$f":"OFFSET(InputPriceData!G$15,CalculationsAndCharts!$A1646+$A$11,IF($C$7,8,0),1,1)","v":0},{"$f":"OFFSET(InputPriceData!C$15,CalculationsAndCharts!$A1646+$A$11,IF($C$7,8,0),1,1)","v":0},{"$f":"OFFSET(InputPriceData!D$15,CalculationsAndCharts!$A1646+$A$11,IF($C$7,8,0),1,1)","v":0},{"$f":"OFFSET(InputPriceData!E$15,CalculationsAndCharts!$A1646+$A$11,IF($C$7,8,0),1,1)","v":0},{"$f":"OFFSET(InputPriceData!F$15,CalculationsAndCharts!$A1646+$A$11,IF($C$7,8,0),1,1)","v":0},0,0,0,0,0,0,{"$error":"#N/A"},false,0,false,{"$error":"#N/A"},{"$error":"#N/A"},true,false,false,false,false,false,{"$error":"#N/A"},false,{"$error":"#N/A"},false,false,false,false,false,false,{"$error":"#N/A"},0,0,0,0,0,null,{"$f":"OFFSET(InputIndexData!F$15,CalculationsAndCharts!$A1646+$A$11,IF($C$7,8,0),1,1)","v":0},0,1,1,true,null,212,{"$error":"#N/A"}]
[1619,{"$f":"OFFSET(InputPriceData!B$15,CalculationsAndCharts!$A1651+$A$11,0,1,1)","v":"00:00:00"},{"$f":"OFFSET(InputPriceData!G$15,CalculationsAndCharts!$A1651+$A$11,IF($C$7,8,0),1,1)","v":0},{"$f":"OFFSET(InputPriceData!C$15,CalculationsAndCharts!$A1651+$A$11,IF($C$7,8,0),1,1)","v":0},{"$f":"OFFSET(InputPriceData!D$15,CalculationsAndCharts!$A1651+$A$11,IF($C$7,8,0),1,1)","v":0},{"$f":"OFFSET(InputPriceData!E$15,CalculationsAndCharts!$A1651+$A$11,IF($C$7,8,0),1,1)","v":0},{"$f":"OFFSET(InputPriceData!F$15,CalculationsAndCharts!$A1651+$A$11,IF($C$7,8,0),1,1)","v":0},0,0,0,0,0,0,{"$error":"#N/A"},false,0,false,{"$error":"#N/A"},{"$error":"#N/A"},true,false,false,false,false,{"$f":"X1652","v":false},{"$error":"#N/A"},false,{"$error":"#N/A"},false,false,false,false,false,false,{"$error":"#N/A"},0,0,0,0,0,null,{"$f":"OFFSET(InputIndexData!F$15,CalculationsAndCharts!$A1651+$A$11,IF($C$7,8,0),1,1)","v":0},0,1,1,true,null,212,{"$error":"#N/A"}]
[1624,{"$f":"OFFSET(InputPriceData!B$15,CalculationsAndCharts!$A1656+$A$11,0,1,1)","v":"00:00:00"},{"$f":"OFFSET(InputPriceData!G$15,CalculationsAndCharts!$A1656+$A$11,IF($C$7,8,0),1,1)","v":0},{"$f":"OFFSET(InputPriceData!C$15,CalculationsAndCharts!$A1656+$A$11,IF($C$7,8,0),1,1)","v":0},{"$f":"OFFSET(InputPriceData!D$15,CalculationsAndCharts!$A1656+$A$11,IF($C$7,8,0),1,1)","v":0},{"$f":"OFFSET(InputPriceData!E$15,CalculationsAndCharts!$A1656+$A$11,IF($C$7,8,0),1,1)","v":0},{"$f":"OFFSET(InputPriceData!F$15,CalculationsAndCharts!$A1656+$A$11,IF($C$7,8,0),1,1)","v":0},0,0,0,0,0,0,{"$error":"#N/A"},false,0,false,{"$error":"#N/A"},{"$error":"#N/A"},true,false,false,false,false,false,{"$error":"#N/A"},false,{"$error":"#N/A"},false,false,false,false,false,false,{"$error":"#N/A"},0,0,0,0,0,null,{"$f":"OFFSET(InputIndexData!F$15,CalculationsAndCharts!$A1656+$A$11,IF($C$7,8,0),1,1)","v":0},0,1,1,true,null,212,{"$error":"#N/A"}]
[1625,{"$f":"OFFSET(InputPriceData!B$15,CalculationsAndCharts!$A1657+$A$11,0,1,1)","v":"00:00:00"},{"$f":"OFFSET(InputPriceData!G$15,CalculationsAndCharts!$A1657+$A$11,IF($C$7,8,0),1,1)","v":0},{"$f":"OFFSET(InputPriceData!C$15,CalculationsAndCharts!$A1657+$A$11,IF($C$7,8,0),1,1)","v":0},{"$f":"OFFSET(InputPriceData!D$15,CalculationsAndCharts!$A1657+$A$11,IF($C$7,8,0),1,1)","v":0},{"$f":"OFFSET(InputPriceData!E$15,CalculationsAndCharts!$A1657+$A$11,IF($C$7,8,0),1,1)","v":0},{"$f":"OFFSET(InputPriceData!F$15,CalculationsAndCharts!$A1657+$A$11,IF($C$7,8,0),1,1)","v":0},0,0,0,0,0,0,{"$error":"#N/A"},false,0,false,{"$error":"#N/A"},{"$error":"#N/A"},true,false,false,false,false,false,{"$error":"#N/A"},false,{"$error":"#N/A"},false,false,false,false,false,false,{"$error":"#N/A"},0,0,0,0,0,null,{"$f":"OFFSET(InputIndexData!F$15,CalculationsAndCharts!$A1657+$A$11,IF($C$7,8,0),1,1)","v":0},0,1,1,true,null,212,{"$error":"#N/A"}]
[1629,{"$f":"OFFSET(InputPriceData!B$15,CalculationsAndCharts!$A1661+$A$11,0,1,1)","v":"00:00:00"},{"$f":"OFFSET(InputPriceData!G$15,CalculationsAndCharts!$A1661+$A$11,IF($C$7,8,0),1,1)","v":0},{"$f":"OFFSET(InputPriceData!C$15,CalculationsAndCharts!$A1661+$A$11,IF($C$7,8,0),1,1)","v":0},{"$f":"OFFSET(InputPriceData!D$15,CalculationsAndCharts!$A1661+$A$11,IF($C$7,8,0),1,1)","v":0},{"$f":"OFFSET(InputPriceData!E$15,CalculationsAndCharts!$A1661+$A$11,IF($C$7,8,0),1,1)","v":0},{"$f":"OFFSET(InputPriceData!F$15,CalculationsAndCharts!$A1661+$A$11,IF($C$7,8,0),1,1)","v":0},0,0,0,0,0,0,{"$error":"#N/A"},false,0,false,{"$error":"#N/A"},{"$error":"#N/A"},true,false,false,false,false,false,{"$error":"#N/A"},false,{"$error":"#N/A"},false,false,false,false,false,false,{"$error":"#N/A"},0,0,0,0,0,null,{"$f":"OFFSET(InputIndexData!F$15,CalculationsAndCharts!$A1661+$A$11,IF($C$7,8,0),1,1)","v":0},0,1,1,true,null,212,{"$error":"#N/A"}]
[1634,{"$f":"OFFSET(InputPriceData!B$15,CalculationsAndCharts!$A1666+$A$11,0,1,1)","v":"00:00:00"},{"$f":"OFFSET(InputPriceData!G$15,CalculationsAndCharts!$A1666+$A$11,IF($C$7,8,0),1,1)","v":0},{"$f":"OFFSET(InputPriceData!C$15,CalculationsAndCharts!$A1666+$A$11,IF($C$7,8,0),1,1)","v":0},{"$f":"OFFSET(InputPriceData!D$15,CalculationsAndCharts!$A1666+$A$11,IF($C$7,8,0),1,1)","v":0},{"$f":"OFFSET(InputPriceData!E$15,CalculationsAndCharts!$A1666+$A$11,IF($C$7,8,0),1,1)","v":0},{"$f":"OFFSET(InputPriceData!F$15,CalculationsAndCharts!$A1666+$A$11,IF($C$7,8,0),1,1)","v":0},0,0,0,0,0,0,{"$error":"#N/A"},false,0,false,{"$error":"#N/A"},{"$error":"#N/A"},true,false,false,false,false,false,{"$error":"#N/A"},false,{"$error":"#N/A"},false,false,false,false,false,false,{"$error":"#N/A"},0,0,0,0,0,null,{"$f":"OFFSET(InputIndexData!F$15,CalculationsAndCharts!$A1666+$A$11,IF($C$7,8,0),1,1)","v":0},0,1,1,true,null,212,{"$error":"#N/A"}]
[1639,{"$f":"OFFSET(InputPriceData!B$15,CalculationsAndCharts!$A1671+$A$11,0,1,1)","v":"00:00:00"},{"$f":"OFFSET(InputPriceData!G$15,CalculationsAndCharts!$A1671+$A$11,IF($C$7,8,0),1,1)","v":0},{"$f":"OFFSET(InputPriceData!C$15,CalculationsAndCharts!$A1671+$A$11,IF($C$7,8,0),1,1)","v":0},{"$f":"OFFSET(InputPriceData!D$15,CalculationsAndCharts!$A1671+$A$11,IF($C$7,8,0),1,1)","v":0},{"$f":"OFFSET(InputPriceData!E$15,CalculationsAndCharts!$A1671+$A$11,IF($C$7,8,0),1,1)","v":0},{"$f":"OFFSET(InputPriceData!F$15,CalculationsAndCharts!$A1671+$A$11,IF($C$7,8,0),1,1)","v":0},0,0,0,0,0,0,{"$error":"#N/A"},false,0,false,{"$error":"#N/A"},{"$error":"#N/A"},true,false,false,false,false,false,{"$error":"#N/A"},false,{"$error":"#N/A"},false,false,false,false,false,false,{"$error":"#N/A"},0,0,0,0,0,null,{"$f":"OFFSET(InputIndexData!F$15,CalculationsAndCharts!$A1671+$A$11,IF($C$7,8,0),1,1)","v":0},0,1,1,true,null,212,{"$error":"#N/A"}]
[1640,{"$f":"OFFSET(InputPriceData!B$15,CalculationsAndCharts!$A1672+$A$11,0,1,1)","v":"00:00:00"},{"$f":"OFFSET(InputPriceData!G$15,CalculationsAndCharts!$A1672+$A$11,IF($C$7,8,0),1,1)","v":0},{"$f":"OFFSET(InputPriceData!C$15,CalculationsAndCharts!$A1672+$A$11,IF($C$7,8,0),1,1)","v":0},{"$f":"OFFSET(InputPriceData!D$15,CalculationsAndCharts!$A1672+$A$11,IF($C$7,8,0),1,1)","v":0},{"$f":"OFFSET(InputPriceData!E$15,CalculationsAndCharts!$A1672+$A$11,IF($C$7,8,0),1,1)","v":0},{"$f":"OFFSET(InputPriceData!F$15,CalculationsAndCharts!$A1672+$A$11,IF($C$7,8,0),1,1)","v":0},0,0,0,0,0,0,{"$error":"#N/A"},false,0,false,{"$error":"#N/A"},{"$error":"#N/A"},true,false,false,false,false,false,{"$error":"#N/A"},false,{"$error":"#N/A"},false,false,false,false,false,false,{"$error":"#N/A"},0,0,0,0,0,null,{"$f":"OFFSET(InputIndexData!F$15,CalculationsAndCharts!$A1672+$A$11,IF($C$7,8,0),1,1)","v":0},0,1,1,true,null,212,{"$error":"#N/A"}]
[1645,{"$f":"OFFSET(InputPriceData!B$15,CalculationsAndCharts!$A1677+$A$11,0,1,1)","v":"00:00:00"},{"$f":"OFFSET(InputPriceData!G$15,CalculationsAndCharts!$A1677+$A$11,IF($C$7,8,0),1,1)","v":0},{"$f":"OFFSET(InputPriceData!C$15,CalculationsAndCharts!$A1677+$A$11,IF($C$7,8,0),1,1)","v":0},{"$f":"OFFSET(InputPriceData!D$15,CalculationsAndCharts!$A1677+$A$11,IF($C$7,8,0),1,1)","v":0},{"$f":"OFFSET(InputPriceData!E$15,CalculationsAndCharts!$A1677+$A$11,IF($C$7,8,0),1,1)","v":0},{"$f":"OFFSET(InputPriceData!F$15,CalculationsAndCharts!$A1677+$A$11,IF($C$7,8,0),1,1)","v":0},0,0,0,0,0,0,{"$error":"#N/A"},false,0,false,{"$error":"#N/A"},{"$error":"#N/A"},true,false,false,false,false,false,{"$error":"#N/A"},false,{"$error":"#N/A"},false,false,false,false,false,false,{"$error":"#N/A"},0,0,0,0,0,null,{"$f":"OFFSET(InputIndexData!F$15,CalculationsAndCharts!$A1677+$A$11,IF($C$7,8,0),1,1)","v":0},0,1,1,true,null,212,{"$error":"#N/A"}]
[1650,{"$f":"OFFSET(InputPriceData!B$15,CalculationsAndCharts!$A1682+$A$11,0,1,1)","v":"00:00:00"},{"$f":"OFFSET(InputPriceData!G$15,CalculationsAndCharts!$A1682+$A$11,IF($C$7,8,0),1,1)","v":0},{"$f":"OFFSET(InputPriceData!C$15,CalculationsAndCharts!$A1682+$A$11,IF($C$7,8,0),1,1)","v":0},{"$f":"OFFSET(InputPriceData!D$15,CalculationsAndCharts!$A1682+$A$11,IF($C$7,8,0),1,1)","v":0},{"$f":"OFFSET(InputPriceData!E$15,CalculationsAndCharts!$A1682+$A$11,IF($C$7,8,0),1,1)","v":0},{"$f":"OFFSET(InputPriceData!F$15,CalculationsAndCharts!$A1682+$A$11,IF($C$7,8,0),1,1)","v":0},0,0,0,0,0,0,{"$error":"#N/A"},false,0,false,{"$error":"#N/A"},{"$error":"#N/A"},true,false,false,false,false,false,{"$error":"#N/A"},false,{"$error":"#N/A"},false,false,false,false,false,false,{"$error":"#N/A"},0,0,0,0,0,null,{"$f":"OFFSET(InputIndexData!F$15,CalculationsAndCharts!$A1682+$A$11,IF($C$7,8,0),1,1)","v":0},0,1,1,true,null,212,{"$error":"#N/A"}]
[1654,{"$f":"OFFSET(InputPriceData!B$15,CalculationsAndCharts!$A1686+$A$11,0,1,1)","v":"00:00:00"},{"$f":"OFFSET(InputPriceData!G$15,CalculationsAndCharts!$A1686+$A$11,IF($C$7,8,0),1,1)","v":0},{"$f":"OFFSET(InputPriceData!C$15,CalculationsAndCharts!$A1686+$A$11,IF($C$7,8,0),1,1)","v":0},{"$f":"OFFSET(InputPriceData!D$15,CalculationsAndCharts!$A1686+$A$11,IF($C$7,8,0),1,1)","v":0},{"$f":"OFFSET(InputPriceData!E$15,CalculationsAndCharts!$A1686+$A$11,IF($C$7,8,0),1,1)","v":0},{"$f":"OFFSET(InputPriceData!F$15,CalculationsAndCharts!$A1686+$A$11,IF($C$7,8,0),1,1)","v":0},0,0,0,0,0,0,{"$error":"#N/A"},false,0,false,{"$error":"#N/A"},{"$error":"#N/A"},true,false,false,false,false,false,{"$error":"#N/A"},false,{"$error":"#N/A"},false,false,false,false,false,false,{"$error":"#N/A"},0,0,0,0,0,null,{"$f":"OFFSET(InputIndexData!F$15,CalculationsAndCharts!$A1686+$A$11,IF($C$7,8,0),1,1)","v":0},0,1,1,true,null,212,{"$error":"#N/A"}]
[1655,{"$f":"OFFSET(InputPriceData!B$15,CalculationsAndCharts!$A1687+$A$11,0,1,1)","v":"00:00:00"},{"$f":"OFFSET(InputPriceData!G$15,CalculationsAndCharts!$A1687+$A$11,IF($C$7,8,0),1,1)","v":0},{"$f":"OFFSET(InputPriceData!C$15,CalculationsAndCharts!$A1687+$A$11,IF($C$7,8,0),1,1)","v":0},{"$f":"OFFSET(InputPriceData!D$15,CalculationsAndCharts!$A1687+$A$11,IF($C$7,8,0),1,1)","v":0},{"$f":"OFFSET(InputPriceData!E$15,CalculationsAndCharts!$A1687+$A$11,IF($C$7,8,0),1,1)","v":0},{"$f":"OFFSET(InputPriceData!F$15,CalculationsAndCharts!$A1687+$A$11,IF($C$7,8,0),1,1)","v":0},0,0,0,0,0,0,{"$error":"#N/A"},false,0,false,{"$error":"#N/A"},{"$error":"#N/A"},true,false,false,false,false,false,{"$error":"#N/A"},false,{"$error":"#N/A"},false,false,false,false,false,false,{"$error":"#N/A"},0,0,0,0,0,null,{"$f":"OFFSET(InputIndexData!F$15,CalculationsAndCharts!$A1687+$A$11,IF($C$7,8,0),1,1)","v":0},0,1,1,true,null,212,{"$error":"#N/A"}]
[1660,{"$f":"OFFSET(InputPriceData!B$15,CalculationsAndCharts!$A1692+$A$11,0,1,1)","v":"00:00:00"},{"$f":"OFFSET(InputPriceData!G$15,CalculationsAndCharts!$A1692+$A$11,IF($C$7,8,0),1,1)","v":0},{"$f":"OFFSET(InputPriceData!C$15,CalculationsAndCharts!$A1692+$A$11,IF($C$7,8,0),1,1)","v":0},{"$f":"OFFSET(InputPriceData!D$15,CalculationsAndCharts!$A1692+$A$11,IF($C$7,8,0),1,1)","v":0},{"$f":"OFFSET(InputPriceData!E$15,CalculationsAndCharts!$A1692+$A$11,IF($C$7,8,0),1,1)","v":0},{"$f":"OFFSET(InputPriceData!F$15,CalculationsAndCharts!$A1692+$A$11,IF($C$7,8,0),1,1)","v":0},0,0,0,0,0,0,{"$error":"#N/A"},false,0,false,{"$error":"#N/A"},{"$error":"#N/A"},true,false,false,false,false,false,{"$error":"#N/A"},false,{"$error":"#N/A"},false,false,false,false,false,false,{"$error":"#N/A"},0,0,0,0,0,null,{"$f":"OFFSET(InputIndexData!F$15,CalculationsAndCharts!$A1692+$A$11,IF($C$7,8,0),1,1)","v":0},0,1,1,true,null,212,{"$error":"#N/A"}]
[1665,{"$f":"OFFSET(InputPriceData!B$15,CalculationsAndCharts!$A1697+$A$11,0,1,1)","v":"00:00:00"},{"$f":"OFFSET(InputPriceData!G$15,CalculationsAndCharts!$A1697+$A$11,IF($C$7,8,0),1,1)","v":0},{"$f":"OFFSET(InputPriceData!C$15,CalculationsAndCharts!$A1697+$A$11,IF($C$7,8,0),1,1)","v":0},{"$f":"OFFSET(InputPriceData!D$15,CalculationsAndCharts!$A1697+$A$11,IF($C$7,8,0),1,1)","v":0},{"$f":"OFFSET(InputPriceData!E$15,CalculationsAndCharts!$A1697+$A$11,IF($C$7,8,0),1,1)","v":0},{"$f":"OFFSET(InputPriceData!F$15,CalculationsAndCharts!$A1697+$A$11,IF($C$7,8,0),1,1)","v":0},{"$f":"AVERAGE(OFFSET(G1697,0,0,$A$17,1))","v":0},{"$f":"AVERAGE(OFFSET(G1697,0,0,$A$18,1))","v":0},{"$f":"AVERAGE(OFFSET(G1697,0,0,$A$19,1))","v":0},{"$f":"AVERAGE(OFFSET(E1697,0,0,$A$20,1))","v":0},{"$f":"AVERAGE(OFFSET(F1697,0,0,$A$21,1))","v":0},0,{"$error":"#N/A"},{"$f":"AND(G1698<=K1698,G1697>K1697,OR(P1698=\"DOWN\",P1698=0))","v":false},{"$f":"IF(AND(OR(P1698=0,P1698=\"UP\"),Q1697),\"DOWN\",IF(AND(OR(P1698=0,P1698=\"DOWN\"),O1697),\"UP\",P1698))","v":0},{"$f":"AND(G1698>=L1698,G1697<L1697,OR(P1698=0,P1698=\"UP\"))","v":false},{"$error":"#N/A"},{"$error":"#N/A"},true,{"$f":"AND(T1697,O1697)","v":false},false,false,{"$f":"AND(W1697,Q1697)","v":false},false,{"$f":"IF(AND(NOT(AA1697),OR(W1697,Y1697)),$F$11,NA())","v":{"$error":"#N/A"}},false,{"$error":"#N/A"},false,{"$f":"AND(AC1697,Q1697)","v":false},{"$f":"AD1698","v":false},false,false,{"$f":"AG1698","v":false},{"$f":"IF(AND(NOT(AA1697),OR(AF1697,AH1697)),$F$11,NA())","v":{"$error":"#N/A"}},0,0,0,0,0,null,{"$f":"OFFSET(InputIndexData!F$15,CalculationsAndCharts!$A1697+$A$11,IF($C$7,8,0),1,1)","v":0},0,1,1,true,null,{"$f":"IF(AT1697,$AR$26,NA())","v":212},{"$f":"IF(AT1697,NA(),$AR$26)","v":{"$error":"#N/A"}}]
[1670,{"$f":"OFFSET(InputPriceData!B$15,CalculationsAndCharts!$A1702+$A$11,0,1,1)","v":"00:00:00"},{"$f":"OFFSET(InputPriceData!G$15,CalculationsAndCharts!$A1702+$A$11,IF($C$7,8,0),1,1)","v":0},{"$f":"OFFSET(InputPriceData!C$15,CalculationsAndCharts!$A1702+$A$11,IF($C$7,8,0),1,1)","v":0},{"$f":"OFFSET(InputPriceData!D$15,CalculationsAndCharts!$A1702+$A$11,IF($C$7,8,0),1,1)","v":0},{"$f":"OFFSET(InputPriceData!E$15,CalculationsAndCharts!$A1702+$A$11,IF($C$7,8,0),1,1)","v":0},{"$f":"OFFSET(InputPriceData!F$15,CalculationsAndCharts!$A1702+$A$11,IF($C$7,8,0),1,1)","v":0},0,0,0,0,0,0,{"$error":"#N/A"},false,0,false,{"$error":"#N/A"},{"$error":"#N/A"},true,false,false,false,false,false,{"$error":"#N/A"},false,{"$error":"#N/A"},false,false,false,false,false,false,{"$error":"#N/A"},0,0,0,0,0,null,{"$f":"OFFSET(InputIndexData!F$15,CalculationsAndCharts!$A1702+$A$11,IF($C$7,8,0),1,1)","v":0},0,1,1,true,null,212,{"$error":"#N/A"}]
[1672,{"$f":"OFFSET(InputPriceData!B$15,CalculationsAndCharts!$A1704+$A$11,0,1,1)","v":"00:00:00"},{"$f":"OFFSET(InputPriceData!G$15,CalculationsAndCharts!$A1704+$A$11,IF($C$7,8,0),1,1)","v":0},{"$f":"OFFSET(InputPriceData!C$15,CalculationsAndCharts!$A1704+$A$11,IF($C$7,8,0),1,1)","v":0},{"$f":"OFFSET(InputPriceData!D$15,CalculationsAndCharts!$A1704+$A$11,IF($C$7,8,0),1,1)","v":0},{"$f":"OFFSET(InputPriceData!E$15,CalculationsAndCharts!$A1704+$A$11,IF($C$7,8,0),1,1)","v":0},{"$f":"OFFSET(InputPriceData!F$15,CalculationsAndCharts!$A1704+$A$11,IF($C$7,8,0),1,1)","v":0},0,0,0,0,0,0,{"$error":"#N/A"},false,0,false,{"$error":"#N/A"},{"$error":"#N/A"},true,false,false,false,false,false,{"$error":"#N/A"},false,{"$f":"IF(AA1704,$F$11,NA())","v":{"$error":"#N/A"}},false,false,false,false,false,false,{"$error":"#N/A"},0,0,0,0,0,null,{"$f":"OFFSET(InputIndexData!F$15,CalculationsAndCharts!$A1704+$A$11,IF($C$7,8,0),1,1)","v":0},0,1,1,true,null,212,{"$error":"#N/A"}]
[1675,{"$f":"OFFSET(InputPriceData!B$15,CalculationsAndCharts!$A1707+$A$11,0,1,1)","v":"00:00:00"},{"$f":"OFFSET(InputPriceData!G$15,CalculationsAndCharts!$A1707+$A$11,IF($C$7,8,0),1,1)","v":0},{"$f":"OFFSET(InputPriceData!C$15,CalculationsAndCharts!$A1707+$A$11,IF($C$7,8,0),1,1)","v":0},{"$f":"OFFSET(InputPriceData!D$15,CalculationsAndCharts!$A1707+$A$11,IF($C$7,8,0),1,1)","v":0},{"$f":"OFFSET(InputPriceData!E$15,CalculationsAndCharts!$A1707+$A$11,IF($C$7,8,0),1,1)","v":0},{"$f":"OFFSET(InputPriceData!F$15,CalculationsAndCharts!$A1707+$A$11,IF($C$7,8,0),1,1)","v":0},0,0,0,0,0,0,{"$error":"#N/A"},false,0,false,{"$error":"#N/A"},{"$error":"#N/A"},true,false,false,false,false,false,{"$error":"#N/A"},false,{"$error":"#N/A"},false,false,false,false,false,false,{"$error":"#N/A"},0,0,0,0,0,null,{"$f":"OFFSET(InputIndexData!F$15,CalculationsAndCharts!$A1707+$A$11,IF($C$7,8,0),1,1)","v":0},0,1,1,true,null,212,{"$error":"#N/A"}]
[1680,{"$f":"OFFSET(InputPriceData!B$15,CalculationsAndCharts!$A1712+$A$11,0,1,1)","v":"00:00:00"},{"$f":"OFFSET(InputPriceData!G$15,CalculationsAndCharts!$A1712+$A$11,IF($C$7,8,0),1,1)","v":0},{"$f":"OFFSET(InputPriceData!C$15,CalculationsAndCharts!$A1712+$A$11,IF($C$7,8,0),1,1)","v":0},{"$f":"OFFSET(InputPriceData!D$15,CalculationsAndCharts!$A1712+$A$11,IF($C$7,8,0),1,1)","v":0},{"$f":"OFFSET(InputPriceData!E$15,CalculationsAndCharts!$A1712+$A$11,IF($C$7,8,0),1,1)","v":0},{"$f":"OFFSET(InputPriceData!F$15,CalculationsAndCharts!$A1712+$A$11,IF($C$7,8,0),1,1)","v":0},0,0,0,0,0,0,{"$error":"#N/A"},false,0,false,{"$error":"#N/A"},{"$error":"#N/A"},true,false,false,false,false,false,{"$error":"#N/A"},{"$f":"AND(OR(W1712,Y1712),OR(AF1712,AH1712))","v":false},{"$error":"#N/A"},false,false,false,false,false,false,{"$error":"#N/A"},0,0,0,0,0,null,{"$f":"OFFSET(InputIndexData!F$15,CalculationsAndCharts!$A1712+$A$11,IF($C$7,8,0),1,1)","v":0},0,1,1,true,null,212,{"$error":"#N/A"}]
[1685,{"$f":"OFFSET(InputPriceData!B$15,CalculationsAndCharts!$A1717+$A$11,0,1,1)","v":"00:00:00"},{"$f":"OFFSET(InputPriceData!G$15,CalculationsAndCharts!$A1717+$A$11,IF($C$7,8,0),1,1)","v":0},{"$f":"OFFSET(InputPriceData!C$15,CalculationsAndCharts!$A1717+$A$11,IF($C$7,8,0),1,1)","v":0},{"$f":"OFFSET(InputPriceData!D$15,CalculationsAndCharts!$A1717+$A$11,IF($C$7,8,0),1,1)","v":0},{"$f":"OFFSET(InputPriceData!E$15,CalculationsAndCharts!$A1717+$A$11,IF($C$7,8,0),1,1)","v":0},{"$f":"OFFSET(InputPriceData!F$15,CalculationsAndCharts!$A1717+$A$11,IF($C$7,8,0),1,1)","v":0},0,0,0,0,0,0,{"$error":"#N/A"},false,0,false,{"$error":"#N/A"},{"$error":"#N/A"},true,false,false,false,false,false,{"$error":"#N/A"},false,{"$error":"#N/A"},false,false,false,false,false,false,{"$error":"#N/A"},0,0,0,0,0,null,{"$f":"OFFSET(InputIndexData!F$15,CalculationsAndCharts!$A1717+$A$11,IF($C$7,8,0),1,1)","v":0},0,1,1,true,null,212,{"$error":"#N/A"}]
[1686,{"$f":"OFFSET(InputPriceData!B$15,CalculationsAndCharts!$A1718+$A$11,0,1,1)","v":"00:00:00"},{"$f":"OFFSET(InputPriceData!G$15,CalculationsAndCharts!$A1718+$A$11,IF($C$7,8,0),1,1)","v":0},{"$f":"OFFSET(InputPriceData!C$15,CalculationsAndCharts!$A1718+$A$11,IF($C$7,8,0),1,1)","v":0},{"$f":"OFFSET(InputPriceData!D$15,CalculationsAndCharts!$A1718+$A$11,IF($C$7,8,0),1,1)","v":0},{"$f":"OFFSET(InputPriceData!E$15,CalculationsAndCharts!$A1718+$A$11,IF($C$7,8,0),1,1)","v":0},{"$f":"OFFSET(InputPriceData!F$15,CalculationsAndCharts!$A1718+$A$11,IF($C$7,8,0),1,1)","v":0},0,0,0,0,0,0,{"$error":"#N/A"},false,0,false,{"$error":"#N/A"},{"$error":"#N/A"},true,false,false,false,false,false,{"$error":"#N/A"},false,{"$error":"#N/A"},false,false,false,false,false,false,{"$error":"#N/A"},0,0,0,0,0,null,{"$f":"OFFSET(InputIndexData!F$15,CalculationsAndCharts!$A1718+$A$11,IF($C$7,8,0),1,1)","v":0},0,1,1,true,null,212,{"$error":"#N/A"}]
[1690,{"$f":"OFFSET(InputPriceData!B$15,CalculationsAndCharts!$A1722+$A$11,0,1,1)","v":"00:00:00"},{"$f":"OFFSET(InputPriceData!G$15,CalculationsAndCharts!$A1722+$A$11,IF($C$7,8,0),1,1)","v":0},{"$f":"OFFSET(InputPriceData!C$15,CalculationsAndCharts!$A1722+$A$11,IF($C$7,8,0),1,1)","v":0},{"$f":"OFFSET(InputPriceData!D$15,CalculationsAndCharts!$A1722+$A$11,IF($C$7,8,0),1,1)","v":0},{"$f":"OFFSET(InputPriceData!E$15,CalculationsAndCharts!$A1722+$A$11,IF($C$7,8,0),1,1)","v":0},{"$f":"OFFSET(InputPriceData!F$15,CalculationsAndCharts!$A1722+$A$11,IF($C$7,8,0),1,1)","v":0},0,0,0,0,0,0,{"$error":"#N/A"},false,0,false,{"$error":"#N/A"},{"$error":"#N/A"},true,false,false,false,false,false,{"$error":"#N/A"},false,{"$error":"#N/A"},{"$f":"AND(   OR(NOT($R$11),NOT(AT1722)),   OR(NOT($R$12),J1722<=I1722),   OR(NOT($R$13),I1722<=H1722),   OR(NOT($R$14),G1722<=I1722)   )","v":false},false,false,false,false,false,{"$error":"#N/A"},0,0,0,0,0,null,{"$f":"OFFSET(InputIndexData!F$15,CalculationsAndCharts!$A1722+$A$11,IF($C$7,8,0),1,1)","v":0},0,1,1,true,null,212,{"$error":"#N/A"}]
[1695,{"$f":"OFFSET(InputPriceData!B$15,CalculationsAndCharts!$A1727+$A$11,0,1,1)","v":"00:00:00"},{"$f":"OFFSET(InputPriceData!G$15,CalculationsAndCharts!$A1727+$A$11,IF($C$7,8,0),1,1)","v":0},{"$f":"OFFSET(InputPriceData!C$15,CalculationsAndCharts!$A1727+$A$11,IF($C$7,8,0),1,1)","v":0},{"$f":"OFFSET(InputPriceData!D$15,CalculationsAndCharts!$A1727+$A$11,IF($C$7,8,0),1,1)","v":0},{"$f":"OFFSET(InputPriceData!E$15,CalculationsAndCharts!$A1727+$A$11,IF($C$7,8,0),1,1)","v":0},{"$f":"OFFSET(InputPriceData!F$15,CalculationsAndCharts!$A1727+$A$11,IF($C$7,8,0),1,1)","v":0},0,0,0,0,0,0,{"$error":"#N/A"},false,0,false,{"$error":"#N/A"},{"$error":"#N/A"},true,false,false,false,false,false,{"$error":"#N/A"},false,{"$error":"#N/A"},false,false,false,false,false,false,{"$error":"#N/A"},0,0,0,0,0,null,{"$f":"OFFSET(InputIndexData!F$15,CalculationsAndCharts!$A1727+$A$11,IF($C$7,8,0),1,1)","v":0},0,1,1,true,null,212,{"$error":"#N/A"}]
[1700,{"$f":"OFFSET(InputPriceData!B$15,CalculationsAndCharts!$A1732+$A$11,0,1,1)","v":"00:00:00"},{"$f":"OFFSET(InputPriceData!G$15,CalculationsAndCharts!$A1732+$A$11,IF($C$7,8,0),1,1)","v":0},{"$f":"OFFSET(InputPriceData!C$15,CalculationsAndCharts!$A1732+$A$11,IF($C$7,8,0),1,1)","v":0},{"$f":"OFFSET(InputPriceData!D$15,CalculationsAndCharts!$A1732+$A$11,IF($C$7,8,0),1,1)","v":0},{"$f":"OFFSET(InputPriceData!E$15,CalculationsAndCharts!$A1732+$A$11,IF($C$7,8,0),1,1)","v":0},{"$f":"OFFSET(InputPriceData!F$15,CalculationsAndCharts!$A1732+$A$11,IF($C$7,8,0),1,1)","v":0},0,0,0,0,0,0,{"$error":"#N/A"},false,0,false,{"$error":"#N/A"},{"$error":"#N/A"},true,false,false,false,false,false,{"$error":"#N/A"},false,{"$error":"#N/A"},false,false,false,false,false,false,{"$error":"#N/A"},0,0,0,0,0,null,{"$f":"OFFSET(InputIndexData!F$15,CalculationsAndCharts!$A1732+$A$11,IF($C$7,8,0),1,1)","v":0},0,1,1,true,null,212,{"$error":"#N/A"}]
[1701,{"$f":"OFFSET(InputPriceData!B$15,CalculationsAndCharts!$A1733+$A$11,0,1,1)","v":"00:00:00"},{"$f":"OFFSET(InputPriceData!G$15,CalculationsAndCharts!$A1733+$A$11,IF($C$7,8,0),1,1)","v":0},{"$f":"OFFSET(InputPriceData!C$15,CalculationsAndCharts!$A1733+$A$11,IF($C$7,8,0),1,1)","v":0},{"$f":"OFFSET(InputPriceData!D$15,CalculationsAndCharts!$A1733+$A$11,IF($C$7,8,0),1,1)","v":0},{"$f":"OFFSET(InputPriceData!E$15,CalculationsAndCharts!$A1733+$A$11,IF($C$7,8,0),1,1)","v":0},{"$f":"OFFSET(InputPriceData!F$15,CalculationsAndCharts!$A1733+$A$11,IF($C$7,8,0),1,1)","v":0},0,0,0,0,0,0,{"$error":"#N/A"},false,0,false,{"$error":"#N/A"},{"$error":"#N/A"},true,false,false,false,false,false,{"$error":"#N/A"},false,{"$error":"#N/A"},false,false,false,false,false,false,{"$error":"#N/A"},0,0,0,0,0,null,{"$f":"OFFSET(InputIndexData!F$15,CalculationsAndCharts!$A1733+$A$11,IF($C$7,8,0),1,1)","v":0},0,1,1,true,null,212,{"$error":"#N/A"}]
[1706,{"$f":"OFFSET(InputPriceData!B$15,CalculationsAndCharts!$A1738+$A$11,0,1,1)","v":"00:00:00"},{"$f":"OFFSET(InputPriceData!G$15,CalculationsAndCharts!$A1738+$A$11,IF($C$7,8,0),1,1)","v":0},{"$f":"OFFSET(InputPriceData!C$15,CalculationsAndCharts!$A1738+$A$11,IF($C$7,8,0),1,1)","v":0},{"$f":"OFFSET(InputPriceData!D$15,CalculationsAndCharts!$A1738+$A$11,IF($C$7,8,0),1,1)","v":0},{"$f":"OFFSET(InputPriceData!E$15,CalculationsAndCharts!$A1738+$A$11,IF($C$7,8,0),1,1)","v":0},{"$f":"OFFSET(InputPriceData!F$15,CalculationsAndCharts!$A1738+$A$11,IF($C$7,8,0),1,1)","v":0},0,0,0,0,0,0,{"$error":"#N/A"},false,0,false,{"$error":"#N/A"},{"$error":"#N/A"},true,false,false,false,false,false,{"$error":"#N/A"},false,{"$error":"#N/A"},false,false,false,false,false,false,{"$error":"#N/A"},0,0,0,0,0,null,{"$f":"OFFSET(InputIndexData!F$15,CalculationsAndCharts!$A1738+$A$11,IF($C$7,8,0),1,1)","v":0},0,1,1,true,null,212,{"$error":"#N/A"}]
[1711,{"$f":"OFFSET(InputPriceData!B$15,CalculationsAndCharts!$A1743+$A$11,0,1,1)","v":"00:00:00"},{"$f":"OFFSET(InputPriceData!G$15,CalculationsAndCharts!$A1743+$A$11,IF($C$7,8,0),1,1)","v":0},{"$f":"OFFSET(InputPriceData!C$15,CalculationsAndCharts!$A1743+$A$11,IF($C$7,8,0),1,1)","v":0},{"$f":"OFFSET(InputPriceData!D$15,CalculationsAndCharts!$A1743+$A$11,IF($C$7,8,0),1,1)","v":0},{"$f":"OFFSET(InputPriceData!E$15,CalculationsAndCharts!$A1743+$A$11,IF($C$7,8,0),1,1)","v":0},{"$f":"OFFSET(InputPriceData!F$15,CalculationsAndCharts!$A1743+$A$11,IF($C$7,8,0),1,1)","v":0},0,0,0,0,0,0,{"$error":"#N/A"},false,0,false,{"$error":"#N/A"},{"$error":"#N/A"},true,false,false,false,false,false,{"$error":"#N/A"},false,{"$error":"#N/A"},false,false,false,false,false,false,{"$error":"#N/A"},0,0,0,0,0,null,{"$f":"OFFSET(InputIndexData!F$15,CalculationsAndCharts!$A1743+$A$11,IF($C$7,8,0),1,1)","v":0},0,1,1,true,null,212,{"$error":"#N/A"}]
[1715,{"$f":"OFFSET(InputPriceData!B$15,CalculationsAndCharts!$A1747+$A$11,0,1,1)","v":"00:00:00"},{"$f":"OFFSET(InputPriceData!G$15,CalculationsAndCharts!$A1747+$A$11,IF($C$7,8,0),1,1)","v":0},{"$f":"OFFSET(InputPriceData!C$15,CalculationsAndCharts!$A1747+$A$11,IF($C$7,8,0),1,1)","v":0},{"$f":"OFFSET(InputPriceData!D$15,CalculationsAndCharts!$A1747+$A$11,IF($C$7,8,0),1,1)","v":0},{"$f":"OFFSET(InputPriceData!E$15,CalculationsAndCharts!$A1747+$A$11,IF($C$7,8,0),1,1)","v":0},{"$f":"OFFSET(InputPriceData!F$15,CalculationsAndCharts!$A1747+$A$11,IF($C$7,8,0),1,1)","v":0},0,0,0,0,0,0,{"$error":"#N/A"},false,0,false,{"$error":"#N/A"},{"$error":"#N/A"},true,false,false,false,false,false,{"$error":"#N/A"},false,{"$error":"#N/A"},false,false,false,false,false,false,{"$error":"#N/A"},0,0,0,0,0,null,{"$f":"OFFSET(InputIndexData!F$15,CalculationsAndCharts!$A1747+$A$11,IF($C$7,8,0),1,1)","v":0},0,1,1,true,null,212,{"$error":"#N/A"}]
[1716,{"$f":"OFFSET(InputPriceData!B$15,CalculationsAndCharts!$A1748+$A$11,0,1,1)","v":"00:00:00"},{"$f":"OFFSET(InputPriceData!G$15,CalculationsAndCharts!$A1748+$A$11,IF($C$7,8,0),1,1)","v":0},{"$f":"OFFSET(InputPriceData!C$15,CalculationsAndCharts!$A1748+$A$11,IF($C$7,8,0),1,1)","v":0},{"$f":"OFFSET(InputPriceData!D$15,CalculationsAndCharts!$A1748+$A$11,IF($C$7,8,0),1,1)","v":0},{"$f":"OFFSET(InputPriceData!E$15,CalculationsAndCharts!$A1748+$A$11,IF($C$7,8,0),1,1)","v":0},{"$f":"OFFSET(InputPriceData!F$15,CalculationsAndCharts!$A1748+$A$11,IF($C$7,8,0),1,1)","v":0},0,0,0,0,0,0,{"$error":"#N/A"},false,0,false,{"$error":"#N/A"},{"$error":"#N/A"},true,false,false,false,false,false,{"$error":"#N/A"},false,{"$error":"#N/A"},false,false,false,false,false,false,{"$error":"#N/A"},0,0,0,0,0,null,{"$f":"OFFSET(InputIndexData!F$15,CalculationsAndCharts!$A1748+$A$11,IF($C$7,8,0),1,1)","v":0},0,1,1,true,null,212,{"$error":"#N/A"}]
[1721,{"$f":"OFFSET(InputPriceData!B$15,CalculationsAndCharts!$A1753+$A$11,0,1,1)","v":"00:00:00"},{"$f":"OFFSET(InputPriceData!G$15,CalculationsAndCharts!$A1753+$A$11,IF($C$7,8,0),1,1)","v":0},{"$f":"OFFSET(InputPriceData!C$15,CalculationsAndCharts!$A1753+$A$11,IF($C$7,8,0),1,1)","v":0},{"$f":"OFFSET(InputPriceData!D$15,CalculationsAndCharts!$A1753+$A$11,IF($C$7,8,0),1,1)","v":0},{"$f":"OFFSET(InputPriceData!E$15,CalculationsAndCharts!$A1753+$A$11,IF($C$7,8,0),1,1)","v":0},{"$f":"OFFSET(InputPriceData!F$15,CalculationsAndCharts!$A1753+$A$11,IF($C$7,8,0),1,1)","v":0},0,0,0,0,0,0,{"$error":"#N/A"},false,0,false,{"$error":"#N/A"},{"$error":"#N/A"},true,false,false,false,false,false,{"$error":"#N/A"},false,{"$error":"#N/A"},false,false,false,false,false,false,{"$error":"#N/A"},0,0,0,0,0,null,{"$f":"OFFSET(InputIndexData!F$15,CalculationsAndCharts!$A1753+$A$11,IF($C$7,8,0),1,1)","v":0},0,1,1,true,null,212,{"$error":"#N/A"}]
[1726,{"$f":"OFFSET(InputPriceData!B$15,CalculationsAndCharts!$A1758+$A$11,0,1,1)","v":"00:00:00"},{"$f":"OFFSET(InputPriceData!G$15,CalculationsAndCharts!$A1758+$A$11,IF($C$7,8,0),1,1)","v":0},{"$f":"OFFSET(InputPriceData!C$15,CalculationsAndCharts!$A1758+$A$11,IF($C$7,8,0),1,1)","v":0},{"$f":"OFFSET(InputPriceData!D$15,CalculationsAndCharts!$A1758+$A$11,IF($C$7,8,0),1,1)","v":0},{"$f":"OFFSET(InputPriceData!E$15,CalculationsAndCharts!$A1758+$A$11,IF($C$7,8,0),1,1)","v":0},{"$f":"OFFSET(InputPriceData!F$15,CalculationsAndCharts!$A1758+$A$11,IF($C$7,8,0),1,1)","v":0},0,0,0,0,0,0,{"$error":"#N/A"},false,0,false,{"$error":"#N/A"},{"$error":"#N/A"},true,false,false,false,false,false,{"$error":"#N/A"},false,{"$error":"#N/A"},false,false,false,false,false,false,{"$error":"#N/A"},0,0,0,0,0,null,{"$f":"OFFSET(InputIndexData!F$15,CalculationsAndCharts!$A1758+$A$11,IF($C$7,8,0),1,1)","v":0},0,1,1,true,null,212,{"$error":"#N/A"}]
[1731,{"$f":"OFFSET(InputPriceData!B$15,CalculationsAndCharts!$A1763+$A$11,0,1,1)","v":"00:00:00"},{"$f":"OFFSET(InputPriceData!G$15,CalculationsAndCharts!$A1763+$A$11,IF($C$7,8,0),1,1)","v":0},{"$f":"OFFSET(InputPriceData!C$15,CalculationsAndCharts!$A1763+$A$11,IF($C$7,8,0),1,1)","v":0},{"$f":"OFFSET(InputPriceData!D$15,CalculationsAndCharts!$A1763+$A$11,IF($C$7,8,0),1,1)","v":0},{"$f":"OFFSET(InputPriceData!E$15,CalculationsAndCharts!$A1763+$A$11,IF($C$7,8,0),1,1)","v":0},{"$f":"OFFSET(InputPriceData!F$15,CalculationsAndCharts!$A1763+$A$11,IF($C$7,8,0),1,1)","v":0},0,0,0,0,0,0,{"$error":"#N/A"},false,0,false,{"$error":"#N/A"},{"$error":"#N/A"},true,false,false,false,false,false,{"$error":"#N/A"},false,{"$error":"#N/A"},false,false,false,false,false,false,{"$error":"#N/A"},0,0,0,0,0,null,{"$f":"OFFSET(InputIndexData!F$15,CalculationsAndCharts!$A1763+$A$11,IF($C$7,8,0),1,1)","v":0},0,1,1,true,null,212,{"$error":"#N/A"}]
[1733,{"$f":"OFFSET(InputPriceData!B$15,CalculationsAndCharts!$A1765+$A$11,0,1,1)","v":"00:00:00"},{"$f":"OFFSET(InputPriceData!G$15,CalculationsAndCharts!$A1765+$A$11,IF($C$7,8,0),1,1)","v":0},{"$f":"OFFSET(InputPriceData!C$15,CalculationsAndCharts!$A1765+$A$11,IF($C$7,8,0),1,1)","v":0},{"$f":"OFFSET(InputPriceData!D$15,CalculationsAndCharts!$A1765+$A$11,IF($C$7,8,0),1,1)","v":0},{"$f":"OFFSET(InputPriceData!E$15,CalculationsAndCharts!$A1765+$A$11,IF($C$7,8,0),1,1)","v":0},{"$f":"OFFSET(InputPriceData!F$15,CalculationsAndCharts!$A1765+$A$11,IF($C$7,8,0),1,1)","v":0},0,0,0,0,0,0,{"$error":"#N/A"},false,0,false,{"$error":"#N/A"},{"$error":"#N/A"},true,false,false,false,false,false,{"$error":"#N/A"},false,{"$error":"#N/A"},false,false,false,false,false,false,{"$error":"#N/A"},0,0,0,0,0,null,{"$f":"OFFSET(InputIndexData!F$15,CalculationsAndCharts!$A1765+$A$11,IF($C$7,8,0),1,1)","v":0},0,1,1,true,null,212,{"$error":"#N/A"}]
[1736,{"$f":"OFFSET(InputPriceData!B$15,CalculationsAndCharts!$A1768+$A$11,0,1,1)","v":"00:00:00"},{"$f":"OFFSET(InputPriceData!G$15,CalculationsAndCharts!$A1768+$A$11,IF($C$7,8,0),1,1)","v":0},{"$f":"OFFSET(InputPriceData!C$15,CalculationsAndCharts!$A1768+$A$11,IF($C$7,8,0),1,1)","v":0},{"$f":"OFFSET(InputPriceData!D$15,CalculationsAndCharts!$A1768+$A$11,IF($C$7,8,0),1,1)","v":0},{"$f":"OFFSET(InputPriceData!E$15,CalculationsAndCharts!$A1768+$A$11,IF($C$7,8,0),1,1)","v":0},{"$f":"OFFSET(InputPriceData!F$15,CalculationsAndCharts!$A1768+$A$11,IF($C$7,8,0),1,1)","v":0},0,0,0,0,0,0,{"$error":"#N/A"},false,0,false,{"$error":"#N/A"},{"$error":"#N/A"},true,false,false,false,false,false,{"$error":"#N/A"},false,{"$f":"IF(AA1768,$F$11,NA())","v":{"$error":"#N/A"}},false,false,false,false,false,false,{"$error":"#N/A"},0,0,0,0,0,null,{"$f":"OFFSET(InputIndexData!F$15,CalculationsAndCharts!$A1768+$A$11,IF($C$7,8,0),1,1)","v":0},0,1,1,true,null,212,{"$error":"#N/A"}]
[1741,{"$f":"OFFSET(InputPriceData!B$15,CalculationsAndCharts!$A1773+$A$11,0,1,1)","v":"00:00:00"},{"$f":"OFFSET(InputPriceData!G$15,CalculationsAndCharts!$A1773+$A$11,IF($C$7,8,0),1,1)","v":0},{"$f":"OFFSET(InputPriceData!C$15,CalculationsAndCharts!$A1773+$A$11,IF($C$7,8,0),1,1)","v":0},{"$f":"OFFSET(InputPriceData!D$15,CalculationsAndCharts!$A1773+$A$11,IF($C$7,8,0),1,1)","v":0},{"$f":"OFFSET(InputPriceData!E$15,CalculationsAndCharts!$A1773+$A$11,IF($C$7,8,0),1,1)","v":0},{"$f":"OFFSET(InputPriceData!F$15,CalculationsAndCharts!$A1773+$A$11,IF($C$7,8,0),1,1)","v":0},0,0,0,0,0,0,{"$error":"#N/A"},false,0,false,{"$error":"#N/A"},{"$error":"#N/A"},true,false,false,false,false,false,{"$error":"#N/A"},false,{"$error":"#N/A"},false,false,false,false,false,false,{"$error":"#N/A"},0,0,0,0,0,null,{"$f":"OFFSET(InputIndexData!F$15,CalculationsAndCharts!$A1773+$A$11,IF($C$7,8,0),1,1)","v":0},0,1,1,true,null,212,{"$error":"#N/A"}]
[1746,{"$f":"OFFSET(InputPriceData!B$15,CalculationsAndCharts!$A1778+$A$11,0,1,1)","v":"00:00:00"},{"$f":"OFFSET(InputPriceData!G$15,CalculationsAndCharts!$A1778+$A$11,IF($C$7,8,0),1,1)","v":0},{"$f":"OFFSET(InputPriceData!C$15,CalculationsAndCharts!$A1778+$A$11,IF($C$7,8,0),1,1)","v":0},{"$f":"OFFSET(InputPriceData!D$15,CalculationsAndCharts!$A1778+$A$11,IF($C$7,8,0),1,1)","v":0},{"$f":"OFFSET(InputPriceData!E$15,CalculationsAndCharts!$A1778+$A$11,IF($C$7,8,0),1,1)","v":0},{"$f":"OFFSET(InputPriceData!F$15,CalculationsAndCharts!$A1778+$A$11,IF($C$7,8,0),1,1)","v":0},0,0,0,0,0,0,{"$error":"#N/A"},false,0,false,{"$error":"#N/A"},{"$error":"#N/A"},true,false,false,false,false,false,{"$error":"#N/A"},false,{"$error":"#N/A"},false,false,false,false,false,false,{"$error":"#N/A"},0,0,0,0,0,null,{"$f":"OFFSET(InputIndexData!F$15,CalculationsAndCharts!$A1778+$A$11,IF($C$7,8,0),1,1)","v":0},0,1,1,true,null,212,{"$error":"#N/A"}]
[1747,{"$f":"OFFSET(InputPriceData!B$15,CalculationsAndCharts!$A1779+$A$11,0,1,1)","v":"00:00:00"},{"$f":"OFFSET(InputPriceData!G$15,CalculationsAndCharts!$A1779+$A$11,IF($C$7,8,0),1,1)","v":0},{"$f":"OFFSET(InputPriceData!C$15,CalculationsAndCharts!$A1779+$A$11,IF($C$7,8,0),1,1)","v":0},{"$f":"OFFSET(InputPriceData!D$15,CalculationsAndCharts!$A1779+$A$11,IF($C$7,8,0),1,1)","v":0},{"$f":"OFFSET(InputPriceData!E$15,CalculationsAndCharts!$A1779+$A$11,IF($C$7,8,0),1,1)","v":0},{"$f":"OFFSET(InputPriceData!F$15,CalculationsAndCharts!$A1779+$A$11,IF($C$7,8,0),1,1)","v":0},0,0,0,0,0,0,{"$error":"#N/A"},false,0,false,{"$error":"#N/A"},{"$error":"#N/A"},true,false,false,false,false,{"$f":"X1780","v":false},{"$error":"#N/A"},false,{"$error":"#N/A"},false,false,false,false,false,false,{"$error":"#N/A"},0,0,0,0,0,null,{"$f":"OFFSET(InputIndexData!F$15,CalculationsAndCharts!$A1779+$A$11,IF($C$7,8,0),1,1)","v":0},0,1,1,true,null,212,{"$error":"#N/A"}]
[1751,{"$f":"OFFSET(InputPriceData!B$15,CalculationsAndCharts!$A1783+$A$11,0,1,1)","v":"00:00:00"},{"$f":"OFFSET(InputPriceData!G$15,CalculationsAndCharts!$A1783+$A$11,IF($C$7,8,0),1,1)","v":0},{"$f":"OFFSET(InputPriceData!C$15,CalculationsAndCharts!$A1783+$A$11,IF($C$7,8,0),1,1)","v":0},{"$f":"OFFSET(InputPriceData!D$15,CalculationsAndCharts!$A1783+$A$11,IF($C$7,8,0),1,1)","v":0},{"$f":"OFFSET(InputPriceData!E$15,CalculationsAndCharts!$A1783+$A$11,IF($C$7,8,0),1,1)","v":0},{"$f":"OFFSET(InputPriceData!F$15,CalculationsAndCharts!$A1783+$A$11,IF($C$7,8,0),1,1)","v":0},0,0,0,0,0,0,{"$error":"#N/A"},false,0,false,{"$error":"#N/A"},{"$error":"#N/A"},true,false,false,false,false,false,{"$error":"#N/A"},false,{"$error":"#N/A"},false,false,false,false,false,false,{"$error":"#N/A"},0,0,0,0,0,null,{"$f":"OFFSET(InputIndexData!F$15,CalculationsAndCharts!$A1783+$A$11,IF($C$7,8,0),1,1)","v":0},0,1,1,true,null,212,{"$error":"#N/A"}]
[1756,{"$f":"OFFSET(InputPriceData!B$15,CalculationsAndCharts!$A1788+$A$11,0,1,1)","v":"00:00:00"},{"$f":"OFFSET(InputPriceData!G$15,CalculationsAndCharts!$A1788+$A$11,IF($C$7,8,0),1,1)","v":0},{"$f":"OFFSET(InputPriceData!C$15,CalculationsAndCharts!$A1788+$A$11,IF($C$7,8,0),1,1)","v":0},{"$f":"OFFSET(InputPriceData!D$15,CalculationsAndCharts!$A1788+$A$11,IF($C$7,8,0),1,1)","v":0},{"$f":"OFFSET(InputPriceData!E$15,CalculationsAndCharts!$A1788+$A$11,IF($C$7,8,0),1,1)","v":0},{"$f":"OFFSET(InputPriceData!F$15,CalculationsAndCharts!$A1788+$A$11,IF($C$7,8,0),1,1)","v":0},0,0,0,0,0,0,{"$error":"#N/A"},false,0,false,{"$error":"#N/A"},{"$error":"#N/A"},true,false,false,false,false,false,{"$error":"#N/A"},false,{"$error":"#N/A"},false,false,false,false,false,false,{"$error":"#N/A"},0,0,0,0,0,null,{"$f":"OFFSET(InputIndexData!F$15,CalculationsAndCharts!$A1788+$A$11,IF($C$7,8,0),1,1)","v":0},0,1,1,true,null,212,{"$error":"#N/A"}]
[1761,{"$f":"OFFSET(InputPriceData!B$15,CalculationsAndCharts!$A1793+$A$11,0,1,1)","v":"00:00:00"},{"$f":"OFFSET(InputPriceData!G$15,CalculationsAndCharts!$A1793+$A$11,IF($C$7,8,0),1,1)","v":0},{"$f":"OFFSET(InputPriceData!C$15,CalculationsAndCharts!$A1793+$A$11,IF($C$7,8,0),1,1)","v":0},{"$f":"OFFSET(InputPriceData!D$15,CalculationsAndCharts!$A1793+$A$11,IF($C$7,8,0),1,1)","v":0},{"$f":"OFFSET(InputPriceData!E$15,CalculationsAndCharts!$A1793+$A$11,IF($C$7,8,0),1,1)","v":0},{"$f":"OFFSET(InputPriceData!F$15,CalculationsAndCharts!$A1793+$A$11,IF($C$7,8,0),1,1)","v":0},0,0,0,0,0,0,{"$error":"#N/A"},false,0,false,{"$error":"#N/A"},{"$error":"#N/A"},true,false,false,false,false,false,{"$error":"#N/A"},false,{"$error":"#N/A"},false,false,false,false,false,false,{"$error":"#N/A"},0,0,0,0,0,null,{"$f":"OFFSET(InputIndexData!F$15,CalculationsAndCharts!$A1793+$A$11,IF($C$7,8,0),1,1)","v":0},0,1,1,true,null,212,{"$error":"#N/A"}]
[1762,{"$f":"OFFSET(InputPriceData!B$15,CalculationsAndCharts!$A1794+$A$11,0,1,1)","v":"00:00:00"},{"$f":"OFFSET(InputPriceData!G$15,CalculationsAndCharts!$A1794+$A$11,IF($C$7,8,0),1,1)","v":0},{"$f":"OFFSET(InputPriceData!C$15,CalculationsAndCharts!$A1794+$A$11,IF($C$7,8,0),1,1)","v":0},{"$f":"OFFSET(InputPriceData!D$15,CalculationsAndCharts!$A1794+$A$11,IF($C$7,8,0),1,1)","v":0},{"$f":"OFFSET(InputPriceData!E$15,CalculationsAndCharts!$A1794+$A$11,IF($C$7,8,0),1,1)","v":0},{"$f":"OFFSET(InputPriceData!F$15,CalculationsAndCharts!$A1794+$A$11,IF($C$7,8,0),1,1)","v":0},0,0,0,0,0,0,{"$error":"#N/A"},false,0,false,{"$error":"#N/A"},{"$error":"#N/A"},true,false,false,false,false,false,{"$error":"#N/A"},false,{"$error":"#N/A"},false,false,false,false,false,false,{"$error":"#N/A"},0,0,0,0,0,null,{"$f":"OFFSET(InputIndexData!F$15,CalculationsAndCharts!$A1794+$A$11,IF($C$7,8,0),1,1)","v":0},0,1,1,true,null,212,{"$error":"#N/A"}]
[1767,{"$f":"OFFSET(InputPriceData!B$15,CalculationsAndCharts!$A1799+$A$11,0,1,1)","v":"00:00:00"},{"$f":"OFFSET(InputPriceData!G$15,CalculationsAndCharts!$A1799+$A$11,IF($C$7,8,0),1,1)","v":0},{"$f":"OFFSET(InputPriceData!C$15,CalculationsAndCharts!$A1799+$A$11,IF($C$7,8,0),1,1)","v":0},{"$f":"OFFSET(InputPriceData!D$15,CalculationsAndCharts!$A1799+$A$11,IF($C$7,8,0),1,1)","v":0},{"$f":"OFFSET(InputPriceData!E$15,CalculationsAndCharts!$A1799+$A$11,IF($C$7,8,0),1,1)","v":0},{"$f":"OFFSET(InputPriceData!F$15,CalculationsAndCharts!$A1799+$A$11,IF($C$7,8,0),1,1)","v":0},0,0,0,0,0,0,{"$error":"#N/A"},false,0,false,{"$error":"#N/A"},{"$error":"#N/A"},true,false,false,false,false,false,{"$error":"#N/A"},false,{"$error":"#N/A"},false,false,false,false,false,false,{"$error":"#N/A"},0,0,0,0,0,null,{"$f":"OFFSET(InputIndexData!F$15,CalculationsAndCharts!$A1799+$A$11,IF($C$7,8,0),1,1)","v":0},0,1,1,true,null,212,{"$error":"#N/A"}]
[1772,{"$f":"OFFSET(InputPriceData!B$15,CalculationsAndCharts!$A1804+$A$11,0,1,1)","v":"00:00:00"},{"$f":"OFFSET(InputPriceData!G$15,CalculationsAndCharts!$A1804+$A$11,IF($C$7,8,0),1,1)","v":0},{"$f":"OFFSET(InputPriceData!C$15,CalculationsAndCharts!$A1804+$A$11,IF($C$7,8,0),1,1)","v":0},{"$f":"OFFSET(InputPriceData!D$15,CalculationsAndCharts!$A1804+$A$11,IF($C$7,8,0),1,1)","v":0},{"$f":"OFFSET(InputPriceData!E$15,CalculationsAndCharts!$A1804+$A$11,IF($C$7,8,0),1,1)","v":0},{"$f":"OFFSET(InputPriceData!F$15,CalculationsAndCharts!$A1804+$A$11,IF($C$7,8,0),1,1)","v":0},0,0,0,0,0,0,{"$error":"#N/A"},false,0,false,{"$error":"#N/A"},{"$error":"#N/A"},true,false,false,false,false,false,{"$error":"#N/A"},false,{"$error":"#N/A"},false,false,false,false,false,false,{"$error":"#N/A"},0,0,0,0,0,null,{"$f":"OFFSET(InputIndexData!F$15,CalculationsAndCharts!$A1804+$A$11,IF($C$7,8,0),1,1)","v":0},0,1,1,true,null,212,{"$error":"#N/A"}]
[1776,{"$f":"OFFSET(InputPriceData!B$15,CalculationsAndCharts!$A1808+$A$11,0,1,1)","v":"00:00:00"},{"$f":"OFFSET(InputPriceData!G$15,CalculationsAndCharts!$A1808+$A$11,IF($C$7,8,0),1,1)","v":0},{"$f":"OFFSET(InputPriceData!C$15,CalculationsAndCharts!$A1808+$A$11,IF($C$7,8,0),1,1)","v":0},{"$f":"OFFSET(InputPriceData!D$15,CalculationsAndCharts!$A1808+$A$11,IF($C$7,8,0),1,1)","v":0},{"$f":"OFFSET(InputPriceData!E$15,CalculationsAndCharts!$A1808+$A$11,IF($C$7,8,0),1,1)","v":0},{"$f":"OFFSET(InputPriceData!F$15,CalculationsAndCharts!$A1808+$A$11,IF($C$7,8,0),1,1)","v":0},0,0,0,0,0,0,{"$error":"#N/A"},false,0,false,{"$error":"#N/A"},{"$error":"#N/A"},true,false,false,false,false,false,{"$error":"#N/A"},false,{"$error":"#N/A"},false,false,false,false,false,false,{"$error":"#N/A"},0,0,0,0,0,null,{"$f":"OFFSET(InputIndexData!F$15,CalculationsAndCharts!$A1808+$A$11,IF($C$7,8,0),1,1)","v":0},0,1,1,true,null,212,{"$error":"#N/A"}]
[1777,{"$f":"OFFSET(InputPriceData!B$15,CalculationsAndCharts!$A1809+$A$11,0,1,1)","v":"00:00:00"},{"$f":"OFFSET(InputPriceData!G$15,CalculationsAndCharts!$A1809+$A$11,IF($C$7,8,0),1,1)","v":0},{"$f":"OFFSET(InputPriceData!C$15,CalculationsAndCharts!$A1809+$A$11,IF($C$7,8,0),1,1)","v":0},{"$f":"OFFSET(InputPriceData!D$15,CalculationsAndCharts!$A1809+$A$11,IF($C$7,8,0),1,1)","v":0},{"$f":"OFFSET(InputPriceData!E$15,CalculationsAndCharts!$A1809+$A$11,IF($C$7,8,0),1,1)","v":0},{"$f":"OFFSET(InputPriceData!F$15,CalculationsAndCharts!$A1809+$A$11,IF($C$7,8,0),1,1)","v":0},0,0,0,0,0,0,{"$error":"#N/A"},false,0,false,{"$error":"#N/A"},{"$error":"#N/A"},true,false,false,false,false,false,{"$error":"#N/A"},false,{"$error":"#N/A"},false,false,false,false,false,false,{"$error":"#N/A"},0,0,0,0,0,null,{"$f":"OFFSET(InputIndexData!F$15,CalculationsAndCharts!$A1809+$A$11,IF($C$7,8,0),1,1)","v":0},0,1,1,true,null,212,{"$error":"#N/A"}]
[1782,{"$f":"OFFSET(InputPriceData!B$15,CalculationsAndCharts!$A1814+$A$11,0,1,1)","v":"00:00:00"},{"$f":"OFFSET(InputPriceData!G$15,CalculationsAndCharts!$A1814+$A$11,IF($C$7,8,0),1,1)","v":0},{"$f":"OFFSET(InputPriceData!C$15,CalculationsAndCharts!$A1814+$A$11,IF($C$7,8,0),1,1)","v":0},{"$f":"OFFSET(InputPriceData!D$15,CalculationsAndCharts!$A1814+$A$11,IF($C$7,8,0),1,1)","v":0},{"$f":"OFFSET(InputPriceData!E$15,CalculationsAndCharts!$A1814+$A$11,IF($C$7,8,0),1,1)","v":0},{"$f":"OFFSET(InputPriceData!F$15,CalculationsAndCharts!$A1814+$A$11,IF($C$7,8,0),1,1)","v":0},0,0,0,0,0,0,{"$error":"#N/A"},false,0,false,{"$error":"#N/A"},{"$error":"#N/A"},true,false,false,false,false,false,{"$error":"#N/A"},false,{"$error":"#N/A"},false,false,false,false,false,false,{"$error":"#N/A"},0,0,0,0,0,null,{"$f":"OFFSET(InputIndexData!F$15,CalculationsAndCharts!$A1814+$A$11,IF($C$7,8,0),1,1)","v":0},0,1,1,true,null,212,{"$error":"#N/A"}]
[1787,{"$f":"OFFSET(InputPriceData!B$15,CalculationsAndCharts!$A1819+$A$11,0,1,1)","v":"00:00:00"},{"$f":"OFFSET(InputPriceData!G$15,CalculationsAndCharts!$A1819+$A$11,IF($C$7,8,0),1,1)","v":0},{"$f":"OFFSET(InputPriceData!C$15,CalculationsAndCharts!$A1819+$A$11,IF($C$7,8,0),1,1)","v":0},{"$f":"OFFSET(InputPriceData!D$15,CalculationsAndCharts!$A1819+$A$11,IF($C$7,8,0),1,1)","v":0},{"$f":"OFFSET(InputPriceData!E$15,CalculationsAndCharts!$A1819+$A$11,IF($C$7,8,0),1,1)","v":0},{"$f":"OFFSET(InputPriceData!F$15,CalculationsAndCharts!$A1819+$A$11,IF($C$7,8,0),1,1)","v":0},0,0,0,0,0,0,{"$error":"#N/A"},false,0,false,{"$error":"#N/A"},{"$error":"#N/A"},true,false,false,false,false,false,{"$error":"#N/A"},false,{"$error":"#N/A"},false,false,false,false,false,false,{"$error":"#N/A"},0,0,0,0,0,null,{"$f":"OFFSET(InputIndexData!F$15,CalculationsAndCharts!$A1819+$A$11,IF($C$7,8,0),1,1)","v":0},0,1,1,true,null,212,{"$error":"#N/A"}]
[1792,{"$f":"OFFSET(InputPriceData!B$15,CalculationsAndCharts!$A1824+$A$11,0,1,1)","v":"00:00:00"},{"$f":"OFFSET(InputPriceData!G$15,CalculationsAndCharts!$A1824+$A$11,IF($C$7,8,0),1,1)","v":0},{"$f":"OFFSET(InputPriceData!C$15,CalculationsAndCharts!$A1824+$A$11,IF($C$7,8,0),1,1)","v":0},{"$f":"OFFSET(InputPriceData!D$15,CalculationsAndCharts!$A1824+$A$11,IF($C$7,8,0),1,1)","v":0},{"$f":"OFFSET(InputPriceData!E$15,CalculationsAndCharts!$A1824+$A$11,IF($C$7,8,0),1,1)","v":0},{"$f":"OFFSET(InputPriceData!F$15,CalculationsAndCharts!$A1824+$A$11,IF($C$7,8,0),1,1)","v":0},0,0,0,0,0,0,{"$error":"#N/A"},false,0,false,{"$error":"#N/A"},{"$error":"#N/A"},true,false,false,false,false,false,{"$error":"#N/A"},false,{"$error":"#N/A"},false,false,false,false,false,false,{"$error":"#N/A"},0,0,0,0,0,null,{"$f":"OFFSET(InputIndexData!F$15,CalculationsAndCharts!$A1824+$A$11,IF($C$7,8,0),1,1)","v":0},0,1,1,true,null,212,{"$error":"#N/A"}]
[1794,{"$f":"OFFSET(InputPriceData!B$15,CalculationsAndCharts!$A1826+$A$11,0,1,1)","v":"00:00:00"},{"$f":"OFFSET(InputPriceData!G$15,CalculationsAndCharts!$A1826+$A$11,IF($C$7,8,0),1,1)","v":0},{"$f":"OFFSET(InputPriceData!C$15,CalculationsAndCharts!$A1826+$A$11,IF($C$7,8,0),1,1)","v":0},{"$f":"OFFSET(InputPriceData!D$15,CalculationsAndCharts!$A1826+$A$11,IF($C$7,8,0),1,1)","v":0},{"$f":"OFFSET(InputPriceData!E$15,CalculationsAndCharts!$A1826+$A$11,IF($C$7,8,0),1,1)","v":0},{"$f":"OFFSET(InputPriceData!F$15,CalculationsAndCharts!$A1826+$A$11,IF($C$7,8,0),1,1)","v":0},0,0,0,0,0,{"$f":"IF(D1826<=G1826,C1826,NA())","v":0},{"$f":"IF(D1826<=G1826,NA(),C1826)","v":{"$error":"#N/A"}},false,0,false,{"$error":"#N/A"},{"$error":"#N/A"},{"$f":"AND(OR(NOT($R$11),AT1826),OR(NOT($R$12),J1826>=I1826),OR(NOT($R$13),I1826>=H1826),OR(NOT($R$14),G1826>=I1826))","v":true},false,false,false,false,false,{"$error":"#N/A"},false,{"$error":"#N/A"},false,false,false,{"$f":"IF(AE1826,TRUE,IF(AG1827,FALSE,AF1827))","v":false},{"$f":"AND(AF1826,O1826)","v":false},false,{"$error":"#N/A"},{"$f":"IF($R$3,H1826,NA())","v":0},{"$f":"IF($R$4,I1826,NA())","v":0},{"$f":"IF($R$5,J1826,NA())","v":0},{"$f":"IF($R$6,K1826,NA())","v":0},{"$f":"IF($R$6,L1826,NA())","v":0},null,{"$f":"OFFSET(InputIndexData!F$15,CalculationsAndCharts!$A1826+$A$11,IF($C$7,8,0),1,1)","v":0},{"$f":"AVERAGE(OFFSET(AP1826,0,0,$D$17,1))","v":0},{"$f":"IF(AQ1826-AQ1827>=0,1,-1)","v":1},{"$f":"AVERAGE(OFFSET(AR1826,0,0,$D$18,1))","v":1},{"$f":"OR(AS1826>0,AND(AS1826=0,AS1827>0))","v":true},null,212,{"$error":"#N/A"}]
[1797,{"$f":"OFFSET(InputPriceData!B$15,CalculationsAndCharts!$A1829+$A$11,0,1,1)","v":"00:00:00"},{"$f":"OFFSET(InputPriceData!G$15,CalculationsAndCharts!$A1829+$A$11,IF($C$7,8,0),1,1)","v":0},{"$f":"OFFSET(InputPriceData!C$15,CalculationsAndCharts!$A1829+$A$11,IF($C$7,8,0),1,1)","v":0},{"$f":"OFFSET(InputPriceData!D$15,CalculationsAndCharts!$A1829+$A$11,IF($C$7,8,0),1,1)","v":0},{"$f":"OFFSET(InputPriceData!E$15,CalculationsAndCharts!$A1829+$A$11,IF($C$7,8,0),1,1)","v":0},{"$f":"OFFSET(InputPriceData!F$15,CalculationsAndCharts!$A1829+$A$11,IF($C$7,8,0),1,1)","v":0},0,0,0,0,0,0,{"$error":"#N/A"},false,0,false,{"$error":"#N/A"},{"$error":"#N/A"},true,false,false,false,false,false,{"$error":"#N/A"},false,{"$error":"#N/A"},false,false,false,false,false,false,{"$error":"#N/A"},0,0,0,0,0,null,{"$f":"OFFSET(InputIndexData!F$15,CalculationsAndCharts!$A1829+$A$11,IF($C$7,8,0),1,1)","v":0},0,1,1,true,null,212,{"$error":"#N/A"}]
[1802,{"$f":"OFFSET(InputPriceData!B$15,CalculationsAndCharts!$A1834+$A$11,0,1,1)","v":"00:00:00"},{"$f":"OFFSET(InputPriceData!G$15,CalculationsAndCharts!$A1834+$A$11,IF($C$7,8,0),1,1)","v":0},{"$f":"OFFSET(InputPriceData!C$15,CalculationsAndCharts!$A1834+$A$11,IF($C$7,8,0),1,1)","v":0},{"$f":"OFFSET(InputPriceData!D$15,CalculationsAndCharts!$A1834+$A$11,IF($C$7,8,0),1,1)","v":0},{"$f":"OFFSET(InputPriceData!E$15,CalculationsAndCharts!$A1834+$A$11,IF($C$7,8,0),1,1)","v":0},{"$f":"OFFSET(InputPriceData!F$15,CalculationsAndCharts!$A1834+$A$11,IF($C$7,8,0),1,1)","v":0},0,0,0,0,0,0,{"$error":"#N/A"},false,0,false,{"$error":"#N/A"},{"$error":"#N/A"},true,false,false,false,false,false,{"$error":"#N/A"},false,{"$error":"#N/A"},false,false,false,false,false,false,{"$error":"#N/A"},0,0,0,0,0,null,{"$f":"OFFSET(InputIndexData!F$15,CalculationsAndCharts!$A1834+$A$11,IF($C$7,8,0),1,1)","v":0},0,1,1,true,null,212,{"$error":"#N/A"}]
[1807,{"$f":"OFFSET(InputPriceData!B$15,CalculationsAndCharts!$A1839+$A$11,0,1,1)","v":"00:00:00"},{"$f":"OFFSET(InputPriceData!G$15,CalculationsAndCharts!$A1839+$A$11,IF($C$7,8,0),1,1)","v":0},{"$f":"OFFSET(InputPriceData!C$15,CalculationsAndCharts!$A1839+$A$11,IF($C$7,8,0),1,1)","v":0},{"$f":"OFFSET(InputPriceData!D$15,CalculationsAndCharts!$A1839+$A$11,IF($C$7,8,0),1,1)","v":0},{"$f":"OFFSET(InputPriceData!E$15,CalculationsAndCharts!$A1839+$A$11,IF($C$7,8,0),1,1)","v":0},{"$f":"OFFSET(InputPriceData!F$15,CalculationsAndCharts!$A1839+$A$11,IF($C$7,8,0),1,1)","v":0},0,0,0,0,0,0,{"$error":"#N/A"},false,0,false,{"$error":"#N/A"},{"$error":"#N/A"},true,false,false,false,false,false,{"$error":"#N/A"},false,{"$error":"#N/A"},false,false,false,false,false,false,{"$error":"#N/A"},0,0,0,0,0,null,{"$f":"OFFSET(InputIndexData!F$15,CalculationsAndCharts!$A1839+$A$11,IF($C$7,8,0),1,1)","v":0},0,1,1,true,null,212,{"$error":"#N/A"}]
[1808,{"$f":"OFFSET(InputPriceData!B$15,CalculationsAndCharts!$A1840+$A$11,0,1,1)","v":"00:00:00"},{"$f":"OFFSET(InputPriceData!G$15,CalculationsAndCharts!$A1840+$A$11,IF($C$7,8,0),1,1)","v":0},{"$f":"OFFSET(InputPriceData!C$15,CalculationsAndCharts!$A1840+$A$11,IF($C$7,8,0),1,1)","v":0},{"$f":"OFFSET(InputPriceData!D$15,CalculationsAndCharts!$A1840+$A$11,IF($C$7,8,0),1,1)","v":0},{"$f":"OFFSET(InputPriceData!E$15,CalculationsAndCharts!$A1840+$A$11,IF($C$7,8,0),1,1)","v":0},{"$f":"OFFSET(InputPriceData!F$15,CalculationsAndCharts!$A1840+$A$11,IF($C$7,8,0),1,1)","v":0},0,0,0,0,0,0,{"$error":"#N/A"},false,0,false,{"$error":"#N/A"},{"$error":"#N/A"},true,false,false,false,false,false,{"$error":"#N/A"},{"$f":"AND(OR(W1840,Y1840),OR(AF1840,AH1840))","v":false},{"$error":"#N/A"},false,false,false,false,false,false,{"$error":"#N/A"},0,0,0,0,0,null,{"$f":"OFFSET(InputIndexData!F$15,CalculationsAndCharts!$A1840+$A$11,IF($C$7,8,0),1,1)","v":0},0,1,1,true,null,212,{"$error":"#N/A"}]
[1813,{"$f":"OFFSET(InputPriceData!B$15,CalculationsAndCharts!$A1845+$A$11,0,1,1)","v":"00:00:00"},{"$f":"OFFSET(InputPriceData!G$15,CalculationsAndCharts!$A1845+$A$11,IF($C$7,8,0),1,1)","v":0},{"$f":"OFFSET(InputPriceData!C$15,CalculationsAndCharts!$A1845+$A$11,IF($C$7,8,0),1,1)","v":0},{"$f":"OFFSET(InputPriceData!D$15,CalculationsAndCharts!$A1845+$A$11,IF($C$7,8,0),1,1)","v":0},{"$f":"OFFSET(InputPriceData!E$15,CalculationsAndCharts!$A1845+$A$11,IF($C$7,8,0),1,1)","v":0},{"$f":"OFFSET(InputPriceData!F$15,CalculationsAndCharts!$A1845+$A$11,IF($C$7,8,0),1,1)","v":0},0,0,0,0,0,0,{"$error":"#N/A"},false,0,false,{"$error":"#N/A"},{"$error":"#N/A"},true,false,false,false,false,false,{"$error":"#N/A"},false,{"$error":"#N/A"},false,false,false,false,false,false,{"$error":"#N/A"},0,0,0,0,0,null,{"$f":"OFFSET(InputIndexData!F$15,CalculationsAndCharts!$A1845+$A$11,IF($C$7,8,0),1,1)","v":0},0,1,1,true,null,212,{"$error":"#N/A"}]
[1816,{"$f":"OFFSET(InputPriceData!B$15,CalculationsAndCharts!$A1848+$A$11,0,1,1)","v":"00:00:00"},{"$f":"OFFSET(InputPriceData!G$15,CalculationsAndCharts!$A1848+$A$11,IF($C$7,8,0),1,1)","v":0},{"$f":"OFFSET(InputPriceData!C$15,CalculationsAndCharts!$A1848+$A$11,IF($C$7,8,0),1,1)","v":0},{"$f":"OFFSET(InputPriceData!D$15,CalculationsAndCharts!$A1848+$A$11,IF($C$7,8,0),1,1)","v":0},{"$f":"OFFSET(InputPriceData!E$15,CalculationsAndCharts!$A1848+$A$11,IF($C$7,8,0),1,1)","v":0},{"$f":"OFFSET(InputPriceData!F$15,CalculationsAndCharts!$A1848+$A$11,IF($C$7,8,0),1,1)","v":0},0,0,0,0,0,0,{"$error":"#N/A"},false,0,false,{"$error":"#N/A"},{"$error":"#N/A"},true,false,false,false,false,false,{"$error":"#N/A"},false,{"$error":"#N/A"},false,false,false,false,false,false,{"$error":"#N/A"},0,0,0,0,0,null,{"$f":"OFFSET(InputIndexData!F$15,CalculationsAndCharts!$A1848+$A$11,IF($C$7,8,0),1,1)","v":0},0,1,1,true,null,212,{"$error":"#N/A"}]
[1822,{"$f":"OFFSET(InputPriceData!B$15,CalculationsAndCharts!$A1854+$A$11,0,1,1)","v":"00:00:00"},{"$f":"OFFSET(InputPriceData!G$15,CalculationsAndCharts!$A1854+$A$11,IF($C$7,8,0),1,1)","v":0},{"$f":"OFFSET(InputPriceData!C$15,CalculationsAndCharts!$A1854+$A$11,IF($C$7,8,0),1,1)","v":0},{"$f":"OFFSET(InputPriceData!D$15,CalculationsAndCharts!$A1854+$A$11,IF($C$7,8,0),1,1)","v":0},{"$f":"OFFSET(InputPriceData!E$15,CalculationsAndCharts!$A1854+$A$11,IF($C$7,8,0),1,1)","v":0},{"$f":"OFFSET(InputPriceData!F$15,CalculationsAndCharts!$A1854+$A$11,IF($C$7,8,0),1,1)","v":0},0,0,0,0,0,0,{"$error":"#N/A"},false,0,false,{"$error":"#N/A"},{"$error":"#N/A"},true,false,{"$f":"U1855","v":false},false,false,false,{"$error":"#N/A"},false,{"$error":"#N/A"},false,false,false,false,false,false,{"$error":"#N/A"},0,0,0,0,0,null,{"$f":"OFFSET(InputIndexData!F$15,CalculationsAndCharts!$A1854+$A$11,IF($C$7,8,0),1,1)","v":0},0,1,1,true,null,212,{"$error":"#N/A"}]
[1823,{"$f":"OFFSET(InputPriceData!B$15,CalculationsAndCharts!$A1855+$A$11,0,1,1)","v":"00:00:00"},{"$f":"OFFSET(InputPriceData!G$15,CalculationsAndCharts!$A1855+$A$11,IF($C$7,8,0),1,1)","v":0},{"$f":"OFFSET(InputPriceData!C$15,CalculationsAndCharts!$A1855+$A$11,IF($C$7,8,0),1,1)","v":0},{"$f":"OFFSET(InputPriceData!D$15,CalculationsAndCharts!$A1855+$A$11,IF($C$7,8,0),1,1)","v":0},{"$f":"OFFSET(InputPriceData!E$15,CalculationsAndCharts!$A1855+$A$11,IF($C$7,8,0),1,1)","v":0},{"$f":"OFFSET(InputPriceData!F$15,CalculationsAndCharts!$A1855+$A$11,IF($C$7,8,0),1,1)","v":0},0,0,0,0,0,0,{"$error":"#N/A"},false,0,false,{"$error":"#N/A"},{"$error":"#N/A"},true,false,false,false,false,false,{"$error":"#N/A"},false,{"$error":"#N/A"},false,false,false,false,false,false,{"$error":"#N/A"},0,0,0,0,0,null,{"$f":"OFFSET(InputIndexData!F$15,CalculationsAndCharts!$A1855+$A$11,IF($C$7,8,0),1,1)","v":0},0,1,1,true,null,212,{"$error":"#N/A"}]
[1828,{"$f":"OFFSET(InputPriceData!B$15,CalculationsAndCharts!$A1860+$A$11,0,1,1)","v":"00:00:00"},{"$f":"OFFSET(InputPriceData!G$15,CalculationsAndCharts!$A1860+$A$11,IF($C$7,8,0),1,1)","v":0},{"$f":"OFFSET(InputPriceData!C$15,CalculationsAndCharts!$A1860+$A$11,IF($C$7,8,0),1,1)","v":0},{"$f":"OFFSET(InputPriceData!D$15,CalculationsAndCharts!$A1860+$A$11,IF($C$7,8,0),1,1)","v":0},{"$f":"OFFSET(InputPriceData!E$15,CalculationsAndCharts!$A1860+$A$11,IF($C$7,8,0),1,1)","v":0},{"$f":"OFFSET(InputPriceData!F$15,CalculationsAndCharts!$A1860+$A$11,IF($C$7,8,0),1,1)","v":0},0,0,0,0,0,0,{"$error":"#N/A"},false,0,false,{"$error":"#N/A"},{"$error":"#N/A"},true,false,false,false,false,false,{"$error":"#N/A"},false,{"$error":"#N/A"},false,false,false,false,false,false,{"$error":"#N/A"},0,0,0,0,0,null,{"$f":"OFFSET(InputIndexData!F$15,CalculationsAndCharts!$A1860+$A$11,IF($C$7,8,0),1,1)","v":0},0,1,1,true,null,212,{"$error":"#N/A"}]
[1833,{"$f":"OFFSET(InputPriceData!B$15,CalculationsAndCharts!$A1865+$A$11,0,1,1)","v":"00:00:00"},{"$f":"OFFSET(InputPriceData!G$15,CalculationsAndCharts!$A1865+$A$11,IF($C$7,8,0),1,1)","v":0},{"$f":"OFFSET(InputPriceData!C$15,CalculationsAndCharts!$A1865+$A$11,IF($C$7,8,0),1,1)","v":0},{"$f":"OFFSET(InputPriceData!D$15,CalculationsAndCharts!$A1865+$A$11,IF($C$7,8,0),1,1)","v":0},{"$f":"OFFSET(InputPriceData!E$15,CalculationsAndCharts!$A1865+$A$11,IF($C$7,8,0),1,1)","v":0},{"$f":"OFFSET(InputPriceData!F$15,CalculationsAndCharts!$A1865+$A$11,IF($C$7,8,0),1,1)","v":0},0,0,0,0,0,0,{"$error":"#N/A"},false,0,false,{"$error":"#N/A"},{"$error":"#N/A"},true,false,false,false,false,false,{"$error":"#N/A"},false,{"$error":"#N/A"},false,false,false,false,false,false,{"$error":"#N/A"},0,0,0,0,0,null,{"$f":"OFFSET(InputIndexData!F$15,CalculationsAndCharts!$A1865+$A$11,IF($C$7,8,0),1,1)","v":0},0,1,1,true,null,212,{"$error":"#N/A"}]
[1837,{"$f":"OFFSET(InputPriceData!B$15,CalculationsAndCharts!$A1869+$A$11,0,1,1)","v":"00:00:00"},{"$f":"OFFSET(InputPriceData!G$15,CalculationsAndCharts!$A1869+$A$11,IF($C$7,8,0),1,1)","v":0},{"$f":"OFFSET(InputPriceData!C$15,CalculationsAndCharts!$A1869+$A$11,IF($C$7,8,0),1,1)","v":0},{"$f":"OFFSET(InputPriceData!D$15,CalculationsAndCharts!$A1869+$A$11,IF($C$7,8,0),1,1)","v":0},{"$f":"OFFSET(InputPriceData!E$15,CalculationsAndCharts!$A1869+$A$11,IF($C$7,8,0),1,1)","v":0},{"$f":"OFFSET(InputPriceData!F$15,CalculationsAndCharts!$A1869+$A$11,IF($C$7,8,0),1,1)","v":0},0,0,0,0,0,0,{"$error":"#N/A"},false,0,false,{"$error":"#N/A"},{"$error":"#N/A"},true,false,false,false,false,false,{"$error":"#N/A"},false,{"$error":"#N/A"},false,false,false,false,false,false,{"$error":"#N/A"},0,0,0,0,0,null,{"$f":"OFFSET(InputIndexData!F$15,CalculationsAndCharts!$A1869+$A$11,IF($C$7,8,0),1,1)","v":0},0,1,1,true,null,212,{"$error":"#N/A"}]
[1838,{"$f":"OFFSET(InputPriceData!B$15,CalculationsAndCharts!$A1870+$A$11,0,1,1)","v":"00:00:00"},{"$f":"OFFSET(InputPriceData!G$15,CalculationsAndCharts!$A1870+$A$11,IF($C$7,8,0),1,1)","v":0},{"$f":"OFFSET(InputPriceData!C$15,CalculationsAndCharts!$A1870+$A$11,IF($C$7,8,0),1,1)","v":0},{"$f":"OFFSET(InputPriceData!D$15,CalculationsAndCharts!$A1870+$A$11,IF($C$7,8,0),1,1)","v":0},{"$f":"OFFSET(InputPriceData!E$15,CalculationsAndCharts!$A1870+$A$11,IF($C$7,8,0),1,1)","v":0},{"$f":"OFFSET(InputPriceData!F$15,CalculationsAndCharts!$A1870+$A$11,IF($C$7,8,0),1,1)","v":0},0,0,0,0,0,0,{"$error":"#N/A"},false,0,false,{"$error":"#N/A"},{"$error":"#N/A"},true,false,false,false,false,false,{"$error":"#N/A"},false,{"$error":"#N/A"},false,false,false,false,false,false,{"$error":"#N/A"},0,0,0,0,0,null,{"$f":"OFFSET(InputIndexData!F$15,CalculationsAndCharts!$A1870+$A$11,IF($C$7,8,0),1,1)","v":0},0,1,1,true,null,212,{"$error":"#N/A"}]
[1843,{"$f":"OFFSET(InputPriceData!B$15,CalculationsAndCharts!$A1875+$A$11,0,1,1)","v":"00:00:00"},{"$f":"OFFSET(InputPriceData!G$15,CalculationsAndCharts!$A1875+$A$11,IF($C$7,8,0),1,1)","v":0},{"$f":"OFFSET(InputPriceData!C$15,CalculationsAndCharts!$A1875+$A$11,IF($C$7,8,0),1,1)","v":0},{"$f":"OFFSET(InputPriceData!D$15,CalculationsAndCharts!$A1875+$A$11,IF($C$7,8,0),1,1)","v":0},{"$f":"OFFSET(InputPriceData!E$15,CalculationsAndCharts!$A1875+$A$11,IF($C$7,8,0),1,1)","v":0},{"$f":"OFFSET(InputPriceData!F$15,CalculationsAndCharts!$A1875+$A$11,IF($C$7,8,0),1,1)","v":0},0,0,0,0,0,0,{"$error":"#N/A"},false,0,false,{"$error":"#N/A"},{"$error":"#N/A"},true,false,false,false,false,false,{"$error":"#N/A"},false,{"$error":"#N/A"},false,false,false,false,false,false,{"$error":"#N/A"},0,0,0,0,0,null,{"$f":"OFFSET(InputIndexData!F$15,CalculationsAndCharts!$A1875+$A$11,IF($C$7,8,0),1,1)","v":0},0,1,1,true,null,212,{"$error":"#N/A"}]
[1848,{"$f":"OFFSET(InputPriceData!B$15,CalculationsAndCharts!$A1880+$A$11,0,1,1)","v":"00:00:00"},{"$f":"OFFSET(InputPriceData!G$15,CalculationsAndCharts!$A1880+$A$11,IF($C$7,8,0),1,1)","v":0},{"$f":"OFFSET(InputPriceData!C$15,CalculationsAndCharts!$A1880+$A$11,IF($C$7,8,0),1,1)","v":0},{"$f":"OFFSET(InputPriceData!D$15,CalculationsAndCharts!$A1880+$A$11,IF($C$7,8,0),1,1)","v":0},{"$f":"OFFSET(InputPriceData!E$15,CalculationsAndCharts!$A1880+$A$11,IF($C$7,8,0),1,1)","v":0},{"$f":"OFFSET(InputPriceData!F$15,CalculationsAndCharts!$A1880+$A$11,IF($C$7,8,0),1,1)","v":0},0,0,0,0,0,0,{"$error":"#N/A"},false,0,false,{"$error":"#N/A"},{"$error":"#N/A"},true,false,false,false,false,false,{"$error":"#N/A"},false,{"$error":"#N/A"},false,false,false,false,false,false,{"$error":"#N/A"},0,0,0,0,0,null,{"$f":"OFFSET(InputIndexData!F$15,CalculationsAndCharts!$A1880+$A$11,IF($C$7,8,0),1,1)","v":0},0,1,1,true,null,212,{"$error":"#N/A"}]
[1853,{"$f":"OFFSET(InputPriceData!B$15,CalculationsAndCharts!$A1885+$A$11,0,1,1)","v":"00:00:00"},{"$f":"OFFSET(InputPriceData!G$15,CalculationsAndCharts!$A1885+$A$11,IF($C$7,8,0),1,1)","v":0},{"$f":"OFFSET(InputPriceData!C$15,CalculationsAndCharts!$A1885+$A$11,IF($C$7,8,0),1,1)","v":0},{"$f":"OFFSET(InputPriceData!D$15,CalculationsAndCharts!$A1885+$A$11,IF($C$7,8,0),1,1)","v":0},{"$f":"OFFSET(InputPriceData!E$15,CalculationsAndCharts!$A1885+$A$11,IF($C$7,8,0),1,1)","v":0},{"$f":"OFFSET(InputPriceData!F$15,CalculationsAndCharts!$A1885+$A$11,IF($C$7,8,0),1,1)","v":0},0,0,0,0,0,0,{"$error":"#N/A"},false,0,false,{"$error":"#N/A"},{"$error":"#N/A"},true,false,false,false,false,false,{"$error":"#N/A"},false,{"$error":"#N/A"},false,false,false,false,false,false,{"$error":"#N/A"},0,0,0,0,0,null,{"$f":"OFFSET(InputIndexData!F$15,CalculationsAndCharts!$A1885+$A$11,IF($C$7,8,0),1,1)","v":0},0,1,1,true,null,212,{"$error":"#N/A"}]
[1854,{"$f":"OFFSET(InputPriceData!B$15,CalculationsAndCharts!$A1886+$A$11,0,1,1)","v":"00:00:00"},{"$f":"OFFSET(InputPriceData!G$15,CalculationsAndCharts!$A1886+$A$11,IF($C$7,8,0),1,1)","v":0},{"$f":"OFFSET(InputPriceData!C$15,CalculationsAndCharts!$A1886+$A$11,IF($C$7,8,0),1,1)","v":0},{"$f":"OFFSET(InputPriceData!D$15,CalculationsAndCharts!$A1886+$A$11,IF($C$7,8,0),1,1)","v":0},{"$f":"OFFSET(InputPriceData!E$15,CalculationsAndCharts!$A1886+$A$11,IF($C$7,8,0),1,1)","v":0},{"$f":"OFFSET(InputPriceData!F$15,CalculationsAndCharts!$A1886+$A$11,IF($C$7,8,0),1,1)","v":0},0,0,0,0,0,0,{"$error":"#N/A"},false,0,false,{"$error":"#N/A"},{"$error":"#N/A"},true,false,false,false,false,false,{"$error":"#N/A"},false,{"$error":"#N/A"},false,false,false,false,false,false,{"$error":"#N/A"},0,0,0,0,0,null,{"$f":"OFFSET(InputIndexData!F$15,CalculationsAndCharts!$A1886+$A$11,IF($C$7,8,0),1,1)","v":0},0,1,1,true,null,212,{"$error":"#N/A"}]
[1860,{"$f":"OFFSET(InputPriceData!B$15,CalculationsAndCharts!$A1892+$A$11,0,1,1)","v":"00:00:00"},{"$f":"OFFSET(InputPriceData!G$15,CalculationsAndCharts!$A1892+$A$11,IF($C$7,8,0),1,1)","v":0},{"$f":"OFFSET(InputPriceData!C$15,CalculationsAndCharts!$A1892+$A$11,IF($C$7,8,0),1,1)","v":0},{"$f":"OFFSET(InputPriceData!D$15,CalculationsAndCharts!$A1892+$A$11,IF($C$7,8,0),1,1)","v":0},{"$f":"OFFSET(InputPriceData!E$15,CalculationsAndCharts!$A1892+$A$11,IF($C$7,8,0),1,1)","v":0},{"$f":"OFFSET(InputPriceData!F$15,CalculationsAndCharts!$A1892+$A$11,IF($C$7,8,0),1,1)","v":0},0,0,0,0,0,0,{"$error":"#N/A"},false,0,false,{"$error":"#N/A"},{"$error":"#N/A"},true,false,false,false,false,false,{"$error":"#N/A"},false,{"$error":"#N/A"},false,false,false,false,false,false,{"$error":"#N/A"},0,0,0,0,0,null,{"$f":"OFFSET(InputIndexData!F$15,CalculationsAndCharts!$A1892+$A$11,IF($C$7,8,0),1,1)","v":0},0,1,1,true,null,212,{"$error":"#N/A"}]
[1863,{"$f":"OFFSET(InputPriceData!B$15,CalculationsAndCharts!$A1895+$A$11,0,1,1)","v":"00:00:00"},{"$f":"OFFSET(InputPriceData!G$15,CalculationsAndCharts!$A1895+$A$11,IF($C$7,8,0),1,1)","v":0},{"$f":"OFFSET(InputPriceData!C$15,CalculationsAndCharts!$A1895+$A$11,IF($C$7,8,0),1,1)","v":0},{"$f":"OFFSET(InputPriceData!D$15,CalculationsAndCharts!$A1895+$A$11,IF($C$7,8,0),1,1)","v":0},{"$f":"OFFSET(InputPriceData!E$15,CalculationsAndCharts!$A1895+$A$11,IF($C$7,8,0),1,1)","v":0},{"$f":"OFFSET(InputPriceData!F$15,CalculationsAndCharts!$A1895+$A$11,IF($C$7,8,0),1,1)","v":0},0,0,0,0,0,0,{"$error":"#N/A"},false,0,false,{"$error":"#N/A"},{"$error":"#N/A"},true,false,false,false,false,false,{"$error":"#N/A"},false,{"$error":"#N/A"},false,false,false,false,false,false,{"$error":"#N/A"},0,0,0,0,0,null,{"$f":"OFFSET(InputIndexData!F$15,CalculationsAndCharts!$A1895+$A$11,IF($C$7,8,0),1,1)","v":0},0,1,1,true,null,212,{"$error":"#N/A"}]
[1868,{"$f":"OFFSET(InputPriceData!B$15,CalculationsAndCharts!$A1900+$A$11,0,1,1)","v":"00:00:00"},{"$f":"OFFSET(InputPriceData!G$15,CalculationsAndCharts!$A1900+$A$11,IF($C$7,8,0),1,1)","v":0},{"$f":"OFFSET(InputPriceData!C$15,CalculationsAndCharts!$A1900+$A$11,IF($C$7,8,0),1,1)","v":0},{"$f":"OFFSET(InputPriceData!D$15,CalculationsAndCharts!$A1900+$A$11,IF($C$7,8,0),1,1)","v":0},{"$f":"OFFSET(InputPriceData!E$15,CalculationsAndCharts!$A1900+$A$11,IF($C$7,8,0),1,1)","v":0},{"$f":"OFFSET(InputPriceData!F$15,CalculationsAndCharts!$A1900+$A$11,IF($C$7,8,0),1,1)","v":0},0,0,0,0,0,0,{"$error":"#N/A"},false,0,false,{"$error":"#N/A"},{"$error":"#N/A"},true,false,false,false,false,false,{"$error":"#N/A"},false,{"$error":"#N/A"},false,false,false,false,false,false,{"$error":"#N/A"},0,0,0,0,0,null,{"$f":"OFFSET(InputIndexData!F$15,CalculationsAndCharts!$A1900+$A$11,IF($C$7,8,0),1,1)","v":0},0,1,1,true,null,212,{"$error":"#N/A"}]
[1869,{"$f":"OFFSET(InputPriceData!B$15,CalculationsAndCharts!$A1901+$A$11,0,1,1)","v":"00:00:00"},{"$f":"OFFSET(InputPriceData!G$15,CalculationsAndCharts!$A1901+$A$11,IF($C$7,8,0),1,1)","v":0},{"$f":"OFFSET(InputPriceData!C$15,CalculationsAndCharts!$A1901+$A$11,IF($C$7,8,0),1,1)","v":0},{"$f":"OFFSET(InputPriceData!D$15,CalculationsAndCharts!$A1901+$A$11,IF($C$7,8,0),1,1)","v":0},{"$f":"OFFSET(InputPriceData!E$15,CalculationsAndCharts!$A1901+$A$11,IF($C$7,8,0),1,1)","v":0},{"$f":"OFFSET(InputPriceData!F$15,CalculationsAndCharts!$A1901+$A$11,IF($C$7,8,0),1,1)","v":0},0,0,0,0,0,0,{"$error":"#N/A"},false,0,false,{"$error":"#N/A"},{"$error":"#N/A"},true,false,false,false,false,false,{"$error":"#N/A"},false,{"$error":"#N/A"},false,false,false,false,false,false,{"$error":"#N/A"},0,0,0,0,0,null,{"$f":"OFFSET(InputIndexData!F$15,CalculationsAndCharts!$A1901+$A$11,IF($C$7,8,0),1,1)","v":0},0,1,1,true,null,212,{"$error":"#N/A"}]
[1874,{"$f":"OFFSET(InputPriceData!B$15,CalculationsAndCharts!$A1906+$A$11,0,1,1)","v":"00:00:00"},{"$f":"OFFSET(InputPriceData!G$15,CalculationsAndCharts!$A1906+$A$11,IF($C$7,8,0),1,1)","v":0},{"$f":"OFFSET(InputPriceData!C$15,CalculationsAndCharts!$A1906+$A$11,IF($C$7,8,0),1,1)","v":0},{"$f":"OFFSET(InputPriceData!D$15,CalculationsAndCharts!$A1906+$A$11,IF($C$7,8,0),1,1)","v":0},{"$f":"OFFSET(InputPriceData!E$15,CalculationsAndCharts!$A1906+$A$11,IF($C$7,8,0),1,1)","v":0},{"$f":"OFFSET(InputPriceData!F$15,CalculationsAndCharts!$A1906+$A$11,IF($C$7,8,0),1,1)","v":0},0,0,0,0,0,0,{"$error":"#N/A"},false,0,false,{"$error":"#N/A"},{"$error":"#N/A"},true,false,false,false,false,false,{"$error":"#N/A"},false,{"$error":"#N/A"},false,false,false,false,false,false,{"$error":"#N/A"},0,0,0,0,0,null,{"$f":"OFFSET(InputIndexData!F$15,CalculationsAndCharts!$A1906+$A$11,IF($C$7,8,0),1,1)","v":0},0,1,1,true,null,212,{"$error":"#N/A"}]
[1877,{"$f":"OFFSET(InputPriceData!B$15,CalculationsAndCharts!$A1909+$A$11,0,1,1)","v":"00:00:00"},{"$f":"OFFSET(InputPriceData!G$15,CalculationsAndCharts!$A1909+$A$11,IF($C$7,8,0),1,1)","v":0},{"$f":"OFFSET(InputPriceData!C$15,CalculationsAndCharts!$A1909+$A$11,IF($C$7,8,0),1,1)","v":0},{"$f":"OFFSET(InputPriceData!D$15,CalculationsAndCharts!$A1909+$A$11,IF($C$7,8,0),1,1)","v":0},{"$f":"OFFSET(InputPriceData!E$15,CalculationsAndCharts!$A1909+$A$11,IF($C$7,8,0),1,1)","v":0},{"$f":"OFFSET(InputPriceData!F$15,CalculationsAndCharts!$A1909+$A$11,IF($C$7,8,0),1,1)","v":0},0,0,0,0,0,0,{"$error":"#N/A"},false,0,false,{"$error":"#N/A"},{"$error":"#N/A"},true,false,false,false,false,false,{"$error":"#N/A"},false,{"$error":"#N/A"},false,false,false,false,false,false,{"$error":"#N/A"},0,0,0,0,0,null,{"$f":"OFFSET(InputIndexData!F$15,CalculationsAndCharts!$A1909+$A$11,IF($C$7,8,0),1,1)","v":0},0,1,1,true,null,212,{"$error":"#N/A"}]
[1883,{"$f":"OFFSET(InputPriceData!B$15,CalculationsAndCharts!$A1915+$A$11,0,1,1)","v":"00:00:00"},{"$f":"OFFSET(InputPriceData!G$15,CalculationsAndCharts!$A1915+$A$11,IF($C$7,8,0),1,1)","v":0},{"$f":"OFFSET(InputPriceData!C$15,CalculationsAndCharts!$A1915+$A$11,IF($C$7,8,0),1,1)","v":0},{"$f":"OFFSET(InputPriceData!D$15,CalculationsAndCharts!$A1915+$A$11,IF($C$7,8,0),1,1)","v":0},{"$f":"OFFSET(InputPriceData!E$15,CalculationsAndCharts!$A1915+$A$11,IF($C$7,8,0),1,1)","v":0},{"$f":"OFFSET(InputPriceData!F$15,CalculationsAndCharts!$A1915+$A$11,IF($C$7,8,0),1,1)","v":0},0,0,0,0,0,0,{"$error":"#N/A"},false,0,false,{"$error":"#N/A"},{"$error":"#N/A"},true,false,false,false,false,false,{"$error":"#N/A"},false,{"$error":"#N/A"},false,false,false,false,false,false,{"$error":"#N/A"},0,0,0,0,0,null,{"$f":"OFFSET(InputIndexData!F$15,CalculationsAndCharts!$A1915+$A$11,IF($C$7,8,0),1,1)","v":0},0,1,1,true,null,212,{"$error":"#N/A"}]
[1884,{"$f":"OFFSET(InputPriceData!B$15,CalculationsAndCharts!$A1916+$A$11,0,1,1)","v":"00:00:00"},{"$f":"OFFSET(InputPriceData!G$15,CalculationsAndCharts!$A1916+$A$11,IF($C$7,8,0),1,1)","v":0},{"$f":"OFFSET(InputPriceData!C$15,CalculationsAndCharts!$A1916+$A$11,IF($C$7,8,0),1,1)","v":0},{"$f":"OFFSET(InputPriceData!D$15,CalculationsAndCharts!$A1916+$A$11,IF($C$7,8,0),1,1)","v":0},{"$f":"OFFSET(InputPriceData!E$15,CalculationsAndCharts!$A1916+$A$11,IF($C$7,8,0),1,1)","v":0},{"$f":"OFFSET(InputPriceData!F$15,CalculationsAndCharts!$A1916+$A$11,IF($C$7,8,0),1,1)","v":0},0,0,0,0,0,0,{"$error":"#N/A"},false,0,false,{"$error":"#N/A"},{"$error":"#N/A"},true,false,false,false,false,false,{"$error":"#N/A"},false,{"$error":"#N/A"},false,false,false,false,false,false,{"$error":"#N/A"},0,0,0,0,0,null,{"$f":"OFFSET(InputIndexData!F$15,CalculationsAndCharts!$A1916+$A$11,IF($C$7,8,0),1,1)","v":0},0,1,1,true,null,212,{"$error":"#N/A"}]
[1889,{"$f":"OFFSET(InputPriceData!B$15,CalculationsAndCharts!$A1921+$A$11,0,1,1)","v":"00:00:00"},{"$f":"OFFSET(InputPriceData!G$15,CalculationsAndCharts!$A1921+$A$11,IF($C$7,8,0),1,1)","v":0},{"$f":"OFFSET(InputPriceData!C$15,CalculationsAndCharts!$A1921+$A$11,IF($C$7,8,0),1,1)","v":0},{"$f":"OFFSET(InputPriceData!D$15,CalculationsAndCharts!$A1921+$A$11,IF($C$7,8,0),1,1)","v":0},{"$f":"OFFSET(InputPriceData!E$15,CalculationsAndCharts!$A1921+$A$11,IF($C$7,8,0),1,1)","v":0},{"$f":"OFFSET(InputPriceData!F$15,CalculationsAndCharts!$A1921+$A$11,IF($C$7,8,0),1,1)","v":0},0,0,0,0,0,0,{"$error":"#N/A"},false,0,false,{"$error":"#N/A"},{"$error":"#N/A"},true,false,false,false,false,false,{"$error":"#N/A"},false,{"$error":"#N/A"},false,false,false,false,false,false,{"$error":"#N/A"},0,0,0,0,0,null,{"$f":"OFFSET(InputIndexData!F$15,CalculationsAndCharts!$A1921+$A$11,IF($C$7,8,0),1,1)","v":0},0,1,1,true,null,212,{"$error":"#N/A"}]
[1894,{"$f":"OFFSET(InputPriceData!B$15,CalculationsAndCharts!$A1926+$A$11,0,1,1)","v":"00:00:00"},{"$f":"OFFSET(InputPriceData!G$15,CalculationsAndCharts!$A1926+$A$11,IF($C$7,8,0),1,1)","v":0},{"$f":"OFFSET(InputPriceData!C$15,CalculationsAndCharts!$A1926+$A$11,IF($C$7,8,0),1,1)","v":0},{"$f":"OFFSET(InputPriceData!D$15,CalculationsAndCharts!$A1926+$A$11,IF($C$7,8,0),1,1)","v":0},{"$f":"OFFSET(InputPriceData!E$15,CalculationsAndCharts!$A1926+$A$11,IF($C$7,8,0),1,1)","v":0},{"$f":"OFFSET(InputPriceData!F$15,CalculationsAndCharts!$A1926+$A$11,IF($C$7,8,0),1,1)","v":0},0,0,0,0,0,0,{"$error":"#N/A"},false,0,false,{"$error":"#N/A"},{"$error":"#N/A"},true,false,false,false,false,false,{"$error":"#N/A"},false,{"$error":"#N/A"},false,false,false,false,false,false,{"$error":"#N/A"},0,0,0,0,0,null,{"$f":"OFFSET(InputIndexData!F$15,CalculationsAndCharts!$A1926+$A$11,IF($C$7,8,0),1,1)","v":0},0,1,1,true,null,212,{"$error":"#N/A"}]
[1899,{"$f":"OFFSET(InputPriceData!B$15,CalculationsAndCharts!$A1931+$A$11,0,1,1)","v":"00:00:00"},{"$f":"OFFSET(InputPriceData!G$15,CalculationsAndCharts!$A1931+$A$11,IF($C$7,8,0),1,1)","v":0},{"$f":"OFFSET(InputPriceData!C$15,CalculationsAndCharts!$A1931+$A$11,IF($C$7,8,0),1,1)","v":0},{"$f":"OFFSET(InputPriceData!D$15,CalculationsAndCharts!$A1931+$A$11,IF($C$7,8,0),1,1)","v":0},{"$f":"OFFSET(InputPriceData!E$15,CalculationsAndCharts!$A1931+$A$11,IF($C$7,8,0),1,1)","v":0},{"$f":"OFFSET(InputPriceData!F$15,CalculationsAndCharts!$A1931+$A$11,IF($C$7,8,0),1,1)","v":0},0,0,0,0,0,0,{"$error":"#N/A"},false,0,false,{"$error":"#N/A"},{"$error":"#N/A"},true,false,false,false,false,false,{"$error":"#N/A"},false,{"$error":"#N/A"},false,false,false,false,false,false,{"$error":"#N/A"},0,0,0,0,0,null,{"$f":"OFFSET(InputIndexData!F$15,CalculationsAndCharts!$A1931+$A$11,IF($C$7,8,0),1,1)","v":0},0,1,1,true,null,212,{"$error":"#N/A"}]
[1900,{"$f":"OFFSET(InputPriceData!B$15,CalculationsAndCharts!$A1932+$A$11,0,1,1)","v":"00:00:00"},{"$f":"OFFSET(InputPriceData!G$15,CalculationsAndCharts!$A1932+$A$11,IF($C$7,8,0),1,1)","v":0},{"$f":"OFFSET(InputPriceData!C$15,CalculationsAndCharts!$A1932+$A$11,IF($C$7,8,0),1,1)","v":0},{"$f":"OFFSET(InputPriceData!D$15,CalculationsAndCharts!$A1932+$A$11,IF($C$7,8,0),1,1)","v":0},{"$f":"OFFSET(InputPriceData!E$15,CalculationsAndCharts!$A1932+$A$11,IF($C$7,8,0),1,1)","v":0},{"$f":"OFFSET(InputPriceData!F$15,CalculationsAndCharts!$A1932+$A$11,IF($C$7,8,0),1,1)","v":0},0,0,0,0,0,0,{"$error":"#N/A"},false,0,false,{"$error":"#N/A"},{"$error":"#N/A"},true,false,false,false,false,false,{"$error":"#N/A"},false,{"$error":"#N/A"},false,false,false,false,false,false,{"$error":"#N/A"},0,0,0,0,0,null,{"$f":"OFFSET(InputIndexData!F$15,CalculationsAndCharts!$A1932+$A$11,IF($C$7,8,0),1,1)","v":0},0,1,1,true,null,212,{"$error":"#N/A"}]
[1904,{"$f":"OFFSET(InputPriceData!B$15,CalculationsAndCharts!$A1936+$A$11,0,1,1)","v":"00:00:00"},{"$f":"OFFSET(InputPriceData!G$15,CalculationsAndCharts!$A1936+$A$11,IF($C$7,8,0),1,1)","v":0},{"$f":"OFFSET(InputPriceData!C$15,CalculationsAndCharts!$A1936+$A$11,IF($C$7,8,0),1,1)","v":0},{"$f":"OFFSET(InputPriceData!D$15,CalculationsAndCharts!$A1936+$A$11,IF($C$7,8,0),1,1)","v":0},{"$f":"OFFSET(InputPriceData!E$15,CalculationsAndCharts!$A1936+$A$11,IF($C$7,8,0),1,1)","v":0},{"$f":"OFFSET(InputPriceData!F$15,CalculationsAndCharts!$A1936+$A$11,IF($C$7,8,0),1,1)","v":0},0,0,0,0,0,0,{"$error":"#N/A"},false,0,false,{"$error":"#N/A"},{"$error":"#N/A"},true,false,false,false,false,false,{"$error":"#N/A"},false,{"$error":"#N/A"},false,false,false,false,false,false,{"$error":"#N/A"},0,0,0,0,0,null,{"$f":"OFFSET(InputIndexData!F$15,CalculationsAndCharts!$A1936+$A$11,IF($C$7,8,0),1,1)","v":0},0,1,1,true,null,212,{"$error":"#N/A"}]
[1909,{"$f":"OFFSET(InputPriceData!B$15,CalculationsAndCharts!$A1941+$A$11,0,1,1)","v":"00:00:00"},{"$f":"OFFSET(InputPriceData!G$15,CalculationsAndCharts!$A1941+$A$11,IF($C$7,8,0),1,1)","v":0},{"$f":"OFFSET(InputPriceData!C$15,CalculationsAndCharts!$A1941+$A$11,IF($C$7,8,0),1,1)","v":0},{"$f":"OFFSET(InputPriceData!D$15,CalculationsAndCharts!$A1941+$A$11,IF($C$7,8,0),1,1)","v":0},{"$f":"OFFSET(InputPriceData!E$15,CalculationsAndCharts!$A1941+$A$11,IF($C$7,8,0),1,1)","v":0},{"$f":"OFFSET(InputPriceData!F$15,CalculationsAndCharts!$A1941+$A$11,IF($C$7,8,0),1,1)","v":0},0,0,0,0,0,0,{"$error":"#N/A"},false,0,false,{"$error":"#N/A"},{"$error":"#N/A"},true,false,false,false,false,false,{"$error":"#N/A"},false,{"$error":"#N/A"},false,false,false,false,false,false,{"$error":"#N/A"},0,0,0,0,0,null,{"$f":"OFFSET(InputIndexData!F$15,CalculationsAndCharts!$A1941+$A$11,IF($C$7,8,0),1,1)","v":0},0,1,1,true,null,212,{"$error":"#N/A"}]
[1914,{"$f":"OFFSET(InputPriceData!B$15,CalculationsAndCharts!$A1946+$A$11,0,1,1)","v":"00:00:00"},{"$f":"OFFSET(InputPriceData!G$15,CalculationsAndCharts!$A1946+$A$11,IF($C$7,8,0),1,1)","v":0},{"$f":"OFFSET(InputPriceData!C$15,CalculationsAndCharts!$A1946+$A$11,IF($C$7,8,0),1,1)","v":0},{"$f":"OFFSET(InputPriceData!D$15,CalculationsAndCharts!$A1946+$A$11,IF($C$7,8,0),1,1)","v":0},{"$f":"OFFSET(InputPriceData!E$15,CalculationsAndCharts!$A1946+$A$11,IF($C$7,8,0),1,1)","v":0},{"$f":"OFFSET(InputPriceData!F$15,CalculationsAndCharts!$A1946+$A$11,IF($C$7,8,0),1,1)","v":0},0,0,0,0,0,0,{"$error":"#N/A"},false,0,false,{"$error":"#N/A"},{"$error":"#N/A"},true,false,false,false,false,false,{"$error":"#N/A"},false,{"$error":"#N/A"},false,false,false,false,false,false,{"$error":"#N/A"},0,0,0,0,0,null,{"$f":"OFFSET(InputIndexData!F$15,CalculationsAndCharts!$A1946+$A$11,IF($C$7,8,0),1,1)","v":0},0,1,1,true,null,212,{"$error":"#N/A"}]
[1915,{"$f":"OFFSET(InputPriceData!B$15,CalculationsAndCharts!$A1947+$A$11,0,1,1)","v":"00:00:00"},{"$f":"OFFSET(InputPriceData!G$15,CalculationsAndCharts!$A1947+$A$11,IF($C$7,8,0),1,1)","v":0},{"$f":"OFFSET(InputPriceData!C$15,CalculationsAndCharts!$A1947+$A$11,IF($C$7,8,0),1,1)","v":0},{"$f":"OFFSET(InputPriceData!D$15,CalculationsAndCharts!$A1947+$A$11,IF($C$7,8,0),1,1)","v":0},{"$f":"OFFSET(InputPriceData!E$15,CalculationsAndCharts!$A1947+$A$11,IF($C$7,8,0),1,1)","v":0},{"$f":"OFFSET(InputPriceData!F$15,CalculationsAndCharts!$A1947+$A$11,IF($C$7,8,0),1,1)","v":0},0,0,0,0,0,0,{"$error":"#N/A"},false,0,false,{"$error":"#N/A"},{"$error":"#N/A"},true,false,false,false,false,false,{"$error":"#N/A"},false,{"$error":"#N/A"},false,false,false,false,false,false,{"$error":"#N/A"},0,0,0,0,0,null,{"$f":"OFFSET(InputIndexData!F$15,CalculationsAndCharts!$A1947+$A$11,IF($C$7,8,0),1,1)","v":0},0,1,1,true,null,212,{"$error":"#N/A"}]
[1921,{"$f":"OFFSET(InputPriceData!B$15,CalculationsAndCharts!$A1953+$A$11,0,1,1)","v":"00:00:00"},{"$f":"OFFSET(InputPriceData!G$15,CalculationsAndCharts!$A1953+$A$11,IF($C$7,8,0),1,1)","v":0},{"$f":"OFFSET(InputPriceData!C$15,CalculationsAndCharts!$A1953+$A$11,IF($C$7,8,0),1,1)","v":0},{"$f":"OFFSET(InputPriceData!D$15,CalculationsAndCharts!$A1953+$A$11,IF($C$7,8,0),1,1)","v":0},{"$f":"OFFSET(InputPriceData!E$15,CalculationsAndCharts!$A1953+$A$11,IF($C$7,8,0),1,1)","v":0},{"$f":"OFFSET(InputPriceData!F$15,CalculationsAndCharts!$A1953+$A$11,IF($C$7,8,0),1,1)","v":0},{"$f":"AVERAGE(OFFSET(G1953,0,0,$A$17,1))","v":0},{"$f":"AVERAGE(OFFSET(G1953,0,0,$A$18,1))","v":0},{"$f":"AVERAGE(OFFSET(G1953,0,0,$A$19,1))","v":0},{"$f":"AVERAGE(OFFSET(E1953,0,0,$A$20,1))","v":0},{"$f":"AVERAGE(OFFSET(F1953,0,0,$A$21,1))","v":0},0,{"$error":"#N/A"},{"$f":"AND(G1954<=K1954,G1953>K1953,OR(P1954=\"DOWN\",P1954=0))","v":false},{"$f":"IF(AND(OR(P1954=0,P1954=\"UP\"),Q1953),\"DOWN\",IF(AND(OR(P1954=0,P1954=\"DOWN\"),O1953),\"UP\",P1954))","v":0},{"$f":"AND(G1954>=L1954,G1953<L1953,OR(P1954=0,P1954=\"UP\"))","v":false},{"$error":"#N/A"},{"$error":"#N/A"},true,{"$f":"AND(T1953,O1953)","v":false},false,false,{"$f":"AND(W1953,Q1953)","v":false},false,{"$f":"IF(AND(NOT(AA1953),OR(W1953,Y1953)),$F$11,NA())","v":{"$error":"#N/A"}},false,{"$error":"#N/A"},false,{"$f":"AND(AC1953,Q1953)","v":false},{"$f":"AD1954","v":false},false,false,{"$f":"AG1954","v":false},{"$f":"IF(AND(NOT(AA1953),OR(AF1953,AH1953)),$F$11,NA())","v":{"$error":"#N/A"}},0,0,0,0,0,null,{"$f":"OFFSET(InputIndexData!F$15,CalculationsAndCharts!$A1953+$A$11,IF($C$7,8,0),1,1)","v":0},0,1,1,true,null,{"$f":"IF(AT1953,$AR$26,NA())","v":212},{"$f":"IF(AT1953,NA(),$AR$26)","v":{"$error":"#N/A"}}]
[1924,{"$f":"OFFSET(InputPriceData!B$15,CalculationsAndCharts!$A1956+$A$11,0,1,1)","v":"00:00:00"},{"$f":"OFFSET(InputPriceData!G$15,CalculationsAndCharts!$A1956+$A$11,IF($C$7,8,0),1,1)","v":0},{"$f":"OFFSET(InputPriceData!C$15,CalculationsAndCharts!$A1956+$A$11,IF($C$7,8,0),1,1)","v":0},{"$f":"OFFSET(InputPriceData!D$15,CalculationsAndCharts!$A1956+$A$11,IF($C$7,8,0),1,1)","v":0},{"$f":"OFFSET(InputPriceData!E$15,CalculationsAndCharts!$A1956+$A$11,IF($C$7,8,0),1,1)","v":0},{"$f":"OFFSET(InputPriceData!F$15,CalculationsAndCharts!$A1956+$A$11,IF($C$7,8,0),1,1)","v":0},0,0,0,0,0,0,{"$error":"#N/A"},false,0,false,{"$error":"#N/A"},{"$error":"#N/A"},true,false,false,false,false,false,{"$error":"#N/A"},false,{"$error":"#N/A"},false,false,false,false,false,false,{"$error":"#N/A"},0,0,0,0,0,null,{"$f":"OFFSET(InputIndexData!F$15,CalculationsAndCharts!$A1956+$A$11,IF($C$7,8,0),1,1)","v":0},0,1,1,true,null,212,{"$error":"#N/A"}]
[1929,{"$f":"OFFSET(InputPriceData!B$15,CalculationsAndCharts!$A1961+$A$11,0,1,1)","v":"00:00:00"},{"$f":"OFFSET(InputPriceData!G$15,CalculationsAndCharts!$A1961+$A$11,IF($C$7,8,0),1,1)","v":0},{"$f":"OFFSET(InputPriceData!C$15,CalculationsAndCharts!$A1961+$A$11,IF($C$7,8,0),1,1)","v":0},{"$f":"OFFSET(InputPriceData!D$15,CalculationsAndCharts!$A1961+$A$11,IF($C$7,8,0),1,1)","v":0},{"$f":"OFFSET(InputPriceData!E$15,CalculationsAndCharts!$A1961+$A$11,IF($C$7,8,0),1,1)","v":0},{"$f":"OFFSET(InputPriceData!F$15,CalculationsAndCharts!$A1961+$A$11,IF($C$7,8,0),1,1)","v":0},0,0,0,0,0,0,{"$error":"#N/A"},false,0,false,{"$f":"IF(O1961,G1961,NA())","v":{"$error":"#N/A"}},{"$f":"IF(Q1961,G1961,NA())","v":{"$error":"#N/A"}},true,false,false,false,false,false,{"$error":"#N/A"},false,{"$error":"#N/A"},false,false,false,false,false,false,{"$error":"#N/A"},0,0,0,0,0,null,{"$f":"OFFSET(InputIndexData!F$15,CalculationsAndCharts!$A1961+$A$11,IF($C$7,8,0),1,1)","v":0},0,1,1,true,null,212,{"$error":"#N/A"}]
[1930,{"$f":"OFFSET(InputPriceData!B$15,CalculationsAndCharts!$A1962+$A$11,0,1,1)","v":"00:00:00"},{"$f":"OFFSET(InputPriceData!G$15,CalculationsAndCharts!$A1962+$A$11,IF($C$7,8,0),1,1)","v":0},{"$f":"OFFSET(InputPriceData!C$15,CalculationsAndCharts!$A1962+$A$11,IF($C$7,8,0),1,1)","v":0},{"$f":"OFFSET(InputPriceData!D$15,CalculationsAndCharts!$A1962+$A$11,IF($C$7,8,0),1,1)","v":0},{"$f":"OFFSET(InputPriceData!E$15,CalculationsAndCharts!$A1962+$A$11,IF($C$7,8,0),1,1)","v":0},{"$f":"OFFSET(InputPriceData!F$15,CalculationsAndCharts!$A1962+$A$11,IF($C$7,8,0),1,1)","v":0},0,0,0,0,0,0,{"$error":"#N/A"},false,0,false,{"$error":"#N/A"},{"$error":"#N/A"},true,false,false,false,false,false,{"$error":"#N/A"},false,{"$error":"#N/A"},false,false,false,false,false,false,{"$error":"#N/A"},0,0,0,0,0,null,{"$f":"OFFSET(InputIndexData!F$15,CalculationsAndCharts!$A1962+$A$11,IF($C$7,8,0),1,1)","v":0},0,1,1,true,null,212,{"$error":"#N/A"}]
[1935,{"$f":"OFFSET(InputPriceData!B$15,CalculationsAndCharts!$A1967+$A$11,0,1,1)","v":"00:00:00"},{"$f":"OFFSET(InputPriceData!G$15,CalculationsAndCharts!$A1967+$A$11,IF($C$7,8,0),1,1)","v":0},{"$f":"OFFSET(InputPriceData!C$15,CalculationsAndCharts!$A1967+$A$11,IF($C$7,8,0),1,1)","v":0},{"$f":"OFFSET(InputPriceData!D$15,CalculationsAndCharts!$A1967+$A$11,IF($C$7,8,0),1,1)","v":0},{"$f":"OFFSET(InputPriceData!E$15,CalculationsAndCharts!$A1967+$A$11,IF($C$7,8,0),1,1)","v":0},{"$f":"OFFSET(InputPriceData!F$15,CalculationsAndCharts!$A1967+$A$11,IF($C$7,8,0),1,1)","v":0},0,0,0,0,0,0,{"$error":"#N/A"},false,0,false,{"$error":"#N/A"},{"$error":"#N/A"},true,false,false,false,false,false,{"$error":"#N/A"},false,{"$error":"#N/A"},false,false,false,false,false,false,{"$error":"#N/A"},0,0,0,0,0,null,{"$f":"OFFSET(InputIndexData!F$15,CalculationsAndCharts!$A1967+$A$11,IF($C$7,8,0),1,1)","v":0},0,1,1,true,null,212,{"$error":"#N/A"}]
[1939,{"$f":"OFFSET(InputPriceData!B$15,CalculationsAndCharts!$A1971+$A$11,0,1,1)","v":"00:00:00"},{"$f":"OFFSET(InputPriceData!G$15,CalculationsAndCharts!$A1971+$A$11,IF($C$7,8,0),1,1)","v":0},{"$f":"OFFSET(InputPriceData!C$15,CalculationsAndCharts!$A1971+$A$11,IF($C$7,8,0),1,1)","v":0},{"$f":"OFFSET(InputPriceData!D$15,CalculationsAndCharts!$A1971+$A$11,IF($C$7,8,0),1,1)","v":0},{"$f":"OFFSET(InputPriceData!E$15,CalculationsAndCharts!$A1971+$A$11,IF($C$7,8,0),1,1)","v":0},{"$f":"OFFSET(InputPriceData!F$15,CalculationsAndCharts!$A1971+$A$11,IF($C$7,8,0),1,1)","v":0},0,0,0,0,0,0,{"$error":"#N/A"},false,0,false,{"$error":"#N/A"},{"$error":"#N/A"},true,false,false,false,false,{"$f":"X1972","v":false},{"$error":"#N/A"},false,{"$error":"#N/A"},false,false,false,false,false,false,{"$error":"#N/A"},0,0,0,0,0,null,{"$f":"OFFSET(InputIndexData!F$15,CalculationsAndCharts!$A1971+$A$11,IF($C$7,8,0),1,1)","v":0},0,1,1,true,null,212,{"$error":"#N/A"}]
[1944,{"$f":"OFFSET(InputPriceData!B$15,CalculationsAndCharts!$A1976+$A$11,0,1,1)","v":"00:00:00"},{"$f":"OFFSET(InputPriceData!G$15,CalculationsAndCharts!$A1976+$A$11,IF($C$7,8,0),1,1)","v":0},{"$f":"OFFSET(InputPriceData!C$15,CalculationsAndCharts!$A1976+$A$11,IF($C$7,8,0),1,1)","v":0},{"$f":"OFFSET(InputPriceData!D$15,CalculationsAndCharts!$A1976+$A$11,IF($C$7,8,0),1,1)","v":0},{"$f":"OFFSET(InputPriceData!E$15,CalculationsAndCharts!$A1976+$A$11,IF($C$7,8,0),1,1)","v":0},{"$f":"OFFSET(InputPriceData!F$15,CalculationsAndCharts!$A1976+$A$11,IF($C$7,8,0),1,1)","v":0},0,0,0,0,0,0,{"$error":"#N/A"},false,0,false,{"$error":"#N/A"},{"$error":"#N/A"},true,false,false,false,false,false,{"$error":"#N/A"},false,{"$error":"#N/A"},false,false,false,false,false,false,{"$error":"#N/A"},0,0,0,0,0,null,{"$f":"OFFSET(InputIndexData!F$15,CalculationsAndCharts!$A1976+$A$11,IF($C$7,8,0),1,1)","v":0},0,1,1,true,null,212,{"$error":"#N/A"}]
[1945,{"$f":"OFFSET(InputPriceData!B$15,CalculationsAndCharts!$A1977+$A$11,0,1,1)","v":"00:00:00"},{"$f":"OFFSET(InputPriceData!G$15,CalculationsAndCharts!$A1977+$A$11,IF($C$7,8,0),1,1)","v":0},{"$f":"OFFSET(InputPriceData!C$15,CalculationsAndCharts!$A1977+$A$11,IF($C$7,8,0),1,1)","v":0},{"$f":"OFFSET(InputPriceData!D$15,CalculationsAndCharts!$A1977+$A$11,IF($C$7,8,0),1,1)","v":0},{"$f":"OFFSET(InputPriceData!E$15,CalculationsAndCharts!$A1977+$A$11,IF($C$7,8,0),1,1)","v":0},{"$f":"OFFSET(InputPriceData!F$15,CalculationsAndCharts!$A1977+$A$11,IF($C$7,8,0),1,1)","v":0},0,0,0,0,0,0,{"$error":"#N/A"},false,0,false,{"$error":"#N/A"},{"$error":"#N/A"},true,false,false,false,false,false,{"$error":"#N/A"},false,{"$error":"#N/A"},false,false,false,false,false,false,{"$error":"#N/A"},0,0,0,0,0,null,{"$f":"OFFSET(InputIndexData!F$15,CalculationsAndCharts!$A1977+$A$11,IF($C$7,8,0),1,1)","v":0},0,1,1,true,null,212,{"$error":"#N/A"}]
[1950,{"$f":"OFFSET(InputPriceData!B$15,CalculationsAndCharts!$A1982+$A$11,0,1,1)","v":"00:00:00"},{"$f":"OFFSET(InputPriceData!G$15,CalculationsAndCharts!$A1982+$A$11,IF($C$7,8,0),1,1)","v":0},{"$f":"OFFSET(InputPriceData!C$15,CalculationsAndCharts!$A1982+$A$11,IF($C$7,8,0),1,1)","v":0},{"$f":"OFFSET(InputPriceData!D$15,CalculationsAndCharts!$A1982+$A$11,IF($C$7,8,0),1,1)","v":0},{"$f":"OFFSET(InputPriceData!E$15,CalculationsAndCharts!$A1982+$A$11,IF($C$7,8,0),1,1)","v":0},{"$f":"OFFSET(InputPriceData!F$15,CalculationsAndCharts!$A1982+$A$11,IF($C$7,8,0),1,1)","v":0},0,0,0,0,0,0,{"$error":"#N/A"},false,0,false,{"$error":"#N/A"},{"$error":"#N/A"},true,false,{"$f":"U1983","v":false},false,false,false,{"$error":"#N/A"},false,{"$error":"#N/A"},false,false,false,false,false,false,{"$error":"#N/A"},0,0,0,0,0,null,{"$f":"OFFSET(InputIndexData!F$15,CalculationsAndCharts!$A1982+$A$11,IF($C$7,8,0),1,1)","v":0},0,1,1,true,null,212,{"$error":"#N/A"}]
[1955,{"$f":"OFFSET(InputPriceData!B$15,CalculationsAndCharts!$A1987+$A$11,0,1,1)","v":"00:00:00"},{"$f":"OFFSET(InputPriceData!G$15,CalculationsAndCharts!$A1987+$A$11,IF($C$7,8,0),1,1)","v":0},{"$f":"OFFSET(InputPriceData!C$15,CalculationsAndCharts!$A1987+$A$11,IF($C$7,8,0),1,1)","v":0},{"$f":"OFFSET(InputPriceData!D$15,CalculationsAndCharts!$A1987+$A$11,IF($C$7,8,0),1,1)","v":0},{"$f":"OFFSET(InputPriceData!E$15,CalculationsAndCharts!$A1987+$A$11,IF($C$7,8,0),1,1)","v":0},{"$f":"OFFSET(InputPriceData!F$15,CalculationsAndCharts!$A1987+$A$11,IF($C$7,8,0),1,1)","v":0},0,0,0,0,0,0,{"$error":"#N/A"},false,0,false,{"$error":"#N/A"},{"$error":"#N/A"},true,false,false,{"$f":"IF(V1987,TRUE,IF(X1988,FALSE,W1988))","v":false},false,false,{"$error":"#N/A"},false,{"$error":"#N/A"},false,false,false,false,false,false,{"$error":"#N/A"},0,0,0,0,0,null,{"$f":"OFFSET(InputIndexData!F$15,CalculationsAndCharts!$A1987+$A$11,IF($C$7,8,0),1,1)","v":0},0,1,1,true,null,212,{"$error":"#N/A"}]
[1960,{"$f":"OFFSET(InputPriceData!B$15,CalculationsAndCharts!$A1992+$A$11,0,1,1)","v":"00:00:00"},{"$f":"OFFSET(InputPriceData!G$15,CalculationsAndCharts!$A1992+$A$11,IF($C$7,8,0),1,1)","v":0},{"$f":"OFFSET(InputPriceData!C$15,CalculationsAndCharts!$A1992+$A$11,IF($C$7,8,0),1,1)","v":0},{"$f":"OFFSET(InputPriceData!D$15,CalculationsAndCharts!$A1992+$A$11,IF($C$7,8,0),1,1)","v":0},{"$f":"OFFSET(InputPriceData!E$15,CalculationsAndCharts!$A1992+$A$11,IF($C$7,8,0),1,1)","v":0},{"$f":"OFFSET(InputPriceData!F$15,CalculationsAndCharts!$A1992+$A$11,IF($C$7,8,0),1,1)","v":0},0,0,0,0,0,0,{"$error":"#N/A"},false,0,false,{"$error":"#N/A"},{"$error":"#N/A"},true,false,false,false,false,false,{"$error":"#N/A"},false,{"$error":"#N/A"},false,false,false,false,false,false,{"$error":"#N/A"},0,0,0,0,0,null,{"$f":"OFFSET(InputIndexData!F$15,CalculationsAndCharts!$A1992+$A$11,IF($C$7,8,0),1,1)","v":0},0,1,1,true,null,212,{"$error":"#N/A"}]
[1961,{"$f":"OFFSET(InputPriceData!B$15,CalculationsAndCharts!$A1993+$A$11,0,1,1)","v":"00:00:00"},{"$f":"OFFSET(InputPriceData!G$15,CalculationsAndCharts!$A1993+$A$11,IF($C$7,8,0),1,1)","v":0},{"$f":"OFFSET(InputPriceData!C$15,CalculationsAndCharts!$A1993+$A$11,IF($C$7,8,0),1,1)","v":0},{"$f":"OFFSET(InputPriceData!D$15,CalculationsAndCharts!$A1993+$A$11,IF($C$7,8,0),1,1)","v":0},{"$f":"OFFSET(InputPriceData!E$15,CalculationsAndCharts!$A1993+$A$11,IF($C$7,8,0),1,1)","v":0},{"$f":"OFFSET(InputPriceData!F$15,CalculationsAndCharts!$A1993+$A$11,IF($C$7,8,0),1,1)","v":0},0,0,0,0,0,0,{"$error":"#N/A"},false,0,false,{"$error":"#N/A"},{"$error":"#N/A"},true,false,false,false,false,false,{"$error":"#N/A"},false,{"$error":"#N/A"},false,false,false,false,false,false,{"$error":"#N/A"},0,0,0,0,0,null,{"$f":"OFFSET(InputIndexData!F$15,CalculationsAndCharts!$A1993+$A$11,IF($C$7,8,0),1,1)","v":0},0,1,1,true,null,212,{"$error":"#N/A"}]
[1965,{"$f":"OFFSET(InputPriceData!B$15,CalculationsAndCharts!$A1997+$A$11,0,1,1)","v":"00:00:00"},{"$f":"OFFSET(InputPriceData!G$15,CalculationsAndCharts!$A1997+$A$11,IF($C$7,8,0),1,1)","v":0},{"$f":"OFFSET(InputPriceData!C$15,CalculationsAndCharts!$A1997+$A$11,IF($C$7,8,0),1,1)","v":0},{"$f":"OFFSET(InputPriceData!D$15,CalculationsAndCharts!$A1997+$A$11,IF($C$7,8,0),1,1)","v":0},{"$f":"OFFSET(InputPriceData!E$15,CalculationsAndCharts!$A1997+$A$11,IF($C$7,8,0),1,1)","v":0},{"$f":"OFFSET(InputPriceData!F$15,CalculationsAndCharts!$A1997+$A$11,IF($C$7,8,0),1,1)","v":0},0,0,0,0,0,0,{"$error":"#N/A"},false,0,false,{"$error":"#N/A"},{"$error":"#N/A"},true,false,false,false,false,false,{"$error":"#N/A"},false,{"$error":"#N/A"},false,false,false,false,false,false,{"$error":"#N/A"},0,0,0,0,0,null,{"$f":"OFFSET(InputIndexData!F$15,CalculationsAndCharts!$A1997+$A$11,IF($C$7,8,0),1,1)","v":0},0,1,1,true,null,212,{"$error":"#N/A"}]
[1970,{"$f":"OFFSET(InputPriceData!B$15,CalculationsAndCharts!$A2002+$A$11,0,1,1)","v":"00:00:00"},{"$f":"OFFSET(InputPriceData!G$15,CalculationsAndCharts!$A2002+$A$11,IF($C$7,8,0),1,1)","v":0},{"$f":"OFFSET(InputPriceData!C$15,CalculationsAndCharts!$A2002+$A$11,IF($C$7,8,0),1,1)","v":0},{"$f":"OFFSET(InputPriceData!D$15,CalculationsAndCharts!$A2002+$A$11,IF($C$7,8,0),1,1)","v":0},{"$f":"OFFSET(InputPriceData!E$15,CalculationsAndCharts!$A2002+$A$11,IF($C$7,8,0),1,1)","v":0},{"$f":"OFFSET(InputPriceData!F$15,CalculationsAndCharts!$A2002+$A$11,IF($C$7,8,0),1,1)","v":0},0,0,0,0,0,0,{"$error":"#N/A"},false,0,false,{"$error":"#N/A"},{"$error":"#N/A"},true,false,false,false,false,false,{"$error":"#N/A"},false,{"$error":"#N/A"},false,false,false,false,false,false,{"$error":"#N/A"},0,0,0,0,0,null,{"$f":"OFFSET(InputIndexData!F$15,CalculationsAndCharts!$A2002+$A$11,IF($C$7,8,0),1,1)","v":0},0,1,1,true,null,212,{"$error":"#N/A"}]
[1975,{"$f":"OFFSET(InputPriceData!B$15,CalculationsAndCharts!$A2007+$A$11,0,1,1)","v":"00:00:00"},{"$f":"OFFSET(InputPriceData!G$15,CalculationsAndCharts!$A2007+$A$11,IF($C$7,8,0),1,1)","v":0},{"$f":"OFFSET(InputPriceData!C$15,CalculationsAndCharts!$A2007+$A$11,IF($C$7,8,0),1,1)","v":0},{"$f":"OFFSET(InputPriceData!D$15,CalculationsAndCharts!$A2007+$A$11,IF($C$7,8,0),1,1)","v":0},{"$f":"OFFSET(InputPriceData!E$15,CalculationsAndCharts!$A2007+$A$11,IF($C$7,8,0),1,1)","v":0},{"$f":"OFFSET(InputPriceData!F$15,CalculationsAndCharts!$A2007+$A$11,IF($C$7,8,0),1,1)","v":0},0,0,0,0,0,0,{"$error":"#N/A"},false,0,false,{"$error":"#N/A"},{"$error":"#N/A"},true,false,false,false,false,false,{"$error":"#N/A"},false,{"$error":"#N/A"},false,false,false,false,false,false,{"$error":"#N/A"},0,0,0,0,0,null,{"$f":"OFFSET(InputIndexData!F$15,CalculationsAndCharts!$A2007+$A$11,IF($C$7,8,0),1,1)","v":0},0,1,1,true,null,212,{"$error":"#N/A"}]
[1976,{"$f":"OFFSET(InputPriceData!B$15,CalculationsAndCharts!$A2008+$A$11,0,1,1)","v":"00:00:00"},{"$f":"OFFSET(InputPriceData!G$15,CalculationsAndCharts!$A2008+$A$11,IF($C$7,8,0),1,1)","v":0},{"$f":"OFFSET(InputPriceData!C$15,CalculationsAndCharts!$A2008+$A$11,IF($C$7,8,0),1,1)","v":0},{"$f":"OFFSET(InputPriceData!D$15,CalculationsAndCharts!$A2008+$A$11,IF($C$7,8,0),1,1)","v":0},{"$f":"OFFSET(InputPriceData!E$15,CalculationsAndCharts!$A2008+$A$11,IF($C$7,8,0),1,1)","v":0},{"$f":"OFFSET(InputPriceData!F$15,CalculationsAndCharts!$A2008+$A$11,IF($C$7,8,0),1,1)","v":0},0,0,0,0,0,0,{"$error":"#N/A"},false,0,false,{"$error":"#N/A"},{"$error":"#N/A"},true,false,false,false,false,false,{"$error":"#N/A"},false,{"$error":"#N/A"},false,false,false,false,false,false,{"$error":"#N/A"},0,0,0,0,0,null,{"$f":"OFFSET(InputIndexData!F$15,CalculationsAndCharts!$A2008+$A$11,IF($C$7,8,0),1,1)","v":0},0,1,1,true,null,212,{"$error":"#N/A"}]
[1982,{"$f":"OFFSET(InputPriceData!B$15,CalculationsAndCharts!$A2014+$A$11,0,1,1)","v":"00:00:00"},{"$f":"OFFSET(InputPriceData!G$15,CalculationsAndCharts!$A2014+$A$11,IF($C$7,8,0),1,1)","v":0},{"$f":"OFFSET(InputPriceData!C$15,CalculationsAndCharts!$A2014+$A$11,IF($C$7,8,0),1,1)","v":0},{"$f":"OFFSET(InputPriceData!D$15,CalculationsAndCharts!$A2014+$A$11,IF($C$7,8,0),1,1)","v":0},{"$f":"OFFSET(InputPriceData!E$15,CalculationsAndCharts!$A2014+$A$11,IF($C$7,8,0),1,1)","v":0},{"$f":"OFFSET(InputPriceData!F$15,CalculationsAndCharts!$A2014+$A$11,IF($C$7,8,0),1,1)","v":0},0,0,0,0,0,0,{"$error":"#N/A"},false,0,false,{"$error":"#N/A"},{"$error":"#N/A"},true,false,false,false,false,false,{"$error":"#N/A"},false,{"$error":"#N/A"},false,false,false,false,false,false,{"$error":"#N/A"},0,0,0,0,0,null,{"$f":"OFFSET(InputIndexData!F$15,CalculationsAndCharts!$A2014+$A$11,IF($C$7,8,0),1,1)","v":0},0,1,1,true,null,212,{"$error":"#N/A"}]
[1985,{"$f":"OFFSET(InputPriceData!B$15,CalculationsAndCharts!$A2017+$A$11,0,1,1)","v":"00:00:00"},{"$f":"OFFSET(InputPriceData!G$15,CalculationsAndCharts!$A2017+$A$11,IF($C$7,8,0),1,1)","v":0},{"$f":"OFFSET(InputPriceData!C$15,CalculationsAndCharts!$A2017+$A$11,IF($C$7,8,0),1,1)","v":0},{"$f":"OFFSET(InputPriceData!D$15,CalculationsAndCharts!$A2017+$A$11,IF($C$7,8,0),1,1)","v":0},{"$f":"OFFSET(InputPriceData!E$15,CalculationsAndCharts!$A2017+$A$11,IF($C$7,8,0),1,1)","v":0},{"$f":"OFFSET(InputPriceData!F$15,CalculationsAndCharts!$A2017+$A$11,IF($C$7,8,0),1,1)","v":0},{"$f":"AVERAGE(OFFSET(G2017,0,0,$A$17,1))","v":0},{"$f":"AVERAGE(OFFSET(G2017,0,0,$A$18,1))","v":0},{"$f":"AVERAGE(OFFSET(G2017,0,0,$A$19,1))","v":0},{"$f":"AVERAGE(OFFSET(E2017,0,0,$A$20,1))","v":0},{"$f":"AVERAGE(OFFSET(F2017,0,0,$A$21,1))","v":0},0,{"$error":"#N/A"},{"$f":"AND(G2018<=K2018,G2017>K2017,OR(P2018=\"DOWN\",P2018=0))","v":false},{"$f":"IF(AND(OR(P2018=0,P2018=\"UP\"),Q2017),\"DOWN\",IF(AND(OR(P2018=0,P2018=\"DOWN\"),O2017),\"UP\",P2018))","v":0},{"$f":"AND(G2018>=L2018,G2017<L2017,OR(P2018=0,P2018=\"UP\"))","v":false},{"$error":"#N/A"},{"$error":"#N/A"},true,{"$f":"AND(T2017,O2017)","v":false},false,false,{"$f":"AND(W2017,Q2017)","v":false},false,{"$f":"IF(AND(NOT(AA2017),OR(W2017,Y2017)),$F$11,NA())","v":{"$error":"#N/A"}},false,{"$error":"#N/A"},false,{"$f":"AND(AC2017,Q2017)","v":false},{"$f":"AD2018","v":false},false,false,{"$f":"AG2018","v":false},{"$f":"IF(AND(NOT(AA2017),OR(AF2017,AH2017)),$F$11,NA())","v":{"$error":"#N/A"}},0,0,0,0,0,null,{"$f":"OFFSET(InputIndexData!F$15,CalculationsAndCharts!$A2017+$A$11,IF($C$7,8,0),1,1)","v":0},0,1,1,true,null,{"$f":"IF(AT2017,$AR$26,NA())","v":212},{"$f":"IF(AT2017,NA(),$AR$26)","v":{"$error":"#N/A"}}]
[1990,{"$f":"OFFSET(InputPriceData!B$15,CalculationsAndCharts!$A2022+$A$11,0,1,1)","v":"00:00:00"},{"$f":"OFFSET(InputPriceData!G$15,CalculationsAndCharts!$A2022+$A$11,IF($C$7,8,0),1,1)","v":0},{"$f":"OFFSET(InputPriceData!C$15,CalculationsAndCharts!$A2022+$A$11,IF($C$7,8,0),1,1)","v":0},{"$f":"OFFSET(InputPriceData!D$15,CalculationsAndCharts!$A2022+$A$11,IF($C$7,8,0),1,1)","v":0},{"$f":"OFFSET(InputPriceData!E$15,CalculationsAndCharts!$A2022+$A$11,IF($C$7,8,0),1,1)","v":0},{"$f":"OFFSET(InputPriceData!F$15,CalculationsAndCharts!$A2022+$A$11,IF($C$7,8,0),1,1)","v":0},0,0,0,0,0,0,{"$error":"#N/A"},false,0,false,{"$error":"#N/A"},{"$error":"#N/A"},true,false,false,false,false,false,{"$error":"#N/A"},false,{"$error":"#N/A"},false,false,false,false,false,false,{"$error":"#N/A"},0,0,0,0,0,null,{"$f":"OFFSET(InputIndexData!F$15,CalculationsAndCharts!$A2022+$A$11,IF($C$7,8,0),1,1)","v":0},0,1,1,true,null,212,{"$error":"#N/A"}]
[1991,{"$f":"OFFSET(InputPriceData!B$15,CalculationsAndCharts!$A2023+$A$11,0,1,1)","v":"00:00:00"},{"$f":"OFFSET(InputPriceData!G$15,CalculationsAndCharts!$A2023+$A$11,IF($C$7,8,0),1,1)","v":0},{"$f":"OFFSET(InputPriceData!C$15,CalculationsAndCharts!$A2023+$A$11,IF($C$7,8,0),1,1)","v":0},{"$f":"OFFSET(InputPriceData!D$15,CalculationsAndCharts!$A2023+$A$11,IF($C$7,8,0),1,1)","v":0},{"$f":"OFFSET(InputPriceData!E$15,CalculationsAndCharts!$A2023+$A$11,IF($C$7,8,0),1,1)","v":0},{"$f":"OFFSET(InputPriceData!F$15,CalculationsAndCharts!$A2023+$A$11,IF($C$7,8,0),1,1)","v":0},0,0,0,0,0,0,{"$error":"#N/A"},false,0,false,{"$error":"#N/A"},{"$error":"#N/A"},true,false,false,false,false,false,{"$error":"#N/A"},false,{"$error":"#N/A"},false,false,false,false,false,false,{"$error":"#N/A"},0,0,0,0,0,null,{"$f":"OFFSET(InputIndexData!F$15,CalculationsAndCharts!$A2023+$A$11,IF($C$7,8,0),1,1)","v":0},0,1,1,true,null,212,{"$error":"#N/A"}]
[1996,{"$f":"OFFSET(InputPriceData!B$15,CalculationsAndCharts!$A2028+$A$11,0,1,1)","v":"00:00:00"},{"$f":"OFFSET(InputPriceData!G$15,CalculationsAndCharts!$A2028+$A$11,IF($C$7,8,0),1,1)","v":0},{"$f":"OFFSET(InputPriceData!C$15,CalculationsAndCharts!$A2028+$A$11,IF($C$7,8,0),1,1)","v":0},{"$f":"OFFSET(InputPriceData!D$15,CalculationsAndCharts!$A2028+$A$11,IF($C$7,8,0),1,1)","v":0},{"$f":"OFFSET(InputPriceData!E$15,CalculationsAndCharts!$A2028+$A$11,IF($C$7,8,0),1,1)","v":0},{"$f":"OFFSET(InputPriceData!F$15,CalculationsAndCharts!$A2028+$A$11,IF($C$7,8,0),1,1)","v":0},0,0,0,0,0,0,{"$error":"#N/A"},false,0,false,{"$error":"#N/A"},{"$error":"#N/A"},true,false,false,false,false,false,{"$error":"#N/A"},false,{"$error":"#N/A"},false,false,false,false,false,false,{"$error":"#N/A"},0,0,0,0,0,null,{"$f":"OFFSET(InputIndexData!F$15,CalculationsAndCharts!$A2028+$A$11,IF($C$7,8,0),1,1)","v":0},0,1,1,true,null,212,{"$error":"#N/A"}]
[2001,{"$f":"OFFSET(InputPriceData!B$15,CalculationsAndCharts!$A2033+$A$11,0,1,1)","v":"00:00:00"},{"$f":"OFFSET(InputPriceData!G$15,CalculationsAndCharts!$A2033+$A$11,IF($C$7,8,0),1,1)","v":0},{"$f":"OFFSET(InputPriceData!C$15,CalculationsAndCharts!$A2033+$A$11,IF($C$7,8,0),1,1)","v":0},{"$f":"OFFSET(InputPriceData!D$15,CalculationsAndCharts!$A2033+$A$11,IF($C$7,8,0),1,1)","v":0},{"$f":"OFFSET(InputPriceData!E$15,CalculationsAndCharts!$A2033+$A$11,IF($C$7,8,0),1,1)","v":0},{"$f":"OFFSET(InputPriceData!F$15,CalculationsAndCharts!$A2033+$A$11,IF($C$7,8,0),1,1)","v":0},0,0,0,0,0,0,{"$error":"#N/A"},false,0,false,{"$error":"#N/A"},{"$error":"#N/A"},true,false,false,false,false,false,{"$error":"#N/A"},false,{"$error":"#N/A"},false,false,false,false,false,false,{"$error":"#N/A"},0,0,0,0,0,null,{"$f":"OFFSET(InputIndexData!F$15,CalculationsAndCharts!$A2033+$A$11,IF($C$7,8,0),1,1)","v":0},0,1,1,true,null,212,{"$error":"#N/A"}]
[2004,{"$f":"OFFSET(InputPriceData!B$15,CalculationsAndCharts!$A2036+$A$11,0,1,1)","v":"00:00:00"},{"$f":"OFFSET(InputPriceData!G$15,CalculationsAndCharts!$A2036+$A$11,IF($C$7,8,0),1,1)","v":0},{"$f":"OFFSET(InputPriceData!C$15,CalculationsAndCharts!$A2036+$A$11,IF($C$7,8,0),1,1)","v":0},{"$f":"OFFSET(InputPriceData!D$15,CalculationsAndCharts!$A2036+$A$11,IF($C$7,8,0),1,1)","v":0},{"$f":"OFFSET(InputPriceData!E$15,CalculationsAndCharts!$A2036+$A$11,IF($C$7,8,0),1,1)","v":0},{"$f":"OFFSET(InputPriceData!F$15,CalculationsAndCharts!$A2036+$A$11,IF($C$7,8,0),1,1)","v":0},0,0,0,0,0,0,{"$error":"#N/A"},false,0,false,{"$error":"#N/A"},{"$error":"#N/A"},true,false,false,false,false,false,{"$error":"#N/A"},false,{"$error":"#N/A"},false,false,false,false,false,false,{"$error":"#N/A"},0,0,0,0,0,null,{"$f":"OFFSET(InputIndexData!F$15,CalculationsAndCharts!$A2036+$A$11,IF($C$7,8,0),1,1)","v":0},0,1,1,true,null,212,{"$error":"#N/A"}]
[2006,{"$f":"OFFSET(InputPriceData!B$15,CalculationsAndCharts!$A2038+$A$11,0,1,1)","v":"00:00:00"},{"$f":"OFFSET(InputPriceData!G$15,CalculationsAndCharts!$A2038+$A$11,IF($C$7,8,0),1,1)","v":0},{"$f":"OFFSET(InputPriceData!C$15,CalculationsAndCharts!$A2038+$A$11,IF($C$7,8,0),1,1)","v":0},{"$f":"OFFSET(InputPriceData!D$15,CalculationsAndCharts!$A2038+$A$11,IF($C$7,8,0),1,1)","v":0},{"$f":"OFFSET(InputPriceData!E$15,CalculationsAndCharts!$A2038+$A$11,IF($C$7,8,0),1,1)","v":0},{"$f":"OFFSET(InputPriceData!F$15,CalculationsAndCharts!$A2038+$A$11,IF($C$7,8,0),1,1)","v":0},0,0,0,0,0,0,{"$error":"#N/A"},false,0,false,{"$error":"#N/A"},{"$error":"#N/A"},true,false,false,false,false,false,{"$error":"#N/A"},false,{"$error":"#N/A"},false,false,false,false,false,false,{"$error":"#N/A"},0,0,0,0,0,null,{"$f":"OFFSET(InputIndexData!F$15,CalculationsAndCharts!$A2038+$A$11,IF($C$7,8,0),1,1)","v":0},0,1,1,true,null,212,{"$error":"#N/A"}]
[2011,{"$f":"OFFSET(InputPriceData!B$15,CalculationsAndCharts!$A2043+$A$11,0,1,1)","v":"00:00:00"},{"$f":"OFFSET(InputPriceData!G$15,CalculationsAndCharts!$A2043+$A$11,IF($C$7,8,0),1,1)","v":0},{"$f":"OFFSET(InputPriceData!C$15,CalculationsAndCharts!$A2043+$A$11,IF($C$7,8,0),1,1)","v":0},{"$f":"OFFSET(InputPriceData!D$15,CalculationsAndCharts!$A2043+$A$11,IF($C$7,8,0),1,1)","v":0},{"$f":"OFFSET(InputPriceData!E$15,CalculationsAndCharts!$A2043+$A$11,IF($C$7,8,0),1,1)","v":0},{"$f":"OFFSET(InputPriceData!F$15,CalculationsAndCharts!$A2043+$A$11,IF($C$7,8,0),1,1)","v":0},0,0,0,0,0,0,{"$error":"#N/A"},false,0,false,{"$error":"#N/A"},{"$error":"#N/A"},true,false,false,false,false,false,{"$error":"#N/A"},false,{"$error":"#N/A"},false,false,false,false,false,false,{"$error":"#N/A"},0,0,0,0,0,null,{"$f":"OFFSET(InputIndexData!F$15,CalculationsAndCharts!$A2043+$A$11,IF($C$7,8,0),1,1)","v":0},0,1,1,true,null,212,{"$error":"#N/A"}]
[2016,{"$f":"OFFSET(InputPriceData!B$15,CalculationsAndCharts!$A2048+$A$11,0,1,1)","v":"00:00:00"},{"$f":"OFFSET(InputPriceData!G$15,CalculationsAndCharts!$A2048+$A$11,IF($C$7,8,0),1,1)","v":0},{"$f":"OFFSET(InputPriceData!C$15,CalculationsAndCharts!$A2048+$A$11,IF($C$7,8,0),1,1)","v":0},{"$f":"OFFSET(InputPriceData!D$15,CalculationsAndCharts!$A2048+$A$11,IF($C$7,8,0),1,1)","v":0},{"$f":"OFFSET(InputPriceData!E$15,CalculationsAndCharts!$A2048+$A$11,IF($C$7,8,0),1,1)","v":0},{"$f":"OFFSET(InputPriceData!F$15,CalculationsAndCharts!$A2048+$A$11,IF($C$7,8,0),1,1)","v":0},0,0,0,0,0,0,{"$error":"#N/A"},false,0,false,{"$error":"#N/A"},{"$error":"#N/A"},true,false,false,false,false,false,{"$error":"#N/A"},false,{"$error":"#N/A"},false,false,false,false,false,false,{"$error":"#N/A"},0,0,0,0,0,null,{"$f":"OFFSET(InputIndexData!F$15,CalculationsAndCharts!$A2048+$A$11,IF($C$7,8,0),1,1)","v":0},0,1,1,true,null,212,{"$error":"#N/A"}]
[2021,{"$f":"OFFSET(InputPriceData!B$15,CalculationsAndCharts!$A2053+$A$11,0,1,1)","v":"00:00:00"},{"$f":"OFFSET(InputPriceData!G$15,CalculationsAndCharts!$A2053+$A$11,IF($C$7,8,0),1,1)","v":0},{"$f":"OFFSET(InputPriceData!C$15,CalculationsAndCharts!$A2053+$A$11,IF($C$7,8,0),1,1)","v":0},{"$f":"OFFSET(InputPriceData!D$15,CalculationsAndCharts!$A2053+$A$11,IF($C$7,8,0),1,1)","v":0},{"$f":"OFFSET(InputPriceData!E$15,CalculationsAndCharts!$A2053+$A$11,IF($C$7,8,0),1,1)","v":0},{"$f":"OFFSET(InputPriceData!F$15,CalculationsAndCharts!$A2053+$A$11,IF($C$7,8,0),1,1)","v":0},0,0,0,0,0,0,{"$error":"#N/A"},false,0,false,{"$error":"#N/A"},{"$error":"#N/A"},true,false,false,false,false,false,{"$error":"#N/A"},false,{"$error":"#N/A"},false,false,false,false,false,false,{"$error":"#N/A"},0,0,0,0,0,null,{"$f":"OFFSET(InputIndexData!F$15,CalculationsAndCharts!$A2053+$A$11,IF($C$7,8,0),1,1)","v":0},0,1,1,true,null,212,{"$error":"#N/A"}]
[2022,{"$f":"OFFSET(InputPriceData!B$15,CalculationsAndCharts!$A2054+$A$11,0,1,1)","v":"00:00:00"},{"$f":"OFFSET(InputPriceData!G$15,CalculationsAndCharts!$A2054+$A$11,IF($C$7,8,0),1,1)","v":0},{"$f":"OFFSET(InputPriceData!C$15,CalculationsAndCharts!$A2054+$A$11,IF($C$7,8,0),1,1)","v":0},{"$f":"OFFSET(InputPriceData!D$15,CalculationsAndCharts!$A2054+$A$11,IF($C$7,8,0),1,1)","v":0},{"$f":"OFFSET(InputPriceData!E$15,CalculationsAndCharts!$A2054+$A$11,IF($C$7,8,0),1,1)","v":0},{"$f":"OFFSET(InputPriceData!F$15,CalculationsAndCharts!$A2054+$A$11,IF($C$7,8,0),1,1)","v":0},0,0,0,0,0,0,{"$error":"#N/A"},false,0,false,{"$error":"#N/A"},{"$error":"#N/A"},true,false,false,false,false,false,{"$error":"#N/A"},false,{"$error":"#N/A"},false,false,false,false,false,false,{"$error":"#N/A"},0,0,0,0,0,null,{"$f":"OFFSET(InputIndexData!F$15,CalculationsAndCharts!$A2054+$A$11,IF($C$7,8,0),1,1)","v":0},0,1,1,true,null,212,{"$error":"#N/A"}]
[2026,{"$f":"OFFSET(InputPriceData!B$15,CalculationsAndCharts!$A2058+$A$11,0,1,1)","v":"00:00:00"},{"$f":"OFFSET(InputPriceData!G$15,CalculationsAndCharts!$A2058+$A$11,IF($C$7,8,0),1,1)","v":0},{"$f":"OFFSET(InputPriceData!C$15,CalculationsAndCharts!$A2058+$A$11,IF($C$7,8,0),1,1)","v":0},{"$f":"OFFSET(InputPriceData!D$15,CalculationsAndCharts!$A2058+$A$11,IF($C$7,8,0),1,1)","v":0},{"$f":"OFFSET(InputPriceData!E$15,CalculationsAndCharts!$A2058+$A$11,IF($C$7,8,0),1,1)","v":0},{"$f":"OFFSET(InputPriceData!F$15,CalculationsAndCharts!$A2058+$A$11,IF($C$7,8,0),1,1)","v":0},0,0,0,0,0,0,{"$error":"#N/A"},false,0,false,{"$error":"#N/A"},{"$error":"#N/A"},true,false,false,false,false,false,{"$error":"#N/A"},false,{"$error":"#N/A"},false,false,false,false,false,false,{"$error":"#N/A"},0,0,0,0,0,null,{"$f":"OFFSET(InputIndexData!F$15,CalculationsAndCharts!$A2058+$A$11,IF($C$7,8,0),1,1)","v":0},0,1,1,true,null,212,{"$error":"#N/A"}]
[2031,{"$f":"OFFSET(InputPriceData!B$15,CalculationsAndCharts!$A2063+$A$11,0,1,1)","v":"00:00:00"},{"$f":"OFFSET(InputPriceData!G$15,CalculationsAndCharts!$A2063+$A$11,IF($C$7,8,0),1,1)","v":0},{"$f":"OFFSET(InputPriceData!C$15,CalculationsAndCharts!$A2063+$A$11,IF($C$7,8,0),1,1)","v":0},{"$f":"OFFSET(InputPriceData!D$15,CalculationsAndCharts!$A2063+$A$11,IF($C$7,8,0),1,1)","v":0},{"$f":"OFFSET(InputPriceData!E$15,CalculationsAndCharts!$A2063+$A$11,IF($C$7,8,0),1,1)","v":0},{"$f":"OFFSET(InputPriceData!F$15,CalculationsAndCharts!$A2063+$A$11,IF($C$7,8,0),1,1)","v":0},0,0,0,0,0,0,{"$error":"#N/A"},false,0,false,{"$error":"#N/A"},{"$error":"#N/A"},true,false,false,false,false,false,{"$error":"#N/A"},false,{"$error":"#N/A"},false,false,false,false,false,false,{"$error":"#N/A"},0,0,0,0,0,null,{"$f":"OFFSET(InputIndexData!F$15,CalculationsAndCharts!$A2063+$A$11,IF($C$7,8,0),1,1)","v":0},0,1,1,true,null,212,{"$error":"#N/A"}]
[2036,{"$f":"OFFSET(InputPriceData!B$15,CalculationsAndCharts!$A2068+$A$11,0,1,1)","v":"00:00:00"},{"$f":"OFFSET(InputPriceData!G$15,CalculationsAndCharts!$A2068+$A$11,IF($C$7,8,0),1,1)","v":0},{"$f":"OFFSET(InputPriceData!C$15,CalculationsAndCharts!$A2068+$A$11,IF($C$7,8,0),1,1)","v":0},{"$f":"OFFSET(InputPriceData!D$15,CalculationsAndCharts!$A2068+$A$11,IF($C$7,8,0),1,1)","v":0},{"$f":"OFFSET(InputPriceData!E$15,CalculationsAndCharts!$A2068+$A$11,IF($C$7,8,0),1,1)","v":0},{"$f":"OFFSET(InputPriceData!F$15,CalculationsAndCharts!$A2068+$A$11,IF($C$7,8,0),1,1)","v":0},0,0,0,0,0,0,{"$error":"#N/A"},false,0,false,{"$error":"#N/A"},{"$error":"#N/A"},true,false,false,false,false,false,{"$error":"#N/A"},false,{"$error":"#N/A"},false,false,false,false,false,false,{"$error":"#N/A"},0,0,0,0,0,null,{"$f":"OFFSET(InputIndexData!F$15,CalculationsAndCharts!$A2068+$A$11,IF($C$7,8,0),1,1)","v":0},0,1,1,true,null,212,{"$error":"#N/A"}]
[2037,{"$f":"OFFSET(InputPriceData!B$15,CalculationsAndCharts!$A2069+$A$11,0,1,1)","v":"00:00:00"},{"$f":"OFFSET(InputPriceData!G$15,CalculationsAndCharts!$A2069+$A$11,IF($C$7,8,0),1,1)","v":0},{"$f":"OFFSET(InputPriceData!C$15,CalculationsAndCharts!$A2069+$A$11,IF($C$7,8,0),1,1)","v":0},{"$f":"OFFSET(InputPriceData!D$15,CalculationsAndCharts!$A2069+$A$11,IF($C$7,8,0),1,1)","v":0},{"$f":"OFFSET(InputPriceData!E$15,CalculationsAndCharts!$A2069+$A$11,IF($C$7,8,0),1,1)","v":0},{"$f":"OFFSET(InputPriceData!F$15,CalculationsAndCharts!$A2069+$A$11,IF($C$7,8,0),1,1)","v":0},0,0,0,0,0,0,{"$error":"#N/A"},false,0,false,{"$error":"#N/A"},{"$error":"#N/A"},true,false,false,false,false,false,{"$error":"#N/A"},false,{"$error":"#N/A"},false,false,false,false,false,false,{"$error":"#N/A"},0,0,0,0,0,null,{"$f":"OFFSET(InputIndexData!F$15,CalculationsAndCharts!$A2069+$A$11,IF($C$7,8,0),1,1)","v":0},0,1,1,true,null,212,{"$error":"#N/A"}]
[2042,{"$f":"OFFSET(InputPriceData!B$15,CalculationsAndCharts!$A2074+$A$11,0,1,1)","v":"00:00:00"},{"$f":"OFFSET(InputPriceData!G$15,CalculationsAndCharts!$A2074+$A$11,IF($C$7,8,0),1,1)","v":0},{"$f":"OFFSET(InputPriceData!C$15,CalculationsAndCharts!$A2074+$A$11,IF($C$7,8,0),1,1)","v":0},{"$f":"OFFSET(InputPriceData!D$15,CalculationsAndCharts!$A2074+$A$11,IF($C$7,8,0),1,1)","v":0},{"$f":"OFFSET(InputPriceData!E$15,CalculationsAndCharts!$A2074+$A$11,IF($C$7,8,0),1,1)","v":0},{"$f":"OFFSET(InputPriceData!F$15,CalculationsAndCharts!$A2074+$A$11,IF($C$7,8,0),1,1)","v":0},0,0,0,0,0,0,{"$error":"#N/A"},false,0,false,{"$error":"#N/A"},{"$error":"#N/A"},true,false,false,false,false,false,{"$error":"#N/A"},false,{"$error":"#N/A"},false,false,false,false,false,false,{"$error":"#N/A"},0,0,0,0,0,null,{"$f":"OFFSET(InputIndexData!F$15,CalculationsAndCharts!$A2074+$A$11,IF($C$7,8,0),1,1)","v":0},0,1,1,true,null,212,{"$error":"#N/A"}]
[2047,{"$f":"OFFSET(InputPriceData!B$15,CalculationsAndCharts!$A2079+$A$11,0,1,1)","v":"00:00:00"},{"$f":"OFFSET(InputPriceData!G$15,CalculationsAndCharts!$A2079+$A$11,IF($C$7,8,0),1,1)","v":0},{"$f":"OFFSET(InputPriceData!C$15,CalculationsAndCharts!$A2079+$A$11,IF($C$7,8,0),1,1)","v":0},{"$f":"OFFSET(InputPriceData!D$15,CalculationsAndCharts!$A2079+$A$11,IF($C$7,8,0),1,1)","v":0},{"$f":"OFFSET(InputPriceData!E$15,CalculationsAndCharts!$A2079+$A$11,IF($C$7,8,0),1,1)","v":0},{"$f":"OFFSET(InputPriceData!F$15,CalculationsAndCharts!$A2079+$A$11,IF($C$7,8,0),1,1)","v":0},0,0,0,0,0,0,{"$error":"#N/A"},false,0,false,{"$error":"#N/A"},{"$error":"#N/A"},true,false,false,false,false,false,{"$error":"#N/A"},false,{"$error":"#N/A"},false,false,false,false,false,false,{"$error":"#N/A"},0,0,0,0,0,null,{"$f":"OFFSET(InputIndexData!F$15,CalculationsAndCharts!$A2079+$A$11,IF($C$7,8,0),1,1)","v":0},0,1,1,true,null,212,{"$error":"#N/A"}]
[2051,{"$f":"OFFSET(InputPriceData!B$15,CalculationsAndCharts!$A2083+$A$11,0,1,1)","v":"00:00:00"},{"$f":"OFFSET(InputPriceData!G$15,CalculationsAndCharts!$A2083+$A$11,IF($C$7,8,0),1,1)","v":0},{"$f":"OFFSET(InputPriceData!C$15,CalculationsAndCharts!$A2083+$A$11,IF($C$7,8,0),1,1)","v":0},{"$f":"OFFSET(InputPriceData!D$15,CalculationsAndCharts!$A2083+$A$11,IF($C$7,8,0),1,1)","v":0},{"$f":"OFFSET(InputPriceData!E$15,CalculationsAndCharts!$A2083+$A$11,IF($C$7,8,0),1,1)","v":0},{"$f":"OFFSET(InputPriceData!F$15,CalculationsAndCharts!$A2083+$A$11,IF($C$7,8,0),1,1)","v":0},0,0,0,0,0,0,{"$error":"#N/A"},false,0,false,{"$error":"#N/A"},{"$error":"#N/A"},true,false,false,false,false,false,{"$error":"#N/A"},false,{"$error":"#N/A"},false,false,false,false,false,false,{"$error":"#N/A"},0,0,0,0,0,null,{"$f":"OFFSET(InputIndexData!F$15,CalculationsAndCharts!$A2083+$A$11,IF($C$7,8,0),1,1)","v":0},0,1,1,true,null,212,{"$error":"#N/A"}]
[2052,{"$f":"OFFSET(InputPriceData!B$15,CalculationsAndCharts!$A2084+$A$11,0,1,1)","v":"00:00:00"},{"$f":"OFFSET(InputPriceData!G$15,CalculationsAndCharts!$A2084+$A$11,IF($C$7,8,0),1,1)","v":0},{"$f":"OFFSET(InputPriceData!C$15,CalculationsAndCharts!$A2084+$A$11,IF($C$7,8,0),1,1)","v":0},{"$f":"OFFSET(InputPriceData!D$15,CalculationsAndCharts!$A2084+$A$11,IF($C$7,8,0),1,1)","v":0},{"$f":"OFFSET(InputPriceData!E$15,CalculationsAndCharts!$A2084+$A$11,IF($C$7,8,0),1,1)","v":0},{"$f":"OFFSET(InputPriceData!F$15,CalculationsAndCharts!$A2084+$A$11,IF($C$7,8,0),1,1)","v":0},0,0,0,0,0,0,{"$error":"#N/A"},false,0,false,{"$error":"#N/A"},{"$error":"#N/A"},true,false,false,false,false,false,{"$error":"#N/A"},false,{"$error":"#N/A"},false,false,false,false,false,false,{"$error":"#N/A"},0,0,0,0,0,null,{"$f":"OFFSET(InputIndexData!F$15,CalculationsAndCharts!$A2084+$A$11,IF($C$7,8,0),1,1)","v":0},0,1,1,true,null,212,{"$error":"#N/A"}]
[2057,{"$f":"OFFSET(InputPriceData!B$15,CalculationsAndCharts!$A2089+$A$11,0,1,1)","v":"00:00:00"},{"$f":"OFFSET(InputPriceData!G$15,CalculationsAndCharts!$A2089+$A$11,IF($C$7,8,0),1,1)","v":0},{"$f":"OFFSET(InputPriceData!C$15,CalculationsAndCharts!$A2089+$A$11,IF($C$7,8,0),1,1)","v":0},{"$f":"OFFSET(InputPriceData!D$15,CalculationsAndCharts!$A2089+$A$11,IF($C$7,8,0),1,1)","v":0},{"$f":"OFFSET(InputPriceData!E$15,CalculationsAndCharts!$A2089+$A$11,IF($C$7,8,0),1,1)","v":0},{"$f":"OFFSET(InputPriceData!F$15,CalculationsAndCharts!$A2089+$A$11,IF($C$7,8,0),1,1)","v":0},0,0,0,0,0,0,{"$error":"#N/A"},false,0,false,{"$f":"IF(O2089,G2089,NA())","v":{"$error":"#N/A"}},{"$f":"IF(Q2089,G2089,NA())","v":{"$error":"#N/A"}},true,false,false,false,false,false,{"$error":"#N/A"},false,{"$error":"#N/A"},false,false,false,false,false,false,{"$error":"#N/A"},0,0,0,0,0,null,{"$f":"OFFSET(InputIndexData!F$15,CalculationsAndCharts!$A2089+$A$11,IF($C$7,8,0),1,1)","v":0},0,1,1,true,null,212,{"$error":"#N/A"}]
[2062,{"$f":"OFFSET(InputPriceData!B$15,CalculationsAndCharts!$A2094+$A$11,0,1,1)","v":"00:00:00"},{"$f":"OFFSET(InputPriceData!G$15,CalculationsAndCharts!$A2094+$A$11,IF($C$7,8,0),1,1)","v":0},{"$f":"OFFSET(InputPriceData!C$15,CalculationsAndCharts!$A2094+$A$11,IF($C$7,8,0),1,1)","v":0},{"$f":"OFFSET(InputPriceData!D$15,CalculationsAndCharts!$A2094+$A$11,IF($C$7,8,0),1,1)","v":0},{"$f":"OFFSET(InputPriceData!E$15,CalculationsAndCharts!$A2094+$A$11,IF($C$7,8,0),1,1)","v":0},{"$f":"OFFSET(InputPriceData!F$15,CalculationsAndCharts!$A2094+$A$11,IF($C$7,8,0),1,1)","v":0},0,0,0,0,0,0,{"$error":"#N/A"},false,0,false,{"$error":"#N/A"},{"$error":"#N/A"},true,false,false,false,false,false,{"$error":"#N/A"},false,{"$error":"#N/A"},false,false,false,false,false,false,{"$error":"#N/A"},0,0,0,0,0,null,{"$f":"OFFSET(InputIndexData!F$15,CalculationsAndCharts!$A2094+$A$11,IF($C$7,8,0),1,1)","v":0},0,1,1,true,null,212,{"$error":"#N/A"}]
[2065,{"$f":"OFFSET(InputPriceData!B$15,CalculationsAndCharts!$A2097+$A$11,0,1,1)","v":"00:00:00"},{"$f":"OFFSET(InputPriceData!G$15,CalculationsAndCharts!$A2097+$A$11,IF($C$7,8,0),1,1)","v":0},{"$f":"OFFSET(InputPriceData!C$15,CalculationsAndCharts!$A2097+$A$11,IF($C$7,8,0),1,1)","v":0},{"$f":"OFFSET(InputPriceData!D$15,CalculationsAndCharts!$A2097+$A$11,IF($C$7,8,0),1,1)","v":0},{"$f":"OFFSET(InputPriceData!E$15,CalculationsAndCharts!$A2097+$A$11,IF($C$7,8,0),1,1)","v":0},{"$f":"OFFSET(InputPriceData!F$15,CalculationsAndCharts!$A2097+$A$11,IF($C$7,8,0),1,1)","v":0},0,0,0,0,0,0,{"$error":"#N/A"},false,0,false,{"$error":"#N/A"},{"$error":"#N/A"},true,false,false,false,false,false,{"$error":"#N/A"},false,{"$error":"#N/A"},false,false,false,false,false,false,{"$error":"#N/A"},0,0,0,0,0,null,{"$f":"OFFSET(InputIndexData!F$15,CalculationsAndCharts!$A2097+$A$11,IF($C$7,8,0),1,1)","v":0},0,1,1,true,null,212,{"$error":"#N/A"}]
[2067,{"$f":"OFFSET(InputPriceData!B$15,CalculationsAndCharts!$A2099+$A$11,0,1,1)","v":"00:00:00"},{"$f":"OFFSET(InputPriceData!G$15,CalculationsAndCharts!$A2099+$A$11,IF($C$7,8,0),1,1)","v":0},{"$f":"OFFSET(InputPriceData!C$15,CalculationsAndCharts!$A2099+$A$11,IF($C$7,8,0),1,1)","v":0},{"$f":"OFFSET(InputPriceData!D$15,CalculationsAndCharts!$A2099+$A$11,IF($C$7,8,0),1,1)","v":0},{"$f":"OFFSET(InputPriceData!E$15,CalculationsAndCharts!$A2099+$A$11,IF($C$7,8,0),1,1)","v":0},{"$f":"OFFSET(InputPriceData!F$15,CalculationsAndCharts!$A2099+$A$11,IF($C$7,8,0),1,1)","v":0},0,0,0,0,0,0,{"$error":"#N/A"},false,0,false,{"$error":"#N/A"},{"$error":"#N/A"},true,false,false,false,false,{"$f":"X2100","v":false},{"$error":"#N/A"},false,{"$error":"#N/A"},false,false,false,false,false,false,{"$error":"#N/A"},0,0,0,0,0,null,{"$f":"OFFSET(InputIndexData!F$15,CalculationsAndCharts!$A2099+$A$11,IF($C$7,8,0),1,1)","v":0},0,1,1,true,null,212,{"$error":"#N/A"}]
[2072,{"$f":"OFFSET(InputPriceData!B$15,CalculationsAndCharts!$A2104+$A$11,0,1,1)","v":"00:00:00"},{"$f":"OFFSET(InputPriceData!G$15,CalculationsAndCharts!$A2104+$A$11,IF($C$7,8,0),1,1)","v":0},{"$f":"OFFSET(InputPriceData!C$15,CalculationsAndCharts!$A2104+$A$11,IF($C$7,8,0),1,1)","v":0},{"$f":"OFFSET(InputPriceData!D$15,CalculationsAndCharts!$A2104+$A$11,IF($C$7,8,0),1,1)","v":0},{"$f":"OFFSET(InputPriceData!E$15,CalculationsAndCharts!$A2104+$A$11,IF($C$7,8,0),1,1)","v":0},{"$f":"OFFSET(InputPriceData!F$15,CalculationsAndCharts!$A2104+$A$11,IF($C$7,8,0),1,1)","v":0},0,0,0,0,0,0,{"$error":"#N/A"},false,0,false,{"$error":"#N/A"},{"$error":"#N/A"},true,false,false,false,false,false,{"$error":"#N/A"},false,{"$error":"#N/A"},false,false,false,false,false,false,{"$error":"#N/A"},0,0,0,0,0,null,{"$f":"OFFSET(InputIndexData!F$15,CalculationsAndCharts!$A2104+$A$11,IF($C$7,8,0),1,1)","v":0},0,1,1,true,null,212,{"$error":"#N/A"}]
[2077,{"$f":"OFFSET(InputPriceData!B$15,CalculationsAndCharts!$A2109+$A$11,0,1,1)","v":"00:00:00"},{"$f":"OFFSET(InputPriceData!G$15,CalculationsAndCharts!$A2109+$A$11,IF($C$7,8,0),1,1)","v":0},{"$f":"OFFSET(InputPriceData!C$15,CalculationsAndCharts!$A2109+$A$11,IF($C$7,8,0),1,1)","v":0},{"$f":"OFFSET(InputPriceData!D$15,CalculationsAndCharts!$A2109+$A$11,IF($C$7,8,0),1,1)","v":0},{"$f":"OFFSET(InputPriceData!E$15,CalculationsAndCharts!$A2109+$A$11,IF($C$7,8,0),1,1)","v":0},{"$f":"OFFSET(InputPriceData!F$15,CalculationsAndCharts!$A2109+$A$11,IF($C$7,8,0),1,1)","v":0},0,0,0,0,0,0,{"$error":"#N/A"},false,0,false,{"$error":"#N/A"},{"$error":"#N/A"},true,false,false,false,false,false,{"$error":"#N/A"},false,{"$error":"#N/A"},false,false,false,false,false,false,{"$error":"#N/A"},0,0,0,0,0,null,{"$f":"OFFSET(InputIndexData!F$15,CalculationsAndCharts!$A2109+$A$11,IF($C$7,8,0),1,1)","v":0},0,1,1,true,null,212,{"$error":"#N/A"}]
[2082,{"$f":"OFFSET(InputPriceData!B$15,CalculationsAndCharts!$A2114+$A$11,0,1,1)","v":"00:00:00"},{"$f":"OFFSET(InputPriceData!G$15,CalculationsAndCharts!$A2114+$A$11,IF($C$7,8,0),1,1)","v":0},{"$f":"OFFSET(InputPriceData!C$15,CalculationsAndCharts!$A2114+$A$11,IF($C$7,8,0),1,1)","v":0},{"$f":"OFFSET(InputPriceData!D$15,CalculationsAndCharts!$A2114+$A$11,IF($C$7,8,0),1,1)","v":0},{"$f":"OFFSET(InputPriceData!E$15,CalculationsAndCharts!$A2114+$A$11,IF($C$7,8,0),1,1)","v":0},{"$f":"OFFSET(InputPriceData!F$15,CalculationsAndCharts!$A2114+$A$11,IF($C$7,8,0),1,1)","v":0},0,0,0,0,0,0,{"$error":"#N/A"},false,0,false,{"$error":"#N/A"},{"$error":"#N/A"},true,false,false,false,false,false,{"$error":"#N/A"},false,{"$error":"#N/A"},false,false,false,false,false,false,{"$error":"#N/A"},0,0,0,0,0,null,{"$f":"OFFSET(InputIndexData!F$15,CalculationsAndCharts!$A2114+$A$11,IF($C$7,8,0),1,1)","v":0},0,1,1,true,null,212,{"$error":"#N/A"}]
[2083,{"$f":"OFFSET(InputPriceData!B$15,CalculationsAndCharts!$A2115+$A$11,0,1,1)","v":"00:00:00"},{"$f":"OFFSET(InputPriceData!G$15,CalculationsAndCharts!$A2115+$A$11,IF($C$7,8,0),1,1)","v":0},{"$f":"OFFSET(InputPriceData!C$15,CalculationsAndCharts!$A2115+$A$11,IF($C$7,8,0),1,1)","v":0},{"$f":"OFFSET(InputPriceData!D$15,CalculationsAndCharts!$A2115+$A$11,IF($C$7,8,0),1,1)","v":0},{"$f":"OFFSET(InputPriceData!E$15,CalculationsAndCharts!$A2115+$A$11,IF($C$7,8,0),1,1)","v":0},{"$f":"OFFSET(InputPriceData!F$15,CalculationsAndCharts!$A2115+$A$11,IF($C$7,8,0),1,1)","v":0},0,0,0,0,0,0,{"$error":"#N/A"},false,0,false,{"$error":"#N/A"},{"$error":"#N/A"},true,false,false,{"$f":"IF(V2115,TRUE,IF(X2116,FALSE,W2116))","v":false},false,false,{"$error":"#N/A"},false,{"$error":"#N/A"},false,false,false,false,false,false,{"$error":"#N/A"},0,0,0,0,0,null,{"$f":"OFFSET(InputIndexData!F$15,CalculationsAndCharts!$A2115+$A$11,IF($C$7,8,0),1,1)","v":0},0,1,1,true,null,212,{"$error":"#N/A"}]
[2087,{"$f":"OFFSET(InputPriceData!B$15,CalculationsAndCharts!$A2119+$A$11,0,1,1)","v":"00:00:00"},{"$f":"OFFSET(InputPriceData!G$15,CalculationsAndCharts!$A2119+$A$11,IF($C$7,8,0),1,1)","v":0},{"$f":"OFFSET(InputPriceData!C$15,CalculationsAndCharts!$A2119+$A$11,IF($C$7,8,0),1,1)","v":0},{"$f":"OFFSET(InputPriceData!D$15,CalculationsAndCharts!$A2119+$A$11,IF($C$7,8,0),1,1)","v":0},{"$f":"OFFSET(InputPriceData!E$15,CalculationsAndCharts!$A2119+$A$11,IF($C$7,8,0),1,1)","v":0},{"$f":"OFFSET(InputPriceData!F$15,CalculationsAndCharts!$A2119+$A$11,IF($C$7,8,0),1,1)","v":0},0,0,0,0,0,0,{"$error":"#N/A"},false,0,false,{"$error":"#N/A"},{"$error":"#N/A"},true,false,false,false,false,false,{"$error":"#N/A"},false,{"$error":"#N/A"},false,false,false,false,false,false,{"$error":"#N/A"},0,0,0,0,0,null,{"$f":"OFFSET(InputIndexData!F$15,CalculationsAndCharts!$A2119+$A$11,IF($C$7,8,0),1,1)","v":0},0,1,1,true,null,212,{"$error":"#N/A"}]
[2092,{"$f":"OFFSET(InputPriceData!B$15,CalculationsAndCharts!$A2124+$A$11,0,1,1)","v":"00:00:00"},{"$f":"OFFSET(InputPriceData!G$15,CalculationsAndCharts!$A2124+$A$11,IF($C$7,8,0),1,1)","v":0},{"$f":"OFFSET(InputPriceData!C$15,CalculationsAndCharts!$A2124+$A$11,IF($C$7,8,0),1,1)","v":0},{"$f":"OFFSET(InputPriceData!D$15,CalculationsAndCharts!$A2124+$A$11,IF($C$7,8,0),1,1)","v":0},{"$f":"OFFSET(InputPriceData!E$15,CalculationsAndCharts!$A2124+$A$11,IF($C$7,8,0),1,1)","v":0},{"$f":"OFFSET(InputPriceData!F$15,CalculationsAndCharts!$A2124+$A$11,IF($C$7,8,0),1,1)","v":0},0,0,0,0,0,0,{"$error":"#N/A"},false,0,false,{"$error":"#N/A"},{"$error":"#N/A"},true,false,false,false,false,false,{"$error":"#N/A"},false,{"$error":"#N/A"},false,false,false,false,false,false,{"$error":"#N/A"},0,0,0,0,0,null,{"$f":"OFFSET(InputIndexData!F$15,CalculationsAndCharts!$A2124+$A$11,IF($C$7,8,0),1,1)","v":0},0,1,1,true,null,212,{"$error":"#N/A"}]
[2097,{"$f":"OFFSET(InputPriceData!B$15,CalculationsAndCharts!$A2129+$A$11,0,1,1)","v":"00:00:00"},{"$f":"OFFSET(InputPriceData!G$15,CalculationsAndCharts!$A2129+$A$11,IF($C$7,8,0),1,1)","v":0},{"$f":"OFFSET(InputPriceData!C$15,CalculationsAndCharts!$A2129+$A$11,IF($C$7,8,0),1,1)","v":0},{"$f":"OFFSET(InputPriceData!D$15,CalculationsAndCharts!$A2129+$A$11,IF($C$7,8,0),1,1)","v":0},{"$f":"OFFSET(InputPriceData!E$15,CalculationsAndCharts!$A2129+$A$11,IF($C$7,8,0),1,1)","v":0},{"$f":"OFFSET(InputPriceData!F$15,CalculationsAndCharts!$A2129+$A$11,IF($C$7,8,0),1,1)","v":0},0,0,0,0,0,0,{"$error":"#N/A"},false,0,false,{"$error":"#N/A"},{"$error":"#N/A"},true,false,false,false,false,false,{"$error":"#N/A"},false,{"$error":"#N/A"},false,false,false,false,false,false,{"$error":"#N/A"},0,0,0,0,0,null,{"$f":"OFFSET(InputIndexData!F$15,CalculationsAndCharts!$A2129+$A$11,IF($C$7,8,0),1,1)","v":0},0,1,1,true,null,212,{"$error":"#N/A"}]
[2098,{"$f":"OFFSET(InputPriceData!B$15,CalculationsAndCharts!$A2130+$A$11,0,1,1)","v":"00:00:00"},{"$f":"OFFSET(InputPriceData!G$15,CalculationsAndCharts!$A2130+$A$11,IF($C$7,8,0),1,1)","v":0},{"$f":"OFFSET(InputPriceData!C$15,CalculationsAndCharts!$A2130+$A$11,IF($C$7,8,0),1,1)","v":0},{"$f":"OFFSET(InputPriceData!D$15,CalculationsAndCharts!$A2130+$A$11,IF($C$7,8,0),1,1)","v":0},{"$f":"OFFSET(InputPriceData!E$15,CalculationsAndCharts!$A2130+$A$11,IF($C$7,8,0),1,1)","v":0},{"$f":"OFFSET(InputPriceData!F$15,CalculationsAndCharts!$A2130+$A$11,IF($C$7,8,0),1,1)","v":0},0,0,0,0,0,0,{"$error":"#N/A"},false,0,false,{"$error":"#N/A"},{"$error":"#N/A"},true,false,false,false,false,false,{"$error":"#N/A"},false,{"$error":"#N/A"},false,false,false,false,false,false,{"$error":"#N/A"},0,0,0,0,0,null,{"$f":"OFFSET(InputIndexData!F$15,CalculationsAndCharts!$A2130+$A$11,IF($C$7,8,0),1,1)","v":0},0,1,1,true,null,212,{"$error":"#N/A"}]
[2103,{"$f":"OFFSET(InputPriceData!B$15,CalculationsAndCharts!$A2135+$A$11,0,1,1)","v":"00:00:00"},{"$f":"OFFSET(InputPriceData!G$15,CalculationsAndCharts!$A2135+$A$11,IF($C$7,8,0),1,1)","v":0},{"$f":"OFFSET(InputPriceData!C$15,CalculationsAndCharts!$A2135+$A$11,IF($C$7,8,0),1,1)","v":0},{"$f":"OFFSET(InputPriceData!D$15,CalculationsAndCharts!$A2135+$A$11,IF($C$7,8,0),1,1)","v":0},{"$f":"OFFSET(InputPriceData!E$15,CalculationsAndCharts!$A2135+$A$11,IF($C$7,8,0),1,1)","v":0},{"$f":"OFFSET(InputPriceData!F$15,CalculationsAndCharts!$A2135+$A$11,IF($C$7,8,0),1,1)","v":0},0,0,0,0,0,0,{"$error":"#N/A"},false,0,false,{"$error":"#N/A"},{"$error":"#N/A"},true,false,false,false,false,false,{"$error":"#N/A"},false,{"$error":"#N/A"},false,false,false,false,false,false,{"$error":"#N/A"},0,0,0,0,0,null,{"$f":"OFFSET(InputIndexData!F$15,CalculationsAndCharts!$A2135+$A$11,IF($C$7,8,0),1,1)","v":0},0,1,1,true,null,212,{"$error":"#N/A"}]
[2108,{"$f":"OFFSET(InputPriceData!B$15,CalculationsAndCharts!$A2140+$A$11,0,1,1)","v":"00:00:00"},{"$f":"OFFSET(InputPriceData!G$15,CalculationsAndCharts!$A2140+$A$11,IF($C$7,8,0),1,1)","v":0},{"$f":"OFFSET(InputPriceData!C$15,CalculationsAndCharts!$A2140+$A$11,IF($C$7,8,0),1,1)","v":0},{"$f":"OFFSET(InputPriceData!D$15,CalculationsAndCharts!$A2140+$A$11,IF($C$7,8,0),1,1)","v":0},{"$f":"OFFSET(InputPriceData!E$15,CalculationsAndCharts!$A2140+$A$11,IF($C$7,8,0),1,1)","v":0},{"$f":"OFFSET(InputPriceData!F$15,CalculationsAndCharts!$A2140+$A$11,IF($C$7,8,0),1,1)","v":0},0,0,0,0,0,0,{"$error":"#N/A"},false,0,false,{"$error":"#N/A"},{"$error":"#N/A"},true,false,false,false,false,false,{"$error":"#N/A"},false,{"$error":"#N/A"},false,false,false,false,false,false,{"$error":"#N/A"},0,0,0,0,0,null,{"$f":"OFFSET(InputIndexData!F$15,CalculationsAndCharts!$A2140+$A$11,IF($C$7,8,0),1,1)","v":0},0,1,1,true,null,212,{"$error":"#N/A"}]
[2112,{"$f":"OFFSET(InputPriceData!B$15,CalculationsAndCharts!$A2144+$A$11,0,1,1)","v":"00:00:00"},{"$f":"OFFSET(InputPriceData!G$15,CalculationsAndCharts!$A2144+$A$11,IF($C$7,8,0),1,1)","v":0},{"$f":"OFFSET(InputPriceData!C$15,CalculationsAndCharts!$A2144+$A$11,IF($C$7,8,0),1,1)","v":0},{"$f":"OFFSET(InputPriceData!D$15,CalculationsAndCharts!$A2144+$A$11,IF($C$7,8,0),1,1)","v":0},{"$f":"OFFSET(InputPriceData!E$15,CalculationsAndCharts!$A2144+$A$11,IF($C$7,8,0),1,1)","v":0},{"$f":"OFFSET(InputPriceData!F$15,CalculationsAndCharts!$A2144+$A$11,IF($C$7,8,0),1,1)","v":0},0,0,0,0,0,0,{"$error":"#N/A"},false,0,false,{"$error":"#N/A"},{"$error":"#N/A"},true,false,false,false,false,false,{"$error":"#N/A"},false,{"$error":"#N/A"},false,false,false,false,false,false,{"$error":"#N/A"},0,0,0,0,0,null,{"$f":"OFFSET(InputIndexData!F$15,CalculationsAndCharts!$A2144+$A$11,IF($C$7,8,0),1,1)","v":0},0,1,1,true,null,212,{"$error":"#N/A"}]
[2113,{"$f":"OFFSET(InputPriceData!B$15,CalculationsAndCharts!$A2145+$A$11,0,1,1)","v":"00:00:00"},{"$f":"OFFSET(InputPriceData!G$15,CalculationsAndCharts!$A2145+$A$11,IF($C$7,8,0),1,1)","v":0},{"$f":"OFFSET(InputPriceData!C$15,CalculationsAndCharts!$A2145+$A$11,IF($C$7,8,0),1,1)","v":0},{"$f":"OFFSET(InputPriceData!D$15,CalculationsAndCharts!$A2145+$A$11,IF($C$7,8,0),1,1)","v":0},{"$f":"OFFSET(InputPriceData!E$15,CalculationsAndCharts!$A2145+$A$11,IF($C$7,8,0),1,1)","v":0},{"$f":"OFFSET(InputPriceData!F$15,CalculationsAndCharts!$A2145+$A$11,IF($C$7,8,0),1,1)","v":0},{"$f":"AVERAGE(OFFSET(G2145,0,0,$A$17,1))","v":0},{"$f":"AVERAGE(OFFSET(G2145,0,0,$A$18,1))","v":0},{"$f":"AVERAGE(OFFSET(G2145,0,0,$A$19,1))","v":0},{"$f":"AVERAGE(OFFSET(E2145,0,0,$A$20,1))","v":0},{"$f":"AVERAGE(OFFSET(F2145,0,0,$A$21,1))","v":0},0,{"$error":"#N/A"},{"$f":"AND(G2146<=K2146,G2145>K2145,OR(P2146=\"DOWN\",P2146=0))","v":false},{"$f":"IF(AND(OR(P2146=0,P2146=\"UP\"),Q2145),\"DOWN\",IF(AND(OR(P2146=0,P2146=\"DOWN\"),O2145),\"UP\",P2146))","v":0},{"$f":"AND(G2146>=L2146,G2145<L2145,OR(P2146=0,P2146=\"UP\"))","v":false},{"$error":"#N/A"},{"$error":"#N/A"},true,{"$f":"AND(T2145,O2145)","v":false},false,false,{"$f":"AND(W2145,Q2145)","v":false},false,{"$f":"IF(AND(NOT(AA2145),OR(W2145,Y2145)),$F$11,NA())","v":{"$error":"#N/A"}},false,{"$error":"#N/A"},false,{"$f":"AND(AC2145,Q2145)","v":false},{"$f":"AD2146","v":false},false,false,{"$f":"AG2146","v":false},{"$f":"IF(AND(NOT(AA2145),OR(AF2145,AH2145)),$F$11,NA())","v":{"$error":"#N/A"}},0,0,0,0,0,null,{"$f":"OFFSET(InputIndexData!F$15,CalculationsAndCharts!$A2145+$A$11,IF($C$7,8,0),1,1)","v":0},0,1,1,true,null,{"$f":"IF(AT2145,$AR$26,NA())","v":212},{"$f":"IF(AT2145,NA(),$AR$26)","v":{"$error":"#N/A"}}]
[2118,{"$f":"OFFSET(InputPriceData!B$15,CalculationsAndCharts!$A2150+$A$11,0,1,1)","v":"00:00:00"},{"$f":"OFFSET(InputPriceData!G$15,CalculationsAndCharts!$A2150+$A$11,IF($C$7,8,0),1,1)","v":0},{"$f":"OFFSET(InputPriceData!C$15,CalculationsAndCharts!$A2150+$A$11,IF($C$7,8,0),1,1)","v":0},{"$f":"OFFSET(InputPriceData!D$15,CalculationsAndCharts!$A2150+$A$11,IF($C$7,8,0),1,1)","v":0},{"$f":"OFFSET(InputPriceData!E$15,CalculationsAndCharts!$A2150+$A$11,IF($C$7,8,0),1,1)","v":0},{"$f":"OFFSET(InputPriceData!F$15,CalculationsAndCharts!$A2150+$A$11,IF($C$7,8,0),1,1)","v":0},0,0,0,0,0,0,{"$error":"#N/A"},false,0,false,{"$error":"#N/A"},{"$error":"#N/A"},true,false,false,false,false,false,{"$error":"#N/A"},false,{"$error":"#N/A"},false,false,false,false,false,false,{"$error":"#N/A"},0,0,0,0,0,null,{"$f":"OFFSET(InputIndexData!F$15,CalculationsAndCharts!$A2150+$A$11,IF($C$7,8,0),1,1)","v":0},0,1,1,true,null,212,{"$error":"#N/A"}]
[2123,{"$f":"OFFSET(InputPriceData!B$15,CalculationsAndCharts!$A2155+$A$11,0,1,1)","v":"00:00:00"},{"$f":"OFFSET(InputPriceData!G$15,CalculationsAndCharts!$A2155+$A$11,IF($C$7,8,0),1,1)","v":0},{"$f":"OFFSET(InputPriceData!C$15,CalculationsAndCharts!$A2155+$A$11,IF($C$7,8,0),1,1)","v":0},{"$f":"OFFSET(InputPriceData!D$15,CalculationsAndCharts!$A2155+$A$11,IF($C$7,8,0),1,1)","v":0},{"$f":"OFFSET(InputPriceData!E$15,CalculationsAndCharts!$A2155+$A$11,IF($C$7,8,0),1,1)","v":0},{"$f":"OFFSET(InputPriceData!F$15,CalculationsAndCharts!$A2155+$A$11,IF($C$7,8,0),1,1)","v":0},0,0,0,0,0,0,{"$error":"#N/A"},false,0,false,{"$error":"#N/A"},{"$error":"#N/A"},true,false,false,false,false,false,{"$error":"#N/A"},false,{"$error":"#N/A"},false,false,false,false,false,false,{"$error":"#N/A"},0,0,0,0,0,null,{"$f":"OFFSET(InputIndexData!F$15,CalculationsAndCharts!$A2155+$A$11,IF($C$7,8,0),1,1)","v":0},0,1,1,true,null,212,{"$error":"#N/A"}]
[2126,{"$f":"OFFSET(InputPriceData!B$15,CalculationsAndCharts!$A2158+$A$11,0,1,1)","v":"00:00:00"},{"$f":"OFFSET(InputPriceData!G$15,CalculationsAndCharts!$A2158+$A$11,IF($C$7,8,0),1,1)","v":0},{"$f":"OFFSET(InputPriceData!C$15,CalculationsAndCharts!$A2158+$A$11,IF($C$7,8,0),1,1)","v":0},{"$f":"OFFSET(InputPriceData!D$15,CalculationsAndCharts!$A2158+$A$11,IF($C$7,8,0),1,1)","v":0},{"$f":"OFFSET(InputPriceData!E$15,CalculationsAndCharts!$A2158+$A$11,IF($C$7,8,0),1,1)","v":0},{"$f":"OFFSET(InputPriceData!F$15,CalculationsAndCharts!$A2158+$A$11,IF($C$7,8,0),1,1)","v":0},0,0,0,0,0,0,{"$error":"#N/A"},false,0,false,{"$error":"#N/A"},{"$error":"#N/A"},true,false,false,false,false,false,{"$error":"#N/A"},false,{"$error":"#N/A"},false,false,false,false,false,false,{"$error":"#N/A"},0,0,0,0,0,null,{"$f":"OFFSET(InputIndexData!F$15,CalculationsAndCharts!$A2158+$A$11,IF($C$7,8,0),1,1)","v":0},0,1,1,true,null,212,{"$error":"#N/A"}]
[2128,{"$f":"OFFSET(InputPriceData!B$15,CalculationsAndCharts!$A2160+$A$11,0,1,1)","v":"00:00:00"},{"$f":"OFFSET(InputPriceData!G$15,CalculationsAndCharts!$A2160+$A$11,IF($C$7,8,0),1,1)","v":0},{"$f":"OFFSET(InputPriceData!C$15,CalculationsAndCharts!$A2160+$A$11,IF($C$7,8,0),1,1)","v":0},{"$f":"OFFSET(InputPriceData!D$15,CalculationsAndCharts!$A2160+$A$11,IF($C$7,8,0),1,1)","v":0},{"$f":"OFFSET(InputPriceData!E$15,CalculationsAndCharts!$A2160+$A$11,IF($C$7,8,0),1,1)","v":0},{"$f":"OFFSET(InputPriceData!F$15,CalculationsAndCharts!$A2160+$A$11,IF($C$7,8,0),1,1)","v":0},0,0,0,0,0,0,{"$error":"#N/A"},false,0,false,{"$error":"#N/A"},{"$error":"#N/A"},true,false,false,false,false,false,{"$error":"#N/A"},{"$f":"AND(OR(W2160,Y2160),OR(AF2160,AH2160))","v":false},{"$error":"#N/A"},false,false,false,false,false,false,{"$error":"#N/A"},0,0,0,0,0,null,{"$f":"OFFSET(InputIndexData!F$15,CalculationsAndCharts!$A2160+$A$11,IF($C$7,8,0),1,1)","v":0},0,1,1,true,null,212,{"$error":"#N/A"}]
[2133,{"$f":"OFFSET(InputPriceData!B$15,CalculationsAndCharts!$A2165+$A$11,0,1,1)","v":"00:00:00"},{"$f":"OFFSET(InputPriceData!G$15,CalculationsAndCharts!$A2165+$A$11,IF($C$7,8,0),1,1)","v":0},{"$f":"OFFSET(InputPriceData!C$15,CalculationsAndCharts!$A2165+$A$11,IF($C$7,8,0),1,1)","v":0},{"$f":"OFFSET(InputPriceData!D$15,CalculationsAndCharts!$A2165+$A$11,IF($C$7,8,0),1,1)","v":0},{"$f":"OFFSET(InputPriceData!E$15,CalculationsAndCharts!$A2165+$A$11,IF($C$7,8,0),1,1)","v":0},{"$f":"OFFSET(InputPriceData!F$15,CalculationsAndCharts!$A2165+$A$11,IF($C$7,8,0),1,1)","v":0},0,0,0,0,0,0,{"$error":"#N/A"},false,0,false,{"$error":"#N/A"},{"$error":"#N/A"},true,false,false,false,false,false,{"$error":"#N/A"},false,{"$error":"#N/A"},false,false,false,false,false,false,{"$error":"#N/A"},0,0,0,0,0,null,{"$f":"OFFSET(InputIndexData!F$15,CalculationsAndCharts!$A2165+$A$11,IF($C$7,8,0),1,1)","v":0},0,1,1,true,null,212,{"$error":"#N/A"}]
[2138,{"$f":"OFFSET(InputPriceData!B$15,CalculationsAndCharts!$A2170+$A$11,0,1,1)","v":"00:00:00"},{"$f":"OFFSET(InputPriceData!G$15,CalculationsAndCharts!$A2170+$A$11,IF($C$7,8,0),1,1)","v":0},{"$f":"OFFSET(InputPriceData!C$15,CalculationsAndCharts!$A2170+$A$11,IF($C$7,8,0),1,1)","v":0},{"$f":"OFFSET(InputPriceData!D$15,CalculationsAndCharts!$A2170+$A$11,IF($C$7,8,0),1,1)","v":0},{"$f":"OFFSET(InputPriceData!E$15,CalculationsAndCharts!$A2170+$A$11,IF($C$7,8,0),1,1)","v":0},{"$f":"OFFSET(InputPriceData!F$15,CalculationsAndCharts!$A2170+$A$11,IF($C$7,8,0),1,1)","v":0},0,0,0,0,0,0,{"$error":"#N/A"},false,0,false,{"$error":"#N/A"},{"$error":"#N/A"},true,false,false,false,false,false,{"$error":"#N/A"},false,{"$error":"#N/A"},{"$f":"AND(   OR(NOT($R$11),NOT(AT2170)),   OR(NOT($R$12),J2170<=I2170),   OR(NOT($R$13),I2170<=H2170),   OR(NOT($R$14),G2170<=I2170)   )","v":false},false,false,false,false,false,{"$error":"#N/A"},0,0,0,0,0,null,{"$f":"OFFSET(InputIndexData!F$15,CalculationsAndCharts!$A2170+$A$11,IF($C$7,8,0),1,1)","v":0},0,1,1,true,null,212,{"$error":"#N/A"}]
[2143,{"$f":"OFFSET(InputPriceData!B$15,CalculationsAndCharts!$A2175+$A$11,0,1,1)","v":"00:00:00"},{"$f":"OFFSET(InputPriceData!G$15,CalculationsAndCharts!$A2175+$A$11,IF($C$7,8,0),1,1)","v":0},{"$f":"OFFSET(InputPriceData!C$15,CalculationsAndCharts!$A2175+$A$11,IF($C$7,8,0),1,1)","v":0},{"$f":"OFFSET(InputPriceData!D$15,CalculationsAndCharts!$A2175+$A$11,IF($C$7,8,0),1,1)","v":0},{"$f":"OFFSET(InputPriceData!E$15,CalculationsAndCharts!$A2175+$A$11,IF($C$7,8,0),1,1)","v":0},{"$f":"OFFSET(InputPriceData!F$15,CalculationsAndCharts!$A2175+$A$11,IF($C$7,8,0),1,1)","v":0},0,0,0,0,0,0,{"$error":"#N/A"},false,0,false,{"$error":"#N/A"},{"$error":"#N/A"},true,false,false,false,false,false,{"$error":"#N/A"},false,{"$error":"#N/A"},false,false,false,false,false,false,{"$error":"#N/A"},0,0,0,0,0,null,{"$f":"OFFSET(InputIndexData!F$15,CalculationsAndCharts!$A2175+$A$11,IF($C$7,8,0),1,1)","v":0},0,1,1,true,null,212,{"$error":"#N/A"}]
[2144,{"$f":"OFFSET(InputPriceData!B$15,CalculationsAndCharts!$A2176+$A$11,0,1,1)","v":"00:00:00"},{"$f":"OFFSET(InputPriceData!G$15,CalculationsAndCharts!$A2176+$A$11,IF($C$7,8,0),1,1)","v":0},{"$f":"OFFSET(InputPriceData!C$15,CalculationsAndCharts!$A2176+$A$11,IF($C$7,8,0),1,1)","v":0},{"$f":"OFFSET(InputPriceData!D$15,CalculationsAndCharts!$A2176+$A$11,IF($C$7,8,0),1,1)","v":0},{"$f":"OFFSET(InputPriceData!E$15,CalculationsAndCharts!$A2176+$A$11,IF($C$7,8,0),1,1)","v":0},{"$f":"OFFSET(InputPriceData!F$15,CalculationsAndCharts!$A2176+$A$11,IF($C$7,8,0),1,1)","v":0},0,0,0,0,0,0,{"$error":"#N/A"},false,0,false,{"$error":"#N/A"},{"$error":"#N/A"},true,false,false,false,false,false,{"$error":"#N/A"},false,{"$error":"#N/A"},false,false,false,false,false,false,{"$error":"#N/A"},0,0,0,0,0,null,{"$f":"OFFSET(InputIndexData!F$15,CalculationsAndCharts!$A2176+$A$11,IF($C$7,8,0),1,1)","v":0},0,1,1,true,null,212,{"$error":"#N/A"}]
[2149,{"$f":"OFFSET(InputPriceData!B$15,CalculationsAndCharts!$A2181+$A$11,0,1,1)","v":"00:00:00"},{"$f":"OFFSET(InputPriceData!G$15,CalculationsAndCharts!$A2181+$A$11,IF($C$7,8,0),1,1)","v":0},{"$f":"OFFSET(InputPriceData!C$15,CalculationsAndCharts!$A2181+$A$11,IF($C$7,8,0),1,1)","v":0},{"$f":"OFFSET(InputPriceData!D$15,CalculationsAndCharts!$A2181+$A$11,IF($C$7,8,0),1,1)","v":0},{"$f":"OFFSET(InputPriceData!E$15,CalculationsAndCharts!$A2181+$A$11,IF($C$7,8,0),1,1)","v":0},{"$f":"OFFSET(InputPriceData!F$15,CalculationsAndCharts!$A2181+$A$11,IF($C$7,8,0),1,1)","v":0},0,0,0,0,0,0,{"$error":"#N/A"},false,0,false,{"$error":"#N/A"},{"$error":"#N/A"},true,false,false,false,false,false,{"$error":"#N/A"},false,{"$error":"#N/A"},false,false,false,false,false,false,{"$error":"#N/A"},0,0,0,0,0,null,{"$f":"OFFSET(InputIndexData!F$15,CalculationsAndCharts!$A2181+$A$11,IF($C$7,8,0),1,1)","v":0},0,1,1,true,null,212,{"$error":"#N/A"}]
[2153,{"$f":"OFFSET(InputPriceData!B$15,CalculationsAndCharts!$A2185+$A$11,0,1,1)","v":"00:00:00"},{"$f":"OFFSET(InputPriceData!G$15,CalculationsAndCharts!$A2185+$A$11,IF($C$7,8,0),1,1)","v":0},{"$f":"OFFSET(InputPriceData!C$15,CalculationsAndCharts!$A2185+$A$11,IF($C$7,8,0),1,1)","v":0},{"$f":"OFFSET(InputPriceData!D$15,CalculationsAndCharts!$A2185+$A$11,IF($C$7,8,0),1,1)","v":0},{"$f":"OFFSET(InputPriceData!E$15,CalculationsAndCharts!$A2185+$A$11,IF($C$7,8,0),1,1)","v":0},{"$f":"OFFSET(InputPriceData!F$15,CalculationsAndCharts!$A2185+$A$11,IF($C$7,8,0),1,1)","v":0},0,0,0,0,0,0,{"$error":"#N/A"},false,0,false,{"$error":"#N/A"},{"$error":"#N/A"},true,false,false,false,false,false,{"$error":"#N/A"},false,{"$error":"#N/A"},false,false,false,false,false,false,{"$error":"#N/A"},0,0,0,0,0,null,{"$f":"OFFSET(InputIndexData!F$15,CalculationsAndCharts!$A2185+$A$11,IF($C$7,8,0),1,1)","v":0},0,1,1,true,null,212,{"$error":"#N/A"}]
[2158,{"$f":"OFFSET(InputPriceData!B$15,CalculationsAndCharts!$A2190+$A$11,0,1,1)","v":"00:00:00"},{"$f":"OFFSET(InputPriceData!G$15,CalculationsAndCharts!$A2190+$A$11,IF($C$7,8,0),1,1)","v":0},{"$f":"OFFSET(InputPriceData!C$15,CalculationsAndCharts!$A2190+$A$11,IF($C$7,8,0),1,1)","v":0},{"$f":"OFFSET(InputPriceData!D$15,CalculationsAndCharts!$A2190+$A$11,IF($C$7,8,0),1,1)","v":0},{"$f":"OFFSET(InputPriceData!E$15,CalculationsAndCharts!$A2190+$A$11,IF($C$7,8,0),1,1)","v":0},{"$f":"OFFSET(InputPriceData!F$15,CalculationsAndCharts!$A2190+$A$11,IF($C$7,8,0),1,1)","v":0},0,0,0,0,0,0,{"$error":"#N/A"},false,0,false,{"$error":"#N/A"},{"$error":"#N/A"},true,false,false,false,false,false,{"$error":"#N/A"},false,{"$error":"#N/A"},false,false,false,false,false,false,{"$error":"#N/A"},0,0,0,0,0,null,{"$f":"OFFSET(InputIndexData!F$15,CalculationsAndCharts!$A2190+$A$11,IF($C$7,8,0),1,1)","v":0},0,1,1,true,null,212,{"$error":"#N/A"}]
[2159,{"$f":"OFFSET(InputPriceData!B$15,CalculationsAndCharts!$A2191+$A$11,0,1,1)","v":"00:00:00"},{"$f":"OFFSET(InputPriceData!G$15,CalculationsAndCharts!$A2191+$A$11,IF($C$7,8,0),1,1)","v":0},{"$f":"OFFSET(InputPriceData!C$15,CalculationsAndCharts!$A2191+$A$11,IF($C$7,8,0),1,1)","v":0},{"$f":"OFFSET(InputPriceData!D$15,CalculationsAndCharts!$A2191+$A$11,IF($C$7,8,0),1,1)","v":0},{"$f":"OFFSET(InputPriceData!E$15,CalculationsAndCharts!$A2191+$A$11,IF($C$7,8,0),1,1)","v":0},{"$f":"OFFSET(InputPriceData!F$15,CalculationsAndCharts!$A2191+$A$11,IF($C$7,8,0),1,1)","v":0},0,0,0,0,0,0,{"$error":"#N/A"},false,0,false,{"$error":"#N/A"},{"$error":"#N/A"},true,false,false,false,false,false,{"$error":"#N/A"},false,{"$error":"#N/A"},false,false,false,false,false,false,{"$error":"#N/A"},0,0,0,0,0,null,{"$f":"OFFSET(InputIndexData!F$15,CalculationsAndCharts!$A2191+$A$11,IF($C$7,8,0),1,1)","v":0},0,1,1,true,null,212,{"$error":"#N/A"}]
[2164,{"$f":"OFFSET(InputPriceData!B$15,CalculationsAndCharts!$A2196+$A$11,0,1,1)","v":"00:00:00"},{"$f":"OFFSET(InputPriceData!G$15,CalculationsAndCharts!$A2196+$A$11,IF($C$7,8,0),1,1)","v":0},{"$f":"OFFSET(InputPriceData!C$15,CalculationsAndCharts!$A2196+$A$11,IF($C$7,8,0),1,1)","v":0},{"$f":"OFFSET(InputPriceData!D$15,CalculationsAndCharts!$A2196+$A$11,IF($C$7,8,0),1,1)","v":0},{"$f":"OFFSET(InputPriceData!E$15,CalculationsAndCharts!$A2196+$A$11,IF($C$7,8,0),1,1)","v":0},{"$f":"OFFSET(InputPriceData!F$15,CalculationsAndCharts!$A2196+$A$11,IF($C$7,8,0),1,1)","v":0},0,0,0,0,0,0,{"$error":"#N/A"},false,0,false,{"$error":"#N/A"},{"$error":"#N/A"},true,false,false,false,false,false,{"$error":"#N/A"},false,{"$error":"#N/A"},false,false,false,false,false,false,{"$error":"#N/A"},0,0,0,0,0,null,{"$f":"OFFSET(InputIndexData!F$15,CalculationsAndCharts!$A2196+$A$11,IF($C$7,8,0),1,1)","v":0},0,1,1,true,null,212,{"$error":"#N/A"}]
[2169,{"$f":"OFFSET(InputPriceData!B$15,CalculationsAndCharts!$A2201+$A$11,0,1,1)","v":"00:00:00"},{"$f":"OFFSET(InputPriceData!G$15,CalculationsAndCharts!$A2201+$A$11,IF($C$7,8,0),1,1)","v":0},{"$f":"OFFSET(InputPriceData!C$15,CalculationsAndCharts!$A2201+$A$11,IF($C$7,8,0),1,1)","v":0},{"$f":"OFFSET(InputPriceData!D$15,CalculationsAndCharts!$A2201+$A$11,IF($C$7,8,0),1,1)","v":0},{"$f":"OFFSET(InputPriceData!E$15,CalculationsAndCharts!$A2201+$A$11,IF($C$7,8,0),1,1)","v":0},{"$f":"OFFSET(InputPriceData!F$15,CalculationsAndCharts!$A2201+$A$11,IF($C$7,8,0),1,1)","v":0},0,0,0,0,0,0,{"$error":"#N/A"},false,0,false,{"$error":"#N/A"},{"$error":"#N/A"},true,false,false,false,false,false,{"$error":"#N/A"},false,{"$error":"#N/A"},false,false,false,false,false,false,{"$error":"#N/A"},0,0,0,0,0,null,{"$f":"OFFSET(InputIndexData!F$15,CalculationsAndCharts!$A2201+$A$11,IF($C$7,8,0),1,1)","v":0},0,1,1,true,null,212,{"$error":"#N/A"}]
[2173,{"$f":"OFFSET(InputPriceData!B$15,CalculationsAndCharts!$A2205+$A$11,0,1,1)","v":"00:00:00"},{"$f":"OFFSET(InputPriceData!G$15,CalculationsAndCharts!$A2205+$A$11,IF($C$7,8,0),1,1)","v":0},{"$f":"OFFSET(InputPriceData!C$15,CalculationsAndCharts!$A2205+$A$11,IF($C$7,8,0),1,1)","v":0},{"$f":"OFFSET(InputPriceData!D$15,CalculationsAndCharts!$A2205+$A$11,IF($C$7,8,0),1,1)","v":0},{"$f":"OFFSET(InputPriceData!E$15,CalculationsAndCharts!$A2205+$A$11,IF($C$7,8,0),1,1)","v":0},{"$f":"OFFSET(InputPriceData!F$15,CalculationsAndCharts!$A2205+$A$11,IF($C$7,8,0),1,1)","v":0},0,0,0,0,0,0,{"$error":"#N/A"},false,0,false,{"$error":"#N/A"},{"$error":"#N/A"},true,false,false,false,false,false,{"$error":"#N/A"},false,{"$error":"#N/A"},false,false,false,false,false,false,{"$error":"#N/A"},0,0,0,0,0,null,{"$f":"OFFSET(InputIndexData!F$15,CalculationsAndCharts!$A2205+$A$11,IF($C$7,8,0),1,1)","v":0},0,1,1,true,null,212,{"$error":"#N/A"}]
[2174,{"$f":"OFFSET(InputPriceData!B$15,CalculationsAndCharts!$A2206+$A$11,0,1,1)","v":"00:00:00"},{"$f":"OFFSET(InputPriceData!G$15,CalculationsAndCharts!$A2206+$A$11,IF($C$7,8,0),1,1)","v":0},{"$f":"OFFSET(InputPriceData!C$15,CalculationsAndCharts!$A2206+$A$11,IF($C$7,8,0),1,1)","v":0},{"$f":"OFFSET(InputPriceData!D$15,CalculationsAndCharts!$A2206+$A$11,IF($C$7,8,0),1,1)","v":0},{"$f":"OFFSET(InputPriceData!E$15,CalculationsAndCharts!$A2206+$A$11,IF($C$7,8,0),1,1)","v":0},{"$f":"OFFSET(InputPriceData!F$15,CalculationsAndCharts!$A2206+$A$11,IF($C$7,8,0),1,1)","v":0},0,0,0,0,0,0,{"$error":"#N/A"},false,0,false,{"$error":"#N/A"},{"$error":"#N/A"},true,false,false,false,false,false,{"$error":"#N/A"},false,{"$error":"#N/A"},false,false,false,false,false,false,{"$error":"#N/A"},0,0,0,0,0,null,{"$f":"OFFSET(InputIndexData!F$15,CalculationsAndCharts!$A2206+$A$11,IF($C$7,8,0),1,1)","v":0},0,1,1,true,null,212,{"$error":"#N/A"}]
[2179,{"$f":"OFFSET(InputPriceData!B$15,CalculationsAndCharts!$A2211+$A$11,0,1,1)","v":"00:00:00"},{"$f":"OFFSET(InputPriceData!G$15,CalculationsAndCharts!$A2211+$A$11,IF($C$7,8,0),1,1)","v":0},{"$f":"OFFSET(InputPriceData!C$15,CalculationsAndCharts!$A2211+$A$11,IF($C$7,8,0),1,1)","v":0},{"$f":"OFFSET(InputPriceData!D$15,CalculationsAndCharts!$A2211+$A$11,IF($C$7,8,0),1,1)","v":0},{"$f":"OFFSET(InputPriceData!E$15,CalculationsAndCharts!$A2211+$A$11,IF($C$7,8,0),1,1)","v":0},{"$f":"OFFSET(InputPriceData!F$15,CalculationsAndCharts!$A2211+$A$11,IF($C$7,8,0),1,1)","v":0},0,0,0,0,0,0,{"$error":"#N/A"},false,0,false,{"$error":"#N/A"},{"$error":"#N/A"},true,false,false,false,false,false,{"$error":"#N/A"},false,{"$error":"#N/A"},false,false,false,false,false,false,{"$error":"#N/A"},0,0,0,0,0,null,{"$f":"OFFSET(InputIndexData!F$15,CalculationsAndCharts!$A2211+$A$11,IF($C$7,8,0),1,1)","v":0},0,1,1,true,null,212,{"$error":"#N/A"}]
[2184,{"$f":"OFFSET(InputPriceData!B$15,CalculationsAndCharts!$A2216+$A$11,0,1,1)","v":"00:00:00"},{"$f":"OFFSET(InputPriceData!G$15,CalculationsAndCharts!$A2216+$A$11,IF($C$7,8,0),1,1)","v":0},{"$f":"OFFSET(InputPriceData!C$15,CalculationsAndCharts!$A2216+$A$11,IF($C$7,8,0),1,1)","v":0},{"$f":"OFFSET(InputPriceData!D$15,CalculationsAndCharts!$A2216+$A$11,IF($C$7,8,0),1,1)","v":0},{"$f":"OFFSET(InputPriceData!E$15,CalculationsAndCharts!$A2216+$A$11,IF($C$7,8,0),1,1)","v":0},{"$f":"OFFSET(InputPriceData!F$15,CalculationsAndCharts!$A2216+$A$11,IF($C$7,8,0),1,1)","v":0},0,0,0,0,0,0,{"$error":"#N/A"},false,0,false,{"$error":"#N/A"},{"$error":"#N/A"},true,false,false,false,false,false,{"$error":"#N/A"},false,{"$f":"IF(AA2216,$F$11,NA())","v":{"$error":"#N/A"}},false,false,false,false,false,false,{"$error":"#N/A"},0,0,0,0,0,null,{"$f":"OFFSET(InputIndexData!F$15,CalculationsAndCharts!$A2216+$A$11,IF($C$7,8,0),1,1)","v":0},0,1,1,true,null,212,{"$error":"#N/A"}]
[2189,{"$f":"OFFSET(InputPriceData!B$15,CalculationsAndCharts!$A2221+$A$11,0,1,1)","v":"00:00:00"},{"$f":"OFFSET(InputPriceData!G$15,CalculationsAndCharts!$A2221+$A$11,IF($C$7,8,0),1,1)","v":0},{"$f":"OFFSET(InputPriceData!C$15,CalculationsAndCharts!$A2221+$A$11,IF($C$7,8,0),1,1)","v":0},{"$f":"OFFSET(InputPriceData!D$15,CalculationsAndCharts!$A2221+$A$11,IF($C$7,8,0),1,1)","v":0},{"$f":"OFFSET(InputPriceData!E$15,CalculationsAndCharts!$A2221+$A$11,IF($C$7,8,0),1,1)","v":0},{"$f":"OFFSET(InputPriceData!F$15,CalculationsAndCharts!$A2221+$A$11,IF($C$7,8,0),1,1)","v":0},0,0,0,0,0,0,{"$error":"#N/A"},false,0,false,{"$error":"#N/A"},{"$error":"#N/A"},true,false,false,false,false,false,{"$error":"#N/A"},false,{"$error":"#N/A"},false,false,false,false,false,false,{"$error":"#N/A"},0,0,0,0,0,null,{"$f":"OFFSET(InputIndexData!F$15,CalculationsAndCharts!$A2221+$A$11,IF($C$7,8,0),1,1)","v":0},0,1,1,true,null,212,{"$error":"#N/A"}]
[2192,{"$f":"OFFSET(InputPriceData!B$15,CalculationsAndCharts!$A2224+$A$11,0,1,1)","v":"00:00:00"},{"$f":"OFFSET(InputPriceData!G$15,CalculationsAndCharts!$A2224+$A$11,IF($C$7,8,0),1,1)","v":0},{"$f":"OFFSET(InputPriceData!C$15,CalculationsAndCharts!$A2224+$A$11,IF($C$7,8,0),1,1)","v":0},{"$f":"OFFSET(InputPriceData!D$15,CalculationsAndCharts!$A2224+$A$11,IF($C$7,8,0),1,1)","v":0},{"$f":"OFFSET(InputPriceData!E$15,CalculationsAndCharts!$A2224+$A$11,IF($C$7,8,0),1,1)","v":0},{"$f":"OFFSET(InputPriceData!F$15,CalculationsAndCharts!$A2224+$A$11,IF($C$7,8,0),1,1)","v":0},0,0,0,0,0,0,{"$error":"#N/A"},false,0,false,{"$error":"#N/A"},{"$error":"#N/A"},true,false,false,false,false,false,{"$error":"#N/A"},{"$f":"AND(OR(W2224,Y2224),OR(AF2224,AH2224))","v":false},{"$error":"#N/A"},false,false,false,false,false,false,{"$error":"#N/A"},0,0,0,0,0,null,{"$f":"OFFSET(InputIndexData!F$15,CalculationsAndCharts!$A2224+$A$11,IF($C$7,8,0),1,1)","v":0},0,1,1,true,null,212,{"$error":"#N/A"}]
[2194,{"$f":"OFFSET(InputPriceData!B$15,CalculationsAndCharts!$A2226+$A$11,0,1,1)","v":"00:00:00"},{"$f":"OFFSET(InputPriceData!G$15,CalculationsAndCharts!$A2226+$A$11,IF($C$7,8,0),1,1)","v":0},{"$f":"OFFSET(InputPriceData!C$15,CalculationsAndCharts!$A2226+$A$11,IF($C$7,8,0),1,1)","v":0},{"$f":"OFFSET(InputPriceData!D$15,CalculationsAndCharts!$A2226+$A$11,IF($C$7,8,0),1,1)","v":0},{"$f":"OFFSET(InputPriceData!E$15,CalculationsAndCharts!$A2226+$A$11,IF($C$7,8,0),1,1)","v":0},{"$f":"OFFSET(InputPriceData!F$15,CalculationsAndCharts!$A2226+$A$11,IF($C$7,8,0),1,1)","v":0},0,0,0,0,0,0,{"$error":"#N/A"},false,0,false,{"$error":"#N/A"},{"$error":"#N/A"},true,false,false,false,false,false,{"$error":"#N/A"},false,{"$error":"#N/A"},false,false,false,false,false,false,{"$error":"#N/A"},0,0,0,0,0,null,{"$f":"OFFSET(InputIndexData!F$15,CalculationsAndCharts!$A2226+$A$11,IF($C$7,8,0),1,1)","v":0},0,1,1,true,null,212,{"$error":"#N/A"}]
[2199,{"$f":"OFFSET(InputPriceData!B$15,CalculationsAndCharts!$A2231+$A$11,0,1,1)","v":"00:00:00"},{"$f":"OFFSET(InputPriceData!G$15,CalculationsAndCharts!$A2231+$A$11,IF($C$7,8,0),1,1)","v":0},{"$f":"OFFSET(InputPriceData!C$15,CalculationsAndCharts!$A2231+$A$11,IF($C$7,8,0),1,1)","v":0},{"$f":"OFFSET(InputPriceData!D$15,CalculationsAndCharts!$A2231+$A$11,IF($C$7,8,0),1,1)","v":0},{"$f":"OFFSET(InputPriceData!E$15,CalculationsAndCharts!$A2231+$A$11,IF($C$7,8,0),1,1)","v":0},{"$f":"OFFSET(InputPriceData!F$15,CalculationsAndCharts!$A2231+$A$11,IF($C$7,8,0),1,1)","v":0},0,0,0,0,0,0,{"$error":"#N/A"},false,0,false,{"$error":"#N/A"},{"$error":"#N/A"},true,false,false,false,false,false,{"$error":"#N/A"},false,{"$error":"#N/A"},false,false,false,false,false,false,{"$error":"#N/A"},0,0,0,0,0,null,{"$f":"OFFSET(InputIndexData!F$15,CalculationsAndCharts!$A2231+$A$11,IF($C$7,8,0),1,1)","v":0},0,1,1,true,null,212,{"$error":"#N/A"}]
[2204,{"$f":"OFFSET(InputPriceData!B$15,CalculationsAndCharts!$A2236+$A$11,0,1,1)","v":"00:00:00"},{"$f":"OFFSET(InputPriceData!G$15,CalculationsAndCharts!$A2236+$A$11,IF($C$7,8,0),1,1)","v":0},{"$f":"OFFSET(InputPriceData!C$15,CalculationsAndCharts!$A2236+$A$11,IF($C$7,8,0),1,1)","v":0},{"$f":"OFFSET(InputPriceData!D$15,CalculationsAndCharts!$A2236+$A$11,IF($C$7,8,0),1,1)","v":0},{"$f":"OFFSET(InputPriceData!E$15,CalculationsAndCharts!$A2236+$A$11,IF($C$7,8,0),1,1)","v":0},{"$f":"OFFSET(InputPriceData!F$15,CalculationsAndCharts!$A2236+$A$11,IF($C$7,8,0),1,1)","v":0},0,0,0,0,0,0,{"$error":"#N/A"},false,0,false,{"$error":"#N/A"},{"$error":"#N/A"},true,false,false,false,false,false,{"$error":"#N/A"},false,{"$error":"#N/A"},false,false,false,false,false,false,{"$error":"#N/A"},0,0,0,0,0,null,{"$f":"OFFSET(InputIndexData!F$15,CalculationsAndCharts!$A2236+$A$11,IF($C$7,8,0),1,1)","v":0},0,1,1,true,null,212,{"$error":"#N/A"}]
[2205,{"$f":"OFFSET(InputPriceData!B$15,CalculationsAndCharts!$A2237+$A$11,0,1,1)","v":"00:00:00"},{"$f":"OFFSET(InputPriceData!G$15,CalculationsAndCharts!$A2237+$A$11,IF($C$7,8,0),1,1)","v":0},{"$f":"OFFSET(InputPriceData!C$15,CalculationsAndCharts!$A2237+$A$11,IF($C$7,8,0),1,1)","v":0},{"$f":"OFFSET(InputPriceData!D$15,CalculationsAndCharts!$A2237+$A$11,IF($C$7,8,0),1,1)","v":0},{"$f":"OFFSET(InputPriceData!E$15,CalculationsAndCharts!$A2237+$A$11,IF($C$7,8,0),1,1)","v":0},{"$f":"OFFSET(InputPriceData!F$15,CalculationsAndCharts!$A2237+$A$11,IF($C$7,8,0),1,1)","v":0},0,0,0,0,0,0,{"$error":"#N/A"},false,0,false,{"$error":"#N/A"},{"$error":"#N/A"},true,false,false,false,false,false,{"$error":"#N/A"},false,{"$error":"#N/A"},false,false,false,false,false,false,{"$error":"#N/A"},0,0,0,0,0,null,{"$f":"OFFSET(InputIndexData!F$15,CalculationsAndCharts!$A2237+$A$11,IF($C$7,8,0),1,1)","v":0},0,1,1,true,null,212,{"$error":"#N/A"}]
[2210,{"$f":"OFFSET(InputPriceData!B$15,CalculationsAndCharts!$A2242+$A$11,0,1,1)","v":"00:00:00"},{"$f":"OFFSET(InputPriceData!G$15,CalculationsAndCharts!$A2242+$A$11,IF($C$7,8,0),1,1)","v":0},{"$f":"OFFSET(InputPriceData!C$15,CalculationsAndCharts!$A2242+$A$11,IF($C$7,8,0),1,1)","v":0},{"$f":"OFFSET(InputPriceData!D$15,CalculationsAndCharts!$A2242+$A$11,IF($C$7,8,0),1,1)","v":0},{"$f":"OFFSET(InputPriceData!E$15,CalculationsAndCharts!$A2242+$A$11,IF($C$7,8,0),1,1)","v":0},{"$f":"OFFSET(InputPriceData!F$15,CalculationsAndCharts!$A2242+$A$11,IF($C$7,8,0),1,1)","v":0},0,0,0,0,0,0,{"$error":"#N/A"},false,0,false,{"$error":"#N/A"},{"$error":"#N/A"},true,false,false,false,false,false,{"$error":"#N/A"},false,{"$error":"#N/A"},false,false,false,false,false,false,{"$error":"#N/A"},0,0,0,0,0,null,{"$f":"OFFSET(InputIndexData!F$15,CalculationsAndCharts!$A2242+$A$11,IF($C$7,8,0),1,1)","v":0},0,1,1,true,null,212,{"$error":"#N/A"}]
[2214,{"$f":"OFFSET(InputPriceData!B$15,CalculationsAndCharts!$A2246+$A$11,0,1,1)","v":"00:00:00"},{"$f":"OFFSET(InputPriceData!G$15,CalculationsAndCharts!$A2246+$A$11,IF($C$7,8,0),1,1)","v":0},{"$f":"OFFSET(InputPriceData!C$15,CalculationsAndCharts!$A2246+$A$11,IF($C$7,8,0),1,1)","v":0},{"$f":"OFFSET(InputPriceData!D$15,CalculationsAndCharts!$A2246+$A$11,IF($C$7,8,0),1,1)","v":0},{"$f":"OFFSET(InputPriceData!E$15,CalculationsAndCharts!$A2246+$A$11,IF($C$7,8,0),1,1)","v":0},{"$f":"OFFSET(InputPriceData!F$15,CalculationsAndCharts!$A2246+$A$11,IF($C$7,8,0),1,1)","v":0},0,0,0,0,0,0,{"$error":"#N/A"},false,0,false,{"$error":"#N/A"},{"$error":"#N/A"},true,false,false,false,false,false,{"$error":"#N/A"},false,{"$error":"#N/A"},false,false,false,false,false,false,{"$error":"#N/A"},0,0,0,0,0,null,{"$f":"OFFSET(InputIndexData!F$15,CalculationsAndCharts!$A2246+$A$11,IF($C$7,8,0),1,1)","v":0},0,1,1,true,null,212,{"$error":"#N/A"}]
[2219,{"$f":"OFFSET(InputPriceData!B$15,CalculationsAndCharts!$A2251+$A$11,0,1,1)","v":"00:00:00"},{"$f":"OFFSET(InputPriceData!G$15,CalculationsAndCharts!$A2251+$A$11,IF($C$7,8,0),1,1)","v":0},{"$f":"OFFSET(InputPriceData!C$15,CalculationsAndCharts!$A2251+$A$11,IF($C$7,8,0),1,1)","v":0},{"$f":"OFFSET(InputPriceData!D$15,CalculationsAndCharts!$A2251+$A$11,IF($C$7,8,0),1,1)","v":0},{"$f":"OFFSET(InputPriceData!E$15,CalculationsAndCharts!$A2251+$A$11,IF($C$7,8,0),1,1)","v":0},{"$f":"OFFSET(InputPriceData!F$15,CalculationsAndCharts!$A2251+$A$11,IF($C$7,8,0),1,1)","v":0},0,0,0,0,0,0,{"$error":"#N/A"},false,0,false,{"$error":"#N/A"},{"$error":"#N/A"},true,false,false,false,false,false,{"$error":"#N/A"},false,{"$error":"#N/A"},false,false,false,false,false,false,{"$error":"#N/A"},0,0,0,0,0,null,{"$f":"OFFSET(InputIndexData!F$15,CalculationsAndCharts!$A2251+$A$11,IF($C$7,8,0),1,1)","v":0},0,1,1,true,null,212,{"$error":"#N/A"}]
[2220,{"$f":"OFFSET(InputPriceData!B$15,CalculationsAndCharts!$A2252+$A$11,0,1,1)","v":"00:00:00"},{"$f":"OFFSET(InputPriceData!G$15,CalculationsAndCharts!$A2252+$A$11,IF($C$7,8,0),1,1)","v":0},{"$f":"OFFSET(InputPriceData!C$15,CalculationsAndCharts!$A2252+$A$11,IF($C$7,8,0),1,1)","v":0},{"$f":"OFFSET(InputPriceData!D$15,CalculationsAndCharts!$A2252+$A$11,IF($C$7,8,0),1,1)","v":0},{"$f":"OFFSET(InputPriceData!E$15,CalculationsAndCharts!$A2252+$A$11,IF($C$7,8,0),1,1)","v":0},{"$f":"OFFSET(InputPriceData!F$15,CalculationsAndCharts!$A2252+$A$11,IF($C$7,8,0),1,1)","v":0},0,0,0,0,0,0,{"$error":"#N/A"},false,0,false,{"$error":"#N/A"},{"$error":"#N/A"},true,false,false,false,false,false,{"$error":"#N/A"},false,{"$error":"#N/A"},false,false,false,false,false,false,{"$error":"#N/A"},0,0,0,0,0,null,{"$f":"OFFSET(InputIndexData!F$15,CalculationsAndCharts!$A2252+$A$11,IF($C$7,8,0),1,1)","v":0},0,1,1,true,null,212,{"$error":"#N/A"}]
[2225,{"$f":"OFFSET(InputPriceData!B$15,CalculationsAndCharts!$A2257+$A$11,0,1,1)","v":"00:00:00"},{"$f":"OFFSET(InputPriceData!G$15,CalculationsAndCharts!$A2257+$A$11,IF($C$7,8,0),1,1)","v":0},{"$f":"OFFSET(InputPriceData!C$15,CalculationsAndCharts!$A2257+$A$11,IF($C$7,8,0),1,1)","v":0},{"$f":"OFFSET(InputPriceData!D$15,CalculationsAndCharts!$A2257+$A$11,IF($C$7,8,0),1,1)","v":0},{"$f":"OFFSET(InputPriceData!E$15,CalculationsAndCharts!$A2257+$A$11,IF($C$7,8,0),1,1)","v":0},{"$f":"OFFSET(InputPriceData!F$15,CalculationsAndCharts!$A2257+$A$11,IF($C$7,8,0),1,1)","v":0},0,0,0,0,0,0,{"$error":"#N/A"},false,0,false,{"$error":"#N/A"},{"$error":"#N/A"},true,false,false,false,false,false,{"$error":"#N/A"},false,{"$error":"#N/A"},false,false,false,false,false,false,{"$error":"#N/A"},0,0,0,0,0,null,{"$f":"OFFSET(InputIndexData!F$15,CalculationsAndCharts!$A2257+$A$11,IF($C$7,8,0),1,1)","v":0},0,1,1,true,null,212,{"$error":"#N/A"}]
[2228,{"$f":"OFFSET(InputPriceData!B$15,CalculationsAndCharts!$A2260+$A$11,0,1,1)","v":"00:00:00"},{"$f":"OFFSET(InputPriceData!G$15,CalculationsAndCharts!$A2260+$A$11,IF($C$7,8,0),1,1)","v":0},{"$f":"OFFSET(InputPriceData!C$15,CalculationsAndCharts!$A2260+$A$11,IF($C$7,8,0),1,1)","v":0},{"$f":"OFFSET(InputPriceData!D$15,CalculationsAndCharts!$A2260+$A$11,IF($C$7,8,0),1,1)","v":0},{"$f":"OFFSET(InputPriceData!E$15,CalculationsAndCharts!$A2260+$A$11,IF($C$7,8,0),1,1)","v":0},{"$f":"OFFSET(InputPriceData!F$15,CalculationsAndCharts!$A2260+$A$11,IF($C$7,8,0),1,1)","v":0},0,0,0,0,0,0,{"$error":"#N/A"},false,0,false,{"$error":"#N/A"},{"$error":"#N/A"},true,false,false,false,false,false,{"$error":"#N/A"},false,{"$error":"#N/A"},false,false,false,false,false,false,{"$error":"#N/A"},0,0,0,0,0,null,{"$f":"OFFSET(InputIndexData!F$15,CalculationsAndCharts!$A2260+$A$11,IF($C$7,8,0),1,1)","v":0},0,1,1,true,null,212,{"$error":"#N/A"}]
[2234,{"$f":"OFFSET(InputPriceData!B$15,CalculationsAndCharts!$A2266+$A$11,0,1,1)","v":"00:00:00"},{"$f":"OFFSET(InputPriceData!G$15,CalculationsAndCharts!$A2266+$A$11,IF($C$7,8,0),1,1)","v":0},{"$f":"OFFSET(InputPriceData!C$15,CalculationsAndCharts!$A2266+$A$11,IF($C$7,8,0),1,1)","v":0},{"$f":"OFFSET(InputPriceData!D$15,CalculationsAndCharts!$A2266+$A$11,IF($C$7,8,0),1,1)","v":0},{"$f":"OFFSET(InputPriceData!E$15,CalculationsAndCharts!$A2266+$A$11,IF($C$7,8,0),1,1)","v":0},{"$f":"OFFSET(InputPriceData!F$15,CalculationsAndCharts!$A2266+$A$11,IF($C$7,8,0),1,1)","v":0},0,0,0,0,0,0,{"$error":"#N/A"},false,0,false,{"$error":"#N/A"},{"$error":"#N/A"},true,false,false,false,false,false,{"$error":"#N/A"},false,{"$error":"#N/A"},false,false,false,false,false,false,{"$error":"#N/A"},0,0,0,0,0,null,{"$f":"OFFSET(InputIndexData!F$15,CalculationsAndCharts!$A2266+$A$11,IF($C$7,8,0),1,1)","v":0},0,1,1,true,null,212,{"$error":"#N/A"}]
[2235,{"$f":"OFFSET(InputPriceData!B$15,CalculationsAndCharts!$A2267+$A$11,0,1,1)","v":"00:00:00"},{"$f":"OFFSET(InputPriceData!G$15,CalculationsAndCharts!$A2267+$A$11,IF($C$7,8,0),1,1)","v":0},{"$f":"OFFSET(InputPriceData!C$15,CalculationsAndCharts!$A2267+$A$11,IF($C$7,8,0),1,1)","v":0},{"$f":"OFFSET(InputPriceData!D$15,CalculationsAndCharts!$A2267+$A$11,IF($C$7,8,0),1,1)","v":0},{"$f":"OFFSET(InputPriceData!E$15,CalculationsAndCharts!$A2267+$A$11,IF($C$7,8,0),1,1)","v":0},{"$f":"OFFSET(InputPriceData!F$15,CalculationsAndCharts!$A2267+$A$11,IF($C$7,8,0),1,1)","v":0},0,0,0,0,0,0,{"$error":"#N/A"},false,0,false,{"$error":"#N/A"},{"$error":"#N/A"},true,false,false,false,false,false,{"$error":"#N/A"},false,{"$error":"#N/A"},false,false,false,false,false,false,{"$error":"#N/A"},0,0,0,0,0,null,{"$f":"OFFSET(InputIndexData!F$15,CalculationsAndCharts!$A2267+$A$11,IF($C$7,8,0),1,1)","v":0},0,1,1,true,null,212,{"$error":"#N/A"}]
[2240,{"$f":"OFFSET(InputPriceData!B$15,CalculationsAndCharts!$A2272+$A$11,0,1,1)","v":"00:00:00"},{"$f":"OFFSET(InputPriceData!G$15,CalculationsAndCharts!$A2272+$A$11,IF($C$7,8,0),1,1)","v":0},{"$f":"OFFSET(InputPriceData!C$15,CalculationsAndCharts!$A2272+$A$11,IF($C$7,8,0),1,1)","v":0},{"$f":"OFFSET(InputPriceData!D$15,CalculationsAndCharts!$A2272+$A$11,IF($C$7,8,0),1,1)","v":0},{"$f":"OFFSET(InputPriceData!E$15,CalculationsAndCharts!$A2272+$A$11,IF($C$7,8,0),1,1)","v":0},{"$f":"OFFSET(InputPriceData!F$15,CalculationsAndCharts!$A2272+$A$11,IF($C$7,8,0),1,1)","v":0},0,0,0,0,0,0,{"$error":"#N/A"},false,0,false,{"$error":"#N/A"},{"$error":"#N/A"},true,false,false,false,false,false,{"$error":"#N/A"},false,{"$error":"#N/A"},false,false,false,false,false,false,{"$error":"#N/A"},0,0,0,0,0,null,{"$f":"OFFSET(InputIndexData!F$15,CalculationsAndCharts!$A2272+$A$11,IF($C$7,8,0),1,1)","v":0},0,1,1,true,null,212,{"$error":"#N/A"}]
[2245,{"$f":"OFFSET(InputPriceData!B$15,CalculationsAndCharts!$A2277+$A$11,0,1,1)","v":"00:00:00"},{"$f":"OFFSET(InputPriceData!G$15,CalculationsAndCharts!$A2277+$A$11,IF($C$7,8,0),1,1)","v":0},{"$f":"OFFSET(InputPriceData!C$15,CalculationsAndCharts!$A2277+$A$11,IF($C$7,8,0),1,1)","v":0},{"$f":"OFFSET(InputPriceData!D$15,CalculationsAndCharts!$A2277+$A$11,IF($C$7,8,0),1,1)","v":0},{"$f":"OFFSET(InputPriceData!E$15,CalculationsAndCharts!$A2277+$A$11,IF($C$7,8,0),1,1)","v":0},{"$f":"OFFSET(InputPriceData!F$15,CalculationsAndCharts!$A2277+$A$11,IF($C$7,8,0),1,1)","v":0},0,0,0,0,0,0,{"$error":"#N/A"},false,0,false,{"$error":"#N/A"},{"$error":"#N/A"},true,false,false,false,false,false,{"$error":"#N/A"},false,{"$error":"#N/A"},false,false,false,false,false,false,{"$error":"#N/A"},0,0,0,0,0,null,{"$f":"OFFSET(InputIndexData!F$15,CalculationsAndCharts!$A2277+$A$11,IF($C$7,8,0),1,1)","v":0},0,1,1,true,null,212,{"$error":"#N/A"}]
[2250,{"$f":"OFFSET(InputPriceData!B$15,CalculationsAndCharts!$A2282+$A$11,0,1,1)","v":"00:00:00"},{"$f":"OFFSET(InputPriceData!G$15,CalculationsAndCharts!$A2282+$A$11,IF($C$7,8,0),1,1)","v":0},{"$f":"OFFSET(InputPriceData!C$15,CalculationsAndCharts!$A2282+$A$11,IF($C$7,8,0),1,1)","v":0},{"$f":"OFFSET(InputPriceData!D$15,CalculationsAndCharts!$A2282+$A$11,IF($C$7,8,0),1,1)","v":0},{"$f":"OFFSET(InputPriceData!E$15,CalculationsAndCharts!$A2282+$A$11,IF($C$7,8,0),1,1)","v":0},{"$f":"OFFSET(InputPriceData!F$15,CalculationsAndCharts!$A2282+$A$11,IF($C$7,8,0),1,1)","v":0},0,0,0,0,0,0,{"$error":"#N/A"},false,0,false,{"$error":"#N/A"},{"$error":"#N/A"},true,false,false,false,false,false,{"$error":"#N/A"},false,{"$error":"#N/A"},false,false,false,false,false,false,{"$error":"#N/A"},0,0,0,0,0,null,{"$f":"OFFSET(InputIndexData!F$15,CalculationsAndCharts!$A2282+$A$11,IF($C$7,8,0),1,1)","v":0},0,1,1,true,null,212,{"$error":"#N/A"}]
[2253,{"$f":"OFFSET(InputPriceData!B$15,CalculationsAndCharts!$A2285+$A$11,0,1,1)","v":"00:00:00"},{"$f":"OFFSET(InputPriceData!G$15,CalculationsAndCharts!$A2285+$A$11,IF($C$7,8,0),1,1)","v":0},{"$f":"OFFSET(InputPriceData!C$15,CalculationsAndCharts!$A2285+$A$11,IF($C$7,8,0),1,1)","v":0},{"$f":"OFFSET(InputPriceData!D$15,CalculationsAndCharts!$A2285+$A$11,IF($C$7,8,0),1,1)","v":0},{"$f":"OFFSET(InputPriceData!E$15,CalculationsAndCharts!$A2285+$A$11,IF($C$7,8,0),1,1)","v":0},{"$f":"OFFSET(InputPriceData!F$15,CalculationsAndCharts!$A2285+$A$11,IF($C$7,8,0),1,1)","v":0},0,0,0,0,0,0,{"$error":"#N/A"},false,0,false,{"$error":"#N/A"},{"$error":"#N/A"},true,false,false,false,false,false,{"$error":"#N/A"},false,{"$error":"#N/A"},false,false,false,false,false,false,{"$error":"#N/A"},0,0,0,0,0,null,{"$f":"OFFSET(InputIndexData!F$15,CalculationsAndCharts!$A2285+$A$11,IF($C$7,8,0),1,1)","v":0},0,1,1,true,null,212,{"$error":"#N/A"}]
[2255,{"$f":"OFFSET(InputPriceData!B$15,CalculationsAndCharts!$A2287+$A$11,0,1,1)","v":"00:00:00"},{"$f":"OFFSET(InputPriceData!G$15,CalculationsAndCharts!$A2287+$A$11,IF($C$7,8,0),1,1)","v":0},{"$f":"OFFSET(InputPriceData!C$15,CalculationsAndCharts!$A2287+$A$11,IF($C$7,8,0),1,1)","v":0},{"$f":"OFFSET(InputPriceData!D$15,CalculationsAndCharts!$A2287+$A$11,IF($C$7,8,0),1,1)","v":0},{"$f":"OFFSET(InputPriceData!E$15,CalculationsAndCharts!$A2287+$A$11,IF($C$7,8,0),1,1)","v":0},{"$f":"OFFSET(InputPriceData!F$15,CalculationsAndCharts!$A2287+$A$11,IF($C$7,8,0),1,1)","v":0},0,0,0,0,0,0,{"$error":"#N/A"},false,0,false,{"$error":"#N/A"},{"$error":"#N/A"},true,false,false,false,false,false,{"$error":"#N/A"},false,{"$error":"#N/A"},false,false,false,false,false,false,{"$error":"#N/A"},0,0,0,0,0,null,{"$f":"OFFSET(InputIndexData!F$15,CalculationsAndCharts!$A2287+$A$11,IF($C$7,8,0),1,1)","v":0},0,1,1,true,null,212,{"$error":"#N/A"}]
[2260,{"$f":"OFFSET(InputPriceData!B$15,CalculationsAndCharts!$A2292+$A$11,0,1,1)","v":"00:00:00"},{"$f":"OFFSET(InputPriceData!G$15,CalculationsAndCharts!$A2292+$A$11,IF($C$7,8,0),1,1)","v":0},{"$f":"OFFSET(InputPriceData!C$15,CalculationsAndCharts!$A2292+$A$11,IF($C$7,8,0),1,1)","v":0},{"$f":"OFFSET(InputPriceData!D$15,CalculationsAndCharts!$A2292+$A$11,IF($C$7,8,0),1,1)","v":0},{"$f":"OFFSET(InputPriceData!E$15,CalculationsAndCharts!$A2292+$A$11,IF($C$7,8,0),1,1)","v":0},{"$f":"OFFSET(InputPriceData!F$15,CalculationsAndCharts!$A2292+$A$11,IF($C$7,8,0),1,1)","v":0},0,0,0,0,0,0,{"$error":"#N/A"},false,0,false,{"$error":"#N/A"},{"$error":"#N/A"},true,false,false,false,false,false,{"$error":"#N/A"},false,{"$error":"#N/A"},false,false,false,false,false,false,{"$error":"#N/A"},0,0,0,0,0,null,{"$f":"OFFSET(InputIndexData!F$15,CalculationsAndCharts!$A2292+$A$11,IF($C$7,8,0),1,1)","v":0},0,1,1,true,null,212,{"$error":"#N/A"}]
[2265,{"$f":"OFFSET(InputPriceData!B$15,CalculationsAndCharts!$A2297+$A$11,0,1,1)","v":"00:00:00"},{"$f":"OFFSET(InputPriceData!G$15,CalculationsAndCharts!$A2297+$A$11,IF($C$7,8,0),1,1)","v":0},{"$f":"OFFSET(InputPriceData!C$15,CalculationsAndCharts!$A2297+$A$11,IF($C$7,8,0),1,1)","v":0},{"$f":"OFFSET(InputPriceData!D$15,CalculationsAndCharts!$A2297+$A$11,IF($C$7,8,0),1,1)","v":0},{"$f":"OFFSET(InputPriceData!E$15,CalculationsAndCharts!$A2297+$A$11,IF($C$7,8,0),1,1)","v":0},{"$f":"OFFSET(InputPriceData!F$15,CalculationsAndCharts!$A2297+$A$11,IF($C$7,8,0),1,1)","v":0},0,0,0,0,0,0,{"$error":"#N/A"},false,0,false,{"$error":"#N/A"},{"$error":"#N/A"},true,false,false,false,false,false,{"$error":"#N/A"},false,{"$error":"#N/A"},false,false,false,false,false,false,{"$error":"#N/A"},0,0,0,0,0,null,{"$f":"OFFSET(InputIndexData!F$15,CalculationsAndCharts!$A2297+$A$11,IF($C$7,8,0),1,1)","v":0},0,1,1,true,null,212,{"$error":"#N/A"}]
[2266,{"$f":"OFFSET(InputPriceData!B$15,CalculationsAndCharts!$A2298+$A$11,0,1,1)","v":"00:00:00"},{"$f":"OFFSET(InputPriceData!G$15,CalculationsAndCharts!$A2298+$A$11,IF($C$7,8,0),1,1)","v":0},{"$f":"OFFSET(InputPriceData!C$15,CalculationsAndCharts!$A2298+$A$11,IF($C$7,8,0),1,1)","v":0},{"$f":"OFFSET(InputPriceData!D$15,CalculationsAndCharts!$A2298+$A$11,IF($C$7,8,0),1,1)","v":0},{"$f":"OFFSET(InputPriceData!E$15,CalculationsAndCharts!$A2298+$A$11,IF($C$7,8,0),1,1)","v":0},{"$f":"OFFSET(InputPriceData!F$15,CalculationsAndCharts!$A2298+$A$11,IF($C$7,8,0),1,1)","v":0},0,0,0,0,0,0,{"$error":"#N/A"},false,0,false,{"$error":"#N/A"},{"$error":"#N/A"},true,false,false,false,false,false,{"$error":"#N/A"},false,{"$error":"#N/A"},{"$f":"AND(   OR(NOT($R$11),NOT(AT2298)),   OR(NOT($R$12),J2298<=I2298),   OR(NOT($R$13),I2298<=H2298),   OR(NOT($R$14),G2298<=I2298)   )","v":false},false,false,false,false,false,{"$error":"#N/A"},0,0,0,0,0,null,{"$f":"OFFSET(InputIndexData!F$15,CalculationsAndCharts!$A2298+$A$11,IF($C$7,8,0),1,1)","v":0},0,1,1,true,null,212,{"$error":"#N/A"}]
[2271,{"$f":"OFFSET(InputPriceData!B$15,CalculationsAndCharts!$A2303+$A$11,0,1,1)","v":"00:00:00"},{"$f":"OFFSET(InputPriceData!G$15,CalculationsAndCharts!$A2303+$A$11,IF($C$7,8,0),1,1)","v":0},{"$f":"OFFSET(InputPriceData!C$15,CalculationsAndCharts!$A2303+$A$11,IF($C$7,8,0),1,1)","v":0},{"$f":"OFFSET(InputPriceData!D$15,CalculationsAndCharts!$A2303+$A$11,IF($C$7,8,0),1,1)","v":0},{"$f":"OFFSET(InputPriceData!E$15,CalculationsAndCharts!$A2303+$A$11,IF($C$7,8,0),1,1)","v":0},{"$f":"OFFSET(InputPriceData!F$15,CalculationsAndCharts!$A2303+$A$11,IF($C$7,8,0),1,1)","v":0},0,0,0,0,0,0,{"$error":"#N/A"},false,0,false,{"$error":"#N/A"},{"$error":"#N/A"},true,false,false,false,false,false,{"$error":"#N/A"},false,{"$error":"#N/A"},false,false,false,false,false,false,{"$error":"#N/A"},0,0,0,0,0,null,{"$f":"OFFSET(InputIndexData!F$15,CalculationsAndCharts!$A2303+$A$11,IF($C$7,8,0),1,1)","v":0},0,1,1,true,null,212,{"$error":"#N/A"}]
[2275,{"$f":"OFFSET(InputPriceData!B$15,CalculationsAndCharts!$A2307+$A$11,0,1,1)","v":"00:00:00"},{"$f":"OFFSET(InputPriceData!G$15,CalculationsAndCharts!$A2307+$A$11,IF($C$7,8,0),1,1)","v":0},{"$f":"OFFSET(InputPriceData!C$15,CalculationsAndCharts!$A2307+$A$11,IF($C$7,8,0),1,1)","v":0},{"$f":"OFFSET(InputPriceData!D$15,CalculationsAndCharts!$A2307+$A$11,IF($C$7,8,0),1,1)","v":0},{"$f":"OFFSET(InputPriceData!E$15,CalculationsAndCharts!$A2307+$A$11,IF($C$7,8,0),1,1)","v":0},{"$f":"OFFSET(InputPriceData!F$15,CalculationsAndCharts!$A2307+$A$11,IF($C$7,8,0),1,1)","v":0},0,0,0,0,0,0,{"$error":"#N/A"},false,0,false,{"$error":"#N/A"},{"$error":"#N/A"},true,false,false,{"$f":"IF(V2307,TRUE,IF(X2308,FALSE,W2308))","v":false},false,false,{"$error":"#N/A"},false,{"$error":"#N/A"},false,false,false,false,false,false,{"$error":"#N/A"},0,0,0,0,0,null,{"$f":"OFFSET(InputIndexData!F$15,CalculationsAndCharts!$A2307+$A$11,IF($C$7,8,0),1,1)","v":0},0,1,1,true,null,212,{"$error":"#N/A"}]
[2280,{"$f":"OFFSET(InputPriceData!B$15,CalculationsAndCharts!$A2312+$A$11,0,1,1)","v":"00:00:00"},{"$f":"OFFSET(InputPriceData!G$15,CalculationsAndCharts!$A2312+$A$11,IF($C$7,8,0),1,1)","v":0},{"$f":"OFFSET(InputPriceData!C$15,CalculationsAndCharts!$A2312+$A$11,IF($C$7,8,0),1,1)","v":0},{"$f":"OFFSET(InputPriceData!D$15,CalculationsAndCharts!$A2312+$A$11,IF($C$7,8,0),1,1)","v":0},{"$f":"OFFSET(InputPriceData!E$15,CalculationsAndCharts!$A2312+$A$11,IF($C$7,8,0),1,1)","v":0},{"$f":"OFFSET(InputPriceData!F$15,CalculationsAndCharts!$A2312+$A$11,IF($C$7,8,0),1,1)","v":0},0,0,0,0,0,0,{"$error":"#N/A"},false,0,false,{"$error":"#N/A"},{"$error":"#N/A"},true,false,false,false,false,false,{"$error":"#N/A"},false,{"$error":"#N/A"},false,false,false,false,false,false,{"$error":"#N/A"},0,0,0,0,0,null,{"$f":"OFFSET(InputIndexData!F$15,CalculationsAndCharts!$A2312+$A$11,IF($C$7,8,0),1,1)","v":0},0,1,1,true,null,212,{"$error":"#N/A"}]
[2281,{"$f":"OFFSET(InputPriceData!B$15,CalculationsAndCharts!$A2313+$A$11,0,1,1)","v":"00:00:00"},{"$f":"OFFSET(InputPriceData!G$15,CalculationsAndCharts!$A2313+$A$11,IF($C$7,8,0),1,1)","v":0},{"$f":"OFFSET(InputPriceData!C$15,CalculationsAndCharts!$A2313+$A$11,IF($C$7,8,0),1,1)","v":0},{"$f":"OFFSET(InputPriceData!D$15,CalculationsAndCharts!$A2313+$A$11,IF($C$7,8,0),1,1)","v":0},{"$f":"OFFSET(InputPriceData!E$15,CalculationsAndCharts!$A2313+$A$11,IF($C$7,8,0),1,1)","v":0},{"$f":"OFFSET(InputPriceData!F$15,CalculationsAndCharts!$A2313+$A$11,IF($C$7,8,0),1,1)","v":0},0,0,0,0,0,0,{"$error":"#N/A"},false,0,false,{"$error":"#N/A"},{"$error":"#N/A"},true,false,false,false,false,false,{"$error":"#N/A"},false,{"$error":"#N/A"},false,false,false,false,false,false,{"$error":"#N/A"},0,0,0,0,0,null,{"$f":"OFFSET(InputIndexData!F$15,CalculationsAndCharts!$A2313+$A$11,IF($C$7,8,0),1,1)","v":0},0,1,1,true,null,212,{"$error":"#N/A"}]
[2286,{"$f":"OFFSET(InputPriceData!B$15,CalculationsAndCharts!$A2318+$A$11,0,1,1)","v":"00:00:00"},{"$f":"OFFSET(InputPriceData!G$15,CalculationsAndCharts!$A2318+$A$11,IF($C$7,8,0),1,1)","v":0},{"$f":"OFFSET(InputPriceData!C$15,CalculationsAndCharts!$A2318+$A$11,IF($C$7,8,0),1,1)","v":0},{"$f":"OFFSET(InputPriceData!D$15,CalculationsAndCharts!$A2318+$A$11,IF($C$7,8,0),1,1)","v":0},{"$f":"OFFSET(InputPriceData!E$15,CalculationsAndCharts!$A2318+$A$11,IF($C$7,8,0),1,1)","v":0},{"$f":"OFFSET(InputPriceData!F$15,CalculationsAndCharts!$A2318+$A$11,IF($C$7,8,0),1,1)","v":0},0,0,0,0,0,0,{"$error":"#N/A"},false,0,false,{"$error":"#N/A"},{"$error":"#N/A"},true,false,false,false,false,false,{"$error":"#N/A"},false,{"$error":"#N/A"},false,false,false,false,false,false,{"$error":"#N/A"},0,0,0,0,0,null,{"$f":"OFFSET(InputIndexData!F$15,CalculationsAndCharts!$A2318+$A$11,IF($C$7,8,0),1,1)","v":0},0,1,1,true,null,212,{"$error":"#N/A"}]
[2291,{"$f":"OFFSET(InputPriceData!B$15,CalculationsAndCharts!$A2323+$A$11,0,1,1)","v":"00:00:00"},{"$f":"OFFSET(InputPriceData!G$15,CalculationsAndCharts!$A2323+$A$11,IF($C$7,8,0),1,1)","v":0},{"$f":"OFFSET(InputPriceData!C$15,CalculationsAndCharts!$A2323+$A$11,IF($C$7,8,0),1,1)","v":0},{"$f":"OFFSET(InputPriceData!D$15,CalculationsAndCharts!$A2323+$A$11,IF($C$7,8,0),1,1)","v":0},{"$f":"OFFSET(InputPriceData!E$15,CalculationsAndCharts!$A2323+$A$11,IF($C$7,8,0),1,1)","v":0},{"$f":"OFFSET(InputPriceData!F$15,CalculationsAndCharts!$A2323+$A$11,IF($C$7,8,0),1,1)","v":0},0,0,0,0,0,0,{"$error":"#N/A"},false,0,false,{"$error":"#N/A"},{"$error":"#N/A"},true,false,false,false,false,false,{"$error":"#N/A"},false,{"$error":"#N/A"},false,false,false,false,false,false,{"$error":"#N/A"},0,0,0,0,0,null,{"$f":"OFFSET(InputIndexData!F$15,CalculationsAndCharts!$A2323+$A$11,IF($C$7,8,0),1,1)","v":0},0,1,1,true,null,212,{"$error":"#N/A"}]
[2293,{"$f":"OFFSET(InputPriceData!B$15,CalculationsAndCharts!$A2325+$A$11,0,1,1)","v":"00:00:00"},{"$f":"OFFSET(InputPriceData!G$15,CalculationsAndCharts!$A2325+$A$11,IF($C$7,8,0),1,1)","v":0},{"$f":"OFFSET(InputPriceData!C$15,CalculationsAndCharts!$A2325+$A$11,IF($C$7,8,0),1,1)","v":0},{"$f":"OFFSET(InputPriceData!D$15,CalculationsAndCharts!$A2325+$A$11,IF($C$7,8,0),1,1)","v":0},{"$f":"OFFSET(InputPriceData!E$15,CalculationsAndCharts!$A2325+$A$11,IF($C$7,8,0),1,1)","v":0},{"$f":"OFFSET(InputPriceData!F$15,CalculationsAndCharts!$A2325+$A$11,IF($C$7,8,0),1,1)","v":0},0,0,0,0,0,0,{"$error":"#N/A"},false,0,false,{"$error":"#N/A"},{"$error":"#N/A"},true,false,false,false,false,false,{"$error":"#N/A"},false,{"$error":"#N/A"},false,false,false,false,false,false,{"$error":"#N/A"},0,0,0,0,0,null,{"$f":"OFFSET(InputIndexData!F$15,CalculationsAndCharts!$A2325+$A$11,IF($C$7,8,0),1,1)","v":0},0,1,1,true,null,212,{"$error":"#N/A"}]
[2296,{"$f":"OFFSET(InputPriceData!B$15,CalculationsAndCharts!$A2328+$A$11,0,1,1)","v":"00:00:00"},{"$f":"OFFSET(InputPriceData!G$15,CalculationsAndCharts!$A2328+$A$11,IF($C$7,8,0),1,1)","v":0},{"$f":"OFFSET(InputPriceData!C$15,CalculationsAndCharts!$A2328+$A$11,IF($C$7,8,0),1,1)","v":0},{"$f":"OFFSET(InputPriceData!D$15,CalculationsAndCharts!$A2328+$A$11,IF($C$7,8,0),1,1)","v":0},{"$f":"OFFSET(InputPriceData!E$15,CalculationsAndCharts!$A2328+$A$11,IF($C$7,8,0),1,1)","v":0},{"$f":"OFFSET(InputPriceData!F$15,CalculationsAndCharts!$A2328+$A$11,IF($C$7,8,0),1,1)","v":0},0,0,0,0,0,0,{"$error":"#N/A"},false,0,false,{"$error":"#N/A"},{"$error":"#N/A"},true,false,false,false,false,false,{"$error":"#N/A"},false,{"$error":"#N/A"},false,false,false,false,false,false,{"$error":"#N/A"},0,0,0,0,0,null,{"$f":"OFFSET(InputIndexData!F$15,CalculationsAndCharts!$A2328+$A$11,IF($C$7,8,0),1,1)","v":0},0,1,1,true,null,212,{"$error":"#N/A"}]
[2301,{"$f":"OFFSET(InputPriceData!B$15,CalculationsAndCharts!$A2333+$A$11,0,1,1)","v":"00:00:00"},{"$f":"OFFSET(InputPriceData!G$15,CalculationsAndCharts!$A2333+$A$11,IF($C$7,8,0),1,1)","v":0},{"$f":"OFFSET(InputPriceData!C$15,CalculationsAndCharts!$A2333+$A$11,IF($C$7,8,0),1,1)","v":0},{"$f":"OFFSET(InputPriceData!D$15,CalculationsAndCharts!$A2333+$A$11,IF($C$7,8,0),1,1)","v":0},{"$f":"OFFSET(InputPriceData!E$15,CalculationsAndCharts!$A2333+$A$11,IF($C$7,8,0),1,1)","v":0},{"$f":"OFFSET(InputPriceData!F$15,CalculationsAndCharts!$A2333+$A$11,IF($C$7,8,0),1,1)","v":0},0,0,0,0,0,0,{"$error":"#N/A"},false,0,false,{"$error":"#N/A"},{"$error":"#N/A"},true,false,false,false,false,false,{"$error":"#N/A"},false,{"$error":"#N/A"},false,false,false,false,false,false,{"$error":"#N/A"},0,0,0,0,0,null,{"$f":"OFFSET(InputIndexData!F$15,CalculationsAndCharts!$A2333+$A$11,IF($C$7,8,0),1,1)","v":0},0,1,1,true,null,212,{"$error":"#N/A"}]
[2306,{"$f":"OFFSET(InputPriceData!B$15,CalculationsAndCharts!$A2338+$A$11,0,1,1)","v":"00:00:00"},{"$f":"OFFSET(InputPriceData!G$15,CalculationsAndCharts!$A2338+$A$11,IF($C$7,8,0),1,1)","v":0},{"$f":"OFFSET(InputPriceData!C$15,CalculationsAndCharts!$A2338+$A$11,IF($C$7,8,0),1,1)","v":0},{"$f":"OFFSET(InputPriceData!D$15,CalculationsAndCharts!$A2338+$A$11,IF($C$7,8,0),1,1)","v":0},{"$f":"OFFSET(InputPriceData!E$15,CalculationsAndCharts!$A2338+$A$11,IF($C$7,8,0),1,1)","v":0},{"$f":"OFFSET(InputPriceData!F$15,CalculationsAndCharts!$A2338+$A$11,IF($C$7,8,0),1,1)","v":0},0,0,0,0,0,{"$f":"IF(D2338<=G2338,C2338,NA())","v":0},{"$f":"IF(D2338<=G2338,NA(),C2338)","v":{"$error":"#N/A"}},false,0,false,{"$error":"#N/A"},{"$error":"#N/A"},{"$f":"AND(OR(NOT($R$11),AT2338),OR(NOT($R$12),J2338>=I2338),OR(NOT($R$13),I2338>=H2338),OR(NOT($R$14),G2338>=I2338))","v":true},false,false,false,false,false,{"$error":"#N/A"},false,{"$error":"#N/A"},false,false,false,{"$f":"IF(AE2338,TRUE,IF(AG2339,FALSE,AF2339))","v":false},{"$f":"AND(AF2338,O2338)","v":false},false,{"$error":"#N/A"},{"$f":"IF($R$3,H2338,NA())","v":0},{"$f":"IF($R$4,I2338,NA())","v":0},{"$f":"IF($R$5,J2338,NA())","v":0},{"$f":"IF($R$6,K2338,NA())","v":0},{"$f":"IF($R$6,L2338,NA())","v":0},null,{"$f":"OFFSET(InputIndexData!F$15,CalculationsAndCharts!$A2338+$A$11,IF($C$7,8,0),1,1)","v":0},{"$f":"AVERAGE(OFFSET(AP2338,0,0,$D$17,1))","v":0},{"$f":"IF(AQ2338-AQ2339>=0,1,-1)","v":1},{"$f":"AVERAGE(OFFSET(AR2338,0,0,$D$18,1))","v":1},{"$f":"OR(AS2338>0,AND(AS2338=0,AS2339>0))","v":true},null,212,{"$error":"#N/A"}]
[2311,{"$f":"OFFSET(InputPriceData!B$15,CalculationsAndCharts!$A2343+$A$11,0,1,1)","v":"00:00:00"},{"$f":"OFFSET(InputPriceData!G$15,CalculationsAndCharts!$A2343+$A$11,IF($C$7,8,0),1,1)","v":0},{"$f":"OFFSET(InputPriceData!C$15,CalculationsAndCharts!$A2343+$A$11,IF($C$7,8,0),1,1)","v":0},{"$f":"OFFSET(InputPriceData!D$15,CalculationsAndCharts!$A2343+$A$11,IF($C$7,8,0),1,1)","v":0},{"$f":"OFFSET(InputPriceData!E$15,CalculationsAndCharts!$A2343+$A$11,IF($C$7,8,0),1,1)","v":0},{"$f":"OFFSET(InputPriceData!F$15,CalculationsAndCharts!$A2343+$A$11,IF($C$7,8,0),1,1)","v":0},0,0,0,0,0,0,{"$error":"#N/A"},false,0,false,{"$error":"#N/A"},{"$error":"#N/A"},true,false,false,false,false,false,{"$error":"#N/A"},false,{"$error":"#N/A"},false,false,false,false,false,false,{"$error":"#N/A"},0,0,0,0,0,null,{"$f":"OFFSET(InputIndexData!F$15,CalculationsAndCharts!$A2343+$A$11,IF($C$7,8,0),1,1)","v":0},0,1,1,true,null,212,{"$error":"#N/A"}]
[2314,{"$f":"OFFSET(InputPriceData!B$15,CalculationsAndCharts!$A2346+$A$11,0,1,1)","v":"00:00:00"},{"$f":"OFFSET(InputPriceData!G$15,CalculationsAndCharts!$A2346+$A$11,IF($C$7,8,0),1,1)","v":0},{"$f":"OFFSET(InputPriceData!C$15,CalculationsAndCharts!$A2346+$A$11,IF($C$7,8,0),1,1)","v":0},{"$f":"OFFSET(InputPriceData!D$15,CalculationsAndCharts!$A2346+$A$11,IF($C$7,8,0),1,1)","v":0},{"$f":"OFFSET(InputPriceData!E$15,CalculationsAndCharts!$A2346+$A$11,IF($C$7,8,0),1,1)","v":0},{"$f":"OFFSET(InputPriceData!F$15,CalculationsAndCharts!$A2346+$A$11,IF($C$7,8,0),1,1)","v":0},0,0,0,0,0,0,{"$error":"#N/A"},false,0,false,{"$error":"#N/A"},{"$error":"#N/A"},true,false,false,false,false,false,{"$error":"#N/A"},false,{"$error":"#N/A"},false,false,false,false,false,false,{"$error":"#N/A"},0,0,0,0,0,null,{"$f":"OFFSET(InputIndexData!F$15,CalculationsAndCharts!$A2346+$A$11,IF($C$7,8,0),1,1)","v":0},0,1,1,true,null,212,{"$error":"#N/A"}]
[2316,{"$f":"OFFSET(InputPriceData!B$15,CalculationsAndCharts!$A2348+$A$11,0,1,1)","v":"00:00:00"},{"$f":"OFFSET(InputPriceData!G$15,CalculationsAndCharts!$A2348+$A$11,IF($C$7,8,0),1,1)","v":0},{"$f":"OFFSET(InputPriceData!C$15,CalculationsAndCharts!$A2348+$A$11,IF($C$7,8,0),1,1)","v":0},{"$f":"OFFSET(InputPriceData!D$15,CalculationsAndCharts!$A2348+$A$11,IF($C$7,8,0),1,1)","v":0},{"$f":"OFFSET(InputPriceData!E$15,CalculationsAndCharts!$A2348+$A$11,IF($C$7,8,0),1,1)","v":0},{"$f":"OFFSET(InputPriceData!F$15,CalculationsAndCharts!$A2348+$A$11,IF($C$7,8,0),1,1)","v":0},0,0,0,0,0,0,{"$error":"#N/A"},false,0,false,{"$error":"#N/A"},{"$error":"#N/A"},true,false,false,false,false,false,{"$error":"#N/A"},false,{"$error":"#N/A"},false,false,false,false,false,false,{"$error":"#N/A"},0,0,0,0,0,null,{"$f":"OFFSET(InputIndexData!F$15,CalculationsAndCharts!$A2348+$A$11,IF($C$7,8,0),1,1)","v":0},0,1,1,true,null,212,{"$error":"#N/A"}]
[2321,{"$f":"OFFSET(InputPriceData!B$15,CalculationsAndCharts!$A2353+$A$11,0,1,1)","v":"00:00:00"},{"$f":"OFFSET(InputPriceData!G$15,CalculationsAndCharts!$A2353+$A$11,IF($C$7,8,0),1,1)","v":0},{"$f":"OFFSET(InputPriceData!C$15,CalculationsAndCharts!$A2353+$A$11,IF($C$7,8,0),1,1)","v":0},{"$f":"OFFSET(InputPriceData!D$15,CalculationsAndCharts!$A2353+$A$11,IF($C$7,8,0),1,1)","v":0},{"$f":"OFFSET(InputPriceData!E$15,CalculationsAndCharts!$A2353+$A$11,IF($C$7,8,0),1,1)","v":0},{"$f":"OFFSET(InputPriceData!F$15,CalculationsAndCharts!$A2353+$A$11,IF($C$7,8,0),1,1)","v":0},0,0,0,0,0,0,{"$error":"#N/A"},false,0,false,{"$error":"#N/A"},{"$error":"#N/A"},true,false,false,false,false,false,{"$error":"#N/A"},false,{"$error":"#N/A"},false,false,false,false,false,false,{"$error":"#N/A"},0,0,0,0,0,null,{"$f":"OFFSET(InputIndexData!F$15,CalculationsAndCharts!$A2353+$A$11,IF($C$7,8,0),1,1)","v":0},0,1,1,true,null,212,{"$error":"#N/A"}]
[2326,{"$f":"OFFSET(InputPriceData!B$15,CalculationsAndCharts!$A2358+$A$11,0,1,1)","v":"00:00:00"},{"$f":"OFFSET(InputPriceData!G$15,CalculationsAndCharts!$A2358+$A$11,IF($C$7,8,0),1,1)","v":0},{"$f":"OFFSET(InputPriceData!C$15,CalculationsAndCharts!$A2358+$A$11,IF($C$7,8,0),1,1)","v":0},{"$f":"OFFSET(InputPriceData!D$15,CalculationsAndCharts!$A2358+$A$11,IF($C$7,8,0),1,1)","v":0},{"$f":"OFFSET(InputPriceData!E$15,CalculationsAndCharts!$A2358+$A$11,IF($C$7,8,0),1,1)","v":0},{"$f":"OFFSET(InputPriceData!F$15,CalculationsAndCharts!$A2358+$A$11,IF($C$7,8,0),1,1)","v":0},0,0,0,0,0,0,{"$error":"#N/A"},false,0,false,{"$error":"#N/A"},{"$error":"#N/A"},true,false,false,false,false,false,{"$error":"#N/A"},false,{"$error":"#N/A"},false,false,false,false,false,false,{"$error":"#N/A"},0,0,0,0,0,null,{"$f":"OFFSET(InputIndexData!F$15,CalculationsAndCharts!$A2358+$A$11,IF($C$7,8,0),1,1)","v":0},0,1,1,true,null,212,{"$error":"#N/A"}]
[2327,{"$f":"OFFSET(InputPriceData!B$15,CalculationsAndCharts!$A2359+$A$11,0,1,1)","v":"00:00:00"},{"$f":"OFFSET(InputPriceData!G$15,CalculationsAndCharts!$A2359+$A$11,IF($C$7,8,0),1,1)","v":0},{"$f":"OFFSET(InputPriceData!C$15,CalculationsAndCharts!$A2359+$A$11,IF($C$7,8,0),1,1)","v":0},{"$f":"OFFSET(InputPriceData!D$15,CalculationsAndCharts!$A2359+$A$11,IF($C$7,8,0),1,1)","v":0},{"$f":"OFFSET(InputPriceData!E$15,CalculationsAndCharts!$A2359+$A$11,IF($C$7,8,0),1,1)","v":0},{"$f":"OFFSET(InputPriceData!F$15,CalculationsAndCharts!$A2359+$A$11,IF($C$7,8,0),1,1)","v":0},0,0,0,0,0,0,{"$error":"#N/A"},false,0,false,{"$error":"#N/A"},{"$error":"#N/A"},true,false,false,false,false,false,{"$error":"#N/A"},false,{"$error":"#N/A"},false,false,false,false,false,false,{"$error":"#N/A"},0,0,0,0,0,null,{"$f":"OFFSET(InputIndexData!F$15,CalculationsAndCharts!$A2359+$A$11,IF($C$7,8,0),1,1)","v":0},0,1,1,true,null,212,{"$error":"#N/A"}]
[2332,{"$f":"OFFSET(InputPriceData!B$15,CalculationsAndCharts!$A2364+$A$11,0,1,1)","v":"00:00:00"},{"$f":"OFFSET(InputPriceData!G$15,CalculationsAndCharts!$A2364+$A$11,IF($C$7,8,0),1,1)","v":0},{"$f":"OFFSET(InputPriceData!C$15,CalculationsAndCharts!$A2364+$A$11,IF($C$7,8,0),1,1)","v":0},{"$f":"OFFSET(InputPriceData!D$15,CalculationsAndCharts!$A2364+$A$11,IF($C$7,8,0),1,1)","v":0},{"$f":"OFFSET(InputPriceData!E$15,CalculationsAndCharts!$A2364+$A$11,IF($C$7,8,0),1,1)","v":0},{"$f":"OFFSET(InputPriceData!F$15,CalculationsAndCharts!$A2364+$A$11,IF($C$7,8,0),1,1)","v":0},0,0,0,0,0,0,{"$error":"#N/A"},false,0,false,{"$error":"#N/A"},{"$error":"#N/A"},true,false,false,false,false,false,{"$error":"#N/A"},false,{"$error":"#N/A"},false,false,false,false,false,false,{"$error":"#N/A"},0,0,0,0,0,null,{"$f":"OFFSET(InputIndexData!F$15,CalculationsAndCharts!$A2364+$A$11,IF($C$7,8,0),1,1)","v":0},0,1,1,true,null,212,{"$error":"#N/A"}]
[2336,{"$f":"OFFSET(InputPriceData!B$15,CalculationsAndCharts!$A2368+$A$11,0,1,1)","v":"00:00:00"},{"$f":"OFFSET(InputPriceData!G$15,CalculationsAndCharts!$A2368+$A$11,IF($C$7,8,0),1,1)","v":0},{"$f":"OFFSET(InputPriceData!C$15,CalculationsAndCharts!$A2368+$A$11,IF($C$7,8,0),1,1)","v":0},{"$f":"OFFSET(InputPriceData!D$15,CalculationsAndCharts!$A2368+$A$11,IF($C$7,8,0),1,1)","v":0},{"$f":"OFFSET(InputPriceData!E$15,CalculationsAndCharts!$A2368+$A$11,IF($C$7,8,0),1,1)","v":0},{"$f":"OFFSET(InputPriceData!F$15,CalculationsAndCharts!$A2368+$A$11,IF($C$7,8,0),1,1)","v":0},0,0,0,0,0,0,{"$error":"#N/A"},false,0,false,{"$error":"#N/A"},{"$error":"#N/A"},true,false,false,false,false,false,{"$error":"#N/A"},false,{"$error":"#N/A"},false,false,false,false,false,false,{"$error":"#N/A"},0,0,0,0,0,null,{"$f":"OFFSET(InputIndexData!F$15,CalculationsAndCharts!$A2368+$A$11,IF($C$7,8,0),1,1)","v":0},0,1,1,true,null,212,{"$error":"#N/A"}]
[2341,{"$f":"OFFSET(InputPriceData!B$15,CalculationsAndCharts!$A2373+$A$11,0,1,1)","v":"00:00:00"},{"$f":"OFFSET(InputPriceData!G$15,CalculationsAndCharts!$A2373+$A$11,IF($C$7,8,0),1,1)","v":0},{"$f":"OFFSET(InputPriceData!C$15,CalculationsAndCharts!$A2373+$A$11,IF($C$7,8,0),1,1)","v":0},{"$f":"OFFSET(InputPriceData!D$15,CalculationsAndCharts!$A2373+$A$11,IF($C$7,8,0),1,1)","v":0},{"$f":"OFFSET(InputPriceData!E$15,CalculationsAndCharts!$A2373+$A$11,IF($C$7,8,0),1,1)","v":0},{"$f":"OFFSET(InputPriceData!F$15,CalculationsAndCharts!$A2373+$A$11,IF($C$7,8,0),1,1)","v":0},0,0,0,0,0,0,{"$error":"#N/A"},false,0,false,{"$error":"#N/A"},{"$error":"#N/A"},true,false,false,false,false,false,{"$error":"#N/A"},false,{"$error":"#N/A"},false,false,false,false,false,false,{"$error":"#N/A"},0,0,0,0,0,null,{"$f":"OFFSET(InputIndexData!F$15,CalculationsAndCharts!$A2373+$A$11,IF($C$7,8,0),1,1)","v":0},0,1,1,true,null,212,{"$error":"#N/A"}]
[2342,{"$f":"OFFSET(InputPriceData!B$15,CalculationsAndCharts!$A2374+$A$11,0,1,1)","v":"00:00:00"},{"$f":"OFFSET(InputPriceData!G$15,CalculationsAndCharts!$A2374+$A$11,IF($C$7,8,0),1,1)","v":0},{"$f":"OFFSET(InputPriceData!C$15,CalculationsAndCharts!$A2374+$A$11,IF($C$7,8,0),1,1)","v":0},{"$f":"OFFSET(InputPriceData!D$15,CalculationsAndCharts!$A2374+$A$11,IF($C$7,8,0),1,1)","v":0},{"$f":"OFFSET(InputPriceData!E$15,CalculationsAndCharts!$A2374+$A$11,IF($C$7,8,0),1,1)","v":0},{"$f":"OFFSET(InputPriceData!F$15,CalculationsAndCharts!$A2374+$A$11,IF($C$7,8,0),1,1)","v":0},0,0,0,0,0,0,{"$error":"#N/A"},false,0,false,{"$error":"#N/A"},{"$error":"#N/A"},true,false,false,false,false,false,{"$error":"#N/A"},false,{"$error":"#N/A"},false,false,false,false,false,false,{"$error":"#N/A"},0,0,0,0,0,null,{"$f":"OFFSET(InputIndexData!F$15,CalculationsAndCharts!$A2374+$A$11,IF($C$7,8,0),1,1)","v":0},0,1,1,true,null,212,{"$error":"#N/A"}]
[2347,{"$f":"OFFSET(InputPriceData!B$15,CalculationsAndCharts!$A2379+$A$11,0,1,1)","v":"00:00:00"},{"$f":"OFFSET(InputPriceData!G$15,CalculationsAndCharts!$A2379+$A$11,IF($C$7,8,0),1,1)","v":0},{"$f":"OFFSET(InputPriceData!C$15,CalculationsAndCharts!$A2379+$A$11,IF($C$7,8,0),1,1)","v":0},{"$f":"OFFSET(InputPriceData!D$15,CalculationsAndCharts!$A2379+$A$11,IF($C$7,8,0),1,1)","v":0},{"$f":"OFFSET(InputPriceData!E$15,CalculationsAndCharts!$A2379+$A$11,IF($C$7,8,0),1,1)","v":0},{"$f":"OFFSET(InputPriceData!F$15,CalculationsAndCharts!$A2379+$A$11,IF($C$7,8,0),1,1)","v":0},0,0,0,0,0,0,{"$error":"#N/A"},false,0,false,{"$error":"#N/A"},{"$error":"#N/A"},true,false,false,false,false,false,{"$error":"#N/A"},false,{"$error":"#N/A"},false,false,false,false,false,false,{"$error":"#N/A"},0,0,0,0,0,null,{"$f":"OFFSET(InputIndexData!F$15,CalculationsAndCharts!$A2379+$A$11,IF($C$7,8,0),1,1)","v":0},0,1,1,true,null,212,{"$error":"#N/A"}]
[2352,{"$f":"OFFSET(InputPriceData!B$15,CalculationsAndCharts!$A2384+$A$11,0,1,1)","v":"00:00:00"},{"$f":"OFFSET(InputPriceData!G$15,CalculationsAndCharts!$A2384+$A$11,IF($C$7,8,0),1,1)","v":0},{"$f":"OFFSET(InputPriceData!C$15,CalculationsAndCharts!$A2384+$A$11,IF($C$7,8,0),1,1)","v":0},{"$f":"OFFSET(InputPriceData!D$15,CalculationsAndCharts!$A2384+$A$11,IF($C$7,8,0),1,1)","v":0},{"$f":"OFFSET(InputPriceData!E$15,CalculationsAndCharts!$A2384+$A$11,IF($C$7,8,0),1,1)","v":0},{"$f":"OFFSET(InputPriceData!F$15,CalculationsAndCharts!$A2384+$A$11,IF($C$7,8,0),1,1)","v":0},0,0,0,0,0,0,{"$error":"#N/A"},false,0,false,{"$error":"#N/A"},{"$error":"#N/A"},true,false,false,false,false,false,{"$error":"#N/A"},false,{"$error":"#N/A"},false,false,false,false,false,false,{"$error":"#N/A"},0,0,0,0,0,null,{"$f":"OFFSET(InputIndexData!F$15,CalculationsAndCharts!$A2384+$A$11,IF($C$7,8,0),1,1)","v":0},0,1,1,true,null,212,{"$error":"#N/A"}]
[2354,{"$f":"OFFSET(InputPriceData!B$15,CalculationsAndCharts!$A2386+$A$11,0,1,1)","v":"00:00:00"},{"$f":"OFFSET(InputPriceData!G$15,CalculationsAndCharts!$A2386+$A$11,IF($C$7,8,0),1,1)","v":0},{"$f":"OFFSET(InputPriceData!C$15,CalculationsAndCharts!$A2386+$A$11,IF($C$7,8,0),1,1)","v":0},{"$f":"OFFSET(InputPriceData!D$15,CalculationsAndCharts!$A2386+$A$11,IF($C$7,8,0),1,1)","v":0},{"$f":"OFFSET(InputPriceData!E$15,CalculationsAndCharts!$A2386+$A$11,IF($C$7,8,0),1,1)","v":0},{"$f":"OFFSET(InputPriceData!F$15,CalculationsAndCharts!$A2386+$A$11,IF($C$7,8,0),1,1)","v":0},0,0,0,0,0,0,{"$error":"#N/A"},false,0,false,{"$error":"#N/A"},{"$error":"#N/A"},true,false,false,false,false,false,{"$error":"#N/A"},false,{"$error":"#N/A"},false,false,false,false,false,false,{"$error":"#N/A"},0,0,0,0,0,null,{"$f":"OFFSET(InputIndexData!F$15,CalculationsAndCharts!$A2386+$A$11,IF($C$7,8,0),1,1)","v":0},0,1,1,true,null,212,{"$error":"#N/A"}]
[2357,{"$f":"OFFSET(InputPriceData!B$15,CalculationsAndCharts!$A2389+$A$11,0,1,1)","v":"00:00:00"},{"$f":"OFFSET(InputPriceData!G$15,CalculationsAndCharts!$A2389+$A$11,IF($C$7,8,0),1,1)","v":0},{"$f":"OFFSET(InputPriceData!C$15,CalculationsAndCharts!$A2389+$A$11,IF($C$7,8,0),1,1)","v":0},{"$f":"OFFSET(InputPriceData!D$15,CalculationsAndCharts!$A2389+$A$11,IF($C$7,8,0),1,1)","v":0},{"$f":"OFFSET(InputPriceData!E$15,CalculationsAndCharts!$A2389+$A$11,IF($C$7,8,0),1,1)","v":0},{"$f":"OFFSET(InputPriceData!F$15,CalculationsAndCharts!$A2389+$A$11,IF($C$7,8,0),1,1)","v":0},0,0,0,0,0,0,{"$error":"#N/A"},false,0,false,{"$error":"#N/A"},{"$error":"#N/A"},true,false,false,false,false,false,{"$error":"#N/A"},false,{"$error":"#N/A"},false,false,false,false,false,false,{"$error":"#N/A"},0,0,0,0,0,null,{"$f":"OFFSET(InputIndexData!F$15,CalculationsAndCharts!$A2389+$A$11,IF($C$7,8,0),1,1)","v":0},0,1,1,true,null,212,{"$error":"#N/A"}]
[2362,{"$f":"OFFSET(InputPriceData!B$15,CalculationsAndCharts!$A2394+$A$11,0,1,1)","v":"00:00:00"},{"$f":"OFFSET(InputPriceData!G$15,CalculationsAndCharts!$A2394+$A$11,IF($C$7,8,0),1,1)","v":0},{"$f":"OFFSET(InputPriceData!C$15,CalculationsAndCharts!$A2394+$A$11,IF($C$7,8,0),1,1)","v":0},{"$f":"OFFSET(InputPriceData!D$15,CalculationsAndCharts!$A2394+$A$11,IF($C$7,8,0),1,1)","v":0},{"$f":"OFFSET(InputPriceData!E$15,CalculationsAndCharts!$A2394+$A$11,IF($C$7,8,0),1,1)","v":0},{"$f":"OFFSET(InputPriceData!F$15,CalculationsAndCharts!$A2394+$A$11,IF($C$7,8,0),1,1)","v":0},0,0,0,0,0,0,{"$error":"#N/A"},false,0,false,{"$error":"#N/A"},{"$error":"#N/A"},true,false,false,false,false,false,{"$error":"#N/A"},false,{"$error":"#N/A"},false,false,false,false,false,false,{"$error":"#N/A"},0,0,0,0,0,null,{"$f":"OFFSET(InputIndexData!F$15,CalculationsAndCharts!$A2394+$A$11,IF($C$7,8,0),1,1)","v":0},0,1,1,true,null,212,{"$error":"#N/A"}]
[2367,{"$f":"OFFSET(InputPriceData!B$15,CalculationsAndCharts!$A2399+$A$11,0,1,1)","v":"00:00:00"},{"$f":"OFFSET(InputPriceData!G$15,CalculationsAndCharts!$A2399+$A$11,IF($C$7,8,0),1,1)","v":0},{"$f":"OFFSET(InputPriceData!C$15,CalculationsAndCharts!$A2399+$A$11,IF($C$7,8,0),1,1)","v":0},{"$f":"OFFSET(InputPriceData!D$15,CalculationsAndCharts!$A2399+$A$11,IF($C$7,8,0),1,1)","v":0},{"$f":"OFFSET(InputPriceData!E$15,CalculationsAndCharts!$A2399+$A$11,IF($C$7,8,0),1,1)","v":0},{"$f":"OFFSET(InputPriceData!F$15,CalculationsAndCharts!$A2399+$A$11,IF($C$7,8,0),1,1)","v":0},0,0,0,0,0,0,{"$error":"#N/A"},false,0,false,{"$error":"#N/A"},{"$error":"#N/A"},true,false,false,false,false,false,{"$error":"#N/A"},false,{"$error":"#N/A"},false,false,false,false,false,false,{"$error":"#N/A"},0,0,0,0,0,null,{"$f":"OFFSET(InputIndexData!F$15,CalculationsAndCharts!$A2399+$A$11,IF($C$7,8,0),1,1)","v":0},0,1,1,true,null,212,{"$error":"#N/A"}]
[2372,{"$f":"OFFSET(InputPriceData!B$15,CalculationsAndCharts!$A2404+$A$11,0,1,1)","v":"00:00:00"},{"$f":"OFFSET(InputPriceData!G$15,CalculationsAndCharts!$A2404+$A$11,IF($C$7,8,0),1,1)","v":0},{"$f":"OFFSET(InputPriceData!C$15,CalculationsAndCharts!$A2404+$A$11,IF($C$7,8,0),1,1)","v":0},{"$f":"OFFSET(InputPriceData!D$15,CalculationsAndCharts!$A2404+$A$11,IF($C$7,8,0),1,1)","v":0},{"$f":"OFFSET(InputPriceData!E$15,CalculationsAndCharts!$A2404+$A$11,IF($C$7,8,0),1,1)","v":0},{"$f":"OFFSET(InputPriceData!F$15,CalculationsAndCharts!$A2404+$A$11,IF($C$7,8,0),1,1)","v":0},0,0,0,0,0,0,{"$error":"#N/A"},false,0,false,{"$error":"#N/A"},{"$error":"#N/A"},true,false,false,false,false,false,{"$error":"#N/A"},false,{"$error":"#N/A"},false,false,false,false,false,false,{"$error":"#N/A"},0,0,0,0,0,null,{"$f":"OFFSET(InputIndexData!F$15,CalculationsAndCharts!$A2404+$A$11,IF($C$7,8,0),1,1)","v":0},0,1,1,true,null,212,{"$error":"#N/A"}]
[2373,{"$f":"OFFSET(InputPriceData!B$15,CalculationsAndCharts!$A2405+$A$11,0,1,1)","v":"00:00:00"},{"$f":"OFFSET(InputPriceData!G$15,CalculationsAndCharts!$A2405+$A$11,IF($C$7,8,0),1,1)","v":0},{"$f":"OFFSET(InputPriceData!C$15,CalculationsAndCharts!$A2405+$A$11,IF($C$7,8,0),1,1)","v":0},{"$f":"OFFSET(InputPriceData!D$15,CalculationsAndCharts!$A2405+$A$11,IF($C$7,8,0),1,1)","v":0},{"$f":"OFFSET(InputPriceData!E$15,CalculationsAndCharts!$A2405+$A$11,IF($C$7,8,0),1,1)","v":0},{"$f":"OFFSET(InputPriceData!F$15,CalculationsAndCharts!$A2405+$A$11,IF($C$7,8,0),1,1)","v":0},0,0,0,0,0,0,{"$error":"#N/A"},false,0,false,{"$error":"#N/A"},{"$error":"#N/A"},true,false,false,false,false,false,{"$error":"#N/A"},false,{"$error":"#N/A"},false,false,false,false,false,false,{"$error":"#N/A"},0,0,0,0,0,null,{"$f":"OFFSET(InputIndexData!F$15,CalculationsAndCharts!$A2405+$A$11,IF($C$7,8,0),1,1)","v":0},0,1,1,true,null,212,{"$error":"#N/A"}]
[2377,{"$f":"OFFSET(InputPriceData!B$15,CalculationsAndCharts!$A2409+$A$11,0,1,1)","v":"00:00:00"},{"$f":"OFFSET(InputPriceData!G$15,CalculationsAndCharts!$A2409+$A$11,IF($C$7,8,0),1,1)","v":0},{"$f":"OFFSET(InputPriceData!C$15,CalculationsAndCharts!$A2409+$A$11,IF($C$7,8,0),1,1)","v":0},{"$f":"OFFSET(InputPriceData!D$15,CalculationsAndCharts!$A2409+$A$11,IF($C$7,8,0),1,1)","v":0},{"$f":"OFFSET(InputPriceData!E$15,CalculationsAndCharts!$A2409+$A$11,IF($C$7,8,0),1,1)","v":0},{"$f":"OFFSET(InputPriceData!F$15,CalculationsAndCharts!$A2409+$A$11,IF($C$7,8,0),1,1)","v":0},0,0,0,0,0,0,{"$error":"#N/A"},false,0,false,{"$f":"IF(O2409,G2409,NA())","v":{"$error":"#N/A"}},{"$f":"IF(Q2409,G2409,NA())","v":{"$error":"#N/A"}},true,false,false,false,false,false,{"$error":"#N/A"},false,{"$error":"#N/A"},false,false,false,false,false,false,{"$error":"#N/A"},0,0,0,0,0,null,{"$f":"OFFSET(InputIndexData!F$15,CalculationsAndCharts!$A2409+$A$11,IF($C$7,8,0),1,1)","v":0},0,1,1,true,null,212,{"$error":"#N/A"}]
[2378,{"$f":"OFFSET(InputPriceData!B$15,CalculationsAndCharts!$A2410+$A$11,0,1,1)","v":"00:00:00"},{"$f":"OFFSET(InputPriceData!G$15,CalculationsAndCharts!$A2410+$A$11,IF($C$7,8,0),1,1)","v":0},{"$f":"OFFSET(InputPriceData!C$15,CalculationsAndCharts!$A2410+$A$11,IF($C$7,8,0),1,1)","v":0},{"$f":"OFFSET(InputPriceData!D$15,CalculationsAndCharts!$A2410+$A$11,IF($C$7,8,0),1,1)","v":0},{"$f":"OFFSET(InputPriceData!E$15,CalculationsAndCharts!$A2410+$A$11,IF($C$7,8,0),1,1)","v":0},{"$f":"OFFSET(InputPriceData!F$15,CalculationsAndCharts!$A2410+$A$11,IF($C$7,8,0),1,1)","v":0},0,0,0,0,0,0,{"$error":"#N/A"},false,0,false,{"$error":"#N/A"},{"$error":"#N/A"},true,false,false,false,false,false,{"$error":"#N/A"},false,{"$error":"#N/A"},false,false,false,false,false,false,{"$error":"#N/A"},0,0,0,0,0,null,{"$f":"OFFSET(InputIndexData!F$15,CalculationsAndCharts!$A2410+$A$11,IF($C$7,8,0),1,1)","v":0},0,1,1,true,null,212,{"$error":"#N/A"}]
[2379,{"$f":"OFFSET(InputPriceData!B$15,CalculationsAndCharts!$A2411+$A$11,0,1,1)","v":"00:00:00"},{"$f":"OFFSET(InputPriceData!G$15,CalculationsAndCharts!$A2411+$A$11,IF($C$7,8,0),1,1)","v":0},{"$f":"OFFSET(InputPriceData!C$15,CalculationsAndCharts!$A2411+$A$11,IF($C$7,8,0),1,1)","v":0},{"$f":"OFFSET(InputPriceData!D$15,CalculationsAndCharts!$A2411+$A$11,IF($C$7,8,0),1,1)","v":0},{"$f":"OFFSET(InputPriceData!E$15,CalculationsAndCharts!$A2411+$A$11,IF($C$7,8,0),1,1)","v":0},{"$f":"OFFSET(InputPriceData!F$15,CalculationsAndCharts!$A2411+$A$11,IF($C$7,8,0),1,1)","v":0},0,0,0,0,0,0,{"$error":"#N/A"},false,0,false,{"$error":"#N/A"},{"$error":"#N/A"},true,false,false,false,false,false,{"$error":"#N/A"},false,{"$error":"#N/A"},false,false,false,false,false,false,{"$error":"#N/A"},0,0,0,0,0,null,{"$f":"OFFSET(InputIndexData!F$15,CalculationsAndCharts!$A2411+$A$11,IF($C$7,8,0),1,1)","v":0},0,1,1,true,null,212,{"$error":"#N/A"}]
[2380,{"$f":"OFFSET(InputPriceData!B$15,CalculationsAndCharts!$A2412+$A$11,0,1,1)","v":"00:00:00"},{"$f":"OFFSET(InputPriceData!G$15,CalculationsAndCharts!$A2412+$A$11,IF($C$7,8,0),1,1)","v":0},{"$f":"OFFSET(InputPriceData!C$15,CalculationsAndCharts!$A2412+$A$11,IF($C$7,8,0),1,1)","v":0},{"$f":"OFFSET(InputPriceData!D$15,CalculationsAndCharts!$A2412+$A$11,IF($C$7,8,0),1,1)","v":0},{"$f":"OFFSET(InputPriceData!E$15,CalculationsAndCharts!$A2412+$A$11,IF($C$7,8,0),1,1)","v":0},{"$f":"OFFSET(InputPriceData!F$15,CalculationsAndCharts!$A2412+$A$11,IF($C$7,8,0),1,1)","v":0},0,0,0,0,0,0,{"$error":"#N/A"},false,0,false,{"$error":"#N/A"},{"$error":"#N/A"},true,false,false,false,false,false,{"$error":"#N/A"},false,{"$error":"#N/A"},false,false,false,false,false,false,{"$error":"#N/A"},0,0,0,0,0,null,{"$f":"OFFSET(InputIndexData!F$15,CalculationsAndCharts!$A2412+$A$11,IF($C$7,8,0),1,1)","v":0},0,1,1,true,null,212,{"$error":"#N/A"}]
[2381,{"$f":"OFFSET(InputPriceData!B$15,CalculationsAndCharts!$A2413+$A$11,0,1,1)","v":"00:00:00"},{"$f":"OFFSET(InputPriceData!G$15,CalculationsAndCharts!$A2413+$A$11,IF($C$7,8,0),1,1)","v":0},{"$f":"OFFSET(InputPriceData!C$15,CalculationsAndCharts!$A2413+$A$11,IF($C$7,8,0),1,1)","v":0},{"$f":"OFFSET(InputPriceData!D$15,CalculationsAndCharts!$A2413+$A$11,IF($C$7,8,0),1,1)","v":0},{"$f":"OFFSET(InputPriceData!E$15,CalculationsAndCharts!$A2413+$A$11,IF($C$7,8,0),1,1)","v":0},{"$f":"OFFSET(InputPriceData!F$15,CalculationsAndCharts!$A2413+$A$11,IF($C$7,8,0),1,1)","v":0},0,0,0,0,0,0,{"$error":"#N/A"},false,0,false,{"$error":"#N/A"},{"$error":"#N/A"},true,false,false,false,false,false,{"$error":"#N/A"},false,{"$error":"#N/A"},false,false,false,false,false,false,{"$error":"#N/A"},0,0,0,0,0,null,{"$f":"OFFSET(InputIndexData!F$15,CalculationsAndCharts!$A2413+$A$11,IF($C$7,8,0),1,1)","v":0},0,1,1,true,null,212,{"$error":"#N/A"}]
[2382,{"$f":"OFFSET(InputPriceData!B$15,CalculationsAndCharts!$A2414+$A$11,0,1,1)","v":"00:00:00"},{"$f":"OFFSET(InputPriceData!G$15,CalculationsAndCharts!$A2414+$A$11,IF($C$7,8,0),1,1)","v":0},{"$f":"OFFSET(InputPriceData!C$15,CalculationsAndCharts!$A2414+$A$11,IF($C$7,8,0),1,1)","v":0},{"$f":"OFFSET(InputPriceData!D$15,CalculationsAndCharts!$A2414+$A$11,IF($C$7,8,0),1,1)","v":0},{"$f":"OFFSET(InputPriceData!E$15,CalculationsAndCharts!$A2414+$A$11,IF($C$7,8,0),1,1)","v":0},{"$f":"OFFSET(InputPriceData!F$15,CalculationsAndCharts!$A2414+$A$11,IF($C$7,8,0),1,1)","v":0},0,0,0,0,0,0,{"$error":"#N/A"},false,0,false,{"$error":"#N/A"},{"$error":"#N/A"},true,false,false,false,false,false,{"$error":"#N/A"},false,{"$error":"#N/A"},false,false,false,false,false,false,{"$error":"#N/A"},0,0,0,0,0,null,{"$f":"OFFSET(InputIndexData!F$15,CalculationsAndCharts!$A2414+$A$11,IF($C$7,8,0),1,1)","v":0},0,1,1,true,null,212,{"$error":"#N/A"}]
[2383,{"$f":"OFFSET(InputPriceData!B$15,CalculationsAndCharts!$A2415+$A$11,0,1,1)","v":"00:00:00"},{"$f":"OFFSET(InputPriceData!G$15,CalculationsAndCharts!$A2415+$A$11,IF($C$7,8,0),1,1)","v":0},{"$f":"OFFSET(InputPriceData!C$15,CalculationsAndCharts!$A2415+$A$11,IF($C$7,8,0),1,1)","v":0},{"$f":"OFFSET(InputPriceData!D$15,CalculationsAndCharts!$A2415+$A$11,IF($C$7,8,0),1,1)","v":0},{"$f":"OFFSET(InputPriceData!E$15,CalculationsAndCharts!$A2415+$A$11,IF($C$7,8,0),1,1)","v":0},{"$f":"OFFSET(InputPriceData!F$15,CalculationsAndCharts!$A2415+$A$11,IF($C$7,8,0),1,1)","v":0},0,0,0,0,0,0,{"$error":"#N/A"},false,0,false,{"$error":"#N/A"},{"$error":"#N/A"},true,false,false,false,false,false,{"$error":"#N/A"},false,{"$error":"#N/A"},false,false,false,false,false,false,{"$error":"#N/A"},0,0,0,0,0,null,{"$f":"OFFSET(InputIndexData!F$15,CalculationsAndCharts!$A2415+$A$11,IF($C$7,8,0),1,1)","v":0},0,1,1,true,null,212,{"$error":"#N/A"}]
[2384,{"$f":"OFFSET(InputPriceData!B$15,CalculationsAndCharts!$A2416+$A$11,0,1,1)","v":"00:00:00"},{"$f":"OFFSET(InputPriceData!G$15,CalculationsAndCharts!$A2416+$A$11,IF($C$7,8,0),1,1)","v":0},{"$f":"OFFSET(InputPriceData!C$15,CalculationsAndCharts!$A2416+$A$11,IF($C$7,8,0),1,1)","v":0},{"$f":"OFFSET(InputPriceData!D$15,CalculationsAndCharts!$A2416+$A$11,IF($C$7,8,0),1,1)","v":0},{"$f":"OFFSET(InputPriceData!E$15,CalculationsAndCharts!$A2416+$A$11,IF($C$7,8,0),1,1)","v":0},{"$f":"OFFSET(InputPriceData!F$15,CalculationsAndCharts!$A2416+$A$11,IF($C$7,8,0),1,1)","v":0},0,0,0,0,0,0,{"$error":"#N/A"},false,0,false,{"$error":"#N/A"},{"$error":"#N/A"},true,false,false,false,false,false,{"$error":"#N/A"},{"$f":"AND(OR(W2416,Y2416),OR(AF2416,AH2416))","v":false},{"$error":"#N/A"},false,false,false,false,false,false,{"$error":"#N/A"},0,0,0,0,0,null,{"$f":"OFFSET(InputIndexData!F$15,CalculationsAndCharts!$A2416+$A$11,IF($C$7,8,0),1,1)","v":0},0,1,1,true,null,212,{"$error":"#N/A"}]
[2385,{"$f":"OFFSET(InputPriceData!B$15,CalculationsAndCharts!$A2417+$A$11,0,1,1)","v":"00:00:00"},{"$f":"OFFSET(InputPriceData!G$15,CalculationsAndCharts!$A2417+$A$11,IF($C$7,8,0),1,1)","v":0},{"$f":"OFFSET(InputPriceData!C$15,CalculationsAndCharts!$A2417+$A$11,IF($C$7,8,0),1,1)","v":0},{"$f":"OFFSET(InputPriceData!D$15,CalculationsAndCharts!$A2417+$A$11,IF($C$7,8,0),1,1)","v":0},{"$f":"OFFSET(InputPriceData!E$15,CalculationsAndCharts!$A2417+$A$11,IF($C$7,8,0),1,1)","v":0},{"$f":"OFFSET(InputPriceData!F$15,CalculationsAndCharts!$A2417+$A$11,IF($C$7,8,0),1,1)","v":0},0,0,0,0,0,0,{"$error":"#N/A"},false,0,false,{"$error":"#N/A"},{"$error":"#N/A"},true,false,false,false,false,false,{"$error":"#N/A"},false,{"$error":"#N/A"},false,false,false,false,false,false,{"$error":"#N/A"},0,0,0,0,0,null,{"$f":"OFFSET(InputIndexData!F$15,CalculationsAndCharts!$A2417+$A$11,IF($C$7,8,0),1,1)","v":0},0,1,1,true,null,212,{"$error":"#N/A"}]
[2386,{"$f":"OFFSET(InputPriceData!B$15,CalculationsAndCharts!$A2418+$A$11,0,1,1)","v":"00:00:00"},{"$f":"OFFSET(InputPriceData!G$15,CalculationsAndCharts!$A2418+$A$11,IF($C$7,8,0),1,1)","v":0},{"$f":"OFFSET(InputPriceData!C$15,CalculationsAndCharts!$A2418+$A$11,IF($C$7,8,0),1,1)","v":0},{"$f":"OFFSET(InputPriceData!D$15,CalculationsAndCharts!$A2418+$A$11,IF($C$7,8,0),1,1)","v":0},{"$f":"OFFSET(InputPriceData!E$15,CalculationsAndCharts!$A2418+$A$11,IF($C$7,8,0),1,1)","v":0},{"$f":"OFFSET(InputPriceData!F$15,CalculationsAndCharts!$A2418+$A$11,IF($C$7,8,0),1,1)","v":0},0,0,0,0,0,0,{"$error":"#N/A"},false,0,false,{"$error":"#N/A"},{"$error":"#N/A"},true,false,false,false,false,false,{"$error":"#N/A"},false,{"$error":"#N/A"},false,false,false,false,false,false,{"$error":"#N/A"},0,0,0,0,0,null,{"$f":"OFFSET(InputIndexData!F$15,CalculationsAndCharts!$A2418+$A$11,IF($C$7,8,0),1,1)","v":0},0,1,1,true,null,212,{"$error":"#N/A"}]
[2387,{"$f":"OFFSET(InputPriceData!B$15,CalculationsAndCharts!$A2419+$A$11,0,1,1)","v":"00:00:00"},{"$f":"OFFSET(InputPriceData!G$15,CalculationsAndCharts!$A2419+$A$11,IF($C$7,8,0),1,1)","v":0},{"$f":"OFFSET(InputPriceData!C$15,CalculationsAndCharts!$A2419+$A$11,IF($C$7,8,0),1,1)","v":0},{"$f":"OFFSET(InputPriceData!D$15,CalculationsAndCharts!$A2419+$A$11,IF($C$7,8,0),1,1)","v":0},{"$f":"OFFSET(InputPriceData!E$15,CalculationsAndCharts!$A2419+$A$11,IF($C$7,8,0),1,1)","v":0},{"$f":"OFFSET(InputPriceData!F$15,CalculationsAndCharts!$A2419+$A$11,IF($C$7,8,0),1,1)","v":0},0,0,0,0,0,0,{"$error":"#N/A"},false,0,false,{"$error":"#N/A"},{"$error":"#N/A"},true,false,false,false,false,{"$f":"X2420","v":false},{"$error":"#N/A"},false,{"$error":"#N/A"},false,false,false,false,false,false,{"$error":"#N/A"},0,0,0,0,0,null,{"$f":"OFFSET(InputIndexData!F$15,CalculationsAndCharts!$A2419+$A$11,IF($C$7,8,0),1,1)","v":0},0,1,1,true,null,212,{"$error":"#N/A"}]
[2388,{"$f":"OFFSET(InputPriceData!B$15,CalculationsAndCharts!$A2420+$A$11,0,1,1)","v":"00:00:00"},{"$f":"OFFSET(InputPriceData!G$15,CalculationsAndCharts!$A2420+$A$11,IF($C$7,8,0),1,1)","v":0},{"$f":"OFFSET(InputPriceData!C$15,CalculationsAndCharts!$A2420+$A$11,IF($C$7,8,0),1,1)","v":0},{"$f":"OFFSET(InputPriceData!D$15,CalculationsAndCharts!$A2420+$A$11,IF($C$7,8,0),1,1)","v":0},{"$f":"OFFSET(InputPriceData!E$15,CalculationsAndCharts!$A2420+$A$11,IF($C$7,8,0),1,1)","v":0},{"$f":"OFFSET(InputPriceData!F$15,CalculationsAndCharts!$A2420+$A$11,IF($C$7,8,0),1,1)","v":0},0,0,0,0,0,0,{"$error":"#N/A"},false,0,false,{"$error":"#N/A"},{"$error":"#N/A"},true,false,false,false,false,false,{"$error":"#N/A"},false,{"$error":"#N/A"},false,false,false,false,false,false,{"$error":"#N/A"},0,0,0,0,0,null,{"$f":"OFFSET(InputIndexData!F$15,CalculationsAndCharts!$A2420+$A$11,IF($C$7,8,0),1,1)","v":0},0,1,1,true,null,212,{"$error":"#N/A"}]
[2389,{"$f":"OFFSET(InputPriceData!B$15,CalculationsAndCharts!$A2421+$A$11,0,1,1)","v":"00:00:00"},{"$f":"OFFSET(InputPriceData!G$15,CalculationsAndCharts!$A2421+$A$11,IF($C$7,8,0),1,1)","v":0},{"$f":"OFFSET(InputPriceData!C$15,CalculationsAndCharts!$A2421+$A$11,IF($C$7,8,0),1,1)","v":0},{"$f":"OFFSET(InputPriceData!D$15,CalculationsAndCharts!$A2421+$A$11,IF($C$7,8,0),1,1)","v":0},{"$f":"OFFSET(InputPriceData!E$15,CalculationsAndCharts!$A2421+$A$11,IF($C$7,8,0),1,1)","v":0},{"$f":"OFFSET(InputPriceData!F$15,CalculationsAndCharts!$A2421+$A$11,IF($C$7,8,0),1,1)","v":0},0,0,0,0,0,0,{"$error":"#N/A"},false,0,false,{"$error":"#N/A"},{"$error":"#N/A"},true,false,false,false,false,false,{"$error":"#N/A"},false,{"$error":"#N/A"},false,false,false,false,false,false,{"$error":"#N/A"},0,0,0,0,0,null,{"$f":"OFFSET(InputIndexData!F$15,CalculationsAndCharts!$A2421+$A$11,IF($C$7,8,0),1,1)","v":0},0,1,1,true,null,212,{"$error":"#N/A"}]
[2390,{"$f":"OFFSET(InputPriceData!B$15,CalculationsAndCharts!$A2422+$A$11,0,1,1)","v":"00:00:00"},{"$f":"OFFSET(InputPriceData!G$15,CalculationsAndCharts!$A2422+$A$11,IF($C$7,8,0),1,1)","v":0},{"$f":"OFFSET(InputPriceData!C$15,CalculationsAndCharts!$A2422+$A$11,IF($C$7,8,0),1,1)","v":0},{"$f":"OFFSET(InputPriceData!D$15,CalculationsAndCharts!$A2422+$A$11,IF($C$7,8,0),1,1)","v":0},{"$f":"OFFSET(InputPriceData!E$15,CalculationsAndCharts!$A2422+$A$11,IF($C$7,8,0),1,1)","v":0},{"$f":"OFFSET(InputPriceData!F$15,CalculationsAndCharts!$A2422+$A$11,IF($C$7,8,0),1,1)","v":0},0,0,0,0,0,0,{"$error":"#N/A"},false,0,false,{"$error":"#N/A"},{"$error":"#N/A"},true,false,false,false,false,false,{"$error":"#N/A"},false,{"$error":"#N/A"},false,false,false,false,false,false,{"$error":"#N/A"},0,0,0,0,0,null,{"$f":"OFFSET(InputIndexData!F$15,CalculationsAndCharts!$A2422+$A$11,IF($C$7,8,0),1,1)","v":0},0,1,1,true,null,212,{"$error":"#N/A"}]
[2391,{"$f":"OFFSET(InputPriceData!B$15,CalculationsAndCharts!$A2423+$A$11,0,1,1)","v":"00:00:00"},{"$f":"OFFSET(InputPriceData!G$15,CalculationsAndCharts!$A2423+$A$11,IF($C$7,8,0),1,1)","v":0},{"$f":"OFFSET(InputPriceData!C$15,CalculationsAndCharts!$A2423+$A$11,IF($C$7,8,0),1,1)","v":0},{"$f":"OFFSET(InputPriceData!D$15,CalculationsAndCharts!$A2423+$A$11,IF($C$7,8,0),1,1)","v":0},{"$f":"OFFSET(InputPriceData!E$15,CalculationsAndCharts!$A2423+$A$11,IF($C$7,8,0),1,1)","v":0},{"$f":"OFFSET(InputPriceData!F$15,CalculationsAndCharts!$A2423+$A$11,IF($C$7,8,0),1,1)","v":0},0,0,0,0,0,0,{"$error":"#N/A"},false,0,false,{"$error":"#N/A"},{"$error":"#N/A"},true,false,false,false,false,false,{"$error":"#N/A"},false,{"$error":"#N/A"},false,false,false,false,false,false,{"$error":"#N/A"},0,0,0,0,0,null,{"$f":"OFFSET(InputIndexData!F$15,CalculationsAndCharts!$A2423+$A$11,IF($C$7,8,0),1,1)","v":0},0,1,1,true,null,212,{"$error":"#N/A"}]
[2392,{"$f":"OFFSET(InputPriceData!B$15,CalculationsAndCharts!$A2424+$A$11,0,1,1)","v":"00:00:00"},{"$f":"OFFSET(InputPriceData!G$15,CalculationsAndCharts!$A2424+$A$11,IF($C$7,8,0),1,1)","v":0},{"$f":"OFFSET(InputPriceData!C$15,CalculationsAndCharts!$A2424+$A$11,IF($C$7,8,0),1,1)","v":0},{"$f":"OFFSET(InputPriceData!D$15,CalculationsAndCharts!$A2424+$A$11,IF($C$7,8,0),1,1)","v":0},{"$f":"OFFSET(InputPriceData!E$15,CalculationsAndCharts!$A2424+$A$11,IF($C$7,8,0),1,1)","v":0},{"$f":"OFFSET(InputPriceData!F$15,CalculationsAndCharts!$A2424+$A$11,IF($C$7,8,0),1,1)","v":0},0,0,0,0,0,0,{"$error":"#N/A"},false,0,false,{"$error":"#N/A"},{"$error":"#N/A"},true,false,false,false,false,false,{"$error":"#N/A"},false,{"$error":"#N/A"},false,false,false,false,false,false,{"$error":"#N/A"},0,0,0,0,0,null,{"$f":"OFFSET(InputIndexData!F$15,CalculationsAndCharts!$A2424+$A$11,IF($C$7,8,0),1,1)","v":0},0,1,1,true,null,212,{"$error":"#N/A"}]
[2393,{"$f":"OFFSET(InputPriceData!B$15,CalculationsAndCharts!$A2425+$A$11,0,1,1)","v":"00:00:00"},{"$f":"OFFSET(InputPriceData!G$15,CalculationsAndCharts!$A2425+$A$11,IF($C$7,8,0),1,1)","v":0},{"$f":"OFFSET(InputPriceData!C$15,CalculationsAndCharts!$A2425+$A$11,IF($C$7,8,0),1,1)","v":0},{"$f":"OFFSET(InputPriceData!D$15,CalculationsAndCharts!$A2425+$A$11,IF($C$7,8,0),1,1)","v":0},{"$f":"OFFSET(InputPriceData!E$15,CalculationsAndCharts!$A2425+$A$11,IF($C$7,8,0),1,1)","v":0},{"$f":"OFFSET(InputPriceData!F$15,CalculationsAndCharts!$A2425+$A$11,IF($C$7,8,0),1,1)","v":0},0,0,0,0,0,0,{"$error":"#N/A"},false,0,false,{"$error":"#N/A"},{"$error":"#N/A"},true,false,false,false,false,false,{"$error":"#N/A"},false,{"$error":"#N/A"},false,false,false,false,false,false,{"$error":"#N/A"},0,0,0,0,0,null,{"$f":"OFFSET(InputIndexData!F$15,CalculationsAndCharts!$A2425+$A$11,IF($C$7,8,0),1,1)","v":0},0,1,1,true,null,212,{"$error":"#N/A"}]
[2394,{"$f":"OFFSET(InputPriceData!B$15,CalculationsAndCharts!$A2426+$A$11,0,1,1)","v":"00:00:00"},{"$f":"OFFSET(InputPriceData!G$15,CalculationsAndCharts!$A2426+$A$11,IF($C$7,8,0),1,1)","v":0},{"$f":"OFFSET(InputPriceData!C$15,CalculationsAndCharts!$A2426+$A$11,IF($C$7,8,0),1,1)","v":0},{"$f":"OFFSET(InputPriceData!D$15,CalculationsAndCharts!$A2426+$A$11,IF($C$7,8,0),1,1)","v":0},{"$f":"OFFSET(InputPriceData!E$15,CalculationsAndCharts!$A2426+$A$11,IF($C$7,8,0),1,1)","v":0},{"$f":"OFFSET(InputPriceData!F$15,CalculationsAndCharts!$A2426+$A$11,IF($C$7,8,0),1,1)","v":0},0,0,0,0,0,0,{"$error":"#N/A"},false,0,false,{"$error":"#N/A"},{"$error":"#N/A"},true,false,false,false,false,false,{"$error":"#N/A"},false,{"$error":"#N/A"},{"$f":"AND(   OR(NOT($R$11),NOT(AT2426)),   OR(NOT($R$12),J2426<=I2426),   OR(NOT($R$13),I2426<=H2426),   OR(NOT($R$14),G2426<=I2426)   )","v":false},false,false,false,false,false,{"$error":"#N/A"},0,0,0,0,0,null,{"$f":"OFFSET(InputIndexData!F$15,CalculationsAndCharts!$A2426+$A$11,IF($C$7,8,0),1,1)","v":0},0,1,1,true,null,212,{"$error":"#N/A"}]
[2395,{"$f":"OFFSET(InputPriceData!B$15,CalculationsAndCharts!$A2427+$A$11,0,1,1)","v":"00:00:00"},{"$f":"OFFSET(InputPriceData!G$15,CalculationsAndCharts!$A2427+$A$11,IF($C$7,8,0),1,1)","v":0},{"$f":"OFFSET(InputPriceData!C$15,CalculationsAndCharts!$A2427+$A$11,IF($C$7,8,0),1,1)","v":0},{"$f":"OFFSET(InputPriceData!D$15,CalculationsAndCharts!$A2427+$A$11,IF($C$7,8,0),1,1)","v":0},{"$f":"OFFSET(InputPriceData!E$15,CalculationsAndCharts!$A2427+$A$11,IF($C$7,8,0),1,1)","v":0},{"$f":"OFFSET(InputPriceData!F$15,CalculationsAndCharts!$A2427+$A$11,IF($C$7,8,0),1,1)","v":0},0,0,0,0,0,0,{"$error":"#N/A"},false,0,false,{"$error":"#N/A"},{"$error":"#N/A"},true,false,false,false,false,false,{"$error":"#N/A"},false,{"$error":"#N/A"},false,false,false,false,false,false,{"$error":"#N/A"},0,0,0,0,0,null,{"$f":"OFFSET(InputIndexData!F$15,CalculationsAndCharts!$A2427+$A$11,IF($C$7,8,0),1,1)","v":0},0,1,1,true,null,212,{"$error":"#N/A"}]
[2396,{"$f":"OFFSET(InputPriceData!B$15,CalculationsAndCharts!$A2428+$A$11,0,1,1)","v":"00:00:00"},{"$f":"OFFSET(InputPriceData!G$15,CalculationsAndCharts!$A2428+$A$11,IF($C$7,8,0),1,1)","v":0},{"$f":"OFFSET(InputPriceData!C$15,CalculationsAndCharts!$A2428+$A$11,IF($C$7,8,0),1,1)","v":0},{"$f":"OFFSET(InputPriceData!D$15,CalculationsAndCharts!$A2428+$A$11,IF($C$7,8,0),1,1)","v":0},{"$f":"OFFSET(InputPriceData!E$15,CalculationsAndCharts!$A2428+$A$11,IF($C$7,8,0),1,1)","v":0},{"$f":"OFFSET(InputPriceData!F$15,CalculationsAndCharts!$A2428+$A$11,IF($C$7,8,0),1,1)","v":0},0,0,0,0,0,0,{"$error":"#N/A"},false,0,false,{"$error":"#N/A"},{"$error":"#N/A"},true,false,false,false,false,false,{"$error":"#N/A"},false,{"$error":"#N/A"},false,false,false,false,false,false,{"$error":"#N/A"},0,0,0,0,0,null,{"$f":"OFFSET(InputIndexData!F$15,CalculationsAndCharts!$A2428+$A$11,IF($C$7,8,0),1,1)","v":0},0,1,1,true,null,212,{"$error":"#N/A"}]
[2397,{"$f":"OFFSET(InputPriceData!B$15,CalculationsAndCharts!$A2429+$A$11,0,1,1)","v":"00:00:00"},{"$f":"OFFSET(InputPriceData!G$15,CalculationsAndCharts!$A2429+$A$11,IF($C$7,8,0),1,1)","v":0},{"$f":"OFFSET(InputPriceData!C$15,CalculationsAndCharts!$A2429+$A$11,IF($C$7,8,0),1,1)","v":0},{"$f":"OFFSET(InputPriceData!D$15,CalculationsAndCharts!$A2429+$A$11,IF($C$7,8,0),1,1)","v":0},{"$f":"OFFSET(InputPriceData!E$15,CalculationsAndCharts!$A2429+$A$11,IF($C$7,8,0),1,1)","v":0},{"$f":"OFFSET(InputPriceData!F$15,CalculationsAndCharts!$A2429+$A$11,IF($C$7,8,0),1,1)","v":0},0,0,0,0,0,0,{"$error":"#N/A"},false,0,false,{"$error":"#N/A"},{"$error":"#N/A"},true,false,false,false,false,false,{"$error":"#N/A"},false,{"$error":"#N/A"},false,false,false,false,false,false,{"$error":"#N/A"},0,0,0,0,0,null,{"$f":"OFFSET(InputIndexData!F$15,CalculationsAndCharts!$A2429+$A$11,IF($C$7,8,0),1,1)","v":0},0,1,1,true,null,212,{"$error":"#N/A"}]
[2398,{"$f":"OFFSET(InputPriceData!B$15,CalculationsAndCharts!$A2430+$A$11,0,1,1)","v":"00:00:00"},{"$f":"OFFSET(InputPriceData!G$15,CalculationsAndCharts!$A2430+$A$11,IF($C$7,8,0),1,1)","v":0},{"$f":"OFFSET(InputPriceData!C$15,CalculationsAndCharts!$A2430+$A$11,IF($C$7,8,0),1,1)","v":0},{"$f":"OFFSET(InputPriceData!D$15,CalculationsAndCharts!$A2430+$A$11,IF($C$7,8,0),1,1)","v":0},{"$f":"OFFSET(InputPriceData!E$15,CalculationsAndCharts!$A2430+$A$11,IF($C$7,8,0),1,1)","v":0},{"$f":"OFFSET(InputPriceData!F$15,CalculationsAndCharts!$A2430+$A$11,IF($C$7,8,0),1,1)","v":0},0,0,0,0,0,0,{"$error":"#N/A"},false,0,false,{"$error":"#N/A"},{"$error":"#N/A"},true,false,{"$f":"U2431","v":false},false,false,false,{"$error":"#N/A"},false,{"$error":"#N/A"},false,false,false,false,false,false,{"$error":"#N/A"},0,0,0,0,0,null,{"$f":"OFFSET(InputIndexData!F$15,CalculationsAndCharts!$A2430+$A$11,IF($C$7,8,0),1,1)","v":0},0,1,1,true,null,212,{"$error":"#N/A"}]
[2399,{"$f":"OFFSET(InputPriceData!B$15,CalculationsAndCharts!$A2431+$A$11,0,1,1)","v":"00:00:00"},{"$f":"OFFSET(InputPriceData!G$15,CalculationsAndCharts!$A2431+$A$11,IF($C$7,8,0),1,1)","v":0},{"$f":"OFFSET(InputPriceData!C$15,CalculationsAndCharts!$A2431+$A$11,IF($C$7,8,0),1,1)","v":0},{"$f":"OFFSET(InputPriceData!D$15,CalculationsAndCharts!$A2431+$A$11,IF($C$7,8,0),1,1)","v":0},{"$f":"OFFSET(InputPriceData!E$15,CalculationsAndCharts!$A2431+$A$11,IF($C$7,8,0),1,1)","v":0},{"$f":"OFFSET(InputPriceData!F$15,CalculationsAndCharts!$A2431+$A$11,IF($C$7,8,0),1,1)","v":0},0,0,0,0,0,0,{"$error":"#N/A"},false,0,false,{"$error":"#N/A"},{"$error":"#N/A"},true,false,false,false,false,false,{"$error":"#N/A"},false,{"$error":"#N/A"},false,false,false,false,false,false,{"$error":"#N/A"},0,0,0,0,0,null,{"$f":"OFFSET(InputIndexData!F$15,CalculationsAndCharts!$A2431+$A$11,IF($C$7,8,0),1,1)","v":0},0,1,1,true,null,212,{"$error":"#N/A"}]
[2400,{"$f":"OFFSET(InputPriceData!B$15,CalculationsAndCharts!$A2432+$A$11,0,1,1)","v":"00:00:00"},{"$f":"OFFSET(InputPriceData!G$15,CalculationsAndCharts!$A2432+$A$11,IF($C$7,8,0),1,1)","v":0},{"$f":"OFFSET(InputPriceData!C$15,CalculationsAndCharts!$A2432+$A$11,IF($C$7,8,0),1,1)","v":0},{"$f":"OFFSET(InputPriceData!D$15,CalculationsAndCharts!$A2432+$A$11,IF($C$7,8,0),1,1)","v":0},{"$f":"OFFSET(InputPriceData!E$15,CalculationsAndCharts!$A2432+$A$11,IF($C$7,8,0),1,1)","v":0},{"$f":"OFFSET(InputPriceData!F$15,CalculationsAndCharts!$A2432+$A$11,IF($C$7,8,0),1,1)","v":0},0,0,0,0,0,0,{"$error":"#N/A"},false,0,false,{"$error":"#N/A"},{"$error":"#N/A"},true,false,false,false,false,false,{"$error":"#N/A"},false,{"$error":"#N/A"},false,false,false,false,false,false,{"$error":"#N/A"},0,0,0,0,0,null,{"$f":"OFFSET(InputIndexData!F$15,CalculationsAndCharts!$A2432+$A$11,IF($C$7,8,0),1,1)","v":0},0,1,1,true,null,212,{"$error":"#N/A"}]
[2401,{"$f":"OFFSET(InputPriceData!B$15,CalculationsAndCharts!$A2433+$A$11,0,1,1)","v":"00:00:00"},{"$f":"OFFSET(InputPriceData!G$15,CalculationsAndCharts!$A2433+$A$11,IF($C$7,8,0),1,1)","v":0},{"$f":"OFFSET(InputPriceData!C$15,CalculationsAndCharts!$A2433+$A$11,IF($C$7,8,0),1,1)","v":0},{"$f":"OFFSET(InputPriceData!D$15,CalculationsAndCharts!$A2433+$A$11,IF($C$7,8,0),1,1)","v":0},{"$f":"OFFSET(InputPriceData!E$15,CalculationsAndCharts!$A2433+$A$11,IF($C$7,8,0),1,1)","v":0},{"$f":"OFFSET(InputPriceData!F$15,CalculationsAndCharts!$A2433+$A$11,IF($C$7,8,0),1,1)","v":0},0,0,0,0,0,0,{"$error":"#N/A"},false,0,false,{"$error":"#N/A"},{"$error":"#N/A"},true,false,false,false,false,false,{"$error":"#N/A"},false,{"$error":"#N/A"},false,false,false,false,false,false,{"$error":"#N/A"},0,0,0,0,0,null,{"$f":"OFFSET(InputIndexData!F$15,CalculationsAndCharts!$A2433+$A$11,IF($C$7,8,0),1,1)","v":0},0,1,1,true,null,212,{"$error":"#N/A"}]
[2402,{"$f":"OFFSET(InputPriceData!B$15,CalculationsAndCharts!$A2434+$A$11,0,1,1)","v":"00:00:00"},{"$f":"OFFSET(InputPriceData!G$15,CalculationsAndCharts!$A2434+$A$11,IF($C$7,8,0),1,1)","v":0},{"$f":"OFFSET(InputPriceData!C$15,CalculationsAndCharts!$A2434+$A$11,IF($C$7,8,0),1,1)","v":0},{"$f":"OFFSET(InputPriceData!D$15,CalculationsAndCharts!$A2434+$A$11,IF($C$7,8,0),1,1)","v":0},{"$f":"OFFSET(InputPriceData!E$15,CalculationsAndCharts!$A2434+$A$11,IF($C$7,8,0),1,1)","v":0},{"$f":"OFFSET(InputPriceData!F$15,CalculationsAndCharts!$A2434+$A$11,IF($C$7,8,0),1,1)","v":0},0,0,0,0,0,0,{"$error":"#N/A"},false,0,false,{"$error":"#N/A"},{"$error":"#N/A"},true,false,false,false,false,false,{"$error":"#N/A"},false,{"$error":"#N/A"},false,false,false,false,false,false,{"$error":"#N/A"},0,0,0,0,0,null,{"$f":"OFFSET(InputIndexData!F$15,CalculationsAndCharts!$A2434+$A$11,IF($C$7,8,0),1,1)","v":0},0,1,1,true,null,212,{"$error":"#N/A"}]
[2403,{"$f":"OFFSET(InputPriceData!B$15,CalculationsAndCharts!$A2435+$A$11,0,1,1)","v":"00:00:00"},{"$f":"OFFSET(InputPriceData!G$15,CalculationsAndCharts!$A2435+$A$11,IF($C$7,8,0),1,1)","v":0},{"$f":"OFFSET(InputPriceData!C$15,CalculationsAndCharts!$A2435+$A$11,IF($C$7,8,0),1,1)","v":0},{"$f":"OFFSET(InputPriceData!D$15,CalculationsAndCharts!$A2435+$A$11,IF($C$7,8,0),1,1)","v":0},{"$f":"OFFSET(InputPriceData!E$15,CalculationsAndCharts!$A2435+$A$11,IF($C$7,8,0),1,1)","v":0},{"$f":"OFFSET(InputPriceData!F$15,CalculationsAndCharts!$A2435+$A$11,IF($C$7,8,0),1,1)","v":0},0,0,0,0,0,0,{"$error":"#N/A"},false,0,false,{"$error":"#N/A"},{"$error":"#N/A"},true,false,false,{"$f":"IF(V2435,TRUE,IF(X2436,FALSE,W2436))","v":false},false,false,{"$error":"#N/A"},false,{"$error":"#N/A"},false,false,false,false,false,false,{"$error":"#N/A"},0,0,0,0,0,null,{"$f":"OFFSET(InputIndexData!F$15,CalculationsAndCharts!$A2435+$A$11,IF($C$7,8,0),1,1)","v":0},0,1,1,true,null,212,{"$error":"#N/A"}]
[2404,{"$f":"OFFSET(InputPriceData!B$15,CalculationsAndCharts!$A2436+$A$11,0,1,1)","v":"00:00:00"},{"$f":"OFFSET(InputPriceData!G$15,CalculationsAndCharts!$A2436+$A$11,IF($C$7,8,0),1,1)","v":0},{"$f":"OFFSET(InputPriceData!C$15,CalculationsAndCharts!$A2436+$A$11,IF($C$7,8,0),1,1)","v":0},{"$f":"OFFSET(InputPriceData!D$15,CalculationsAndCharts!$A2436+$A$11,IF($C$7,8,0),1,1)","v":0},{"$f":"OFFSET(InputPriceData!E$15,CalculationsAndCharts!$A2436+$A$11,IF($C$7,8,0),1,1)","v":0},{"$f":"OFFSET(InputPriceData!F$15,CalculationsAndCharts!$A2436+$A$11,IF($C$7,8,0),1,1)","v":0},0,0,0,0,0,0,{"$error":"#N/A"},false,0,false,{"$error":"#N/A"},{"$error":"#N/A"},true,false,false,false,false,false,{"$error":"#N/A"},false,{"$error":"#N/A"},false,false,false,false,false,false,{"$error":"#N/A"},0,0,0,0,0,null,{"$f":"OFFSET(InputIndexData!F$15,CalculationsAndCharts!$A2436+$A$11,IF($C$7,8,0),1,1)","v":0},0,1,1,true,null,212,{"$error":"#N/A"}]
[2405,{"$f":"OFFSET(InputPriceData!B$15,CalculationsAndCharts!$A2437+$A$11,0,1,1)","v":"00:00:00"},{"$f":"OFFSET(InputPriceData!G$15,CalculationsAndCharts!$A2437+$A$11,IF($C$7,8,0),1,1)","v":0},{"$f":"OFFSET(InputPriceData!C$15,CalculationsAndCharts!$A2437+$A$11,IF($C$7,8,0),1,1)","v":0},{"$f":"OFFSET(InputPriceData!D$15,CalculationsAndCharts!$A2437+$A$11,IF($C$7,8,0),1,1)","v":0},{"$f":"OFFSET(InputPriceData!E$15,CalculationsAndCharts!$A2437+$A$11,IF($C$7,8,0),1,1)","v":0},{"$f":"OFFSET(InputPriceData!F$15,CalculationsAndCharts!$A2437+$A$11,IF($C$7,8,0),1,1)","v":0},0,0,0,0,0,0,{"$error":"#N/A"},false,0,false,{"$error":"#N/A"},{"$error":"#N/A"},true,false,false,false,false,false,{"$error":"#N/A"},false,{"$error":"#N/A"},false,false,false,false,false,false,{"$error":"#N/A"},0,0,0,0,0,null,{"$f":"OFFSET(InputIndexData!F$15,CalculationsAndCharts!$A2437+$A$11,IF($C$7,8,0),1,1)","v":0},0,1,1,true,null,212,{"$error":"#N/A"}]
[2406,{"$f":"OFFSET(InputPriceData!B$15,CalculationsAndCharts!$A2438+$A$11,0,1,1)","v":"00:00:00"},{"$f":"OFFSET(InputPriceData!G$15,CalculationsAndCharts!$A2438+$A$11,IF($C$7,8,0),1,1)","v":0},{"$f":"OFFSET(InputPriceData!C$15,CalculationsAndCharts!$A2438+$A$11,IF($C$7,8,0),1,1)","v":0},{"$f":"OFFSET(InputPriceData!D$15,CalculationsAndCharts!$A2438+$A$11,IF($C$7,8,0),1,1)","v":0},{"$f":"OFFSET(InputPriceData!E$15,CalculationsAndCharts!$A2438+$A$11,IF($C$7,8,0),1,1)","v":0},{"$f":"OFFSET(InputPriceData!F$15,CalculationsAndCharts!$A2438+$A$11,IF($C$7,8,0),1,1)","v":0},0,0,0,0,0,0,{"$error":"#N/A"},false,0,false,{"$error":"#N/A"},{"$error":"#N/A"},true,false,false,false,false,false,{"$error":"#N/A"},false,{"$error":"#N/A"},false,false,false,false,false,false,{"$error":"#N/A"},0,0,0,0,0,null,{"$f":"OFFSET(InputIndexData!F$15,CalculationsAndCharts!$A2438+$A$11,IF($C$7,8,0),1,1)","v":0},0,1,1,true,null,212,{"$error":"#N/A"}]
[2407,{"$f":"OFFSET(InputPriceData!B$15,CalculationsAndCharts!$A2439+$A$11,0,1,1)","v":"00:00:00"},{"$f":"OFFSET(InputPriceData!G$15,CalculationsAndCharts!$A2439+$A$11,IF($C$7,8,0),1,1)","v":0},{"$f":"OFFSET(InputPriceData!C$15,CalculationsAndCharts!$A2439+$A$11,IF($C$7,8,0),1,1)","v":0},{"$f":"OFFSET(InputPriceData!D$15,CalculationsAndCharts!$A2439+$A$11,IF($C$7,8,0),1,1)","v":0},{"$f":"OFFSET(InputPriceData!E$15,CalculationsAndCharts!$A2439+$A$11,IF($C$7,8,0),1,1)","v":0},{"$f":"OFFSET(InputPriceData!F$15,CalculationsAndCharts!$A2439+$A$11,IF($C$7,8,0),1,1)","v":0},0,0,0,0,0,0,{"$error":"#N/A"},false,0,false,{"$error":"#N/A"},{"$error":"#N/A"},true,false,false,false,false,false,{"$error":"#N/A"},false,{"$error":"#N/A"},false,false,false,false,false,false,{"$error":"#N/A"},0,0,0,0,0,null,{"$f":"OFFSET(InputIndexData!F$15,CalculationsAndCharts!$A2439+$A$11,IF($C$7,8,0),1,1)","v":0},0,1,1,true,null,212,{"$error":"#N/A"}]
[2408,{"$f":"OFFSET(InputPriceData!B$15,CalculationsAndCharts!$A2440+$A$11,0,1,1)","v":"00:00:00"},{"$f":"OFFSET(InputPriceData!G$15,CalculationsAndCharts!$A2440+$A$11,IF($C$7,8,0),1,1)","v":0},{"$f":"OFFSET(InputPriceData!C$15,CalculationsAndCharts!$A2440+$A$11,IF($C$7,8,0),1,1)","v":0},{"$f":"OFFSET(InputPriceData!D$15,CalculationsAndCharts!$A2440+$A$11,IF($C$7,8,0),1,1)","v":0},{"$f":"OFFSET(InputPriceData!E$15,CalculationsAndCharts!$A2440+$A$11,IF($C$7,8,0),1,1)","v":0},{"$f":"OFFSET(InputPriceData!F$15,CalculationsAndCharts!$A2440+$A$11,IF($C$7,8,0),1,1)","v":0},0,0,0,0,0,0,{"$error":"#N/A"},false,0,false,{"$error":"#N/A"},{"$error":"#N/A"},true,false,false,false,false,false,{"$error":"#N/A"},false,{"$error":"#N/A"},false,false,false,false,false,false,{"$error":"#N/A"},0,0,0,0,0,null,{"$f":"OFFSET(InputIndexData!F$15,CalculationsAndCharts!$A2440+$A$11,IF($C$7,8,0),1,1)","v":0},0,1,1,true,null,212,{"$error":"#N/A"}]
[2409,{"$f":"OFFSET(InputPriceData!B$15,CalculationsAndCharts!$A2441+$A$11,0,1,1)","v":"00:00:00"},{"$f":"OFFSET(InputPriceData!G$15,CalculationsAndCharts!$A2441+$A$11,IF($C$7,8,0),1,1)","v":0},{"$f":"OFFSET(InputPriceData!C$15,CalculationsAndCharts!$A2441+$A$11,IF($C$7,8,0),1,1)","v":0},{"$f":"OFFSET(InputPriceData!D$15,CalculationsAndCharts!$A2441+$A$11,IF($C$7,8,0),1,1)","v":0},{"$f":"OFFSET(InputPriceData!E$15,CalculationsAndCharts!$A2441+$A$11,IF($C$7,8,0),1,1)","v":0},{"$f":"OFFSET(InputPriceData!F$15,CalculationsAndCharts!$A2441+$A$11,IF($C$7,8,0),1,1)","v":0},0,0,0,0,0,0,{"$error":"#N/A"},false,0,false,{"$error":"#N/A"},{"$error":"#N/A"},true,false,false,false,false,false,{"$error":"#N/A"},false,{"$error":"#N/A"},false,false,false,false,false,false,{"$error":"#N/A"},0,0,0,0,0,null,{"$f":"OFFSET(InputIndexData!F$15,CalculationsAndCharts!$A2441+$A$11,IF($C$7,8,0),1,1)","v":0},0,1,1,true,null,212,{"$error":"#N/A"}]
[2410,{"$f":"OFFSET(InputPriceData!B$15,CalculationsAndCharts!$A2442+$A$11,0,1,1)","v":"00:00:00"},{"$f":"OFFSET(InputPriceData!G$15,CalculationsAndCharts!$A2442+$A$11,IF($C$7,8,0),1,1)","v":0},{"$f":"OFFSET(InputPriceData!C$15,CalculationsAndCharts!$A2442+$A$11,IF($C$7,8,0),1,1)","v":0},{"$f":"OFFSET(InputPriceData!D$15,CalculationsAndCharts!$A2442+$A$11,IF($C$7,8,0),1,1)","v":0},{"$f":"OFFSET(InputPriceData!E$15,CalculationsAndCharts!$A2442+$A$11,IF($C$7,8,0),1,1)","v":0},{"$f":"OFFSET(InputPriceData!F$15,CalculationsAndCharts!$A2442+$A$11,IF($C$7,8,0),1,1)","v":0},0,0,0,0,0,0,{"$error":"#N/A"},false,0,false,{"$error":"#N/A"},{"$error":"#N/A"},true,false,false,false,false,false,{"$error":"#N/A"},false,{"$error":"#N/A"},false,false,false,false,false,false,{"$error":"#N/A"},0,0,0,0,0,null,{"$f":"OFFSET(InputIndexData!F$15,CalculationsAndCharts!$A2442+$A$11,IF($C$7,8,0),1,1)","v":0},0,1,1,true,null,212,{"$error":"#N/A"}]
[2411,{"$f":"OFFSET(InputPriceData!B$15,CalculationsAndCharts!$A2443+$A$11,0,1,1)","v":"00:00:00"},{"$f":"OFFSET(InputPriceData!G$15,CalculationsAndCharts!$A2443+$A$11,IF($C$7,8,0),1,1)","v":0},{"$f":"OFFSET(InputPriceData!C$15,CalculationsAndCharts!$A2443+$A$11,IF($C$7,8,0),1,1)","v":0},{"$f":"OFFSET(InputPriceData!D$15,CalculationsAndCharts!$A2443+$A$11,IF($C$7,8,0),1,1)","v":0},{"$f":"OFFSET(InputPriceData!E$15,CalculationsAndCharts!$A2443+$A$11,IF($C$7,8,0),1,1)","v":0},{"$f":"OFFSET(InputPriceData!F$15,CalculationsAndCharts!$A2443+$A$11,IF($C$7,8,0),1,1)","v":0},0,0,0,0,0,0,{"$error":"#N/A"},false,0,false,{"$error":"#N/A"},{"$error":"#N/A"},true,false,false,false,false,false,{"$error":"#N/A"},false,{"$error":"#N/A"},false,false,false,false,false,false,{"$error":"#N/A"},0,0,0,0,0,null,{"$f":"OFFSET(InputIndexData!F$15,CalculationsAndCharts!$A2443+$A$11,IF($C$7,8,0),1,1)","v":0},0,1,1,true,null,212,{"$error":"#N/A"}]
[2412,{"$f":"OFFSET(InputPriceData!B$15,CalculationsAndCharts!$A2444+$A$11,0,1,1)","v":"00:00:00"},{"$f":"OFFSET(InputPriceData!G$15,CalculationsAndCharts!$A2444+$A$11,IF($C$7,8,0),1,1)","v":0},{"$f":"OFFSET(InputPriceData!C$15,CalculationsAndCharts!$A2444+$A$11,IF($C$7,8,0),1,1)","v":0},{"$f":"OFFSET(InputPriceData!D$15,CalculationsAndCharts!$A2444+$A$11,IF($C$7,8,0),1,1)","v":0},{"$f":"OFFSET(InputPriceData!E$15,CalculationsAndCharts!$A2444+$A$11,IF($C$7,8,0),1,1)","v":0},{"$f":"OFFSET(InputPriceData!F$15,CalculationsAndCharts!$A2444+$A$11,IF($C$7,8,0),1,1)","v":0},0,0,0,0,0,0,{"$error":"#N/A"},false,0,false,{"$error":"#N/A"},{"$error":"#N/A"},true,false,false,false,false,false,{"$error":"#N/A"},false,{"$error":"#N/A"},false,false,false,false,false,false,{"$error":"#N/A"},0,0,0,0,0,null,{"$f":"OFFSET(InputIndexData!F$15,CalculationsAndCharts!$A2444+$A$11,IF($C$7,8,0),1,1)","v":0},0,1,1,true,null,212,{"$error":"#N/A"}]
[2413,{"$f":"OFFSET(InputPriceData!B$15,CalculationsAndCharts!$A2445+$A$11,0,1,1)","v":"00:00:00"},{"$f":"OFFSET(InputPriceData!G$15,CalculationsAndCharts!$A2445+$A$11,IF($C$7,8,0),1,1)","v":0},{"$f":"OFFSET(InputPriceData!C$15,CalculationsAndCharts!$A2445+$A$11,IF($C$7,8,0),1,1)","v":0},{"$f":"OFFSET(InputPriceData!D$15,CalculationsAndCharts!$A2445+$A$11,IF($C$7,8,0),1,1)","v":0},{"$f":"OFFSET(InputPriceData!E$15,CalculationsAndCharts!$A2445+$A$11,IF($C$7,8,0),1,1)","v":0},{"$f":"OFFSET(InputPriceData!F$15,CalculationsAndCharts!$A2445+$A$11,IF($C$7,8,0),1,1)","v":0},0,0,0,0,0,0,{"$error":"#N/A"},false,0,false,{"$error":"#N/A"},{"$error":"#N/A"},true,false,false,false,false,false,{"$error":"#N/A"},false,{"$error":"#N/A"},false,false,false,false,false,false,{"$error":"#N/A"},0,0,0,0,0,null,{"$f":"OFFSET(InputIndexData!F$15,CalculationsAndCharts!$A2445+$A$11,IF($C$7,8,0),1,1)","v":0},0,1,1,true,null,212,{"$error":"#N/A"}]
[2414,{"$f":"OFFSET(InputPriceData!B$15,CalculationsAndCharts!$A2446+$A$11,0,1,1)","v":"00:00:00"},{"$f":"OFFSET(InputPriceData!G$15,CalculationsAndCharts!$A2446+$A$11,IF($C$7,8,0),1,1)","v":0},{"$f":"OFFSET(InputPriceData!C$15,CalculationsAndCharts!$A2446+$A$11,IF($C$7,8,0),1,1)","v":0},{"$f":"OFFSET(InputPriceData!D$15,CalculationsAndCharts!$A2446+$A$11,IF($C$7,8,0),1,1)","v":0},{"$f":"OFFSET(InputPriceData!E$15,CalculationsAndCharts!$A2446+$A$11,IF($C$7,8,0),1,1)","v":0},{"$f":"OFFSET(InputPriceData!F$15,CalculationsAndCharts!$A2446+$A$11,IF($C$7,8,0),1,1)","v":0},0,0,0,0,0,0,{"$error":"#N/A"},false,0,false,{"$error":"#N/A"},{"$error":"#N/A"},true,false,false,false,false,false,{"$error":"#N/A"},false,{"$error":"#N/A"},false,false,false,false,false,false,{"$error":"#N/A"},0,0,0,0,0,null,{"$f":"OFFSET(InputIndexData!F$15,CalculationsAndCharts!$A2446+$A$11,IF($C$7,8,0),1,1)","v":0},0,1,1,true,null,212,{"$error":"#N/A"}]
[2415,{"$f":"OFFSET(InputPriceData!B$15,CalculationsAndCharts!$A2447+$A$11,0,1,1)","v":"00:00:00"},{"$f":"OFFSET(InputPriceData!G$15,CalculationsAndCharts!$A2447+$A$11,IF($C$7,8,0),1,1)","v":0},{"$f":"OFFSET(InputPriceData!C$15,CalculationsAndCharts!$A2447+$A$11,IF($C$7,8,0),1,1)","v":0},{"$f":"OFFSET(InputPriceData!D$15,CalculationsAndCharts!$A2447+$A$11,IF($C$7,8,0),1,1)","v":0},{"$f":"OFFSET(InputPriceData!E$15,CalculationsAndCharts!$A2447+$A$11,IF($C$7,8,0),1,1)","v":0},{"$f":"OFFSET(InputPriceData!F$15,CalculationsAndCharts!$A2447+$A$11,IF($C$7,8,0),1,1)","v":0},0,0,0,0,0,0,{"$error":"#N/A"},false,0,false,{"$error":"#N/A"},{"$error":"#N/A"},true,false,false,false,false,false,{"$error":"#N/A"},false,{"$error":"#N/A"},false,false,false,false,false,false,{"$error":"#N/A"},0,0,0,0,0,null,{"$f":"OFFSET(InputIndexData!F$15,CalculationsAndCharts!$A2447+$A$11,IF($C$7,8,0),1,1)","v":0},0,1,1,true,null,212,{"$error":"#N/A"}]
[2416,{"$f":"OFFSET(InputPriceData!B$15,CalculationsAndCharts!$A2448+$A$11,0,1,1)","v":"00:00:00"},{"$f":"OFFSET(InputPriceData!G$15,CalculationsAndCharts!$A2448+$A$11,IF($C$7,8,0),1,1)","v":0},{"$f":"OFFSET(InputPriceData!C$15,CalculationsAndCharts!$A2448+$A$11,IF($C$7,8,0),1,1)","v":0},{"$f":"OFFSET(InputPriceData!D$15,CalculationsAndCharts!$A2448+$A$11,IF($C$7,8,0),1,1)","v":0},{"$f":"OFFSET(InputPriceData!E$15,CalculationsAndCharts!$A2448+$A$11,IF($C$7,8,0),1,1)","v":0},{"$f":"OFFSET(InputPriceData!F$15,CalculationsAndCharts!$A2448+$A$11,IF($C$7,8,0),1,1)","v":0},0,0,0,0,0,0,{"$error":"#N/A"},false,0,false,{"$error":"#N/A"},{"$error":"#N/A"},true,false,false,false,false,false,{"$error":"#N/A"},false,{"$error":"#N/A"},false,false,false,false,false,false,{"$error":"#N/A"},0,0,0,0,0,null,{"$f":"OFFSET(InputIndexData!F$15,CalculationsAndCharts!$A2448+$A$11,IF($C$7,8,0),1,1)","v":0},0,1,1,true,null,212,{"$error":"#N/A"}]
[2417,{"$f":"OFFSET(InputPriceData!B$15,CalculationsAndCharts!$A2449+$A$11,0,1,1)","v":"00:00:00"},{"$f":"OFFSET(InputPriceData!G$15,CalculationsAndCharts!$A2449+$A$11,IF($C$7,8,0),1,1)","v":0},{"$f":"OFFSET(InputPriceData!C$15,CalculationsAndCharts!$A2449+$A$11,IF($C$7,8,0),1,1)","v":0},{"$f":"OFFSET(InputPriceData!D$15,CalculationsAndCharts!$A2449+$A$11,IF($C$7,8,0),1,1)","v":0},{"$f":"OFFSET(InputPriceData!E$15,CalculationsAndCharts!$A2449+$A$11,IF($C$7,8,0),1,1)","v":0},{"$f":"OFFSET(InputPriceData!F$15,CalculationsAndCharts!$A2449+$A$11,IF($C$7,8,0),1,1)","v":0},0,0,0,0,0,0,{"$error":"#N/A"},false,0,false,{"$error":"#N/A"},{"$error":"#N/A"},true,false,false,false,false,false,{"$error":"#N/A"},false,{"$error":"#N/A"},false,false,false,false,false,false,{"$error":"#N/A"},0,0,0,0,0,null,{"$f":"OFFSET(InputIndexData!F$15,CalculationsAndCharts!$A2449+$A$11,IF($C$7,8,0),1,1)","v":0},0,1,1,true,null,212,{"$error":"#N/A"}]
[2418,{"$f":"OFFSET(InputPriceData!B$15,CalculationsAndCharts!$A2450+$A$11,0,1,1)","v":"00:00:00"},{"$f":"OFFSET(InputPriceData!G$15,CalculationsAndCharts!$A2450+$A$11,IF($C$7,8,0),1,1)","v":0},{"$f":"OFFSET(InputPriceData!C$15,CalculationsAndCharts!$A2450+$A$11,IF($C$7,8,0),1,1)","v":0},{"$f":"OFFSET(InputPriceData!D$15,CalculationsAndCharts!$A2450+$A$11,IF($C$7,8,0),1,1)","v":0},{"$f":"OFFSET(InputPriceData!E$15,CalculationsAndCharts!$A2450+$A$11,IF($C$7,8,0),1,1)","v":0},{"$f":"OFFSET(InputPriceData!F$15,CalculationsAndCharts!$A2450+$A$11,IF($C$7,8,0),1,1)","v":0},0,0,0,0,0,0,{"$error":"#N/A"},false,0,false,{"$error":"#N/A"},{"$error":"#N/A"},true,false,false,false,false,false,{"$error":"#N/A"},false,{"$error":"#N/A"},false,false,false,false,false,false,{"$error":"#N/A"},0,0,0,0,0,null,{"$f":"OFFSET(InputIndexData!F$15,CalculationsAndCharts!$A2450+$A$11,IF($C$7,8,0),1,1)","v":0},0,1,1,true,null,212,{"$error":"#N/A"}]
[2419,{"$f":"OFFSET(InputPriceData!B$15,CalculationsAndCharts!$A2451+$A$11,0,1,1)","v":"00:00:00"},{"$f":"OFFSET(InputPriceData!G$15,CalculationsAndCharts!$A2451+$A$11,IF($C$7,8,0),1,1)","v":0},{"$f":"OFFSET(InputPriceData!C$15,CalculationsAndCharts!$A2451+$A$11,IF($C$7,8,0),1,1)","v":0},{"$f":"OFFSET(InputPriceData!D$15,CalculationsAndCharts!$A2451+$A$11,IF($C$7,8,0),1,1)","v":0},{"$f":"OFFSET(InputPriceData!E$15,CalculationsAndCharts!$A2451+$A$11,IF($C$7,8,0),1,1)","v":0},{"$f":"OFFSET(InputPriceData!F$15,CalculationsAndCharts!$A2451+$A$11,IF($C$7,8,0),1,1)","v":0},0,0,0,0,0,0,{"$error":"#N/A"},false,0,false,{"$error":"#N/A"},{"$error":"#N/A"},true,false,false,false,false,false,{"$error":"#N/A"},false,{"$error":"#N/A"},false,false,false,false,false,false,{"$error":"#N/A"},0,0,0,0,0,null,{"$f":"OFFSET(InputIndexData!F$15,CalculationsAndCharts!$A2451+$A$11,IF($C$7,8,0),1,1)","v":0},0,1,1,true,null,212,{"$error":"#N/A"}]
[2420,{"$f":"OFFSET(InputPriceData!B$15,CalculationsAndCharts!$A2452+$A$11,0,1,1)","v":"00:00:00"},{"$f":"OFFSET(InputPriceData!G$15,CalculationsAndCharts!$A2452+$A$11,IF($C$7,8,0),1,1)","v":0},{"$f":"OFFSET(InputPriceData!C$15,CalculationsAndCharts!$A2452+$A$11,IF($C$7,8,0),1,1)","v":0},{"$f":"OFFSET(InputPriceData!D$15,CalculationsAndCharts!$A2452+$A$11,IF($C$7,8,0),1,1)","v":0},{"$f":"OFFSET(InputPriceData!E$15,CalculationsAndCharts!$A2452+$A$11,IF($C$7,8,0),1,1)","v":0},{"$f":"OFFSET(InputPriceData!F$15,CalculationsAndCharts!$A2452+$A$11,IF($C$7,8,0),1,1)","v":0},0,0,0,0,0,0,{"$error":"#N/A"},false,0,false,{"$error":"#N/A"},{"$error":"#N/A"},true,false,false,false,false,false,{"$error":"#N/A"},false,{"$error":"#N/A"},false,false,false,false,false,false,{"$error":"#N/A"},0,0,0,0,0,null,{"$f":"OFFSET(InputIndexData!F$15,CalculationsAndCharts!$A2452+$A$11,IF($C$7,8,0),1,1)","v":0},0,1,1,true,null,212,{"$error":"#N/A"}]
[2421,{"$f":"OFFSET(InputPriceData!B$15,CalculationsAndCharts!$A2453+$A$11,0,1,1)","v":"00:00:00"},{"$f":"OFFSET(InputPriceData!G$15,CalculationsAndCharts!$A2453+$A$11,IF($C$7,8,0),1,1)","v":0},{"$f":"OFFSET(InputPriceData!C$15,CalculationsAndCharts!$A2453+$A$11,IF($C$7,8,0),1,1)","v":0},{"$f":"OFFSET(InputPriceData!D$15,CalculationsAndCharts!$A2453+$A$11,IF($C$7,8,0),1,1)","v":0},{"$f":"OFFSET(InputPriceData!E$15,CalculationsAndCharts!$A2453+$A$11,IF($C$7,8,0),1,1)","v":0},{"$f":"OFFSET(InputPriceData!F$15,CalculationsAndCharts!$A2453+$A$11,IF($C$7,8,0),1,1)","v":0},0,0,0,0,0,0,{"$error":"#N/A"},false,0,false,{"$error":"#N/A"},{"$error":"#N/A"},true,false,false,false,false,false,{"$error":"#N/A"},false,{"$error":"#N/A"},false,false,false,false,false,false,{"$error":"#N/A"},0,0,0,0,0,null,{"$f":"OFFSET(InputIndexData!F$15,CalculationsAndCharts!$A2453+$A$11,IF($C$7,8,0),1,1)","v":0},0,1,1,true,null,212,{"$error":"#N/A"}]
[2422,{"$f":"OFFSET(InputPriceData!B$15,CalculationsAndCharts!$A2454+$A$11,0,1,1)","v":"00:00:00"},{"$f":"OFFSET(InputPriceData!G$15,CalculationsAndCharts!$A2454+$A$11,IF($C$7,8,0),1,1)","v":0},{"$f":"OFFSET(InputPriceData!C$15,CalculationsAndCharts!$A2454+$A$11,IF($C$7,8,0),1,1)","v":0},{"$f":"OFFSET(InputPriceData!D$15,CalculationsAndCharts!$A2454+$A$11,IF($C$7,8,0),1,1)","v":0},{"$f":"OFFSET(InputPriceData!E$15,CalculationsAndCharts!$A2454+$A$11,IF($C$7,8,0),1,1)","v":0},{"$f":"OFFSET(InputPriceData!F$15,CalculationsAndCharts!$A2454+$A$11,IF($C$7,8,0),1,1)","v":0},0,0,0,0,0,0,{"$error":"#N/A"},false,0,false,{"$error":"#N/A"},{"$error":"#N/A"},true,false,false,false,false,false,{"$error":"#N/A"},false,{"$error":"#N/A"},false,false,false,false,false,false,{"$error":"#N/A"},0,0,0,0,0,null,{"$f":"OFFSET(InputIndexData!F$15,CalculationsAndCharts!$A2454+$A$11,IF($C$7,8,0),1,1)","v":0},0,1,1,true,null,212,{"$error":"#N/A"}]
[2423,{"$f":"OFFSET(InputPriceData!B$15,CalculationsAndCharts!$A2455+$A$11,0,1,1)","v":"00:00:00"},{"$f":"OFFSET(InputPriceData!G$15,CalculationsAndCharts!$A2455+$A$11,IF($C$7,8,0),1,1)","v":0},{"$f":"OFFSET(InputPriceData!C$15,CalculationsAndCharts!$A2455+$A$11,IF($C$7,8,0),1,1)","v":0},{"$f":"OFFSET(InputPriceData!D$15,CalculationsAndCharts!$A2455+$A$11,IF($C$7,8,0),1,1)","v":0},{"$f":"OFFSET(InputPriceData!E$15,CalculationsAndCharts!$A2455+$A$11,IF($C$7,8,0),1,1)","v":0},{"$f":"OFFSET(InputPriceData!F$15,CalculationsAndCharts!$A2455+$A$11,IF($C$7,8,0),1,1)","v":0},0,0,0,0,0,0,{"$error":"#N/A"},false,0,false,{"$error":"#N/A"},{"$error":"#N/A"},true,false,false,false,false,false,{"$error":"#N/A"},false,{"$error":"#N/A"},false,false,false,false,false,false,{"$error":"#N/A"},0,0,0,0,0,null,{"$f":"OFFSET(InputIndexData!F$15,CalculationsAndCharts!$A2455+$A$11,IF($C$7,8,0),1,1)","v":0},0,1,1,true,null,212,{"$error":"#N/A"}]
[2424,{"$f":"OFFSET(InputPriceData!B$15,CalculationsAndCharts!$A2456+$A$11,0,1,1)","v":"00:00:00"},{"$f":"OFFSET(InputPriceData!G$15,CalculationsAndCharts!$A2456+$A$11,IF($C$7,8,0),1,1)","v":0},{"$f":"OFFSET(InputPriceData!C$15,CalculationsAndCharts!$A2456+$A$11,IF($C$7,8,0),1,1)","v":0},{"$f":"OFFSET(InputPriceData!D$15,CalculationsAndCharts!$A2456+$A$11,IF($C$7,8,0),1,1)","v":0},{"$f":"OFFSET(InputPriceData!E$15,CalculationsAndCharts!$A2456+$A$11,IF($C$7,8,0),1,1)","v":0},{"$f":"OFFSET(InputPriceData!F$15,CalculationsAndCharts!$A2456+$A$11,IF($C$7,8,0),1,1)","v":0},0,0,0,0,0,0,{"$error":"#N/A"},false,0,false,{"$error":"#N/A"},{"$error":"#N/A"},true,false,false,false,false,false,{"$error":"#N/A"},false,{"$error":"#N/A"},false,false,false,false,false,false,{"$error":"#N/A"},0,0,0,0,0,null,{"$f":"OFFSET(InputIndexData!F$15,CalculationsAndCharts!$A2456+$A$11,IF($C$7,8,0),1,1)","v":0},0,1,1,true,null,212,{"$error":"#N/A"}]
[2425,{"$f":"OFFSET(InputPriceData!B$15,CalculationsAndCharts!$A2457+$A$11,0,1,1)","v":"00:00:00"},{"$f":"OFFSET(InputPriceData!G$15,CalculationsAndCharts!$A2457+$A$11,IF($C$7,8,0),1,1)","v":0},{"$f":"OFFSET(InputPriceData!C$15,CalculationsAndCharts!$A2457+$A$11,IF($C$7,8,0),1,1)","v":0},{"$f":"OFFSET(InputPriceData!D$15,CalculationsAndCharts!$A2457+$A$11,IF($C$7,8,0),1,1)","v":0},{"$f":"OFFSET(InputPriceData!E$15,CalculationsAndCharts!$A2457+$A$11,IF($C$7,8,0),1,1)","v":0},{"$f":"OFFSET(InputPriceData!F$15,CalculationsAndCharts!$A2457+$A$11,IF($C$7,8,0),1,1)","v":0},0,0,0,0,0,0,{"$error":"#N/A"},false,0,false,{"$error":"#N/A"},{"$error":"#N/A"},true,false,false,false,false,false,{"$error":"#N/A"},false,{"$error":"#N/A"},false,false,false,false,false,false,{"$error":"#N/A"},0,0,0,0,0,null,{"$f":"OFFSET(InputIndexData!F$15,CalculationsAndCharts!$A2457+$A$11,IF($C$7,8,0),1,1)","v":0},0,1,1,true,null,212,{"$error":"#N/A"}]
[2426,{"$f":"OFFSET(InputPriceData!B$15,CalculationsAndCharts!$A2458+$A$11,0,1,1)","v":"00:00:00"},{"$f":"OFFSET(InputPriceData!G$15,CalculationsAndCharts!$A2458+$A$11,IF($C$7,8,0),1,1)","v":0},{"$f":"OFFSET(InputPriceData!C$15,CalculationsAndCharts!$A2458+$A$11,IF($C$7,8,0),1,1)","v":0},{"$f":"OFFSET(InputPriceData!D$15,CalculationsAndCharts!$A2458+$A$11,IF($C$7,8,0),1,1)","v":0},{"$f":"OFFSET(InputPriceData!E$15,CalculationsAndCharts!$A2458+$A$11,IF($C$7,8,0),1,1)","v":0},{"$f":"OFFSET(InputPriceData!F$15,CalculationsAndCharts!$A2458+$A$11,IF($C$7,8,0),1,1)","v":0},0,0,0,0,0,0,{"$error":"#N/A"},false,0,false,{"$error":"#N/A"},{"$error":"#N/A"},true,false,false,false,false,false,{"$error":"#N/A"},false,{"$error":"#N/A"},false,false,false,false,false,false,{"$error":"#N/A"},0,0,0,0,0,null,{"$f":"OFFSET(InputIndexData!F$15,CalculationsAndCharts!$A2458+$A$11,IF($C$7,8,0),1,1)","v":0},0,1,1,true,null,212,{"$error":"#N/A"}]
[2427,{"$f":"OFFSET(InputPriceData!B$15,CalculationsAndCharts!$A2459+$A$11,0,1,1)","v":"00:00:00"},{"$f":"OFFSET(InputPriceData!G$15,CalculationsAndCharts!$A2459+$A$11,IF($C$7,8,0),1,1)","v":0},{"$f":"OFFSET(InputPriceData!C$15,CalculationsAndCharts!$A2459+$A$11,IF($C$7,8,0),1,1)","v":0},{"$f":"OFFSET(InputPriceData!D$15,CalculationsAndCharts!$A2459+$A$11,IF($C$7,8,0),1,1)","v":0},{"$f":"OFFSET(InputPriceData!E$15,CalculationsAndCharts!$A2459+$A$11,IF($C$7,8,0),1,1)","v":0},{"$f":"OFFSET(InputPriceData!F$15,CalculationsAndCharts!$A2459+$A$11,IF($C$7,8,0),1,1)","v":0},0,0,0,0,0,0,{"$error":"#N/A"},false,0,false,{"$error":"#N/A"},{"$error":"#N/A"},true,false,false,false,false,false,{"$error":"#N/A"},false,{"$error":"#N/A"},false,false,false,false,false,false,{"$error":"#N/A"},0,0,0,0,0,null,{"$f":"OFFSET(InputIndexData!F$15,CalculationsAndCharts!$A2459+$A$11,IF($C$7,8,0),1,1)","v":0},0,1,1,true,null,212,{"$error":"#N/A"}]
[2428,{"$f":"OFFSET(InputPriceData!B$15,CalculationsAndCharts!$A2460+$A$11,0,1,1)","v":"00:00:00"},{"$f":"OFFSET(InputPriceData!G$15,CalculationsAndCharts!$A2460+$A$11,IF($C$7,8,0),1,1)","v":0},{"$f":"OFFSET(InputPriceData!C$15,CalculationsAndCharts!$A2460+$A$11,IF($C$7,8,0),1,1)","v":0},{"$f":"OFFSET(InputPriceData!D$15,CalculationsAndCharts!$A2460+$A$11,IF($C$7,8,0),1,1)","v":0},{"$f":"OFFSET(InputPriceData!E$15,CalculationsAndCharts!$A2460+$A$11,IF($C$7,8,0),1,1)","v":0},{"$f":"OFFSET(InputPriceData!F$15,CalculationsAndCharts!$A2460+$A$11,IF($C$7,8,0),1,1)","v":0},0,0,0,0,0,0,{"$error":"#N/A"},false,0,false,{"$error":"#N/A"},{"$error":"#N/A"},true,false,false,false,false,false,{"$error":"#N/A"},false,{"$error":"#N/A"},false,false,false,false,false,false,{"$error":"#N/A"},0,0,0,0,0,null,{"$f":"OFFSET(InputIndexData!F$15,CalculationsAndCharts!$A2460+$A$11,IF($C$7,8,0),1,1)","v":0},0,1,1,true,null,212,{"$error":"#N/A"}]
[2429,{"$f":"OFFSET(InputPriceData!B$15,CalculationsAndCharts!$A2461+$A$11,0,1,1)","v":"00:00:00"},{"$f":"OFFSET(InputPriceData!G$15,CalculationsAndCharts!$A2461+$A$11,IF($C$7,8,0),1,1)","v":0},{"$f":"OFFSET(InputPriceData!C$15,CalculationsAndCharts!$A2461+$A$11,IF($C$7,8,0),1,1)","v":0},{"$f":"OFFSET(InputPriceData!D$15,CalculationsAndCharts!$A2461+$A$11,IF($C$7,8,0),1,1)","v":0},{"$f":"OFFSET(InputPriceData!E$15,CalculationsAndCharts!$A2461+$A$11,IF($C$7,8,0),1,1)","v":0},{"$f":"OFFSET(InputPriceData!F$15,CalculationsAndCharts!$A2461+$A$11,IF($C$7,8,0),1,1)","v":0},0,0,0,0,0,0,{"$error":"#N/A"},false,0,false,{"$error":"#N/A"},{"$error":"#N/A"},true,false,false,false,false,false,{"$error":"#N/A"},false,{"$error":"#N/A"},false,false,false,false,false,false,{"$error":"#N/A"},0,0,0,0,0,null,{"$f":"OFFSET(InputIndexData!F$15,CalculationsAndCharts!$A2461+$A$11,IF($C$7,8,0),1,1)","v":0},0,1,1,true,null,212,{"$error":"#N/A"}]
[2430,{"$f":"OFFSET(InputPriceData!B$15,CalculationsAndCharts!$A2462+$A$11,0,1,1)","v":"00:00:00"},{"$f":"OFFSET(InputPriceData!G$15,CalculationsAndCharts!$A2462+$A$11,IF($C$7,8,0),1,1)","v":0},{"$f":"OFFSET(InputPriceData!C$15,CalculationsAndCharts!$A2462+$A$11,IF($C$7,8,0),1,1)","v":0},{"$f":"OFFSET(InputPriceData!D$15,CalculationsAndCharts!$A2462+$A$11,IF($C$7,8,0),1,1)","v":0},{"$f":"OFFSET(InputPriceData!E$15,CalculationsAndCharts!$A2462+$A$11,IF($C$7,8,0),1,1)","v":0},{"$f":"OFFSET(InputPriceData!F$15,CalculationsAndCharts!$A2462+$A$11,IF($C$7,8,0),1,1)","v":0},0,0,0,0,0,0,{"$error":"#N/A"},false,0,false,{"$error":"#N/A"},{"$error":"#N/A"},true,false,false,false,false,false,{"$error":"#N/A"},false,{"$error":"#N/A"},false,false,false,false,false,false,{"$error":"#N/A"},0,0,0,0,0,null,{"$f":"OFFSET(InputIndexData!F$15,CalculationsAndCharts!$A2462+$A$11,IF($C$7,8,0),1,1)","v":0},0,1,1,true,null,212,{"$error":"#N/A"}]
[2431,{"$f":"OFFSET(InputPriceData!B$15,CalculationsAndCharts!$A2463+$A$11,0,1,1)","v":"00:00:00"},{"$f":"OFFSET(InputPriceData!G$15,CalculationsAndCharts!$A2463+$A$11,IF($C$7,8,0),1,1)","v":0},{"$f":"OFFSET(InputPriceData!C$15,CalculationsAndCharts!$A2463+$A$11,IF($C$7,8,0),1,1)","v":0},{"$f":"OFFSET(InputPriceData!D$15,CalculationsAndCharts!$A2463+$A$11,IF($C$7,8,0),1,1)","v":0},{"$f":"OFFSET(InputPriceData!E$15,CalculationsAndCharts!$A2463+$A$11,IF($C$7,8,0),1,1)","v":0},{"$f":"OFFSET(InputPriceData!F$15,CalculationsAndCharts!$A2463+$A$11,IF($C$7,8,0),1,1)","v":0},0,0,0,0,0,0,{"$error":"#N/A"},false,0,false,{"$error":"#N/A"},{"$error":"#N/A"},true,false,false,false,false,false,{"$error":"#N/A"},false,{"$error":"#N/A"},false,false,false,false,false,false,{"$error":"#N/A"},0,0,0,0,0,null,{"$f":"OFFSET(InputIndexData!F$15,CalculationsAndCharts!$A2463+$A$11,IF($C$7,8,0),1,1)","v":0},0,1,1,true,null,212,{"$error":"#N/A"}]
[2432,{"$f":"OFFSET(InputPriceData!B$15,CalculationsAndCharts!$A2464+$A$11,0,1,1)","v":"00:00:00"},{"$f":"OFFSET(InputPriceData!G$15,CalculationsAndCharts!$A2464+$A$11,IF($C$7,8,0),1,1)","v":0},{"$f":"OFFSET(InputPriceData!C$15,CalculationsAndCharts!$A2464+$A$11,IF($C$7,8,0),1,1)","v":0},{"$f":"OFFSET(InputPriceData!D$15,CalculationsAndCharts!$A2464+$A$11,IF($C$7,8,0),1,1)","v":0},{"$f":"OFFSET(InputPriceData!E$15,CalculationsAndCharts!$A2464+$A$11,IF($C$7,8,0),1,1)","v":0},{"$f":"OFFSET(InputPriceData!F$15,CalculationsAndCharts!$A2464+$A$11,IF($C$7,8,0),1,1)","v":0},0,0,0,0,0,0,{"$error":"#N/A"},false,0,false,{"$error":"#N/A"},{"$error":"#N/A"},true,false,false,false,false,false,{"$error":"#N/A"},false,{"$error":"#N/A"},false,false,false,false,false,false,{"$error":"#N/A"},0,0,0,0,0,null,{"$f":"OFFSET(InputIndexData!F$15,CalculationsAndCharts!$A2464+$A$11,IF($C$7,8,0),1,1)","v":0},0,1,1,true,null,212,{"$error":"#N/A"}]
[2433,{"$f":"OFFSET(InputPriceData!B$15,CalculationsAndCharts!$A2465+$A$11,0,1,1)","v":"00:00:00"},{"$f":"OFFSET(InputPriceData!G$15,CalculationsAndCharts!$A2465+$A$11,IF($C$7,8,0),1,1)","v":0},{"$f":"OFFSET(InputPriceData!C$15,CalculationsAndCharts!$A2465+$A$11,IF($C$7,8,0),1,1)","v":0},{"$f":"OFFSET(InputPriceData!D$15,CalculationsAndCharts!$A2465+$A$11,IF($C$7,8,0),1,1)","v":0},{"$f":"OFFSET(InputPriceData!E$15,CalculationsAndCharts!$A2465+$A$11,IF($C$7,8,0),1,1)","v":0},{"$f":"OFFSET(InputPriceData!F$15,CalculationsAndCharts!$A2465+$A$11,IF($C$7,8,0),1,1)","v":0},{"$f":"AVERAGE(OFFSET(G2465,0,0,$A$17,1))","v":0},{"$f":"AVERAGE(OFFSET(G2465,0,0,$A$18,1))","v":0},{"$f":"AVERAGE(OFFSET(G2465,0,0,$A$19,1))","v":0},{"$f":"AVERAGE(OFFSET(E2465,0,0,$A$20,1))","v":0},{"$f":"AVERAGE(OFFSET(F2465,0,0,$A$21,1))","v":0},0,{"$error":"#N/A"},{"$f":"AND(G2466<=K2466,G2465>K2465,OR(P2466=\"DOWN\",P2466=0))","v":false},{"$f":"IF(AND(OR(P2466=0,P2466=\"UP\"),Q2465),\"DOWN\",IF(AND(OR(P2466=0,P2466=\"DOWN\"),O2465),\"UP\",P2466))","v":0},{"$f":"AND(G2466>=L2466,G2465<L2465,OR(P2466=0,P2466=\"UP\"))","v":false},{"$error":"#N/A"},{"$error":"#N/A"},true,{"$f":"AND(T2465,O2465)","v":false},false,false,{"$f":"AND(W2465,Q2465)","v":false},false,{"$f":"IF(AND(NOT(AA2465),OR(W2465,Y2465)),$F$11,NA())","v":{"$error":"#N/A"}},false,{"$error":"#N/A"},false,{"$f":"AND(AC2465,Q2465)","v":false},{"$f":"AD2466","v":false},false,false,{"$f":"AG2466","v":false},{"$f":"IF(AND(NOT(AA2465),OR(AF2465,AH2465)),$F$11,NA())","v":{"$error":"#N/A"}},0,0,0,0,0,null,{"$f":"OFFSET(InputIndexData!F$15,CalculationsAndCharts!$A2465+$A$11,IF($C$7,8,0),1,1)","v":0},0,1,1,true,null,{"$f":"IF(AT2465,$AR$26,NA())","v":212},{"$f":"IF(AT2465,NA(),$AR$26)","v":{"$error":"#N/A"}}]
[2434,{"$f":"OFFSET(InputPriceData!B$15,CalculationsAndCharts!$A2466+$A$11,0,1,1)","v":"00:00:00"},{"$f":"OFFSET(InputPriceData!G$15,CalculationsAndCharts!$A2466+$A$11,IF($C$7,8,0),1,1)","v":0},{"$f":"OFFSET(InputPriceData!C$15,CalculationsAndCharts!$A2466+$A$11,IF($C$7,8,0),1,1)","v":0},{"$f":"OFFSET(InputPriceData!D$15,CalculationsAndCharts!$A2466+$A$11,IF($C$7,8,0),1,1)","v":0},{"$f":"OFFSET(InputPriceData!E$15,CalculationsAndCharts!$A2466+$A$11,IF($C$7,8,0),1,1)","v":0},{"$f":"OFFSET(InputPriceData!F$15,CalculationsAndCharts!$A2466+$A$11,IF($C$7,8,0),1,1)","v":0},0,0,0,0,0,{"$f":"IF(D2466<=G2466,C2466,NA())","v":0},{"$f":"IF(D2466<=G2466,NA(),C2466)","v":{"$error":"#N/A"}},false,0,false,{"$error":"#N/A"},{"$error":"#N/A"},{"$f":"AND(OR(NOT($R$11),AT2466),OR(NOT($R$12),J2466>=I2466),OR(NOT($R$13),I2466>=H2466),OR(NOT($R$14),G2466>=I2466))","v":true},false,false,false,false,false,{"$error":"#N/A"},false,{"$error":"#N/A"},false,false,false,{"$f":"IF(AE2466,TRUE,IF(AG2467,FALSE,AF2467))","v":false},{"$f":"AND(AF2466,O2466)","v":false},false,{"$error":"#N/A"},{"$f":"IF($R$3,H2466,NA())","v":0},{"$f":"IF($R$4,I2466,NA())","v":0},{"$f":"IF($R$5,J2466,NA())","v":0},{"$f":"IF($R$6,K2466,NA())","v":0},{"$f":"IF($R$6,L2466,NA())","v":0},null,{"$f":"OFFSET(InputIndexData!F$15,CalculationsAndCharts!$A2466+$A$11,IF($C$7,8,0),1,1)","v":0},{"$f":"AVERAGE(OFFSET(AP2466,0,0,$D$17,1))","v":0},{"$f":"IF(AQ2466-AQ2467>=0,1,-1)","v":1},{"$f":"AVERAGE(OFFSET(AR2466,0,0,$D$18,1))","v":1},{"$f":"OR(AS2466>0,AND(AS2466=0,AS2467>0))","v":true},null,212,{"$error":"#N/A"}]
[2435,{"$f":"OFFSET(InputPriceData!B$15,CalculationsAndCharts!$A2467+$A$11,0,1,1)","v":"00:00:00"},{"$f":"OFFSET(InputPriceData!G$15,CalculationsAndCharts!$A2467+$A$11,IF($C$7,8,0),1,1)","v":0},{"$f":"OFFSET(InputPriceData!C$15,CalculationsAndCharts!$A2467+$A$11,IF($C$7,8,0),1,1)","v":0},{"$f":"OFFSET(InputPriceData!D$15,CalculationsAndCharts!$A2467+$A$11,IF($C$7,8,0),1,1)","v":0},{"$f":"OFFSET(InputPriceData!E$15,CalculationsAndCharts!$A2467+$A$11,IF($C$7,8,0),1,1)","v":0},{"$f":"OFFSET(InputPriceData!F$15,CalculationsAndCharts!$A2467+$A$11,IF($C$7,8,0),1,1)","v":0},0,0,0,0,0,0,{"$error":"#N/A"},false,0,false,{"$error":"#N/A"},{"$error":"#N/A"},true,false,false,false,false,false,{"$error":"#N/A"},false,{"$error":"#N/A"},false,false,false,false,false,false,{"$error":"#N/A"},0,0,0,0,0,null,{"$f":"OFFSET(InputIndexData!F$15,CalculationsAndCharts!$A2467+$A$11,IF($C$7,8,0),1,1)","v":0},0,1,1,true,null,212,{"$error":"#N/A"}]
[2436,{"$f":"OFFSET(InputPriceData!B$15,CalculationsAndCharts!$A2468+$A$11,0,1,1)","v":"00:00:00"},{"$f":"OFFSET(InputPriceData!G$15,CalculationsAndCharts!$A2468+$A$11,IF($C$7,8,0),1,1)","v":0},{"$f":"OFFSET(InputPriceData!C$15,CalculationsAndCharts!$A2468+$A$11,IF($C$7,8,0),1,1)","v":0},{"$f":"OFFSET(InputPriceData!D$15,CalculationsAndCharts!$A2468+$A$11,IF($C$7,8,0),1,1)","v":0},{"$f":"OFFSET(InputPriceData!E$15,CalculationsAndCharts!$A2468+$A$11,IF($C$7,8,0),1,1)","v":0},{"$f":"OFFSET(InputPriceData!F$15,CalculationsAndCharts!$A2468+$A$11,IF($C$7,8,0),1,1)","v":0},0,0,0,0,0,0,{"$error":"#N/A"},false,0,false,{"$error":"#N/A"},{"$error":"#N/A"},true,false,false,false,false,false,{"$error":"#N/A"},false,{"$error":"#N/A"},false,false,false,false,false,false,{"$error":"#N/A"},0,0,0,0,0,null,{"$f":"OFFSET(InputIndexData!F$15,CalculationsAndCharts!$A2468+$A$11,IF($C$7,8,0),1,1)","v":0},0,1,1,true,null,212,{"$error":"#N/A"}]
[2437,{"$f":"OFFSET(InputPriceData!B$15,CalculationsAndCharts!$A2469+$A$11,0,1,1)","v":"00:00:00"},{"$f":"OFFSET(InputPriceData!G$15,CalculationsAndCharts!$A2469+$A$11,IF($C$7,8,0),1,1)","v":0},{"$f":"OFFSET(InputPriceData!C$15,CalculationsAndCharts!$A2469+$A$11,IF($C$7,8,0),1,1)","v":0},{"$f":"OFFSET(InputPriceData!D$15,CalculationsAndCharts!$A2469+$A$11,IF($C$7,8,0),1,1)","v":0},{"$f":"OFFSET(InputPriceData!E$15,CalculationsAndCharts!$A2469+$A$11,IF($C$7,8,0),1,1)","v":0},{"$f":"OFFSET(InputPriceData!F$15,CalculationsAndCharts!$A2469+$A$11,IF($C$7,8,0),1,1)","v":0},0,0,0,0,0,0,{"$error":"#N/A"},false,0,false,{"$error":"#N/A"},{"$error":"#N/A"},true,false,false,false,false,false,{"$error":"#N/A"},false,{"$error":"#N/A"},false,false,false,false,false,false,{"$error":"#N/A"},0,0,0,0,0,null,{"$f":"OFFSET(InputIndexData!F$15,CalculationsAndCharts!$A2469+$A$11,IF($C$7,8,0),1,1)","v":0},0,1,1,true,null,212,{"$error":"#N/A"}]
[2438,{"$f":"OFFSET(InputPriceData!B$15,CalculationsAndCharts!$A2470+$A$11,0,1,1)","v":"00:00:00"},{"$f":"OFFSET(InputPriceData!G$15,CalculationsAndCharts!$A2470+$A$11,IF($C$7,8,0),1,1)","v":0},{"$f":"OFFSET(InputPriceData!C$15,CalculationsAndCharts!$A2470+$A$11,IF($C$7,8,0),1,1)","v":0},{"$f":"OFFSET(InputPriceData!D$15,CalculationsAndCharts!$A2470+$A$11,IF($C$7,8,0),1,1)","v":0},{"$f":"OFFSET(InputPriceData!E$15,CalculationsAndCharts!$A2470+$A$11,IF($C$7,8,0),1,1)","v":0},{"$f":"OFFSET(InputPriceData!F$15,CalculationsAndCharts!$A2470+$A$11,IF($C$7,8,0),1,1)","v":0},0,0,0,0,0,0,{"$error":"#N/A"},false,0,false,{"$error":"#N/A"},{"$error":"#N/A"},true,false,false,false,false,false,{"$error":"#N/A"},false,{"$error":"#N/A"},false,false,false,false,false,false,{"$error":"#N/A"},0,0,0,0,0,null,{"$f":"OFFSET(InputIndexData!F$15,CalculationsAndCharts!$A2470+$A$11,IF($C$7,8,0),1,1)","v":0},0,1,1,true,null,212,{"$error":"#N/A"}]
[2439,{"$f":"OFFSET(InputPriceData!B$15,CalculationsAndCharts!$A2471+$A$11,0,1,1)","v":"00:00:00"},{"$f":"OFFSET(InputPriceData!G$15,CalculationsAndCharts!$A2471+$A$11,IF($C$7,8,0),1,1)","v":0},{"$f":"OFFSET(InputPriceData!C$15,CalculationsAndCharts!$A2471+$A$11,IF($C$7,8,0),1,1)","v":0},{"$f":"OFFSET(InputPriceData!D$15,CalculationsAndCharts!$A2471+$A$11,IF($C$7,8,0),1,1)","v":0},{"$f":"OFFSET(InputPriceData!E$15,CalculationsAndCharts!$A2471+$A$11,IF($C$7,8,0),1,1)","v":0},{"$f":"OFFSET(InputPriceData!F$15,CalculationsAndCharts!$A2471+$A$11,IF($C$7,8,0),1,1)","v":0},0,0,0,0,0,0,{"$error":"#N/A"},false,0,false,{"$error":"#N/A"},{"$error":"#N/A"},true,false,false,false,false,false,{"$error":"#N/A"},false,{"$error":"#N/A"},false,false,false,false,false,false,{"$error":"#N/A"},0,0,0,0,0,null,{"$f":"OFFSET(InputIndexData!F$15,CalculationsAndCharts!$A2471+$A$11,IF($C$7,8,0),1,1)","v":0},0,1,1,true,null,212,{"$error":"#N/A"}]
[2440,{"$f":"OFFSET(InputPriceData!B$15,CalculationsAndCharts!$A2472+$A$11,0,1,1)","v":"00:00:00"},{"$f":"OFFSET(InputPriceData!G$15,CalculationsAndCharts!$A2472+$A$11,IF($C$7,8,0),1,1)","v":0},{"$f":"OFFSET(InputPriceData!C$15,CalculationsAndCharts!$A2472+$A$11,IF($C$7,8,0),1,1)","v":0},{"$f":"OFFSET(InputPriceData!D$15,CalculationsAndCharts!$A2472+$A$11,IF($C$7,8,0),1,1)","v":0},{"$f":"OFFSET(InputPriceData!E$15,CalculationsAndCharts!$A2472+$A$11,IF($C$7,8,0),1,1)","v":0},{"$f":"OFFSET(InputPriceData!F$15,CalculationsAndCharts!$A2472+$A$11,IF($C$7,8,0),1,1)","v":0},0,0,0,0,0,0,{"$error":"#N/A"},false,0,false,{"$error":"#N/A"},{"$error":"#N/A"},true,false,false,false,false,false,{"$error":"#N/A"},false,{"$f":"IF(AA2472,$F$11,NA())","v":{"$error":"#N/A"}},false,false,false,false,false,false,{"$error":"#N/A"},0,0,0,0,0,null,{"$f":"OFFSET(InputIndexData!F$15,CalculationsAndCharts!$A2472+$A$11,IF($C$7,8,0),1,1)","v":0},0,1,1,true,null,212,{"$error":"#N/A"}]
[2441,{"$f":"OFFSET(InputPriceData!B$15,CalculationsAndCharts!$A2473+$A$11,0,1,1)","v":"00:00:00"},{"$f":"OFFSET(InputPriceData!G$15,CalculationsAndCharts!$A2473+$A$11,IF($C$7,8,0),1,1)","v":0},{"$f":"OFFSET(InputPriceData!C$15,CalculationsAndCharts!$A2473+$A$11,IF($C$7,8,0),1,1)","v":0},{"$f":"OFFSET(InputPriceData!D$15,CalculationsAndCharts!$A2473+$A$11,IF($C$7,8,0),1,1)","v":0},{"$f":"OFFSET(InputPriceData!E$15,CalculationsAndCharts!$A2473+$A$11,IF($C$7,8,0),1,1)","v":0},{"$f":"OFFSET(InputPriceData!F$15,CalculationsAndCharts!$A2473+$A$11,IF($C$7,8,0),1,1)","v":0},0,0,0,0,0,0,{"$error":"#N/A"},false,0,false,{"$f":"IF(O2473,G2473,NA())","v":{"$error":"#N/A"}},{"$f":"IF(Q2473,G2473,NA())","v":{"$error":"#N/A"}},true,false,false,false,false,false,{"$error":"#N/A"},false,{"$error":"#N/A"},false,false,false,false,false,false,{"$error":"#N/A"},0,0,0,0,0,null,{"$f":"OFFSET(InputIndexData!F$15,CalculationsAndCharts!$A2473+$A$11,IF($C$7,8,0),1,1)","v":0},0,1,1,true,null,212,{"$error":"#N/A"}]
[2442,{"$f":"OFFSET(InputPriceData!B$15,CalculationsAndCharts!$A2474+$A$11,0,1,1)","v":"00:00:00"},{"$f":"OFFSET(InputPriceData!G$15,CalculationsAndCharts!$A2474+$A$11,IF($C$7,8,0),1,1)","v":0},{"$f":"OFFSET(InputPriceData!C$15,CalculationsAndCharts!$A2474+$A$11,IF($C$7,8,0),1,1)","v":0},{"$f":"OFFSET(InputPriceData!D$15,CalculationsAndCharts!$A2474+$A$11,IF($C$7,8,0),1,1)","v":0},{"$f":"OFFSET(InputPriceData!E$15,CalculationsAndCharts!$A2474+$A$11,IF($C$7,8,0),1,1)","v":0},{"$f":"OFFSET(InputPriceData!F$15,CalculationsAndCharts!$A2474+$A$11,IF($C$7,8,0),1,1)","v":0},0,0,0,0,0,0,{"$error":"#N/A"},false,0,false,{"$error":"#N/A"},{"$error":"#N/A"},true,false,false,false,false,false,{"$error":"#N/A"},false,{"$error":"#N/A"},false,false,false,false,false,false,{"$error":"#N/A"},0,0,0,0,0,null,{"$f":"OFFSET(InputIndexData!F$15,CalculationsAndCharts!$A2474+$A$11,IF($C$7,8,0),1,1)","v":0},0,1,1,true,null,212,{"$error":"#N/A"}]
[2443,{"$f":"OFFSET(InputPriceData!B$15,CalculationsAndCharts!$A2475+$A$11,0,1,1)","v":"00:00:00"},{"$f":"OFFSET(InputPriceData!G$15,CalculationsAndCharts!$A2475+$A$11,IF($C$7,8,0),1,1)","v":0},{"$f":"OFFSET(InputPriceData!C$15,CalculationsAndCharts!$A2475+$A$11,IF($C$7,8,0),1,1)","v":0},{"$f":"OFFSET(InputPriceData!D$15,CalculationsAndCharts!$A2475+$A$11,IF($C$7,8,0),1,1)","v":0},{"$f":"OFFSET(InputPriceData!E$15,CalculationsAndCharts!$A2475+$A$11,IF($C$7,8,0),1,1)","v":0},{"$f":"OFFSET(InputPriceData!F$15,CalculationsAndCharts!$A2475+$A$11,IF($C$7,8,0),1,1)","v":0},0,0,0,0,0,0,{"$error":"#N/A"},false,0,false,{"$error":"#N/A"},{"$error":"#N/A"},true,false,false,false,false,false,{"$error":"#N/A"},false,{"$error":"#N/A"},false,false,false,false,false,false,{"$error":"#N/A"},0,0,0,0,0,null,{"$f":"OFFSET(InputIndexData!F$15,CalculationsAndCharts!$A2475+$A$11,IF($C$7,8,0),1,1)","v":0},0,1,1,true,null,212,{"$error":"#N/A"}]
[2444,{"$f":"OFFSET(InputPriceData!B$15,CalculationsAndCharts!$A2476+$A$11,0,1,1)","v":"00:00:00"},{"$f":"OFFSET(InputPriceData!G$15,CalculationsAndCharts!$A2476+$A$11,IF($C$7,8,0),1,1)","v":0},{"$f":"OFFSET(InputPriceData!C$15,CalculationsAndCharts!$A2476+$A$11,IF($C$7,8,0),1,1)","v":0},{"$f":"OFFSET(InputPriceData!D$15,CalculationsAndCharts!$A2476+$A$11,IF($C$7,8,0),1,1)","v":0},{"$f":"OFFSET(InputPriceData!E$15,CalculationsAndCharts!$A2476+$A$11,IF($C$7,8,0),1,1)","v":0},{"$f":"OFFSET(InputPriceData!F$15,CalculationsAndCharts!$A2476+$A$11,IF($C$7,8,0),1,1)","v":0},0,0,0,0,0,0,{"$error":"#N/A"},false,0,false,{"$error":"#N/A"},{"$error":"#N/A"},true,false,false,false,false,false,{"$error":"#N/A"},false,{"$error":"#N/A"},false,false,false,false,false,false,{"$error":"#N/A"},0,0,0,0,0,null,{"$f":"OFFSET(InputIndexData!F$15,CalculationsAndCharts!$A2476+$A$11,IF($C$7,8,0),1,1)","v":0},0,1,1,true,null,212,{"$error":"#N/A"}]
[2445,{"$f":"OFFSET(InputPriceData!B$15,CalculationsAndCharts!$A2477+$A$11,0,1,1)","v":"00:00:00"},{"$f":"OFFSET(InputPriceData!G$15,CalculationsAndCharts!$A2477+$A$11,IF($C$7,8,0),1,1)","v":0},{"$f":"OFFSET(InputPriceData!C$15,CalculationsAndCharts!$A2477+$A$11,IF($C$7,8,0),1,1)","v":0},{"$f":"OFFSET(InputPriceData!D$15,CalculationsAndCharts!$A2477+$A$11,IF($C$7,8,0),1,1)","v":0},{"$f":"OFFSET(InputPriceData!E$15,CalculationsAndCharts!$A2477+$A$11,IF($C$7,8,0),1,1)","v":0},{"$f":"OFFSET(InputPriceData!F$15,CalculationsAndCharts!$A2477+$A$11,IF($C$7,8,0),1,1)","v":0},0,0,0,0,0,0,{"$error":"#N/A"},false,0,false,{"$error":"#N/A"},{"$error":"#N/A"},true,false,false,false,false,false,{"$error":"#N/A"},false,{"$error":"#N/A"},false,false,false,false,false,false,{"$error":"#N/A"},0,0,0,0,0,null,{"$f":"OFFSET(InputIndexData!F$15,CalculationsAndCharts!$A2477+$A$11,IF($C$7,8,0),1,1)","v":0},0,1,1,true,null,212,{"$error":"#N/A"}]
[2446,{"$f":"OFFSET(InputPriceData!B$15,CalculationsAndCharts!$A2478+$A$11,0,1,1)","v":"00:00:00"},{"$f":"OFFSET(InputPriceData!G$15,CalculationsAndCharts!$A2478+$A$11,IF($C$7,8,0),1,1)","v":0},{"$f":"OFFSET(InputPriceData!C$15,CalculationsAndCharts!$A2478+$A$11,IF($C$7,8,0),1,1)","v":0},{"$f":"OFFSET(InputPriceData!D$15,CalculationsAndCharts!$A2478+$A$11,IF($C$7,8,0),1,1)","v":0},{"$f":"OFFSET(InputPriceData!E$15,CalculationsAndCharts!$A2478+$A$11,IF($C$7,8,0),1,1)","v":0},{"$f":"OFFSET(InputPriceData!F$15,CalculationsAndCharts!$A2478+$A$11,IF($C$7,8,0),1,1)","v":0},0,0,0,0,0,0,{"$error":"#N/A"},false,0,false,{"$error":"#N/A"},{"$error":"#N/A"},true,false,false,false,false,false,{"$error":"#N/A"},false,{"$error":"#N/A"},false,false,false,false,false,false,{"$error":"#N/A"},0,0,0,0,0,null,{"$f":"OFFSET(InputIndexData!F$15,CalculationsAndCharts!$A2478+$A$11,IF($C$7,8,0),1,1)","v":0},0,1,1,true,null,212,{"$error":"#N/A"}]
[2447,{"$f":"OFFSET(InputPriceData!B$15,CalculationsAndCharts!$A2479+$A$11,0,1,1)","v":"00:00:00"},{"$f":"OFFSET(InputPriceData!G$15,CalculationsAndCharts!$A2479+$A$11,IF($C$7,8,0),1,1)","v":0},{"$f":"OFFSET(InputPriceData!C$15,CalculationsAndCharts!$A2479+$A$11,IF($C$7,8,0),1,1)","v":0},{"$f":"OFFSET(InputPriceData!D$15,CalculationsAndCharts!$A2479+$A$11,IF($C$7,8,0),1,1)","v":0},{"$f":"OFFSET(InputPriceData!E$15,CalculationsAndCharts!$A2479+$A$11,IF($C$7,8,0),1,1)","v":0},{"$f":"OFFSET(InputPriceData!F$15,CalculationsAndCharts!$A2479+$A$11,IF($C$7,8,0),1,1)","v":0},0,0,0,0,0,0,{"$error":"#N/A"},false,0,false,{"$error":"#N/A"},{"$error":"#N/A"},true,false,false,false,false,false,{"$error":"#N/A"},false,{"$error":"#N/A"},false,false,false,false,false,false,{"$error":"#N/A"},0,0,0,0,0,null,{"$f":"OFFSET(InputIndexData!F$15,CalculationsAndCharts!$A2479+$A$11,IF($C$7,8,0),1,1)","v":0},0,1,1,true,null,212,{"$error":"#N/A"}]
[2448,{"$f":"OFFSET(InputPriceData!B$15,CalculationsAndCharts!$A2480+$A$11,0,1,1)","v":"00:00:00"},{"$f":"OFFSET(InputPriceData!G$15,CalculationsAndCharts!$A2480+$A$11,IF($C$7,8,0),1,1)","v":0},{"$f":"OFFSET(InputPriceData!C$15,CalculationsAndCharts!$A2480+$A$11,IF($C$7,8,0),1,1)","v":0},{"$f":"OFFSET(InputPriceData!D$15,CalculationsAndCharts!$A2480+$A$11,IF($C$7,8,0),1,1)","v":0},{"$f":"OFFSET(InputPriceData!E$15,CalculationsAndCharts!$A2480+$A$11,IF($C$7,8,0),1,1)","v":0},{"$f":"OFFSET(InputPriceData!F$15,CalculationsAndCharts!$A2480+$A$11,IF($C$7,8,0),1,1)","v":0},0,0,0,0,0,0,{"$error":"#N/A"},false,0,false,{"$error":"#N/A"},{"$error":"#N/A"},true,false,false,false,false,false,{"$error":"#N/A"},{"$f":"AND(OR(W2480,Y2480),OR(AF2480,AH2480))","v":false},{"$error":"#N/A"},false,false,false,false,false,false,{"$error":"#N/A"},0,0,0,0,0,null,{"$f":"OFFSET(InputIndexData!F$15,CalculationsAndCharts!$A2480+$A$11,IF($C$7,8,0),1,1)","v":0},0,1,1,true,null,212,{"$error":"#N/A"}]
[2449,{"$f":"OFFSET(InputPriceData!B$15,CalculationsAndCharts!$A2481+$A$11,0,1,1)","v":"00:00:00"},{"$f":"OFFSET(InputPriceData!G$15,CalculationsAndCharts!$A2481+$A$11,IF($C$7,8,0),1,1)","v":0},{"$f":"OFFSET(InputPriceData!C$15,CalculationsAndCharts!$A2481+$A$11,IF($C$7,8,0),1,1)","v":0},{"$f":"OFFSET(InputPriceData!D$15,CalculationsAndCharts!$A2481+$A$11,IF($C$7,8,0),1,1)","v":0},{"$f":"OFFSET(InputPriceData!E$15,CalculationsAndCharts!$A2481+$A$11,IF($C$7,8,0),1,1)","v":0},{"$f":"OFFSET(InputPriceData!F$15,CalculationsAndCharts!$A2481+$A$11,IF($C$7,8,0),1,1)","v":0},0,0,0,0,0,0,{"$error":"#N/A"},false,0,false,{"$error":"#N/A"},{"$error":"#N/A"},true,false,false,false,false,false,{"$error":"#N/A"},false,{"$error":"#N/A"},false,false,false,false,false,false,{"$error":"#N/A"},0,0,0,0,0,null,{"$f":"OFFSET(InputIndexData!F$15,CalculationsAndCharts!$A2481+$A$11,IF($C$7,8,0),1,1)","v":0},0,1,1,true,null,212,{"$error":"#N/A"}]
[2450,{"$f":"OFFSET(InputPriceData!B$15,CalculationsAndCharts!$A2482+$A$11,0,1,1)","v":"00:00:00"},{"$f":"OFFSET(InputPriceData!G$15,CalculationsAndCharts!$A2482+$A$11,IF($C$7,8,0),1,1)","v":0},{"$f":"OFFSET(InputPriceData!C$15,CalculationsAndCharts!$A2482+$A$11,IF($C$7,8,0),1,1)","v":0},{"$f":"OFFSET(InputPriceData!D$15,CalculationsAndCharts!$A2482+$A$11,IF($C$7,8,0),1,1)","v":0},{"$f":"OFFSET(InputPriceData!E$15,CalculationsAndCharts!$A2482+$A$11,IF($C$7,8,0),1,1)","v":0},{"$f":"OFFSET(InputPriceData!F$15,CalculationsAndCharts!$A2482+$A$11,IF($C$7,8,0),1,1)","v":0},0,0,0,0,0,0,{"$error":"#N/A"},false,0,false,{"$error":"#N/A"},{"$error":"#N/A"},true,false,false,false,false,false,{"$error":"#N/A"},false,{"$error":"#N/A"},false,false,false,false,false,false,{"$error":"#N/A"},0,0,0,0,0,null,{"$f":"OFFSET(InputIndexData!F$15,CalculationsAndCharts!$A2482+$A$11,IF($C$7,8,0),1,1)","v":0},0,1,1,true,null,212,{"$error":"#N/A"}]
[2451,{"$f":"OFFSET(InputPriceData!B$15,CalculationsAndCharts!$A2483+$A$11,0,1,1)","v":"00:00:00"},{"$f":"OFFSET(InputPriceData!G$15,CalculationsAndCharts!$A2483+$A$11,IF($C$7,8,0),1,1)","v":0},{"$f":"OFFSET(InputPriceData!C$15,CalculationsAndCharts!$A2483+$A$11,IF($C$7,8,0),1,1)","v":0},{"$f":"OFFSET(InputPriceData!D$15,CalculationsAndCharts!$A2483+$A$11,IF($C$7,8,0),1,1)","v":0},{"$f":"OFFSET(InputPriceData!E$15,CalculationsAndCharts!$A2483+$A$11,IF($C$7,8,0),1,1)","v":0},{"$f":"OFFSET(InputPriceData!F$15,CalculationsAndCharts!$A2483+$A$11,IF($C$7,8,0),1,1)","v":0},0,0,0,0,0,0,{"$error":"#N/A"},false,0,false,{"$error":"#N/A"},{"$error":"#N/A"},true,false,false,false,false,{"$f":"X2484","v":false},{"$error":"#N/A"},false,{"$error":"#N/A"},false,false,false,false,false,false,{"$error":"#N/A"},0,0,0,0,0,null,{"$f":"OFFSET(InputIndexData!F$15,CalculationsAndCharts!$A2483+$A$11,IF($C$7,8,0),1,1)","v":0},0,1,1,true,null,212,{"$error":"#N/A"}]
[2452,{"$f":"OFFSET(InputPriceData!B$15,CalculationsAndCharts!$A2484+$A$11,0,1,1)","v":"00:00:00"},{"$f":"OFFSET(InputPriceData!G$15,CalculationsAndCharts!$A2484+$A$11,IF($C$7,8,0),1,1)","v":0},{"$f":"OFFSET(InputPriceData!C$15,CalculationsAndCharts!$A2484+$A$11,IF($C$7,8,0),1,1)","v":0},{"$f":"OFFSET(InputPriceData!D$15,CalculationsAndCharts!$A2484+$A$11,IF($C$7,8,0),1,1)","v":0},{"$f":"OFFSET(InputPriceData!E$15,CalculationsAndCharts!$A2484+$A$11,IF($C$7,8,0),1,1)","v":0},{"$f":"OFFSET(InputPriceData!F$15,CalculationsAndCharts!$A2484+$A$11,IF($C$7,8,0),1,1)","v":0},0,0,0,0,0,0,{"$error":"#N/A"},false,0,false,{"$error":"#N/A"},{"$error":"#N/A"},true,false,false,false,false,false,{"$error":"#N/A"},false,{"$error":"#N/A"},false,false,false,false,false,false,{"$error":"#N/A"},0,0,0,0,0,null,{"$f":"OFFSET(InputIndexData!F$15,CalculationsAndCharts!$A2484+$A$11,IF($C$7,8,0),1,1)","v":0},0,1,1,true,null,212,{"$error":"#N/A"}]
[2453,{"$f":"OFFSET(InputPriceData!B$15,CalculationsAndCharts!$A2485+$A$11,0,1,1)","v":"00:00:00"},{"$f":"OFFSET(InputPriceData!G$15,CalculationsAndCharts!$A2485+$A$11,IF($C$7,8,0),1,1)","v":0},{"$f":"OFFSET(InputPriceData!C$15,CalculationsAndCharts!$A2485+$A$11,IF($C$7,8,0),1,1)","v":0},{"$f":"OFFSET(InputPriceData!D$15,CalculationsAndCharts!$A2485+$A$11,IF($C$7,8,0),1,1)","v":0},{"$f":"OFFSET(InputPriceData!E$15,CalculationsAndCharts!$A2485+$A$11,IF($C$7,8,0),1,1)","v":0},{"$f":"OFFSET(InputPriceData!F$15,CalculationsAndCharts!$A2485+$A$11,IF($C$7,8,0),1,1)","v":0},0,0,0,0,0,0,{"$error":"#N/A"},false,0,false,{"$error":"#N/A"},{"$error":"#N/A"},true,false,false,false,false,false,{"$error":"#N/A"},false,{"$error":"#N/A"},false,false,false,false,false,false,{"$error":"#N/A"},0,0,0,0,0,null,{"$f":"OFFSET(InputIndexData!F$15,CalculationsAndCharts!$A2485+$A$11,IF($C$7,8,0),1,1)","v":0},0,1,1,true,null,212,{"$error":"#N/A"}]
[2454,{"$f":"OFFSET(InputPriceData!B$15,CalculationsAndCharts!$A2486+$A$11,0,1,1)","v":"00:00:00"},{"$f":"OFFSET(InputPriceData!G$15,CalculationsAndCharts!$A2486+$A$11,IF($C$7,8,0),1,1)","v":0},{"$f":"OFFSET(InputPriceData!C$15,CalculationsAndCharts!$A2486+$A$11,IF($C$7,8,0),1,1)","v":0},{"$f":"OFFSET(InputPriceData!D$15,CalculationsAndCharts!$A2486+$A$11,IF($C$7,8,0),1,1)","v":0},{"$f":"OFFSET(InputPriceData!E$15,CalculationsAndCharts!$A2486+$A$11,IF($C$7,8,0),1,1)","v":0},{"$f":"OFFSET(InputPriceData!F$15,CalculationsAndCharts!$A2486+$A$11,IF($C$7,8,0),1,1)","v":0},0,0,0,0,0,0,{"$error":"#N/A"},false,0,false,{"$error":"#N/A"},{"$error":"#N/A"},true,false,false,false,false,false,{"$error":"#N/A"},false,{"$error":"#N/A"},false,false,false,false,false,false,{"$error":"#N/A"},0,0,0,0,0,null,{"$f":"OFFSET(InputIndexData!F$15,CalculationsAndCharts!$A2486+$A$11,IF($C$7,8,0),1,1)","v":0},0,1,1,true,null,212,{"$error":"#N/A"}]
[2455,{"$f":"OFFSET(InputPriceData!B$15,CalculationsAndCharts!$A2487+$A$11,0,1,1)","v":"00:00:00"},{"$f":"OFFSET(InputPriceData!G$15,CalculationsAndCharts!$A2487+$A$11,IF($C$7,8,0),1,1)","v":0},{"$f":"OFFSET(InputPriceData!C$15,CalculationsAndCharts!$A2487+$A$11,IF($C$7,8,0),1,1)","v":0},{"$f":"OFFSET(InputPriceData!D$15,CalculationsAndCharts!$A2487+$A$11,IF($C$7,8,0),1,1)","v":0},{"$f":"OFFSET(InputPriceData!E$15,CalculationsAndCharts!$A2487+$A$11,IF($C$7,8,0),1,1)","v":0},{"$f":"OFFSET(InputPriceData!F$15,CalculationsAndCharts!$A2487+$A$11,IF($C$7,8,0),1,1)","v":0},0,0,0,0,0,0,{"$error":"#N/A"},false,0,false,{"$error":"#N/A"},{"$error":"#N/A"},true,false,false,false,false,false,{"$error":"#N/A"},false,{"$error":"#N/A"},false,false,false,false,false,false,{"$error":"#N/A"},0,0,0,0,0,null,{"$f":"OFFSET(InputIndexData!F$15,CalculationsAndCharts!$A2487+$A$11,IF($C$7,8,0),1,1)","v":0},0,1,1,true,null,212,{"$error":"#N/A"}]
[2456,{"$f":"OFFSET(InputPriceData!B$15,CalculationsAndCharts!$A2488+$A$11,0,1,1)","v":"00:00:00"},{"$f":"OFFSET(InputPriceData!G$15,CalculationsAndCharts!$A2488+$A$11,IF($C$7,8,0),1,1)","v":0},{"$f":"OFFSET(InputPriceData!C$15,CalculationsAndCharts!$A2488+$A$11,IF($C$7,8,0),1,1)","v":0},{"$f":"OFFSET(InputPriceData!D$15,CalculationsAndCharts!$A2488+$A$11,IF($C$7,8,0),1,1)","v":0},{"$f":"OFFSET(InputPriceData!E$15,CalculationsAndCharts!$A2488+$A$11,IF($C$7,8,0),1,1)","v":0},{"$f":"OFFSET(InputPriceData!F$15,CalculationsAndCharts!$A2488+$A$11,IF($C$7,8,0),1,1)","v":0},0,0,0,0,0,0,{"$error":"#N/A"},false,0,false,{"$error":"#N/A"},{"$error":"#N/A"},true,false,false,false,false,false,{"$error":"#N/A"},false,{"$error":"#N/A"},false,false,false,false,false,false,{"$error":"#N/A"},0,0,0,0,0,null,{"$f":"OFFSET(InputIndexData!F$15,CalculationsAndCharts!$A2488+$A$11,IF($C$7,8,0),1,1)","v":0},0,1,1,true,null,212,{"$error":"#N/A"}]
[2457,{"$f":"OFFSET(InputPriceData!B$15,CalculationsAndCharts!$A2489+$A$11,0,1,1)","v":"00:00:00"},{"$f":"OFFSET(InputPriceData!G$15,CalculationsAndCharts!$A2489+$A$11,IF($C$7,8,0),1,1)","v":0},{"$f":"OFFSET(InputPriceData!C$15,CalculationsAndCharts!$A2489+$A$11,IF($C$7,8,0),1,1)","v":0},{"$f":"OFFSET(InputPriceData!D$15,CalculationsAndCharts!$A2489+$A$11,IF($C$7,8,0),1,1)","v":0},{"$f":"OFFSET(InputPriceData!E$15,CalculationsAndCharts!$A2489+$A$11,IF($C$7,8,0),1,1)","v":0},{"$f":"OFFSET(InputPriceData!F$15,CalculationsAndCharts!$A2489+$A$11,IF($C$7,8,0),1,1)","v":0},0,0,0,0,0,0,{"$error":"#N/A"},false,0,false,{"$error":"#N/A"},{"$error":"#N/A"},true,false,false,false,false,false,{"$error":"#N/A"},false,{"$error":"#N/A"},false,false,false,false,false,false,{"$error":"#N/A"},0,0,0,0,0,null,{"$f":"OFFSET(InputIndexData!F$15,CalculationsAndCharts!$A2489+$A$11,IF($C$7,8,0),1,1)","v":0},0,1,1,true,null,212,{"$error":"#N/A"}]
[2458,{"$f":"OFFSET(InputPriceData!B$15,CalculationsAndCharts!$A2490+$A$11,0,1,1)","v":"00:00:00"},{"$f":"OFFSET(InputPriceData!G$15,CalculationsAndCharts!$A2490+$A$11,IF($C$7,8,0),1,1)","v":0},{"$f":"OFFSET(InputPriceData!C$15,CalculationsAndCharts!$A2490+$A$11,IF($C$7,8,0),1,1)","v":0},{"$f":"OFFSET(InputPriceData!D$15,CalculationsAndCharts!$A2490+$A$11,IF($C$7,8,0),1,1)","v":0},{"$f":"OFFSET(InputPriceData!E$15,CalculationsAndCharts!$A2490+$A$11,IF($C$7,8,0),1,1)","v":0},{"$f":"OFFSET(InputPriceData!F$15,CalculationsAndCharts!$A2490+$A$11,IF($C$7,8,0),1,1)","v":0},0,0,0,0,0,0,{"$error":"#N/A"},false,0,false,{"$error":"#N/A"},{"$error":"#N/A"},true,false,false,false,false,false,{"$error":"#N/A"},false,{"$error":"#N/A"},{"$f":"AND(   OR(NOT($R$11),NOT(AT2490)),   OR(NOT($R$12),J2490<=I2490),   OR(NOT($R$13),I2490<=H2490),   OR(NOT($R$14),G2490<=I2490)   )","v":false},false,false,false,false,false,{"$error":"#N/A"},0,0,0,0,0,null,{"$f":"OFFSET(InputIndexData!F$15,CalculationsAndCharts!$A2490+$A$11,IF($C$7,8,0),1,1)","v":0},0,1,1,true,null,212,{"$error":"#N/A"}]
[2459,{"$f":"OFFSET(InputPriceData!B$15,CalculationsAndCharts!$A2491+$A$11,0,1,1)","v":"00:00:00"},{"$f":"OFFSET(InputPriceData!G$15,CalculationsAndCharts!$A2491+$A$11,IF($C$7,8,0),1,1)","v":0},{"$f":"OFFSET(InputPriceData!C$15,CalculationsAndCharts!$A2491+$A$11,IF($C$7,8,0),1,1)","v":0},{"$f":"OFFSET(InputPriceData!D$15,CalculationsAndCharts!$A2491+$A$11,IF($C$7,8,0),1,1)","v":0},{"$f":"OFFSET(InputPriceData!E$15,CalculationsAndCharts!$A2491+$A$11,IF($C$7,8,0),1,1)","v":0},{"$f":"OFFSET(InputPriceData!F$15,CalculationsAndCharts!$A2491+$A$11,IF($C$7,8,0),1,1)","v":0},0,0,0,0,0,0,{"$error":"#N/A"},false,0,false,{"$error":"#N/A"},{"$error":"#N/A"},true,false,false,false,false,false,{"$error":"#N/A"},false,{"$error":"#N/A"},false,false,false,false,false,false,{"$error":"#N/A"},0,0,0,0,0,null,{"$f":"OFFSET(InputIndexData!F$15,CalculationsAndCharts!$A2491+$A$11,IF($C$7,8,0),1,1)","v":0},0,1,1,true,null,212,{"$error":"#N/A"}]
[2460,{"$f":"OFFSET(InputPriceData!B$15,CalculationsAndCharts!$A2492+$A$11,0,1,1)","v":"00:00:00"},{"$f":"OFFSET(InputPriceData!G$15,CalculationsAndCharts!$A2492+$A$11,IF($C$7,8,0),1,1)","v":0},{"$f":"OFFSET(InputPriceData!C$15,CalculationsAndCharts!$A2492+$A$11,IF($C$7,8,0),1,1)","v":0},{"$f":"OFFSET(InputPriceData!D$15,CalculationsAndCharts!$A2492+$A$11,IF($C$7,8,0),1,1)","v":0},{"$f":"OFFSET(InputPriceData!E$15,CalculationsAndCharts!$A2492+$A$11,IF($C$7,8,0),1,1)","v":0},{"$f":"OFFSET(InputPriceData!F$15,CalculationsAndCharts!$A2492+$A$11,IF($C$7,8,0),1,1)","v":0},0,0,0,0,0,0,{"$error":"#N/A"},false,0,false,{"$error":"#N/A"},{"$error":"#N/A"},true,false,false,false,false,false,{"$error":"#N/A"},false,{"$error":"#N/A"},false,false,false,false,false,false,{"$error":"#N/A"},0,0,0,0,0,null,{"$f":"OFFSET(InputIndexData!F$15,CalculationsAndCharts!$A2492+$A$11,IF($C$7,8,0),1,1)","v":0},0,1,1,true,null,212,{"$error":"#N/A"}]
[2461,{"$f":"OFFSET(InputPriceData!B$15,CalculationsAndCharts!$A2493+$A$11,0,1,1)","v":"00:00:00"},{"$f":"OFFSET(InputPriceData!G$15,CalculationsAndCharts!$A2493+$A$11,IF($C$7,8,0),1,1)","v":0},{"$f":"OFFSET(InputPriceData!C$15,CalculationsAndCharts!$A2493+$A$11,IF($C$7,8,0),1,1)","v":0},{"$f":"OFFSET(InputPriceData!D$15,CalculationsAndCharts!$A2493+$A$11,IF($C$7,8,0),1,1)","v":0},{"$f":"OFFSET(InputPriceData!E$15,CalculationsAndCharts!$A2493+$A$11,IF($C$7,8,0),1,1)","v":0},{"$f":"OFFSET(InputPriceData!F$15,CalculationsAndCharts!$A2493+$A$11,IF($C$7,8,0),1,1)","v":0},0,0,0,0,0,0,{"$error":"#N/A"},false,0,false,{"$error":"#N/A"},{"$error":"#N/A"},true,false,false,false,false,false,{"$error":"#N/A"},false,{"$error":"#N/A"},false,false,false,false,false,false,{"$error":"#N/A"},0,0,0,0,0,null,{"$f":"OFFSET(InputIndexData!F$15,CalculationsAndCharts!$A2493+$A$11,IF($C$7,8,0),1,1)","v":0},0,1,1,true,null,212,{"$error":"#N/A"}]
[2462,{"$f":"OFFSET(InputPriceData!B$15,CalculationsAndCharts!$A2494+$A$11,0,1,1)","v":"00:00:00"},{"$f":"OFFSET(InputPriceData!G$15,CalculationsAndCharts!$A2494+$A$11,IF($C$7,8,0),1,1)","v":0},{"$f":"OFFSET(InputPriceData!C$15,CalculationsAndCharts!$A2494+$A$11,IF($C$7,8,0),1,1)","v":0},{"$f":"OFFSET(InputPriceData!D$15,CalculationsAndCharts!$A2494+$A$11,IF($C$7,8,0),1,1)","v":0},{"$f":"OFFSET(InputPriceData!E$15,CalculationsAndCharts!$A2494+$A$11,IF($C$7,8,0),1,1)","v":0},{"$f":"OFFSET(InputPriceData!F$15,CalculationsAndCharts!$A2494+$A$11,IF($C$7,8,0),1,1)","v":0},0,0,0,0,0,0,{"$error":"#N/A"},false,0,false,{"$error":"#N/A"},{"$error":"#N/A"},true,false,{"$f":"U2495","v":false},false,false,false,{"$error":"#N/A"},false,{"$error":"#N/A"},false,false,false,false,false,false,{"$error":"#N/A"},0,0,0,0,0,null,{"$f":"OFFSET(InputIndexData!F$15,CalculationsAndCharts!$A2494+$A$11,IF($C$7,8,0),1,1)","v":0},0,1,1,true,null,212,{"$error":"#N/A"}]
[2463,{"$f":"OFFSET(InputPriceData!B$15,CalculationsAndCharts!$A2495+$A$11,0,1,1)","v":"00:00:00"},{"$f":"OFFSET(InputPriceData!G$15,CalculationsAndCharts!$A2495+$A$11,IF($C$7,8,0),1,1)","v":0},{"$f":"OFFSET(InputPriceData!C$15,CalculationsAndCharts!$A2495+$A$11,IF($C$7,8,0),1,1)","v":0},{"$f":"OFFSET(InputPriceData!D$15,CalculationsAndCharts!$A2495+$A$11,IF($C$7,8,0),1,1)","v":0},{"$f":"OFFSET(InputPriceData!E$15,CalculationsAndCharts!$A2495+$A$11,IF($C$7,8,0),1,1)","v":0},{"$f":"OFFSET(InputPriceData!F$15,CalculationsAndCharts!$A2495+$A$11,IF($C$7,8,0),1,1)","v":0},0,0,0,0,0,0,{"$error":"#N/A"},false,0,false,{"$error":"#N/A"},{"$error":"#N/A"},true,false,false,false,false,false,{"$error":"#N/A"},false,{"$error":"#N/A"},false,false,false,false,false,false,{"$error":"#N/A"},0,0,0,0,0,null,{"$f":"OFFSET(InputIndexData!F$15,CalculationsAndCharts!$A2495+$A$11,IF($C$7,8,0),1,1)","v":0},0,1,1,true,null,212,{"$error":"#N/A"}]
[2464,{"$f":"OFFSET(InputPriceData!B$15,CalculationsAndCharts!$A2496+$A$11,0,1,1)","v":"00:00:00"},{"$f":"OFFSET(InputPriceData!G$15,CalculationsAndCharts!$A2496+$A$11,IF($C$7,8,0),1,1)","v":0},{"$f":"OFFSET(InputPriceData!C$15,CalculationsAndCharts!$A2496+$A$11,IF($C$7,8,0),1,1)","v":0},{"$f":"OFFSET(InputPriceData!D$15,CalculationsAndCharts!$A2496+$A$11,IF($C$7,8,0),1,1)","v":0},{"$f":"OFFSET(InputPriceData!E$15,CalculationsAndCharts!$A2496+$A$11,IF($C$7,8,0),1,1)","v":0},{"$f":"OFFSET(InputPriceData!F$15,CalculationsAndCharts!$A2496+$A$11,IF($C$7,8,0),1,1)","v":0},0,0,0,0,0,0,{"$error":"#N/A"},false,0,false,{"$error":"#N/A"},{"$error":"#N/A"},true,false,false,false,false,false,{"$error":"#N/A"},false,{"$error":"#N/A"},false,false,false,false,false,false,{"$error":"#N/A"},0,0,0,0,0,null,{"$f":"OFFSET(InputIndexData!F$15,CalculationsAndCharts!$A2496+$A$11,IF($C$7,8,0),1,1)","v":0},0,1,1,true,null,212,{"$error":"#N/A"}]
[2465,{"$f":"OFFSET(InputPriceData!B$15,CalculationsAndCharts!$A2497+$A$11,0,1,1)","v":"00:00:00"},{"$f":"OFFSET(InputPriceData!G$15,CalculationsAndCharts!$A2497+$A$11,IF($C$7,8,0),1,1)","v":0},{"$f":"OFFSET(InputPriceData!C$15,CalculationsAndCharts!$A2497+$A$11,IF($C$7,8,0),1,1)","v":0},{"$f":"OFFSET(InputPriceData!D$15,CalculationsAndCharts!$A2497+$A$11,IF($C$7,8,0),1,1)","v":0},{"$f":"OFFSET(InputPriceData!E$15,CalculationsAndCharts!$A2497+$A$11,IF($C$7,8,0),1,1)","v":0},{"$f":"OFFSET(InputPriceData!F$15,CalculationsAndCharts!$A2497+$A$11,IF($C$7,8,0),1,1)","v":0},0,0,0,0,0,0,{"$error":"#N/A"},false,0,false,{"$error":"#N/A"},{"$error":"#N/A"},true,false,false,false,false,false,{"$error":"#N/A"},false,{"$error":"#N/A"},false,false,false,false,false,false,{"$error":"#N/A"},0,0,0,0,0,null,{"$f":"OFFSET(InputIndexData!F$15,CalculationsAndCharts!$A2497+$A$11,IF($C$7,8,0),1,1)","v":0},0,1,1,true,null,212,{"$error":"#N/A"}]
[2466,{"$f":"OFFSET(InputPriceData!B$15,CalculationsAndCharts!$A2498+$A$11,0,1,1)","v":"00:00:00"},{"$f":"OFFSET(InputPriceData!G$15,CalculationsAndCharts!$A2498+$A$11,IF($C$7,8,0),1,1)","v":0},{"$f":"OFFSET(InputPriceData!C$15,CalculationsAndCharts!$A2498+$A$11,IF($C$7,8,0),1,1)","v":0},{"$f":"OFFSET(InputPriceData!D$15,CalculationsAndCharts!$A2498+$A$11,IF($C$7,8,0),1,1)","v":0},{"$f":"OFFSET(InputPriceData!E$15,CalculationsAndCharts!$A2498+$A$11,IF($C$7,8,0),1,1)","v":0},{"$f":"OFFSET(InputPriceData!F$15,CalculationsAndCharts!$A2498+$A$11,IF($C$7,8,0),1,1)","v":0},0,0,0,0,0,0,{"$error":"#N/A"},false,0,false,{"$error":"#N/A"},{"$error":"#N/A"},true,false,false,false,false,false,{"$error":"#N/A"},false,{"$error":"#N/A"},false,false,false,false,false,false,{"$error":"#N/A"},0,0,0,0,0,null,{"$f":"OFFSET(InputIndexData!F$15,CalculationsAndCharts!$A2498+$A$11,IF($C$7,8,0),1,1)","v":0},0,1,1,true,null,212,{"$error":"#N/A"}]
[2467,{"$f":"OFFSET(InputPriceData!B$15,CalculationsAndCharts!$A2499+$A$11,0,1,1)","v":"00:00:00"},{"$f":"OFFSET(InputPriceData!G$15,CalculationsAndCharts!$A2499+$A$11,IF($C$7,8,0),1,1)","v":0},{"$f":"OFFSET(InputPriceData!C$15,CalculationsAndCharts!$A2499+$A$11,IF($C$7,8,0),1,1)","v":0},{"$f":"OFFSET(InputPriceData!D$15,CalculationsAndCharts!$A2499+$A$11,IF($C$7,8,0),1,1)","v":0},{"$f":"OFFSET(InputPriceData!E$15,CalculationsAndCharts!$A2499+$A$11,IF($C$7,8,0),1,1)","v":0},{"$f":"OFFSET(InputPriceData!F$15,CalculationsAndCharts!$A2499+$A$11,IF($C$7,8,0),1,1)","v":0},0,0,0,0,0,0,{"$error":"#N/A"},false,0,false,{"$error":"#N/A"},{"$error":"#N/A"},true,false,false,{"$f":"IF(V2499,TRUE,IF(X2500,FALSE,W2500))","v":false},false,false,{"$error":"#N/A"},false,{"$error":"#N/A"},false,false,false,false,false,false,{"$error":"#N/A"},0,0,0,0,0,null,{"$f":"OFFSET(InputIndexData!F$15,CalculationsAndCharts!$A2499+$A$11,IF($C$7,8,0),1,1)","v":0},0,1,1,true,null,212,{"$error":"#N/A"}]
[2468,{"$f":"OFFSET(InputPriceData!B$15,CalculationsAndCharts!$A2500+$A$11,0,1,1)","v":"00:00:00"},{"$f":"OFFSET(InputPriceData!G$15,CalculationsAndCharts!$A2500+$A$11,IF($C$7,8,0),1,1)","v":0},{"$f":"OFFSET(InputPriceData!C$15,CalculationsAndCharts!$A2500+$A$11,IF($C$7,8,0),1,1)","v":0},{"$f":"OFFSET(InputPriceData!D$15,CalculationsAndCharts!$A2500+$A$11,IF($C$7,8,0),1,1)","v":0},{"$f":"OFFSET(InputPriceData!E$15,CalculationsAndCharts!$A2500+$A$11,IF($C$7,8,0),1,1)","v":0},{"$f":"OFFSET(InputPriceData!F$15,CalculationsAndCharts!$A2500+$A$11,IF($C$7,8,0),1,1)","v":0},0,0,0,0,0,0,{"$error":"#N/A"},false,0,false,{"$error":"#N/A"},{"$error":"#N/A"},true,false,false,false,false,false,{"$error":"#N/A"},false,{"$error":"#N/A"},false,false,false,false,false,false,{"$error":"#N/A"},0,0,0,0,0,null,{"$f":"OFFSET(InputIndexData!F$15,CalculationsAndCharts!$A2500+$A$11,IF($C$7,8,0),1,1)","v":0},0,1,1,true,null,212,{"$error":"#N/A"}]
[2469,{"$f":"OFFSET(InputPriceData!B$15,CalculationsAndCharts!$A2501+$A$11,0,1,1)","v":"00:00:00"},{"$f":"OFFSET(InputPriceData!G$15,CalculationsAndCharts!$A2501+$A$11,IF($C$7,8,0),1,1)","v":0},{"$f":"OFFSET(InputPriceData!C$15,CalculationsAndCharts!$A2501+$A$11,IF($C$7,8,0),1,1)","v":0},{"$f":"OFFSET(InputPriceData!D$15,CalculationsAndCharts!$A2501+$A$11,IF($C$7,8,0),1,1)","v":0},{"$f":"OFFSET(InputPriceData!E$15,CalculationsAndCharts!$A2501+$A$11,IF($C$7,8,0),1,1)","v":0},{"$f":"OFFSET(InputPriceData!F$15,CalculationsAndCharts!$A2501+$A$11,IF($C$7,8,0),1,1)","v":0},0,0,0,0,0,0,{"$error":"#N/A"},false,0,false,{"$error":"#N/A"},{"$error":"#N/A"},true,false,false,false,false,false,{"$error":"#N/A"},false,{"$error":"#N/A"},false,false,false,false,false,false,{"$error":"#N/A"},0,0,0,0,0,null,{"$f":"OFFSET(InputIndexData!F$15,CalculationsAndCharts!$A2501+$A$11,IF($C$7,8,0),1,1)","v":0},0,1,1,true,null,212,{"$error":"#N/A"}]
[2470,{"$f":"OFFSET(InputPriceData!B$15,CalculationsAndCharts!$A2502+$A$11,0,1,1)","v":"00:00:00"},{"$f":"OFFSET(InputPriceData!G$15,CalculationsAndCharts!$A2502+$A$11,IF($C$7,8,0),1,1)","v":0},{"$f":"OFFSET(InputPriceData!C$15,CalculationsAndCharts!$A2502+$A$11,IF($C$7,8,0),1,1)","v":0},{"$f":"OFFSET(InputPriceData!D$15,CalculationsAndCharts!$A2502+$A$11,IF($C$7,8,0),1,1)","v":0},{"$f":"OFFSET(InputPriceData!E$15,CalculationsAndCharts!$A2502+$A$11,IF($C$7,8,0),1,1)","v":0},{"$f":"OFFSET(InputPriceData!F$15,CalculationsAndCharts!$A2502+$A$11,IF($C$7,8,0),1,1)","v":0},0,0,0,0,0,0,{"$error":"#N/A"},false,0,false,{"$error":"#N/A"},{"$error":"#N/A"},true,false,false,false,false,false,{"$error":"#N/A"},false,{"$error":"#N/A"},false,false,false,false,false,false,{"$error":"#N/A"},0,0,0,0,0,null,{"$f":"OFFSET(InputIndexData!F$15,CalculationsAndCharts!$A2502+$A$11,IF($C$7,8,0),1,1)","v":0},0,1,1,true,null,212,{"$error":"#N/A"}]
[2471,{"$f":"OFFSET(InputPriceData!B$15,CalculationsAndCharts!$A2503+$A$11,0,1,1)","v":"00:00:00"},{"$f":"OFFSET(InputPriceData!G$15,CalculationsAndCharts!$A2503+$A$11,IF($C$7,8,0),1,1)","v":0},{"$f":"OFFSET(InputPriceData!C$15,CalculationsAndCharts!$A2503+$A$11,IF($C$7,8,0),1,1)","v":0},{"$f":"OFFSET(InputPriceData!D$15,CalculationsAndCharts!$A2503+$A$11,IF($C$7,8,0),1,1)","v":0},{"$f":"OFFSET(InputPriceData!E$15,CalculationsAndCharts!$A2503+$A$11,IF($C$7,8,0),1,1)","v":0},{"$f":"OFFSET(InputPriceData!F$15,CalculationsAndCharts!$A2503+$A$11,IF($C$7,8,0),1,1)","v":0},0,0,0,0,0,0,{"$error":"#N/A"},false,0,false,{"$error":"#N/A"},{"$error":"#N/A"},true,false,false,false,false,false,{"$error":"#N/A"},false,{"$error":"#N/A"},false,false,false,false,false,false,{"$error":"#N/A"},0,0,0,0,0,null,{"$f":"OFFSET(InputIndexData!F$15,CalculationsAndCharts!$A2503+$A$11,IF($C$7,8,0),1,1)","v":0},0,1,1,true,null,212,{"$error":"#N/A"}]
[2472,{"$f":"OFFSET(InputPriceData!B$15,CalculationsAndCharts!$A2504+$A$11,0,1,1)","v":"00:00:00"},{"$f":"OFFSET(InputPriceData!G$15,CalculationsAndCharts!$A2504+$A$11,IF($C$7,8,0),1,1)","v":0},{"$f":"OFFSET(InputPriceData!C$15,CalculationsAndCharts!$A2504+$A$11,IF($C$7,8,0),1,1)","v":0},{"$f":"OFFSET(InputPriceData!D$15,CalculationsAndCharts!$A2504+$A$11,IF($C$7,8,0),1,1)","v":0},{"$f":"OFFSET(InputPriceData!E$15,CalculationsAndCharts!$A2504+$A$11,IF($C$7,8,0),1,1)","v":0},{"$f":"OFFSET(InputPriceData!F$15,CalculationsAndCharts!$A2504+$A$11,IF($C$7,8,0),1,1)","v":0},0,0,0,0,0,0,{"$error":"#N/A"},false,0,false,{"$error":"#N/A"},{"$error":"#N/A"},true,false,false,false,false,false,{"$error":"#N/A"},false,{"$error":"#N/A"},false,false,false,false,false,false,{"$error":"#N/A"},0,0,0,0,0,null,{"$f":"OFFSET(InputIndexData!F$15,CalculationsAndCharts!$A2504+$A$11,IF($C$7,8,0),1,1)","v":0},0,1,1,true,null,212,{"$error":"#N/A"}]
[2473,{"$f":"OFFSET(InputPriceData!B$15,CalculationsAndCharts!$A2505+$A$11,0,1,1)","v":"00:00:00"},{"$f":"OFFSET(InputPriceData!G$15,CalculationsAndCharts!$A2505+$A$11,IF($C$7,8,0),1,1)","v":0},{"$f":"OFFSET(InputPriceData!C$15,CalculationsAndCharts!$A2505+$A$11,IF($C$7,8,0),1,1)","v":0},{"$f":"OFFSET(InputPriceData!D$15,CalculationsAndCharts!$A2505+$A$11,IF($C$7,8,0),1,1)","v":0},{"$f":"OFFSET(InputPriceData!E$15,CalculationsAndCharts!$A2505+$A$11,IF($C$7,8,0),1,1)","v":0},{"$f":"OFFSET(InputPriceData!F$15,CalculationsAndCharts!$A2505+$A$11,IF($C$7,8,0),1,1)","v":0},0,0,0,0,0,0,{"$error":"#N/A"},false,0,false,{"$error":"#N/A"},{"$error":"#N/A"},true,false,false,false,false,false,{"$error":"#N/A"},false,{"$error":"#N/A"},false,false,false,false,false,false,{"$error":"#N/A"},0,0,0,0,0,null,{"$f":"OFFSET(InputIndexData!F$15,CalculationsAndCharts!$A2505+$A$11,IF($C$7,8,0),1,1)","v":0},0,1,1,true,null,212,{"$error":"#N/A"}]
[2474,{"$f":"OFFSET(InputPriceData!B$15,CalculationsAndCharts!$A2506+$A$11,0,1,1)","v":"00:00:00"},{"$f":"OFFSET(InputPriceData!G$15,CalculationsAndCharts!$A2506+$A$11,IF($C$7,8,0),1,1)","v":0},{"$f":"OFFSET(InputPriceData!C$15,CalculationsAndCharts!$A2506+$A$11,IF($C$7,8,0),1,1)","v":0},{"$f":"OFFSET(InputPriceData!D$15,CalculationsAndCharts!$A2506+$A$11,IF($C$7,8,0),1,1)","v":0},{"$f":"OFFSET(InputPriceData!E$15,CalculationsAndCharts!$A2506+$A$11,IF($C$7,8,0),1,1)","v":0},{"$f":"OFFSET(InputPriceData!F$15,CalculationsAndCharts!$A2506+$A$11,IF($C$7,8,0),1,1)","v":0},0,0,0,0,0,0,{"$error":"#N/A"},false,0,false,{"$error":"#N/A"},{"$error":"#N/A"},true,false,false,false,false,false,{"$error":"#N/A"},false,{"$error":"#N/A"},false,false,false,false,false,false,{"$error":"#N/A"},0,0,0,0,0,null,{"$f":"OFFSET(InputIndexData!F$15,CalculationsAndCharts!$A2506+$A$11,IF($C$7,8,0),1,1)","v":0},0,1,1,true,null,212,{"$error":"#N/A"}]
[2475,{"$f":"OFFSET(InputPriceData!B$15,CalculationsAndCharts!$A2507+$A$11,0,1,1)","v":"00:00:00"},{"$f":"OFFSET(InputPriceData!G$15,CalculationsAndCharts!$A2507+$A$11,IF($C$7,8,0),1,1)","v":0},{"$f":"OFFSET(InputPriceData!C$15,CalculationsAndCharts!$A2507+$A$11,IF($C$7,8,0),1,1)","v":0},{"$f":"OFFSET(InputPriceData!D$15,CalculationsAndCharts!$A2507+$A$11,IF($C$7,8,0),1,1)","v":0},{"$f":"OFFSET(InputPriceData!E$15,CalculationsAndCharts!$A2507+$A$11,IF($C$7,8,0),1,1)","v":0},{"$f":"OFFSET(InputPriceData!F$15,CalculationsAndCharts!$A2507+$A$11,IF($C$7,8,0),1,1)","v":0},0,0,0,0,0,0,{"$error":"#N/A"},false,0,false,{"$error":"#N/A"},{"$error":"#N/A"},true,false,false,false,false,false,{"$error":"#N/A"},false,{"$error":"#N/A"},false,false,false,false,false,false,{"$error":"#N/A"},0,0,0,0,0,null,{"$f":"OFFSET(InputIndexData!F$15,CalculationsAndCharts!$A2507+$A$11,IF($C$7,8,0),1,1)","v":0},0,1,1,true,null,212,{"$error":"#N/A"}]
[2476,{"$f":"OFFSET(InputPriceData!B$15,CalculationsAndCharts!$A2508+$A$11,0,1,1)","v":"00:00:00"},{"$f":"OFFSET(InputPriceData!G$15,CalculationsAndCharts!$A2508+$A$11,IF($C$7,8,0),1,1)","v":0},{"$f":"OFFSET(InputPriceData!C$15,CalculationsAndCharts!$A2508+$A$11,IF($C$7,8,0),1,1)","v":0},{"$f":"OFFSET(InputPriceData!D$15,CalculationsAndCharts!$A2508+$A$11,IF($C$7,8,0),1,1)","v":0},{"$f":"OFFSET(InputPriceData!E$15,CalculationsAndCharts!$A2508+$A$11,IF($C$7,8,0),1,1)","v":0},{"$f":"OFFSET(InputPriceData!F$15,CalculationsAndCharts!$A2508+$A$11,IF($C$7,8,0),1,1)","v":0},0,0,0,0,0,0,{"$error":"#N/A"},false,0,false,{"$error":"#N/A"},{"$error":"#N/A"},true,false,false,false,false,false,{"$error":"#N/A"},false,{"$error":"#N/A"},false,false,false,false,false,false,{"$error":"#N/A"},0,0,0,0,0,null,{"$f":"OFFSET(InputIndexData!F$15,CalculationsAndCharts!$A2508+$A$11,IF($C$7,8,0),1,1)","v":0},0,1,1,true,null,212,{"$error":"#N/A"}]
[2477,{"$f":"OFFSET(InputPriceData!B$15,CalculationsAndCharts!$A2509+$A$11,0,1,1)","v":"00:00:00"},{"$f":"OFFSET(InputPriceData!G$15,CalculationsAndCharts!$A2509+$A$11,IF($C$7,8,0),1,1)","v":0},{"$f":"OFFSET(InputPriceData!C$15,CalculationsAndCharts!$A2509+$A$11,IF($C$7,8,0),1,1)","v":0},{"$f":"OFFSET(InputPriceData!D$15,CalculationsAndCharts!$A2509+$A$11,IF($C$7,8,0),1,1)","v":0},{"$f":"OFFSET(InputPriceData!E$15,CalculationsAndCharts!$A2509+$A$11,IF($C$7,8,0),1,1)","v":0},{"$f":"OFFSET(InputPriceData!F$15,CalculationsAndCharts!$A2509+$A$11,IF($C$7,8,0),1,1)","v":0},0,0,0,0,0,0,{"$error":"#N/A"},false,0,false,{"$error":"#N/A"},{"$error":"#N/A"},true,false,false,false,false,false,{"$error":"#N/A"},false,{"$error":"#N/A"},false,false,false,false,false,false,{"$error":"#N/A"},0,0,0,0,0,null,{"$f":"OFFSET(InputIndexData!F$15,CalculationsAndCharts!$A2509+$A$11,IF($C$7,8,0),1,1)","v":0},0,1,1,true,null,212,{"$error":"#N/A"}]
[2478,{"$f":"OFFSET(InputPriceData!B$15,CalculationsAndCharts!$A2510+$A$11,0,1,1)","v":"00:00:00"},{"$f":"OFFSET(InputPriceData!G$15,CalculationsAndCharts!$A2510+$A$11,IF($C$7,8,0),1,1)","v":0},{"$f":"OFFSET(InputPriceData!C$15,CalculationsAndCharts!$A2510+$A$11,IF($C$7,8,0),1,1)","v":0},{"$f":"OFFSET(InputPriceData!D$15,CalculationsAndCharts!$A2510+$A$11,IF($C$7,8,0),1,1)","v":0},{"$f":"OFFSET(InputPriceData!E$15,CalculationsAndCharts!$A2510+$A$11,IF($C$7,8,0),1,1)","v":0},{"$f":"OFFSET(InputPriceData!F$15,CalculationsAndCharts!$A2510+$A$11,IF($C$7,8,0),1,1)","v":0},0,0,0,0,0,0,{"$error":"#N/A"},false,0,false,{"$error":"#N/A"},{"$error":"#N/A"},true,false,false,false,false,false,{"$error":"#N/A"},false,{"$error":"#N/A"},false,false,false,false,false,false,{"$error":"#N/A"},0,0,0,0,0,null,{"$f":"OFFSET(InputIndexData!F$15,CalculationsAndCharts!$A2510+$A$11,IF($C$7,8,0),1,1)","v":0},0,1,1,true,null,212,{"$error":"#N/A"}]
[2479,{"$f":"OFFSET(InputPriceData!B$15,CalculationsAndCharts!$A2511+$A$11,0,1,1)","v":"00:00:00"},{"$f":"OFFSET(InputPriceData!G$15,CalculationsAndCharts!$A2511+$A$11,IF($C$7,8,0),1,1)","v":0},{"$f":"OFFSET(InputPriceData!C$15,CalculationsAndCharts!$A2511+$A$11,IF($C$7,8,0),1,1)","v":0},{"$f":"OFFSET(InputPriceData!D$15,CalculationsAndCharts!$A2511+$A$11,IF($C$7,8,0),1,1)","v":0},{"$f":"OFFSET(InputPriceData!E$15,CalculationsAndCharts!$A2511+$A$11,IF($C$7,8,0),1,1)","v":0},{"$f":"OFFSET(InputPriceData!F$15,CalculationsAndCharts!$A2511+$A$11,IF($C$7,8,0),1,1)","v":0},0,0,0,0,0,0,{"$error":"#N/A"},false,0,false,{"$error":"#N/A"},{"$error":"#N/A"},true,false,false,false,false,false,{"$error":"#N/A"},false,{"$error":"#N/A"},false,false,false,false,false,false,{"$error":"#N/A"},0,0,0,0,0,null,{"$f":"OFFSET(InputIndexData!F$15,CalculationsAndCharts!$A2511+$A$11,IF($C$7,8,0),1,1)","v":0},0,1,1,true,null,212,{"$error":"#N/A"}]
[2480,{"$f":"OFFSET(InputPriceData!B$15,CalculationsAndCharts!$A2512+$A$11,0,1,1)","v":"00:00:00"},{"$f":"OFFSET(InputPriceData!G$15,CalculationsAndCharts!$A2512+$A$11,IF($C$7,8,0),1,1)","v":0},{"$f":"OFFSET(InputPriceData!C$15,CalculationsAndCharts!$A2512+$A$11,IF($C$7,8,0),1,1)","v":0},{"$f":"OFFSET(InputPriceData!D$15,CalculationsAndCharts!$A2512+$A$11,IF($C$7,8,0),1,1)","v":0},{"$f":"OFFSET(InputPriceData!E$15,CalculationsAndCharts!$A2512+$A$11,IF($C$7,8,0),1,1)","v":0},{"$f":"OFFSET(InputPriceData!F$15,CalculationsAndCharts!$A2512+$A$11,IF($C$7,8,0),1,1)","v":0},0,0,0,0,0,0,{"$error":"#N/A"},false,0,false,{"$error":"#N/A"},{"$error":"#N/A"},true,false,false,false,false,false,{"$error":"#N/A"},false,{"$error":"#N/A"},false,false,false,false,false,false,{"$error":"#N/A"},0,0,0,0,0,null,{"$f":"OFFSET(InputIndexData!F$15,CalculationsAndCharts!$A2512+$A$11,IF($C$7,8,0),1,1)","v":0},0,1,1,true,null,212,{"$error":"#N/A"}]
[2481,{"$f":"OFFSET(InputPriceData!B$15,CalculationsAndCharts!$A2513+$A$11,0,1,1)","v":"00:00:00"},{"$f":"OFFSET(InputPriceData!G$15,CalculationsAndCharts!$A2513+$A$11,IF($C$7,8,0),1,1)","v":0},{"$f":"OFFSET(InputPriceData!C$15,CalculationsAndCharts!$A2513+$A$11,IF($C$7,8,0),1,1)","v":0},{"$f":"OFFSET(InputPriceData!D$15,CalculationsAndCharts!$A2513+$A$11,IF($C$7,8,0),1,1)","v":0},{"$f":"OFFSET(InputPriceData!E$15,CalculationsAndCharts!$A2513+$A$11,IF($C$7,8,0),1,1)","v":0},{"$f":"OFFSET(InputPriceData!F$15,CalculationsAndCharts!$A2513+$A$11,IF($C$7,8,0),1,1)","v":0},0,0,0,0,0,0,{"$error":"#N/A"},false,0,false,{"$error":"#N/A"},{"$error":"#N/A"},true,false,false,false,false,false,{"$error":"#N/A"},false,{"$error":"#N/A"},false,false,false,false,false,false,{"$error":"#N/A"},0,0,0,0,0,null,{"$f":"OFFSET(InputIndexData!F$15,CalculationsAndCharts!$A2513+$A$11,IF($C$7,8,0),1,1)","v":0},0,1,1,true,null,212,{"$error":"#N/A"}]
[2482,{"$f":"OFFSET(InputPriceData!B$15,CalculationsAndCharts!$A2514+$A$11,0,1,1)","v":"00:00:00"},{"$f":"OFFSET(InputPriceData!G$15,CalculationsAndCharts!$A2514+$A$11,IF($C$7,8,0),1,1)","v":0},{"$f":"OFFSET(InputPriceData!C$15,CalculationsAndCharts!$A2514+$A$11,IF($C$7,8,0),1,1)","v":0},{"$f":"OFFSET(InputPriceData!D$15,CalculationsAndCharts!$A2514+$A$11,IF($C$7,8,0),1,1)","v":0},{"$f":"OFFSET(InputPriceData!E$15,CalculationsAndCharts!$A2514+$A$11,IF($C$7,8,0),1,1)","v":0},{"$f":"OFFSET(InputPriceData!F$15,CalculationsAndCharts!$A2514+$A$11,IF($C$7,8,0),1,1)","v":0},0,0,0,0,0,0,{"$error":"#N/A"},{"$f":"AND(G2515<=K2515,G2514>K2514,OR(P2515=\"DOWN\",P2515=0))","v":false},{"$f":"IF(AND(OR(P2515=0,P2515=\"UP\"),Q2514),\"DOWN\",IF(AND(OR(P2515=0,P2515=\"DOWN\"),O2514),\"UP\",P2515))","v":0},{"$f":"AND(G2515>=L2515,G2514<L2514,OR(P2515=0,P2515=\"UP\"))","v":false},{"$error":"#N/A"},{"$error":"#N/A"},true,false,false,false,false,false,{"$error":"#N/A"},false,{"$error":"#N/A"},false,false,false,false,false,false,{"$error":"#N/A"},0,0,0,0,0,null,{"$f":"OFFSET(InputIndexData!F$15,CalculationsAndCharts!$A2514+$A$11,IF($C$7,8,0),1,1)","v":0},0,1,1,true,null,212,{"$error":"#N/A"}]
[2483,{"$f":"OFFSET(InputPriceData!B$15,CalculationsAndCharts!$A2515+$A$11,0,1,1)","v":"00:00:00"},{"$f":"OFFSET(InputPriceData!G$15,CalculationsAndCharts!$A2515+$A$11,IF($C$7,8,0),1,1)","v":0},{"$f":"OFFSET(InputPriceData!C$15,CalculationsAndCharts!$A2515+$A$11,IF($C$7,8,0),1,1)","v":0},{"$f":"OFFSET(InputPriceData!D$15,CalculationsAndCharts!$A2515+$A$11,IF($C$7,8,0),1,1)","v":0},{"$f":"OFFSET(InputPriceData!E$15,CalculationsAndCharts!$A2515+$A$11,IF($C$7,8,0),1,1)","v":0},{"$f":"OFFSET(InputPriceData!F$15,CalculationsAndCharts!$A2515+$A$11,IF($C$7,8,0),1,1)","v":0},0,0,0,0,0,0,{"$error":"#N/A"},false,0,false,{"$error":"#N/A"},{"$error":"#N/A"},true,false,false,false,false,false,{"$error":"#N/A"},false,{"$error":"#N/A"},false,false,false,false,false,false,{"$error":"#N/A"},0,0,0,0,0,null,{"$f":"OFFSET(InputIndexData!F$15,CalculationsAndCharts!$A2515+$A$11,IF($C$7,8,0),1,1)","v":0},0,1,1,true,null,212,{"$error":"#N/A"}]
[2484,{"$f":"OFFSET(InputPriceData!B$15,CalculationsAndCharts!$A2516+$A$11,0,1,1)","v":"00:00:00"},{"$f":"OFFSET(InputPriceData!G$15,CalculationsAndCharts!$A2516+$A$11,IF($C$7,8,0),1,1)","v":0},{"$f":"OFFSET(InputPriceData!C$15,CalculationsAndCharts!$A2516+$A$11,IF($C$7,8,0),1,1)","v":0},{"$f":"OFFSET(InputPriceData!D$15,CalculationsAndCharts!$A2516+$A$11,IF($C$7,8,0),1,1)","v":0},{"$f":"OFFSET(InputPriceData!E$15,CalculationsAndCharts!$A2516+$A$11,IF($C$7,8,0),1,1)","v":0},{"$f":"OFFSET(InputPriceData!F$15,CalculationsAndCharts!$A2516+$A$11,IF($C$7,8,0),1,1)","v":0},0,0,0,0,0,0,{"$error":"#N/A"},false,0,false,{"$error":"#N/A"},{"$error":"#N/A"},true,false,false,false,false,false,{"$error":"#N/A"},false,{"$error":"#N/A"},false,false,false,false,false,false,{"$error":"#N/A"},0,0,0,0,0,null,{"$f":"OFFSET(InputIndexData!F$15,CalculationsAndCharts!$A2516+$A$11,IF($C$7,8,0),1,1)","v":0},0,1,1,true,null,212,{"$error":"#N/A"}]
[2485,{"$f":"OFFSET(InputPriceData!B$15,CalculationsAndCharts!$A2517+$A$11,0,1,1)","v":"00:00:00"},{"$f":"OFFSET(InputPriceData!G$15,CalculationsAndCharts!$A2517+$A$11,IF($C$7,8,0),1,1)","v":0},{"$f":"OFFSET(InputPriceData!C$15,CalculationsAndCharts!$A2517+$A$11,IF($C$7,8,0),1,1)","v":0},{"$f":"OFFSET(InputPriceData!D$15,CalculationsAndCharts!$A2517+$A$11,IF($C$7,8,0),1,1)","v":0},{"$f":"OFFSET(InputPriceData!E$15,CalculationsAndCharts!$A2517+$A$11,IF($C$7,8,0),1,1)","v":0},{"$f":"OFFSET(InputPriceData!F$15,CalculationsAndCharts!$A2517+$A$11,IF($C$7,8,0),1,1)","v":0},0,0,0,0,0,0,{"$error":"#N/A"},false,0,false,{"$error":"#N/A"},{"$error":"#N/A"},true,false,false,false,false,false,{"$error":"#N/A"},false,{"$error":"#N/A"},false,false,false,false,false,false,{"$error":"#N/A"},0,0,0,0,0,null,{"$f":"OFFSET(InputIndexData!F$15,CalculationsAndCharts!$A2517+$A$11,IF($C$7,8,0),1,1)","v":0},0,1,1,true,null,212,{"$error":"#N/A"}]
[2486,{"$f":"OFFSET(InputPriceData!B$15,CalculationsAndCharts!$A2518+$A$11,0,1,1)","v":"00:00:00"},{"$f":"OFFSET(InputPriceData!G$15,CalculationsAndCharts!$A2518+$A$11,IF($C$7,8,0),1,1)","v":0},{"$f":"OFFSET(InputPriceData!C$15,CalculationsAndCharts!$A2518+$A$11,IF($C$7,8,0),1,1)","v":0},{"$f":"OFFSET(InputPriceData!D$15,CalculationsAndCharts!$A2518+$A$11,IF($C$7,8,0),1,1)","v":0},{"$f":"OFFSET(InputPriceData!E$15,CalculationsAndCharts!$A2518+$A$11,IF($C$7,8,0),1,1)","v":0},{"$f":"OFFSET(InputPriceData!F$15,CalculationsAndCharts!$A2518+$A$11,IF($C$7,8,0),1,1)","v":0},0,0,0,0,0,0,{"$error":"#N/A"},false,0,false,{"$error":"#N/A"},{"$error":"#N/A"},true,false,false,false,false,false,{"$error":"#N/A"},false,{"$error":"#N/A"},false,false,false,false,false,false,{"$error":"#N/A"},0,0,0,0,0,null,{"$f":"OFFSET(InputIndexData!F$15,CalculationsAndCharts!$A2518+$A$11,IF($C$7,8,0),1,1)","v":0},0,1,1,true,null,212,{"$error":"#N/A"}]
[2487,{"$f":"OFFSET(InputPriceData!B$15,CalculationsAndCharts!$A2519+$A$11,0,1,1)","v":"00:00:00"},{"$f":"OFFSET(InputPriceData!G$15,CalculationsAndCharts!$A2519+$A$11,IF($C$7,8,0),1,1)","v":0},{"$f":"OFFSET(InputPriceData!C$15,CalculationsAndCharts!$A2519+$A$11,IF($C$7,8,0),1,1)","v":0},{"$f":"OFFSET(InputPriceData!D$15,CalculationsAndCharts!$A2519+$A$11,IF($C$7,8,0),1,1)","v":0},{"$f":"OFFSET(InputPriceData!E$15,CalculationsAndCharts!$A2519+$A$11,IF($C$7,8,0),1,1)","v":0},{"$f":"OFFSET(InputPriceData!F$15,CalculationsAndCharts!$A2519+$A$11,IF($C$7,8,0),1,1)","v":0},0,0,0,0,0,0,{"$error":"#N/A"},false,0,false,{"$error":"#N/A"},{"$error":"#N/A"},true,false,false,false,false,false,{"$error":"#N/A"},false,{"$error":"#N/A"},false,false,false,false,false,false,{"$error":"#N/A"},0,0,0,0,0,null,{"$f":"OFFSET(InputIndexData!F$15,CalculationsAndCharts!$A2519+$A$11,IF($C$7,8,0),1,1)","v":0},0,1,1,true,null,212,{"$error":"#N/A"}]
[2488,{"$f":"OFFSET(InputPriceData!B$15,CalculationsAndCharts!$A2520+$A$11,0,1,1)","v":"00:00:00"},{"$f":"OFFSET(InputPriceData!G$15,CalculationsAndCharts!$A2520+$A$11,IF($C$7,8,0),1,1)","v":0},{"$f":"OFFSET(InputPriceData!C$15,CalculationsAndCharts!$A2520+$A$11,IF($C$7,8,0),1,1)","v":0},{"$f":"OFFSET(InputPriceData!D$15,CalculationsAndCharts!$A2520+$A$11,IF($C$7,8,0),1,1)","v":0},{"$f":"OFFSET(InputPriceData!E$15,CalculationsAndCharts!$A2520+$A$11,IF($C$7,8,0),1,1)","v":0},{"$f":"OFFSET(InputPriceData!F$15,CalculationsAndCharts!$A2520+$A$11,IF($C$7,8,0),1,1)","v":0},0,0,0,0,0,0,{"$error":"#N/A"},false,0,false,{"$error":"#N/A"},{"$error":"#N/A"},true,false,false,false,false,false,{"$error":"#N/A"},false,{"$error":"#N/A"},false,false,false,false,false,false,{"$error":"#N/A"},0,0,0,0,0,null,{"$f":"OFFSET(InputIndexData!F$15,CalculationsAndCharts!$A2520+$A$11,IF($C$7,8,0),1,1)","v":0},0,1,1,true,null,212,{"$error":"#N/A"}]
[2489,{"$f":"OFFSET(InputPriceData!B$15,CalculationsAndCharts!$A2521+$A$11,0,1,1)","v":"00:00:00"},{"$f":"OFFSET(InputPriceData!G$15,CalculationsAndCharts!$A2521+$A$11,IF($C$7,8,0),1,1)","v":0},{"$f":"OFFSET(InputPriceData!C$15,CalculationsAndCharts!$A2521+$A$11,IF($C$7,8,0),1,1)","v":0},{"$f":"OFFSET(InputPriceData!D$15,CalculationsAndCharts!$A2521+$A$11,IF($C$7,8,0),1,1)","v":0},{"$f":"OFFSET(InputPriceData!E$15,CalculationsAndCharts!$A2521+$A$11,IF($C$7,8,0),1,1)","v":0},{"$f":"OFFSET(InputPriceData!F$15,CalculationsAndCharts!$A2521+$A$11,IF($C$7,8,0),1,1)","v":0},0,0,0,0,0,0,{"$error":"#N/A"},false,0,false,{"$error":"#N/A"},{"$error":"#N/A"},true,false,false,false,false,false,{"$error":"#N/A"},false,{"$error":"#N/A"},false,false,false,false,false,false,{"$error":"#N/A"},0,0,0,0,0,null,{"$f":"OFFSET(InputIndexData!F$15,CalculationsAndCharts!$A2521+$A$11,IF($C$7,8,0),1,1)","v":0},0,1,1,true,null,212,{"$error":"#N/A"}]
[2490,{"$f":"OFFSET(InputPriceData!B$15,CalculationsAndCharts!$A2522+$A$11,0,1,1)","v":"00:00:00"},{"$f":"OFFSET(InputPriceData!G$15,CalculationsAndCharts!$A2522+$A$11,IF($C$7,8,0),1,1)","v":0},{"$f":"OFFSET(InputPriceData!C$15,CalculationsAndCharts!$A2522+$A$11,IF($C$7,8,0),1,1)","v":0},{"$f":"OFFSET(InputPriceData!D$15,CalculationsAndCharts!$A2522+$A$11,IF($C$7,8,0),1,1)","v":0},{"$f":"OFFSET(InputPriceData!E$15,CalculationsAndCharts!$A2522+$A$11,IF($C$7,8,0),1,1)","v":0},{"$f":"OFFSET(InputPriceData!F$15,CalculationsAndCharts!$A2522+$A$11,IF($C$7,8,0),1,1)","v":0},0,0,0,0,0,0,{"$error":"#N/A"},false,0,false,{"$error":"#N/A"},{"$error":"#N/A"},true,false,false,false,false,false,{"$error":"#N/A"},false,{"$error":"#N/A"},false,false,false,false,false,false,{"$error":"#N/A"},0,0,0,0,0,null,{"$f":"OFFSET(InputIndexData!F$15,CalculationsAndCharts!$A2522+$A$11,IF($C$7,8,0),1,1)","v":0},0,1,1,true,null,212,{"$error":"#N/A"}]
[2491,{"$f":"OFFSET(InputPriceData!B$15,CalculationsAndCharts!$A2523+$A$11,0,1,1)","v":"00:00:00"},{"$f":"OFFSET(InputPriceData!G$15,CalculationsAndCharts!$A2523+$A$11,IF($C$7,8,0),1,1)","v":0},{"$f":"OFFSET(InputPriceData!C$15,CalculationsAndCharts!$A2523+$A$11,IF($C$7,8,0),1,1)","v":0},{"$f":"OFFSET(InputPriceData!D$15,CalculationsAndCharts!$A2523+$A$11,IF($C$7,8,0),1,1)","v":0},{"$f":"OFFSET(InputPriceData!E$15,CalculationsAndCharts!$A2523+$A$11,IF($C$7,8,0),1,1)","v":0},{"$f":"OFFSET(InputPriceData!F$15,CalculationsAndCharts!$A2523+$A$11,IF($C$7,8,0),1,1)","v":0},0,0,0,0,0,0,{"$error":"#N/A"},false,0,false,{"$error":"#N/A"},{"$error":"#N/A"},true,false,false,false,false,false,{"$error":"#N/A"},false,{"$error":"#N/A"},false,false,false,false,false,false,{"$error":"#N/A"},0,0,0,0,0,null,{"$f":"OFFSET(InputIndexData!F$15,CalculationsAndCharts!$A2523+$A$11,IF($C$7,8,0),1,1)","v":0},0,1,1,true,null,212,{"$error":"#N/A"}]
[2492,{"$f":"OFFSET(InputPriceData!B$15,CalculationsAndCharts!$A2524+$A$11,0,1,1)","v":"00:00:00"},{"$f":"OFFSET(InputPriceData!G$15,CalculationsAndCharts!$A2524+$A$11,IF($C$7,8,0),1,1)","v":0},{"$f":"OFFSET(InputPriceData!C$15,CalculationsAndCharts!$A2524+$A$11,IF($C$7,8,0),1,1)","v":0},{"$f":"OFFSET(InputPriceData!D$15,CalculationsAndCharts!$A2524+$A$11,IF($C$7,8,0),1,1)","v":0},{"$f":"OFFSET(InputPriceData!E$15,CalculationsAndCharts!$A2524+$A$11,IF($C$7,8,0),1,1)","v":0},{"$f":"OFFSET(InputPriceData!F$15,CalculationsAndCharts!$A2524+$A$11,IF($C$7,8,0),1,1)","v":0},0,0,0,0,0,0,{"$error":"#N/A"},false,0,false,{"$error":"#N/A"},{"$error":"#N/A"},true,false,false,false,false,false,{"$error":"#N/A"},false,{"$error":"#N/A"},false,false,false,false,false,false,{"$error":"#N/A"},0,0,0,0,0,null,{"$f":"OFFSET(InputIndexData!F$15,CalculationsAndCharts!$A2524+$A$11,IF($C$7,8,0),1,1)","v":0},0,1,1,true,null,212,{"$error":"#N/A"}]
[2493,{"$f":"OFFSET(InputPriceData!B$15,CalculationsAndCharts!$A2525+$A$11,0,1,1)","v":"00:00:00"},{"$f":"OFFSET(InputPriceData!G$15,CalculationsAndCharts!$A2525+$A$11,IF($C$7,8,0),1,1)","v":0},{"$f":"OFFSET(InputPriceData!C$15,CalculationsAndCharts!$A2525+$A$11,IF($C$7,8,0),1,1)","v":0},{"$f":"OFFSET(InputPriceData!D$15,CalculationsAndCharts!$A2525+$A$11,IF($C$7,8,0),1,1)","v":0},{"$f":"OFFSET(InputPriceData!E$15,CalculationsAndCharts!$A2525+$A$11,IF($C$7,8,0),1,1)","v":0},{"$f":"OFFSET(InputPriceData!F$15,CalculationsAndCharts!$A2525+$A$11,IF($C$7,8,0),1,1)","v":0},0,0,0,0,0,0,{"$error":"#N/A"},false,0,false,{"$error":"#N/A"},{"$error":"#N/A"},true,false,false,false,false,false,{"$error":"#N/A"},false,{"$error":"#N/A"},false,false,false,false,false,false,{"$error":"#N/A"},0,0,0,0,0,null,{"$f":"OFFSET(InputIndexData!F$15,CalculationsAndCharts!$A2525+$A$11,IF($C$7,8,0),1,1)","v":0},0,1,1,true,null,212,{"$error":"#N/A"}]
[2494,{"$f":"OFFSET(InputPriceData!B$15,CalculationsAndCharts!$A2526+$A$11,0,1,1)","v":"00:00:00"},{"$f":"OFFSET(InputPriceData!G$15,CalculationsAndCharts!$A2526+$A$11,IF($C$7,8,0),1,1)","v":0},{"$f":"OFFSET(InputPriceData!C$15,CalculationsAndCharts!$A2526+$A$11,IF($C$7,8,0),1,1)","v":0},{"$f":"OFFSET(InputPriceData!D$15,CalculationsAndCharts!$A2526+$A$11,IF($C$7,8,0),1,1)","v":0},{"$f":"OFFSET(InputPriceData!E$15,CalculationsAndCharts!$A2526+$A$11,IF($C$7,8,0),1,1)","v":0},{"$f":"OFFSET(InputPriceData!F$15,CalculationsAndCharts!$A2526+$A$11,IF($C$7,8,0),1,1)","v":0},0,0,0,0,0,0,{"$error":"#N/A"},{"$f":"AND(G2527<=K2527,G2526>K2526,OR(P2527=\"DOWN\",P2527=0))","v":false},0,false,{"$error":"#N/A"},{"$error":"#N/A"},true,false,false,false,false,false,{"$error":"#N/A"},false,{"$error":"#N/A"},false,false,false,false,false,false,{"$error":"#N/A"},0,0,0,0,0,null,{"$f":"OFFSET(InputIndexData!F$15,CalculationsAndCharts!$A2526+$A$11,IF($C$7,8,0),1,1)","v":0},0,1,1,true,null,212,{"$error":"#N/A"}]
[2495,{"$f":"OFFSET(InputPriceData!B$15,CalculationsAndCharts!$A2527+$A$11,0,1,1)","v":"00:00:00"},{"$f":"OFFSET(InputPriceData!G$15,CalculationsAndCharts!$A2527+$A$11,IF($C$7,8,0),1,1)","v":0},{"$f":"OFFSET(InputPriceData!C$15,CalculationsAndCharts!$A2527+$A$11,IF($C$7,8,0),1,1)","v":0},{"$f":"OFFSET(InputPriceData!D$15,CalculationsAndCharts!$A2527+$A$11,IF($C$7,8,0),1,1)","v":0},{"$f":"OFFSET(InputPriceData!E$15,CalculationsAndCharts!$A2527+$A$11,IF($C$7,8,0),1,1)","v":0},{"$f":"OFFSET(InputPriceData!F$15,CalculationsAndCharts!$A2527+$A$11,IF($C$7,8,0),1,1)","v":0},0,0,0,0,0,0,{"$error":"#N/A"},{"$f":"AND(G2528<=K2528,G2527>K2527,OR(P2528=\"DOWN\",P2528=0))","v":false},0,{"$f":"AND(G2528>=L2528,G2527<L2527,OR(P2528=0,P2528=\"UP\"))","v":false},{"$error":"#N/A"},{"$error":"#N/A"},true,false,false,false,false,false,{"$error":"#N/A"},false,{"$error":"#N/A"},false,false,false,false,false,false,{"$error":"#N/A"},0,0,0,0,0,null,{"$f":"OFFSET(InputIndexData!F$15,CalculationsAndCharts!$A2527+$A$11,IF($C$7,8,0),1,1)","v":0},0,1,1,true,null,212,{"$error":"#N/A"}]
[2496,{"$f":"OFFSET(InputPriceData!B$15,CalculationsAndCharts!$A2528+$A$11,0,1,1)","v":"00:00:00"},{"$f":"OFFSET(InputPriceData!G$15,CalculationsAndCharts!$A2528+$A$11,IF($C$7,8,0),1,1)","v":0},{"$f":"OFFSET(InputPriceData!C$15,CalculationsAndCharts!$A2528+$A$11,IF($C$7,8,0),1,1)","v":0},{"$f":"OFFSET(InputPriceData!D$15,CalculationsAndCharts!$A2528+$A$11,IF($C$7,8,0),1,1)","v":0},{"$f":"OFFSET(InputPriceData!E$15,CalculationsAndCharts!$A2528+$A$11,IF($C$7,8,0),1,1)","v":0},{"$f":"OFFSET(InputPriceData!F$15,CalculationsAndCharts!$A2528+$A$11,IF($C$7,8,0),1,1)","v":0},0,0,0,0,0,0,{"$error":"#N/A"},false,0,false,{"$error":"#N/A"},{"$error":"#N/A"},true,false,false,false,false,false,{"$error":"#N/A"},false,{"$error":"#N/A"},false,false,false,false,false,false,{"$error":"#N/A"},0,0,0,0,0,null,{"$f":"OFFSET(InputIndexData!F$15,CalculationsAndCharts!$A2528+$A$11,IF($C$7,8,0),1,1)","v":0},0,1,1,true,null,212,{"$error":"#N/A"}]
[2497,{"$f":"OFFSET(InputPriceData!B$15,CalculationsAndCharts!$A2529+$A$11,0,1,1)","v":"00:00:00"},{"$f":"OFFSET(InputPriceData!G$15,CalculationsAndCharts!$A2529+$A$11,IF($C$7,8,0),1,1)","v":0},{"$f":"OFFSET(InputPriceData!C$15,CalculationsAndCharts!$A2529+$A$11,IF($C$7,8,0),1,1)","v":0},{"$f":"OFFSET(InputPriceData!D$15,CalculationsAndCharts!$A2529+$A$11,IF($C$7,8,0),1,1)","v":0},{"$f":"OFFSET(InputPriceData!E$15,CalculationsAndCharts!$A2529+$A$11,IF($C$7,8,0),1,1)","v":0},{"$f":"OFFSET(InputPriceData!F$15,CalculationsAndCharts!$A2529+$A$11,IF($C$7,8,0),1,1)","v":0},{"$f":"AVERAGE(OFFSET(G2529,0,0,$A$17,1))","v":0},0,0,0,0,0,{"$error":"#N/A"},false,{"$f":"IF(AND(OR(P2530=0,P2530=\"UP\"),Q2529),\"DOWN\",IF(AND(OR(P2530=0,P2530=\"DOWN\"),O2529),\"UP\",P2530))","v":0},false,{"$error":"#N/A"},{"$error":"#N/A"},true,{"$f":"AND(T2529,O2529)","v":false},false,false,{"$f":"AND(W2529,Q2529)","v":false},false,{"$f":"IF(AND(NOT(AA2529),OR(W2529,Y2529)),$F$11,NA())","v":{"$error":"#N/A"}},false,{"$error":"#N/A"},false,{"$f":"AND(AC2529,Q2529)","v":false},{"$f":"AD2530","v":false},false,false,{"$f":"AG2530","v":false},{"$f":"IF(AND(NOT(AA2529),OR(AF2529,AH2529)),$F$11,NA())","v":{"$error":"#N/A"}},0,0,0,0,0,null,{"$f":"OFFSET(InputIndexData!F$15,CalculationsAndCharts!$A2529+$A$11,IF($C$7,8,0),1,1)","v":0},0,1,1,true,null,212,{"$error":"#N/A"}]
[2498,{"$f":"OFFSET(InputPriceData!B$15,CalculationsAndCharts!$A2530+$A$11,0,1,1)","v":"00:00:00"},{"$f":"OFFSET(InputPriceData!G$15,CalculationsAndCharts!$A2530+$A$11,IF($C$7,8,0),1,1)","v":0},{"$f":"OFFSET(InputPriceData!C$15,CalculationsAndCharts!$A2530+$A$11,IF($C$7,8,0),1,1)","v":0},{"$f":"OFFSET(InputPriceData!D$15,CalculationsAndCharts!$A2530+$A$11,IF($C$7,8,0),1,1)","v":0},{"$f":"OFFSET(InputPriceData!E$15,CalculationsAndCharts!$A2530+$A$11,IF($C$7,8,0),1,1)","v":0},{"$f":"OFFSET(InputPriceData!F$15,CalculationsAndCharts!$A2530+$A$11,IF($C$7,8,0),1,1)","v":0},0,0,0,0,0,{"$f":"IF(D2530<=G2530,C2530,NA())","v":0},{"$f":"IF(D2530<=G2530,NA(),C2530)","v":{"$error":"#N/A"}},false,0,false,{"$error":"#N/A"},{"$error":"#N/A"},{"$f":"AND(OR(NOT($R$11),AT2530),OR(NOT($R$12),J2530>=I2530),OR(NOT($R$13),I2530>=H2530),OR(NOT($R$14),G2530>=I2530))","v":true},false,false,false,false,false,{"$error":"#N/A"},false,{"$error":"#N/A"},false,false,false,{"$f":"IF(AE2530,TRUE,IF(AG2531,FALSE,AF2531))","v":false},{"$f":"AND(AF2530,O2530)","v":false},false,{"$error":"#N/A"},{"$f":"IF($R$3,H2530,NA())","v":0},{"$f":"IF($R$4,I2530,NA())","v":0},{"$f":"IF($R$5,J2530,NA())","v":0},{"$f":"IF($R$6,K2530,NA())","v":0},{"$f":"IF($R$6,L2530,NA())","v":0},null,{"$f":"OFFSET(InputIndexData!F$15,CalculationsAndCharts!$A2530+$A$11,IF($C$7,8,0),1,1)","v":0},{"$f":"AVERAGE(OFFSET(AP2530,0,0,$D$17,1))","v":0},{"$f":"IF(AQ2530-AQ2531>=0,1,-1)","v":1},{"$f":"AVERAGE(OFFSET(AR2530,0,0,$D$18,1))","v":1},{"$f":"OR(AS2530>0,AND(AS2530=0,AS2531>0))","v":true},null,212,{"$error":"#N/A"}]
[2499,{"$f":"OFFSET(InputPriceData!B$15,CalculationsAndCharts!$A2531+$A$11,0,1,1)","v":"00:00:00"},{"$f":"OFFSET(InputPriceData!G$15,CalculationsAndCharts!$A2531+$A$11,IF($C$7,8,0),1,1)","v":0},{"$f":"OFFSET(InputPriceData!C$15,CalculationsAndCharts!$A2531+$A$11,IF($C$7,8,0),1,1)","v":0},{"$f":"OFFSET(InputPriceData!D$15,CalculationsAndCharts!$A2531+$A$11,IF($C$7,8,0),1,1)","v":0},{"$f":"OFFSET(InputPriceData!E$15,CalculationsAndCharts!$A2531+$A$11,IF($C$7,8,0),1,1)","v":0},{"$f":"OFFSET(InputPriceData!F$15,CalculationsAndCharts!$A2531+$A$11,IF($C$7,8,0),1,1)","v":0},0,0,0,0,0,0,{"$error":"#N/A"},false,0,false,{"$error":"#N/A"},{"$error":"#N/A"},true,false,false,false,false,false,{"$error":"#N/A"},false,{"$error":"#N/A"},false,false,false,false,false,false,{"$error":"#N/A"},0,0,0,0,0,null,{"$f":"OFFSET(InputIndexData!F$15,CalculationsAndCharts!$A2531+$A$11,IF($C$7,8,0),1,1)","v":0},0,1,1,true,null,212,{"$error":"#N/A"}]
[2500,{"$f":"OFFSET(InputPriceData!B$15,CalculationsAndCharts!$A2532+$A$11,0,1,1)","v":"00:00:00"},{"$f":"OFFSET(InputPriceData!G$15,CalculationsAndCharts!$A2532+$A$11,IF($C$7,8,0),1,1)","v":0},{"$f":"OFFSET(InputPriceData!C$15,CalculationsAndCharts!$A2532+$A$11,IF($C$7,8,0),1,1)","v":0},{"$f":"OFFSET(InputPriceData!D$15,CalculationsAndCharts!$A2532+$A$11,IF($C$7,8,0),1,1)","v":0},{"$f":"OFFSET(InputPriceData!E$15,CalculationsAndCharts!$A2532+$A$11,IF($C$7,8,0),1,1)","v":0},{"$f":"OFFSET(InputPriceData!F$15,CalculationsAndCharts!$A2532+$A$11,IF($C$7,8,0),1,1)","v":0},0,0,0,0,0,0,{"$error":"#N/A"},false,{"$f":"IF(AND(OR(P2533=0,P2533=\"UP\"),Q2532),\"DOWN\",IF(AND(OR(P2533=0,P2533=\"DOWN\"),O2532),\"UP\",P2533))","v":0},{"$f":"AND(G2533>=L2533,G2532<L2532,OR(P2533=0,P2533=\"UP\"))","v":false},{"$error":"#N/A"},{"$error":"#N/A"},true,false,false,false,false,false,{"$error":"#N/A"},false,{"$error":"#N/A"},false,false,false,false,false,false,{"$error":"#N/A"},0,0,0,0,0,null,{"$f":"OFFSET(InputIndexData!F$15,CalculationsAndCharts!$A2532+$A$11,IF($C$7,8,0),1,1)","v":0},0,1,1,true,null,212,{"$error":"#N/A"}]
[null,null,null,null,null,null,null,null,null,null,null,null,null,null,null,0,null,null,null,false,false,false,false,false,false,null,null,null,false,false,false,false,false,false,{"$f":"IF(AF2533,$F$11,NA())","v":{"$error":"#N/A"}}]

{"sheet":"Follow","index":4,"n_rows":65,"n_cols":11,"rows_kept":65,"cut":false,"hidden":false,"merged":[]}
["Stocks and Indexes I wish to follow"]
[]
["To ease following a stock, enter a Yahoo Finance acceptable symbol in column \"A\" anywhere below cell \"A9\"."]
["Thereafter you may doubleclick the cell containing a symbol of interest to initiate data retrieval and charting for that symbol."]
[]
[]
["Symbol"]
["To","Description","Last Trade as of most recent check"]
["Follow",null,"Date","Time","Open","High","Low","Close","Volume","Change"]
["A","Agilent Technolog (A) -NYSE (Daily)","2015-02-02","16:03:00",37.9,38.76,37.71,38.69,2508493,0.92]
["AAL","American Airlines (AAL) -NasdaqNM (Daily)","2015-02-19","16:00:00",50.73,50.8,49.59,49.78,11462722,0.47]
["ADM","Archer-Daniels-Mi (ADM) -NYSE (Daily)","2015-02-02","16:00:00",46.79,48.195,46.72,48.17,6479474,1.54]
["AMC","AMC Entertainment Holdings, Inc (AMC) -NYQ (Daily)","2015-09-04","16:00:00",27.14,27.95,26.99,27.71,167990,0.28000000000000003]
["BSX","Boston Scientific Corporation C (BSX) -NYQ (Daily)","2015-03-13","16:01:00",16.84,16.91,16.440000000000001,16.61,7262460,-0.28000000000000003]
["CASY","Caseys General Stores, Inc. (CASY) -NMS (Daily)","2015-03-13","16:00:00",89.6,89.6,87.55,88,283264,-1.26]
["CSCO","Cisco Systems, In (CSCO) -NasdaqNM (Daily)","2015-02-19","16:00:00",29.32,29.39,29.13,29.31,21469012,-0.18]
["CVS","CVS Health Corpor (CVS) -NYSE (Daily)","2015-02-02","16:01:00",98.34,99.22,97.06,99.11,4416094,0.95]
["DIS","Walt Disney Compa (DIS) -NYSE (Daily)","2015-02-26","16:00:00",105.5,105.71,104.14,104.56,5044969,-1.01]
["EMC","EMC Corporation C (EMC) -NYSE (Daily)","2015-02-19","16:00:00",28.26,28.83,28.19,28.72,11049079,0.52]
["F","Ford Motor Company Common Stock (F) -NYQ (Daily)","2015-08-10","16:00:00",14.86,15,14.81,14.99,16804929,0.19]
["GSK","GlaxoSmithKline P (GSK) -NYSE (Daily)","2015-02-02","16:01:00",44.11,44.12,43.71,43.96,3654466,-0.04]
["HSY","The Hershey Compa (HSY) -NYSE (Daily)","2015-02-19","16:02:00",106.97,107.31,105.42,105.95,1448321,-1]
["HTLD","Heartland Express (HTLD) -NasdaqNM (Daily)","2015-02-02","16:00:00",25.68,25.81,25.36,25.62,542510,-7.0000000000000007E-2]
["IBM","International Bus (IBM) -NYSE (Daily)","2015-02-02","16:01:00",154,154.66,151.51,154.66,4712247,1.35]
["INTC","Intel Corporation (INTC) -NasdaqNM (Daily)","2015-02-19","16:00:00",34.25,34.42,34.049999999999997,34.21,11017541,-5.5E-2]
["JNJ","Johnson & Johnson (JNJ) -NYSE (Daily)","2015-02-19","16:00:00",99.98,100.84,99.61,100.7,10022266,0.74]
["KO","Coca-Cola Company (The) Common  (KO) -NYQ (Daily)","2015-08-10","16:00:00",41.89,41.99,41.58,41.68,9501875,-0.09]
["LHO","LaSalle Hotel Pro (LHO) -NYSE (Daily)","2015-02-02","16:06:00",40.51,40.74,39.46,40.26,1034675,-0.2]
["LINE","Linn Energy, LLC (LINE) -NasdaqNM (Daily)","2015-02-02","16:00:00",10.4,10.78,10.25,10.77,3766537,0.51]
["LO","Lorillard, Inc Co (LO) -NYSE (Daily)","2015-02-02","16:03:00",65.709999999999994,66.290000000000006,65.430000000000007,66.290000000000006,1563618,0.68]
["MCD","McDonald's Corpor (MCD) -NYSE (Daily)","2015-03-03","13:36:00",99.89,100.44,99.57,99.93,5222757,-7.0000000000000007E-2]
["MDT","Medtronic plc. Or (MDT) -NYSE (Daily)","2015-02-19","16:01:00",78.59,78.59,77.849999999999994,78.13,6900528,-0.37]
["MGM","MGM Resorts Inter (MGM) -NYSE (Daily)","2015-02-02","16:00:00",19.440000000000001,19.75,19.12,19.739999999999998,7570281,0.26]
["MO","Altria Group, Inc (MO) -NYSE (Daily)","2015-02-02","16:01:00",53.25,53.84,52.98,53.8,9183582,0.7]
["MSFT","Microsoft Corpora (MSFT) -NasdaqNM (Daily)","2015-02-20","16:00:00",43.51,43.88,43.29,43.854999999999997,29721132,0.35499999999999998]
["NVS","Novartis AG Commo (NVS) -NYSE (Daily)","2015-02-19","16:05:00",102.32,102.7,102.001,102.25,931036,0.08]
["PRU","Prudential Financ (PRU) -NYSE (Daily)","2015-02-23","12:22:00",80.25,80.4499,79.8,80.12,1604052,-0.69]
["PSEC","Prospect Capital Corporation (PSEC) -NMS (Daily)","2015-08-10","16:00:00",7.14,7.28,7.14,7.23,2132354,0.09]
["RAI","Reynolds American (RAI) -NYSE (Daily)","2015-02-02","16:03:00",68.12,69.06,67.434600000000003,69.05,1822013,1.1000000000000001]
["RPM","RPM International Inc. (RPM) -NYSE ","2015-09-08","15:01:00",43.55,43.96,43.3,43.94,114939,1.1100000000000001,"Owns Rust-Oleum"]
["RSP","Guggenheim S&P 50 (RSP) -PCX (Daily)","2015-02-02","16:00:00",78.040000000000006,78.81,77.16,78.55,4156915,0.83799999999999997]
["SONC","Sonic Corp. (SONC) -NasdaqNM (Daily)","2015-03-04","11:53:00",33.65,34.049999999999997,33.44,33.770000000000003,174036,-0.09]
["SWKS","Skyworks Solution (SWKS) -NasdaqNM (Daily)","2015-02-02","16:00:00",83.07,83.73,80.150000000000006,82.02,4119001,-1.03]
["TOL","Toll Brothers Inc (TOL) -NYSE (Daily)","2015-02-23","12:23:00",37.56,37.770000000000003,37.1,37.36,1521944,-0.28999999999999998]
["UNP","Union Pacific Cor (UNP) -NYSE (Daily)","2015-02-02","16:10:00",118.13,119.06,116.7,119.01,3259594,1.8]
["VZ","Verizon Communica (VZ) -NYSE (Daily)","2015-02-23","12:22:00",48.94,49,48.54,48.825000000000003,4204644,-0.14499999999999999]
["WBA"," (WBA) -NasdaqNM (Daily)","2015-02-02","16:00:00",73.06,74.98,73,74.89,4247395,1.1399999999999999]
["WMT","Wal-Mart Stores Inc. (WMT) -NYSE ","2015-09-08","14:34:00",65.23,66.38,65.2,66.290000000000006,12351247,2.4]
[]
["^NDX","NASDAQ-100 (^NDX) -NIM (Daily)","2015-08-10","17:15:00",4558.68,4583.63,4554.63,4573.1099999999997,0,53.03]
["^DJI","Dow Jones Industrial Average (^DJI) -DJI ","2015-09-08","15:16:00",16109.93,16478.330000000002,16109.93,16450.73,0,348.35]
["SPY","SPDR S&P 500 (SPY) -PCX (Daily)","2015-11-05","16:22:00",210.43,210.98,209.09,210.15,78408744,-0.21]
["^GSPC","S&P 500 (^GSPC) -SNP (Daily)","2015-09-04","16:30:00",1947.76,1947.76,1911.21,1921.22,665450828,-29.91]
["^RUT","Russell 2000 (^RUT) -WCB (Daily)","2015-09-09","11:10:00",1162.720581,1170.204712,1155.904419,1158.3663329999999,0,-3.3966059999999998]
["^VIX","VOLATILITY S&P 500 (^VIX) -WCB (Daily)","2015-08-07","16:14:00",13.57,14.58,13.29,13.39,0,-0.38]
[]
[]
["ACAD","ACADIA Pharmaceut (ACAD) -NasdaqNM (Daily)","2014-07-21","16:00:00",20.13,20.55,19.810099999999998,20.309999999999999,691016]
["CLDX","Celldex Therapeut (CLDX) -NasdaqNM (Daily)","2015-02-02","16:00:00",21.47,21.69,20.11,21.02,1570418,-0.4]
["ICPT","Intercept Pharmac (ICPT) -NasdaqNM (Daily)","2014-07-21","16:00:00",215.97,218.43,213.05,218.14,191276]
["INO","Inovio Pharmaceut (INO) -AMEX (Daily)","2014-07-21","16:00:00",10.3,11.08,10.1,11.01,1800796]
["JCP","J.C. Penney Compa (JCP) -NYSE (Daily)","2015-02-02","16:01:00",7.16,7.44,7.01,7.43,12772679,0.16]
["LCI","Lannett Co Inc Co (LCI) -NYSE (Daily)","2014-07-21","16:02:00",38.090000000000003,38.802999999999997,36.510100000000001,37.76,611367]
["NPSP","NPS Pharmaceutica (NPSP) -NasdaqNM (Daily)","2014-07-21","15:59:00",28.75,29.43,28.31,29.29,1126758]
["PBYI","Puma Biotechnolog (PBYI) -NYSE (Daily)","2014-07-21","16:02:00",58.27,59.46,57.39,58.98,348030]

{"sheet":"Transaction Summary","index":5,"n_rows":286,"n_cols":18,"rows_kept":286,"cut":false,"hidden":false,"merged":[[12,7,13,7],[12,8,13,8],[12,16,13,16],[12,17,13,17]]}
[null,"Transaction Summary (using trade size of 1 share)"]
[null,null,{"$f":"CalculationsAndCharts!$A$12","v":149},"Logically Available Bars on the \"CalculationsAndCharts\" tab constitute a "]
[null,null,null,{"$f":"\"Transaction reporting period extending from \" & TEXT(OFFSET(CalculationsAndCharts!$B$32,CalculationsAndCharts!$A$12,0,1,1),\"mm/dd/yyyy\") & \" to \"& TEXT(CalculationsAndCharts!$B$33,\"mm/dd/yyyy\")","v":"Transaction reporting period extending from 09/16/2014 to 04/20/2015"}]
[null,"Summary for LONG trades",null,null,null,null,null,null,null,null,"Summary for SHORT trades"]
[null,{"$f":"COUNT(OFFSET(B15,0,0,C2,1))","v":4},"LONG trades opened in this time period",null,null,null,null,null,null,null,{"$f":"COUNT(OFFSET(K15,0,0,$C$2,1))","v":0},"Short trades opened in this time period"]
[null,{"$f":"IF(B5=0,0,COUNTIF(OFFSET(H15,0,0,B5,1),\">0\"))","v":2},"Winners","Biggest Win",{"$f":"IF(B5=0,0,IF(B6>0,MAX(OFFSET(H15,0,0,B5,1)),0))","v":3.0800000000000125},null,null,"Sum of Gains",{"$f":"IF(B5=0,0,SUMIF(OFFSET(H15,0,0,B5,1),\">0\"))","v":4.7400000000000091},null,{"$f":"IF(K5=0,0,COUNTIF(OFFSET(Q15,0,0,K5,1),\">0\"))","v":0},"Winners","Biggest Win",{"$f":"IF(K6>0,MAX(OFFSET(Q15,0,0,K5,1)),0)","v":0},null,null,"Sum of Gains",{"$f":"IF(K5=0,0,SUMIF(OFFSET(Q15,0,0,K5,1),\">0\"))","v":0}]
[null,{"$f":"IF(B5=0,0,COUNTIF(OFFSET(H15,0,0,B5,1),\"<0\"))","v":2},"Losers","Biggest Loss",{"$f":"IF(B5=0,0,IF(B7>0,MIN(OFFSET(H15,0,0,B5,1)),0))","v":-4.5699999999999932},null,null,"Sum of Losses",{"$f":"IF(B5=0,0,SUMIF(OFFSET(H15,0,0,B5,1),\"<0\"))","v":-4.9699999999999704},null,{"$f":"IF(K5=0,0,COUNTIF(OFFSET(Q15,0,0,K5,1),\"<0\"))","v":0},"Losers","Biggest Loss",{"$f":"IF(K7>0,MIN(OFFSET(Q15,0,0,K5,1)),0)","v":0},null,null,"Sum of Losses",{"$f":"IF(K5=0,0,SUMIF(OFFSET(Q15,0,0,K5,1),\"<0\"))","v":0}]
[null,null,null,null,null,null,null,"NET change for Period",{"$f":"I6+I7","v":-0.22999999999996135},null,null,null,null,null,null,null,"NET change for Period",{"$f":"R6+R7","v":0}]
[]
[null,null,null,null,null,null,null,"Largest Negative Account Balance",{"$f":"IF(B5=0,0,IF(MIN(OFFSET(I15,0,0,B5,1))<0,MIN(OFFSET(I15,0,0,B5,1)),0))","v":-1.8899999999999579},null,null,null,null,null,null,null,"Largest Negative Account Balance",{"$f":"IF(K5=0,0,IF(MIN(OFFSET(R15,0,0,K5,1))< 0,MIN(OFFSET(R15,0,0,K5,1)),0))","v":0}]
[]
[null,null,null,null,{"$f":"IFERROR(MATCH(TRUE,OFFSET(CalculationsAndCharts!$Y$33,0,0,'Transaction Summary'!C2,1),0),\"\")","v":56},{"$f":"IF(E12=\"\",\"\",IF($E$12>$B$15,\"Open Trade; Marked to Current Bar Open\",\"\"))","v":""},null,null,null,null,null,null,null,{"$f":"IFERROR(MATCH(TRUE,OFFSET(CalculationsAndCharts!$AH$33,0,0,'Transaction Summary'!$C$2,1),0),\"\")","v":""},{"$f":"IF(N12=\"\",\"\",IF($N$12>$K$15,\"Open Trade; Marked to current bar Open\",\"\"))","v":""}]
[null,null,"Enter Long",null,null,"Exit Long",null,"Trade Result","Running Balance",null,null,"Enter Short",null,null,"Exit Short",null,"Trade Result","Running Balance"]
[null,"Rel Row","Date","$","Rel Row","Date","$",null,null,null,"Rel Row","Date","$","Rel Row","Date","$"]
[null,{"$f":"IF(E12=\"\",\"\",MATCH(TRUE,OFFSET(CalculationsAndCharts!$V$33,0,0,'Transaction Summary'!$C$2,1),0))","v":69},{"$f":"IF(E12=\"\",\"\",OFFSET(CalculationsAndCharts!$B$32,'Transaction Summary'!B15,0,1,1))","v":"2015-01-09"},{"$f":"IF(E12=\"\",\"\",OFFSET(CalculationsAndCharts!$D$32,'Transaction Summary'!B15,0,1,1))","v":146.65},{"$f":"IF($E$12>$B$15,\"OPEN\",$E$12)","v":56},{"$f":"IF(E15=\"\",\"\",IF($E$12>$B$15,CalculationsAndCharts!B33,OFFSET(CalculationsAndCharts!$B$32,'Transaction Summary'!E15,0,1,1)))","v":"2015-01-29"},{"$f":"IF(E15=\"\",\"\",IF($E$12>$B$15,CalculationsAndCharts!D33,OFFSET(CalculationsAndCharts!$D$32,'Transaction Summary'!E15,0,1,1)))","v":148.31},{"$f":"IF(E15=\"\",\"\",G15-D15)","v":1.6599999999999966},{"$f":"IFERROR(H15+IF(\"\"=I16,0,I16),\"\")","v":-0.22999999999996135},null,{"$f":"IFERROR(MATCH(TRUE,OFFSET(CalculationsAndCharts!$AE$33,0,0,'Transaction Summary'!$C$2,1),0),\"\")","v":""},{"$f":"IF(K15=\"\",\"\",OFFSET(CalculationsAndCharts!$B$32,'Transaction Summary'!K15,0,1,1))","v":""},{"$f":"IF(K15=\"\",\"\",OFFSET(CalculationsAndCharts!$D$32,'Transaction Summary'!K15,0,1,1))","v":""},{"$f":"IF($N$12>$K$15,\"OPEN\",$N$12)","v":""},{"$f":"IF(N15=\"\",\"\",IF($N$12>$K$15,CalculationsAndCharts!B33,OFFSET(CalculationsAndCharts!$B$32,'Transaction Summary'!N15,0,1,1)))","v":""},{"$f":"IF(N15=\"\",\"\",IF($N$12>$K$15,CalculationsAndCharts!D33,OFFSET(CalculationsAndCharts!$D$32,'Transaction Summary'!N15,0,1,1)))","v":""},{"$f":"IF(N15=\"\",\"\",M15-P15)","v":""},{"$f":"IFERROR(Q15+IF(\"\"=R16,0,R16),\"\")","v":""}]
[null,{"$f":"IFERROR(MATCH(TRUE,OFFSET(CalculationsAndCharts!$V$33,B15,0,'Transaction Summary'!$C$2-B15,1),0)+B15,\"\")","v":82},{"$f":"IFERROR(OFFSET(CalculationsAndCharts!$B$32,'Transaction Summary'!B16,0,1,1),\"\")","v":"2014-12-19"},{"$f":"IFERROR(OFFSET(CalculationsAndCharts!$D$32,'Transaction Summary'!B16,0,1,1),\"\")","v":148.85},{"$f":"IFERROR(IF($E$12>$B$15,$E$12,(MATCH(TRUE,OFFSET(CalculationsAndCharts!$Y$33,E15,0,'Transaction Summary'!$C$2-E15,1),0)+E15)),\"\")","v":74},{"$f":"IFERROR(OFFSET(CalculationsAndCharts!$B$32,'Transaction Summary'!E16,0,1,1),\"\")","v":"2015-01-02"},{"$f":"IFERROR(OFFSET(CalculationsAndCharts!$D$32,'Transaction Summary'!E16,0,1,1),\"\")","v":144.28},{"$f":"IFERROR(G16-D16,\"\")","v":-4.5699999999999932},{"$f":"IFERROR(H16+IF(\"\"=I17,0,I17),\"\")","v":-1.8899999999999579},null,{"$f":"IFERROR(MATCH(TRUE,OFFSET(CalculationsAndCharts!$AE$33,K15,0,'Transaction Summary'!$C$2-K15,1),0)+K15,\"\")","v":""},{"$f":"IFERROR(OFFSET(CalculationsAndCharts!$B$32,'Transaction Summary'!K16,0,1,1),\"\")","v":""},{"$f":"IFERROR(OFFSET(CalculationsAndCharts!$D$32,'Transaction Summary'!K16,0,1,1),\"\")","v":""},{"$f":"IFERROR(IF($N$12>$K$15,$N$12,MATCH(TRUE,OFFSET(CalculationsAndCharts!$AH$33,N15,0,'Transaction Summary'!$C$2-N15,1),0)+N15),\"\")","v":""},{"$f":"IFERROR(OFFSET(CalculationsAndCharts!$B$32,'Transaction Summary'!N16,0,1,1),\"\")","v":""},{"$f":"IFERROR(OFFSET(CalculationsAndCharts!$D$32,'Transaction Summary'!N16,0,1,1),\"\")","v":""},{"$f":"IFERROR(M16-P16,\"\")","v":""},""]
[null,{"$f":"IFERROR(MATCH(TRUE,OFFSET(CalculationsAndCharts!$V$33,B16,0,'Transaction Summary'!$C$2-B16,1),0)+B16,\"\")","v":106},{"$f":"IFERROR(OFFSET(CalculationsAndCharts!$B$32,'Transaction Summary'!B17,0,1,1),\"\")","v":"2014-11-14"},{"$f":"IFERROR(OFFSET(CalculationsAndCharts!$D$32,'Transaction Summary'!B17,0,1,1),\"\")","v":137.19999999999999},{"$f":"IFERROR(IF($E$12>$B$15,$E$12,(MATCH(TRUE,OFFSET(CalculationsAndCharts!$Y$33,E16,0,'Transaction Summary'!$C$2-E16,1),0)+E16)),\"\")","v":84},{"$f":"IFERROR(OFFSET(CalculationsAndCharts!$B$32,'Transaction Summary'!E17,0,1,1),\"\")","v":"2014-12-17"},{"$f":"IFERROR(OFFSET(CalculationsAndCharts!$D$32,'Transaction Summary'!E17,0,1,1),\"\")","v":140.28},{"$f":"IFERROR(G17-D17,\"\")","v":3.0800000000000125},{"$f":"IFERROR(H17+IF(\"\"=I18,0,I18),\"\")","v":2.6800000000000352},null,{"$f":"IFERROR(MATCH(TRUE,OFFSET(CalculationsAndCharts!$AE$33,K16,0,'Transaction Summary'!$C$2-K16,1),0)+K16,\"\")","v":""},{"$f":"IFERROR(OFFSET(CalculationsAndCharts!$B$32,'Transaction Summary'!K17,0,1,1),\"\")","v":""},{"$f":"IFERROR(OFFSET(CalculationsAndCharts!$D$32,'Transaction Summary'!K17,0,1,1),\"\")","v":""},{"$f":"IFERROR(IF($N$12>$K$15,$N$12,MATCH(TRUE,OFFSET(CalculationsAndCharts!$AH$33,N16,0,'Transaction Summary'!$C$2-N16,1),0)+N16),\"\")","v":""},{"$f":"IFERROR(OFFSET(CalculationsAndCharts!$B$32,'Transaction Summary'!N17,0,1,1),\"\")","v":""},{"$f":"IFERROR(OFFSET(CalculationsAndCharts!$D$32,'Transaction Summary'!N17,0,1,1),\"\")","v":""},"",""]
[null,{"$f":"IFERROR(MATCH(TRUE,OFFSET(CalculationsAndCharts!$V$33,B17,0,'Transaction Summary'!$C$2-B17,1),0)+B17,\"\")","v":148},{"$f":"IFERROR(OFFSET(CalculationsAndCharts!$B$32,'Transaction Summary'!B18,0,1,1),\"\")","v":"2014-09-17"},{"$f":"IFERROR(OFFSET(CalculationsAndCharts!$D$32,'Transaction Summary'!B18,0,1,1),\"\")","v":131.44999999999999},{"$f":"IFERROR(IF($E$12>$B$15,$E$12,(MATCH(TRUE,OFFSET(CalculationsAndCharts!$Y$33,E17,0,'Transaction Summary'!$C$2-E17,1),0)+E17)),\"\")","v":141},{"$f":"IFERROR(OFFSET(CalculationsAndCharts!$B$32,'Transaction Summary'!E18,0,1,1),\"\")","v":"2014-09-26"},{"$f":"IFERROR(OFFSET(CalculationsAndCharts!$D$32,'Transaction Summary'!E18,0,1,1),\"\")","v":131.05000000000001},{"$f":"IFERROR(G18-D18,\"\")","v":-0.39999999999997726},{"$f":"IFERROR(H18+IF(\"\"=I19,0,I19),\"\")","v":-0.39999999999997726},null,{"$f":"IFERROR(MATCH(TRUE,OFFSET(CalculationsAndCharts!$AE$33,K17,0,'Transaction Summary'!$C$2-K17,1),0)+K17,\"\")","v":""},{"$f":"IFERROR(OFFSET(CalculationsAndCharts!$B$32,'Transaction Summary'!K18,0,1,1),\"\")","v":""},{"$f":"IFERROR(OFFSET(CalculationsAndCharts!$D$32,'Transaction Summary'!K18,0,1,1),\"\")","v":""},{"$f":"IFERROR(IF($N$12>$K$15,$N$12,MATCH(TRUE,OFFSET(CalculationsAndCharts!$AH$33,N17,0,'Transaction Summary'!$C$2-N17,1),0)+N17),\"\")","v":""},{"$f":"IFERROR(OFFSET(CalculationsAndCharts!$B$32,'Transaction Summary'!N18,0,1,1),\"\")","v":""},{"$f":"IFERROR(OFFSET(CalculationsAndCharts!$D$32,'Transaction Summary'!N18,0,1,1),\"\")","v":""},{"$f":"IFERROR(M18-P18,\"\")","v":""},{"$f":"IFERROR(Q18+IF(\"\"=R19,0,R19),\"\")","v":""}]
[null,{"$f":"IFERROR(MATCH(TRUE,OFFSET(CalculationsAndCharts!$V$33,B18,0,'Transaction Summary'!$C$2-B18,1),0)+B18,\"\")","v":""},{"$f":"IFERROR(OFFSET(CalculationsAndCharts!$B$32,'Transaction Summary'!B19,0,1,1),\"\")","v":""},{"$f":"IFERROR(OFFSET(CalculationsAndCharts!$D$32,'Transaction Summary'!B19,0,1,1),\"\")","v":""},{"$f":"IFERROR(IF($E$12>$B$15,$E$12,(MATCH(TRUE,OFFSET(CalculationsAndCharts!$Y$33,E18,0,'Transaction Summary'!$C$2-E18,1),0)+E18)),\"\")","v":""},{"$f":"IFERROR(OFFSET(CalculationsAndCharts!$B$32,'Transaction Summary'!E19,0,1,1),\"\")","v":""},{"$f":"IFERROR(OFFSET(CalculationsAndCharts!$D$32,'Transaction Summary'!E19,0,1,1),\"\")","v":""},"","",null,{"$f":"IFERROR(MATCH(TRUE,OFFSET(CalculationsAndCharts!$AE$33,K18,0,'Transaction Summary'!$C$2-K18,1),0)+K18,\"\")","v":""},{"$f":"IFERROR(OFFSET(CalculationsAndCharts!$B$32,'Transaction Summary'!K19,0,1,1),\"\")","v":""},{"$f":"IFERROR(OFFSET(CalculationsAndCharts!$D$32,'Transaction Summary'!K19,0,1,1),\"\")","v":""},{"$f":"IFERROR(IF($N$12>$K$15,$N$12,MATCH(TRUE,OFFSET(CalculationsAndCharts!$AH$33,N18,0,'Transaction Summary'!$C$2-N18,1),0)+N18),\"\")","v":""},{"$f":"IFERROR(OFFSET(CalculationsAndCharts!$B$32,'Transaction Summary'!N19,0,1,1),\"\")","v":""},{"$f":"IFERROR(OFFSET(CalculationsAndCharts!$D$32,'Transaction Summary'!N19,0,1,1),\"\")","v":""},"",""]
[null,{"$f":"IFERROR(MATCH(TRUE,OFFSET(CalculationsAndCharts!$V$33,B19,0,'Transaction Summary'!$C$2-B19,1),0)+B19,\"\")","v":""},{"$f":"IFERROR(OFFSET(CalculationsAndCharts!$B$32,'Transaction Summary'!B20,0,1,1),\"\")","v":""},{"$f":"IFERROR(OFFSET(CalculationsAndCharts!$D$32,'Transaction Summary'!B20,0,1,1),\"\")","v":""},{"$f":"IFERROR(IF($E$12>$B$15,$E$12,(MATCH(TRUE,OFFSET(CalculationsAndCharts!$Y$33,E19,0,'Transaction Summary'!$C$2-E19,1),0)+E19)),\"\")","v":""},{"$f":"IFERROR(OFFSET(CalculationsAndCharts!$B$32,'Transaction Summary'!E20,0,1,1),\"\")","v":""},{"$f":"IFERROR(OFFSET(CalculationsAndCharts!$D$32,'Transaction Summary'!E20,0,1,1),\"\")","v":""},"","",null,{"$f":"IFERROR(MATCH(TRUE,OFFSET(CalculationsAndCharts!$AE$33,K19,0,'Transaction Summary'!$C$2-K19,1),0)+K19,\"\")","v":""},{"$f":"IFERROR(OFFSET(CalculationsAndCharts!$B$32,'Transaction Summary'!K20,0,1,1),\"\")","v":""},{"$f":"IFERROR(OFFSET(CalculationsAndCharts!$D$32,'Transaction Summary'!K20,0,1,1),\"\")","v":""},{"$f":"IFERROR(IF($N$12>$K$15,$N$12,MATCH(TRUE,OFFSET(CalculationsAndCharts!$AH$33,N19,0,'Transaction Summary'!$C$2-N19,1),0)+N19),\"\")","v":""},{"$f":"IFERROR(OFFSET(CalculationsAndCharts!$B$32,'Transaction Summary'!N20,0,1,1),\"\")","v":""},{"$f":"IFERROR(OFFSET(CalculationsAndCharts!$D$32,'Transaction Summary'!N20,0,1,1),\"\")","v":""},"",""]
[null,{"$f":"IFERROR(MATCH(TRUE,OFFSET(CalculationsAndCharts!$V$33,B20,0,'Transaction Summary'!$C$2-B20,1),0)+B20,\"\")","v":""},{"$f":"IFERROR(OFFSET(CalculationsAndCharts!$B$32,'Transaction Summary'!B21,0,1,1),\"\")","v":""},{"$f":"IFERROR(OFFSET(CalculationsAndCharts!$D$32,'Transaction Summary'!B21,0,1,1),\"\")","v":""},{"$f":"IFERROR(IF($E$12>$B$15,$E$12,(MATCH(TRUE,OFFSET(CalculationsAndCharts!$Y$33,E20,0,'Transaction Summary'!$C$2-E20,1),0)+E20)),\"\")","v":""},{"$f":"IFERROR(OFFSET(CalculationsAndCharts!$B$32,'Transaction Summary'!E21,0,1,1),\"\")","v":""},{"$f":"IFERROR(OFFSET(CalculationsAndCharts!$D$32,'Transaction Summary'!E21,0,1,1),\"\")","v":""},"","",null,{"$f":"IFERROR(MATCH(TRUE,OFFSET(CalculationsAndCharts!$AE$33,K20,0,'Transaction Summary'!$C$2-K20,1),0)+K20,\"\")","v":""},{"$f":"IFERROR(OFFSET(CalculationsAndCharts!$B$32,'Transaction Summary'!K21,0,1,1),\"\")","v":""},{"$f":"IFERROR(OFFSET(CalculationsAndCharts!$D$32,'Transaction Summary'!K21,0,1,1),\"\")","v":""},{"$f":"IFERROR(IF($N$12>$K$15,$N$12,MATCH(TRUE,OFFSET(CalculationsAndCharts!$AH$33,N20,0,'Transaction Summary'!$C$2-N20,1),0)+N20),\"\")","v":""},{"$f":"IFERROR(OFFSET(CalculationsAndCharts!$B$32,'Transaction Summary'!N21,0,1,1),\"\")","v":""},{"$f":"IFERROR(OFFSET(CalculationsAndCharts!$D$32,'Transaction Summary'!N21,0,1,1),\"\")","v":""},"",""]
[null,{"$f":"IFERROR(MATCH(TRUE,OFFSET(CalculationsAndCharts!$V$33,B21,0,'Transaction Summary'!$C$2-B21,1),0)+B21,\"\")","v":""},{"$f":"IFERROR(OFFSET(CalculationsAndCharts!$B$32,'Transaction Summary'!B22,0,1,1),\"\")","v":""},{"$f":"IFERROR(OFFSET(CalculationsAndCharts!$D$32,'Transaction Summary'!B22,0,1,1),\"\")","v":""},{"$f":"IFERROR(IF($E$12>$B$15,$E$12,(MATCH(TRUE,OFFSET(CalculationsAndCharts!$Y$33,E21,0,'Transaction Summary'!$C$2-E21,1),0)+E21)),\"\")","v":""},{"$f":"IFERROR(OFFSET(CalculationsAndCharts!$B$32,'Transaction Summary'!E22,0,1,1),\"\")","v":""},{"$f":"IFERROR(OFFSET(CalculationsAndCharts!$D$32,'Transaction Summary'!E22,0,1,1),\"\")","v":""},"","",null,{"$f":"IFERROR(MATCH(TRUE,OFFSET(CalculationsAndCharts!$AE$33,K21,0,'Transaction Summary'!$C$2-K21,1),0)+K21,\"\")","v":""},{"$f":"IFERROR(OFFSET(CalculationsAndCharts!$B$32,'Transaction Summary'!K22,0,1,1),\"\")","v":""},{"$f":"IFERROR(OFFSET(CalculationsAndCharts!$D$32,'Transaction Summary'!K22,0,1,1),\"\")","v":""},{"$f":"IFERROR(IF($N$12>$K$15,$N$12,MATCH(TRUE,OFFSET(CalculationsAndCharts!$AH$33,N21,0,'Transaction Summary'!$C$2-N21,1),0)+N21),\"\")","v":""},{"$f":"IFERROR(OFFSET(CalculationsAndCharts!$B$32,'Transaction Summary'!N22,0,1,1),\"\")","v":""},{"$f":"IFERROR(OFFSET(CalculationsAndCharts!$D$32,'Transaction Summary'!N22,0,1,1),\"\")","v":""},"",""]
[null,{"$f":"IFERROR(MATCH(TRUE,OFFSET(CalculationsAndCharts!$V$33,B22,0,'Transaction Summary'!$C$2-B22,1),0)+B22,\"\")","v":""},{"$f":"IFERROR(OFFSET(CalculationsAndCharts!$B$32,'Transaction Summary'!B23,0,1,1),\"\")","v":""},{"$f":"IFERROR(OFFSET(CalculationsAndCharts!$D$32,'Transaction Summary'!B23,0,1,1),\"\")","v":""},{"$f":"IFERROR(IF($E$12>$B$15,$E$12,(MATCH(TRUE,OFFSET(CalculationsAndCharts!$Y$33,E22,0,'Transaction Summary'!$C$2-E22,1),0)+E22)),\"\")","v":""},{"$f":"IFERROR(OFFSET(CalculationsAndCharts!$B$32,'Transaction Summary'!E23,0,1,1),\"\")","v":""},{"$f":"IFERROR(OFFSET(CalculationsAndCharts!$D$32,'Transaction Summary'!E23,0,1,1),\"\")","v":""},"","",null,{"$f":"IFERROR(MATCH(TRUE,OFFSET(CalculationsAndCharts!$AE$33,K22,0,'Transaction Summary'!$C$2-K22,1),0)+K22,\"\")","v":""},{"$f":"IFERROR(OFFSET(CalculationsAndCharts!$B$32,'Transaction Summary'!K23,0,1,1),\"\")","v":""},{"$f":"IFERROR(OFFSET(CalculationsAndCharts!$D$32,'Transaction Summary'!K23,0,1,1),\"\")","v":""},{"$f":"IFERROR(IF($N$12>$K$15,$N$12,MATCH(TRUE,OFFSET(CalculationsAndCharts!$AH$33,N22,0,'Transaction Summary'!$C$2-N22,1),0)+N22),\"\")","v":""},{"$f":"IFERROR(OFFSET(CalculationsAndCharts!$B$32,'Transaction Summary'!N23,0,1,1),\"\")","v":""},{"$f":"IFERROR(OFFSET(CalculationsAndCharts!$D$32,'Transaction Summary'!N23,0,1,1),\"\")","v":""},"",""]
[null,{"$f":"IFERROR(MATCH(TRUE,OFFSET(CalculationsAndCharts!$V$33,B23,0,'Transaction Summary'!$C$2-B23,1),0)+B23,\"\")","v":""},{"$f":"IFERROR(OFFSET(CalculationsAndCharts!$B$32,'Transaction Summary'!B24,0,1,1),\"\")","v":""},{"$f":"IFERROR(OFFSET(CalculationsAndCharts!$D$32,'Transaction Summary'!B24,0,1,1),\"\")","v":""},{"$f":"IFERROR(IF($E$12>$B$15,$E$12,(MATCH(TRUE,OFFSET(CalculationsAndCharts!$Y$33,E23,0,'Transaction Summary'!$C$2-E23,1),0)+E23)),\"\")","v":""},{"$f":"IFERROR(OFFSET(CalculationsAndCharts!$B$32,'Transaction Summary'!E24,0,1,1),\"\")","v":""},{"$f":"IFERROR(OFFSET(CalculationsAndCharts!$D$32,'Transaction Summary'!E24,0,1,1),\"\")","v":""},"","",null,{"$f":"IFERROR(MATCH(TRUE,OFFSET(CalculationsAndCharts!$AE$33,K23,0,'Transaction Summary'!$C$2-K23,1),0)+K23,\"\")","v":""},{"$f":"IFERROR(OFFSET(CalculationsAndCharts!$B$32,'Transaction Summary'!K24,0,1,1),\"\")","v":""},{"$f":"IFERROR(OFFSET(CalculationsAndCharts!$D$32,'Transaction Summary'!K24,0,1,1),\"\")","v":""},{"$f":"IFERROR(IF($N$12>$K$15,$N$12,MATCH(TRUE,OFFSET(CalculationsAndCharts!$AH$33,N23,0,'Transaction Summary'!$C$2-N23,1),0)+N23),\"\")","v":""},{"$f":"IFERROR(OFFSET(CalculationsAndCharts!$B$32,'Transaction Summary'!N24,0,1,1),\"\")","v":""},{"$f":"IFERROR(OFFSET(CalculationsAndCharts!$D$32,'Transaction Summary'!N24,0,1,1),\"\")","v":""},"",""]
[null,{"$f":"IFERROR(MATCH(TRUE,OFFSET(CalculationsAndCharts!$V$33,B24,0,'Transaction Summary'!$C$2-B24,1),0)+B24,\"\")","v":""},{"$f":"IFERROR(OFFSET(CalculationsAndCharts!$B$32,'Transaction Summary'!B25,0,1,1),\"\")","v":""},{"$f":"IFERROR(OFFSET(CalculationsAndCharts!$D$32,'Transaction Summary'!B25,0,1,1),\"\")","v":""},{"$f":"IFERROR(IF($E$12>$B$15,$E$12,(MATCH(TRUE,OFFSET(CalculationsAndCharts!$Y$33,E24,0,'Transaction Summary'!$C$2-E24,1),0)+E24)),\"\")","v":""},{"$f":"IFERROR(OFFSET(CalculationsAndCharts!$B$32,'Transaction Summary'!E25,0,1,1),\"\")","v":""},{"$f":"IFERROR(OFFSET(CalculationsAndCharts!$D$32,'Transaction Summary'!E25,0,1,1),\"\")","v":""},"","",null,{"$f":"IFERROR(MATCH(TRUE,OFFSET(CalculationsAndCharts!$AE$33,K24,0,'Transaction Summary'!$C$2-K24,1),0)+K24,\"\")","v":""},{"$f":"IFERROR(OFFSET(CalculationsAndCharts!$B$32,'Transaction Summary'!K25,0,1,1),\"\")","v":""},{"$f":"IFERROR(OFFSET(CalculationsAndCharts!$D$32,'Transaction Summary'!K25,0,1,1),\"\")","v":""},{"$f":"IFERROR(IF($N$12>$K$15,$N$12,MATCH(TRUE,OFFSET(CalculationsAndCharts!$AH$33,N24,0,'Transaction Summary'!$C$2-N24,1),0)+N24),\"\")","v":""},{"$f":"IFERROR(OFFSET(CalculationsAndCharts!$B$32,'Transaction Summary'!N25,0,1,1),\"\")","v":""},{"$f":"IFERROR(OFFSET(CalculationsAndCharts!$D$32,'Transaction Summary'!N25,0,1,1),\"\")","v":""},"",""]
[null,{"$f":"IFERROR(MATCH(TRUE,OFFSET(CalculationsAndCharts!$V$33,B25,0,'Transaction Summary'!$C$2-B25,1),0)+B25,\"\")","v":""},{"$f":"IFERROR(OFFSET(CalculationsAndCharts!$B$32,'Transaction Summary'!B26,0,1,1),\"\")","v":""},{"$f":"IFERROR(OFFSET(CalculationsAndCharts!$D$32,'Transaction Summary'!B26,0,1,1),\"\")","v":""},{"$f":"IFERROR(IF($E$12>$B$15,$E$12,(MATCH(TRUE,OFFSET(CalculationsAndCharts!$Y$33,E25,0,'Transaction Summary'!$C$2-E25,1),0)+E25)),\"\")","v":""},{"$f":"IFERROR(OFFSET(CalculationsAndCharts!$B$32,'Transaction Summary'!E26,0,1,1),\"\")","v":""},{"$f":"IFERROR(OFFSET(CalculationsAndCharts!$D$32,'Transaction Summary'!E26,0,1,1),\"\")","v":""},"","",null,{"$f":"IFERROR(MATCH(TRUE,OFFSET(CalculationsAndCharts!$AE$33,K25,0,'Transaction Summary'!$C$2-K25,1),0)+K25,\"\")","v":""},{"$f":"IFERROR(OFFSET(CalculationsAndCharts!$B$32,'Transaction Summary'!K26,0,1,1),\"\")","v":""},{"$f":"IFERROR(OFFSET(CalculationsAndCharts!$D$32,'Transaction Summary'!K26,0,1,1),\"\")","v":""},{"$f":"IFERROR(IF($N$12>$K$15,$N$12,MATCH(TRUE,OFFSET(CalculationsAndCharts!$AH$33,N25,0,'Transaction Summary'!$C$2-N25,1),0)+N25),\"\")","v":""},{"$f":"IFERROR(OFFSET(CalculationsAndCharts!$B$32,'Transaction Summary'!N26,0,1,1),\"\")","v":""},{"$f":"IFERROR(OFFSET(CalculationsAndCharts!$D$32,'Transaction Summary'!N26,0,1,1),\"\")","v":""},"",""]
[null,{"$f":"IFERROR(MATCH(TRUE,OFFSET(CalculationsAndCharts!$V$33,B26,0,'Transaction Summary'!$C$2-B26,1),0)+B26,\"\")","v":""},{"$f":"IFERROR(OFFSET(CalculationsAndCharts!$B$32,'Transaction Summary'!B27,0,1,1),\"\")","v":""},{"$f":"IFERROR(OFFSET(CalculationsAndCharts!$D$32,'Transaction Summary'!B27,0,1,1),\"\")","v":""},{"$f":"IFERROR(IF($E$12>$B$15,$E$12,(MATCH(TRUE,OFFSET(CalculationsAndCharts!$Y$33,E26,0,'Transaction Summary'!$C$2-E26,1),0)+E26)),\"\")","v":""},{"$f":"IFERROR(OFFSET(CalculationsAndCharts!$B$32,'Transaction Summary'!E27,0,1,1),\"\")","v":""},{"$f":"IFERROR(OFFSET(CalculationsAndCharts!$D$32,'Transaction Summary'!E27,0,1,1),\"\")","v":""},"","",null,{"$f":"IFERROR(MATCH(TRUE,OFFSET(CalculationsAndCharts!$AE$33,K26,0,'Transaction Summary'!$C$2-K26,1),0)+K26,\"\")","v":""},{"$f":"IFERROR(OFFSET(CalculationsAndCharts!$B$32,'Transaction Summary'!K27,0,1,1),\"\")","v":""},{"$f":"IFERROR(OFFSET(CalculationsAndCharts!$D$32,'Transaction Summary'!K27,0,1,1),\"\")","v":""},{"$f":"IFERROR(IF($N$12>$K$15,$N$12,MATCH(TRUE,OFFSET(CalculationsAndCharts!$AH$33,N26,0,'Transaction Summary'!$C$2-N26,1),0)+N26),\"\")","v":""},{"$f":"IFERROR(OFFSET(CalculationsAndCharts!$B$32,'Transaction Summary'!N27,0,1,1),\"\")","v":""},{"$f":"IFERROR(OFFSET(CalculationsAndCharts!$D$32,'Transaction Summary'!N27,0,1,1),\"\")","v":""},"",""]
[null,{"$f":"IFERROR(MATCH(TRUE,OFFSET(CalculationsAndCharts!$V$33,B27,0,'Transaction Summary'!$C$2-B27,1),0)+B27,\"\")","v":""},{"$f":"IFERROR(OFFSET(CalculationsAndCharts!$B$32,'Transaction Summary'!B28,0,1,1),\"\")","v":""},{"$f":"IFERROR(OFFSET(CalculationsAndCharts!$D$32,'Transaction Summary'!B28,0,1,1),\"\")","v":""},{"$f":"IFERROR(IF($E$12>$B$15,$E$12,(MATCH(TRUE,OFFSET(CalculationsAndCharts!$Y$33,E27,0,'Transaction Summary'!$C$2-E27,1),0)+E27)),\"\")","v":""},{"$f":"IFERROR(OFFSET(CalculationsAndCharts!$B$32,'Transaction Summary'!E28,0,1,1),\"\")","v":""},{"$f":"IFERROR(OFFSET(CalculationsAndCharts!$D$32,'Transaction Summary'!E28,0,1,1),\"\")","v":""},"","",null,{"$f":"IFERROR(MATCH(TRUE,OFFSET(CalculationsAndCharts!$AE$33,K27,0,'Transaction Summary'!$C$2-K27,1),0)+K27,\"\")","v":""},{"$f":"IFERROR(OFFSET(CalculationsAndCharts!$B$32,'Transaction Summary'!K28,0,1,1),\"\")","v":""},{"$f":"IFERROR(OFFSET(CalculationsAndCharts!$D$32,'Transaction Summary'!K28,0,1,1),\"\")","v":""},{"$f":"IFERROR(IF($N$12>$K$15,$N$12,MATCH(TRUE,OFFSET(CalculationsAndCharts!$AH$33,N27,0,'Transaction Summary'!$C$2-N27,1),0)+N27),\"\")","v":""},{"$f":"IFERROR(OFFSET(CalculationsAndCharts!$B$32,'Transaction Summary'!N28,0,1,1),\"\")","v":""},{"$f":"IFERROR(OFFSET(CalculationsAndCharts!$D$32,'Transaction Summary'!N28,0,1,1),\"\")","v":""},"",""]
[null,{"$f":"IFERROR(MATCH(TRUE,OFFSET(CalculationsAndCharts!$V$33,B28,0,'Transaction Summary'!$C$2-B28,1),0)+B28,\"\")","v":""},{"$f":"IFERROR(OFFSET(CalculationsAndCharts!$B$32,'Transaction Summary'!B29,0,1,1),\"\")","v":""},{"$f":"IFERROR(OFFSET(CalculationsAndCharts!$D$32,'Transaction Summary'!B29,0,1,1),\"\")","v":""},{"$f":"IFERROR(IF($E$12>$B$15,$E$12,(MATCH(TRUE,OFFSET(CalculationsAndCharts!$Y$33,E28,0,'Transaction Summary'!$C$2-E28,1),0)+E28)),\"\")","v":""},{"$f":"IFERROR(OFFSET(CalculationsAndCharts!$B$32,'Transaction Summary'!E29,0,1,1),\"\")","v":""},{"$f":"IFERROR(OFFSET(CalculationsAndCharts!$D$32,'Transaction Summary'!E29,0,1,1),\"\")","v":""},"","",null,{"$f":"IFERROR(MATCH(TRUE,OFFSET(CalculationsAndCharts!$AE$33,K28,0,'Transaction Summary'!$C$2-K28,1),0)+K28,\"\")","v":""},{"$f":"IFERROR(OFFSET(CalculationsAndCharts!$B$32,'Transaction Summary'!K29,0,1,1),\"\")","v":""},{"$f":"IFERROR(OFFSET(CalculationsAndCharts!$D$32,'Transaction Summary'!K29,0,1,1),\"\")","v":""},{"$f":"IFERROR(IF($N$12>$K$15,$N$12,MATCH(TRUE,OFFSET(CalculationsAndCharts!$AH$33,N28,0,'Transaction Summary'!$C$2-N28,1),0)+N28),\"\")","v":""},{"$f":"IFERROR(OFFSET(CalculationsAndCharts!$B$32,'Transaction Summary'!N29,0,1,1),\"\")","v":""},{"$f":"IFERROR(OFFSET(CalculationsAndCharts!$D$32,'Transaction Summary'!N29,0,1,1),\"\")","v":""},"",""]
[null,{"$f":"IFERROR(MATCH(TRUE,OFFSET(CalculationsAndCharts!$V$33,B29,0,'Transaction Summary'!$C$2-B29,1),0)+B29,\"\")","v":""},{"$f":"IFERROR(OFFSET(CalculationsAndCharts!$B$32,'Transaction Summary'!B30,0,1,1),\"\")","v":""},{"$f":"IFERROR(OFFSET(CalculationsAndCharts!$D$32,'Transaction Summary'!B30,0,1,1),\"\")","v":""},{"$f":"IFERROR(IF($E$12>$B$15,$E$12,(MATCH(TRUE,OFFSET(CalculationsAndCharts!$Y$33,E29,0,'Transaction Summary'!$C$2-E29,1),0)+E29)),\"\")","v":""},{"$f":"IFERROR(OFFSET(CalculationsAndCharts!$B$32,'Transaction Summary'!E30,0,1,1),\"\")","v":""},{"$f":"IFERROR(OFFSET(CalculationsAndCharts!$D$32,'Transaction Summary'!E30,0,1,1),\"\")","v":""},{"$f":"IFERROR(G30-D30,\"\")","v":""},{"$f":"IFERROR(H30+IF(\"\"=I31,0,I31),\"\")","v":""},null,{"$f":"IFERROR(MATCH(TRUE,OFFSET(CalculationsAndCharts!$AE$33,K29,0,'Transaction Summary'!$C$2-K29,1),0)+K29,\"\")","v":""},{"$f":"IFERROR(OFFSET(CalculationsAndCharts!$B$32,'Transaction Summary'!K30,0,1,1),\"\")","v":""},{"$f":"IFERROR(OFFSET(CalculationsAndCharts!$D$32,'Transaction Summary'!K30,0,1,1),\"\")","v":""},{"$f":"IFERROR(IF($N$12>$K$15,$N$12,MATCH(TRUE,OFFSET(CalculationsAndCharts!$AH$33,N29,0,'Transaction Summary'!$C$2-N29,1),0)+N29),\"\")","v":""},{"$f":"IFERROR(OFFSET(CalculationsAndCharts!$B$32,'Transaction Summary'!N30,0,1,1),\"\")","v":""},{"$f":"IFERROR(OFFSET(CalculationsAndCharts!$D$32,'Transaction Summary'!N30,0,1,1),\"\")","v":""},"",""]
[null,{"$f":"IFERROR(MATCH(TRUE,OFFSET(CalculationsAndCharts!$V$33,B30,0,'Transaction Summary'!$C$2-B30,1),0)+B30,\"\")","v":""},{"$f":"IFERROR(OFFSET(CalculationsAndCharts!$B$32,'Transaction Summary'!B31,0,1,1),\"\")","v":""},{"$f":"IFERROR(OFFSET(CalculationsAndCharts!$D$32,'Transaction Summary'!B31,0,1,1),\"\")","v":""},{"$f":"IFERROR(IF($E$12>$B$15,$E$12,(MATCH(TRUE,OFFSET(CalculationsAndCharts!$Y$33,E30,0,'Transaction Summary'!$C$2-E30,1),0)+E30)),\"\")","v":""},{"$f":"IFERROR(OFFSET(CalculationsAndCharts!$B$32,'Transaction Summary'!E31,0,1,1),\"\")","v":""},{"$f":"IFERROR(OFFSET(CalculationsAndCharts!$D$32,'Transaction Summary'!E31,0,1,1),\"\")","v":""},"","",null,{"$f":"IFERROR(MATCH(TRUE,OFFSET(CalculationsAndCharts!$AE$33,K30,0,'Transaction Summary'!$C$2-K30,1),0)+K30,\"\")","v":""},{"$f":"IFERROR(OFFSET(CalculationsAndCharts!$B$32,'Transaction Summary'!K31,0,1,1),\"\")","v":""},{"$f":"IFERROR(OFFSET(CalculationsAndCharts!$D$32,'Transaction Summary'!K31,0,1,1),\"\")","v":""},{"$f":"IFERROR(IF($N$12>$K$15,$N$12,MATCH(TRUE,OFFSET(CalculationsAndCharts!$AH$33,N30,0,'Transaction Summary'!$C$2-N30,1),0)+N30),\"\")","v":""},{"$f":"IFERROR(OFFSET(CalculationsAndCharts!$B$32,'Transaction Summary'!N31,0,1,1),\"\")","v":""},{"$f":"IFERROR(OFFSET(CalculationsAndCharts!$D$32,'Transaction Summary'!N31,0,1,1),\"\")","v":""},"",""]
[null,{"$f":"IFERROR(MATCH(TRUE,OFFSET(CalculationsAndCharts!$V$33,B31,0,'Transaction Summary'!$C$2-B31,1),0)+B31,\"\")","v":""},{"$f":"IFERROR(OFFSET(CalculationsAndCharts!$B$32,'Transaction Summary'!B32,0,1,1),\"\")","v":""},{"$f":"IFERROR(OFFSET(CalculationsAndCharts!$D$32,'Transaction Summary'!B32,0,1,1),\"\")","v":""},{"$f":"IFERROR(IF($E$12>$B$15,$E$12,(MATCH(TRUE,OFFSET(CalculationsAndCharts!$Y$33,E31,0,'Transaction Summary'!$C$2-E31,1),0)+E31)),\"\")","v":""},{"$f":"IFERROR(OFFSET(CalculationsAndCharts!$B$32,'Transaction Summary'!E32,0,1,1),\"\")","v":""},{"$f":"IFERROR(OFFSET(CalculationsAndCharts!$D$32,'Transaction Summary'!E32,0,1,1),\"\")","v":""},"","",null,{"$f":"IFERROR(MATCH(TRUE,OFFSET(CalculationsAndCharts!$AE$33,K31,0,'Transaction Summary'!$C$2-K31,1),0)+K31,\"\")","v":""},{"$f":"IFERROR(OFFSET(CalculationsAndCharts!$B$32,'Transaction Summary'!K32,0,1,1),\"\")","v":""},{"$f":"IFERROR(OFFSET(CalculationsAndCharts!$D$32,'Transaction Summary'!K32,0,1,1),\"\")","v":""},{"$f":"IFERROR(IF($N$12>$K$15,$N$12,MATCH(TRUE,OFFSET(CalculationsAndCharts!$AH$33,N31,0,'Transaction Summary'!$C$2-N31,1),0)+N31),\"\")","v":""},{"$f":"IFERROR(OFFSET(CalculationsAndCharts!$B$32,'Transaction Summary'!N32,0,1,1),\"\")","v":""},{"$f":"IFERROR(OFFSET(CalculationsAndCharts!$D$32,'Transaction Summary'!N32,0,1,1),\"\")","v":""},"",""]
[null,{"$f":"IFERROR(MATCH(TRUE,OFFSET(CalculationsAndCharts!$V$33,B32,0,'Transaction Summary'!$C$2-B32,1),0)+B32,\"\")","v":""},{"$f":"IFERROR(OFFSET(CalculationsAndCharts!$B$32,'Transaction Summary'!B33,0,1,1),\"\")","v":""},{"$f":"IFERROR(OFFSET(CalculationsAndCharts!$D$32,'Transaction Summary'!B33,0,1,1),\"\")","v":""},{"$f":"IFERROR(IF($E$12>$B$15,$E$12,(MATCH(TRUE,OFFSET(CalculationsAndCharts!$Y$33,E32,0,'Transaction Summary'!$C$2-E32,1),0)+E32)),\"\")","v":""},{"$f":"IFERROR(OFFSET(CalculationsAndCharts!$B$32,'Transaction Summary'!E33,0,1,1),\"\")","v":""},{"$f":"IFERROR(OFFSET(CalculationsAndCharts!$D$32,'Transaction Summary'!E33,0,1,1),\"\")","v":""},"","",null,{"$f":"IFERROR(MATCH(TRUE,OFFSET(CalculationsAndCharts!$AE$33,K32,0,'Transaction Summary'!$C$2-K32,1),0)+K32,\"\")","v":""},{"$f":"IFERROR(OFFSET(CalculationsAndCharts!$B$32,'Transaction Summary'!K33,0,1,1),\"\")","v":""},{"$f":"IFERROR(OFFSET(CalculationsAndCharts!$D$32,'Transaction Summary'!K33,0,1,1),\"\")","v":""},{"$f":"IFERROR(IF($N$12>$K$15,$N$12,MATCH(TRUE,OFFSET(CalculationsAndCharts!$AH$33,N32,0,'Transaction Summary'!$C$2-N32,1),0)+N32),\"\")","v":""},{"$f":"IFERROR(OFFSET(CalculationsAndCharts!$B$32,'Transaction Summary'!N33,0,1,1),\"\")","v":""},{"$f":"IFERROR(OFFSET(CalculationsAndCharts!$D$32,'Transaction Summary'!N33,0,1,1),\"\")","v":""},"",""]
[null,{"$f":"IFERROR(MATCH(TRUE,OFFSET(CalculationsAndCharts!$V$33,B33,0,'Transaction Summary'!$C$2-B33,1),0)+B33,\"\")","v":""},{"$f":"IFERROR(OFFSET(CalculationsAndCharts!$B$32,'Transaction Summary'!B34,0,1,1),\"\")","v":""},{"$f":"IFERROR(OFFSET(CalculationsAndCharts!$D$32,'Transaction Summary'!B34,0,1,1),\"\")","v":""},{"$f":"IFERROR(IF($E$12>$B$15,$E$12,(MATCH(TRUE,OFFSET(CalculationsAndCharts!$Y$33,E33,0,'Transaction Summary'!$C$2-E33,1),0)+E33)),\"\")","v":""},{"$f":"IFERROR(OFFSET(CalculationsAndCharts!$B$32,'Transaction Summary'!E34,0,1,1),\"\")","v":""},{"$f":"IFERROR(OFFSET(CalculationsAndCharts!$D$32,'Transaction Summary'!E34,0,1,1),\"\")","v":""},"","",null,{"$f":"IFERROR(MATCH(TRUE,OFFSET(CalculationsAndCharts!$AE$33,K33,0,'Transaction Summary'!$C$2-K33,1),0)+K33,\"\")","v":""},{"$f":"IFERROR(OFFSET(CalculationsAndCharts!$B$32,'Transaction Summary'!K34,0,1,1),\"\")","v":""},{"$f":"IFERROR(OFFSET(CalculationsAndCharts!$D$32,'Transaction Summary'!K34,0,1,1),\"\")","v":""},{"$f":"IFERROR(IF($N$12>$K$15,$N$12,MATCH(TRUE,OFFSET(CalculationsAndCharts!$AH$33,N33,0,'Transaction Summary'!$C$2-N33,1),0)+N33),\"\")","v":""},{"$f":"IFERROR(OFFSET(CalculationsAndCharts!$B$32,'Transaction Summary'!N34,0,1,1),\"\")","v":""},{"$f":"IFERROR(OFFSET(CalculationsAndCharts!$D$32,'Transaction Summary'!N34,0,1,1),\"\")","v":""},"",""]
[null,{"$f":"IFERROR(MATCH(TRUE,OFFSET(CalculationsAndCharts!$V$33,B34,0,'Transaction Summary'!$C$2-B34,1),0)+B34,\"\")","v":""},{"$f":"IFERROR(OFFSET(CalculationsAndCharts!$B$32,'Transaction Summary'!B35,0,1,1),\"\")","v":""},{"$f":"IFERROR(OFFSET(CalculationsAndCharts!$D$32,'Transaction Summary'!B35,0,1,1),\"\")","v":""},{"$f":"IFERROR(IF($E$12>$B$15,$E$12,(MATCH(TRUE,OFFSET(CalculationsAndCharts!$Y$33,E34,0,'Transaction Summary'!$C$2-E34,1),0)+E34)),\"\")","v":""},{"$f":"IFERROR(OFFSET(CalculationsAndCharts!$B$32,'Transaction Summary'!E35,0,1,1),\"\")","v":""},{"$f":"IFERROR(OFFSET(CalculationsAndCharts!$D$32,'Transaction Summary'!E35,0,1,1),\"\")","v":""},"","",null,{"$f":"IFERROR(MATCH(TRUE,OFFSET(CalculationsAndCharts!$AE$33,K34,0,'Transaction Summary'!$C$2-K34,1),0)+K34,\"\")","v":""},{"$f":"IFERROR(OFFSET(CalculationsAndCharts!$B$32,'Transaction Summary'!K35,0,1,1),\"\")","v":""},{"$f":"IFERROR(OFFSET(CalculationsAndCharts!$D$32,'Transaction Summary'!K35,0,1,1),\"\")","v":""},{"$f":"IFERROR(IF($N$12>$K$15,$N$12,MATCH(TRUE,OFFSET(CalculationsAndCharts!$AH$33,N34,0,'Transaction Summary'!$C$2-N34,1),0)+N34),\"\")","v":""},{"$f":"IFERROR(OFFSET(CalculationsAndCharts!$B$32,'Transaction Summary'!N35,0,1,1),\"\")","v":""},{"$f":"IFERROR(OFFSET(CalculationsAndCharts!$D$32,'Transaction Summary'!N35,0,1,1),\"\")","v":""},"",""]
[null,{"$f":"IFERROR(MATCH(TRUE,OFFSET(CalculationsAndCharts!$V$33,B35,0,'Transaction Summary'!$C$2-B35,1),0)+B35,\"\")","v":""},{"$f":"IFERROR(OFFSET(CalculationsAndCharts!$B$32,'Transaction Summary'!B36,0,1,1),\"\")","v":""},{"$f":"IFERROR(OFFSET(CalculationsAndCharts!$D$32,'Transaction Summary'!B36,0,1,1),\"\")","v":""},{"$f":"IFERROR(IF($E$12>$B$15,$E$12,(MATCH(TRUE,OFFSET(CalculationsAndCharts!$Y$33,E35,0,'Transaction Summary'!$C$2-E35,1),0)+E35)),\"\")","v":""},{"$f":"IFERROR(OFFSET(CalculationsAndCharts!$B$32,'Transaction Summary'!E36,0,1,1),\"\")","v":""},{"$f":"IFERROR(OFFSET(CalculationsAndCharts!$D$32,'Transaction Summary'!E36,0,1,1),\"\")","v":""},"","",null,{"$f":"IFERROR(MATCH(TRUE,OFFSET(CalculationsAndCharts!$AE$33,K35,0,'Transaction Summary'!$C$2-K35,1),0)+K35,\"\")","v":""},{"$f":"IFERROR(OFFSET(CalculationsAndCharts!$B$32,'Transaction Summary'!K36,0,1,1),\"\")","v":""},{"$f":"IFERROR(OFFSET(CalculationsAndCharts!$D$32,'Transaction Summary'!K36,0,1,1),\"\")","v":""},{"$f":"IFERROR(IF($N$12>$K$15,$N$12,MATCH(TRUE,OFFSET(CalculationsAndCharts!$AH$33,N35,0,'Transaction Summary'!$C$2-N35,1),0)+N35),\"\")","v":""},{"$f":"IFERROR(OFFSET(CalculationsAndCharts!$B$32,'Transaction Summary'!N36,0,1,1),\"\")","v":""},{"$f":"IFERROR(OFFSET(CalculationsAndCharts!$D$32,'Transaction Summary'!N36,0,1,1),\"\")","v":""},"",""]
[null,{"$f":"IFERROR(MATCH(TRUE,OFFSET(CalculationsAndCharts!$V$33,B36,0,'Transaction Summary'!$C$2-B36,1),0)+B36,\"\")","v":""},{"$f":"IFERROR(OFFSET(CalculationsAndCharts!$B$32,'Transaction Summary'!B37,0,1,1),\"\")","v":""},{"$f":"IFERROR(OFFSET(CalculationsAndCharts!$D$32,'Transaction Summary'!B37,0,1,1),\"\")","v":""},{"$f":"IFERROR(IF($E$12>$B$15,$E$12,(MATCH(TRUE,OFFSET(CalculationsAndCharts!$Y$33,E36,0,'Transaction Summary'!$C$2-E36,1),0)+E36)),\"\")","v":""},{"$f":"IFERROR(OFFSET(CalculationsAndCharts!$B$32,'Transaction Summary'!E37,0,1,1),\"\")","v":""},{"$f":"IFERROR(OFFSET(CalculationsAndCharts!$D$32,'Transaction Summary'!E37,0,1,1),\"\")","v":""},"","",null,{"$f":"IFERROR(MATCH(TRUE,OFFSET(CalculationsAndCharts!$AE$33,K36,0,'Transaction Summary'!$C$2-K36,1),0)+K36,\"\")","v":""},{"$f":"IFERROR(OFFSET(CalculationsAndCharts!$B$32,'Transaction Summary'!K37,0,1,1),\"\")","v":""},{"$f":"IFERROR(OFFSET(CalculationsAndCharts!$D$32,'Transaction Summary'!K37,0,1,1),\"\")","v":""},{"$f":"IFERROR(IF($N$12>$K$15,$N$12,MATCH(TRUE,OFFSET(CalculationsAndCharts!$AH$33,N36,0,'Transaction Summary'!$C$2-N36,1),0)+N36),\"\")","v":""},{"$f":"IFERROR(OFFSET(CalculationsAndCharts!$B$32,'Transaction Summary'!N37,0,1,1),\"\")","v":""},{"$f":"IFERROR(OFFSET(CalculationsAndCharts!$D$32,'Transaction Summary'!N37,0,1,1),\"\")","v":""},"",""]
[null,{"$f":"IFERROR(MATCH(TRUE,OFFSET(CalculationsAndCharts!$V$33,B37,0,'Transaction Summary'!$C$2-B37,1),0)+B37,\"\")","v":""},{"$f":"IFERROR(OFFSET(CalculationsAndCharts!$B$32,'Transaction Summary'!B38,0,1,1),\"\")","v":""},{"$f":"IFERROR(OFFSET(CalculationsAndCharts!$D$32,'Transaction Summary'!B38,0,1,1),\"\")","v":""},{"$f":"IFERROR(IF($E$12>$B$15,$E$12,(MATCH(TRUE,OFFSET(CalculationsAndCharts!$Y$33,E37,0,'Transaction Summary'!$C$2-E37,1),0)+E37)),\"\")","v":""},{"$f":"IFERROR(OFFSET(CalculationsAndCharts!$B$32,'Transaction Summary'!E38,0,1,1),\"\")","v":""},{"$f":"IFERROR(OFFSET(CalculationsAndCharts!$D$32,'Transaction Summary'!E38,0,1,1),\"\")","v":""},"","",null,{"$f":"IFERROR(MATCH(TRUE,OFFSET(CalculationsAndCharts!$AE$33,K37,0,'Transaction Summary'!$C$2-K37,1),0)+K37,\"\")","v":""},{"$f":"IFERROR(OFFSET(CalculationsAndCharts!$B$32,'Transaction Summary'!K38,0,1,1),\"\")","v":""},{"$f":"IFERROR(OFFSET(CalculationsAndCharts!$D$32,'Transaction Summary'!K38,0,1,1),\"\")","v":""},{"$f":"IFERROR(IF($N$12>$K$15,$N$12,MATCH(TRUE,OFFSET(CalculationsAndCharts!$AH$33,N37,0,'Transaction Summary'!$C$2-N37,1),0)+N37),\"\")","v":""},{"$f":"IFERROR(OFFSET(CalculationsAndCharts!$B$32,'Transaction Summary'!N38,0,1,1),\"\")","v":""},{"$f":"IFERROR(OFFSET(CalculationsAndCharts!$D$32,'Transaction Summary'!N38,0,1,1),\"\")","v":""},"",""]
[null,{"$f":"IFERROR(MATCH(TRUE,OFFSET(CalculationsAndCharts!$V$33,B38,0,'Transaction Summary'!$C$2-B38,1),0)+B38,\"\")","v":""},{"$f":"IFERROR(OFFSET(CalculationsAndCharts!$B$32,'Transaction Summary'!B39,0,1,1),\"\")","v":""},{"$f":"IFERROR(OFFSET(CalculationsAndCharts!$D$32,'Transaction Summary'!B39,0,1,1),\"\")","v":""},{"$f":"IFERROR(IF($E$12>$B$15,$E$12,(MATCH(TRUE,OFFSET(CalculationsAndCharts!$Y$33,E38,0,'Transaction Summary'!$C$2-E38,1),0)+E38)),\"\")","v":""},{"$f":"IFERROR(OFFSET(CalculationsAndCharts!$B$32,'Transaction Summary'!E39,0,1,1),\"\")","v":""},{"$f":"IFERROR(OFFSET(CalculationsAndCharts!$D$32,'Transaction Summary'!E39,0,1,1),\"\")","v":""},"","",null,{"$f":"IFERROR(MATCH(TRUE,OFFSET(CalculationsAndCharts!$AE$33,K38,0,'Transaction Summary'!$C$2-K38,1),0)+K38,\"\")","v":""},{"$f":"IFERROR(OFFSET(CalculationsAndCharts!$B$32,'Transaction Summary'!K39,0,1,1),\"\")","v":""},{"$f":"IFERROR(OFFSET(CalculationsAndCharts!$D$32,'Transaction Summary'!K39,0,1,1),\"\")","v":""},{"$f":"IFERROR(IF($N$12>$K$15,$N$12,MATCH(TRUE,OFFSET(CalculationsAndCharts!$AH$33,N38,0,'Transaction Summary'!$C$2-N38,1),0)+N38),\"\")","v":""},{"$f":"IFERROR(OFFSET(CalculationsAndCharts!$B$32,'Transaction Summary'!N39,0,1,1),\"\")","v":""},{"$f":"IFERROR(OFFSET(CalculationsAndCharts!$D$32,'Transaction Summary'!N39,0,1,1),\"\")","v":""},"",""]
[null,{"$f":"IFERROR(MATCH(TRUE,OFFSET(CalculationsAndCharts!$V$33,B39,0,'Transaction Summary'!$C$2-B39,1),0)+B39,\"\")","v":""},{"$f":"IFERROR(OFFSET(CalculationsAndCharts!$B$32,'Transaction Summary'!B40,0,1,1),\"\")","v":""},{"$f":"IFERROR(OFFSET(CalculationsAndCharts!$D$32,'Transaction Summary'!B40,0,1,1),\"\")","v":""},{"$f":"IFERROR(IF($E$12>$B$15,$E$12,(MATCH(TRUE,OFFSET(CalculationsAndCharts!$Y$33,E39,0,'Transaction Summary'!$C$2-E39,1),0)+E39)),\"\")","v":""},{"$f":"IFERROR(OFFSET(CalculationsAndCharts!$B$32,'Transaction Summary'!E40,0,1,1),\"\")","v":""},{"$f":"IFERROR(OFFSET(CalculationsAndCharts!$D$32,'Transaction Summary'!E40,0,1,1),\"\")","v":""},"","",null,{"$f":"IFERROR(MATCH(TRUE,OFFSET(CalculationsAndCharts!$AE$33,K39,0,'Transaction Summary'!$C$2-K39,1),0)+K39,\"\")","v":""},{"$f":"IFERROR(OFFSET(CalculationsAndCharts!$B$32,'Transaction Summary'!K40,0,1,1),\"\")","v":""},{"$f":"IFERROR(OFFSET(CalculationsAndCharts!$D$32,'Transaction Summary'!K40,0,1,1),\"\")","v":""},{"$f":"IFERROR(IF($N$12>$K$15,$N$12,MATCH(TRUE,OFFSET(CalculationsAndCharts!$AH$33,N39,0,'Transaction Summary'!$C$2-N39,1),0)+N39),\"\")","v":""},{"$f":"IFERROR(OFFSET(CalculationsAndCharts!$B$32,'Transaction Summary'!N40,0,1,1),\"\")","v":""},{"$f":"IFERROR(OFFSET(CalculationsAndCharts!$D$32,'Transaction Summary'!N40,0,1,1),\"\")","v":""},"",""]
[null,{"$f":"IFERROR(MATCH(TRUE,OFFSET(CalculationsAndCharts!$V$33,B40,0,'Transaction Summary'!$C$2-B40,1),0)+B40,\"\")","v":""},{"$f":"IFERROR(OFFSET(CalculationsAndCharts!$B$32,'Transaction Summary'!B41,0,1,1),\"\")","v":""},{"$f":"IFERROR(OFFSET(CalculationsAndCharts!$D$32,'Transaction Summary'!B41,0,1,1),\"\")","v":""},{"$f":"IFERROR(IF($E$12>$B$15,$E$12,(MATCH(TRUE,OFFSET(CalculationsAndCharts!$Y$33,E40,0,'Transaction Summary'!$C$2-E40,1),0)+E40)),\"\")","v":""},{"$f":"IFERROR(OFFSET(CalculationsAndCharts!$B$32,'Transaction Summary'!E41,0,1,1),\"\")","v":""},{"$f":"IFERROR(OFFSET(CalculationsAndCharts!$D$32,'Transaction Summary'!E41,0,1,1),\"\")","v":""},"","",null,{"$f":"IFERROR(MATCH(TRUE,OFFSET(CalculationsAndCharts!$AE$33,K40,0,'Transaction Summary'!$C$2-K40,1),0)+K40,\"\")","v":""},{"$f":"IFERROR(OFFSET(CalculationsAndCharts!$B$32,'Transaction Summary'!K41,0,1,1),\"\")","v":""},{"$f":"IFERROR(OFFSET(CalculationsAndCharts!$D$32,'Transaction Summary'!K41,0,1,1),\"\")","v":""},{"$f":"IFERROR(IF($N$12>$K$15,$N$12,MATCH(TRUE,OFFSET(CalculationsAndCharts!$AH$33,N40,0,'Transaction Summary'!$C$2-N40,1),0)+N40),\"\")","v":""},{"$f":"IFERROR(OFFSET(CalculationsAndCharts!$B$32,'Transaction Summary'!N41,0,1,1),\"\")","v":""},{"$f":"IFERROR(OFFSET(CalculationsAndCharts!$D$32,'Transaction Summary'!N41,0,1,1),\"\")","v":""},"",""]
[null,{"$f":"IFERROR(MATCH(TRUE,OFFSET(CalculationsAndCharts!$V$33,B41,0,'Transaction Summary'!$C$2-B41,1),0)+B41,\"\")","v":""},{"$f":"IFERROR(OFFSET(CalculationsAndCharts!$B$32,'Transaction Summary'!B42,0,1,1),\"\")","v":""},{"$f":"IFERROR(OFFSET(CalculationsAndCharts!$D$32,'Transaction Summary'!B42,0,1,1),\"\")","v":""},{"$f":"IFERROR(IF($E$12>$B$15,$E$12,(MATCH(TRUE,OFFSET(CalculationsAndCharts!$Y$33,E41,0,'Transaction Summary'!$C$2-E41,1),0)+E41)),\"\")","v":""},{"$f":"IFERROR(OFFSET(CalculationsAndCharts!$B$32,'Transaction Summary'!E42,0,1,1),\"\")","v":""},{"$f":"IFERROR(OFFSET(CalculationsAndCharts!$D$32,'Transaction Summary'!E42,0,1,1),\"\")","v":""},"","",null,{"$f":"IFERROR(MATCH(TRUE,OFFSET(CalculationsAndCharts!$AE$33,K41,0,'Transaction Summary'!$C$2-K41,1),0)+K41,\"\")","v":""},{"$f":"IFERROR(OFFSET(CalculationsAndCharts!$B$32,'Transaction Summary'!K42,0,1,1),\"\")","v":""},{"$f":"IFERROR(OFFSET(CalculationsAndCharts!$D$32,'Transaction Summary'!K42,0,1,1),\"\")","v":""},{"$f":"IFERROR(IF($N$12>$K$15,$N$12,MATCH(TRUE,OFFSET(CalculationsAndCharts!$AH$33,N41,0,'Transaction Summary'!$C$2-N41,1),0)+N41),\"\")","v":""},{"$f":"IFERROR(OFFSET(CalculationsAndCharts!$B$32,'Transaction Summary'!N42,0,1,1),\"\")","v":""},{"$f":"IFERROR(OFFSET(CalculationsAndCharts!$D$32,'Transaction Summary'!N42,0,1,1),\"\")","v":""},"",""]
[null,{"$f":"IFERROR(MATCH(TRUE,OFFSET(CalculationsAndCharts!$V$33,B42,0,'Transaction Summary'!$C$2-B42,1),0)+B42,\"\")","v":""},{"$f":"IFERROR(OFFSET(CalculationsAndCharts!$B$32,'Transaction Summary'!B43,0,1,1),\"\")","v":""},{"$f":"IFERROR(OFFSET(CalculationsAndCharts!$D$32,'Transaction Summary'!B43,0,1,1),\"\")","v":""},{"$f":"IFERROR(IF($E$12>$B$15,$E$12,(MATCH(TRUE,OFFSET(CalculationsAndCharts!$Y$33,E42,0,'Transaction Summary'!$C$2-E42,1),0)+E42)),\"\")","v":""},{"$f":"IFERROR(OFFSET(CalculationsAndCharts!$B$32,'Transaction Summary'!E43,0,1,1),\"\")","v":""},{"$f":"IFERROR(OFFSET(CalculationsAndCharts!$D$32,'Transaction Summary'!E43,0,1,1),\"\")","v":""},"","",null,{"$f":"IFERROR(MATCH(TRUE,OFFSET(CalculationsAndCharts!$AE$33,K42,0,'Transaction Summary'!$C$2-K42,1),0)+K42,\"\")","v":""},{"$f":"IFERROR(OFFSET(CalculationsAndCharts!$B$32,'Transaction Summary'!K43,0,1,1),\"\")","v":""},{"$f":"IFERROR(OFFSET(CalculationsAndCharts!$D$32,'Transaction Summary'!K43,0,1,1),\"\")","v":""},{"$f":"IFERROR(IF($N$12>$K$15,$N$12,MATCH(TRUE,OFFSET(CalculationsAndCharts!$AH$33,N42,0,'Transaction Summary'!$C$2-N42,1),0)+N42),\"\")","v":""},{"$f":"IFERROR(OFFSET(CalculationsAndCharts!$B$32,'Transaction Summary'!N43,0,1,1),\"\")","v":""},{"$f":"IFERROR(OFFSET(CalculationsAndCharts!$D$32,'Transaction Summary'!N43,0,1,1),\"\")","v":""},"",""]
[null,{"$f":"IFERROR(MATCH(TRUE,OFFSET(CalculationsAndCharts!$V$33,B43,0,'Transaction Summary'!$C$2-B43,1),0)+B43,\"\")","v":""},{"$f":"IFERROR(OFFSET(CalculationsAndCharts!$B$32,'Transaction Summary'!B44,0,1,1),\"\")","v":""},{"$f":"IFERROR(OFFSET(CalculationsAndCharts!$D$32,'Transaction Summary'!B44,0,1,1),\"\")","v":""},{"$f":"IFERROR(IF($E$12>$B$15,$E$12,(MATCH(TRUE,OFFSET(CalculationsAndCharts!$Y$33,E43,0,'Transaction Summary'!$C$2-E43,1),0)+E43)),\"\")","v":""},{"$f":"IFERROR(OFFSET(CalculationsAndCharts!$B$32,'Transaction Summary'!E44,0,1,1),\"\")","v":""},{"$f":"IFERROR(OFFSET(CalculationsAndCharts!$D$32,'Transaction Summary'!E44,0,1,1),\"\")","v":""},"","",null,{"$f":"IFERROR(MATCH(TRUE,OFFSET(CalculationsAndCharts!$AE$33,K43,0,'Transaction Summary'!$C$2-K43,1),0)+K43,\"\")","v":""},{"$f":"IFERROR(OFFSET(CalculationsAndCharts!$B$32,'Transaction Summary'!K44,0,1,1),\"\")","v":""},{"$f":"IFERROR(OFFSET(CalculationsAndCharts!$D$32,'Transaction Summary'!K44,0,1,1),\"\")","v":""},{"$f":"IFERROR(IF($N$12>$K$15,$N$12,MATCH(TRUE,OFFSET(CalculationsAndCharts!$AH$33,N43,0,'Transaction Summary'!$C$2-N43,1),0)+N43),\"\")","v":""},{"$f":"IFERROR(OFFSET(CalculationsAndCharts!$B$32,'Transaction Summary'!N44,0,1,1),\"\")","v":""},{"$f":"IFERROR(OFFSET(CalculationsAndCharts!$D$32,'Transaction Summary'!N44,0,1,1),\"\")","v":""},"",""]
[null,{"$f":"IFERROR(MATCH(TRUE,OFFSET(CalculationsAndCharts!$V$33,B44,0,'Transaction Summary'!$C$2-B44,1),0)+B44,\"\")","v":""},{"$f":"IFERROR(OFFSET(CalculationsAndCharts!$B$32,'Transaction Summary'!B45,0,1,1),\"\")","v":""},{"$f":"IFERROR(OFFSET(CalculationsAndCharts!$D$32,'Transaction Summary'!B45,0,1,1),\"\")","v":""},{"$f":"IFERROR(IF($E$12>$B$15,$E$12,(MATCH(TRUE,OFFSET(CalculationsAndCharts!$Y$33,E44,0,'Transaction Summary'!$C$2-E44,1),0)+E44)),\"\")","v":""},{"$f":"IFERROR(OFFSET(CalculationsAndCharts!$B$32,'Transaction Summary'!E45,0,1,1),\"\")","v":""},{"$f":"IFERROR(OFFSET(CalculationsAndCharts!$D$32,'Transaction Summary'!E45,0,1,1),\"\")","v":""},"","",null,{"$f":"IFERROR(MATCH(TRUE,OFFSET(CalculationsAndCharts!$AE$33,K44,0,'Transaction Summary'!$C$2-K44,1),0)+K44,\"\")","v":""},{"$f":"IFERROR(OFFSET(CalculationsAndCharts!$B$32,'Transaction Summary'!K45,0,1,1),\"\")","v":""},{"$f":"IFERROR(OFFSET(CalculationsAndCharts!$D$32,'Transaction Summary'!K45,0,1,1),\"\")","v":""},{"$f":"IFERROR(IF($N$12>$K$15,$N$12,MATCH(TRUE,OFFSET(CalculationsAndCharts!$AH$33,N44,0,'Transaction Summary'!$C$2-N44,1),0)+N44),\"\")","v":""},{"$f":"IFERROR(OFFSET(CalculationsAndCharts!$B$32,'Transaction Summary'!N45,0,1,1),\"\")","v":""},{"$f":"IFERROR(OFFSET(CalculationsAndCharts!$D$32,'Transaction Summary'!N45,0,1,1),\"\")","v":""},"",""]
[null,{"$f":"IFERROR(MATCH(TRUE,OFFSET(CalculationsAndCharts!$V$33,B45,0,'Transaction Summary'!$C$2-B45,1),0)+B45,\"\")","v":""},{"$f":"IFERROR(OFFSET(CalculationsAndCharts!$B$32,'Transaction Summary'!B46,0,1,1),\"\")","v":""},{"$f":"IFERROR(OFFSET(CalculationsAndCharts!$D$32,'Transaction Summary'!B46,0,1,1),\"\")","v":""},{"$f":"IFERROR(IF($E$12>$B$15,$E$12,(MATCH(TRUE,OFFSET(CalculationsAndCharts!$Y$33,E45,0,'Transaction Summary'!$C$2-E45,1),0)+E45)),\"\")","v":""},{"$f":"IFERROR(OFFSET(CalculationsAndCharts!$B$32,'Transaction Summary'!E46,0,1,1),\"\")","v":""},{"$f":"IFERROR(OFFSET(CalculationsAndCharts!$D$32,'Transaction Summary'!E46,0,1,1),\"\")","v":""},"","",null,{"$f":"IFERROR(MATCH(TRUE,OFFSET(CalculationsAndCharts!$AE$33,K45,0,'Transaction Summary'!$C$2-K45,1),0)+K45,\"\")","v":""},{"$f":"IFERROR(OFFSET(CalculationsAndCharts!$B$32,'Transaction Summary'!K46,0,1,1),\"\")","v":""},{"$f":"IFERROR(OFFSET(CalculationsAndCharts!$D$32,'Transaction Summary'!K46,0,1,1),\"\")","v":""},{"$f":"IFERROR(IF($N$12>$K$15,$N$12,MATCH(TRUE,OFFSET(CalculationsAndCharts!$AH$33,N45,0,'Transaction Summary'!$C$2-N45,1),0)+N45),\"\")","v":""},{"$f":"IFERROR(OFFSET(CalculationsAndCharts!$B$32,'Transaction Summary'!N46,0,1,1),\"\")","v":""},{"$f":"IFERROR(OFFSET(CalculationsAndCharts!$D$32,'Transaction Summary'!N46,0,1,1),\"\")","v":""},"",""]
[null,{"$f":"IFERROR(MATCH(TRUE,OFFSET(CalculationsAndCharts!$V$33,B46,0,'Transaction Summary'!$C$2-B46,1),0)+B46,\"\")","v":""},{"$f":"IFERROR(OFFSET(CalculationsAndCharts!$B$32,'Transaction Summary'!B47,0,1,1),\"\")","v":""},{"$f":"IFERROR(OFFSET(CalculationsAndCharts!$D$32,'Transaction Summary'!B47,0,1,1),\"\")","v":""},{"$f":"IFERROR(IF($E$12>$B$15,$E$12,(MATCH(TRUE,OFFSET(CalculationsAndCharts!$Y$33,E46,0,'Transaction Summary'!$C$2-E46,1),0)+E46)),\"\")","v":""},{"$f":"IFERROR(OFFSET(CalculationsAndCharts!$B$32,'Transaction Summary'!E47,0,1,1),\"\")","v":""},{"$f":"IFERROR(OFFSET(CalculationsAndCharts!$D$32,'Transaction Summary'!E47,0,1,1),\"\")","v":""},"","",null,{"$f":"IFERROR(MATCH(TRUE,OFFSET(CalculationsAndCharts!$AE$33,K46,0,'Transaction Summary'!$C$2-K46,1),0)+K46,\"\")","v":""},{"$f":"IFERROR(OFFSET(CalculationsAndCharts!$B$32,'Transaction Summary'!K47,0,1,1),\"\")","v":""},{"$f":"IFERROR(OFFSET(CalculationsAndCharts!$D$32,'Transaction Summary'!K47,0,1,1),\"\")","v":""},{"$f":"IFERROR(IF($N$12>$K$15,$N$12,MATCH(TRUE,OFFSET(CalculationsAndCharts!$AH$33,N46,0,'Transaction Summary'!$C$2-N46,1),0)+N46),\"\")","v":""},{"$f":"IFERROR(OFFSET(CalculationsAndCharts!$B$32,'Transaction Summary'!N47,0,1,1),\"\")","v":""},{"$f":"IFERROR(OFFSET(CalculationsAndCharts!$D$32,'Transaction Summary'!N47,0,1,1),\"\")","v":""},"",""]
[null,{"$f":"IFERROR(MATCH(TRUE,OFFSET(CalculationsAndCharts!$V$33,B47,0,'Transaction Summary'!$C$2-B47,1),0)+B47,\"\")","v":""},{"$f":"IFERROR(OFFSET(CalculationsAndCharts!$B$32,'Transaction Summary'!B48,0,1,1),\"\")","v":""},{"$f":"IFERROR(OFFSET(CalculationsAndCharts!$D$32,'Transaction Summary'!B48,0,1,1),\"\")","v":""},{"$f":"IFERROR(IF($E$12>$B$15,$E$12,(MATCH(TRUE,OFFSET(CalculationsAndCharts!$Y$33,E47,0,'Transaction Summary'!$C$2-E47,1),0)+E47)),\"\")","v":""},{"$f":"IFERROR(OFFSET(CalculationsAndCharts!$B$32,'Transaction Summary'!E48,0,1,1),\"\")","v":""},{"$f":"IFERROR(OFFSET(CalculationsAndCharts!$D$32,'Transaction Summary'!E48,0,1,1),\"\")","v":""},"","",null,{"$f":"IFERROR(MATCH(TRUE,OFFSET(CalculationsAndCharts!$AE$33,K47,0,'Transaction Summary'!$C$2-K47,1),0)+K47,\"\")","v":""},{"$f":"IFERROR(OFFSET(CalculationsAndCharts!$B$32,'Transaction Summary'!K48,0,1,1),\"\")","v":""},{"$f":"IFERROR(OFFSET(CalculationsAndCharts!$D$32,'Transaction Summary'!K48,0,1,1),\"\")","v":""},{"$f":"IFERROR(IF($N$12>$K$15,$N$12,MATCH(TRUE,OFFSET(CalculationsAndCharts!$AH$33,N47,0,'Transaction Summary'!$C$2-N47,1),0)+N47),\"\")","v":""},{"$f":"IFERROR(OFFSET(CalculationsAndCharts!$B$32,'Transaction Summary'!N48,0,1,1),\"\")","v":""},{"$f":"IFERROR(OFFSET(CalculationsAndCharts!$D$32,'Transaction Summary'!N48,0,1,1),\"\")","v":""},"",""]
[null,{"$f":"IFERROR(MATCH(TRUE,OFFSET(CalculationsAndCharts!$V$33,B48,0,'Transaction Summary'!$C$2-B48,1),0)+B48,\"\")","v":""},{"$f":"IFERROR(OFFSET(CalculationsAndCharts!$B$32,'Transaction Summary'!B49,0,1,1),\"\")","v":""},{"$f":"IFERROR(OFFSET(CalculationsAndCharts!$D$32,'Transaction Summary'!B49,0,1,1),\"\")","v":""},{"$f":"IFERROR(IF($E$12>$B$15,$E$12,(MATCH(TRUE,OFFSET(CalculationsAndCharts!$Y$33,E48,0,'Transaction Summary'!$C$2-E48,1),0)+E48)),\"\")","v":""},{"$f":"IFERROR(OFFSET(CalculationsAndCharts!$B$32,'Transaction Summary'!E49,0,1,1),\"\")","v":""},{"$f":"IFERROR(OFFSET(CalculationsAndCharts!$D$32,'Transaction Summary'!E49,0,1,1),\"\")","v":""},"","",null,{"$f":"IFERROR(MATCH(TRUE,OFFSET(CalculationsAndCharts!$AE$33,K48,0,'Transaction Summary'!$C$2-K48,1),0)+K48,\"\")","v":""},{"$f":"IFERROR(OFFSET(CalculationsAndCharts!$B$32,'Transaction Summary'!K49,0,1,1),\"\")","v":""},{"$f":"IFERROR(OFFSET(CalculationsAndCharts!$D$32,'Transaction Summary'!K49,0,1,1),\"\")","v":""},{"$f":"IFERROR(IF($N$12>$K$15,$N$12,MATCH(TRUE,OFFSET(CalculationsAndCharts!$AH$33,N48,0,'Transaction Summary'!$C$2-N48,1),0)+N48),\"\")","v":""},{"$f":"IFERROR(OFFSET(CalculationsAndCharts!$B$32,'Transaction Summary'!N49,0,1,1),\"\")","v":""},{"$f":"IFERROR(OFFSET(CalculationsAndCharts!$D$32,'Transaction Summary'!N49,0,1,1),\"\")","v":""},"",""]
[null,{"$f":"IFERROR(MATCH(TRUE,OFFSET(CalculationsAndCharts!$V$33,B49,0,'Transaction Summary'!$C$2-B49,1),0)+B49,\"\")","v":""},{"$f":"IFERROR(OFFSET(CalculationsAndCharts!$B$32,'Transaction Summary'!B50,0,1,1),\"\")","v":""},{"$f":"IFERROR(OFFSET(CalculationsAndCharts!$D$32,'Transaction Summary'!B50,0,1,1),\"\")","v":""},{"$f":"IFERROR(IF($E$12>$B$15,$E$12,(MATCH(TRUE,OFFSET(CalculationsAndCharts!$Y$33,E49,0,'Transaction Summary'!$C$2-E49,1),0)+E49)),\"\")","v":""},{"$f":"IFERROR(OFFSET(CalculationsAndCharts!$B$32,'Transaction Summary'!E50,0,1,1),\"\")","v":""},{"$f":"IFERROR(OFFSET(CalculationsAndCharts!$D$32,'Transaction Summary'!E50,0,1,1),\"\")","v":""},"","",null,{"$f":"IFERROR(MATCH(TRUE,OFFSET(CalculationsAndCharts!$AE$33,K49,0,'Transaction Summary'!$C$2-K49,1),0)+K49,\"\")","v":""},{"$f":"IFERROR(OFFSET(CalculationsAndCharts!$B$32,'Transaction Summary'!K50,0,1,1),\"\")","v":""},{"$f":"IFERROR(OFFSET(CalculationsAndCharts!$D$32,'Transaction Summary'!K50,0,1,1),\"\")","v":""},{"$f":"IFERROR(IF($N$12>$K$15,$N$12,MATCH(TRUE,OFFSET(CalculationsAndCharts!$AH$33,N49,0,'Transaction Summary'!$C$2-N49,1),0)+N49),\"\")","v":""},{"$f":"IFERROR(OFFSET(CalculationsAndCharts!$B$32,'Transaction Summary'!N50,0,1,1),\"\")","v":""},{"$f":"IFERROR(OFFSET(CalculationsAndCharts!$D$32,'Transaction Summary'!N50,0,1,1),\"\")","v":""},"",""]
[null,{"$f":"IFERROR(MATCH(TRUE,OFFSET(CalculationsAndCharts!$V$33,B50,0,'Transaction Summary'!$C$2-B50,1),0)+B50,\"\")","v":""},{"$f":"IFERROR(OFFSET(CalculationsAndCharts!$B$32,'Transaction Summary'!B51,0,1,1),\"\")","v":""},{"$f":"IFERROR(OFFSET(CalculationsAndCharts!$D$32,'Transaction Summary'!B51,0,1,1),\"\")","v":""},{"$f":"IFERROR(IF($E$12>$B$15,$E$12,(MATCH(TRUE,OFFSET(CalculationsAndCharts!$Y$33,E50,0,'Transaction Summary'!$C$2-E50,1),0)+E50)),\"\")","v":""},{"$f":"IFERROR(OFFSET(CalculationsAndCharts!$B$32,'Transaction Summary'!E51,0,1,1),\"\")","v":""},{"$f":"IFERROR(OFFSET(CalculationsAndCharts!$D$32,'Transaction Summary'!E51,0,1,1),\"\")","v":""},"","",null,{"$f":"IFERROR(MATCH(TRUE,OFFSET(CalculationsAndCharts!$AE$33,K50,0,'Transaction Summary'!$C$2-K50,1),0)+K50,\"\")","v":""},{"$f":"IFERROR(OFFSET(CalculationsAndCharts!$B$32,'Transaction Summary'!K51,0,1,1),\"\")","v":""},{"$f":"IFERROR(OFFSET(CalculationsAndCharts!$D$32,'Transaction Summary'!K51,0,1,1),\"\")","v":""},{"$f":"IFERROR(IF($N$12>$K$15,$N$12,MATCH(TRUE,OFFSET(CalculationsAndCharts!$AH$33,N50,0,'Transaction Summary'!$C$2-N50,1),0)+N50),\"\")","v":""},{"$f":"IFERROR(OFFSET(CalculationsAndCharts!$B$32,'Transaction Summary'!N51,0,1,1),\"\")","v":""},{"$f":"IFERROR(OFFSET(CalculationsAndCharts!$D$32,'Transaction Summary'!N51,0,1,1),\"\")","v":""},"",""]
[null,{"$f":"IFERROR(MATCH(TRUE,OFFSET(CalculationsAndCharts!$V$33,B51,0,'Transaction Summary'!$C$2-B51,1),0)+B51,\"\")","v":""},{"$f":"IFERROR(OFFSET(CalculationsAndCharts!$B$32,'Transaction Summary'!B52,0,1,1),\"\")","v":""},{"$f":"IFERROR(OFFSET(CalculationsAndCharts!$D$32,'Transaction Summary'!B52,0,1,1),\"\")","v":""},{"$f":"IFERROR(IF($E$12>$B$15,$E$12,(MATCH(TRUE,OFFSET(CalculationsAndCharts!$Y$33,E51,0,'Transaction Summary'!$C$2-E51,1),0)+E51)),\"\")","v":""},{"$f":"IFERROR(OFFSET(CalculationsAndCharts!$B$32,'Transaction Summary'!E52,0,1,1),\"\")","v":""},{"$f":"IFERROR(OFFSET(CalculationsAndCharts!$D$32,'Transaction Summary'!E52,0,1,1),\"\")","v":""},"","",null,{"$f":"IFERROR(MATCH(TRUE,OFFSET(CalculationsAndCharts!$AE$33,K51,0,'Transaction Summary'!$C$2-K51,1),0)+K51,\"\")","v":""},{"$f":"IFERROR(OFFSET(CalculationsAndCharts!$B$32,'Transaction Summary'!K52,0,1,1),\"\")","v":""},{"$f":"IFERROR(OFFSET(CalculationsAndCharts!$D$32,'Transaction Summary'!K52,0,1,1),\"\")","v":""},{"$f":"IFERROR(IF($N$12>$K$15,$N$12,MATCH(TRUE,OFFSET(CalculationsAndCharts!$AH$33,N51,0,'Transaction Summary'!$C$2-N51,1),0)+N51),\"\")","v":""},{"$f":"IFERROR(OFFSET(CalculationsAndCharts!$B$32,'Transaction Summary'!N52,0,1,1),\"\")","v":""},{"$f":"IFERROR(OFFSET(CalculationsAndCharts!$D$32,'Transaction Summary'!N52,0,1,1),\"\")","v":""},"",""]
[null,{"$f":"IFERROR(MATCH(TRUE,OFFSET(CalculationsAndCharts!$V$33,B52,0,'Transaction Summary'!$C$2-B52,1),0)+B52,\"\")","v":""},{"$f":"IFERROR(OFFSET(CalculationsAndCharts!$B$32,'Transaction Summary'!B53,0,1,1),\"\")","v":""},{"$f":"IFERROR(OFFSET(CalculationsAndCharts!$D$32,'Transaction Summary'!B53,0,1,1),\"\")","v":""},{"$f":"IFERROR(IF($E$12>$B$15,$E$12,(MATCH(TRUE,OFFSET(CalculationsAndCharts!$Y$33,E52,0,'Transaction Summary'!$C$2-E52,1),0)+E52)),\"\")","v":""},{"$f":"IFERROR(OFFSET(CalculationsAndCharts!$B$32,'Transaction Summary'!E53,0,1,1),\"\")","v":""},{"$f":"IFERROR(OFFSET(CalculationsAndCharts!$D$32,'Transaction Summary'!E53,0,1,1),\"\")","v":""},"","",null,{"$f":"IFERROR(MATCH(TRUE,OFFSET(CalculationsAndCharts!$AE$33,K52,0,'Transaction Summary'!$C$2-K52,1),0)+K52,\"\")","v":""},{"$f":"IFERROR(OFFSET(CalculationsAndCharts!$B$32,'Transaction Summary'!K53,0,1,1),\"\")","v":""},{"$f":"IFERROR(OFFSET(CalculationsAndCharts!$D$32,'Transaction Summary'!K53,0,1,1),\"\")","v":""},{"$f":"IFERROR(IF($N$12>$K$15,$N$12,MATCH(TRUE,OFFSET(CalculationsAndCharts!$AH$33,N52,0,'Transaction Summary'!$C$2-N52,1),0)+N52),\"\")","v":""},{"$f":"IFERROR(OFFSET(CalculationsAndCharts!$B$32,'Transaction Summary'!N53,0,1,1),\"\")","v":""},{"$f":"IFERROR(OFFSET(CalculationsAndCharts!$D$32,'Transaction Summary'!N53,0,1,1),\"\")","v":""},"",""]
[null,{"$f":"IFERROR(MATCH(TRUE,OFFSET(CalculationsAndCharts!$V$33,B53,0,'Transaction Summary'!$C$2-B53,1),0)+B53,\"\")","v":""},{"$f":"IFERROR(OFFSET(CalculationsAndCharts!$B$32,'Transaction Summary'!B54,0,1,1),\"\")","v":""},{"$f":"IFERROR(OFFSET(CalculationsAndCharts!$D$32,'Transaction Summary'!B54,0,1,1),\"\")","v":""},{"$f":"IFERROR(IF($E$12>$B$15,$E$12,(MATCH(TRUE,OFFSET(CalculationsAndCharts!$Y$33,E53,0,'Transaction Summary'!$C$2-E53,1),0)+E53)),\"\")","v":""},{"$f":"IFERROR(OFFSET(CalculationsAndCharts!$B$32,'Transaction Summary'!E54,0,1,1),\"\")","v":""},{"$f":"IFERROR(OFFSET(CalculationsAndCharts!$D$32,'Transaction Summary'!E54,0,1,1),\"\")","v":""},"","",null,{"$f":"IFERROR(MATCH(TRUE,OFFSET(CalculationsAndCharts!$AE$33,K53,0,'Transaction Summary'!$C$2-K53,1),0)+K53,\"\")","v":""},{"$f":"IFERROR(OFFSET(CalculationsAndCharts!$B$32,'Transaction Summary'!K54,0,1,1),\"\")","v":""},{"$f":"IFERROR(OFFSET(CalculationsAndCharts!$D$32,'Transaction Summary'!K54,0,1,1),\"\")","v":""},{"$f":"IFERROR(IF($N$12>$K$15,$N$12,MATCH(TRUE,OFFSET(CalculationsAndCharts!$AH$33,N53,0,'Transaction Summary'!$C$2-N53,1),0)+N53),\"\")","v":""},{"$f":"IFERROR(OFFSET(CalculationsAndCharts!$B$32,'Transaction Summary'!N54,0,1,1),\"\")","v":""},{"$f":"IFERROR(OFFSET(CalculationsAndCharts!$D$32,'Transaction Summary'!N54,0,1,1),\"\")","v":""},"",""]
[null,{"$f":"IFERROR(MATCH(TRUE,OFFSET(CalculationsAndCharts!$V$33,B54,0,'Transaction Summary'!$C$2-B54,1),0)+B54,\"\")","v":""},{"$f":"IFERROR(OFFSET(CalculationsAndCharts!$B$32,'Transaction Summary'!B55,0,1,1),\"\")","v":""},{"$f":"IFERROR(OFFSET(CalculationsAndCharts!$D$32,'Transaction Summary'!B55,0,1,1),\"\")","v":""},{"$f":"IFERROR(IF($E$12>$B$15,$E$12,(MATCH(TRUE,OFFSET(CalculationsAndCharts!$Y$33,E54,0,'Transaction Summary'!$C$2-E54,1),0)+E54)),\"\")","v":""},{"$f":"IFERROR(OFFSET(CalculationsAndCharts!$B$32,'Transaction Summary'!E55,0,1,1),\"\")","v":""},{"$f":"IFERROR(OFFSET(CalculationsAndCharts!$D$32,'Transaction Summary'!E55,0,1,1),\"\")","v":""},"","",null,{"$f":"IFERROR(MATCH(TRUE,OFFSET(CalculationsAndCharts!$AE$33,K54,0,'Transaction Summary'!$C$2-K54,1),0)+K54,\"\")","v":""},{"$f":"IFERROR(OFFSET(CalculationsAndCharts!$B$32,'Transaction Summary'!K55,0,1,1),\"\")","v":""},{"$f":"IFERROR(OFFSET(CalculationsAndCharts!$D$32,'Transaction Summary'!K55,0,1,1),\"\")","v":""},{"$f":"IFERROR(IF($N$12>$K$15,$N$12,MATCH(TRUE,OFFSET(CalculationsAndCharts!$AH$33,N54,0,'Transaction Summary'!$C$2-N54,1),0)+N54),\"\")","v":""},{"$f":"IFERROR(OFFSET(CalculationsAndCharts!$B$32,'Transaction Summary'!N55,0,1,1),\"\")","v":""},{"$f":"IFERROR(OFFSET(CalculationsAndCharts!$D$32,'Transaction Summary'!N55,0,1,1),\"\")","v":""},"",""]
[null,{"$f":"IFERROR(MATCH(TRUE,OFFSET(CalculationsAndCharts!$V$33,B55,0,'Transaction Summary'!$C$2-B55,1),0)+B55,\"\")","v":""},{"$f":"IFERROR(OFFSET(CalculationsAndCharts!$B$32,'Transaction Summary'!B56,0,1,1),\"\")","v":""},{"$f":"IFERROR(OFFSET(CalculationsAndCharts!$D$32,'Transaction Summary'!B56,0,1,1),\"\")","v":""},{"$f":"IFERROR(IF($E$12>$B$15,$E$12,(MATCH(TRUE,OFFSET(CalculationsAndCharts!$Y$33,E55,0,'Transaction Summary'!$C$2-E55,1),0)+E55)),\"\")","v":""},{"$f":"IFERROR(OFFSET(CalculationsAndCharts!$B$32,'Transaction Summary'!E56,0,1,1),\"\")","v":""},{"$f":"IFERROR(OFFSET(CalculationsAndCharts!$D$32,'Transaction Summary'!E56,0,1,1),\"\")","v":""},"","",null,{"$f":"IFERROR(MATCH(TRUE,OFFSET(CalculationsAndCharts!$AE$33,K55,0,'Transaction Summary'!$C$2-K55,1),0)+K55,\"\")","v":""},{"$f":"IFERROR(OFFSET(CalculationsAndCharts!$B$32,'Transaction Summary'!K56,0,1,1),\"\")","v":""},{"$f":"IFERROR(OFFSET(CalculationsAndCharts!$D$32,'Transaction Summary'!K56,0,1,1),\"\")","v":""},{"$f":"IFERROR(IF($N$12>$K$15,$N$12,MATCH(TRUE,OFFSET(CalculationsAndCharts!$AH$33,N55,0,'Transaction Summary'!$C$2-N55,1),0)+N55),\"\")","v":""},{"$f":"IFERROR(OFFSET(CalculationsAndCharts!$B$32,'Transaction Summary'!N56,0,1,1),\"\")","v":""},{"$f":"IFERROR(OFFSET(CalculationsAndCharts!$D$32,'Transaction Summary'!N56,0,1,1),\"\")","v":""},"",""]
[null,{"$f":"IFERROR(MATCH(TRUE,OFFSET(CalculationsAndCharts!$V$33,B56,0,'Transaction Summary'!$C$2-B56,1),0)+B56,\"\")","v":""},{"$f":"IFERROR(OFFSET(CalculationsAndCharts!$B$32,'Transaction Summary'!B57,0,1,1),\"\")","v":""},{"$f":"IFERROR(OFFSET(CalculationsAndCharts!$D$32,'Transaction Summary'!B57,0,1,1),\"\")","v":""},{"$f":"IFERROR(IF($E$12>$B$15,$E$12,(MATCH(TRUE,OFFSET(CalculationsAndCharts!$Y$33,E56,0,'Transaction Summary'!$C$2-E56,1),0)+E56)),\"\")","v":""},{"$f":"IFERROR(OFFSET(CalculationsAndCharts!$B$32,'Transaction Summary'!E57,0,1,1),\"\")","v":""},{"$f":"IFERROR(OFFSET(CalculationsAndCharts!$D$32,'Transaction Summary'!E57,0,1,1),\"\")","v":""},"","",null,{"$f":"IFERROR(MATCH(TRUE,OFFSET(CalculationsAndCharts!$AE$33,K56,0,'Transaction Summary'!$C$2-K56,1),0)+K56,\"\")","v":""},{"$f":"IFERROR(OFFSET(CalculationsAndCharts!$B$32,'Transaction Summary'!K57,0,1,1),\"\")","v":""},{"$f":"IFERROR(OFFSET(CalculationsAndCharts!$D$32,'Transaction Summary'!K57,0,1,1),\"\")","v":""},{"$f":"IFERROR(IF($N$12>$K$15,$N$12,MATCH(TRUE,OFFSET(CalculationsAndCharts!$AH$33,N56,0,'Transaction Summary'!$C$2-N56,1),0)+N56),\"\")","v":""},{"$f":"IFERROR(OFFSET(CalculationsAndCharts!$B$32,'Transaction Summary'!N57,0,1,1),\"\")","v":""},{"$f":"IFERROR(OFFSET(CalculationsAndCharts!$D$32,'Transaction Summary'!N57,0,1,1),\"\")","v":""},"",""]
[null,{"$f":"IFERROR(MATCH(TRUE,OFFSET(CalculationsAndCharts!$V$33,B57,0,'Transaction Summary'!$C$2-B57,1),0)+B57,\"\")","v":""},{"$f":"IFERROR(OFFSET(CalculationsAndCharts!$B$32,'Transaction Summary'!B58,0,1,1),\"\")","v":""},{"$f":"IFERROR(OFFSET(CalculationsAndCharts!$D$32,'Transaction Summary'!B58,0,1,1),\"\")","v":""},{"$f":"IFERROR(IF($E$12>$B$15,$E$12,(MATCH(TRUE,OFFSET(CalculationsAndCharts!$Y$33,E57,0,'Transaction Summary'!$C$2-E57,1),0)+E57)),\"\")","v":""},{"$f":"IFERROR(OFFSET(CalculationsAndCharts!$B$32,'Transaction Summary'!E58,0,1,1),\"\")","v":""},{"$f":"IFERROR(OFFSET(CalculationsAndCharts!$D$32,'Transaction Summary'!E58,0,1,1),\"\")","v":""},"","",null,{"$f":"IFERROR(MATCH(TRUE,OFFSET(CalculationsAndCharts!$AE$33,K57,0,'Transaction Summary'!$C$2-K57,1),0)+K57,\"\")","v":""},{"$f":"IFERROR(OFFSET(CalculationsAndCharts!$B$32,'Transaction Summary'!K58,0,1,1),\"\")","v":""},{"$f":"IFERROR(OFFSET(CalculationsAndCharts!$D$32,'Transaction Summary'!K58,0,1,1),\"\")","v":""},{"$f":"IFERROR(IF($N$12>$K$15,$N$12,MATCH(TRUE,OFFSET(CalculationsAndCharts!$AH$33,N57,0,'Transaction Summary'!$C$2-N57,1),0)+N57),\"\")","v":""},{"$f":"IFERROR(OFFSET(CalculationsAndCharts!$B$32,'Transaction Summary'!N58,0,1,1),\"\")","v":""},{"$f":"IFERROR(OFFSET(CalculationsAndCharts!$D$32,'Transaction Summary'!N58,0,1,1),\"\")","v":""},"",""]
[null,{"$f":"IFERROR(MATCH(TRUE,OFFSET(CalculationsAndCharts!$V$33,B58,0,'Transaction Summary'!$C$2-B58,1),0)+B58,\"\")","v":""},{"$f":"IFERROR(OFFSET(CalculationsAndCharts!$B$32,'Transaction Summary'!B59,0,1,1),\"\")","v":""},{"$f":"IFERROR(OFFSET(CalculationsAndCharts!$D$32,'Transaction Summary'!B59,0,1,1),\"\")","v":""},{"$f":"IFERROR(IF($E$12>$B$15,$E$12,(MATCH(TRUE,OFFSET(CalculationsAndCharts!$Y$33,E58,0,'Transaction Summary'!$C$2-E58,1),0)+E58)),\"\")","v":""},{"$f":"IFERROR(OFFSET(CalculationsAndCharts!$B$32,'Transaction Summary'!E59,0,1,1),\"\")","v":""},{"$f":"IFERROR(OFFSET(CalculationsAndCharts!$D$32,'Transaction Summary'!E59,0,1,1),\"\")","v":""},"","",null,{"$f":"IFERROR(MATCH(TRUE,OFFSET(CalculationsAndCharts!$AE$33,K58,0,'Transaction Summary'!$C$2-K58,1),0)+K58,\"\")","v":""},{"$f":"IFERROR(OFFSET(CalculationsAndCharts!$B$32,'Transaction Summary'!K59,0,1,1),\"\")","v":""},{"$f":"IFERROR(OFFSET(CalculationsAndCharts!$D$32,'Transaction Summary'!K59,0,1,1),\"\")","v":""},{"$f":"IFERROR(IF($N$12>$K$15,$N$12,MATCH(TRUE,OFFSET(CalculationsAndCharts!$AH$33,N58,0,'Transaction Summary'!$C$2-N58,1),0)+N58),\"\")","v":""},{"$f":"IFERROR(OFFSET(CalculationsAndCharts!$B$32,'Transaction Summary'!N59,0,1,1),\"\")","v":""},{"$f":"IFERROR(OFFSET(CalculationsAndCharts!$D$32,'Transaction Summary'!N59,0,1,1),\"\")","v":""},"",""]
[null,{"$f":"IFERROR(MATCH(TRUE,OFFSET(CalculationsAndCharts!$V$33,B59,0,'Transaction Summary'!$C$2-B59,1),0)+B59,\"\")","v":""},{"$f":"IFERROR(OFFSET(CalculationsAndCharts!$B$32,'Transaction Summary'!B60,0,1,1),\"\")","v":""},{"$f":"IFERROR(OFFSET(CalculationsAndCharts!$D$32,'Transaction Summary'!B60,0,1,1),\"\")","v":""},{"$f":"IFERROR(IF($E$12>$B$15,$E$12,(MATCH(TRUE,OFFSET(CalculationsAndCharts!$Y$33,E59,0,'Transaction Summary'!$C$2-E59,1),0)+E59)),\"\")","v":""},{"$f":"IFERROR(OFFSET(CalculationsAndCharts!$B$32,'Transaction Summary'!E60,0,1,1),\"\")","v":""},{"$f":"IFERROR(OFFSET(CalculationsAndCharts!$D$32,'Transaction Summary'!E60,0,1,1),\"\")","v":""},"","",null,{"$f":"IFERROR(MATCH(TRUE,OFFSET(CalculationsAndCharts!$AE$33,K59,0,'Transaction Summary'!$C$2-K59,1),0)+K59,\"\")","v":""},{"$f":"IFERROR(OFFSET(CalculationsAndCharts!$B$32,'Transaction Summary'!K60,0,1,1),\"\")","v":""},{"$f":"IFERROR(OFFSET(CalculationsAndCharts!$D$32,'Transaction Summary'!K60,0,1,1),\"\")","v":""},{"$f":"IFERROR(IF($N$12>$K$15,$N$12,MATCH(TRUE,OFFSET(CalculationsAndCharts!$AH$33,N59,0,'Transaction Summary'!$C$2-N59,1),0)+N59),\"\")","v":""},{"$f":"IFERROR(OFFSET(CalculationsAndCharts!$B$32,'Transaction Summary'!N60,0,1,1),\"\")","v":""},{"$f":"IFERROR(OFFSET(CalculationsAndCharts!$D$32,'Transaction Summary'!N60,0,1,1),\"\")","v":""},"",""]
[null,{"$f":"IFERROR(MATCH(TRUE,OFFSET(CalculationsAndCharts!$V$33,B60,0,'Transaction Summary'!$C$2-B60,1),0)+B60,\"\")","v":""},{"$f":"IFERROR(OFFSET(CalculationsAndCharts!$B$32,'Transaction Summary'!B61,0,1,1),\"\")","v":""},{"$f":"IFERROR(OFFSET(CalculationsAndCharts!$D$32,'Transaction Summary'!B61,0,1,1),\"\")","v":""},{"$f":"IFERROR(IF($E$12>$B$15,$E$12,(MATCH(TRUE,OFFSET(CalculationsAndCharts!$Y$33,E60,0,'Transaction Summary'!$C$2-E60,1),0)+E60)),\"\")","v":""},{"$f":"IFERROR(OFFSET(CalculationsAndCharts!$B$32,'Transaction Summary'!E61,0,1,1),\"\")","v":""},{"$f":"IFERROR(OFFSET(CalculationsAndCharts!$D$32,'Transaction Summary'!E61,0,1,1),\"\")","v":""},"","",null,{"$f":"IFERROR(MATCH(TRUE,OFFSET(CalculationsAndCharts!$AE$33,K60,0,'Transaction Summary'!$C$2-K60,1),0)+K60,\"\")","v":""},{"$f":"IFERROR(OFFSET(CalculationsAndCharts!$B$32,'Transaction Summary'!K61,0,1,1),\"\")","v":""},{"$f":"IFERROR(OFFSET(CalculationsAndCharts!$D$32,'Transaction Summary'!K61,0,1,1),\"\")","v":""},{"$f":"IFERROR(IF($N$12>$K$15,$N$12,MATCH(TRUE,OFFSET(CalculationsAndCharts!$AH$33,N60,0,'Transaction Summary'!$C$2-N60,1),0)+N60),\"\")","v":""},{"$f":"IFERROR(OFFSET(CalculationsAndCharts!$B$32,'Transaction Summary'!N61,0,1,1),\"\")","v":""},{"$f":"IFERROR(OFFSET(CalculationsAndCharts!$D$32,'Transaction Summary'!N61,0,1,1),\"\")","v":""},"",""]
[null,{"$f":"IFERROR(MATCH(TRUE,OFFSET(CalculationsAndCharts!$V$33,B61,0,'Transaction Summary'!$C$2-B61,1),0)+B61,\"\")","v":""},{"$f":"IFERROR(OFFSET(CalculationsAndCharts!$B$32,'Transaction Summary'!B62,0,1,1),\"\")","v":""},{"$f":"IFERROR(OFFSET(CalculationsAndCharts!$D$32,'Transaction Summary'!B62,0,1,1),\"\")","v":""},{"$f":"IFERROR(IF($E$12>$B$15,$E$12,(MATCH(TRUE,OFFSET(CalculationsAndCharts!$Y$33,E61,0,'Transaction Summary'!$C$2-E61,1),0)+E61)),\"\")","v":""},{"$f":"IFERROR(OFFSET(CalculationsAndCharts!$B$32,'Transaction Summary'!E62,0,1,1),\"\")","v":""},{"$f":"IFERROR(OFFSET(CalculationsAndCharts!$D$32,'Transaction Summary'!E62,0,1,1),\"\")","v":""},"","",null,{"$f":"IFERROR(MATCH(TRUE,OFFSET(CalculationsAndCharts!$AE$33,K61,0,'Transaction Summary'!$C$2-K61,1),0)+K61,\"\")","v":""},{"$f":"IFERROR(OFFSET(CalculationsAndCharts!$B$32,'Transaction Summary'!K62,0,1,1),\"\")","v":""},{"$f":"IFERROR(OFFSET(CalculationsAndCharts!$D$32,'Transaction Summary'!K62,0,1,1),\"\")","v":""},{"$f":"IFERROR(IF($N$12>$K$15,$N$12,MATCH(TRUE,OFFSET(CalculationsAndCharts!$AH$33,N61,0,'Transaction Summary'!$C$2-N61,1),0)+N61),\"\")","v":""},{"$f":"IFERROR(OFFSET(CalculationsAndCharts!$B$32,'Transaction Summary'!N62,0,1,1),\"\")","v":""},{"$f":"IFERROR(OFFSET(CalculationsAndCharts!$D$32,'Transaction Summary'!N62,0,1,1),\"\")","v":""},"",""]
[null,{"$f":"IFERROR(MATCH(TRUE,OFFSET(CalculationsAndCharts!$V$33,B62,0,'Transaction Summary'!$C$2-B62,1),0)+B62,\"\")","v":""},{"$f":"IFERROR(OFFSET(CalculationsAndCharts!$B$32,'Transaction Summary'!B63,0,1,1),\"\")","v":""},{"$f":"IFERROR(OFFSET(CalculationsAndCharts!$D$32,'Transaction Summary'!B63,0,1,1),\"\")","v":""},{"$f":"IFERROR(IF($E$12>$B$15,$E$12,(MATCH(TRUE,OFFSET(CalculationsAndCharts!$Y$33,E62,0,'Transaction Summary'!$C$2-E62,1),0)+E62)),\"\")","v":""},{"$f":"IFERROR(OFFSET(CalculationsAndCharts!$B$32,'Transaction Summary'!E63,0,1,1),\"\")","v":""},{"$f":"IFERROR(OFFSET(CalculationsAndCharts!$D$32,'Transaction Summary'!E63,0,1,1),\"\")","v":""},"","",null,{"$f":"IFERROR(MATCH(TRUE,OFFSET(CalculationsAndCharts!$AE$33,K62,0,'Transaction Summary'!$C$2-K62,1),0)+K62,\"\")","v":""},{"$f":"IFERROR(OFFSET(CalculationsAndCharts!$B$32,'Transaction Summary'!K63,0,1,1),\"\")","v":""},{"$f":"IFERROR(OFFSET(CalculationsAndCharts!$D$32,'Transaction Summary'!K63,0,1,1),\"\")","v":""},{"$f":"IFERROR(IF($N$12>$K$15,$N$12,MATCH(TRUE,OFFSET(CalculationsAndCharts!$AH$33,N62,0,'Transaction Summary'!$C$2-N62,1),0)+N62),\"\")","v":""},{"$f":"IFERROR(OFFSET(CalculationsAndCharts!$B$32,'Transaction Summary'!N63,0,1,1),\"\")","v":""},{"$f":"IFERROR(OFFSET(CalculationsAndCharts!$D$32,'Transaction Summary'!N63,0,1,1),\"\")","v":""},"",""]
[null,{"$f":"IFERROR(MATCH(TRUE,OFFSET(CalculationsAndCharts!$V$33,B63,0,'Transaction Summary'!$C$2-B63,1),0)+B63,\"\")","v":""},{"$f":"IFERROR(OFFSET(CalculationsAndCharts!$B$32,'Transaction Summary'!B64,0,1,1),\"\")","v":""},{"$f":"IFERROR(OFFSET(CalculationsAndCharts!$D$32,'Transaction Summary'!B64,0,1,1),\"\")","v":""},{"$f":"IFERROR(IF($E$12>$B$15,$E$12,(MATCH(TRUE,OFFSET(CalculationsAndCharts!$Y$33,E63,0,'Transaction Summary'!$C$2-E63,1),0)+E63)),\"\")","v":""},{"$f":"IFERROR(OFFSET(CalculationsAndCharts!$B$32,'Transaction Summary'!E64,0,1,1),\"\")","v":""},{"$f":"IFERROR(OFFSET(CalculationsAndCharts!$D$32,'Transaction Summary'!E64,0,1,1),\"\")","v":""},"","",null,{"$f":"IFERROR(MATCH(TRUE,OFFSET(CalculationsAndCharts!$AE$33,K63,0,'Transaction Summary'!$C$2-K63,1),0)+K63,\"\")","v":""},{"$f":"IFERROR(OFFSET(CalculationsAndCharts!$B$32,'Transaction Summary'!K64,0,1,1),\"\")","v":""},{"$f":"IFERROR(OFFSET(CalculationsAndCharts!$D$32,'Transaction Summary'!K64,0,1,1),\"\")","v":""},{"$f":"IFERROR(IF($N$12>$K$15,$N$12,MATCH(TRUE,OFFSET(CalculationsAndCharts!$AH$33,N63,0,'Transaction Summary'!$C$2-N63,1),0)+N63),\"\")","v":""},{"$f":"IFERROR(OFFSET(CalculationsAndCharts!$B$32,'Transaction Summary'!N64,0,1,1),\"\")","v":""},{"$f":"IFERROR(OFFSET(CalculationsAndCharts!$D$32,'Transaction Summary'!N64,0,1,1),\"\")","v":""},"",""]
[null,{"$f":"IFERROR(MATCH(TRUE,OFFSET(CalculationsAndCharts!$V$33,B64,0,'Transaction Summary'!$C$2-B64,1),0)+B64,\"\")","v":""},{"$f":"IFERROR(OFFSET(CalculationsAndCharts!$B$32,'Transaction Summary'!B65,0,1,1),\"\")","v":""},{"$f":"IFERROR(OFFSET(CalculationsAndCharts!$D$32,'Transaction Summary'!B65,0,1,1),\"\")","v":""},{"$f":"IFERROR(IF($E$12>$B$15,$E$12,(MATCH(TRUE,OFFSET(CalculationsAndCharts!$Y$33,E64,0,'Transaction Summary'!$C$2-E64,1),0)+E64)),\"\")","v":""},{"$f":"IFERROR(OFFSET(CalculationsAndCharts!$B$32,'Transaction Summary'!E65,0,1,1),\"\")","v":""},{"$f":"IFERROR(OFFSET(CalculationsAndCharts!$D$32,'Transaction Summary'!E65,0,1,1),\"\")","v":""},"","",null,{"$f":"IFERROR(MATCH(TRUE,OFFSET(CalculationsAndCharts!$AE$33,K64,0,'Transaction Summary'!$C$2-K64,1),0)+K64,\"\")","v":""},{"$f":"IFERROR(OFFSET(CalculationsAndCharts!$B$32,'Transaction Summary'!K65,0,1,1),\"\")","v":""},{"$f":"IFERROR(OFFSET(CalculationsAndCharts!$D$32,'Transaction Summary'!K65,0,1,1),\"\")","v":""},{"$f":"IFERROR(IF($N$12>$K$15,$N$12,MATCH(TRUE,OFFSET(CalculationsAndCharts!$AH$33,N64,0,'Transaction Summary'!$C$2-N64,1),0)+N64),\"\")","v":""},{"$f":"IFERROR(OFFSET(CalculationsAndCharts!$B$32,'Transaction Summary'!N65,0,1,1),\"\")","v":""},{"$f":"IFERROR(OFFSET(CalculationsAndCharts!$D$32,'Transaction Summary'!N65,0,1,1),\"\")","v":""},"",""]
[null,{"$f":"IFERROR(MATCH(TRUE,OFFSET(CalculationsAndCharts!$V$33,B65,0,'Transaction Summary'!$C$2-B65,1),0)+B65,\"\")","v":""},{"$f":"IFERROR(OFFSET(CalculationsAndCharts!$B$32,'Transaction Summary'!B66,0,1,1),\"\")","v":""},{"$f":"IFERROR(OFFSET(CalculationsAndCharts!$D$32,'Transaction Summary'!B66,0,1,1),\"\")","v":""},{"$f":"IFERROR(IF($E$12>$B$15,$E$12,(MATCH(TRUE,OFFSET(CalculationsAndCharts!$Y$33,E65,0,'Transaction Summary'!$C$2-E65,1),0)+E65)),\"\")","v":""},{"$f":"IFERROR(OFFSET(CalculationsAndCharts!$B$32,'Transaction Summary'!E66,0,1,1),\"\")","v":""},{"$f":"IFERROR(OFFSET(CalculationsAndCharts!$D$32,'Transaction Summary'!E66,0,1,1),\"\")","v":""},"","",null,{"$f":"IFERROR(MATCH(TRUE,OFFSET(CalculationsAndCharts!$AE$33,K65,0,'Transaction Summary'!$C$2-K65,1),0)+K65,\"\")","v":""},{"$f":"IFERROR(OFFSET(CalculationsAndCharts!$B$32,'Transaction Summary'!K66,0,1,1),\"\")","v":""},{"$f":"IFERROR(OFFSET(CalculationsAndCharts!$D$32,'Transaction Summary'!K66,0,1,1),\"\")","v":""},{"$f":"IFERROR(IF($N$12>$K$15,$N$12,MATCH(TRUE,OFFSET(CalculationsAndCharts!$AH$33,N65,0,'Transaction Summary'!$C$2-N65,1),0)+N65),\"\")","v":""},{"$f":"IFERROR(OFFSET(CalculationsAndCharts!$B$32,'Transaction Summary'!N66,0,1,1),\"\")","v":""},{"$f":"IFERROR(OFFSET(CalculationsAndCharts!$D$32,'Transaction Summary'!N66,0,1,1),\"\")","v":""},"",""]
[null,{"$f":"IFERROR(MATCH(TRUE,OFFSET(CalculationsAndCharts!$V$33,B66,0,'Transaction Summary'!$C$2-B66,1),0)+B66,\"\")","v":""},{"$f":"IFERROR(OFFSET(CalculationsAndCharts!$B$32,'Transaction Summary'!B67,0,1,1),\"\")","v":""},{"$f":"IFERROR(OFFSET(CalculationsAndCharts!$D$32,'Transaction Summary'!B67,0,1,1),\"\")","v":""},{"$f":"IFERROR(IF($E$12>$B$15,$E$12,(MATCH(TRUE,OFFSET(CalculationsAndCharts!$Y$33,E66,0,'Transaction Summary'!$C$2-E66,1),0)+E66)),\"\")","v":""},{"$f":"IFERROR(OFFSET(CalculationsAndCharts!$B$32,'Transaction Summary'!E67,0,1,1),\"\")","v":""},{"$f":"IFERROR(OFFSET(CalculationsAndCharts!$D$32,'Transaction Summary'!E67,0,1,1),\"\")","v":""},"","",null,{"$f":"IFERROR(MATCH(TRUE,OFFSET(CalculationsAndCharts!$AE$33,K66,0,'Transaction Summary'!$C$2-K66,1),0)+K66,\"\")","v":""},{"$f":"IFERROR(OFFSET(CalculationsAndCharts!$B$32,'Transaction Summary'!K67,0,1,1),\"\")","v":""},{"$f":"IFERROR(OFFSET(CalculationsAndCharts!$D$32,'Transaction Summary'!K67,0,1,1),\"\")","v":""},{"$f":"IFERROR(IF($N$12>$K$15,$N$12,MATCH(TRUE,OFFSET(CalculationsAndCharts!$AH$33,N66,0,'Transaction Summary'!$C$2-N66,1),0)+N66),\"\")","v":""},{"$f":"IFERROR(OFFSET(CalculationsAndCharts!$B$32,'Transaction Summary'!N67,0,1,1),\"\")","v":""},{"$f":"IFERROR(OFFSET(CalculationsAndCharts!$D$32,'Transaction Summary'!N67,0,1,1),\"\")","v":""},"",""]
[null,{"$f":"IFERROR(MATCH(TRUE,OFFSET(CalculationsAndCharts!$V$33,B67,0,'Transaction Summary'!$C$2-B67,1),0)+B67,\"\")","v":""},{"$f":"IFERROR(OFFSET(CalculationsAndCharts!$B$32,'Transaction Summary'!B68,0,1,1),\"\")","v":""},{"$f":"IFERROR(OFFSET(CalculationsAndCharts!$D$32,'Transaction Summary'!B68,0,1,1),\"\")","v":""},{"$f":"IFERROR(IF($E$12>$B$15,$E$12,(MATCH(TRUE,OFFSET(CalculationsAndCharts!$Y$33,E67,0,'Transaction Summary'!$C$2-E67,1),0)+E67)),\"\")","v":""},{"$f":"IFERROR(OFFSET(CalculationsAndCharts!$B$32,'Transaction Summary'!E68,0,1,1),\"\")","v":""},{"$f":"IFERROR(OFFSET(CalculationsAndCharts!$D$32,'Transaction Summary'!E68,0,1,1),\"\")","v":""},"","",null,{"$f":"IFERROR(MATCH(TRUE,OFFSET(CalculationsAndCharts!$AE$33,K67,0,'Transaction Summary'!$C$2-K67,1),0)+K67,\"\")","v":""},{"$f":"IFERROR(OFFSET(CalculationsAndCharts!$B$32,'Transaction Summary'!K68,0,1,1),\"\")","v":""},{"$f":"IFERROR(OFFSET(CalculationsAndCharts!$D$32,'Transaction Summary'!K68,0,1,1),\"\")","v":""},{"$f":"IFERROR(IF($N$12>$K$15,$N$12,MATCH(TRUE,OFFSET(CalculationsAndCharts!$AH$33,N67,0,'Transaction Summary'!$C$2-N67,1),0)+N67),\"\")","v":""},{"$f":"IFERROR(OFFSET(CalculationsAndCharts!$B$32,'Transaction Summary'!N68,0,1,1),\"\")","v":""},{"$f":"IFERROR(OFFSET(CalculationsAndCharts!$D$32,'Transaction Summary'!N68,0,1,1),\"\")","v":""},"",""]
[null,{"$f":"IFERROR(MATCH(TRUE,OFFSET(CalculationsAndCharts!$V$33,B68,0,'Transaction Summary'!$C$2-B68,1),0)+B68,\"\")","v":""},{"$f":"IFERROR(OFFSET(CalculationsAndCharts!$B$32,'Transaction Summary'!B69,0,1,1),\"\")","v":""},{"$f":"IFERROR(OFFSET(CalculationsAndCharts!$D$32,'Transaction Summary'!B69,0,1,1),\"\")","v":""},{"$f":"IFERROR(IF($E$12>$B$15,$E$12,(MATCH(TRUE,OFFSET(CalculationsAndCharts!$Y$33,E68,0,'Transaction Summary'!$C$2-E68,1),0)+E68)),\"\")","v":""},{"$f":"IFERROR(OFFSET(CalculationsAndCharts!$B$32,'Transaction Summary'!E69,0,1,1),\"\")","v":""},{"$f":"IFERROR(OFFSET(CalculationsAndCharts!$D$32,'Transaction Summary'!E69,0,1,1),\"\")","v":""},"","",null,{"$f":"IFERROR(MATCH(TRUE,OFFSET(CalculationsAndCharts!$AE$33,K68,0,'Transaction Summary'!$C$2-K68,1),0)+K68,\"\")","v":""},{"$f":"IFERROR(OFFSET(CalculationsAndCharts!$B$32,'Transaction Summary'!K69,0,1,1),\"\")","v":""},{"$f":"IFERROR(OFFSET(CalculationsAndCharts!$D$32,'Transaction Summary'!K69,0,1,1),\"\")","v":""},{"$f":"IFERROR(IF($N$12>$K$15,$N$12,MATCH(TRUE,OFFSET(CalculationsAndCharts!$AH$33,N68,0,'Transaction Summary'!$C$2-N68,1),0)+N68),\"\")","v":""},{"$f":"IFERROR(OFFSET(CalculationsAndCharts!$B$32,'Transaction Summary'!N69,0,1,1),\"\")","v":""},{"$f":"IFERROR(OFFSET(CalculationsAndCharts!$D$32,'Transaction Summary'!N69,0,1,1),\"\")","v":""},"",""]
[null,{"$f":"IFERROR(MATCH(TRUE,OFFSET(CalculationsAndCharts!$V$33,B69,0,'Transaction Summary'!$C$2-B69,1),0)+B69,\"\")","v":""},{"$f":"IFERROR(OFFSET(CalculationsAndCharts!$B$32,'Transaction Summary'!B70,0,1,1),\"\")","v":""},{"$f":"IFERROR(OFFSET(CalculationsAndCharts!$D$32,'Transaction Summary'!B70,0,1,1),\"\")","v":""},{"$f":"IFERROR(IF($E$12>$B$15,$E$12,(MATCH(TRUE,OFFSET(CalculationsAndCharts!$Y$33,E69,0,'Transaction Summary'!$C$2-E69,1),0)+E69)),\"\")","v":""},{"$f":"IFERROR(OFFSET(CalculationsAndCharts!$B$32,'Transaction Summary'!E70,0,1,1),\"\")","v":""},{"$f":"IFERROR(OFFSET(CalculationsAndCharts!$D$32,'Transaction Summary'!E70,0,1,1),\"\")","v":""},"","",null,{"$f":"IFERROR(MATCH(TRUE,OFFSET(CalculationsAndCharts!$AE$33,K69,0,'Transaction Summary'!$C$2-K69,1),0)+K69,\"\")","v":""},{"$f":"IFERROR(OFFSET(CalculationsAndCharts!$B$32,'Transaction Summary'!K70,0,1,1),\"\")","v":""},{"$f":"IFERROR(OFFSET(CalculationsAndCharts!$D$32,'Transaction Summary'!K70,0,1,1),\"\")","v":""},{"$f":"IFERROR(IF($N$12>$K$15,$N$12,MATCH(TRUE,OFFSET(CalculationsAndCharts!$AH$33,N69,0,'Transaction Summary'!$C$2-N69,1),0)+N69),\"\")","v":""},{"$f":"IFERROR(OFFSET(CalculationsAndCharts!$B$32,'Transaction Summary'!N70,0,1,1),\"\")","v":""},{"$f":"IFERROR(OFFSET(CalculationsAndCharts!$D$32,'Transaction Summary'!N70,0,1,1),\"\")","v":""},"",""]
[null,{"$f":"IFERROR(MATCH(TRUE,OFFSET(CalculationsAndCharts!$V$33,B70,0,'Transaction Summary'!$C$2-B70,1),0)+B70,\"\")","v":""},{"$f":"IFERROR(OFFSET(CalculationsAndCharts!$B$32,'Transaction Summary'!B71,0,1,1),\"\")","v":""},{"$f":"IFERROR(OFFSET(CalculationsAndCharts!$D$32,'Transaction Summary'!B71,0,1,1),\"\")","v":""},{"$f":"IFERROR(IF($E$12>$B$15,$E$12,(MATCH(TRUE,OFFSET(CalculationsAndCharts!$Y$33,E70,0,'Transaction Summary'!$C$2-E70,1),0)+E70)),\"\")","v":""},{"$f":"IFERROR(OFFSET(CalculationsAndCharts!$B$32,'Transaction Summary'!E71,0,1,1),\"\")","v":""},{"$f":"IFERROR(OFFSET(CalculationsAndCharts!$D$32,'Transaction Summary'!E71,0,1,1),\"\")","v":""},"","",null,{"$f":"IFERROR(MATCH(TRUE,OFFSET(CalculationsAndCharts!$AE$33,K70,0,'Transaction Summary'!$C$2-K70,1),0)+K70,\"\")","v":""},{"$f":"IFERROR(OFFSET(CalculationsAndCharts!$B$32,'Transaction Summary'!K71,0,1,1),\"\")","v":""},{"$f":"IFERROR(OFFSET(CalculationsAndCharts!$D$32,'Transaction Summary'!K71,0,1,1),\"\")","v":""},{"$f":"IFERROR(IF($N$12>$K$15,$N$12,MATCH(TRUE,OFFSET(CalculationsAndCharts!$AH$33,N70,0,'Transaction Summary'!$C$2-N70,1),0)+N70),\"\")","v":""},{"$f":"IFERROR(OFFSET(CalculationsAndCharts!$B$32,'Transaction Summary'!N71,0,1,1),\"\")","v":""},{"$f":"IFERROR(OFFSET(CalculationsAndCharts!$D$32,'Transaction Summary'!N71,0,1,1),\"\")","v":""},"",""]
[null,{"$f":"IFERROR(MATCH(TRUE,OFFSET(CalculationsAndCharts!$V$33,B71,0,'Transaction Summary'!$C$2-B71,1),0)+B71,\"\")","v":""},{"$f":"IFERROR(OFFSET(CalculationsAndCharts!$B$32,'Transaction Summary'!B72,0,1,1),\"\")","v":""},{"$f":"IFERROR(OFFSET(CalculationsAndCharts!$D$32,'Transaction Summary'!B72,0,1,1),\"\")","v":""},{"$f":"IFERROR(IF($E$12>$B$15,$E$12,(MATCH(TRUE,OFFSET(CalculationsAndCharts!$Y$33,E71,0,'Transaction Summary'!$C$2-E71,1),0)+E71)),\"\")","v":""},{"$f":"IFERROR(OFFSET(CalculationsAndCharts!$B$32,'Transaction Summary'!E72,0,1,1),\"\")","v":""},{"$f":"IFERROR(OFFSET(CalculationsAndCharts!$D$32,'Transaction Summary'!E72,0,1,1),\"\")","v":""},"","",null,{"$f":"IFERROR(MATCH(TRUE,OFFSET(CalculationsAndCharts!$AE$33,K71,0,'Transaction Summary'!$C$2-K71,1),0)+K71,\"\")","v":""},{"$f":"IFERROR(OFFSET(CalculationsAndCharts!$B$32,'Transaction Summary'!K72,0,1,1),\"\")","v":""},{"$f":"IFERROR(OFFSET(CalculationsAndCharts!$D$32,'Transaction Summary'!K72,0,1,1),\"\")","v":""},{"$f":"IFERROR(IF($N$12>$K$15,$N$12,MATCH(TRUE,OFFSET(CalculationsAndCharts!$AH$33,N71,0,'Transaction Summary'!$C$2-N71,1),0)+N71),\"\")","v":""},{"$f":"IFERROR(OFFSET(CalculationsAndCharts!$B$32,'Transaction Summary'!N72,0,1,1),\"\")","v":""},{"$f":"IFERROR(OFFSET(CalculationsAndCharts!$D$32,'Transaction Summary'!N72,0,1,1),\"\")","v":""},"",""]
[null,{"$f":"IFERROR(MATCH(TRUE,OFFSET(CalculationsAndCharts!$V$33,B72,0,'Transaction Summary'!$C$2-B72,1),0)+B72,\"\")","v":""},{"$f":"IFERROR(OFFSET(CalculationsAndCharts!$B$32,'Transaction Summary'!B73,0,1,1),\"\")","v":""},{"$f":"IFERROR(OFFSET(CalculationsAndCharts!$D$32,'Transaction Summary'!B73,0,1,1),\"\")","v":""},{"$f":"IFERROR(IF($E$12>$B$15,$E$12,(MATCH(TRUE,OFFSET(CalculationsAndCharts!$Y$33,E72,0,'Transaction Summary'!$C$2-E72,1),0)+E72)),\"\")","v":""},{"$f":"IFERROR(OFFSET(CalculationsAndCharts!$B$32,'Transaction Summary'!E73,0,1,1),\"\")","v":""},{"$f":"IFERROR(OFFSET(CalculationsAndCharts!$D$32,'Transaction Summary'!E73,0,1,1),\"\")","v":""},"","",null,{"$f":"IFERROR(MATCH(TRUE,OFFSET(CalculationsAndCharts!$AE$33,K72,0,'Transaction Summary'!$C$2-K72,1),0)+K72,\"\")","v":""},{"$f":"IFERROR(OFFSET(CalculationsAndCharts!$B$32,'Transaction Summary'!K73,0,1,1),\"\")","v":""},{"$f":"IFERROR(OFFSET(CalculationsAndCharts!$D$32,'Transaction Summary'!K73,0,1,1),\"\")","v":""},{"$f":"IFERROR(IF($N$12>$K$15,$N$12,MATCH(TRUE,OFFSET(CalculationsAndCharts!$AH$33,N72,0,'Transaction Summary'!$C$2-N72,1),0)+N72),\"\")","v":""},{"$f":"IFERROR(OFFSET(CalculationsAndCharts!$B$32,'Transaction Summary'!N73,0,1,1),\"\")","v":""},{"$f":"IFERROR(OFFSET(CalculationsAndCharts!$D$32,'Transaction Summary'!N73,0,1,1),\"\")","v":""},"",""]
[null,{"$f":"IFERROR(MATCH(TRUE,OFFSET(CalculationsAndCharts!$V$33,B73,0,'Transaction Summary'!$C$2-B73,1),0)+B73,\"\")","v":""},{"$f":"IFERROR(OFFSET(CalculationsAndCharts!$B$32,'Transaction Summary'!B74,0,1,1),\"\")","v":""},{"$f":"IFERROR(OFFSET(CalculationsAndCharts!$D$32,'Transaction Summary'!B74,0,1,1),\"\")","v":""},{"$f":"IFERROR(IF($E$12>$B$15,$E$12,(MATCH(TRUE,OFFSET(CalculationsAndCharts!$Y$33,E73,0,'Transaction Summary'!$C$2-E73,1),0)+E73)),\"\")","v":""},{"$f":"IFERROR(OFFSET(CalculationsAndCharts!$B$32,'Transaction Summary'!E74,0,1,1),\"\")","v":""},{"$f":"IFERROR(OFFSET(CalculationsAndCharts!$D$32,'Transaction Summary'!E74,0,1,1),\"\")","v":""},"","",null,{"$f":"IFERROR(MATCH(TRUE,OFFSET(CalculationsAndCharts!$AE$33,K73,0,'Transaction Summary'!$C$2-K73,1),0)+K73,\"\")","v":""},{"$f":"IFERROR(OFFSET(CalculationsAndCharts!$B$32,'Transaction Summary'!K74,0,1,1),\"\")","v":""},{"$f":"IFERROR(OFFSET(CalculationsAndCharts!$D$32,'Transaction Summary'!K74,0,1,1),\"\")","v":""},{"$f":"IFERROR(IF($N$12>$K$15,$N$12,MATCH(TRUE,OFFSET(CalculationsAndCharts!$AH$33,N73,0,'Transaction Summary'!$C$2-N73,1),0)+N73),\"\")","v":""},{"$f":"IFERROR(OFFSET(CalculationsAndCharts!$B$32,'Transaction Summary'!N74,0,1,1),\"\")","v":""},{"$f":"IFERROR(OFFSET(CalculationsAndCharts!$D$32,'Transaction Summary'!N74,0,1,1),\"\")","v":""},"",""]
[null,{"$f":"IFERROR(MATCH(TRUE,OFFSET(CalculationsAndCharts!$V$33,B74,0,'Transaction Summary'!$C$2-B74,1),0)+B74,\"\")","v":""},{"$f":"IFERROR(OFFSET(CalculationsAndCharts!$B$32,'Transaction Summary'!B75,0,1,1),\"\")","v":""},{"$f":"IFERROR(OFFSET(CalculationsAndCharts!$D$32,'Transaction Summary'!B75,0,1,1),\"\")","v":""},{"$f":"IFERROR(IF($E$12>$B$15,$E$12,(MATCH(TRUE,OFFSET(CalculationsAndCharts!$Y$33,E74,0,'Transaction Summary'!$C$2-E74,1),0)+E74)),\"\")","v":""},{"$f":"IFERROR(OFFSET(CalculationsAndCharts!$B$32,'Transaction Summary'!E75,0,1,1),\"\")","v":""},{"$f":"IFERROR(OFFSET(CalculationsAndCharts!$D$32,'Transaction Summary'!E75,0,1,1),\"\")","v":""},"","",null,{"$f":"IFERROR(MATCH(TRUE,OFFSET(CalculationsAndCharts!$AE$33,K74,0,'Transaction Summary'!$C$2-K74,1),0)+K74,\"\")","v":""},{"$f":"IFERROR(OFFSET(CalculationsAndCharts!$B$32,'Transaction Summary'!K75,0,1,1),\"\")","v":""},{"$f":"IFERROR(OFFSET(CalculationsAndCharts!$D$32,'Transaction Summary'!K75,0,1,1),\"\")","v":""},{"$f":"IFERROR(IF($N$12>$K$15,$N$12,MATCH(TRUE,OFFSET(CalculationsAndCharts!$AH$33,N74,0,'Transaction Summary'!$C$2-N74,1),0)+N74),\"\")","v":""},{"$f":"IFERROR(OFFSET(CalculationsAndCharts!$B$32,'Transaction Summary'!N75,0,1,1),\"\")","v":""},{"$f":"IFERROR(OFFSET(CalculationsAndCharts!$D$32,'Transaction Summary'!N75,0,1,1),\"\")","v":""},"",""]
[null,{"$f":"IFERROR(MATCH(TRUE,OFFSET(CalculationsAndCharts!$V$33,B75,0,'Transaction Summary'!$C$2-B75,1),0)+B75,\"\")","v":""},{"$f":"IFERROR(OFFSET(CalculationsAndCharts!$B$32,'Transaction Summary'!B76,0,1,1),\"\")","v":""},{"$f":"IFERROR(OFFSET(CalculationsAndCharts!$D$32,'Transaction Summary'!B76,0,1,1),\"\")","v":""},{"$f":"IFERROR(IF($E$12>$B$15,$E$12,(MATCH(TRUE,OFFSET(CalculationsAndCharts!$Y$33,E75,0,'Transaction Summary'!$C$2-E75,1),0)+E75)),\"\")","v":""},{"$f":"IFERROR(OFFSET(CalculationsAndCharts!$B$32,'Transaction Summary'!E76,0,1,1),\"\")","v":""},{"$f":"IFERROR(OFFSET(CalculationsAndCharts!$D$32,'Transaction Summary'!E76,0,1,1),\"\")","v":""},"","",null,{"$f":"IFERROR(MATCH(TRUE,OFFSET(CalculationsAndCharts!$AE$33,K75,0,'Transaction Summary'!$C$2-K75,1),0)+K75,\"\")","v":""},{"$f":"IFERROR(OFFSET(CalculationsAndCharts!$B$32,'Transaction Summary'!K76,0,1,1),\"\")","v":""},{"$f":"IFERROR(OFFSET(CalculationsAndCharts!$D$32,'Transaction Summary'!K76,0,1,1),\"\")","v":""},{"$f":"IFERROR(IF($N$12>$K$15,$N$12,MATCH(TRUE,OFFSET(CalculationsAndCharts!$AH$33,N75,0,'Transaction Summary'!$C$2-N75,1),0)+N75),\"\")","v":""},{"$f":"IFERROR(OFFSET(CalculationsAndCharts!$B$32,'Transaction Summary'!N76,0,1,1),\"\")","v":""},{"$f":"IFERROR(OFFSET(CalculationsAndCharts!$D$32,'Transaction Summary'!N76,0,1,1),\"\")","v":""},"",""]
[null,{"$f":"IFERROR(MATCH(TRUE,OFFSET(CalculationsAndCharts!$V$33,B76,0,'Transaction Summary'!$C$2-B76,1),0)+B76,\"\")","v":""},{"$f":"IFERROR(OFFSET(CalculationsAndCharts!$B$32,'Transaction Summary'!B77,0,1,1),\"\")","v":""},{"$f":"IFERROR(OFFSET(CalculationsAndCharts!$D$32,'Transaction Summary'!B77,0,1,1),\"\")","v":""},{"$f":"IFERROR(IF($E$12>$B$15,$E$12,(MATCH(TRUE,OFFSET(CalculationsAndCharts!$Y$33,E76,0,'Transaction Summary'!$C$2-E76,1),0)+E76)),\"\")","v":""},{"$f":"IFERROR(OFFSET(CalculationsAndCharts!$B$32,'Transaction Summary'!E77,0,1,1),\"\")","v":""},{"$f":"IFERROR(OFFSET(CalculationsAndCharts!$D$32,'Transaction Summary'!E77,0,1,1),\"\")","v":""},"","",null,{"$f":"IFERROR(MATCH(TRUE,OFFSET(CalculationsAndCharts!$AE$33,K76,0,'Transaction Summary'!$C$2-K76,1),0)+K76,\"\")","v":""},{"$f":"IFERROR(OFFSET(CalculationsAndCharts!$B$32,'Transaction Summary'!K77,0,1,1),\"\")","v":""},{"$f":"IFERROR(OFFSET(CalculationsAndCharts!$D$32,'Transaction Summary'!K77,0,1,1),\"\")","v":""},{"$f":"IFERROR(IF($N$12>$K$15,$N$12,MATCH(TRUE,OFFSET(CalculationsAndCharts!$AH$33,N76,0,'Transaction Summary'!$C$2-N76,1),0)+N76),\"\")","v":""},{"$f":"IFERROR(OFFSET(CalculationsAndCharts!$B$32,'Transaction Summary'!N77,0,1,1),\"\")","v":""},{"$f":"IFERROR(OFFSET(CalculationsAndCharts!$D$32,'Transaction Summary'!N77,0,1,1),\"\")","v":""},"",""]
[null,{"$f":"IFERROR(MATCH(TRUE,OFFSET(CalculationsAndCharts!$V$33,B77,0,'Transaction Summary'!$C$2-B77,1),0)+B77,\"\")","v":""},{"$f":"IFERROR(OFFSET(CalculationsAndCharts!$B$32,'Transaction Summary'!B78,0,1,1),\"\")","v":""},{"$f":"IFERROR(OFFSET(CalculationsAndCharts!$D$32,'Transaction Summary'!B78,0,1,1),\"\")","v":""},{"$f":"IFERROR(IF($E$12>$B$15,$E$12,(MATCH(TRUE,OFFSET(CalculationsAndCharts!$Y$33,E77,0,'Transaction Summary'!$C$2-E77,1),0)+E77)),\"\")","v":""},{"$f":"IFERROR(OFFSET(CalculationsAndCharts!$B$32,'Transaction Summary'!E78,0,1,1),\"\")","v":""},{"$f":"IFERROR(OFFSET(CalculationsAndCharts!$D$32,'Transaction Summary'!E78,0,1,1),\"\")","v":""},"","",null,{"$f":"IFERROR(MATCH(TRUE,OFFSET(CalculationsAndCharts!$AE$33,K77,0,'Transaction Summary'!$C$2-K77,1),0)+K77,\"\")","v":""},{"$f":"IFERROR(OFFSET(CalculationsAndCharts!$B$32,'Transaction Summary'!K78,0,1,1),\"\")","v":""},{"$f":"IFERROR(OFFSET(CalculationsAndCharts!$D$32,'Transaction Summary'!K78,0,1,1),\"\")","v":""},{"$f":"IFERROR(IF($N$12>$K$15,$N$12,MATCH(TRUE,OFFSET(CalculationsAndCharts!$AH$33,N77,0,'Transaction Summary'!$C$2-N77,1),0)+N77),\"\")","v":""},{"$f":"IFERROR(OFFSET(CalculationsAndCharts!$B$32,'Transaction Summary'!N78,0,1,1),\"\")","v":""},{"$f":"IFERROR(OFFSET(CalculationsAndCharts!$D$32,'Transaction Summary'!N78,0,1,1),\"\")","v":""},"",""]
[null,{"$f":"IFERROR(MATCH(TRUE,OFFSET(CalculationsAndCharts!$V$33,B78,0,'Transaction Summary'!$C$2-B78,1),0)+B78,\"\")","v":""},{"$f":"IFERROR(OFFSET(CalculationsAndCharts!$B$32,'Transaction Summary'!B79,0,1,1),\"\")","v":""},{"$f":"IFERROR(OFFSET(CalculationsAndCharts!$D$32,'Transaction Summary'!B79,0,1,1),\"\")","v":""},{"$f":"IFERROR(IF($E$12>$B$15,$E$12,(MATCH(TRUE,OFFSET(CalculationsAndCharts!$Y$33,E78,0,'Transaction Summary'!$C$2-E78,1),0)+E78)),\"\")","v":""},{"$f":"IFERROR(OFFSET(CalculationsAndCharts!$B$32,'Transaction Summary'!E79,0,1,1),\"\")","v":""},{"$f":"IFERROR(OFFSET(CalculationsAndCharts!$D$32,'Transaction Summary'!E79,0,1,1),\"\")","v":""},"","",null,{"$f":"IFERROR(MATCH(TRUE,OFFSET(CalculationsAndCharts!$AE$33,K78,0,'Transaction Summary'!$C$2-K78,1),0)+K78,\"\")","v":""},{"$f":"IFERROR(OFFSET(CalculationsAndCharts!$B$32,'Transaction Summary'!K79,0,1,1),\"\")","v":""},{"$f":"IFERROR(OFFSET(CalculationsAndCharts!$D$32,'Transaction Summary'!K79,0,1,1),\"\")","v":""},{"$f":"IFERROR(IF($N$12>$K$15,$N$12,MATCH(TRUE,OFFSET(CalculationsAndCharts!$AH$33,N78,0,'Transaction Summary'!$C$2-N78,1),0)+N78),\"\")","v":""},{"$f":"IFERROR(OFFSET(CalculationsAndCharts!$B$32,'Transaction Summary'!N79,0,1,1),\"\")","v":""},{"$f":"IFERROR(OFFSET(CalculationsAndCharts!$D$32,'Transaction Summary'!N79,0,1,1),\"\")","v":""},"",""]
[null,{"$f":"IFERROR(MATCH(TRUE,OFFSET(CalculationsAndCharts!$V$33,B79,0,'Transaction Summary'!$C$2-B79,1),0)+B79,\"\")","v":""},{"$f":"IFERROR(OFFSET(CalculationsAndCharts!$B$32,'Transaction Summary'!B80,0,1,1),\"\")","v":""},{"$f":"IFERROR(OFFSET(CalculationsAndCharts!$D$32,'Transaction Summary'!B80,0,1,1),\"\")","v":""},{"$f":"IFERROR(IF($E$12>$B$15,$E$12,(MATCH(TRUE,OFFSET(CalculationsAndCharts!$Y$33,E79,0,'Transaction Summary'!$C$2-E79,1),0)+E79)),\"\")","v":""},{"$f":"IFERROR(OFFSET(CalculationsAndCharts!$B$32,'Transaction Summary'!E80,0,1,1),\"\")","v":""},{"$f":"IFERROR(OFFSET(CalculationsAndCharts!$D$32,'Transaction Summary'!E80,0,1,1),\"\")","v":""},"","",null,{"$f":"IFERROR(MATCH(TRUE,OFFSET(CalculationsAndCharts!$AE$33,K79,0,'Transaction Summary'!$C$2-K79,1),0)+K79,\"\")","v":""},{"$f":"IFERROR(OFFSET(CalculationsAndCharts!$B$32,'Transaction Summary'!K80,0,1,1),\"\")","v":""},{"$f":"IFERROR(OFFSET(CalculationsAndCharts!$D$32,'Transaction Summary'!K80,0,1,1),\"\")","v":""},{"$f":"IFERROR(IF($N$12>$K$15,$N$12,MATCH(TRUE,OFFSET(CalculationsAndCharts!$AH$33,N79,0,'Transaction Summary'!$C$2-N79,1),0)+N79),\"\")","v":""},{"$f":"IFERROR(OFFSET(CalculationsAndCharts!$B$32,'Transaction Summary'!N80,0,1,1),\"\")","v":""},{"$f":"IFERROR(OFFSET(CalculationsAndCharts!$D$32,'Transaction Summary'!N80,0,1,1),\"\")","v":""},"",""]
[null,{"$f":"IFERROR(MATCH(TRUE,OFFSET(CalculationsAndCharts!$V$33,B80,0,'Transaction Summary'!$C$2-B80,1),0)+B80,\"\")","v":""},{"$f":"IFERROR(OFFSET(CalculationsAndCharts!$B$32,'Transaction Summary'!B81,0,1,1),\"\")","v":""},{"$f":"IFERROR(OFFSET(CalculationsAndCharts!$D$32,'Transaction Summary'!B81,0,1,1),\"\")","v":""},{"$f":"IFERROR(IF($E$12>$B$15,$E$12,(MATCH(TRUE,OFFSET(CalculationsAndCharts!$Y$33,E80,0,'Transaction Summary'!$C$2-E80,1),0)+E80)),\"\")","v":""},{"$f":"IFERROR(OFFSET(CalculationsAndCharts!$B$32,'Transaction Summary'!E81,0,1,1),\"\")","v":""},{"$f":"IFERROR(OFFSET(CalculationsAndCharts!$D$32,'Transaction Summary'!E81,0,1,1),\"\")","v":""},"","",null,{"$f":"IFERROR(MATCH(TRUE,OFFSET(CalculationsAndCharts!$AE$33,K80,0,'Transaction Summary'!$C$2-K80,1),0)+K80,\"\")","v":""},{"$f":"IFERROR(OFFSET(CalculationsAndCharts!$B$32,'Transaction Summary'!K81,0,1,1),\"\")","v":""},{"$f":"IFERROR(OFFSET(CalculationsAndCharts!$D$32,'Transaction Summary'!K81,0,1,1),\"\")","v":""},{"$f":"IFERROR(IF($N$12>$K$15,$N$12,MATCH(TRUE,OFFSET(CalculationsAndCharts!$AH$33,N80,0,'Transaction Summary'!$C$2-N80,1),0)+N80),\"\")","v":""},{"$f":"IFERROR(OFFSET(CalculationsAndCharts!$B$32,'Transaction Summary'!N81,0,1,1),\"\")","v":""},{"$f":"IFERROR(OFFSET(CalculationsAndCharts!$D$32,'Transaction Summary'!N81,0,1,1),\"\")","v":""},"",""]
[null,{"$f":"IFERROR(MATCH(TRUE,OFFSET(CalculationsAndCharts!$V$33,B81,0,'Transaction Summary'!$C$2-B81,1),0)+B81,\"\")","v":""},{"$f":"IFERROR(OFFSET(CalculationsAndCharts!$B$32,'Transaction Summary'!B82,0,1,1),\"\")","v":""},{"$f":"IFERROR(OFFSET(CalculationsAndCharts!$D$32,'Transaction Summary'!B82,0,1,1),\"\")","v":""},{"$f":"IFERROR(IF($E$12>$B$15,$E$12,(MATCH(TRUE,OFFSET(CalculationsAndCharts!$Y$33,E81,0,'Transaction Summary'!$C$2-E81,1),0)+E81)),\"\")","v":""},{"$f":"IFERROR(OFFSET(CalculationsAndCharts!$B$32,'Transaction Summary'!E82,0,1,1),\"\")","v":""},{"$f":"IFERROR(OFFSET(CalculationsAndCharts!$D$32,'Transaction Summary'!E82,0,1,1),\"\")","v":""},"","",null,{"$f":"IFERROR(MATCH(TRUE,OFFSET(CalculationsAndCharts!$AE$33,K81,0,'Transaction Summary'!$C$2-K81,1),0)+K81,\"\")","v":""},{"$f":"IFERROR(OFFSET(CalculationsAndCharts!$B$32,'Transaction Summary'!K82,0,1,1),\"\")","v":""},{"$f":"IFERROR(OFFSET(CalculationsAndCharts!$D$32,'Transaction Summary'!K82,0,1,1),\"\")","v":""},{"$f":"IFERROR(IF($N$12>$K$15,$N$12,MATCH(TRUE,OFFSET(CalculationsAndCharts!$AH$33,N81,0,'Transaction Summary'!$C$2-N81,1),0)+N81),\"\")","v":""},{"$f":"IFERROR(OFFSET(CalculationsAndCharts!$B$32,'Transaction Summary'!N82,0,1,1),\"\")","v":""},{"$f":"IFERROR(OFFSET(CalculationsAndCharts!$D$32,'Transaction Summary'!N82,0,1,1),\"\")","v":""},{"$f":"IFERROR(M82-P82,\"\")","v":""},{"$f":"IFERROR(Q82+IF(\"\"=R83,0,R83),\"\")","v":""}]
[null,{"$f":"IFERROR(MATCH(TRUE,OFFSET(CalculationsAndCharts!$V$33,B82,0,'Transaction Summary'!$C$2-B82,1),0)+B82,\"\")","v":""},{"$f":"IFERROR(OFFSET(CalculationsAndCharts!$B$32,'Transaction Summary'!B83,0,1,1),\"\")","v":""},{"$f":"IFERROR(OFFSET(CalculationsAndCharts!$D$32,'Transaction Summary'!B83,0,1,1),\"\")","v":""},{"$f":"IFERROR(IF($E$12>$B$15,$E$12,(MATCH(TRUE,OFFSET(CalculationsAndCharts!$Y$33,E82,0,'Transaction Summary'!$C$2-E82,1),0)+E82)),\"\")","v":""},{"$f":"IFERROR(OFFSET(CalculationsAndCharts!$B$32,'Transaction Summary'!E83,0,1,1),\"\")","v":""},{"$f":"IFERROR(OFFSET(CalculationsAndCharts!$D$32,'Transaction Summary'!E83,0,1,1),\"\")","v":""},"","",null,{"$f":"IFERROR(MATCH(TRUE,OFFSET(CalculationsAndCharts!$AE$33,K82,0,'Transaction Summary'!$C$2-K82,1),0)+K82,\"\")","v":""},{"$f":"IFERROR(OFFSET(CalculationsAndCharts!$B$32,'Transaction Summary'!K83,0,1,1),\"\")","v":""},{"$f":"IFERROR(OFFSET(CalculationsAndCharts!$D$32,'Transaction Summary'!K83,0,1,1),\"\")","v":""},{"$f":"IFERROR(IF($N$12>$K$15,$N$12,MATCH(TRUE,OFFSET(CalculationsAndCharts!$AH$33,N82,0,'Transaction Summary'!$C$2-N82,1),0)+N82),\"\")","v":""},{"$f":"IFERROR(OFFSET(CalculationsAndCharts!$B$32,'Transaction Summary'!N83,0,1,1),\"\")","v":""},{"$f":"IFERROR(OFFSET(CalculationsAndCharts!$D$32,'Transaction Summary'!N83,0,1,1),\"\")","v":""},"",""]
[null,{"$f":"IFERROR(MATCH(TRUE,OFFSET(CalculationsAndCharts!$V$33,B83,0,'Transaction Summary'!$C$2-B83,1),0)+B83,\"\")","v":""},{"$f":"IFERROR(OFFSET(CalculationsAndCharts!$B$32,'Transaction Summary'!B84,0,1,1),\"\")","v":""},{"$f":"IFERROR(OFFSET(CalculationsAndCharts!$D$32,'Transaction Summary'!B84,0,1,1),\"\")","v":""},{"$f":"IFERROR(IF($E$12>$B$15,$E$12,(MATCH(TRUE,OFFSET(CalculationsAndCharts!$Y$33,E83,0,'Transaction Summary'!$C$2-E83,1),0)+E83)),\"\")","v":""},{"$f":"IFERROR(OFFSET(CalculationsAndCharts!$B$32,'Transaction Summary'!E84,0,1,1),\"\")","v":""},{"$f":"IFERROR(OFFSET(CalculationsAndCharts!$D$32,'Transaction Summary'!E84,0,1,1),\"\")","v":""},"","",null,{"$f":"IFERROR(MATCH(TRUE,OFFSET(CalculationsAndCharts!$AE$33,K83,0,'Transaction Summary'!$C$2-K83,1),0)+K83,\"\")","v":""},{"$f":"IFERROR(OFFSET(CalculationsAndCharts!$B$32,'Transaction Summary'!K84,0,1,1),\"\")","v":""},{"$f":"IFERROR(OFFSET(CalculationsAndCharts!$D$32,'Transaction Summary'!K84,0,1,1),\"\")","v":""},{"$f":"IFERROR(IF($N$12>$K$15,$N$12,MATCH(TRUE,OFFSET(CalculationsAndCharts!$AH$33,N83,0,'Transaction Summary'!$C$2-N83,1),0)+N83),\"\")","v":""},{"$f":"IFERROR(OFFSET(CalculationsAndCharts!$B$32,'Transaction Summary'!N84,0,1,1),\"\")","v":""},{"$f":"IFERROR(OFFSET(CalculationsAndCharts!$D$32,'Transaction Summary'!N84,0,1,1),\"\")","v":""},"",""]
[null,{"$f":"IFERROR(MATCH(TRUE,OFFSET(CalculationsAndCharts!$V$33,B84,0,'Transaction Summary'!$C$2-B84,1),0)+B84,\"\")","v":""},{"$f":"IFERROR(OFFSET(CalculationsAndCharts!$B$32,'Transaction Summary'!B85,0,1,1),\"\")","v":""},{"$f":"IFERROR(OFFSET(CalculationsAndCharts!$D$32,'Transaction Summary'!B85,0,1,1),\"\")","v":""},{"$f":"IFERROR(IF($E$12>$B$15,$E$12,(MATCH(TRUE,OFFSET(CalculationsAndCharts!$Y$33,E84,0,'Transaction Summary'!$C$2-E84,1),0)+E84)),\"\")","v":""},{"$f":"IFERROR(OFFSET(CalculationsAndCharts!$B$32,'Transaction Summary'!E85,0,1,1),\"\")","v":""},{"$f":"IFERROR(OFFSET(CalculationsAndCharts!$D$32,'Transaction Summary'!E85,0,1,1),\"\")","v":""},"","",null,{"$f":"IFERROR(MATCH(TRUE,OFFSET(CalculationsAndCharts!$AE$33,K84,0,'Transaction Summary'!$C$2-K84,1),0)+K84,\"\")","v":""},{"$f":"IFERROR(OFFSET(CalculationsAndCharts!$B$32,'Transaction Summary'!K85,0,1,1),\"\")","v":""},{"$f":"IFERROR(OFFSET(CalculationsAndCharts!$D$32,'Transaction Summary'!K85,0,1,1),\"\")","v":""},{"$f":"IFERROR(IF($N$12>$K$15,$N$12,MATCH(TRUE,OFFSET(CalculationsAndCharts!$AH$33,N84,0,'Transaction Summary'!$C$2-N84,1),0)+N84),\"\")","v":""},{"$f":"IFERROR(OFFSET(CalculationsAndCharts!$B$32,'Transaction Summary'!N85,0,1,1),\"\")","v":""},{"$f":"IFERROR(OFFSET(CalculationsAndCharts!$D$32,'Transaction Summary'!N85,0,1,1),\"\")","v":""},"",""]
[null,{"$f":"IFERROR(MATCH(TRUE,OFFSET(CalculationsAndCharts!$V$33,B85,0,'Transaction Summary'!$C$2-B85,1),0)+B85,\"\")","v":""},{"$f":"IFERROR(OFFSET(CalculationsAndCharts!$B$32,'Transaction Summary'!B86,0,1,1),\"\")","v":""},{"$f":"IFERROR(OFFSET(CalculationsAndCharts!$D$32,'Transaction Summary'!B86,0,1,1),\"\")","v":""},{"$f":"IFERROR(IF($E$12>$B$15,$E$12,(MATCH(TRUE,OFFSET(CalculationsAndCharts!$Y$33,E85,0,'Transaction Summary'!$C$2-E85,1),0)+E85)),\"\")","v":""},{"$f":"IFERROR(OFFSET(CalculationsAndCharts!$B$32,'Transaction Summary'!E86,0,1,1),\"\")","v":""},{"$f":"IFERROR(OFFSET(CalculationsAndCharts!$D$32,'Transaction Summary'!E86,0,1,1),\"\")","v":""},"","",null,{"$f":"IFERROR(MATCH(TRUE,OFFSET(CalculationsAndCharts!$AE$33,K85,0,'Transaction Summary'!$C$2-K85,1),0)+K85,\"\")","v":""},{"$f":"IFERROR(OFFSET(CalculationsAndCharts!$B$32,'Transaction Summary'!K86,0,1,1),\"\")","v":""},{"$f":"IFERROR(OFFSET(CalculationsAndCharts!$D$32,'Transaction Summary'!K86,0,1,1),\"\")","v":""},{"$f":"IFERROR(IF($N$12>$K$15,$N$12,MATCH(TRUE,OFFSET(CalculationsAndCharts!$AH$33,N85,0,'Transaction Summary'!$C$2-N85,1),0)+N85),\"\")","v":""},{"$f":"IFERROR(OFFSET(CalculationsAndCharts!$B$32,'Transaction Summary'!N86,0,1,1),\"\")","v":""},{"$f":"IFERROR(OFFSET(CalculationsAndCharts!$D$32,'Transaction Summary'!N86,0,1,1),\"\")","v":""},"",""]
[null,{"$f":"IFERROR(MATCH(TRUE,OFFSET(CalculationsAndCharts!$V$33,B86,0,'Transaction Summary'!$C$2-B86,1),0)+B86,\"\")","v":""},{"$f":"IFERROR(OFFSET(CalculationsAndCharts!$B$32,'Transaction Summary'!B87,0,1,1),\"\")","v":""},{"$f":"IFERROR(OFFSET(CalculationsAndCharts!$D$32,'Transaction Summary'!B87,0,1,1),\"\")","v":""},{"$f":"IFERROR(IF($E$12>$B$15,$E$12,(MATCH(TRUE,OFFSET(CalculationsAndCharts!$Y$33,E86,0,'Transaction Summary'!$C$2-E86,1),0)+E86)),\"\")","v":""},{"$f":"IFERROR(OFFSET(CalculationsAndCharts!$B$32,'Transaction Summary'!E87,0,1,1),\"\")","v":""},{"$f":"IFERROR(OFFSET(CalculationsAndCharts!$D$32,'Transaction Summary'!E87,0,1,1),\"\")","v":""},"","",null,{"$f":"IFERROR(MATCH(TRUE,OFFSET(CalculationsAndCharts!$AE$33,K86,0,'Transaction Summary'!$C$2-K86,1),0)+K86,\"\")","v":""},{"$f":"IFERROR(OFFSET(CalculationsAndCharts!$B$32,'Transaction Summary'!K87,0,1,1),\"\")","v":""},{"$f":"IFERROR(OFFSET(CalculationsAndCharts!$D$32,'Transaction Summary'!K87,0,1,1),\"\")","v":""},{"$f":"IFERROR(IF($N$12>$K$15,$N$12,MATCH(TRUE,OFFSET(CalculationsAndCharts!$AH$33,N86,0,'Transaction Summary'!$C$2-N86,1),0)+N86),\"\")","v":""},{"$f":"IFERROR(OFFSET(CalculationsAndCharts!$B$32,'Transaction Summary'!N87,0,1,1),\"\")","v":""},{"$f":"IFERROR(OFFSET(CalculationsAndCharts!$D$32,'Transaction Summary'!N87,0,1,1),\"\")","v":""},"",""]
[null,{"$f":"IFERROR(MATCH(TRUE,OFFSET(CalculationsAndCharts!$V$33,B87,0,'Transaction Summary'!$C$2-B87,1),0)+B87,\"\")","v":""},{"$f":"IFERROR(OFFSET(CalculationsAndCharts!$B$32,'Transaction Summary'!B88,0,1,1),\"\")","v":""},{"$f":"IFERROR(OFFSET(CalculationsAndCharts!$D$32,'Transaction Summary'!B88,0,1,1),\"\")","v":""},{"$f":"IFERROR(IF($E$12>$B$15,$E$12,(MATCH(TRUE,OFFSET(CalculationsAndCharts!$Y$33,E87,0,'Transaction Summary'!$C$2-E87,1),0)+E87)),\"\")","v":""},{"$f":"IFERROR(OFFSET(CalculationsAndCharts!$B$32,'Transaction Summary'!E88,0,1,1),\"\")","v":""},{"$f":"IFERROR(OFFSET(CalculationsAndCharts!$D$32,'Transaction Summary'!E88,0,1,1),\"\")","v":""},"","",null,{"$f":"IFERROR(MATCH(TRUE,OFFSET(CalculationsAndCharts!$AE$33,K87,0,'Transaction Summary'!$C$2-K87,1),0)+K87,\"\")","v":""},{"$f":"IFERROR(OFFSET(CalculationsAndCharts!$B$32,'Transaction Summary'!K88,0,1,1),\"\")","v":""},{"$f":"IFERROR(OFFSET(CalculationsAndCharts!$D$32,'Transaction Summary'!K88,0,1,1),\"\")","v":""},{"$f":"IFERROR(IF($N$12>$K$15,$N$12,MATCH(TRUE,OFFSET(CalculationsAndCharts!$AH$33,N87,0,'Transaction Summary'!$C$2-N87,1),0)+N87),\"\")","v":""},{"$f":"IFERROR(OFFSET(CalculationsAndCharts!$B$32,'Transaction Summary'!N88,0,1,1),\"\")","v":""},{"$f":"IFERROR(OFFSET(CalculationsAndCharts!$D$32,'Transaction Summary'!N88,0,1,1),\"\")","v":""},"",""]
[null,{"$f":"IFERROR(MATCH(TRUE,OFFSET(CalculationsAndCharts!$V$33,B88,0,'Transaction Summary'!$C$2-B88,1),0)+B88,\"\")","v":""},{"$f":"IFERROR(OFFSET(CalculationsAndCharts!$B$32,'Transaction Summary'!B89,0,1,1),\"\")","v":""},{"$f":"IFERROR(OFFSET(CalculationsAndCharts!$D$32,'Transaction Summary'!B89,0,1,1),\"\")","v":""},{"$f":"IFERROR(IF($E$12>$B$15,$E$12,(MATCH(TRUE,OFFSET(CalculationsAndCharts!$Y$33,E88,0,'Transaction Summary'!$C$2-E88,1),0)+E88)),\"\")","v":""},{"$f":"IFERROR(OFFSET(CalculationsAndCharts!$B$32,'Transaction Summary'!E89,0,1,1),\"\")","v":""},{"$f":"IFERROR(OFFSET(CalculationsAndCharts!$D$32,'Transaction Summary'!E89,0,1,1),\"\")","v":""},"","",null,{"$f":"IFERROR(MATCH(TRUE,OFFSET(CalculationsAndCharts!$AE$33,K88,0,'Transaction Summary'!$C$2-K88,1),0)+K88,\"\")","v":""},{"$f":"IFERROR(OFFSET(CalculationsAndCharts!$B$32,'Transaction Summary'!K89,0,1,1),\"\")","v":""},{"$f":"IFERROR(OFFSET(CalculationsAndCharts!$D$32,'Transaction Summary'!K89,0,1,1),\"\")","v":""},{"$f":"IFERROR(IF($N$12>$K$15,$N$12,MATCH(TRUE,OFFSET(CalculationsAndCharts!$AH$33,N88,0,'Transaction Summary'!$C$2-N88,1),0)+N88),\"\")","v":""},{"$f":"IFERROR(OFFSET(CalculationsAndCharts!$B$32,'Transaction Summary'!N89,0,1,1),\"\")","v":""},{"$f":"IFERROR(OFFSET(CalculationsAndCharts!$D$32,'Transaction Summary'!N89,0,1,1),\"\")","v":""},"",""]
[null,{"$f":"IFERROR(MATCH(TRUE,OFFSET(CalculationsAndCharts!$V$33,B89,0,'Transaction Summary'!$C$2-B89,1),0)+B89,\"\")","v":""},{"$f":"IFERROR(OFFSET(CalculationsAndCharts!$B$32,'Transaction Summary'!B90,0,1,1),\"\")","v":""},{"$f":"IFERROR(OFFSET(CalculationsAndCharts!$D$32,'Transaction Summary'!B90,0,1,1),\"\")","v":""},{"$f":"IFERROR(IF($E$12>$B$15,$E$12,(MATCH(TRUE,OFFSET(CalculationsAndCharts!$Y$33,E89,0,'Transaction Summary'!$C$2-E89,1),0)+E89)),\"\")","v":""},{"$f":"IFERROR(OFFSET(CalculationsAndCharts!$B$32,'Transaction Summary'!E90,0,1,1),\"\")","v":""},{"$f":"IFERROR(OFFSET(CalculationsAndCharts!$D$32,'Transaction Summary'!E90,0,1,1),\"\")","v":""},"","",null,{"$f":"IFERROR(MATCH(TRUE,OFFSET(CalculationsAndCharts!$AE$33,K89,0,'Transaction Summary'!$C$2-K89,1),0)+K89,\"\")","v":""},{"$f":"IFERROR(OFFSET(CalculationsAndCharts!$B$32,'Transaction Summary'!K90,0,1,1),\"\")","v":""},{"$f":"IFERROR(OFFSET(CalculationsAndCharts!$D$32,'Transaction Summary'!K90,0,1,1),\"\")","v":""},{"$f":"IFERROR(IF($N$12>$K$15,$N$12,MATCH(TRUE,OFFSET(CalculationsAndCharts!$AH$33,N89,0,'Transaction Summary'!$C$2-N89,1),0)+N89),\"\")","v":""},{"$f":"IFERROR(OFFSET(CalculationsAndCharts!$B$32,'Transaction Summary'!N90,0,1,1),\"\")","v":""},{"$f":"IFERROR(OFFSET(CalculationsAndCharts!$D$32,'Transaction Summary'!N90,0,1,1),\"\")","v":""},"",""]
[null,{"$f":"IFERROR(MATCH(TRUE,OFFSET(CalculationsAndCharts!$V$33,B90,0,'Transaction Summary'!$C$2-B90,1),0)+B90,\"\")","v":""},{"$f":"IFERROR(OFFSET(CalculationsAndCharts!$B$32,'Transaction Summary'!B91,0,1,1),\"\")","v":""},{"$f":"IFERROR(OFFSET(CalculationsAndCharts!$D$32,'Transaction Summary'!B91,0,1,1),\"\")","v":""},{"$f":"IFERROR(IF($E$12>$B$15,$E$12,(MATCH(TRUE,OFFSET(CalculationsAndCharts!$Y$33,E90,0,'Transaction Summary'!$C$2-E90,1),0)+E90)),\"\")","v":""},{"$f":"IFERROR(OFFSET(CalculationsAndCharts!$B$32,'Transaction Summary'!E91,0,1,1),\"\")","v":""},{"$f":"IFERROR(OFFSET(CalculationsAndCharts!$D$32,'Transaction Summary'!E91,0,1,1),\"\")","v":""},"","",null,{"$f":"IFERROR(MATCH(TRUE,OFFSET(CalculationsAndCharts!$AE$33,K90,0,'Transaction Summary'!$C$2-K90,1),0)+K90,\"\")","v":""},{"$f":"IFERROR(OFFSET(CalculationsAndCharts!$B$32,'Transaction Summary'!K91,0,1,1),\"\")","v":""},{"$f":"IFERROR(OFFSET(CalculationsAndCharts!$D$32,'Transaction Summary'!K91,0,1,1),\"\")","v":""},{"$f":"IFERROR(IF($N$12>$K$15,$N$12,MATCH(TRUE,OFFSET(CalculationsAndCharts!$AH$33,N90,0,'Transaction Summary'!$C$2-N90,1),0)+N90),\"\")","v":""},{"$f":"IFERROR(OFFSET(CalculationsAndCharts!$B$32,'Transaction Summary'!N91,0,1,1),\"\")","v":""},{"$f":"IFERROR(OFFSET(CalculationsAndCharts!$D$32,'Transaction Summary'!N91,0,1,1),\"\")","v":""},"",""]
[null,{"$f":"IFERROR(MATCH(TRUE,OFFSET(CalculationsAndCharts!$V$33,B91,0,'Transaction Summary'!$C$2-B91,1),0)+B91,\"\")","v":""},{"$f":"IFERROR(OFFSET(CalculationsAndCharts!$B$32,'Transaction Summary'!B92,0,1,1),\"\")","v":""},{"$f":"IFERROR(OFFSET(CalculationsAndCharts!$D$32,'Transaction Summary'!B92,0,1,1),\"\")","v":""},{"$f":"IFERROR(IF($E$12>$B$15,$E$12,(MATCH(TRUE,OFFSET(CalculationsAndCharts!$Y$33,E91,0,'Transaction Summary'!$C$2-E91,1),0)+E91)),\"\")","v":""},{"$f":"IFERROR(OFFSET(CalculationsAndCharts!$B$32,'Transaction Summary'!E92,0,1,1),\"\")","v":""},{"$f":"IFERROR(OFFSET(CalculationsAndCharts!$D$32,'Transaction Summary'!E92,0,1,1),\"\")","v":""},"","",null,{"$f":"IFERROR(MATCH(TRUE,OFFSET(CalculationsAndCharts!$AE$33,K91,0,'Transaction Summary'!$C$2-K91,1),0)+K91,\"\")","v":""},{"$f":"IFERROR(OFFSET(CalculationsAndCharts!$B$32,'Transaction Summary'!K92,0,1,1),\"\")","v":""},{"$f":"IFERROR(OFFSET(CalculationsAndCharts!$D$32,'Transaction Summary'!K92,0,1,1),\"\")","v":""},{"$f":"IFERROR(IF($N$12>$K$15,$N$12,MATCH(TRUE,OFFSET(CalculationsAndCharts!$AH$33,N91,0,'Transaction Summary'!$C$2-N91,1),0)+N91),\"\")","v":""},{"$f":"IFERROR(OFFSET(CalculationsAndCharts!$B$32,'Transaction Summary'!N92,0,1,1),\"\")","v":""},{"$f":"IFERROR(OFFSET(CalculationsAndCharts!$D$32,'Transaction Summary'!N92,0,1,1),\"\")","v":""},"",""]
[null,{"$f":"IFERROR(MATCH(TRUE,OFFSET(CalculationsAndCharts!$V$33,B92,0,'Transaction Summary'!$C$2-B92,1),0)+B92,\"\")","v":""},{"$f":"IFERROR(OFFSET(CalculationsAndCharts!$B$32,'Transaction Summary'!B93,0,1,1),\"\")","v":""},{"$f":"IFERROR(OFFSET(CalculationsAndCharts!$D$32,'Transaction Summary'!B93,0,1,1),\"\")","v":""},{"$f":"IFERROR(IF($E$12>$B$15,$E$12,(MATCH(TRUE,OFFSET(CalculationsAndCharts!$Y$33,E92,0,'Transaction Summary'!$C$2-E92,1),0)+E92)),\"\")","v":""},{"$f":"IFERROR(OFFSET(CalculationsAndCharts!$B$32,'Transaction Summary'!E93,0,1,1),\"\")","v":""},{"$f":"IFERROR(OFFSET(CalculationsAndCharts!$D$32,'Transaction Summary'!E93,0,1,1),\"\")","v":""},"","",null,{"$f":"IFERROR(MATCH(TRUE,OFFSET(CalculationsAndCharts!$AE$33,K92,0,'Transaction Summary'!$C$2-K92,1),0)+K92,\"\")","v":""},{"$f":"IFERROR(OFFSET(CalculationsAndCharts!$B$32,'Transaction Summary'!K93,0,1,1),\"\")","v":""},{"$f":"IFERROR(OFFSET(CalculationsAndCharts!$D$32,'Transaction Summary'!K93,0,1,1),\"\")","v":""},{"$f":"IFERROR(IF($N$12>$K$15,$N$12,MATCH(TRUE,OFFSET(CalculationsAndCharts!$AH$33,N92,0,'Transaction Summary'!$C$2-N92,1),0)+N92),\"\")","v":""},{"$f":"IFERROR(OFFSET(CalculationsAndCharts!$B$32,'Transaction Summary'!N93,0,1,1),\"\")","v":""},{"$f":"IFERROR(OFFSET(CalculationsAndCharts!$D$32,'Transaction Summary'!N93,0,1,1),\"\")","v":""},"",""]
[null,{"$f":"IFERROR(MATCH(TRUE,OFFSET(CalculationsAndCharts!$V$33,B93,0,'Transaction Summary'!$C$2-B93,1),0)+B93,\"\")","v":""},{"$f":"IFERROR(OFFSET(CalculationsAndCharts!$B$32,'Transaction Summary'!B94,0,1,1),\"\")","v":""},{"$f":"IFERROR(OFFSET(CalculationsAndCharts!$D$32,'Transaction Summary'!B94,0,1,1),\"\")","v":""},{"$f":"IFERROR(IF($E$12>$B$15,$E$12,(MATCH(TRUE,OFFSET(CalculationsAndCharts!$Y$33,E93,0,'Transaction Summary'!$C$2-E93,1),0)+E93)),\"\")","v":""},{"$f":"IFERROR(OFFSET(CalculationsAndCharts!$B$32,'Transaction Summary'!E94,0,1,1),\"\")","v":""},{"$f":"IFERROR(OFFSET(CalculationsAndCharts!$D$32,'Transaction Summary'!E94,0,1,1),\"\")","v":""},{"$f":"IFERROR(G94-D94,\"\")","v":""},{"$f":"IFERROR(H94+IF(\"\"=I95,0,I95),\"\")","v":""},null,{"$f":"IFERROR(MATCH(TRUE,OFFSET(CalculationsAndCharts!$AE$33,K93,0,'Transaction Summary'!$C$2-K93,1),0)+K93,\"\")","v":""},{"$f":"IFERROR(OFFSET(CalculationsAndCharts!$B$32,'Transaction Summary'!K94,0,1,1),\"\")","v":""},{"$f":"IFERROR(OFFSET(CalculationsAndCharts!$D$32,'Transaction Summary'!K94,0,1,1),\"\")","v":""},{"$f":"IFERROR(IF($N$12>$K$15,$N$12,MATCH(TRUE,OFFSET(CalculationsAndCharts!$AH$33,N93,0,'Transaction Summary'!$C$2-N93,1),0)+N93),\"\")","v":""},{"$f":"IFERROR(OFFSET(CalculationsAndCharts!$B$32,'Transaction Summary'!N94,0,1,1),\"\")","v":""},{"$f":"IFERROR(OFFSET(CalculationsAndCharts!$D$32,'Transaction Summary'!N94,0,1,1),\"\")","v":""},"",""]
[null,{"$f":"IFERROR(MATCH(TRUE,OFFSET(CalculationsAndCharts!$V$33,B94,0,'Transaction Summary'!$C$2-B94,1),0)+B94,\"\")","v":""},{"$f":"IFERROR(OFFSET(CalculationsAndCharts!$B$32,'Transaction Summary'!B95,0,1,1),\"\")","v":""},{"$f":"IFERROR(OFFSET(CalculationsAndCharts!$D$32,'Transaction Summary'!B95,0,1,1),\"\")","v":""},{"$f":"IFERROR(IF($E$12>$B$15,$E$12,(MATCH(TRUE,OFFSET(CalculationsAndCharts!$Y$33,E94,0,'Transaction Summary'!$C$2-E94,1),0)+E94)),\"\")","v":""},{"$f":"IFERROR(OFFSET(CalculationsAndCharts!$B$32,'Transaction Summary'!E95,0,1,1),\"\")","v":""},{"$f":"IFERROR(OFFSET(CalculationsAndCharts!$D$32,'Transaction Summary'!E95,0,1,1),\"\")","v":""},"","",null,{"$f":"IFERROR(MATCH(TRUE,OFFSET(CalculationsAndCharts!$AE$33,K94,0,'Transaction Summary'!$C$2-K94,1),0)+K94,\"\")","v":""},{"$f":"IFERROR(OFFSET(CalculationsAndCharts!$B$32,'Transaction Summary'!K95,0,1,1),\"\")","v":""},{"$f":"IFERROR(OFFSET(CalculationsAndCharts!$D$32,'Transaction Summary'!K95,0,1,1),\"\")","v":""},{"$f":"IFERROR(IF($N$12>$K$15,$N$12,MATCH(TRUE,OFFSET(CalculationsAndCharts!$AH$33,N94,0,'Transaction Summary'!$C$2-N94,1),0)+N94),\"\")","v":""},{"$f":"IFERROR(OFFSET(CalculationsAndCharts!$B$32,'Transaction Summary'!N95,0,1,1),\"\")","v":""},{"$f":"IFERROR(OFFSET(CalculationsAndCharts!$D$32,'Transaction Summary'!N95,0,1,1),\"\")","v":""},"",""]
[null,{"$f":"IFERROR(MATCH(TRUE,OFFSET(CalculationsAndCharts!$V$33,B95,0,'Transaction Summary'!$C$2-B95,1),0)+B95,\"\")","v":""},{"$f":"IFERROR(OFFSET(CalculationsAndCharts!$B$32,'Transaction Summary'!B96,0,1,1),\"\")","v":""},{"$f":"IFERROR(OFFSET(CalculationsAndCharts!$D$32,'Transaction Summary'!B96,0,1,1),\"\")","v":""},{"$f":"IFERROR(IF($E$12>$B$15,$E$12,(MATCH(TRUE,OFFSET(CalculationsAndCharts!$Y$33,E95,0,'Transaction Summary'!$C$2-E95,1),0)+E95)),\"\")","v":""},{"$f":"IFERROR(OFFSET(CalculationsAndCharts!$B$32,'Transaction Summary'!E96,0,1,1),\"\")","v":""},{"$f":"IFERROR(OFFSET(CalculationsAndCharts!$D$32,'Transaction Summary'!E96,0,1,1),\"\")","v":""},"","",null,{"$f":"IFERROR(MATCH(TRUE,OFFSET(CalculationsAndCharts!$AE$33,K95,0,'Transaction Summary'!$C$2-K95,1),0)+K95,\"\")","v":""},{"$f":"IFERROR(OFFSET(CalculationsAndCharts!$B$32,'Transaction Summary'!K96,0,1,1),\"\")","v":""},{"$f":"IFERROR(OFFSET(CalculationsAndCharts!$D$32,'Transaction Summary'!K96,0,1,1),\"\")","v":""},{"$f":"IFERROR(IF($N$12>$K$15,$N$12,MATCH(TRUE,OFFSET(CalculationsAndCharts!$AH$33,N95,0,'Transaction Summary'!$C$2-N95,1),0)+N95),\"\")","v":""},{"$f":"IFERROR(OFFSET(CalculationsAndCharts!$B$32,'Transaction Summary'!N96,0,1,1),\"\")","v":""},{"$f":"IFERROR(OFFSET(CalculationsAndCharts!$D$32,'Transaction Summary'!N96,0,1,1),\"\")","v":""},"",""]
[null,{"$f":"IFERROR(MATCH(TRUE,OFFSET(CalculationsAndCharts!$V$33,B96,0,'Transaction Summary'!$C$2-B96,1),0)+B96,\"\")","v":""},{"$f":"IFERROR(OFFSET(CalculationsAndCharts!$B$32,'Transaction Summary'!B97,0,1,1),\"\")","v":""},{"$f":"IFERROR(OFFSET(CalculationsAndCharts!$D$32,'Transaction Summary'!B97,0,1,1),\"\")","v":""},{"$f":"IFERROR(IF($E$12>$B$15,$E$12,(MATCH(TRUE,OFFSET(CalculationsAndCharts!$Y$33,E96,0,'Transaction Summary'!$C$2-E96,1),0)+E96)),\"\")","v":""},{"$f":"IFERROR(OFFSET(CalculationsAndCharts!$B$32,'Transaction Summary'!E97,0,1,1),\"\")","v":""},{"$f":"IFERROR(OFFSET(CalculationsAndCharts!$D$32,'Transaction Summary'!E97,0,1,1),\"\")","v":""},"","",null,{"$f":"IFERROR(MATCH(TRUE,OFFSET(CalculationsAndCharts!$AE$33,K96,0,'Transaction Summary'!$C$2-K96,1),0)+K96,\"\")","v":""},{"$f":"IFERROR(OFFSET(CalculationsAndCharts!$B$32,'Transaction Summary'!K97,0,1,1),\"\")","v":""},{"$f":"IFERROR(OFFSET(CalculationsAndCharts!$D$32,'Transaction Summary'!K97,0,1,1),\"\")","v":""},{"$f":"IFERROR(IF($N$12>$K$15,$N$12,MATCH(TRUE,OFFSET(CalculationsAndCharts!$AH$33,N96,0,'Transaction Summary'!$C$2-N96,1),0)+N96),\"\")","v":""},{"$f":"IFERROR(OFFSET(CalculationsAndCharts!$B$32,'Transaction Summary'!N97,0,1,1),\"\")","v":""},{"$f":"IFERROR(OFFSET(CalculationsAndCharts!$D$32,'Transaction Summary'!N97,0,1,1),\"\")","v":""},"",""]
[null,{"$f":"IFERROR(MATCH(TRUE,OFFSET(CalculationsAndCharts!$V$33,B97,0,'Transaction Summary'!$C$2-B97,1),0)+B97,\"\")","v":""},{"$f":"IFERROR(OFFSET(CalculationsAndCharts!$B$32,'Transaction Summary'!B98,0,1,1),\"\")","v":""},{"$f":"IFERROR(OFFSET(CalculationsAndCharts!$D$32,'Transaction Summary'!B98,0,1,1),\"\")","v":""},{"$f":"IFERROR(IF($E$12>$B$15,$E$12,(MATCH(TRUE,OFFSET(CalculationsAndCharts!$Y$33,E97,0,'Transaction Summary'!$C$2-E97,1),0)+E97)),\"\")","v":""},{"$f":"IFERROR(OFFSET(CalculationsAndCharts!$B$32,'Transaction Summary'!E98,0,1,1),\"\")","v":""},{"$f":"IFERROR(OFFSET(CalculationsAndCharts!$D$32,'Transaction Summary'!E98,0,1,1),\"\")","v":""},"","",null,{"$f":"IFERROR(MATCH(TRUE,OFFSET(CalculationsAndCharts!$AE$33,K97,0,'Transaction Summary'!$C$2-K97,1),0)+K97,\"\")","v":""},{"$f":"IFERROR(OFFSET(CalculationsAndCharts!$B$32,'Transaction Summary'!K98,0,1,1),\"\")","v":""},{"$f":"IFERROR(OFFSET(CalculationsAndCharts!$D$32,'Transaction Summary'!K98,0,1,1),\"\")","v":""},{"$f":"IFERROR(IF($N$12>$K$15,$N$12,MATCH(TRUE,OFFSET(CalculationsAndCharts!$AH$33,N97,0,'Transaction Summary'!$C$2-N97,1),0)+N97),\"\")","v":""},{"$f":"IFERROR(OFFSET(CalculationsAndCharts!$B$32,'Transaction Summary'!N98,0,1,1),\"\")","v":""},{"$f":"IFERROR(OFFSET(CalculationsAndCharts!$D$32,'Transaction Summary'!N98,0,1,1),\"\")","v":""},"",""]
[null,{"$f":"IFERROR(MATCH(TRUE,OFFSET(CalculationsAndCharts!$V$33,B98,0,'Transaction Summary'!$C$2-B98,1),0)+B98,\"\")","v":""},{"$f":"IFERROR(OFFSET(CalculationsAndCharts!$B$32,'Transaction Summary'!B99,0,1,1),\"\")","v":""},{"$f":"IFERROR(OFFSET(CalculationsAndCharts!$D$32,'Transaction Summary'!B99,0,1,1),\"\")","v":""},{"$f":"IFERROR(IF($E$12>$B$15,$E$12,(MATCH(TRUE,OFFSET(CalculationsAndCharts!$Y$33,E98,0,'Transaction Summary'!$C$2-E98,1),0)+E98)),\"\")","v":""},{"$f":"IFERROR(OFFSET(CalculationsAndCharts!$B$32,'Transaction Summary'!E99,0,1,1),\"\")","v":""},{"$f":"IFERROR(OFFSET(CalculationsAndCharts!$D$32,'Transaction Summary'!E99,0,1,1),\"\")","v":""},"","",null,{"$f":"IFERROR(MATCH(TRUE,OFFSET(CalculationsAndCharts!$AE$33,K98,0,'Transaction Summary'!$C$2-K98,1),0)+K98,\"\")","v":""},{"$f":"IFERROR(OFFSET(CalculationsAndCharts!$B$32,'Transaction Summary'!K99,0,1,1),\"\")","v":""},{"$f":"IFERROR(OFFSET(CalculationsAndCharts!$D$32,'Transaction Summary'!K99,0,1,1),\"\")","v":""},{"$f":"IFERROR(IF($N$12>$K$15,$N$12,MATCH(TRUE,OFFSET(CalculationsAndCharts!$AH$33,N98,0,'Transaction Summary'!$C$2-N98,1),0)+N98),\"\")","v":""},{"$f":"IFERROR(OFFSET(CalculationsAndCharts!$B$32,'Transaction Summary'!N99,0,1,1),\"\")","v":""},{"$f":"IFERROR(OFFSET(CalculationsAndCharts!$D$32,'Transaction Summary'!N99,0,1,1),\"\")","v":""},"",""]
[null,{"$f":"IFERROR(MATCH(TRUE,OFFSET(CalculationsAndCharts!$V$33,B99,0,'Transaction Summary'!$C$2-B99,1),0)+B99,\"\")","v":""},{"$f":"IFERROR(OFFSET(CalculationsAndCharts!$B$32,'Transaction Summary'!B100,0,1,1),\"\")","v":""},{"$f":"IFERROR(OFFSET(CalculationsAndCharts!$D$32,'Transaction Summary'!B100,0,1,1),\"\")","v":""},{"$f":"IFERROR(IF($E$12>$B$15,$E$12,(MATCH(TRUE,OFFSET(CalculationsAndCharts!$Y$33,E99,0,'Transaction Summary'!$C$2-E99,1),0)+E99)),\"\")","v":""},{"$f":"IFERROR(OFFSET(CalculationsAndCharts!$B$32,'Transaction Summary'!E100,0,1,1),\"\")","v":""},{"$f":"IFERROR(OFFSET(CalculationsAndCharts!$D$32,'Transaction Summary'!E100,0,1,1),\"\")","v":""},"","",null,{"$f":"IFERROR(MATCH(TRUE,OFFSET(CalculationsAndCharts!$AE$33,K99,0,'Transaction Summary'!$C$2-K99,1),0)+K99,\"\")","v":""},{"$f":"IFERROR(OFFSET(CalculationsAndCharts!$B$32,'Transaction Summary'!K100,0,1,1),\"\")","v":""},{"$f":"IFERROR(OFFSET(CalculationsAndCharts!$D$32,'Transaction Summary'!K100,0,1,1),\"\")","v":""},{"$f":"IFERROR(IF($N$12>$K$15,$N$12,MATCH(TRUE,OFFSET(CalculationsAndCharts!$AH$33,N99,0,'Transaction Summary'!$C$2-N99,1),0)+N99),\"\")","v":""},{"$f":"IFERROR(OFFSET(CalculationsAndCharts!$B$32,'Transaction Summary'!N100,0,1,1),\"\")","v":""},{"$f":"IFERROR(OFFSET(CalculationsAndCharts!$D$32,'Transaction Summary'!N100,0,1,1),\"\")","v":""},"",""]
[null,{"$f":"IFERROR(MATCH(TRUE,OFFSET(CalculationsAndCharts!$V$33,B100,0,'Transaction Summary'!$C$2-B100,1),0)+B100,\"\")","v":""},{"$f":"IFERROR(OFFSET(CalculationsAndCharts!$B$32,'Transaction Summary'!B101,0,1,1),\"\")","v":""},{"$f":"IFERROR(OFFSET(CalculationsAndCharts!$D$32,'Transaction Summary'!B101,0,1,1),\"\")","v":""},{"$f":"IFERROR(IF($E$12>$B$15,$E$12,(MATCH(TRUE,OFFSET(CalculationsAndCharts!$Y$33,E100,0,'Transaction Summary'!$C$2-E100,1),0)+E100)),\"\")","v":""},{"$f":"IFERROR(OFFSET(CalculationsAndCharts!$B$32,'Transaction Summary'!E101,0,1,1),\"\")","v":""},{"$f":"IFERROR(OFFSET(CalculationsAndCharts!$D$32,'Transaction Summary'!E101,0,1,1),\"\")","v":""},"","",null,{"$f":"IFERROR(MATCH(TRUE,OFFSET(CalculationsAndCharts!$AE$33,K100,0,'Transaction Summary'!$C$2-K100,1),0)+K100,\"\")","v":""},{"$f":"IFERROR(OFFSET(CalculationsAndCharts!$B$32,'Transaction Summary'!K101,0,1,1),\"\")","v":""},{"$f":"IFERROR(OFFSET(CalculationsAndCharts!$D$32,'Transaction Summary'!K101,0,1,1),\"\")","v":""},{"$f":"IFERROR(IF($N$12>$K$15,$N$12,MATCH(TRUE,OFFSET(CalculationsAndCharts!$AH$33,N100,0,'Transaction Summary'!$C$2-N100,1),0)+N100),\"\")","v":""},{"$f":"IFERROR(OFFSET(CalculationsAndCharts!$B$32,'Transaction Summary'!N101,0,1,1),\"\")","v":""},{"$f":"IFERROR(OFFSET(CalculationsAndCharts!$D$32,'Transaction Summary'!N101,0,1,1),\"\")","v":""},"",""]
[null,{"$f":"IFERROR(MATCH(TRUE,OFFSET(CalculationsAndCharts!$V$33,B101,0,'Transaction Summary'!$C$2-B101,1),0)+B101,\"\")","v":""},{"$f":"IFERROR(OFFSET(CalculationsAndCharts!$B$32,'Transaction Summary'!B102,0,1,1),\"\")","v":""},{"$f":"IFERROR(OFFSET(CalculationsAndCharts!$D$32,'Transaction Summary'!B102,0,1,1),\"\")","v":""},{"$f":"IFERROR(IF($E$12>$B$15,$E$12,(MATCH(TRUE,OFFSET(CalculationsAndCharts!$Y$33,E101,0,'Transaction Summary'!$C$2-E101,1),0)+E101)),\"\")","v":""},{"$f":"IFERROR(OFFSET(CalculationsAndCharts!$B$32,'Transaction Summary'!E102,0,1,1),\"\")","v":""},{"$f":"IFERROR(OFFSET(CalculationsAndCharts!$D$32,'Transaction Summary'!E102,0,1,1),\"\")","v":""},"","",null,{"$f":"IFERROR(MATCH(TRUE,OFFSET(CalculationsAndCharts!$AE$33,K101,0,'Transaction Summary'!$C$2-K101,1),0)+K101,\"\")","v":""},{"$f":"IFERROR(OFFSET(CalculationsAndCharts!$B$32,'Transaction Summary'!K102,0,1,1),\"\")","v":""},{"$f":"IFERROR(OFFSET(CalculationsAndCharts!$D$32,'Transaction Summary'!K102,0,1,1),\"\")","v":""},{"$f":"IFERROR(IF($N$12>$K$15,$N$12,MATCH(TRUE,OFFSET(CalculationsAndCharts!$AH$33,N101,0,'Transaction Summary'!$C$2-N101,1),0)+N101),\"\")","v":""},{"$f":"IFERROR(OFFSET(CalculationsAndCharts!$B$32,'Transaction Summary'!N102,0,1,1),\"\")","v":""},{"$f":"IFERROR(OFFSET(CalculationsAndCharts!$D$32,'Transaction Summary'!N102,0,1,1),\"\")","v":""},"",""]
[null,{"$f":"IFERROR(MATCH(TRUE,OFFSET(CalculationsAndCharts!$V$33,B102,0,'Transaction Summary'!$C$2-B102,1),0)+B102,\"\")","v":""},{"$f":"IFERROR(OFFSET(CalculationsAndCharts!$B$32,'Transaction Summary'!B103,0,1,1),\"\")","v":""},{"$f":"IFERROR(OFFSET(CalculationsAndCharts!$D$32,'Transaction Summary'!B103,0,1,1),\"\")","v":""},{"$f":"IFERROR(IF($E$12>$B$15,$E$12,(MATCH(TRUE,OFFSET(CalculationsAndCharts!$Y$33,E102,0,'Transaction Summary'!$C$2-E102,1),0)+E102)),\"\")","v":""},{"$f":"IFERROR(OFFSET(CalculationsAndCharts!$B$32,'Transaction Summary'!E103,0,1,1),\"\")","v":""},{"$f":"IFERROR(OFFSET(CalculationsAndCharts!$D$32,'Transaction Summary'!E103,0,1,1),\"\")","v":""},"","",null,{"$f":"IFERROR(MATCH(TRUE,OFFSET(CalculationsAndCharts!$AE$33,K102,0,'Transaction Summary'!$C$2-K102,1),0)+K102,\"\")","v":""},{"$f":"IFERROR(OFFSET(CalculationsAndCharts!$B$32,'Transaction Summary'!K103,0,1,1),\"\")","v":""},{"$f":"IFERROR(OFFSET(CalculationsAndCharts!$D$32,'Transaction Summary'!K103,0,1,1),\"\")","v":""},{"$f":"IFERROR(IF($N$12>$K$15,$N$12,MATCH(TRUE,OFFSET(CalculationsAndCharts!$AH$33,N102,0,'Transaction Summary'!$C$2-N102,1),0)+N102),\"\")","v":""},{"$f":"IFERROR(OFFSET(CalculationsAndCharts!$B$32,'Transaction Summary'!N103,0,1,1),\"\")","v":""},{"$f":"IFERROR(OFFSET(CalculationsAndCharts!$D$32,'Transaction Summary'!N103,0,1,1),\"\")","v":""},"",""]
[null,{"$f":"IFERROR(MATCH(TRUE,OFFSET(CalculationsAndCharts!$V$33,B103,0,'Transaction Summary'!$C$2-B103,1),0)+B103,\"\")","v":""},{"$f":"IFERROR(OFFSET(CalculationsAndCharts!$B$32,'Transaction Summary'!B104,0,1,1),\"\")","v":""},{"$f":"IFERROR(OFFSET(CalculationsAndCharts!$D$32,'Transaction Summary'!B104,0,1,1),\"\")","v":""},{"$f":"IFERROR(IF($E$12>$B$15,$E$12,(MATCH(TRUE,OFFSET(CalculationsAndCharts!$Y$33,E103,0,'Transaction Summary'!$C$2-E103,1),0)+E103)),\"\")","v":""},{"$f":"IFERROR(OFFSET(CalculationsAndCharts!$B$32,'Transaction Summary'!E104,0,1,1),\"\")","v":""},{"$f":"IFERROR(OFFSET(CalculationsAndCharts!$D$32,'Transaction Summary'!E104,0,1,1),\"\")","v":""},"","",null,{"$f":"IFERROR(MATCH(TRUE,OFFSET(CalculationsAndCharts!$AE$33,K103,0,'Transaction Summary'!$C$2-K103,1),0)+K103,\"\")","v":""},{"$f":"IFERROR(OFFSET(CalculationsAndCharts!$B$32,'Transaction Summary'!K104,0,1,1),\"\")","v":""},{"$f":"IFERROR(OFFSET(CalculationsAndCharts!$D$32,'Transaction Summary'!K104,0,1,1),\"\")","v":""},{"$f":"IFERROR(IF($N$12>$K$15,$N$12,MATCH(TRUE,OFFSET(CalculationsAndCharts!$AH$33,N103,0,'Transaction Summary'!$C$2-N103,1),0)+N103),\"\")","v":""},{"$f":"IFERROR(OFFSET(CalculationsAndCharts!$B$32,'Transaction Summary'!N104,0,1,1),\"\")","v":""},{"$f":"IFERROR(OFFSET(CalculationsAndCharts!$D$32,'Transaction Summary'!N104,0,1,1),\"\")","v":""},"",""]
[null,{"$f":"IFERROR(MATCH(TRUE,OFFSET(CalculationsAndCharts!$V$33,B104,0,'Transaction Summary'!$C$2-B104,1),0)+B104,\"\")","v":""},{"$f":"IFERROR(OFFSET(CalculationsAndCharts!$B$32,'Transaction Summary'!B105,0,1,1),\"\")","v":""},{"$f":"IFERROR(OFFSET(CalculationsAndCharts!$D$32,'Transaction Summary'!B105,0,1,1),\"\")","v":""},{"$f":"IFERROR(IF($E$12>$B$15,$E$12,(MATCH(TRUE,OFFSET(CalculationsAndCharts!$Y$33,E104,0,'Transaction Summary'!$C$2-E104,1),0)+E104)),\"\")","v":""},{"$f":"IFERROR(OFFSET(CalculationsAndCharts!$B$32,'Transaction Summary'!E105,0,1,1),\"\")","v":""},{"$f":"IFERROR(OFFSET(CalculationsAndCharts!$D$32,'Transaction Summary'!E105,0,1,1),\"\")","v":""},"","",null,{"$f":"IFERROR(MATCH(TRUE,OFFSET(CalculationsAndCharts!$AE$33,K104,0,'Transaction Summary'!$C$2-K104,1),0)+K104,\"\")","v":""},{"$f":"IFERROR(OFFSET(CalculationsAndCharts!$B$32,'Transaction Summary'!K105,0,1,1),\"\")","v":""},{"$f":"IFERROR(OFFSET(CalculationsAndCharts!$D$32,'Transaction Summary'!K105,0,1,1),\"\")","v":""},{"$f":"IFERROR(IF($N$12>$K$15,$N$12,MATCH(TRUE,OFFSET(CalculationsAndCharts!$AH$33,N104,0,'Transaction Summary'!$C$2-N104,1),0)+N104),\"\")","v":""},{"$f":"IFERROR(OFFSET(CalculationsAndCharts!$B$32,'Transaction Summary'!N105,0,1,1),\"\")","v":""},{"$f":"IFERROR(OFFSET(CalculationsAndCharts!$D$32,'Transaction Summary'!N105,0,1,1),\"\")","v":""},"",""]
[null,{"$f":"IFERROR(MATCH(TRUE,OFFSET(CalculationsAndCharts!$V$33,B105,0,'Transaction Summary'!$C$2-B105,1),0)+B105,\"\")","v":""},{"$f":"IFERROR(OFFSET(CalculationsAndCharts!$B$32,'Transaction Summary'!B106,0,1,1),\"\")","v":""},{"$f":"IFERROR(OFFSET(CalculationsAndCharts!$D$32,'Transaction Summary'!B106,0,1,1),\"\")","v":""},{"$f":"IFERROR(IF($E$12>$B$15,$E$12,(MATCH(TRUE,OFFSET(CalculationsAndCharts!$Y$33,E105,0,'Transaction Summary'!$C$2-E105,1),0)+E105)),\"\")","v":""},{"$f":"IFERROR(OFFSET(CalculationsAndCharts!$B$32,'Transaction Summary'!E106,0,1,1),\"\")","v":""},{"$f":"IFERROR(OFFSET(CalculationsAndCharts!$D$32,'Transaction Summary'!E106,0,1,1),\"\")","v":""},"","",null,{"$f":"IFERROR(MATCH(TRUE,OFFSET(CalculationsAndCharts!$AE$33,K105,0,'Transaction Summary'!$C$2-K105,1),0)+K105,\"\")","v":""},{"$f":"IFERROR(OFFSET(CalculationsAndCharts!$B$32,'Transaction Summary'!K106,0,1,1),\"\")","v":""},{"$f":"IFERROR(OFFSET(CalculationsAndCharts!$D$32,'Transaction Summary'!K106,0,1,1),\"\")","v":""},{"$f":"IFERROR(IF($N$12>$K$15,$N$12,MATCH(TRUE,OFFSET(CalculationsAndCharts!$AH$33,N105,0,'Transaction Summary'!$C$2-N105,1),0)+N105),\"\")","v":""},{"$f":"IFERROR(OFFSET(CalculationsAndCharts!$B$32,'Transaction Summary'!N106,0,1,1),\"\")","v":""},{"$f":"IFERROR(OFFSET(CalculationsAndCharts!$D$32,'Transaction Summary'!N106,0,1,1),\"\")","v":""},"",""]
[null,{"$f":"IFERROR(MATCH(TRUE,OFFSET(CalculationsAndCharts!$V$33,B106,0,'Transaction Summary'!$C$2-B106,1),0)+B106,\"\")","v":""},{"$f":"IFERROR(OFFSET(CalculationsAndCharts!$B$32,'Transaction Summary'!B107,0,1,1),\"\")","v":""},{"$f":"IFERROR(OFFSET(CalculationsAndCharts!$D$32,'Transaction Summary'!B107,0,1,1),\"\")","v":""},{"$f":"IFERROR(IF($E$12>$B$15,$E$12,(MATCH(TRUE,OFFSET(CalculationsAndCharts!$Y$33,E106,0,'Transaction Summary'!$C$2-E106,1),0)+E106)),\"\")","v":""},{"$f":"IFERROR(OFFSET(CalculationsAndCharts!$B$32,'Transaction Summary'!E107,0,1,1),\"\")","v":""},{"$f":"IFERROR(OFFSET(CalculationsAndCharts!$D$32,'Transaction Summary'!E107,0,1,1),\"\")","v":""},"","",null,{"$f":"IFERROR(MATCH(TRUE,OFFSET(CalculationsAndCharts!$AE$33,K106,0,'Transaction Summary'!$C$2-K106,1),0)+K106,\"\")","v":""},{"$f":"IFERROR(OFFSET(CalculationsAndCharts!$B$32,'Transaction Summary'!K107,0,1,1),\"\")","v":""},{"$f":"IFERROR(OFFSET(CalculationsAndCharts!$D$32,'Transaction Summary'!K107,0,1,1),\"\")","v":""},{"$f":"IFERROR(IF($N$12>$K$15,$N$12,MATCH(TRUE,OFFSET(CalculationsAndCharts!$AH$33,N106,0,'Transaction Summary'!$C$2-N106,1),0)+N106),\"\")","v":""},{"$f":"IFERROR(OFFSET(CalculationsAndCharts!$B$32,'Transaction Summary'!N107,0,1,1),\"\")","v":""},{"$f":"IFERROR(OFFSET(CalculationsAndCharts!$D$32,'Transaction Summary'!N107,0,1,1),\"\")","v":""},"",""]
[null,{"$f":"IFERROR(MATCH(TRUE,OFFSET(CalculationsAndCharts!$V$33,B107,0,'Transaction Summary'!$C$2-B107,1),0)+B107,\"\")","v":""},{"$f":"IFERROR(OFFSET(CalculationsAndCharts!$B$32,'Transaction Summary'!B108,0,1,1),\"\")","v":""},{"$f":"IFERROR(OFFSET(CalculationsAndCharts!$D$32,'Transaction Summary'!B108,0,1,1),\"\")","v":""},{"$f":"IFERROR(IF($E$12>$B$15,$E$12,(MATCH(TRUE,OFFSET(CalculationsAndCharts!$Y$33,E107,0,'Transaction Summary'!$C$2-E107,1),0)+E107)),\"\")","v":""},{"$f":"IFERROR(OFFSET(CalculationsAndCharts!$B$32,'Transaction Summary'!E108,0,1,1),\"\")","v":""},{"$f":"IFERROR(OFFSET(CalculationsAndCharts!$D$32,'Transaction Summary'!E108,0,1,1),\"\")","v":""},"","",null,{"$f":"IFERROR(MATCH(TRUE,OFFSET(CalculationsAndCharts!$AE$33,K107,0,'Transaction Summary'!$C$2-K107,1),0)+K107,\"\")","v":""},{"$f":"IFERROR(OFFSET(CalculationsAndCharts!$B$32,'Transaction Summary'!K108,0,1,1),\"\")","v":""},{"$f":"IFERROR(OFFSET(CalculationsAndCharts!$D$32,'Transaction Summary'!K108,0,1,1),\"\")","v":""},{"$f":"IFERROR(IF($N$12>$K$15,$N$12,MATCH(TRUE,OFFSET(CalculationsAndCharts!$AH$33,N107,0,'Transaction Summary'!$C$2-N107,1),0)+N107),\"\")","v":""},{"$f":"IFERROR(OFFSET(CalculationsAndCharts!$B$32,'Transaction Summary'!N108,0,1,1),\"\")","v":""},{"$f":"IFERROR(OFFSET(CalculationsAndCharts!$D$32,'Transaction Summary'!N108,0,1,1),\"\")","v":""},"",""]
[null,{"$f":"IFERROR(MATCH(TRUE,OFFSET(CalculationsAndCharts!$V$33,B108,0,'Transaction Summary'!$C$2-B108,1),0)+B108,\"\")","v":""},{"$f":"IFERROR(OFFSET(CalculationsAndCharts!$B$32,'Transaction Summary'!B109,0,1,1),\"\")","v":""},{"$f":"IFERROR(OFFSET(CalculationsAndCharts!$D$32,'Transaction Summary'!B109,0,1,1),\"\")","v":""},{"$f":"IFERROR(IF($E$12>$B$15,$E$12,(MATCH(TRUE,OFFSET(CalculationsAndCharts!$Y$33,E108,0,'Transaction Summary'!$C$2-E108,1),0)+E108)),\"\")","v":""},{"$f":"IFERROR(OFFSET(CalculationsAndCharts!$B$32,'Transaction Summary'!E109,0,1,1),\"\")","v":""},{"$f":"IFERROR(OFFSET(CalculationsAndCharts!$D$32,'Transaction Summary'!E109,0,1,1),\"\")","v":""},"","",null,{"$f":"IFERROR(MATCH(TRUE,OFFSET(CalculationsAndCharts!$AE$33,K108,0,'Transaction Summary'!$C$2-K108,1),0)+K108,\"\")","v":""},{"$f":"IFERROR(OFFSET(CalculationsAndCharts!$B$32,'Transaction Summary'!K109,0,1,1),\"\")","v":""},{"$f":"IFERROR(OFFSET(CalculationsAndCharts!$D$32,'Transaction Summary'!K109,0,1,1),\"\")","v":""},{"$f":"IFERROR(IF($N$12>$K$15,$N$12,MATCH(TRUE,OFFSET(CalculationsAndCharts!$AH$33,N108,0,'Transaction Summary'!$C$2-N108,1),0)+N108),\"\")","v":""},{"$f":"IFERROR(OFFSET(CalculationsAndCharts!$B$32,'Transaction Summary'!N109,0,1,1),\"\")","v":""},{"$f":"IFERROR(OFFSET(CalculationsAndCharts!$D$32,'Transaction Summary'!N109,0,1,1),\"\")","v":""},"",""]
[null,{"$f":"IFERROR(MATCH(TRUE,OFFSET(CalculationsAndCharts!$V$33,B109,0,'Transaction Summary'!$C$2-B109,1),0)+B109,\"\")","v":""},{"$f":"IFERROR(OFFSET(CalculationsAndCharts!$B$32,'Transaction Summary'!B110,0,1,1),\"\")","v":""},{"$f":"IFERROR(OFFSET(CalculationsAndCharts!$D$32,'Transaction Summary'!B110,0,1,1),\"\")","v":""},{"$f":"IFERROR(IF($E$12>$B$15,$E$12,(MATCH(TRUE,OFFSET(CalculationsAndCharts!$Y$33,E109,0,'Transaction Summary'!$C$2-E109,1),0)+E109)),\"\")","v":""},{"$f":"IFERROR(OFFSET(CalculationsAndCharts!$B$32,'Transaction Summary'!E110,0,1,1),\"\")","v":""},{"$f":"IFERROR(OFFSET(CalculationsAndCharts!$D$32,'Transaction Summary'!E110,0,1,1),\"\")","v":""},"","",null,{"$f":"IFERROR(MATCH(TRUE,OFFSET(CalculationsAndCharts!$AE$33,K109,0,'Transaction Summary'!$C$2-K109,1),0)+K109,\"\")","v":""},{"$f":"IFERROR(OFFSET(CalculationsAndCharts!$B$32,'Transaction Summary'!K110,0,1,1),\"\")","v":""},{"$f":"IFERROR(OFFSET(CalculationsAndCharts!$D$32,'Transaction Summary'!K110,0,1,1),\"\")","v":""},{"$f":"IFERROR(IF($N$12>$K$15,$N$12,MATCH(TRUE,OFFSET(CalculationsAndCharts!$AH$33,N109,0,'Transaction Summary'!$C$2-N109,1),0)+N109),\"\")","v":""},{"$f":"IFERROR(OFFSET(CalculationsAndCharts!$B$32,'Transaction Summary'!N110,0,1,1),\"\")","v":""},{"$f":"IFERROR(OFFSET(CalculationsAndCharts!$D$32,'Transaction Summary'!N110,0,1,1),\"\")","v":""},"",""]
[null,{"$f":"IFERROR(MATCH(TRUE,OFFSET(CalculationsAndCharts!$V$33,B110,0,'Transaction Summary'!$C$2-B110,1),0)+B110,\"\")","v":""},{"$f":"IFERROR(OFFSET(CalculationsAndCharts!$B$32,'Transaction Summary'!B111,0,1,1),\"\")","v":""},{"$f":"IFERROR(OFFSET(CalculationsAndCharts!$D$32,'Transaction Summary'!B111,0,1,1),\"\")","v":""},{"$f":"IFERROR(IF($E$12>$B$15,$E$12,(MATCH(TRUE,OFFSET(CalculationsAndCharts!$Y$33,E110,0,'Transaction Summary'!$C$2-E110,1),0)+E110)),\"\")","v":""},{"$f":"IFERROR(OFFSET(CalculationsAndCharts!$B$32,'Transaction Summary'!E111,0,1,1),\"\")","v":""},{"$f":"IFERROR(OFFSET(CalculationsAndCharts!$D$32,'Transaction Summary'!E111,0,1,1),\"\")","v":""},"","",null,{"$f":"IFERROR(MATCH(TRUE,OFFSET(CalculationsAndCharts!$AE$33,K110,0,'Transaction Summary'!$C$2-K110,1),0)+K110,\"\")","v":""},{"$f":"IFERROR(OFFSET(CalculationsAndCharts!$B$32,'Transaction Summary'!K111,0,1,1),\"\")","v":""},{"$f":"IFERROR(OFFSET(CalculationsAndCharts!$D$32,'Transaction Summary'!K111,0,1,1),\"\")","v":""},{"$f":"IFERROR(IF($N$12>$K$15,$N$12,MATCH(TRUE,OFFSET(CalculationsAndCharts!$AH$33,N110,0,'Transaction Summary'!$C$2-N110,1),0)+N110),\"\")","v":""},{"$f":"IFERROR(OFFSET(CalculationsAndCharts!$B$32,'Transaction Summary'!N111,0,1,1),\"\")","v":""},{"$f":"IFERROR(OFFSET(CalculationsAndCharts!$D$32,'Transaction Summary'!N111,0,1,1),\"\")","v":""},"",""]
[null,{"$f":"IFERROR(MATCH(TRUE,OFFSET(CalculationsAndCharts!$V$33,B111,0,'Transaction Summary'!$C$2-B111,1),0)+B111,\"\")","v":""},{"$f":"IFERROR(OFFSET(CalculationsAndCharts!$B$32,'Transaction Summary'!B112,0,1,1),\"\")","v":""},{"$f":"IFERROR(OFFSET(CalculationsAndCharts!$D$32,'Transaction Summary'!B112,0,1,1),\"\")","v":""},{"$f":"IFERROR(IF($E$12>$B$15,$E$12,(MATCH(TRUE,OFFSET(CalculationsAndCharts!$Y$33,E111,0,'Transaction Summary'!$C$2-E111,1),0)+E111)),\"\")","v":""},{"$f":"IFERROR(OFFSET(CalculationsAndCharts!$B$32,'Transaction Summary'!E112,0,1,1),\"\")","v":""},{"$f":"IFERROR(OFFSET(CalculationsAndCharts!$D$32,'Transaction Summary'!E112,0,1,1),\"\")","v":""},"","",null,{"$f":"IFERROR(MATCH(TRUE,OFFSET(CalculationsAndCharts!$AE$33,K111,0,'Transaction Summary'!$C$2-K111,1),0)+K111,\"\")","v":""},{"$f":"IFERROR(OFFSET(CalculationsAndCharts!$B$32,'Transaction Summary'!K112,0,1,1),\"\")","v":""},{"$f":"IFERROR(OFFSET(CalculationsAndCharts!$D$32,'Transaction Summary'!K112,0,1,1),\"\")","v":""},{"$f":"IFERROR(IF($N$12>$K$15,$N$12,MATCH(TRUE,OFFSET(CalculationsAndCharts!$AH$33,N111,0,'Transaction Summary'!$C$2-N111,1),0)+N111),\"\")","v":""},{"$f":"IFERROR(OFFSET(CalculationsAndCharts!$B$32,'Transaction Summary'!N112,0,1,1),\"\")","v":""},{"$f":"IFERROR(OFFSET(CalculationsAndCharts!$D$32,'Transaction Summary'!N112,0,1,1),\"\")","v":""},"",""]
[null,{"$f":"IFERROR(MATCH(TRUE,OFFSET(CalculationsAndCharts!$V$33,B112,0,'Transaction Summary'!$C$2-B112,1),0)+B112,\"\")","v":""},{"$f":"IFERROR(OFFSET(CalculationsAndCharts!$B$32,'Transaction Summary'!B113,0,1,1),\"\")","v":""},{"$f":"IFERROR(OFFSET(CalculationsAndCharts!$D$32,'Transaction Summary'!B113,0,1,1),\"\")","v":""},{"$f":"IFERROR(IF($E$12>$B$15,$E$12,(MATCH(TRUE,OFFSET(CalculationsAndCharts!$Y$33,E112,0,'Transaction Summary'!$C$2-E112,1),0)+E112)),\"\")","v":""},{"$f":"IFERROR(OFFSET(CalculationsAndCharts!$B$32,'Transaction Summary'!E113,0,1,1),\"\")","v":""},{"$f":"IFERROR(OFFSET(CalculationsAndCharts!$D$32,'Transaction Summary'!E113,0,1,1),\"\")","v":""},"","",null,{"$f":"IFERROR(MATCH(TRUE,OFFSET(CalculationsAndCharts!$AE$33,K112,0,'Transaction Summary'!$C$2-K112,1),0)+K112,\"\")","v":""},{"$f":"IFERROR(OFFSET(CalculationsAndCharts!$B$32,'Transaction Summary'!K113,0,1,1),\"\")","v":""},{"$f":"IFERROR(OFFSET(CalculationsAndCharts!$D$32,'Transaction Summary'!K113,0,1,1),\"\")","v":""},{"$f":"IFERROR(IF($N$12>$K$15,$N$12,MATCH(TRUE,OFFSET(CalculationsAndCharts!$AH$33,N112,0,'Transaction Summary'!$C$2-N112,1),0)+N112),\"\")","v":""},{"$f":"IFERROR(OFFSET(CalculationsAndCharts!$B$32,'Transaction Summary'!N113,0,1,1),\"\")","v":""},{"$f":"IFERROR(OFFSET(CalculationsAndCharts!$D$32,'Transaction Summary'!N113,0,1,1),\"\")","v":""},"",""]
[null,{"$f":"IFERROR(MATCH(TRUE,OFFSET(CalculationsAndCharts!$V$33,B113,0,'Transaction Summary'!$C$2-B113,1),0)+B113,\"\")","v":""},{"$f":"IFERROR(OFFSET(CalculationsAndCharts!$B$32,'Transaction Summary'!B114,0,1,1),\"\")","v":""},{"$f":"IFERROR(OFFSET(CalculationsAndCharts!$D$32,'Transaction Summary'!B114,0,1,1),\"\")","v":""},{"$f":"IFERROR(IF($E$12>$B$15,$E$12,(MATCH(TRUE,OFFSET(CalculationsAndCharts!$Y$33,E113,0,'Transaction Summary'!$C$2-E113,1),0)+E113)),\"\")","v":""},{"$f":"IFERROR(OFFSET(CalculationsAndCharts!$B$32,'Transaction Summary'!E114,0,1,1),\"\")","v":""},{"$f":"IFERROR(OFFSET(CalculationsAndCharts!$D$32,'Transaction Summary'!E114,0,1,1),\"\")","v":""},"","",null,{"$f":"IFERROR(MATCH(TRUE,OFFSET(CalculationsAndCharts!$AE$33,K113,0,'Transaction Summary'!$C$2-K113,1),0)+K113,\"\")","v":""},{"$f":"IFERROR(OFFSET(CalculationsAndCharts!$B$32,'Transaction Summary'!K114,0,1,1),\"\")","v":""},{"$f":"IFERROR(OFFSET(CalculationsAndCharts!$D$32,'Transaction Summary'!K114,0,1,1),\"\")","v":""},{"$f":"IFERROR(IF($N$12>$K$15,$N$12,MATCH(TRUE,OFFSET(CalculationsAndCharts!$AH$33,N113,0,'Transaction Summary'!$C$2-N113,1),0)+N113),\"\")","v":""},{"$f":"IFERROR(OFFSET(CalculationsAndCharts!$B$32,'Transaction Summary'!N114,0,1,1),\"\")","v":""},{"$f":"IFERROR(OFFSET(CalculationsAndCharts!$D$32,'Transaction Summary'!N114,0,1,1),\"\")","v":""},"",""]
[null,{"$f":"IFERROR(MATCH(TRUE,OFFSET(CalculationsAndCharts!$V$33,B114,0,'Transaction Summary'!$C$2-B114,1),0)+B114,\"\")","v":""},{"$f":"IFERROR(OFFSET(CalculationsAndCharts!$B$32,'Transaction Summary'!B115,0,1,1),\"\")","v":""},{"$f":"IFERROR(OFFSET(CalculationsAndCharts!$D$32,'Transaction Summary'!B115,0,1,1),\"\")","v":""},{"$f":"IFERROR(IF($E$12>$B$15,$E$12,(MATCH(TRUE,OFFSET(CalculationsAndCharts!$Y$33,E114,0,'Transaction Summary'!$C$2-E114,1),0)+E114)),\"\")","v":""},{"$f":"IFERROR(OFFSET(CalculationsAndCharts!$B$32,'Transaction Summary'!E115,0,1,1),\"\")","v":""},{"$f":"IFERROR(OFFSET(CalculationsAndCharts!$D$32,'Transaction Summary'!E115,0,1,1),\"\")","v":""},"","",null,{"$f":"IFERROR(MATCH(TRUE,OFFSET(CalculationsAndCharts!$AE$33,K114,0,'Transaction Summary'!$C$2-K114,1),0)+K114,\"\")","v":""},{"$f":"IFERROR(OFFSET(CalculationsAndCharts!$B$32,'Transaction Summary'!K115,0,1,1),\"\")","v":""},{"$f":"IFERROR(OFFSET(CalculationsAndCharts!$D$32,'Transaction Summary'!K115,0,1,1),\"\")","v":""},{"$f":"IFERROR(IF($N$12>$K$15,$N$12,MATCH(TRUE,OFFSET(CalculationsAndCharts!$AH$33,N114,0,'Transaction Summary'!$C$2-N114,1),0)+N114),\"\")","v":""},{"$f":"IFERROR(OFFSET(CalculationsAndCharts!$B$32,'Transaction Summary'!N115,0,1,1),\"\")","v":""},{"$f":"IFERROR(OFFSET(CalculationsAndCharts!$D$32,'Transaction Summary'!N115,0,1,1),\"\")","v":""},"",""]
[null,{"$f":"IFERROR(MATCH(TRUE,OFFSET(CalculationsAndCharts!$V$33,B115,0,'Transaction Summary'!$C$2-B115,1),0)+B115,\"\")","v":""},{"$f":"IFERROR(OFFSET(CalculationsAndCharts!$B$32,'Transaction Summary'!B116,0,1,1),\"\")","v":""},{"$f":"IFERROR(OFFSET(CalculationsAndCharts!$D$32,'Transaction Summary'!B116,0,1,1),\"\")","v":""},{"$f":"IFERROR(IF($E$12>$B$15,$E$12,(MATCH(TRUE,OFFSET(CalculationsAndCharts!$Y$33,E115,0,'Transaction Summary'!$C$2-E115,1),0)+E115)),\"\")","v":""},{"$f":"IFERROR(OFFSET(CalculationsAndCharts!$B$32,'Transaction Summary'!E116,0,1,1),\"\")","v":""},{"$f":"IFERROR(OFFSET(CalculationsAndCharts!$D$32,'Transaction Summary'!E116,0,1,1),\"\")","v":""},"","",null,{"$f":"IFERROR(MATCH(TRUE,OFFSET(CalculationsAndCharts!$AE$33,K115,0,'Transaction Summary'!$C$2-K115,1),0)+K115,\"\")","v":""},{"$f":"IFERROR(OFFSET(CalculationsAndCharts!$B$32,'Transaction Summary'!K116,0,1,1),\"\")","v":""},{"$f":"IFERROR(OFFSET(CalculationsAndCharts!$D$32,'Transaction Summary'!K116,0,1,1),\"\")","v":""},{"$f":"IFERROR(IF($N$12>$K$15,$N$12,MATCH(TRUE,OFFSET(CalculationsAndCharts!$AH$33,N115,0,'Transaction Summary'!$C$2-N115,1),0)+N115),\"\")","v":""},{"$f":"IFERROR(OFFSET(CalculationsAndCharts!$B$32,'Transaction Summary'!N116,0,1,1),\"\")","v":""},{"$f":"IFERROR(OFFSET(CalculationsAndCharts!$D$32,'Transaction Summary'!N116,0,1,1),\"\")","v":""},"",""]
[null,{"$f":"IFERROR(MATCH(TRUE,OFFSET(CalculationsAndCharts!$V$33,B116,0,'Transaction Summary'!$C$2-B116,1),0)+B116,\"\")","v":""},{"$f":"IFERROR(OFFSET(CalculationsAndCharts!$B$32,'Transaction Summary'!B117,0,1,1),\"\")","v":""},{"$f":"IFERROR(OFFSET(CalculationsAndCharts!$D$32,'Transaction Summary'!B117,0,1,1),\"\")","v":""},{"$f":"IFERROR(IF($E$12>$B$15,$E$12,(MATCH(TRUE,OFFSET(CalculationsAndCharts!$Y$33,E116,0,'Transaction Summary'!$C$2-E116,1),0)+E116)),\"\")","v":""},{"$f":"IFERROR(OFFSET(CalculationsAndCharts!$B$32,'Transaction Summary'!E117,0,1,1),\"\")","v":""},{"$f":"IFERROR(OFFSET(CalculationsAndCharts!$D$32,'Transaction Summary'!E117,0,1,1),\"\")","v":""},"","",null,{"$f":"IFERROR(MATCH(TRUE,OFFSET(CalculationsAndCharts!$AE$33,K116,0,'Transaction Summary'!$C$2-K116,1),0)+K116,\"\")","v":""},{"$f":"IFERROR(OFFSET(CalculationsAndCharts!$B$32,'Transaction Summary'!K117,0,1,1),\"\")","v":""},{"$f":"IFERROR(OFFSET(CalculationsAndCharts!$D$32,'Transaction Summary'!K117,0,1,1),\"\")","v":""},{"$f":"IFERROR(IF($N$12>$K$15,$N$12,MATCH(TRUE,OFFSET(CalculationsAndCharts!$AH$33,N116,0,'Transaction Summary'!$C$2-N116,1),0)+N116),\"\")","v":""},{"$f":"IFERROR(OFFSET(CalculationsAndCharts!$B$32,'Transaction Summary'!N117,0,1,1),\"\")","v":""},{"$f":"IFERROR(OFFSET(CalculationsAndCharts!$D$32,'Transaction Summary'!N117,0,1,1),\"\")","v":""},"",""]
[null,{"$f":"IFERROR(MATCH(TRUE,OFFSET(CalculationsAndCharts!$V$33,B117,0,'Transaction Summary'!$C$2-B117,1),0)+B117,\"\")","v":""},{"$f":"IFERROR(OFFSET(CalculationsAndCharts!$B$32,'Transaction Summary'!B118,0,1,1),\"\")","v":""},{"$f":"IFERROR(OFFSET(CalculationsAndCharts!$D$32,'Transaction Summary'!B118,0,1,1),\"\")","v":""},{"$f":"IFERROR(IF($E$12>$B$15,$E$12,(MATCH(TRUE,OFFSET(CalculationsAndCharts!$Y$33,E117,0,'Transaction Summary'!$C$2-E117,1),0)+E117)),\"\")","v":""},{"$f":"IFERROR(OFFSET(CalculationsAndCharts!$B$32,'Transaction Summary'!E118,0,1,1),\"\")","v":""},{"$f":"IFERROR(OFFSET(CalculationsAndCharts!$D$32,'Transaction Summary'!E118,0,1,1),\"\")","v":""},"","",null,{"$f":"IFERROR(MATCH(TRUE,OFFSET(CalculationsAndCharts!$AE$33,K117,0,'Transaction Summary'!$C$2-K117,1),0)+K117,\"\")","v":""},{"$f":"IFERROR(OFFSET(CalculationsAndCharts!$B$32,'Transaction Summary'!K118,0,1,1),\"\")","v":""},{"$f":"IFERROR(OFFSET(CalculationsAndCharts!$D$32,'Transaction Summary'!K118,0,1,1),\"\")","v":""},{"$f":"IFERROR(IF($N$12>$K$15,$N$12,MATCH(TRUE,OFFSET(CalculationsAndCharts!$AH$33,N117,0,'Transaction Summary'!$C$2-N117,1),0)+N117),\"\")","v":""},{"$f":"IFERROR(OFFSET(CalculationsAndCharts!$B$32,'Transaction Summary'!N118,0,1,1),\"\")","v":""},{"$f":"IFERROR(OFFSET(CalculationsAndCharts!$D$32,'Transaction Summary'!N118,0,1,1),\"\")","v":""},"",""]
[null,{"$f":"IFERROR(MATCH(TRUE,OFFSET(CalculationsAndCharts!$V$33,B118,0,'Transaction Summary'!$C$2-B118,1),0)+B118,\"\")","v":""},{"$f":"IFERROR(OFFSET(CalculationsAndCharts!$B$32,'Transaction Summary'!B119,0,1,1),\"\")","v":""},{"$f":"IFERROR(OFFSET(CalculationsAndCharts!$D$32,'Transaction Summary'!B119,0,1,1),\"\")","v":""},{"$f":"IFERROR(IF($E$12>$B$15,$E$12,(MATCH(TRUE,OFFSET(CalculationsAndCharts!$Y$33,E118,0,'Transaction Summary'!$C$2-E118,1),0)+E118)),\"\")","v":""},{"$f":"IFERROR(OFFSET(CalculationsAndCharts!$B$32,'Transaction Summary'!E119,0,1,1),\"\")","v":""},{"$f":"IFERROR(OFFSET(CalculationsAndCharts!$D$32,'Transaction Summary'!E119,0,1,1),\"\")","v":""},"","",null,{"$f":"IFERROR(MATCH(TRUE,OFFSET(CalculationsAndCharts!$AE$33,K118,0,'Transaction Summary'!$C$2-K118,1),0)+K118,\"\")","v":""},{"$f":"IFERROR(OFFSET(CalculationsAndCharts!$B$32,'Transaction Summary'!K119,0,1,1),\"\")","v":""},{"$f":"IFERROR(OFFSET(CalculationsAndCharts!$D$32,'Transaction Summary'!K119,0,1,1),\"\")","v":""},{"$f":"IFERROR(IF($N$12>$K$15,$N$12,MATCH(TRUE,OFFSET(CalculationsAndCharts!$AH$33,N118,0,'Transaction Summary'!$C$2-N118,1),0)+N118),\"\")","v":""},{"$f":"IFERROR(OFFSET(CalculationsAndCharts!$B$32,'Transaction Summary'!N119,0,1,1),\"\")","v":""},{"$f":"IFERROR(OFFSET(CalculationsAndCharts!$D$32,'Transaction Summary'!N119,0,1,1),\"\")","v":""},"",""]
[null,{"$f":"IFERROR(MATCH(TRUE,OFFSET(CalculationsAndCharts!$V$33,B119,0,'Transaction Summary'!$C$2-B119,1),0)+B119,\"\")","v":""},{"$f":"IFERROR(OFFSET(CalculationsAndCharts!$B$32,'Transaction Summary'!B120,0,1,1),\"\")","v":""},{"$f":"IFERROR(OFFSET(CalculationsAndCharts!$D$32,'Transaction Summary'!B120,0,1,1),\"\")","v":""},{"$f":"IFERROR(IF($E$12>$B$15,$E$12,(MATCH(TRUE,OFFSET(CalculationsAndCharts!$Y$33,E119,0,'Transaction Summary'!$C$2-E119,1),0)+E119)),\"\")","v":""},{"$f":"IFERROR(OFFSET(CalculationsAndCharts!$B$32,'Transaction Summary'!E120,0,1,1),\"\")","v":""},{"$f":"IFERROR(OFFSET(CalculationsAndCharts!$D$32,'Transaction Summary'!E120,0,1,1),\"\")","v":""},"","",null,{"$f":"IFERROR(MATCH(TRUE,OFFSET(CalculationsAndCharts!$AE$33,K119,0,'Transaction Summary'!$C$2-K119,1),0)+K119,\"\")","v":""},{"$f":"IFERROR(OFFSET(CalculationsAndCharts!$B$32,'Transaction Summary'!K120,0,1,1),\"\")","v":""},{"$f":"IFERROR(OFFSET(CalculationsAndCharts!$D$32,'Transaction Summary'!K120,0,1,1),\"\")","v":""},{"$f":"IFERROR(IF($N$12>$K$15,$N$12,MATCH(TRUE,OFFSET(CalculationsAndCharts!$AH$33,N119,0,'Transaction Summary'!$C$2-N119,1),0)+N119),\"\")","v":""},{"$f":"IFERROR(OFFSET(CalculationsAndCharts!$B$32,'Transaction Summary'!N120,0,1,1),\"\")","v":""},{"$f":"IFERROR(OFFSET(CalculationsAndCharts!$D$32,'Transaction Summary'!N120,0,1,1),\"\")","v":""},"",""]
[null,{"$f":"IFERROR(MATCH(TRUE,OFFSET(CalculationsAndCharts!$V$33,B120,0,'Transaction Summary'!$C$2-B120,1),0)+B120,\"\")","v":""},{"$f":"IFERROR(OFFSET(CalculationsAndCharts!$B$32,'Transaction Summary'!B121,0,1,1),\"\")","v":""},{"$f":"IFERROR(OFFSET(CalculationsAndCharts!$D$32,'Transaction Summary'!B121,0,1,1),\"\")","v":""},{"$f":"IFERROR(IF($E$12>$B$15,$E$12,(MATCH(TRUE,OFFSET(CalculationsAndCharts!$Y$33,E120,0,'Transaction Summary'!$C$2-E120,1),0)+E120)),\"\")","v":""},{"$f":"IFERROR(OFFSET(CalculationsAndCharts!$B$32,'Transaction Summary'!E121,0,1,1),\"\")","v":""},{"$f":"IFERROR(OFFSET(CalculationsAndCharts!$D$32,'Transaction Summary'!E121,0,1,1),\"\")","v":""},"","",null,{"$f":"IFERROR(MATCH(TRUE,OFFSET(CalculationsAndCharts!$AE$33,K120,0,'Transaction Summary'!$C$2-K120,1),0)+K120,\"\")","v":""},{"$f":"IFERROR(OFFSET(CalculationsAndCharts!$B$32,'Transaction Summary'!K121,0,1,1),\"\")","v":""},{"$f":"IFERROR(OFFSET(CalculationsAndCharts!$D$32,'Transaction Summary'!K121,0,1,1),\"\")","v":""},{"$f":"IFERROR(IF($N$12>$K$15,$N$12,MATCH(TRUE,OFFSET(CalculationsAndCharts!$AH$33,N120,0,'Transaction Summary'!$C$2-N120,1),0)+N120),\"\")","v":""},{"$f":"IFERROR(OFFSET(CalculationsAndCharts!$B$32,'Transaction Summary'!N121,0,1,1),\"\")","v":""},{"$f":"IFERROR(OFFSET(CalculationsAndCharts!$D$32,'Transaction Summary'!N121,0,1,1),\"\")","v":""},"",""]
[null,{"$f":"IFERROR(MATCH(TRUE,OFFSET(CalculationsAndCharts!$V$33,B121,0,'Transaction Summary'!$C$2-B121,1),0)+B121,\"\")","v":""},{"$f":"IFERROR(OFFSET(CalculationsAndCharts!$B$32,'Transaction Summary'!B122,0,1,1),\"\")","v":""},{"$f":"IFERROR(OFFSET(CalculationsAndCharts!$D$32,'Transaction Summary'!B122,0,1,1),\"\")","v":""},{"$f":"IFERROR(IF($E$12>$B$15,$E$12,(MATCH(TRUE,OFFSET(CalculationsAndCharts!$Y$33,E121,0,'Transaction Summary'!$C$2-E121,1),0)+E121)),\"\")","v":""},{"$f":"IFERROR(OFFSET(CalculationsAndCharts!$B$32,'Transaction Summary'!E122,0,1,1),\"\")","v":""},{"$f":"IFERROR(OFFSET(CalculationsAndCharts!$D$32,'Transaction Summary'!E122,0,1,1),\"\")","v":""},"","",null,{"$f":"IFERROR(MATCH(TRUE,OFFSET(CalculationsAndCharts!$AE$33,K121,0,'Transaction Summary'!$C$2-K121,1),0)+K121,\"\")","v":""},{"$f":"IFERROR(OFFSET(CalculationsAndCharts!$B$32,'Transaction Summary'!K122,0,1,1),\"\")","v":""},{"$f":"IFERROR(OFFSET(CalculationsAndCharts!$D$32,'Transaction Summary'!K122,0,1,1),\"\")","v":""},{"$f":"IFERROR(IF($N$12>$K$15,$N$12,MATCH(TRUE,OFFSET(CalculationsAndCharts!$AH$33,N121,0,'Transaction Summary'!$C$2-N121,1),0)+N121),\"\")","v":""},{"$f":"IFERROR(OFFSET(CalculationsAndCharts!$B$32,'Transaction Summary'!N122,0,1,1),\"\")","v":""},{"$f":"IFERROR(OFFSET(CalculationsAndCharts!$D$32,'Transaction Summary'!N122,0,1,1),\"\")","v":""},"",""]
[null,{"$f":"IFERROR(MATCH(TRUE,OFFSET(CalculationsAndCharts!$V$33,B122,0,'Transaction Summary'!$C$2-B122,1),0)+B122,\"\")","v":""},{"$f":"IFERROR(OFFSET(CalculationsAndCharts!$B$32,'Transaction Summary'!B123,0,1,1),\"\")","v":""},{"$f":"IFERROR(OFFSET(CalculationsAndCharts!$D$32,'Transaction Summary'!B123,0,1,1),\"\")","v":""},{"$f":"IFERROR(IF($E$12>$B$15,$E$12,(MATCH(TRUE,OFFSET(CalculationsAndCharts!$Y$33,E122,0,'Transaction Summary'!$C$2-E122,1),0)+E122)),\"\")","v":""},{"$f":"IFERROR(OFFSET(CalculationsAndCharts!$B$32,'Transaction Summary'!E123,0,1,1),\"\")","v":""},{"$f":"IFERROR(OFFSET(CalculationsAndCharts!$D$32,'Transaction Summary'!E123,0,1,1),\"\")","v":""},"","",null,{"$f":"IFERROR(MATCH(TRUE,OFFSET(CalculationsAndCharts!$AE$33,K122,0,'Transaction Summary'!$C$2-K122,1),0)+K122,\"\")","v":""},{"$f":"IFERROR(OFFSET(CalculationsAndCharts!$B$32,'Transaction Summary'!K123,0,1,1),\"\")","v":""},{"$f":"IFERROR(OFFSET(CalculationsAndCharts!$D$32,'Transaction Summary'!K123,0,1,1),\"\")","v":""},{"$f":"IFERROR(IF($N$12>$K$15,$N$12,MATCH(TRUE,OFFSET(CalculationsAndCharts!$AH$33,N122,0,'Transaction Summary'!$C$2-N122,1),0)+N122),\"\")","v":""},{"$f":"IFERROR(OFFSET(CalculationsAndCharts!$B$32,'Transaction Summary'!N123,0,1,1),\"\")","v":""},{"$f":"IFERROR(OFFSET(CalculationsAndCharts!$D$32,'Transaction Summary'!N123,0,1,1),\"\")","v":""},"",""]
[null,{"$f":"IFERROR(MATCH(TRUE,OFFSET(CalculationsAndCharts!$V$33,B123,0,'Transaction Summary'!$C$2-B123,1),0)+B123,\"\")","v":""},{"$f":"IFERROR(OFFSET(CalculationsAndCharts!$B$32,'Transaction Summary'!B124,0,1,1),\"\")","v":""},{"$f":"IFERROR(OFFSET(CalculationsAndCharts!$D$32,'Transaction Summary'!B124,0,1,1),\"\")","v":""},{"$f":"IFERROR(IF($E$12>$B$15,$E$12,(MATCH(TRUE,OFFSET(CalculationsAndCharts!$Y$33,E123,0,'Transaction Summary'!$C$2-E123,1),0)+E123)),\"\")","v":""},{"$f":"IFERROR(OFFSET(CalculationsAndCharts!$B$32,'Transaction Summary'!E124,0,1,1),\"\")","v":""},{"$f":"IFERROR(OFFSET(CalculationsAndCharts!$D$32,'Transaction Summary'!E124,0,1,1),\"\")","v":""},"","",null,{"$f":"IFERROR(MATCH(TRUE,OFFSET(CalculationsAndCharts!$AE$33,K123,0,'Transaction Summary'!$C$2-K123,1),0)+K123,\"\")","v":""},{"$f":"IFERROR(OFFSET(CalculationsAndCharts!$B$32,'Transaction Summary'!K124,0,1,1),\"\")","v":""},{"$f":"IFERROR(OFFSET(CalculationsAndCharts!$D$32,'Transaction Summary'!K124,0,1,1),\"\")","v":""},{"$f":"IFERROR(IF($N$12>$K$15,$N$12,MATCH(TRUE,OFFSET(CalculationsAndCharts!$AH$33,N123,0,'Transaction Summary'!$C$2-N123,1),0)+N123),\"\")","v":""},{"$f":"IFERROR(OFFSET(CalculationsAndCharts!$B$32,'Transaction Summary'!N124,0,1,1),\"\")","v":""},{"$f":"IFERROR(OFFSET(CalculationsAndCharts!$D$32,'Transaction Summary'!N124,0,1,1),\"\")","v":""},"",""]
[null,{"$f":"IFERROR(MATCH(TRUE,OFFSET(CalculationsAndCharts!$V$33,B124,0,'Transaction Summary'!$C$2-B124,1),0)+B124,\"\")","v":""},{"$f":"IFERROR(OFFSET(CalculationsAndCharts!$B$32,'Transaction Summary'!B125,0,1,1),\"\")","v":""},{"$f":"IFERROR(OFFSET(CalculationsAndCharts!$D$32,'Transaction Summary'!B125,0,1,1),\"\")","v":""},{"$f":"IFERROR(IF($E$12>$B$15,$E$12,(MATCH(TRUE,OFFSET(CalculationsAndCharts!$Y$33,E124,0,'Transaction Summary'!$C$2-E124,1),0)+E124)),\"\")","v":""},{"$f":"IFERROR(OFFSET(CalculationsAndCharts!$B$32,'Transaction Summary'!E125,0,1,1),\"\")","v":""},{"$f":"IFERROR(OFFSET(CalculationsAndCharts!$D$32,'Transaction Summary'!E125,0,1,1),\"\")","v":""},"","",null,{"$f":"IFERROR(MATCH(TRUE,OFFSET(CalculationsAndCharts!$AE$33,K124,0,'Transaction Summary'!$C$2-K124,1),0)+K124,\"\")","v":""},{"$f":"IFERROR(OFFSET(CalculationsAndCharts!$B$32,'Transaction Summary'!K125,0,1,1),\"\")","v":""},{"$f":"IFERROR(OFFSET(CalculationsAndCharts!$D$32,'Transaction Summary'!K125,0,1,1),\"\")","v":""},{"$f":"IFERROR(IF($N$12>$K$15,$N$12,MATCH(TRUE,OFFSET(CalculationsAndCharts!$AH$33,N124,0,'Transaction Summary'!$C$2-N124,1),0)+N124),\"\")","v":""},{"$f":"IFERROR(OFFSET(CalculationsAndCharts!$B$32,'Transaction Summary'!N125,0,1,1),\"\")","v":""},{"$f":"IFERROR(OFFSET(CalculationsAndCharts!$D$32,'Transaction Summary'!N125,0,1,1),\"\")","v":""},"",""]
[null,{"$f":"IFERROR(MATCH(TRUE,OFFSET(CalculationsAndCharts!$V$33,B125,0,'Transaction Summary'!$C$2-B125,1),0)+B125,\"\")","v":""},{"$f":"IFERROR(OFFSET(CalculationsAndCharts!$B$32,'Transaction Summary'!B126,0,1,1),\"\")","v":""},{"$f":"IFERROR(OFFSET(CalculationsAndCharts!$D$32,'Transaction Summary'!B126,0,1,1),\"\")","v":""},{"$f":"IFERROR(IF($E$12>$B$15,$E$12,(MATCH(TRUE,OFFSET(CalculationsAndCharts!$Y$33,E125,0,'Transaction Summary'!$C$2-E125,1),0)+E125)),\"\")","v":""},{"$f":"IFERROR(OFFSET(CalculationsAndCharts!$B$32,'Transaction Summary'!E126,0,1,1),\"\")","v":""},{"$f":"IFERROR(OFFSET(CalculationsAndCharts!$D$32,'Transaction Summary'!E126,0,1,1),\"\")","v":""},"","",null,{"$f":"IFERROR(MATCH(TRUE,OFFSET(CalculationsAndCharts!$AE$33,K125,0,'Transaction Summary'!$C$2-K125,1),0)+K125,\"\")","v":""},{"$f":"IFERROR(OFFSET(CalculationsAndCharts!$B$32,'Transaction Summary'!K126,0,1,1),\"\")","v":""},{"$f":"IFERROR(OFFSET(CalculationsAndCharts!$D$32,'Transaction Summary'!K126,0,1,1),\"\")","v":""},{"$f":"IFERROR(IF($N$12>$K$15,$N$12,MATCH(TRUE,OFFSET(CalculationsAndCharts!$AH$33,N125,0,'Transaction Summary'!$C$2-N125,1),0)+N125),\"\")","v":""},{"$f":"IFERROR(OFFSET(CalculationsAndCharts!$B$32,'Transaction Summary'!N126,0,1,1),\"\")","v":""},{"$f":"IFERROR(OFFSET(CalculationsAndCharts!$D$32,'Transaction Summary'!N126,0,1,1),\"\")","v":""},"",""]
[null,{"$f":"IFERROR(MATCH(TRUE,OFFSET(CalculationsAndCharts!$V$33,B126,0,'Transaction Summary'!$C$2-B126,1),0)+B126,\"\")","v":""},{"$f":"IFERROR(OFFSET(CalculationsAndCharts!$B$32,'Transaction Summary'!B127,0,1,1),\"\")","v":""},{"$f":"IFERROR(OFFSET(CalculationsAndCharts!$D$32,'Transaction Summary'!B127,0,1,1),\"\")","v":""},{"$f":"IFERROR(IF($E$12>$B$15,$E$12,(MATCH(TRUE,OFFSET(CalculationsAndCharts!$Y$33,E126,0,'Transaction Summary'!$C$2-E126,1),0)+E126)),\"\")","v":""},{"$f":"IFERROR(OFFSET(CalculationsAndCharts!$B$32,'Transaction Summary'!E127,0,1,1),\"\")","v":""},{"$f":"IFERROR(OFFSET(CalculationsAndCharts!$D$32,'Transaction Summary'!E127,0,1,1),\"\")","v":""},"","",null,{"$f":"IFERROR(MATCH(TRUE,OFFSET(CalculationsAndCharts!$AE$33,K126,0,'Transaction Summary'!$C$2-K126,1),0)+K126,\"\")","v":""},{"$f":"IFERROR(OFFSET(CalculationsAndCharts!$B$32,'Transaction Summary'!K127,0,1,1),\"\")","v":""},{"$f":"IFERROR(OFFSET(CalculationsAndCharts!$D$32,'Transaction Summary'!K127,0,1,1),\"\")","v":""},{"$f":"IFERROR(IF($N$12>$K$15,$N$12,MATCH(TRUE,OFFSET(CalculationsAndCharts!$AH$33,N126,0,'Transaction Summary'!$C$2-N126,1),0)+N126),\"\")","v":""},{"$f":"IFERROR(OFFSET(CalculationsAndCharts!$B$32,'Transaction Summary'!N127,0,1,1),\"\")","v":""},{"$f":"IFERROR(OFFSET(CalculationsAndCharts!$D$32,'Transaction Summary'!N127,0,1,1),\"\")","v":""},"",""]
[null,{"$f":"IFERROR(MATCH(TRUE,OFFSET(CalculationsAndCharts!$V$33,B127,0,'Transaction Summary'!$C$2-B127,1),0)+B127,\"\")","v":""},{"$f":"IFERROR(OFFSET(CalculationsAndCharts!$B$32,'Transaction Summary'!B128,0,1,1),\"\")","v":""},{"$f":"IFERROR(OFFSET(CalculationsAndCharts!$D$32,'Transaction Summary'!B128,0,1,1),\"\")","v":""},{"$f":"IFERROR(IF($E$12>$B$15,$E$12,(MATCH(TRUE,OFFSET(CalculationsAndCharts!$Y$33,E127,0,'Transaction Summary'!$C$2-E127,1),0)+E127)),\"\")","v":""},{"$f":"IFERROR(OFFSET(CalculationsAndCharts!$B$32,'Transaction Summary'!E128,0,1,1),\"\")","v":""},{"$f":"IFERROR(OFFSET(CalculationsAndCharts!$D$32,'Transaction Summary'!E128,0,1,1),\"\")","v":""},"","",null,{"$f":"IFERROR(MATCH(TRUE,OFFSET(CalculationsAndCharts!$AE$33,K127,0,'Transaction Summary'!$C$2-K127,1),0)+K127,\"\")","v":""},{"$f":"IFERROR(OFFSET(CalculationsAndCharts!$B$32,'Transaction Summary'!K128,0,1,1),\"\")","v":""},{"$f":"IFERROR(OFFSET(CalculationsAndCharts!$D$32,'Transaction Summary'!K128,0,1,1),\"\")","v":""},{"$f":"IFERROR(IF($N$12>$K$15,$N$12,MATCH(TRUE,OFFSET(CalculationsAndCharts!$AH$33,N127,0,'Transaction Summary'!$C$2-N127,1),0)+N127),\"\")","v":""},{"$f":"IFERROR(OFFSET(CalculationsAndCharts!$B$32,'Transaction Summary'!N128,0,1,1),\"\")","v":""},{"$f":"IFERROR(OFFSET(CalculationsAndCharts!$D$32,'Transaction Summary'!N128,0,1,1),\"\")","v":""},"",""]
[null,{"$f":"IFERROR(MATCH(TRUE,OFFSET(CalculationsAndCharts!$V$33,B128,0,'Transaction Summary'!$C$2-B128,1),0)+B128,\"\")","v":""},{"$f":"IFERROR(OFFSET(CalculationsAndCharts!$B$32,'Transaction Summary'!B129,0,1,1),\"\")","v":""},{"$f":"IFERROR(OFFSET(CalculationsAndCharts!$D$32,'Transaction Summary'!B129,0,1,1),\"\")","v":""},{"$f":"IFERROR(IF($E$12>$B$15,$E$12,(MATCH(TRUE,OFFSET(CalculationsAndCharts!$Y$33,E128,0,'Transaction Summary'!$C$2-E128,1),0)+E128)),\"\")","v":""},{"$f":"IFERROR(OFFSET(CalculationsAndCharts!$B$32,'Transaction Summary'!E129,0,1,1),\"\")","v":""},{"$f":"IFERROR(OFFSET(CalculationsAndCharts!$D$32,'Transaction Summary'!E129,0,1,1),\"\")","v":""},"","",null,{"$f":"IFERROR(MATCH(TRUE,OFFSET(CalculationsAndCharts!$AE$33,K128,0,'Transaction Summary'!$C$2-K128,1),0)+K128,\"\")","v":""},{"$f":"IFERROR(OFFSET(CalculationsAndCharts!$B$32,'Transaction Summary'!K129,0,1,1),\"\")","v":""},{"$f":"IFERROR(OFFSET(CalculationsAndCharts!$D$32,'Transaction Summary'!K129,0,1,1),\"\")","v":""},{"$f":"IFERROR(IF($N$12>$K$15,$N$12,MATCH(TRUE,OFFSET(CalculationsAndCharts!$AH$33,N128,0,'Transaction Summary'!$C$2-N128,1),0)+N128),\"\")","v":""},{"$f":"IFERROR(OFFSET(CalculationsAndCharts!$B$32,'Transaction Summary'!N129,0,1,1),\"\")","v":""},{"$f":"IFERROR(OFFSET(CalculationsAndCharts!$D$32,'Transaction Summary'!N129,0,1,1),\"\")","v":""},"",""]
[null,{"$f":"IFERROR(MATCH(TRUE,OFFSET(CalculationsAndCharts!$V$33,B129,0,'Transaction Summary'!$C$2-B129,1),0)+B129,\"\")","v":""},{"$f":"IFERROR(OFFSET(CalculationsAndCharts!$B$32,'Transaction Summary'!B130,0,1,1),\"\")","v":""},{"$f":"IFERROR(OFFSET(CalculationsAndCharts!$D$32,'Transaction Summary'!B130,0,1,1),\"\")","v":""},{"$f":"IFERROR(IF($E$12>$B$15,$E$12,(MATCH(TRUE,OFFSET(CalculationsAndCharts!$Y$33,E129,0,'Transaction Summary'!$C$2-E129,1),0)+E129)),\"\")","v":""},{"$f":"IFERROR(OFFSET(CalculationsAndCharts!$B$32,'Transaction Summary'!E130,0,1,1),\"\")","v":""},{"$f":"IFERROR(OFFSET(CalculationsAndCharts!$D$32,'Transaction Summary'!E130,0,1,1),\"\")","v":""},"","",null,{"$f":"IFERROR(MATCH(TRUE,OFFSET(CalculationsAndCharts!$AE$33,K129,0,'Transaction Summary'!$C$2-K129,1),0)+K129,\"\")","v":""},{"$f":"IFERROR(OFFSET(CalculationsAndCharts!$B$32,'Transaction Summary'!K130,0,1,1),\"\")","v":""},{"$f":"IFERROR(OFFSET(CalculationsAndCharts!$D$32,'Transaction Summary'!K130,0,1,1),\"\")","v":""},{"$f":"IFERROR(IF($N$12>$K$15,$N$12,MATCH(TRUE,OFFSET(CalculationsAndCharts!$AH$33,N129,0,'Transaction Summary'!$C$2-N129,1),0)+N129),\"\")","v":""},{"$f":"IFERROR(OFFSET(CalculationsAndCharts!$B$32,'Transaction Summary'!N130,0,1,1),\"\")","v":""},{"$f":"IFERROR(OFFSET(CalculationsAndCharts!$D$32,'Transaction Summary'!N130,0,1,1),\"\")","v":""},"",""]
[null,{"$f":"IFERROR(MATCH(TRUE,OFFSET(CalculationsAndCharts!$V$33,B130,0,'Transaction Summary'!$C$2-B130,1),0)+B130,\"\")","v":""},{"$f":"IFERROR(OFFSET(CalculationsAndCharts!$B$32,'Transaction Summary'!B131,0,1,1),\"\")","v":""},{"$f":"IFERROR(OFFSET(CalculationsAndCharts!$D$32,'Transaction Summary'!B131,0,1,1),\"\")","v":""},{"$f":"IFERROR(IF($E$12>$B$15,$E$12,(MATCH(TRUE,OFFSET(CalculationsAndCharts!$Y$33,E130,0,'Transaction Summary'!$C$2-E130,1),0)+E130)),\"\")","v":""},{"$f":"IFERROR(OFFSET(CalculationsAndCharts!$B$32,'Transaction Summary'!E131,0,1,1),\"\")","v":""},{"$f":"IFERROR(OFFSET(CalculationsAndCharts!$D$32,'Transaction Summary'!E131,0,1,1),\"\")","v":""},"","",null,{"$f":"IFERROR(MATCH(TRUE,OFFSET(CalculationsAndCharts!$AE$33,K130,0,'Transaction Summary'!$C$2-K130,1),0)+K130,\"\")","v":""},{"$f":"IFERROR(OFFSET(CalculationsAndCharts!$B$32,'Transaction Summary'!K131,0,1,1),\"\")","v":""},{"$f":"IFERROR(OFFSET(CalculationsAndCharts!$D$32,'Transaction Summary'!K131,0,1,1),\"\")","v":""},{"$f":"IFERROR(IF($N$12>$K$15,$N$12,MATCH(TRUE,OFFSET(CalculationsAndCharts!$AH$33,N130,0,'Transaction Summary'!$C$2-N130,1),0)+N130),\"\")","v":""},{"$f":"IFERROR(OFFSET(CalculationsAndCharts!$B$32,'Transaction Summary'!N131,0,1,1),\"\")","v":""},{"$f":"IFERROR(OFFSET(CalculationsAndCharts!$D$32,'Transaction Summary'!N131,0,1,1),\"\")","v":""},"",""]
[null,{"$f":"IFERROR(MATCH(TRUE,OFFSET(CalculationsAndCharts!$V$33,B131,0,'Transaction Summary'!$C$2-B131,1),0)+B131,\"\")","v":""},{"$f":"IFERROR(OFFSET(CalculationsAndCharts!$B$32,'Transaction Summary'!B132,0,1,1),\"\")","v":""},{"$f":"IFERROR(OFFSET(CalculationsAndCharts!$D$32,'Transaction Summary'!B132,0,1,1),\"\")","v":""},{"$f":"IFERROR(IF($E$12>$B$15,$E$12,(MATCH(TRUE,OFFSET(CalculationsAndCharts!$Y$33,E131,0,'Transaction Summary'!$C$2-E131,1),0)+E131)),\"\")","v":""},{"$f":"IFERROR(OFFSET(CalculationsAndCharts!$B$32,'Transaction Summary'!E132,0,1,1),\"\")","v":""},{"$f":"IFERROR(OFFSET(CalculationsAndCharts!$D$32,'Transaction Summary'!E132,0,1,1),\"\")","v":""},"","",null,{"$f":"IFERROR(MATCH(TRUE,OFFSET(CalculationsAndCharts!$AE$33,K131,0,'Transaction Summary'!$C$2-K131,1),0)+K131,\"\")","v":""},{"$f":"IFERROR(OFFSET(CalculationsAndCharts!$B$32,'Transaction Summary'!K132,0,1,1),\"\")","v":""},{"$f":"IFERROR(OFFSET(CalculationsAndCharts!$D$32,'Transaction Summary'!K132,0,1,1),\"\")","v":""},{"$f":"IFERROR(IF($N$12>$K$15,$N$12,MATCH(TRUE,OFFSET(CalculationsAndCharts!$AH$33,N131,0,'Transaction Summary'!$C$2-N131,1),0)+N131),\"\")","v":""},{"$f":"IFERROR(OFFSET(CalculationsAndCharts!$B$32,'Transaction Summary'!N132,0,1,1),\"\")","v":""},{"$f":"IFERROR(OFFSET(CalculationsAndCharts!$D$32,'Transaction Summary'!N132,0,1,1),\"\")","v":""},"",""]
[null,{"$f":"IFERROR(MATCH(TRUE,OFFSET(CalculationsAndCharts!$V$33,B132,0,'Transaction Summary'!$C$2-B132,1),0)+B132,\"\")","v":""},{"$f":"IFERROR(OFFSET(CalculationsAndCharts!$B$32,'Transaction Summary'!B133,0,1,1),\"\")","v":""},{"$f":"IFERROR(OFFSET(CalculationsAndCharts!$D$32,'Transaction Summary'!B133,0,1,1),\"\")","v":""},{"$f":"IFERROR(IF($E$12>$B$15,$E$12,(MATCH(TRUE,OFFSET(CalculationsAndCharts!$Y$33,E132,0,'Transaction Summary'!$C$2-E132,1),0)+E132)),\"\")","v":""},{"$f":"IFERROR(OFFSET(CalculationsAndCharts!$B$32,'Transaction Summary'!E133,0,1,1),\"\")","v":""},{"$f":"IFERROR(OFFSET(CalculationsAndCharts!$D$32,'Transaction Summary'!E133,0,1,1),\"\")","v":""},"","",null,{"$f":"IFERROR(MATCH(TRUE,OFFSET(CalculationsAndCharts!$AE$33,K132,0,'Transaction Summary'!$C$2-K132,1),0)+K132,\"\")","v":""},{"$f":"IFERROR(OFFSET(CalculationsAndCharts!$B$32,'Transaction Summary'!K133,0,1,1),\"\")","v":""},{"$f":"IFERROR(OFFSET(CalculationsAndCharts!$D$32,'Transaction Summary'!K133,0,1,1),\"\")","v":""},{"$f":"IFERROR(IF($N$12>$K$15,$N$12,MATCH(TRUE,OFFSET(CalculationsAndCharts!$AH$33,N132,0,'Transaction Summary'!$C$2-N132,1),0)+N132),\"\")","v":""},{"$f":"IFERROR(OFFSET(CalculationsAndCharts!$B$32,'Transaction Summary'!N133,0,1,1),\"\")","v":""},{"$f":"IFERROR(OFFSET(CalculationsAndCharts!$D$32,'Transaction Summary'!N133,0,1,1),\"\")","v":""},"",""]
[null,{"$f":"IFERROR(MATCH(TRUE,OFFSET(CalculationsAndCharts!$V$33,B133,0,'Transaction Summary'!$C$2-B133,1),0)+B133,\"\")","v":""},{"$f":"IFERROR(OFFSET(CalculationsAndCharts!$B$32,'Transaction Summary'!B134,0,1,1),\"\")","v":""},{"$f":"IFERROR(OFFSET(CalculationsAndCharts!$D$32,'Transaction Summary'!B134,0,1,1),\"\")","v":""},{"$f":"IFERROR(IF($E$12>$B$15,$E$12,(MATCH(TRUE,OFFSET(CalculationsAndCharts!$Y$33,E133,0,'Transaction Summary'!$C$2-E133,1),0)+E133)),\"\")","v":""},{"$f":"IFERROR(OFFSET(CalculationsAndCharts!$B$32,'Transaction Summary'!E134,0,1,1),\"\")","v":""},{"$f":"IFERROR(OFFSET(CalculationsAndCharts!$D$32,'Transaction Summary'!E134,0,1,1),\"\")","v":""},"","",null,{"$f":"IFERROR(MATCH(TRUE,OFFSET(CalculationsAndCharts!$AE$33,K133,0,'Transaction Summary'!$C$2-K133,1),0)+K133,\"\")","v":""},{"$f":"IFERROR(OFFSET(CalculationsAndCharts!$B$32,'Transaction Summary'!K134,0,1,1),\"\")","v":""},{"$f":"IFERROR(OFFSET(CalculationsAndCharts!$D$32,'Transaction Summary'!K134,0,1,1),\"\")","v":""},{"$f":"IFERROR(IF($N$12>$K$15,$N$12,MATCH(TRUE,OFFSET(CalculationsAndCharts!$AH$33,N133,0,'Transaction Summary'!$C$2-N133,1),0)+N133),\"\")","v":""},{"$f":"IFERROR(OFFSET(CalculationsAndCharts!$B$32,'Transaction Summary'!N134,0,1,1),\"\")","v":""},{"$f":"IFERROR(OFFSET(CalculationsAndCharts!$D$32,'Transaction Summary'!N134,0,1,1),\"\")","v":""},"",""]
[null,{"$f":"IFERROR(MATCH(TRUE,OFFSET(CalculationsAndCharts!$V$33,B134,0,'Transaction Summary'!$C$2-B134,1),0)+B134,\"\")","v":""},{"$f":"IFERROR(OFFSET(CalculationsAndCharts!$B$32,'Transaction Summary'!B135,0,1,1),\"\")","v":""},{"$f":"IFERROR(OFFSET(CalculationsAndCharts!$D$32,'Transaction Summary'!B135,0,1,1),\"\")","v":""},{"$f":"IFERROR(IF($E$12>$B$15,$E$12,(MATCH(TRUE,OFFSET(CalculationsAndCharts!$Y$33,E134,0,'Transaction Summary'!$C$2-E134,1),0)+E134)),\"\")","v":""},{"$f":"IFERROR(OFFSET(CalculationsAndCharts!$B$32,'Transaction Summary'!E135,0,1,1),\"\")","v":""},{"$f":"IFERROR(OFFSET(CalculationsAndCharts!$D$32,'Transaction Summary'!E135,0,1,1),\"\")","v":""},"","",null,{"$f":"IFERROR(MATCH(TRUE,OFFSET(CalculationsAndCharts!$AE$33,K134,0,'Transaction Summary'!$C$2-K134,1),0)+K134,\"\")","v":""},{"$f":"IFERROR(OFFSET(CalculationsAndCharts!$B$32,'Transaction Summary'!K135,0,1,1),\"\")","v":""},{"$f":"IFERROR(OFFSET(CalculationsAndCharts!$D$32,'Transaction Summary'!K135,0,1,1),\"\")","v":""},{"$f":"IFERROR(IF($N$12>$K$15,$N$12,MATCH(TRUE,OFFSET(CalculationsAndCharts!$AH$33,N134,0,'Transaction Summary'!$C$2-N134,1),0)+N134),\"\")","v":""},{"$f":"IFERROR(OFFSET(CalculationsAndCharts!$B$32,'Transaction Summary'!N135,0,1,1),\"\")","v":""},{"$f":"IFERROR(OFFSET(CalculationsAndCharts!$D$32,'Transaction Summary'!N135,0,1,1),\"\")","v":""},"",""]
[null,{"$f":"IFERROR(MATCH(TRUE,OFFSET(CalculationsAndCharts!$V$33,B135,0,'Transaction Summary'!$C$2-B135,1),0)+B135,\"\")","v":""},{"$f":"IFERROR(OFFSET(CalculationsAndCharts!$B$32,'Transaction Summary'!B136,0,1,1),\"\")","v":""},{"$f":"IFERROR(OFFSET(CalculationsAndCharts!$D$32,'Transaction Summary'!B136,0,1,1),\"\")","v":""},{"$f":"IFERROR(IF($E$12>$B$15,$E$12,(MATCH(TRUE,OFFSET(CalculationsAndCharts!$Y$33,E135,0,'Transaction Summary'!$C$2-E135,1),0)+E135)),\"\")","v":""},{"$f":"IFERROR(OFFSET(CalculationsAndCharts!$B$32,'Transaction Summary'!E136,0,1,1),\"\")","v":""},{"$f":"IFERROR(OFFSET(CalculationsAndCharts!$D$32,'Transaction Summary'!E136,0,1,1),\"\")","v":""},"","",null,{"$f":"IFERROR(MATCH(TRUE,OFFSET(CalculationsAndCharts!$AE$33,K135,0,'Transaction Summary'!$C$2-K135,1),0)+K135,\"\")","v":""},{"$f":"IFERROR(OFFSET(CalculationsAndCharts!$B$32,'Transaction Summary'!K136,0,1,1),\"\")","v":""},{"$f":"IFERROR(OFFSET(CalculationsAndCharts!$D$32,'Transaction Summary'!K136,0,1,1),\"\")","v":""},{"$f":"IFERROR(IF($N$12>$K$15,$N$12,MATCH(TRUE,OFFSET(CalculationsAndCharts!$AH$33,N135,0,'Transaction Summary'!$C$2-N135,1),0)+N135),\"\")","v":""},{"$f":"IFERROR(OFFSET(CalculationsAndCharts!$B$32,'Transaction Summary'!N136,0,1,1),\"\")","v":""},{"$f":"IFERROR(OFFSET(CalculationsAndCharts!$D$32,'Transaction Summary'!N136,0,1,1),\"\")","v":""},"",""]
[null,{"$f":"IFERROR(MATCH(TRUE,OFFSET(CalculationsAndCharts!$V$33,B136,0,'Transaction Summary'!$C$2-B136,1),0)+B136,\"\")","v":""},{"$f":"IFERROR(OFFSET(CalculationsAndCharts!$B$32,'Transaction Summary'!B137,0,1,1),\"\")","v":""},{"$f":"IFERROR(OFFSET(CalculationsAndCharts!$D$32,'Transaction Summary'!B137,0,1,1),\"\")","v":""},{"$f":"IFERROR(IF($E$12>$B$15,$E$12,(MATCH(TRUE,OFFSET(CalculationsAndCharts!$Y$33,E136,0,'Transaction Summary'!$C$2-E136,1),0)+E136)),\"\")","v":""},{"$f":"IFERROR(OFFSET(CalculationsAndCharts!$B$32,'Transaction Summary'!E137,0,1,1),\"\")","v":""},{"$f":"IFERROR(OFFSET(CalculationsAndCharts!$D$32,'Transaction Summary'!E137,0,1,1),\"\")","v":""},"","",null,{"$f":"IFERROR(MATCH(TRUE,OFFSET(CalculationsAndCharts!$AE$33,K136,0,'Transaction Summary'!$C$2-K136,1),0)+K136,\"\")","v":""},{"$f":"IFERROR(OFFSET(CalculationsAndCharts!$B$32,'Transaction Summary'!K137,0,1,1),\"\")","v":""},{"$f":"IFERROR(OFFSET(CalculationsAndCharts!$D$32,'Transaction Summary'!K137,0,1,1),\"\")","v":""},{"$f":"IFERROR(IF($N$12>$K$15,$N$12,MATCH(TRUE,OFFSET(CalculationsAndCharts!$AH$33,N136,0,'Transaction Summary'!$C$2-N136,1),0)+N136),\"\")","v":""},{"$f":"IFERROR(OFFSET(CalculationsAndCharts!$B$32,'Transaction Summary'!N137,0,1,1),\"\")","v":""},{"$f":"IFERROR(OFFSET(CalculationsAndCharts!$D$32,'Transaction Summary'!N137,0,1,1),\"\")","v":""},"",""]
[null,{"$f":"IFERROR(MATCH(TRUE,OFFSET(CalculationsAndCharts!$V$33,B137,0,'Transaction Summary'!$C$2-B137,1),0)+B137,\"\")","v":""},{"$f":"IFERROR(OFFSET(CalculationsAndCharts!$B$32,'Transaction Summary'!B138,0,1,1),\"\")","v":""},{"$f":"IFERROR(OFFSET(CalculationsAndCharts!$D$32,'Transaction Summary'!B138,0,1,1),\"\")","v":""},{"$f":"IFERROR(IF($E$12>$B$15,$E$12,(MATCH(TRUE,OFFSET(CalculationsAndCharts!$Y$33,E137,0,'Transaction Summary'!$C$2-E137,1),0)+E137)),\"\")","v":""},{"$f":"IFERROR(OFFSET(CalculationsAndCharts!$B$32,'Transaction Summary'!E138,0,1,1),\"\")","v":""},{"$f":"IFERROR(OFFSET(CalculationsAndCharts!$D$32,'Transaction Summary'!E138,0,1,1),\"\")","v":""},"","",null,{"$f":"IFERROR(MATCH(TRUE,OFFSET(CalculationsAndCharts!$AE$33,K137,0,'Transaction Summary'!$C$2-K137,1),0)+K137,\"\")","v":""},{"$f":"IFERROR(OFFSET(CalculationsAndCharts!$B$32,'Transaction Summary'!K138,0,1,1),\"\")","v":""},{"$f":"IFERROR(OFFSET(CalculationsAndCharts!$D$32,'Transaction Summary'!K138,0,1,1),\"\")","v":""},{"$f":"IFERROR(IF($N$12>$K$15,$N$12,MATCH(TRUE,OFFSET(CalculationsAndCharts!$AH$33,N137,0,'Transaction Summary'!$C$2-N137,1),0)+N137),\"\")","v":""},{"$f":"IFERROR(OFFSET(CalculationsAndCharts!$B$32,'Transaction Summary'!N138,0,1,1),\"\")","v":""},{"$f":"IFERROR(OFFSET(CalculationsAndCharts!$D$32,'Transaction Summary'!N138,0,1,1),\"\")","v":""},"",""]
[null,{"$f":"IFERROR(MATCH(TRUE,OFFSET(CalculationsAndCharts!$V$33,B138,0,'Transaction Summary'!$C$2-B138,1),0)+B138,\"\")","v":""},{"$f":"IFERROR(OFFSET(CalculationsAndCharts!$B$32,'Transaction Summary'!B139,0,1,1),\"\")","v":""},{"$f":"IFERROR(OFFSET(CalculationsAndCharts!$D$32,'Transaction Summary'!B139,0,1,1),\"\")","v":""},{"$f":"IFERROR(IF($E$12>$B$15,$E$12,(MATCH(TRUE,OFFSET(CalculationsAndCharts!$Y$33,E138,0,'Transaction Summary'!$C$2-E138,1),0)+E138)),\"\")","v":""},{"$f":"IFERROR(OFFSET(CalculationsAndCharts!$B$32,'Transaction Summary'!E139,0,1,1),\"\")","v":""},{"$f":"IFERROR(OFFSET(CalculationsAndCharts!$D$32,'Transaction Summary'!E139,0,1,1),\"\")","v":""},"","",null,{"$f":"IFERROR(MATCH(TRUE,OFFSET(CalculationsAndCharts!$AE$33,K138,0,'Transaction Summary'!$C$2-K138,1),0)+K138,\"\")","v":""},{"$f":"IFERROR(OFFSET(CalculationsAndCharts!$B$32,'Transaction Summary'!K139,0,1,1),\"\")","v":""},{"$f":"IFERROR(OFFSET(CalculationsAndCharts!$D$32,'Transaction Summary'!K139,0,1,1),\"\")","v":""},{"$f":"IFERROR(IF($N$12>$K$15,$N$12,MATCH(TRUE,OFFSET(CalculationsAndCharts!$AH$33,N138,0,'Transaction Summary'!$C$2-N138,1),0)+N138),\"\")","v":""},{"$f":"IFERROR(OFFSET(CalculationsAndCharts!$B$32,'Transaction Summary'!N139,0,1,1),\"\")","v":""},{"$f":"IFERROR(OFFSET(CalculationsAndCharts!$D$32,'Transaction Summary'!N139,0,1,1),\"\")","v":""},"",""]
[null,{"$f":"IFERROR(MATCH(TRUE,OFFSET(CalculationsAndCharts!$V$33,B139,0,'Transaction Summary'!$C$2-B139,1),0)+B139,\"\")","v":""},{"$f":"IFERROR(OFFSET(CalculationsAndCharts!$B$32,'Transaction Summary'!B140,0,1,1),\"\")","v":""},{"$f":"IFERROR(OFFSET(CalculationsAndCharts!$D$32,'Transaction Summary'!B140,0,1,1),\"\")","v":""},{"$f":"IFERROR(IF($E$12>$B$15,$E$12,(MATCH(TRUE,OFFSET(CalculationsAndCharts!$Y$33,E139,0,'Transaction Summary'!$C$2-E139,1),0)+E139)),\"\")","v":""},{"$f":"IFERROR(OFFSET(CalculationsAndCharts!$B$32,'Transaction Summary'!E140,0,1,1),\"\")","v":""},{"$f":"IFERROR(OFFSET(CalculationsAndCharts!$D$32,'Transaction Summary'!E140,0,1,1),\"\")","v":""},"","",null,{"$f":"IFERROR(MATCH(TRUE,OFFSET(CalculationsAndCharts!$AE$33,K139,0,'Transaction Summary'!$C$2-K139,1),0)+K139,\"\")","v":""},{"$f":"IFERROR(OFFSET(CalculationsAndCharts!$B$32,'Transaction Summary'!K140,0,1,1),\"\")","v":""},{"$f":"IFERROR(OFFSET(CalculationsAndCharts!$D$32,'Transaction Summary'!K140,0,1,1),\"\")","v":""},{"$f":"IFERROR(IF($N$12>$K$15,$N$12,MATCH(TRUE,OFFSET(CalculationsAndCharts!$AH$33,N139,0,'Transaction Summary'!$C$2-N139,1),0)+N139),\"\")","v":""},{"$f":"IFERROR(OFFSET(CalculationsAndCharts!$B$32,'Transaction Summary'!N140,0,1,1),\"\")","v":""},{"$f":"IFERROR(OFFSET(CalculationsAndCharts!$D$32,'Transaction Summary'!N140,0,1,1),\"\")","v":""},"",""]
[null,{"$f":"IFERROR(MATCH(TRUE,OFFSET(CalculationsAndCharts!$V$33,B140,0,'Transaction Summary'!$C$2-B140,1),0)+B140,\"\")","v":""},{"$f":"IFERROR(OFFSET(CalculationsAndCharts!$B$32,'Transaction Summary'!B141,0,1,1),\"\")","v":""},{"$f":"IFERROR(OFFSET(CalculationsAndCharts!$D$32,'Transaction Summary'!B141,0,1,1),\"\")","v":""},{"$f":"IFERROR(IF($E$12>$B$15,$E$12,(MATCH(TRUE,OFFSET(CalculationsAndCharts!$Y$33,E140,0,'Transaction Summary'!$C$2-E140,1),0)+E140)),\"\")","v":""},{"$f":"IFERROR(OFFSET(CalculationsAndCharts!$B$32,'Transaction Summary'!E141,0,1,1),\"\")","v":""},{"$f":"IFERROR(OFFSET(CalculationsAndCharts!$D$32,'Transaction Summary'!E141,0,1,1),\"\")","v":""},"","",null,{"$f":"IFERROR(MATCH(TRUE,OFFSET(CalculationsAndCharts!$AE$33,K140,0,'Transaction Summary'!$C$2-K140,1),0)+K140,\"\")","v":""},{"$f":"IFERROR(OFFSET(CalculationsAndCharts!$B$32,'Transaction Summary'!K141,0,1,1),\"\")","v":""},{"$f":"IFERROR(OFFSET(CalculationsAndCharts!$D$32,'Transaction Summary'!K141,0,1,1),\"\")","v":""},{"$f":"IFERROR(IF($N$12>$K$15,$N$12,MATCH(TRUE,OFFSET(CalculationsAndCharts!$AH$33,N140,0,'Transaction Summary'!$C$2-N140,1),0)+N140),\"\")","v":""},{"$f":"IFERROR(OFFSET(CalculationsAndCharts!$B$32,'Transaction Summary'!N141,0,1,1),\"\")","v":""},{"$f":"IFERROR(OFFSET(CalculationsAndCharts!$D$32,'Transaction Summary'!N141,0,1,1),\"\")","v":""},"",""]
[null,{"$f":"IFERROR(MATCH(TRUE,OFFSET(CalculationsAndCharts!$V$33,B141,0,'Transaction Summary'!$C$2-B141,1),0)+B141,\"\")","v":""},{"$f":"IFERROR(OFFSET(CalculationsAndCharts!$B$32,'Transaction Summary'!B142,0,1,1),\"\")","v":""},{"$f":"IFERROR(OFFSET(CalculationsAndCharts!$D$32,'Transaction Summary'!B142,0,1,1),\"\")","v":""},{"$f":"IFERROR(IF($E$12>$B$15,$E$12,(MATCH(TRUE,OFFSET(CalculationsAndCharts!$Y$33,E141,0,'Transaction Summary'!$C$2-E141,1),0)+E141)),\"\")","v":""},{"$f":"IFERROR(OFFSET(CalculationsAndCharts!$B$32,'Transaction Summary'!E142,0,1,1),\"\")","v":""},{"$f":"IFERROR(OFFSET(CalculationsAndCharts!$D$32,'Transaction Summary'!E142,0,1,1),\"\")","v":""},"","",null,{"$f":"IFERROR(MATCH(TRUE,OFFSET(CalculationsAndCharts!$AE$33,K141,0,'Transaction Summary'!$C$2-K141,1),0)+K141,\"\")","v":""},{"$f":"IFERROR(OFFSET(CalculationsAndCharts!$B$32,'Transaction Summary'!K142,0,1,1),\"\")","v":""},{"$f":"IFERROR(OFFSET(CalculationsAndCharts!$D$32,'Transaction Summary'!K142,0,1,1),\"\")","v":""},{"$f":"IFERROR(IF($N$12>$K$15,$N$12,MATCH(TRUE,OFFSET(CalculationsAndCharts!$AH$33,N141,0,'Transaction Summary'!$C$2-N141,1),0)+N141),\"\")","v":""},{"$f":"IFERROR(OFFSET(CalculationsAndCharts!$B$32,'Transaction Summary'!N142,0,1,1),\"\")","v":""},{"$f":"IFERROR(OFFSET(CalculationsAndCharts!$D$32,'Transaction Summary'!N142,0,1,1),\"\")","v":""},"",""]
[null,{"$f":"IFERROR(MATCH(TRUE,OFFSET(CalculationsAndCharts!$V$33,B142,0,'Transaction Summary'!$C$2-B142,1),0)+B142,\"\")","v":""},{"$f":"IFERROR(OFFSET(CalculationsAndCharts!$B$32,'Transaction Summary'!B143,0,1,1),\"\")","v":""},{"$f":"IFERROR(OFFSET(CalculationsAndCharts!$D$32,'Transaction Summary'!B143,0,1,1),\"\")","v":""},{"$f":"IFERROR(IF($E$12>$B$15,$E$12,(MATCH(TRUE,OFFSET(CalculationsAndCharts!$Y$33,E142,0,'Transaction Summary'!$C$2-E142,1),0)+E142)),\"\")","v":""},{"$f":"IFERROR(OFFSET(CalculationsAndCharts!$B$32,'Transaction Summary'!E143,0,1,1),\"\")","v":""},{"$f":"IFERROR(OFFSET(CalculationsAndCharts!$D$32,'Transaction Summary'!E143,0,1,1),\"\")","v":""},"","",null,{"$f":"IFERROR(MATCH(TRUE,OFFSET(CalculationsAndCharts!$AE$33,K142,0,'Transaction Summary'!$C$2-K142,1),0)+K142,\"\")","v":""},{"$f":"IFERROR(OFFSET(CalculationsAndCharts!$B$32,'Transaction Summary'!K143,0,1,1),\"\")","v":""},{"$f":"IFERROR(OFFSET(CalculationsAndCharts!$D$32,'Transaction Summary'!K143,0,1,1),\"\")","v":""},{"$f":"IFERROR(IF($N$12>$K$15,$N$12,MATCH(TRUE,OFFSET(CalculationsAndCharts!$AH$33,N142,0,'Transaction Summary'!$C$2-N142,1),0)+N142),\"\")","v":""},{"$f":"IFERROR(OFFSET(CalculationsAndCharts!$B$32,'Transaction Summary'!N143,0,1,1),\"\")","v":""},{"$f":"IFERROR(OFFSET(CalculationsAndCharts!$D$32,'Transaction Summary'!N143,0,1,1),\"\")","v":""},"",""]
[null,{"$f":"IFERROR(MATCH(TRUE,OFFSET(CalculationsAndCharts!$V$33,B143,0,'Transaction Summary'!$C$2-B143,1),0)+B143,\"\")","v":""},{"$f":"IFERROR(OFFSET(CalculationsAndCharts!$B$32,'Transaction Summary'!B144,0,1,1),\"\")","v":""},{"$f":"IFERROR(OFFSET(CalculationsAndCharts!$D$32,'Transaction Summary'!B144,0,1,1),\"\")","v":""},{"$f":"IFERROR(IF($E$12>$B$15,$E$12,(MATCH(TRUE,OFFSET(CalculationsAndCharts!$Y$33,E143,0,'Transaction Summary'!$C$2-E143,1),0)+E143)),\"\")","v":""},{"$f":"IFERROR(OFFSET(CalculationsAndCharts!$B$32,'Transaction Summary'!E144,0,1,1),\"\")","v":""},{"$f":"IFERROR(OFFSET(CalculationsAndCharts!$D$32,'Transaction Summary'!E144,0,1,1),\"\")","v":""},"","",null,{"$f":"IFERROR(MATCH(TRUE,OFFSET(CalculationsAndCharts!$AE$33,K143,0,'Transaction Summary'!$C$2-K143,1),0)+K143,\"\")","v":""},{"$f":"IFERROR(OFFSET(CalculationsAndCharts!$B$32,'Transaction Summary'!K144,0,1,1),\"\")","v":""},{"$f":"IFERROR(OFFSET(CalculationsAndCharts!$D$32,'Transaction Summary'!K144,0,1,1),\"\")","v":""},{"$f":"IFERROR(IF($N$12>$K$15,$N$12,MATCH(TRUE,OFFSET(CalculationsAndCharts!$AH$33,N143,0,'Transaction Summary'!$C$2-N143,1),0)+N143),\"\")","v":""},{"$f":"IFERROR(OFFSET(CalculationsAndCharts!$B$32,'Transaction Summary'!N144,0,1,1),\"\")","v":""},{"$f":"IFERROR(OFFSET(CalculationsAndCharts!$D$32,'Transaction Summary'!N144,0,1,1),\"\")","v":""},"",""]
[null,{"$f":"IFERROR(MATCH(TRUE,OFFSET(CalculationsAndCharts!$V$33,B144,0,'Transaction Summary'!$C$2-B144,1),0)+B144,\"\")","v":""},{"$f":"IFERROR(OFFSET(CalculationsAndCharts!$B$32,'Transaction Summary'!B145,0,1,1),\"\")","v":""},{"$f":"IFERROR(OFFSET(CalculationsAndCharts!$D$32,'Transaction Summary'!B145,0,1,1),\"\")","v":""},{"$f":"IFERROR(IF($E$12>$B$15,$E$12,(MATCH(TRUE,OFFSET(CalculationsAndCharts!$Y$33,E144,0,'Transaction Summary'!$C$2-E144,1),0)+E144)),\"\")","v":""},{"$f":"IFERROR(OFFSET(CalculationsAndCharts!$B$32,'Transaction Summary'!E145,0,1,1),\"\")","v":""},{"$f":"IFERROR(OFFSET(CalculationsAndCharts!$D$32,'Transaction Summary'!E145,0,1,1),\"\")","v":""},"","",null,{"$f":"IFERROR(MATCH(TRUE,OFFSET(CalculationsAndCharts!$AE$33,K144,0,'Transaction Summary'!$C$2-K144,1),0)+K144,\"\")","v":""},{"$f":"IFERROR(OFFSET(CalculationsAndCharts!$B$32,'Transaction Summary'!K145,0,1,1),\"\")","v":""},{"$f":"IFERROR(OFFSET(CalculationsAndCharts!$D$32,'Transaction Summary'!K145,0,1,1),\"\")","v":""},{"$f":"IFERROR(IF($N$12>$K$15,$N$12,MATCH(TRUE,OFFSET(CalculationsAndCharts!$AH$33,N144,0,'Transaction Summary'!$C$2-N144,1),0)+N144),\"\")","v":""},{"$f":"IFERROR(OFFSET(CalculationsAndCharts!$B$32,'Transaction Summary'!N145,0,1,1),\"\")","v":""},{"$f":"IFERROR(OFFSET(CalculationsAndCharts!$D$32,'Transaction Summary'!N145,0,1,1),\"\")","v":""},"",""]
[null,{"$f":"IFERROR(MATCH(TRUE,OFFSET(CalculationsAndCharts!$V$33,B145,0,'Transaction Summary'!$C$2-B145,1),0)+B145,\"\")","v":""},{"$f":"IFERROR(OFFSET(CalculationsAndCharts!$B$32,'Transaction Summary'!B146,0,1,1),\"\")","v":""},{"$f":"IFERROR(OFFSET(CalculationsAndCharts!$D$32,'Transaction Summary'!B146,0,1,1),\"\")","v":""},{"$f":"IFERROR(IF($E$12>$B$15,$E$12,(MATCH(TRUE,OFFSET(CalculationsAndCharts!$Y$33,E145,0,'Transaction Summary'!$C$2-E145,1),0)+E145)),\"\")","v":""},{"$f":"IFERROR(OFFSET(CalculationsAndCharts!$B$32,'Transaction Summary'!E146,0,1,1),\"\")","v":""},{"$f":"IFERROR(OFFSET(CalculationsAndCharts!$D$32,'Transaction Summary'!E146,0,1,1),\"\")","v":""},"","",null,{"$f":"IFERROR(MATCH(TRUE,OFFSET(CalculationsAndCharts!$AE$33,K145,0,'Transaction Summary'!$C$2-K145,1),0)+K145,\"\")","v":""},{"$f":"IFERROR(OFFSET(CalculationsAndCharts!$B$32,'Transaction Summary'!K146,0,1,1),\"\")","v":""},{"$f":"IFERROR(OFFSET(CalculationsAndCharts!$D$32,'Transaction Summary'!K146,0,1,1),\"\")","v":""},{"$f":"IFERROR(IF($N$12>$K$15,$N$12,MATCH(TRUE,OFFSET(CalculationsAndCharts!$AH$33,N145,0,'Transaction Summary'!$C$2-N145,1),0)+N145),\"\")","v":""},{"$f":"IFERROR(OFFSET(CalculationsAndCharts!$B$32,'Transaction Summary'!N146,0,1,1),\"\")","v":""},{"$f":"IFERROR(OFFSET(CalculationsAndCharts!$D$32,'Transaction Summary'!N146,0,1,1),\"\")","v":""},{"$f":"IFERROR(M146-P146,\"\")","v":""},{"$f":"IFERROR(Q146+IF(\"\"=R147,0,R147),\"\")","v":""}]
[null,{"$f":"IFERROR(MATCH(TRUE,OFFSET(CalculationsAndCharts!$V$33,B146,0,'Transaction Summary'!$C$2-B146,1),0)+B146,\"\")","v":""},{"$f":"IFERROR(OFFSET(CalculationsAndCharts!$B$32,'Transaction Summary'!B147,0,1,1),\"\")","v":""},{"$f":"IFERROR(OFFSET(CalculationsAndCharts!$D$32,'Transaction Summary'!B147,0,1,1),\"\")","v":""},{"$f":"IFERROR(IF($E$12>$B$15,$E$12,(MATCH(TRUE,OFFSET(CalculationsAndCharts!$Y$33,E146,0,'Transaction Summary'!$C$2-E146,1),0)+E146)),\"\")","v":""},{"$f":"IFERROR(OFFSET(CalculationsAndCharts!$B$32,'Transaction Summary'!E147,0,1,1),\"\")","v":""},{"$f":"IFERROR(OFFSET(CalculationsAndCharts!$D$32,'Transaction Summary'!E147,0,1,1),\"\")","v":""},"","",null,{"$f":"IFERROR(MATCH(TRUE,OFFSET(CalculationsAndCharts!$AE$33,K146,0,'Transaction Summary'!$C$2-K146,1),0)+K146,\"\")","v":""},{"$f":"IFERROR(OFFSET(CalculationsAndCharts!$B$32,'Transaction Summary'!K147,0,1,1),\"\")","v":""},{"$f":"IFERROR(OFFSET(CalculationsAndCharts!$D$32,'Transaction Summary'!K147,0,1,1),\"\")","v":""},{"$f":"IFERROR(IF($N$12>$K$15,$N$12,MATCH(TRUE,OFFSET(CalculationsAndCharts!$AH$33,N146,0,'Transaction Summary'!$C$2-N146,1),0)+N146),\"\")","v":""},{"$f":"IFERROR(OFFSET(CalculationsAndCharts!$B$32,'Transaction Summary'!N147,0,1,1),\"\")","v":""},{"$f":"IFERROR(OFFSET(CalculationsAndCharts!$D$32,'Transaction Summary'!N147,0,1,1),\"\")","v":""},"",""]
[null,{"$f":"IFERROR(MATCH(TRUE,OFFSET(CalculationsAndCharts!$V$33,B147,0,'Transaction Summary'!$C$2-B147,1),0)+B147,\"\")","v":""},{"$f":"IFERROR(OFFSET(CalculationsAndCharts!$B$32,'Transaction Summary'!B148,0,1,1),\"\")","v":""},{"$f":"IFERROR(OFFSET(CalculationsAndCharts!$D$32,'Transaction Summary'!B148,0,1,1),\"\")","v":""},{"$f":"IFERROR(IF($E$12>$B$15,$E$12,(MATCH(TRUE,OFFSET(CalculationsAndCharts!$Y$33,E147,0,'Transaction Summary'!$C$2-E147,1),0)+E147)),\"\")","v":""},{"$f":"IFERROR(OFFSET(CalculationsAndCharts!$B$32,'Transaction Summary'!E148,0,1,1),\"\")","v":""},{"$f":"IFERROR(OFFSET(CalculationsAndCharts!$D$32,'Transaction Summary'!E148,0,1,1),\"\")","v":""},"","",null,{"$f":"IFERROR(MATCH(TRUE,OFFSET(CalculationsAndCharts!$AE$33,K147,0,'Transaction Summary'!$C$2-K147,1),0)+K147,\"\")","v":""},{"$f":"IFERROR(OFFSET(CalculationsAndCharts!$B$32,'Transaction Summary'!K148,0,1,1),\"\")","v":""},{"$f":"IFERROR(OFFSET(CalculationsAndCharts!$D$32,'Transaction Summary'!K148,0,1,1),\"\")","v":""},{"$f":"IFERROR(IF($N$12>$K$15,$N$12,MATCH(TRUE,OFFSET(CalculationsAndCharts!$AH$33,N147,0,'Transaction Summary'!$C$2-N147,1),0)+N147),\"\")","v":""},{"$f":"IFERROR(OFFSET(CalculationsAndCharts!$B$32,'Transaction Summary'!N148,0,1,1),\"\")","v":""},{"$f":"IFERROR(OFFSET(CalculationsAndCharts!$D$32,'Transaction Summary'!N148,0,1,1),\"\")","v":""},"",""]
[null,{"$f":"IFERROR(MATCH(TRUE,OFFSET(CalculationsAndCharts!$V$33,B148,0,'Transaction Summary'!$C$2-B148,1),0)+B148,\"\")","v":""},{"$f":"IFERROR(OFFSET(CalculationsAndCharts!$B$32,'Transaction Summary'!B149,0,1,1),\"\")","v":""},{"$f":"IFERROR(OFFSET(CalculationsAndCharts!$D$32,'Transaction Summary'!B149,0,1,1),\"\")","v":""},{"$f":"IFERROR(IF($E$12>$B$15,$E$12,(MATCH(TRUE,OFFSET(CalculationsAndCharts!$Y$33,E148,0,'Transaction Summary'!$C$2-E148,1),0)+E148)),\"\")","v":""},{"$f":"IFERROR(OFFSET(CalculationsAndCharts!$B$32,'Transaction Summary'!E149,0,1,1),\"\")","v":""},{"$f":"IFERROR(OFFSET(CalculationsAndCharts!$D$32,'Transaction Summary'!E149,0,1,1),\"\")","v":""},"","",null,{"$f":"IFERROR(MATCH(TRUE,OFFSET(CalculationsAndCharts!$AE$33,K148,0,'Transaction Summary'!$C$2-K148,1),0)+K148,\"\")","v":""},{"$f":"IFERROR(OFFSET(CalculationsAndCharts!$B$32,'Transaction Summary'!K149,0,1,1),\"\")","v":""},{"$f":"IFERROR(OFFSET(CalculationsAndCharts!$D$32,'Transaction Summary'!K149,0,1,1),\"\")","v":""},{"$f":"IFERROR(IF($N$12>$K$15,$N$12,MATCH(TRUE,OFFSET(CalculationsAndCharts!$AH$33,N148,0,'Transaction Summary'!$C$2-N148,1),0)+N148),\"\")","v":""},{"$f":"IFERROR(OFFSET(CalculationsAndCharts!$B$32,'Transaction Summary'!N149,0,1,1),\"\")","v":""},{"$f":"IFERROR(OFFSET(CalculationsAndCharts!$D$32,'Transaction Summary'!N149,0,1,1),\"\")","v":""},"",""]
[null,{"$f":"IFERROR(MATCH(TRUE,OFFSET(CalculationsAndCharts!$V$33,B149,0,'Transaction Summary'!$C$2-B149,1),0)+B149,\"\")","v":""},{"$f":"IFERROR(OFFSET(CalculationsAndCharts!$B$32,'Transaction Summary'!B150,0,1,1),\"\")","v":""},{"$f":"IFERROR(OFFSET(CalculationsAndCharts!$D$32,'Transaction Summary'!B150,0,1,1),\"\")","v":""},{"$f":"IFERROR(IF($E$12>$B$15,$E$12,(MATCH(TRUE,OFFSET(CalculationsAndCharts!$Y$33,E149,0,'Transaction Summary'!$C$2-E149,1),0)+E149)),\"\")","v":""},{"$f":"IFERROR(OFFSET(CalculationsAndCharts!$B$32,'Transaction Summary'!E150,0,1,1),\"\")","v":""},{"$f":"IFERROR(OFFSET(CalculationsAndCharts!$D$32,'Transaction Summary'!E150,0,1,1),\"\")","v":""},"","",null,{"$f":"IFERROR(MATCH(TRUE,OFFSET(CalculationsAndCharts!$AE$33,K149,0,'Transaction Summary'!$C$2-K149,1),0)+K149,\"\")","v":""},{"$f":"IFERROR(OFFSET(CalculationsAndCharts!$B$32,'Transaction Summary'!K150,0,1,1),\"\")","v":""},{"$f":"IFERROR(OFFSET(CalculationsAndCharts!$D$32,'Transaction Summary'!K150,0,1,1),\"\")","v":""},{"$f":"IFERROR(IF($N$12>$K$15,$N$12,MATCH(TRUE,OFFSET(CalculationsAndCharts!$AH$33,N149,0,'Transaction Summary'!$C$2-N149,1),0)+N149),\"\")","v":""},{"$f":"IFERROR(OFFSET(CalculationsAndCharts!$B$32,'Transaction Summary'!N150,0,1,1),\"\")","v":""},{"$f":"IFERROR(OFFSET(CalculationsAndCharts!$D$32,'Transaction Summary'!N150,0,1,1),\"\")","v":""},"",""]
[null,{"$f":"IFERROR(MATCH(TRUE,OFFSET(CalculationsAndCharts!$V$33,B150,0,'Transaction Summary'!$C$2-B150,1),0)+B150,\"\")","v":""},{"$f":"IFERROR(OFFSET(CalculationsAndCharts!$B$32,'Transaction Summary'!B151,0,1,1),\"\")","v":""},{"$f":"IFERROR(OFFSET(CalculationsAndCharts!$D$32,'Transaction Summary'!B151,0,1,1),\"\")","v":""},{"$f":"IFERROR(IF($E$12>$B$15,$E$12,(MATCH(TRUE,OFFSET(CalculationsAndCharts!$Y$33,E150,0,'Transaction Summary'!$C$2-E150,1),0)+E150)),\"\")","v":""},{"$f":"IFERROR(OFFSET(CalculationsAndCharts!$B$32,'Transaction Summary'!E151,0,1,1),\"\")","v":""},{"$f":"IFERROR(OFFSET(CalculationsAndCharts!$D$32,'Transaction Summary'!E151,0,1,1),\"\")","v":""},"","",null,{"$f":"IFERROR(MATCH(TRUE,OFFSET(CalculationsAndCharts!$AE$33,K150,0,'Transaction Summary'!$C$2-K150,1),0)+K150,\"\")","v":""},{"$f":"IFERROR(OFFSET(CalculationsAndCharts!$B$32,'Transaction Summary'!K151,0,1,1),\"\")","v":""},{"$f":"IFERROR(OFFSET(CalculationsAndCharts!$D$32,'Transaction Summary'!K151,0,1,1),\"\")","v":""},{"$f":"IFERROR(IF($N$12>$K$15,$N$12,MATCH(TRUE,OFFSET(CalculationsAndCharts!$AH$33,N150,0,'Transaction Summary'!$C$2-N150,1),0)+N150),\"\")","v":""},{"$f":"IFERROR(OFFSET(CalculationsAndCharts!$B$32,'Transaction Summary'!N151,0,1,1),\"\")","v":""},{"$f":"IFERROR(OFFSET(CalculationsAndCharts!$D$32,'Transaction Summary'!N151,0,1,1),\"\")","v":""},"",""]
[null,{"$f":"IFERROR(MATCH(TRUE,OFFSET(CalculationsAndCharts!$V$33,B151,0,'Transaction Summary'!$C$2-B151,1),0)+B151,\"\")","v":""},{"$f":"IFERROR(OFFSET(CalculationsAndCharts!$B$32,'Transaction Summary'!B152,0,1,1),\"\")","v":""},{"$f":"IFERROR(OFFSET(CalculationsAndCharts!$D$32,'Transaction Summary'!B152,0,1,1),\"\")","v":""},{"$f":"IFERROR(IF($E$12>$B$15,$E$12,(MATCH(TRUE,OFFSET(CalculationsAndCharts!$Y$33,E151,0,'Transaction Summary'!$C$2-E151,1),0)+E151)),\"\")","v":""},{"$f":"IFERROR(OFFSET(CalculationsAndCharts!$B$32,'Transaction Summary'!E152,0,1,1),\"\")","v":""},{"$f":"IFERROR(OFFSET(CalculationsAndCharts!$D$32,'Transaction Summary'!E152,0,1,1),\"\")","v":""},"","",null,{"$f":"IFERROR(MATCH(TRUE,OFFSET(CalculationsAndCharts!$AE$33,K151,0,'Transaction Summary'!$C$2-K151,1),0)+K151,\"\")","v":""},{"$f":"IFERROR(OFFSET(CalculationsAndCharts!$B$32,'Transaction Summary'!K152,0,1,1),\"\")","v":""},{"$f":"IFERROR(OFFSET(CalculationsAndCharts!$D$32,'Transaction Summary'!K152,0,1,1),\"\")","v":""},{"$f":"IFERROR(IF($N$12>$K$15,$N$12,MATCH(TRUE,OFFSET(CalculationsAndCharts!$AH$33,N151,0,'Transaction Summary'!$C$2-N151,1),0)+N151),\"\")","v":""},{"$f":"IFERROR(OFFSET(CalculationsAndCharts!$B$32,'Transaction Summary'!N152,0,1,1),\"\")","v":""},{"$f":"IFERROR(OFFSET(CalculationsAndCharts!$D$32,'Transaction Summary'!N152,0,1,1),\"\")","v":""},"",""]
[null,{"$f":"IFERROR(MATCH(TRUE,OFFSET(CalculationsAndCharts!$V$33,B152,0,'Transaction Summary'!$C$2-B152,1),0)+B152,\"\")","v":""},{"$f":"IFERROR(OFFSET(CalculationsAndCharts!$B$32,'Transaction Summary'!B153,0,1,1),\"\")","v":""},{"$f":"IFERROR(OFFSET(CalculationsAndCharts!$D$32,'Transaction Summary'!B153,0,1,1),\"\")","v":""},{"$f":"IFERROR(IF($E$12>$B$15,$E$12,(MATCH(TRUE,OFFSET(CalculationsAndCharts!$Y$33,E152,0,'Transaction Summary'!$C$2-E152,1),0)+E152)),\"\")","v":""},{"$f":"IFERROR(OFFSET(CalculationsAndCharts!$B$32,'Transaction Summary'!E153,0,1,1),\"\")","v":""},{"$f":"IFERROR(OFFSET(CalculationsAndCharts!$D$32,'Transaction Summary'!E153,0,1,1),\"\")","v":""},"","",null,{"$f":"IFERROR(MATCH(TRUE,OFFSET(CalculationsAndCharts!$AE$33,K152,0,'Transaction Summary'!$C$2-K152,1),0)+K152,\"\")","v":""},{"$f":"IFERROR(OFFSET(CalculationsAndCharts!$B$32,'Transaction Summary'!K153,0,1,1),\"\")","v":""},{"$f":"IFERROR(OFFSET(CalculationsAndCharts!$D$32,'Transaction Summary'!K153,0,1,1),\"\")","v":""},{"$f":"IFERROR(IF($N$12>$K$15,$N$12,MATCH(TRUE,OFFSET(CalculationsAndCharts!$AH$33,N152,0,'Transaction Summary'!$C$2-N152,1),0)+N152),\"\")","v":""},{"$f":"IFERROR(OFFSET(CalculationsAndCharts!$B$32,'Transaction Summary'!N153,0,1,1),\"\")","v":""},{"$f":"IFERROR(OFFSET(CalculationsAndCharts!$D$32,'Transaction Summary'!N153,0,1,1),\"\")","v":""},"",""]
[null,{"$f":"IFERROR(MATCH(TRUE,OFFSET(CalculationsAndCharts!$V$33,B153,0,'Transaction Summary'!$C$2-B153,1),0)+B153,\"\")","v":""},{"$f":"IFERROR(OFFSET(CalculationsAndCharts!$B$32,'Transaction Summary'!B154,0,1,1),\"\")","v":""},{"$f":"IFERROR(OFFSET(CalculationsAndCharts!$D$32,'Transaction Summary'!B154,0,1,1),\"\")","v":""},{"$f":"IFERROR(IF($E$12>$B$15,$E$12,(MATCH(TRUE,OFFSET(CalculationsAndCharts!$Y$33,E153,0,'Transaction Summary'!$C$2-E153,1),0)+E153)),\"\")","v":""},{"$f":"IFERROR(OFFSET(CalculationsAndCharts!$B$32,'Transaction Summary'!E154,0,1,1),\"\")","v":""},{"$f":"IFERROR(OFFSET(CalculationsAndCharts!$D$32,'Transaction Summary'!E154,0,1,1),\"\")","v":""},"","",null,{"$f":"IFERROR(MATCH(TRUE,OFFSET(CalculationsAndCharts!$AE$33,K153,0,'Transaction Summary'!$C$2-K153,1),0)+K153,\"\")","v":""},{"$f":"IFERROR(OFFSET(CalculationsAndCharts!$B$32,'Transaction Summary'!K154,0,1,1),\"\")","v":""},{"$f":"IFERROR(OFFSET(CalculationsAndCharts!$D$32,'Transaction Summary'!K154,0,1,1),\"\")","v":""},{"$f":"IFERROR(IF($N$12>$K$15,$N$12,MATCH(TRUE,OFFSET(CalculationsAndCharts!$AH$33,N153,0,'Transaction Summary'!$C$2-N153,1),0)+N153),\"\")","v":""},{"$f":"IFERROR(OFFSET(CalculationsAndCharts!$B$32,'Transaction Summary'!N154,0,1,1),\"\")","v":""},{"$f":"IFERROR(OFFSET(CalculationsAndCharts!$D$32,'Transaction Summary'!N154,0,1,1),\"\")","v":""},"",""]
[null,{"$f":"IFERROR(MATCH(TRUE,OFFSET(CalculationsAndCharts!$V$33,B154,0,'Transaction Summary'!$C$2-B154,1),0)+B154,\"\")","v":""},{"$f":"IFERROR(OFFSET(CalculationsAndCharts!$B$32,'Transaction Summary'!B155,0,1,1),\"\")","v":""},{"$f":"IFERROR(OFFSET(CalculationsAndCharts!$D$32,'Transaction Summary'!B155,0,1,1),\"\")","v":""},{"$f":"IFERROR(IF($E$12>$B$15,$E$12,(MATCH(TRUE,OFFSET(CalculationsAndCharts!$Y$33,E154,0,'Transaction Summary'!$C$2-E154,1),0)+E154)),\"\")","v":""},{"$f":"IFERROR(OFFSET(CalculationsAndCharts!$B$32,'Transaction Summary'!E155,0,1,1),\"\")","v":""},{"$f":"IFERROR(OFFSET(CalculationsAndCharts!$D$32,'Transaction Summary'!E155,0,1,1),\"\")","v":""},"","",null,{"$f":"IFERROR(MATCH(TRUE,OFFSET(CalculationsAndCharts!$AE$33,K154,0,'Transaction Summary'!$C$2-K154,1),0)+K154,\"\")","v":""},{"$f":"IFERROR(OFFSET(CalculationsAndCharts!$B$32,'Transaction Summary'!K155,0,1,1),\"\")","v":""},{"$f":"IFERROR(OFFSET(CalculationsAndCharts!$D$32,'Transaction Summary'!K155,0,1,1),\"\")","v":""},{"$f":"IFERROR(IF($N$12>$K$15,$N$12,MATCH(TRUE,OFFSET(CalculationsAndCharts!$AH$33,N154,0,'Transaction Summary'!$C$2-N154,1),0)+N154),\"\")","v":""},{"$f":"IFERROR(OFFSET(CalculationsAndCharts!$B$32,'Transaction Summary'!N155,0,1,1),\"\")","v":""},{"$f":"IFERROR(OFFSET(CalculationsAndCharts!$D$32,'Transaction Summary'!N155,0,1,1),\"\")","v":""},"",""]
[null,{"$f":"IFERROR(MATCH(TRUE,OFFSET(CalculationsAndCharts!$V$33,B155,0,'Transaction Summary'!$C$2-B155,1),0)+B155,\"\")","v":""},{"$f":"IFERROR(OFFSET(CalculationsAndCharts!$B$32,'Transaction Summary'!B156,0,1,1),\"\")","v":""},{"$f":"IFERROR(OFFSET(CalculationsAndCharts!$D$32,'Transaction Summary'!B156,0,1,1),\"\")","v":""},{"$f":"IFERROR(IF($E$12>$B$15,$E$12,(MATCH(TRUE,OFFSET(CalculationsAndCharts!$Y$33,E155,0,'Transaction Summary'!$C$2-E155,1),0)+E155)),\"\")","v":""},{"$f":"IFERROR(OFFSET(CalculationsAndCharts!$B$32,'Transaction Summary'!E156,0,1,1),\"\")","v":""},{"$f":"IFERROR(OFFSET(CalculationsAndCharts!$D$32,'Transaction Summary'!E156,0,1,1),\"\")","v":""},"","",null,{"$f":"IFERROR(MATCH(TRUE,OFFSET(CalculationsAndCharts!$AE$33,K155,0,'Transaction Summary'!$C$2-K155,1),0)+K155,\"\")","v":""},{"$f":"IFERROR(OFFSET(CalculationsAndCharts!$B$32,'Transaction Summary'!K156,0,1,1),\"\")","v":""},{"$f":"IFERROR(OFFSET(CalculationsAndCharts!$D$32,'Transaction Summary'!K156,0,1,1),\"\")","v":""},{"$f":"IFERROR(IF($N$12>$K$15,$N$12,MATCH(TRUE,OFFSET(CalculationsAndCharts!$AH$33,N155,0,'Transaction Summary'!$C$2-N155,1),0)+N155),\"\")","v":""},{"$f":"IFERROR(OFFSET(CalculationsAndCharts!$B$32,'Transaction Summary'!N156,0,1,1),\"\")","v":""},{"$f":"IFERROR(OFFSET(CalculationsAndCharts!$D$32,'Transaction Summary'!N156,0,1,1),\"\")","v":""},"",""]
[null,{"$f":"IFERROR(MATCH(TRUE,OFFSET(CalculationsAndCharts!$V$33,B156,0,'Transaction Summary'!$C$2-B156,1),0)+B156,\"\")","v":""},{"$f":"IFERROR(OFFSET(CalculationsAndCharts!$B$32,'Transaction Summary'!B157,0,1,1),\"\")","v":""},{"$f":"IFERROR(OFFSET(CalculationsAndCharts!$D$32,'Transaction Summary'!B157,0,1,1),\"\")","v":""},{"$f":"IFERROR(IF($E$12>$B$15,$E$12,(MATCH(TRUE,OFFSET(CalculationsAndCharts!$Y$33,E156,0,'Transaction Summary'!$C$2-E156,1),0)+E156)),\"\")","v":""},{"$f":"IFERROR(OFFSET(CalculationsAndCharts!$B$32,'Transaction Summary'!E157,0,1,1),\"\")","v":""},{"$f":"IFERROR(OFFSET(CalculationsAndCharts!$D$32,'Transaction Summary'!E157,0,1,1),\"\")","v":""},"","",null,{"$f":"IFERROR(MATCH(TRUE,OFFSET(CalculationsAndCharts!$AE$33,K156,0,'Transaction Summary'!$C$2-K156,1),0)+K156,\"\")","v":""},{"$f":"IFERROR(OFFSET(CalculationsAndCharts!$B$32,'Transaction Summary'!K157,0,1,1),\"\")","v":""},{"$f":"IFERROR(OFFSET(CalculationsAndCharts!$D$32,'Transaction Summary'!K157,0,1,1),\"\")","v":""},{"$f":"IFERROR(IF($N$12>$K$15,$N$12,MATCH(TRUE,OFFSET(CalculationsAndCharts!$AH$33,N156,0,'Transaction Summary'!$C$2-N156,1),0)+N156),\"\")","v":""},{"$f":"IFERROR(OFFSET(CalculationsAndCharts!$B$32,'Transaction Summary'!N157,0,1,1),\"\")","v":""},{"$f":"IFERROR(OFFSET(CalculationsAndCharts!$D$32,'Transaction Summary'!N157,0,1,1),\"\")","v":""},"",""]
[null,{"$f":"IFERROR(MATCH(TRUE,OFFSET(CalculationsAndCharts!$V$33,B157,0,'Transaction Summary'!$C$2-B157,1),0)+B157,\"\")","v":""},{"$f":"IFERROR(OFFSET(CalculationsAndCharts!$B$32,'Transaction Summary'!B158,0,1,1),\"\")","v":""},{"$f":"IFERROR(OFFSET(CalculationsAndCharts!$D$32,'Transaction Summary'!B158,0,1,1),\"\")","v":""},{"$f":"IFERROR(IF($E$12>$B$15,$E$12,(MATCH(TRUE,OFFSET(CalculationsAndCharts!$Y$33,E157,0,'Transaction Summary'!$C$2-E157,1),0)+E157)),\"\")","v":""},{"$f":"IFERROR(OFFSET(CalculationsAndCharts!$B$32,'Transaction Summary'!E158,0,1,1),\"\")","v":""},{"$f":"IFERROR(OFFSET(CalculationsAndCharts!$D$32,'Transaction Summary'!E158,0,1,1),\"\")","v":""},{"$f":"IFERROR(G158-D158,\"\")","v":""},{"$f":"IFERROR(H158+IF(\"\"=I159,0,I159),\"\")","v":""},null,{"$f":"IFERROR(MATCH(TRUE,OFFSET(CalculationsAndCharts!$AE$33,K157,0,'Transaction Summary'!$C$2-K157,1),0)+K157,\"\")","v":""},{"$f":"IFERROR(OFFSET(CalculationsAndCharts!$B$32,'Transaction Summary'!K158,0,1,1),\"\")","v":""},{"$f":"IFERROR(OFFSET(CalculationsAndCharts!$D$32,'Transaction Summary'!K158,0,1,1),\"\")","v":""},{"$f":"IFERROR(IF($N$12>$K$15,$N$12,MATCH(TRUE,OFFSET(CalculationsAndCharts!$AH$33,N157,0,'Transaction Summary'!$C$2-N157,1),0)+N157),\"\")","v":""},{"$f":"IFERROR(OFFSET(CalculationsAndCharts!$B$32,'Transaction Summary'!N158,0,1,1),\"\")","v":""},{"$f":"IFERROR(OFFSET(CalculationsAndCharts!$D$32,'Transaction Summary'!N158,0,1,1),\"\")","v":""},"",""]
[null,{"$f":"IFERROR(MATCH(TRUE,OFFSET(CalculationsAndCharts!$V$33,B158,0,'Transaction Summary'!$C$2-B158,1),0)+B158,\"\")","v":""},{"$f":"IFERROR(OFFSET(CalculationsAndCharts!$B$32,'Transaction Summary'!B159,0,1,1),\"\")","v":""},{"$f":"IFERROR(OFFSET(CalculationsAndCharts!$D$32,'Transaction Summary'!B159,0,1,1),\"\")","v":""},{"$f":"IFERROR(IF($E$12>$B$15,$E$12,(MATCH(TRUE,OFFSET(CalculationsAndCharts!$Y$33,E158,0,'Transaction Summary'!$C$2-E158,1),0)+E158)),\"\")","v":""},{"$f":"IFERROR(OFFSET(CalculationsAndCharts!$B$32,'Transaction Summary'!E159,0,1,1),\"\")","v":""},{"$f":"IFERROR(OFFSET(CalculationsAndCharts!$D$32,'Transaction Summary'!E159,0,1,1),\"\")","v":""},"","",null,{"$f":"IFERROR(MATCH(TRUE,OFFSET(CalculationsAndCharts!$AE$33,K158,0,'Transaction Summary'!$C$2-K158,1),0)+K158,\"\")","v":""},{"$f":"IFERROR(OFFSET(CalculationsAndCharts!$B$32,'Transaction Summary'!K159,0,1,1),\"\")","v":""},{"$f":"IFERROR(OFFSET(CalculationsAndCharts!$D$32,'Transaction Summary'!K159,0,1,1),\"\")","v":""},{"$f":"IFERROR(IF($N$12>$K$15,$N$12,MATCH(TRUE,OFFSET(CalculationsAndCharts!$AH$33,N158,0,'Transaction Summary'!$C$2-N158,1),0)+N158),\"\")","v":""},{"$f":"IFERROR(OFFSET(CalculationsAndCharts!$B$32,'Transaction Summary'!N159,0,1,1),\"\")","v":""},{"$f":"IFERROR(OFFSET(CalculationsAndCharts!$D$32,'Transaction Summary'!N159,0,1,1),\"\")","v":""},"",""]
[null,{"$f":"IFERROR(MATCH(TRUE,OFFSET(CalculationsAndCharts!$V$33,B159,0,'Transaction Summary'!$C$2-B159,1),0)+B159,\"\")","v":""},{"$f":"IFERROR(OFFSET(CalculationsAndCharts!$B$32,'Transaction Summary'!B160,0,1,1),\"\")","v":""},{"$f":"IFERROR(OFFSET(CalculationsAndCharts!$D$32,'Transaction Summary'!B160,0,1,1),\"\")","v":""},{"$f":"IFERROR(IF($E$12>$B$15,$E$12,(MATCH(TRUE,OFFSET(CalculationsAndCharts!$Y$33,E159,0,'Transaction Summary'!$C$2-E159,1),0)+E159)),\"\")","v":""},{"$f":"IFERROR(OFFSET(CalculationsAndCharts!$B$32,'Transaction Summary'!E160,0,1,1),\"\")","v":""},{"$f":"IFERROR(OFFSET(CalculationsAndCharts!$D$32,'Transaction Summary'!E160,0,1,1),\"\")","v":""},"","",null,{"$f":"IFERROR(MATCH(TRUE,OFFSET(CalculationsAndCharts!$AE$33,K159,0,'Transaction Summary'!$C$2-K159,1),0)+K159,\"\")","v":""},{"$f":"IFERROR(OFFSET(CalculationsAndCharts!$B$32,'Transaction Summary'!K160,0,1,1),\"\")","v":""},{"$f":"IFERROR(OFFSET(CalculationsAndCharts!$D$32,'Transaction Summary'!K160,0,1,1),\"\")","v":""},{"$f":"IFERROR(IF($N$12>$K$15,$N$12,MATCH(TRUE,OFFSET(CalculationsAndCharts!$AH$33,N159,0,'Transaction Summary'!$C$2-N159,1),0)+N159),\"\")","v":""},{"$f":"IFERROR(OFFSET(CalculationsAndCharts!$B$32,'Transaction Summary'!N160,0,1,1),\"\")","v":""},{"$f":"IFERROR(OFFSET(CalculationsAndCharts!$D$32,'Transaction Summary'!N160,0,1,1),\"\")","v":""},"",""]
[null,{"$f":"IFERROR(MATCH(TRUE,OFFSET(CalculationsAndCharts!$V$33,B160,0,'Transaction Summary'!$C$2-B160,1),0)+B160,\"\")","v":""},{"$f":"IFERROR(OFFSET(CalculationsAndCharts!$B$32,'Transaction Summary'!B161,0,1,1),\"\")","v":""},{"$f":"IFERROR(OFFSET(CalculationsAndCharts!$D$32,'Transaction Summary'!B161,0,1,1),\"\")","v":""},{"$f":"IFERROR(IF($E$12>$B$15,$E$12,(MATCH(TRUE,OFFSET(CalculationsAndCharts!$Y$33,E160,0,'Transaction Summary'!$C$2-E160,1),0)+E160)),\"\")","v":""},{"$f":"IFERROR(OFFSET(CalculationsAndCharts!$B$32,'Transaction Summary'!E161,0,1,1),\"\")","v":""},{"$f":"IFERROR(OFFSET(CalculationsAndCharts!$D$32,'Transaction Summary'!E161,0,1,1),\"\")","v":""},"","",null,{"$f":"IFERROR(MATCH(TRUE,OFFSET(CalculationsAndCharts!$AE$33,K160,0,'Transaction Summary'!$C$2-K160,1),0)+K160,\"\")","v":""},{"$f":"IFERROR(OFFSET(CalculationsAndCharts!$B$32,'Transaction Summary'!K161,0,1,1),\"\")","v":""},{"$f":"IFERROR(OFFSET(CalculationsAndCharts!$D$32,'Transaction Summary'!K161,0,1,1),\"\")","v":""},{"$f":"IFERROR(IF($N$12>$K$15,$N$12,MATCH(TRUE,OFFSET(CalculationsAndCharts!$AH$33,N160,0,'Transaction Summary'!$C$2-N160,1),0)+N160),\"\")","v":""},{"$f":"IFERROR(OFFSET(CalculationsAndCharts!$B$32,'Transaction Summary'!N161,0,1,1),\"\")","v":""},{"$f":"IFERROR(OFFSET(CalculationsAndCharts!$D$32,'Transaction Summary'!N161,0,1,1),\"\")","v":""},"",""]
[null,{"$f":"IFERROR(MATCH(TRUE,OFFSET(CalculationsAndCharts!$V$33,B161,0,'Transaction Summary'!$C$2-B161,1),0)+B161,\"\")","v":""},{"$f":"IFERROR(OFFSET(CalculationsAndCharts!$B$32,'Transaction Summary'!B162,0,1,1),\"\")","v":""},{"$f":"IFERROR(OFFSET(CalculationsAndCharts!$D$32,'Transaction Summary'!B162,0,1,1),\"\")","v":""},{"$f":"IFERROR(IF($E$12>$B$15,$E$12,(MATCH(TRUE,OFFSET(CalculationsAndCharts!$Y$33,E161,0,'Transaction Summary'!$C$2-E161,1),0)+E161)),\"\")","v":""},{"$f":"IFERROR(OFFSET(CalculationsAndCharts!$B$32,'Transaction Summary'!E162,0,1,1),\"\")","v":""},{"$f":"IFERROR(OFFSET(CalculationsAndCharts!$D$32,'Transaction Summary'!E162,0,1,1),\"\")","v":""},"","",null,{"$f":"IFERROR(MATCH(TRUE,OFFSET(CalculationsAndCharts!$AE$33,K161,0,'Transaction Summary'!$C$2-K161,1),0)+K161,\"\")","v":""},{"$f":"IFERROR(OFFSET(CalculationsAndCharts!$B$32,'Transaction Summary'!K162,0,1,1),\"\")","v":""},{"$f":"IFERROR(OFFSET(CalculationsAndCharts!$D$32,'Transaction Summary'!K162,0,1,1),\"\")","v":""},{"$f":"IFERROR(IF($N$12>$K$15,$N$12,MATCH(TRUE,OFFSET(CalculationsAndCharts!$AH$33,N161,0,'Transaction Summary'!$C$2-N161,1),0)+N161),\"\")","v":""},{"$f":"IFERROR(OFFSET(CalculationsAndCharts!$B$32,'Transaction Summary'!N162,0,1,1),\"\")","v":""},{"$f":"IFERROR(OFFSET(CalculationsAndCharts!$D$32,'Transaction Summary'!N162,0,1,1),\"\")","v":""},"",""]
[null,{"$f":"IFERROR(MATCH(TRUE,OFFSET(CalculationsAndCharts!$V$33,B162,0,'Transaction Summary'!$C$2-B162,1),0)+B162,\"\")","v":""},{"$f":"IFERROR(OFFSET(CalculationsAndCharts!$B$32,'Transaction Summary'!B163,0,1,1),\"\")","v":""},{"$f":"IFERROR(OFFSET(CalculationsAndCharts!$D$32,'Transaction Summary'!B163,0,1,1),\"\")","v":""},{"$f":"IFERROR(IF($E$12>$B$15,$E$12,(MATCH(TRUE,OFFSET(CalculationsAndCharts!$Y$33,E162,0,'Transaction Summary'!$C$2-E162,1),0)+E162)),\"\")","v":""},{"$f":"IFERROR(OFFSET(CalculationsAndCharts!$B$32,'Transaction Summary'!E163,0,1,1),\"\")","v":""},{"$f":"IFERROR(OFFSET(CalculationsAndCharts!$D$32,'Transaction Summary'!E163,0,1,1),\"\")","v":""},"","",null,{"$f":"IFERROR(MATCH(TRUE,OFFSET(CalculationsAndCharts!$AE$33,K162,0,'Transaction Summary'!$C$2-K162,1),0)+K162,\"\")","v":""},{"$f":"IFERROR(OFFSET(CalculationsAndCharts!$B$32,'Transaction Summary'!K163,0,1,1),\"\")","v":""},{"$f":"IFERROR(OFFSET(CalculationsAndCharts!$D$32,'Transaction Summary'!K163,0,1,1),\"\")","v":""},{"$f":"IFERROR(IF($N$12>$K$15,$N$12,MATCH(TRUE,OFFSET(CalculationsAndCharts!$AH$33,N162,0,'Transaction Summary'!$C$2-N162,1),0)+N162),\"\")","v":""},{"$f":"IFERROR(OFFSET(CalculationsAndCharts!$B$32,'Transaction Summary'!N163,0,1,1),\"\")","v":""},{"$f":"IFERROR(OFFSET(CalculationsAndCharts!$D$32,'Transaction Summary'!N163,0,1,1),\"\")","v":""},"",""]
[null,{"$f":"IFERROR(MATCH(TRUE,OFFSET(CalculationsAndCharts!$V$33,B163,0,'Transaction Summary'!$C$2-B163,1),0)+B163,\"\")","v":""},{"$f":"IFERROR(OFFSET(CalculationsAndCharts!$B$32,'Transaction Summary'!B164,0,1,1),\"\")","v":""},{"$f":"IFERROR(OFFSET(CalculationsAndCharts!$D$32,'Transaction Summary'!B164,0,1,1),\"\")","v":""},{"$f":"IFERROR(IF($E$12>$B$15,$E$12,(MATCH(TRUE,OFFSET(CalculationsAndCharts!$Y$33,E163,0,'Transaction Summary'!$C$2-E163,1),0)+E163)),\"\")","v":""},{"$f":"IFERROR(OFFSET(CalculationsAndCharts!$B$32,'Transaction Summary'!E164,0,1,1),\"\")","v":""},{"$f":"IFERROR(OFFSET(CalculationsAndCharts!$D$32,'Transaction Summary'!E164,0,1,1),\"\")","v":""},"","",null,{"$f":"IFERROR(MATCH(TRUE,OFFSET(CalculationsAndCharts!$AE$33,K163,0,'Transaction Summary'!$C$2-K163,1),0)+K163,\"\")","v":""},{"$f":"IFERROR(OFFSET(CalculationsAndCharts!$B$32,'Transaction Summary'!K164,0,1,1),\"\")","v":""},{"$f":"IFERROR(OFFSET(CalculationsAndCharts!$D$32,'Transaction Summary'!K164,0,1,1),\"\")","v":""},{"$f":"IFERROR(IF($N$12>$K$15,$N$12,MATCH(TRUE,OFFSET(CalculationsAndCharts!$AH$33,N163,0,'Transaction Summary'!$C$2-N163,1),0)+N163),\"\")","v":""},{"$f":"IFERROR(OFFSET(CalculationsAndCharts!$B$32,'Transaction Summary'!N164,0,1,1),\"\")","v":""},{"$f":"IFERROR(OFFSET(CalculationsAndCharts!$D$32,'Transaction Summary'!N164,0,1,1),\"\")","v":""},"",""]
[null,{"$f":"IFERROR(MATCH(TRUE,OFFSET(CalculationsAndCharts!$V$33,B164,0,'Transaction Summary'!$C$2-B164,1),0)+B164,\"\")","v":""},{"$f":"IFERROR(OFFSET(CalculationsAndCharts!$B$32,'Transaction Summary'!B165,0,1,1),\"\")","v":""},{"$f":"IFERROR(OFFSET(CalculationsAndCharts!$D$32,'Transaction Summary'!B165,0,1,1),\"\")","v":""},{"$f":"IFERROR(IF($E$12>$B$15,$E$12,(MATCH(TRUE,OFFSET(CalculationsAndCharts!$Y$33,E164,0,'Transaction Summary'!$C$2-E164,1),0)+E164)),\"\")","v":""},{"$f":"IFERROR(OFFSET(CalculationsAndCharts!$B$32,'Transaction Summary'!E165,0,1,1),\"\")","v":""},{"$f":"IFERROR(OFFSET(CalculationsAndCharts!$D$32,'Transaction Summary'!E165,0,1,1),\"\")","v":""},"","",null,{"$f":"IFERROR(MATCH(TRUE,OFFSET(CalculationsAndCharts!$AE$33,K164,0,'Transaction Summary'!$C$2-K164,1),0)+K164,\"\")","v":""},{"$f":"IFERROR(OFFSET(CalculationsAndCharts!$B$32,'Transaction Summary'!K165,0,1,1),\"\")","v":""},{"$f":"IFERROR(OFFSET(CalculationsAndCharts!$D$32,'Transaction Summary'!K165,0,1,1),\"\")","v":""},{"$f":"IFERROR(IF($N$12>$K$15,$N$12,MATCH(TRUE,OFFSET(CalculationsAndCharts!$AH$33,N164,0,'Transaction Summary'!$C$2-N164,1),0)+N164),\"\")","v":""},{"$f":"IFERROR(OFFSET(CalculationsAndCharts!$B$32,'Transaction Summary'!N165,0,1,1),\"\")","v":""},{"$f":"IFERROR(OFFSET(CalculationsAndCharts!$D$32,'Transaction Summary'!N165,0,1,1),\"\")","v":""},"",""]
[null,{"$f":"IFERROR(MATCH(TRUE,OFFSET(CalculationsAndCharts!$V$33,B165,0,'Transaction Summary'!$C$2-B165,1),0)+B165,\"\")","v":""},{"$f":"IFERROR(OFFSET(CalculationsAndCharts!$B$32,'Transaction Summary'!B166,0,1,1),\"\")","v":""},{"$f":"IFERROR(OFFSET(CalculationsAndCharts!$D$32,'Transaction Summary'!B166,0,1,1),\"\")","v":""},{"$f":"IFERROR(IF($E$12>$B$15,$E$12,(MATCH(TRUE,OFFSET(CalculationsAndCharts!$Y$33,E165,0,'Transaction Summary'!$C$2-E165,1),0)+E165)),\"\")","v":""},{"$f":"IFERROR(OFFSET(CalculationsAndCharts!$B$32,'Transaction Summary'!E166,0,1,1),\"\")","v":""},{"$f":"IFERROR(OFFSET(CalculationsAndCharts!$D$32,'Transaction Summary'!E166,0,1,1),\"\")","v":""},"","",null,{"$f":"IFERROR(MATCH(TRUE,OFFSET(CalculationsAndCharts!$AE$33,K165,0,'Transaction Summary'!$C$2-K165,1),0)+K165,\"\")","v":""},{"$f":"IFERROR(OFFSET(CalculationsAndCharts!$B$32,'Transaction Summary'!K166,0,1,1),\"\")","v":""},{"$f":"IFERROR(OFFSET(CalculationsAndCharts!$D$32,'Transaction Summary'!K166,0,1,1),\"\")","v":""},{"$f":"IFERROR(IF($N$12>$K$15,$N$12,MATCH(TRUE,OFFSET(CalculationsAndCharts!$AH$33,N165,0,'Transaction Summary'!$C$2-N165,1),0)+N165),\"\")","v":""},{"$f":"IFERROR(OFFSET(CalculationsAndCharts!$B$32,'Transaction Summary'!N166,0,1,1),\"\")","v":""},{"$f":"IFERROR(OFFSET(CalculationsAndCharts!$D$32,'Transaction Summary'!N166,0,1,1),\"\")","v":""},"",""]
[null,{"$f":"IFERROR(MATCH(TRUE,OFFSET(CalculationsAndCharts!$V$33,B166,0,'Transaction Summary'!$C$2-B166,1),0)+B166,\"\")","v":""},{"$f":"IFERROR(OFFSET(CalculationsAndCharts!$B$32,'Transaction Summary'!B167,0,1,1),\"\")","v":""},{"$f":"IFERROR(OFFSET(CalculationsAndCharts!$D$32,'Transaction Summary'!B167,0,1,1),\"\")","v":""},{"$f":"IFERROR(IF($E$12>$B$15,$E$12,(MATCH(TRUE,OFFSET(CalculationsAndCharts!$Y$33,E166,0,'Transaction Summary'!$C$2-E166,1),0)+E166)),\"\")","v":""},{"$f":"IFERROR(OFFSET(CalculationsAndCharts!$B$32,'Transaction Summary'!E167,0,1,1),\"\")","v":""},{"$f":"IFERROR(OFFSET(CalculationsAndCharts!$D$32,'Transaction Summary'!E167,0,1,1),\"\")","v":""},"","",null,{"$f":"IFERROR(MATCH(TRUE,OFFSET(CalculationsAndCharts!$AE$33,K166,0,'Transaction Summary'!$C$2-K166,1),0)+K166,\"\")","v":""},{"$f":"IFERROR(OFFSET(CalculationsAndCharts!$B$32,'Transaction Summary'!K167,0,1,1),\"\")","v":""},{"$f":"IFERROR(OFFSET(CalculationsAndCharts!$D$32,'Transaction Summary'!K167,0,1,1),\"\")","v":""},{"$f":"IFERROR(IF($N$12>$K$15,$N$12,MATCH(TRUE,OFFSET(CalculationsAndCharts!$AH$33,N166,0,'Transaction Summary'!$C$2-N166,1),0)+N166),\"\")","v":""},{"$f":"IFERROR(OFFSET(CalculationsAndCharts!$B$32,'Transaction Summary'!N167,0,1,1),\"\")","v":""},{"$f":"IFERROR(OFFSET(CalculationsAndCharts!$D$32,'Transaction Summary'!N167,0,1,1),\"\")","v":""},"",""]
[null,{"$f":"IFERROR(MATCH(TRUE,OFFSET(CalculationsAndCharts!$V$33,B167,0,'Transaction Summary'!$C$2-B167,1),0)+B167,\"\")","v":""},{"$f":"IFERROR(OFFSET(CalculationsAndCharts!$B$32,'Transaction Summary'!B168,0,1,1),\"\")","v":""},{"$f":"IFERROR(OFFSET(CalculationsAndCharts!$D$32,'Transaction Summary'!B168,0,1,1),\"\")","v":""},{"$f":"IFERROR(IF($E$12>$B$15,$E$12,(MATCH(TRUE,OFFSET(CalculationsAndCharts!$Y$33,E167,0,'Transaction Summary'!$C$2-E167,1),0)+E167)),\"\")","v":""},{"$f":"IFERROR(OFFSET(CalculationsAndCharts!$B$32,'Transaction Summary'!E168,0,1,1),\"\")","v":""},{"$f":"IFERROR(OFFSET(CalculationsAndCharts!$D$32,'Transaction Summary'!E168,0,1,1),\"\")","v":""},"","",null,{"$f":"IFERROR(MATCH(TRUE,OFFSET(CalculationsAndCharts!$AE$33,K167,0,'Transaction Summary'!$C$2-K167,1),0)+K167,\"\")","v":""},{"$f":"IFERROR(OFFSET(CalculationsAndCharts!$B$32,'Transaction Summary'!K168,0,1,1),\"\")","v":""},{"$f":"IFERROR(OFFSET(CalculationsAndCharts!$D$32,'Transaction Summary'!K168,0,1,1),\"\")","v":""},{"$f":"IFERROR(IF($N$12>$K$15,$N$12,MATCH(TRUE,OFFSET(CalculationsAndCharts!$AH$33,N167,0,'Transaction Summary'!$C$2-N167,1),0)+N167),\"\")","v":""},{"$f":"IFERROR(OFFSET(CalculationsAndCharts!$B$32,'Transaction Summary'!N168,0,1,1),\"\")","v":""},{"$f":"IFERROR(OFFSET(CalculationsAndCharts!$D$32,'Transaction Summary'!N168,0,1,1),\"\")","v":""},"",""]
[null,{"$f":"IFERROR(MATCH(TRUE,OFFSET(CalculationsAndCharts!$V$33,B168,0,'Transaction Summary'!$C$2-B168,1),0)+B168,\"\")","v":""},{"$f":"IFERROR(OFFSET(CalculationsAndCharts!$B$32,'Transaction Summary'!B169,0,1,1),\"\")","v":""},{"$f":"IFERROR(OFFSET(CalculationsAndCharts!$D$32,'Transaction Summary'!B169,0,1,1),\"\")","v":""},{"$f":"IFERROR(IF($E$12>$B$15,$E$12,(MATCH(TRUE,OFFSET(CalculationsAndCharts!$Y$33,E168,0,'Transaction Summary'!$C$2-E168,1),0)+E168)),\"\")","v":""},{"$f":"IFERROR(OFFSET(CalculationsAndCharts!$B$32,'Transaction Summary'!E169,0,1,1),\"\")","v":""},{"$f":"IFERROR(OFFSET(CalculationsAndCharts!$D$32,'Transaction Summary'!E169,0,1,1),\"\")","v":""},"","",null,{"$f":"IFERROR(MATCH(TRUE,OFFSET(CalculationsAndCharts!$AE$33,K168,0,'Transaction Summary'!$C$2-K168,1),0)+K168,\"\")","v":""},{"$f":"IFERROR(OFFSET(CalculationsAndCharts!$B$32,'Transaction Summary'!K169,0,1,1),\"\")","v":""},{"$f":"IFERROR(OFFSET(CalculationsAndCharts!$D$32,'Transaction Summary'!K169,0,1,1),\"\")","v":""},{"$f":"IFERROR(IF($N$12>$K$15,$N$12,MATCH(TRUE,OFFSET(CalculationsAndCharts!$AH$33,N168,0,'Transaction Summary'!$C$2-N168,1),0)+N168),\"\")","v":""},{"$f":"IFERROR(OFFSET(CalculationsAndCharts!$B$32,'Transaction Summary'!N169,0,1,1),\"\")","v":""},{"$f":"IFERROR(OFFSET(CalculationsAndCharts!$D$32,'Transaction Summary'!N169,0,1,1),\"\")","v":""},"",""]
[null,{"$f":"IFERROR(MATCH(TRUE,OFFSET(CalculationsAndCharts!$V$33,B169,0,'Transaction Summary'!$C$2-B169,1),0)+B169,\"\")","v":""},{"$f":"IFERROR(OFFSET(CalculationsAndCharts!$B$32,'Transaction Summary'!B170,0,1,1),\"\")","v":""},{"$f":"IFERROR(OFFSET(CalculationsAndCharts!$D$32,'Transaction Summary'!B170,0,1,1),\"\")","v":""},{"$f":"IFERROR(IF($E$12>$B$15,$E$12,(MATCH(TRUE,OFFSET(CalculationsAndCharts!$Y$33,E169,0,'Transaction Summary'!$C$2-E169,1),0)+E169)),\"\")","v":""},{"$f":"IFERROR(OFFSET(CalculationsAndCharts!$B$32,'Transaction Summary'!E170,0,1,1),\"\")","v":""},{"$f":"IFERROR(OFFSET(CalculationsAndCharts!$D$32,'Transaction Summary'!E170,0,1,1),\"\")","v":""},"","",null,{"$f":"IFERROR(MATCH(TRUE,OFFSET(CalculationsAndCharts!$AE$33,K169,0,'Transaction Summary'!$C$2-K169,1),0)+K169,\"\")","v":""},{"$f":"IFERROR(OFFSET(CalculationsAndCharts!$B$32,'Transaction Summary'!K170,0,1,1),\"\")","v":""},{"$f":"IFERROR(OFFSET(CalculationsAndCharts!$D$32,'Transaction Summary'!K170,0,1,1),\"\")","v":""},{"$f":"IFERROR(IF($N$12>$K$15,$N$12,MATCH(TRUE,OFFSET(CalculationsAndCharts!$AH$33,N169,0,'Transaction Summary'!$C$2-N169,1),0)+N169),\"\")","v":""},{"$f":"IFERROR(OFFSET(CalculationsAndCharts!$B$32,'Transaction Summary'!N170,0,1,1),\"\")","v":""},{"$f":"IFERROR(OFFSET(CalculationsAndCharts!$D$32,'Transaction Summary'!N170,0,1,1),\"\")","v":""},"",""]
[null,{"$f":"IFERROR(MATCH(TRUE,OFFSET(CalculationsAndCharts!$V$33,B170,0,'Transaction Summary'!$C$2-B170,1),0)+B170,\"\")","v":""},{"$f":"IFERROR(OFFSET(CalculationsAndCharts!$B$32,'Transaction Summary'!B171,0,1,1),\"\")","v":""},{"$f":"IFERROR(OFFSET(CalculationsAndCharts!$D$32,'Transaction Summary'!B171,0,1,1),\"\")","v":""},{"$f":"IFERROR(IF($E$12>$B$15,$E$12,(MATCH(TRUE,OFFSET(CalculationsAndCharts!$Y$33,E170,0,'Transaction Summary'!$C$2-E170,1),0)+E170)),\"\")","v":""},{"$f":"IFERROR(OFFSET(CalculationsAndCharts!$B$32,'Transaction Summary'!E171,0,1,1),\"\")","v":""},{"$f":"IFERROR(OFFSET(CalculationsAndCharts!$D$32,'Transaction Summary'!E171,0,1,1),\"\")","v":""},"","",null,{"$f":"IFERROR(MATCH(TRUE,OFFSET(CalculationsAndCharts!$AE$33,K170,0,'Transaction Summary'!$C$2-K170,1),0)+K170,\"\")","v":""},{"$f":"IFERROR(OFFSET(CalculationsAndCharts!$B$32,'Transaction Summary'!K171,0,1,1),\"\")","v":""},{"$f":"IFERROR(OFFSET(CalculationsAndCharts!$D$32,'Transaction Summary'!K171,0,1,1),\"\")","v":""},{"$f":"IFERROR(IF($N$12>$K$15,$N$12,MATCH(TRUE,OFFSET(CalculationsAndCharts!$AH$33,N170,0,'Transaction Summary'!$C$2-N170,1),0)+N170),\"\")","v":""},{"$f":"IFERROR(OFFSET(CalculationsAndCharts!$B$32,'Transaction Summary'!N171,0,1,1),\"\")","v":""},{"$f":"IFERROR(OFFSET(CalculationsAndCharts!$D$32,'Transaction Summary'!N171,0,1,1),\"\")","v":""},"",""]
[null,{"$f":"IFERROR(MATCH(TRUE,OFFSET(CalculationsAndCharts!$V$33,B171,0,'Transaction Summary'!$C$2-B171,1),0)+B171,\"\")","v":""},{"$f":"IFERROR(OFFSET(CalculationsAndCharts!$B$32,'Transaction Summary'!B172,0,1,1),\"\")","v":""},{"$f":"IFERROR(OFFSET(CalculationsAndCharts!$D$32,'Transaction Summary'!B172,0,1,1),\"\")","v":""},{"$f":"IFERROR(IF($E$12>$B$15,$E$12,(MATCH(TRUE,OFFSET(CalculationsAndCharts!$Y$33,E171,0,'Transaction Summary'!$C$2-E171,1),0)+E171)),\"\")","v":""},{"$f":"IFERROR(OFFSET(CalculationsAndCharts!$B$32,'Transaction Summary'!E172,0,1,1),\"\")","v":""},{"$f":"IFERROR(OFFSET(CalculationsAndCharts!$D$32,'Transaction Summary'!E172,0,1,1),\"\")","v":""},"","",null,{"$f":"IFERROR(MATCH(TRUE,OFFSET(CalculationsAndCharts!$AE$33,K171,0,'Transaction Summary'!$C$2-K171,1),0)+K171,\"\")","v":""},{"$f":"IFERROR(OFFSET(CalculationsAndCharts!$B$32,'Transaction Summary'!K172,0,1,1),\"\")","v":""},{"$f":"IFERROR(OFFSET(CalculationsAndCharts!$D$32,'Transaction Summary'!K172,0,1,1),\"\")","v":""},{"$f":"IFERROR(IF($N$12>$K$15,$N$12,MATCH(TRUE,OFFSET(CalculationsAndCharts!$AH$33,N171,0,'Transaction Summary'!$C$2-N171,1),0)+N171),\"\")","v":""},{"$f":"IFERROR(OFFSET(CalculationsAndCharts!$B$32,'Transaction Summary'!N172,0,1,1),\"\")","v":""},{"$f":"IFERROR(OFFSET(CalculationsAndCharts!$D$32,'Transaction Summary'!N172,0,1,1),\"\")","v":""},"",""]
[null,{"$f":"IFERROR(MATCH(TRUE,OFFSET(CalculationsAndCharts!$V$33,B172,0,'Transaction Summary'!$C$2-B172,1),0)+B172,\"\")","v":""},{"$f":"IFERROR(OFFSET(CalculationsAndCharts!$B$32,'Transaction Summary'!B173,0,1,1),\"\")","v":""},{"$f":"IFERROR(OFFSET(CalculationsAndCharts!$D$32,'Transaction Summary'!B173,0,1,1),\"\")","v":""},{"$f":"IFERROR(IF($E$12>$B$15,$E$12,(MATCH(TRUE,OFFSET(CalculationsAndCharts!$Y$33,E172,0,'Transaction Summary'!$C$2-E172,1),0)+E172)),\"\")","v":""},{"$f":"IFERROR(OFFSET(CalculationsAndCharts!$B$32,'Transaction Summary'!E173,0,1,1),\"\")","v":""},{"$f":"IFERROR(OFFSET(CalculationsAndCharts!$D$32,'Transaction Summary'!E173,0,1,1),\"\")","v":""},"","",null,{"$f":"IFERROR(MATCH(TRUE,OFFSET(CalculationsAndCharts!$AE$33,K172,0,'Transaction Summary'!$C$2-K172,1),0)+K172,\"\")","v":""},{"$f":"IFERROR(OFFSET(CalculationsAndCharts!$B$32,'Transaction Summary'!K173,0,1,1),\"\")","v":""},{"$f":"IFERROR(OFFSET(CalculationsAndCharts!$D$32,'Transaction Summary'!K173,0,1,1),\"\")","v":""},{"$f":"IFERROR(IF($N$12>$K$15,$N$12,MATCH(TRUE,OFFSET(CalculationsAndCharts!$AH$33,N172,0,'Transaction Summary'!$C$2-N172,1),0)+N172),\"\")","v":""},{"$f":"IFERROR(OFFSET(CalculationsAndCharts!$B$32,'Transaction Summary'!N173,0,1,1),\"\")","v":""},{"$f":"IFERROR(OFFSET(CalculationsAndCharts!$D$32,'Transaction Summary'!N173,0,1,1),\"\")","v":""},"",""]
[null,{"$f":"IFERROR(MATCH(TRUE,OFFSET(CalculationsAndCharts!$V$33,B173,0,'Transaction Summary'!$C$2-B173,1),0)+B173,\"\")","v":""},{"$f":"IFERROR(OFFSET(CalculationsAndCharts!$B$32,'Transaction Summary'!B174,0,1,1),\"\")","v":""},{"$f":"IFERROR(OFFSET(CalculationsAndCharts!$D$32,'Transaction Summary'!B174,0,1,1),\"\")","v":""},{"$f":"IFERROR(IF($E$12>$B$15,$E$12,(MATCH(TRUE,OFFSET(CalculationsAndCharts!$Y$33,E173,0,'Transaction Summary'!$C$2-E173,1),0)+E173)),\"\")","v":""},{"$f":"IFERROR(OFFSET(CalculationsAndCharts!$B$32,'Transaction Summary'!E174,0,1,1),\"\")","v":""},{"$f":"IFERROR(OFFSET(CalculationsAndCharts!$D$32,'Transaction Summary'!E174,0,1,1),\"\")","v":""},"","",null,{"$f":"IFERROR(MATCH(TRUE,OFFSET(CalculationsAndCharts!$AE$33,K173,0,'Transaction Summary'!$C$2-K173,1),0)+K173,\"\")","v":""},{"$f":"IFERROR(OFFSET(CalculationsAndCharts!$B$32,'Transaction Summary'!K174,0,1,1),\"\")","v":""},{"$f":"IFERROR(OFFSET(CalculationsAndCharts!$D$32,'Transaction Summary'!K174,0,1,1),\"\")","v":""},{"$f":"IFERROR(IF($N$12>$K$15,$N$12,MATCH(TRUE,OFFSET(CalculationsAndCharts!$AH$33,N173,0,'Transaction Summary'!$C$2-N173,1),0)+N173),\"\")","v":""},{"$f":"IFERROR(OFFSET(CalculationsAndCharts!$B$32,'Transaction Summary'!N174,0,1,1),\"\")","v":""},{"$f":"IFERROR(OFFSET(CalculationsAndCharts!$D$32,'Transaction Summary'!N174,0,1,1),\"\")","v":""},"",""]
[null,{"$f":"IFERROR(MATCH(TRUE,OFFSET(CalculationsAndCharts!$V$33,B174,0,'Transaction Summary'!$C$2-B174,1),0)+B174,\"\")","v":""},{"$f":"IFERROR(OFFSET(CalculationsAndCharts!$B$32,'Transaction Summary'!B175,0,1,1),\"\")","v":""},{"$f":"IFERROR(OFFSET(CalculationsAndCharts!$D$32,'Transaction Summary'!B175,0,1,1),\"\")","v":""},{"$f":"IFERROR(IF($E$12>$B$15,$E$12,(MATCH(TRUE,OFFSET(CalculationsAndCharts!$Y$33,E174,0,'Transaction Summary'!$C$2-E174,1),0)+E174)),\"\")","v":""},{"$f":"IFERROR(OFFSET(CalculationsAndCharts!$B$32,'Transaction Summary'!E175,0,1,1),\"\")","v":""},{"$f":"IFERROR(OFFSET(CalculationsAndCharts!$D$32,'Transaction Summary'!E175,0,1,1),\"\")","v":""},"","",null,{"$f":"IFERROR(MATCH(TRUE,OFFSET(CalculationsAndCharts!$AE$33,K174,0,'Transaction Summary'!$C$2-K174,1),0)+K174,\"\")","v":""},{"$f":"IFERROR(OFFSET(CalculationsAndCharts!$B$32,'Transaction Summary'!K175,0,1,1),\"\")","v":""},{"$f":"IFERROR(OFFSET(CalculationsAndCharts!$D$32,'Transaction Summary'!K175,0,1,1),\"\")","v":""},{"$f":"IFERROR(IF($N$12>$K$15,$N$12,MATCH(TRUE,OFFSET(CalculationsAndCharts!$AH$33,N174,0,'Transaction Summary'!$C$2-N174,1),0)+N174),\"\")","v":""},{"$f":"IFERROR(OFFSET(CalculationsAndCharts!$B$32,'Transaction Summary'!N175,0,1,1),\"\")","v":""},{"$f":"IFERROR(OFFSET(CalculationsAndCharts!$D$32,'Transaction Summary'!N175,0,1,1),\"\")","v":""},"",""]
[null,{"$f":"IFERROR(MATCH(TRUE,OFFSET(CalculationsAndCharts!$V$33,B175,0,'Transaction Summary'!$C$2-B175,1),0)+B175,\"\")","v":""},{"$f":"IFERROR(OFFSET(CalculationsAndCharts!$B$32,'Transaction Summary'!B176,0,1,1),\"\")","v":""},{"$f":"IFERROR(OFFSET(CalculationsAndCharts!$D$32,'Transaction Summary'!B176,0,1,1),\"\")","v":""},{"$f":"IFERROR(IF($E$12>$B$15,$E$12,(MATCH(TRUE,OFFSET(CalculationsAndCharts!$Y$33,E175,0,'Transaction Summary'!$C$2-E175,1),0)+E175)),\"\")","v":""},{"$f":"IFERROR(OFFSET(CalculationsAndCharts!$B$32,'Transaction Summary'!E176,0,1,1),\"\")","v":""},{"$f":"IFERROR(OFFSET(CalculationsAndCharts!$D$32,'Transaction Summary'!E176,0,1,1),\"\")","v":""},"","",null,{"$f":"IFERROR(MATCH(TRUE,OFFSET(CalculationsAndCharts!$AE$33,K175,0,'Transaction Summary'!$C$2-K175,1),0)+K175,\"\")","v":""},{"$f":"IFERROR(OFFSET(CalculationsAndCharts!$B$32,'Transaction Summary'!K176,0,1,1),\"\")","v":""},{"$f":"IFERROR(OFFSET(CalculationsAndCharts!$D$32,'Transaction Summary'!K176,0,1,1),\"\")","v":""},{"$f":"IFERROR(IF($N$12>$K$15,$N$12,MATCH(TRUE,OFFSET(CalculationsAndCharts!$AH$33,N175,0,'Transaction Summary'!$C$2-N175,1),0)+N175),\"\")","v":""},{"$f":"IFERROR(OFFSET(CalculationsAndCharts!$B$32,'Transaction Summary'!N176,0,1,1),\"\")","v":""},{"$f":"IFERROR(OFFSET(CalculationsAndCharts!$D$32,'Transaction Summary'!N176,0,1,1),\"\")","v":""},"",""]
[null,{"$f":"IFERROR(MATCH(TRUE,OFFSET(CalculationsAndCharts!$V$33,B176,0,'Transaction Summary'!$C$2-B176,1),0)+B176,\"\")","v":""},{"$f":"IFERROR(OFFSET(CalculationsAndCharts!$B$32,'Transaction Summary'!B177,0,1,1),\"\")","v":""},{"$f":"IFERROR(OFFSET(CalculationsAndCharts!$D$32,'Transaction Summary'!B177,0,1,1),\"\")","v":""},{"$f":"IFERROR(IF($E$12>$B$15,$E$12,(MATCH(TRUE,OFFSET(CalculationsAndCharts!$Y$33,E176,0,'Transaction Summary'!$C$2-E176,1),0)+E176)),\"\")","v":""},{"$f":"IFERROR(OFFSET(CalculationsAndCharts!$B$32,'Transaction Summary'!E177,0,1,1),\"\")","v":""},{"$f":"IFERROR(OFFSET(CalculationsAndCharts!$D$32,'Transaction Summary'!E177,0,1,1),\"\")","v":""},"","",null,{"$f":"IFERROR(MATCH(TRUE,OFFSET(CalculationsAndCharts!$AE$33,K176,0,'Transaction Summary'!$C$2-K176,1),0)+K176,\"\")","v":""},{"$f":"IFERROR(OFFSET(CalculationsAndCharts!$B$32,'Transaction Summary'!K177,0,1,1),\"\")","v":""},{"$f":"IFERROR(OFFSET(CalculationsAndCharts!$D$32,'Transaction Summary'!K177,0,1,1),\"\")","v":""},{"$f":"IFERROR(IF($N$12>$K$15,$N$12,MATCH(TRUE,OFFSET(CalculationsAndCharts!$AH$33,N176,0,'Transaction Summary'!$C$2-N176,1),0)+N176),\"\")","v":""},{"$f":"IFERROR(OFFSET(CalculationsAndCharts!$B$32,'Transaction Summary'!N177,0,1,1),\"\")","v":""},{"$f":"IFERROR(OFFSET(CalculationsAndCharts!$D$32,'Transaction Summary'!N177,0,1,1),\"\")","v":""},"",""]
[null,{"$f":"IFERROR(MATCH(TRUE,OFFSET(CalculationsAndCharts!$V$33,B177,0,'Transaction Summary'!$C$2-B177,1),0)+B177,\"\")","v":""},{"$f":"IFERROR(OFFSET(CalculationsAndCharts!$B$32,'Transaction Summary'!B178,0,1,1),\"\")","v":""},{"$f":"IFERROR(OFFSET(CalculationsAndCharts!$D$32,'Transaction Summary'!B178,0,1,1),\"\")","v":""},{"$f":"IFERROR(IF($E$12>$B$15,$E$12,(MATCH(TRUE,OFFSET(CalculationsAndCharts!$Y$33,E177,0,'Transaction Summary'!$C$2-E177,1),0)+E177)),\"\")","v":""},{"$f":"IFERROR(OFFSET(CalculationsAndCharts!$B$32,'Transaction Summary'!E178,0,1,1),\"\")","v":""},{"$f":"IFERROR(OFFSET(CalculationsAndCharts!$D$32,'Transaction Summary'!E178,0,1,1),\"\")","v":""},"","",null,{"$f":"IFERROR(MATCH(TRUE,OFFSET(CalculationsAndCharts!$AE$33,K177,0,'Transaction Summary'!$C$2-K177,1),0)+K177,\"\")","v":""},{"$f":"IFERROR(OFFSET(CalculationsAndCharts!$B$32,'Transaction Summary'!K178,0,1,1),\"\")","v":""},{"$f":"IFERROR(OFFSET(CalculationsAndCharts!$D$32,'Transaction Summary'!K178,0,1,1),\"\")","v":""},{"$f":"IFERROR(IF($N$12>$K$15,$N$12,MATCH(TRUE,OFFSET(CalculationsAndCharts!$AH$33,N177,0,'Transaction Summary'!$C$2-N177,1),0)+N177),\"\")","v":""},{"$f":"IFERROR(OFFSET(CalculationsAndCharts!$B$32,'Transaction Summary'!N178,0,1,1),\"\")","v":""},{"$f":"IFERROR(OFFSET(CalculationsAndCharts!$D$32,'Transaction Summary'!N178,0,1,1),\"\")","v":""},"",""]
[null,{"$f":"IFERROR(MATCH(TRUE,OFFSET(CalculationsAndCharts!$V$33,B178,0,'Transaction Summary'!$C$2-B178,1),0)+B178,\"\")","v":""},{"$f":"IFERROR(OFFSET(CalculationsAndCharts!$B$32,'Transaction Summary'!B179,0,1,1),\"\")","v":""},{"$f":"IFERROR(OFFSET(CalculationsAndCharts!$D$32,'Transaction Summary'!B179,0,1,1),\"\")","v":""},{"$f":"IFERROR(IF($E$12>$B$15,$E$12,(MATCH(TRUE,OFFSET(CalculationsAndCharts!$Y$33,E178,0,'Transaction Summary'!$C$2-E178,1),0)+E178)),\"\")","v":""},{"$f":"IFERROR(OFFSET(CalculationsAndCharts!$B$32,'Transaction Summary'!E179,0,1,1),\"\")","v":""},{"$f":"IFERROR(OFFSET(CalculationsAndCharts!$D$32,'Transaction Summary'!E179,0,1,1),\"\")","v":""},"","",null,{"$f":"IFERROR(MATCH(TRUE,OFFSET(CalculationsAndCharts!$AE$33,K178,0,'Transaction Summary'!$C$2-K178,1),0)+K178,\"\")","v":""},{"$f":"IFERROR(OFFSET(CalculationsAndCharts!$B$32,'Transaction Summary'!K179,0,1,1),\"\")","v":""},{"$f":"IFERROR(OFFSET(CalculationsAndCharts!$D$32,'Transaction Summary'!K179,0,1,1),\"\")","v":""},{"$f":"IFERROR(IF($N$12>$K$15,$N$12,MATCH(TRUE,OFFSET(CalculationsAndCharts!$AH$33,N178,0,'Transaction Summary'!$C$2-N178,1),0)+N178),\"\")","v":""},{"$f":"IFERROR(OFFSET(CalculationsAndCharts!$B$32,'Transaction Summary'!N179,0,1,1),\"\")","v":""},{"$f":"IFERROR(OFFSET(CalculationsAndCharts!$D$32,'Transaction Summary'!N179,0,1,1),\"\")","v":""},"",""]
[null,{"$f":"IFERROR(MATCH(TRUE,OFFSET(CalculationsAndCharts!$V$33,B179,0,'Transaction Summary'!$C$2-B179,1),0)+B179,\"\")","v":""},{"$f":"IFERROR(OFFSET(CalculationsAndCharts!$B$32,'Transaction Summary'!B180,0,1,1),\"\")","v":""},{"$f":"IFERROR(OFFSET(CalculationsAndCharts!$D$32,'Transaction Summary'!B180,0,1,1),\"\")","v":""},{"$f":"IFERROR(IF($E$12>$B$15,$E$12,(MATCH(TRUE,OFFSET(CalculationsAndCharts!$Y$33,E179,0,'Transaction Summary'!$C$2-E179,1),0)+E179)),\"\")","v":""},{"$f":"IFERROR(OFFSET(CalculationsAndCharts!$B$32,'Transaction Summary'!E180,0,1,1),\"\")","v":""},{"$f":"IFERROR(OFFSET(CalculationsAndCharts!$D$32,'Transaction Summary'!E180,0,1,1),\"\")","v":""},"","",null,{"$f":"IFERROR(MATCH(TRUE,OFFSET(CalculationsAndCharts!$AE$33,K179,0,'Transaction Summary'!$C$2-K179,1),0)+K179,\"\")","v":""},{"$f":"IFERROR(OFFSET(CalculationsAndCharts!$B$32,'Transaction Summary'!K180,0,1,1),\"\")","v":""},{"$f":"IFERROR(OFFSET(CalculationsAndCharts!$D$32,'Transaction Summary'!K180,0,1,1),\"\")","v":""},{"$f":"IFERROR(IF($N$12>$K$15,$N$12,MATCH(TRUE,OFFSET(CalculationsAndCharts!$AH$33,N179,0,'Transaction Summary'!$C$2-N179,1),0)+N179),\"\")","v":""},{"$f":"IFERROR(OFFSET(CalculationsAndCharts!$B$32,'Transaction Summary'!N180,0,1,1),\"\")","v":""},{"$f":"IFERROR(OFFSET(CalculationsAndCharts!$D$32,'Transaction Summary'!N180,0,1,1),\"\")","v":""},"",""]
[null,{"$f":"IFERROR(MATCH(TRUE,OFFSET(CalculationsAndCharts!$V$33,B180,0,'Transaction Summary'!$C$2-B180,1),0)+B180,\"\")","v":""},{"$f":"IFERROR(OFFSET(CalculationsAndCharts!$B$32,'Transaction Summary'!B181,0,1,1),\"\")","v":""},{"$f":"IFERROR(OFFSET(CalculationsAndCharts!$D$32,'Transaction Summary'!B181,0,1,1),\"\")","v":""},{"$f":"IFERROR(IF($E$12>$B$15,$E$12,(MATCH(TRUE,OFFSET(CalculationsAndCharts!$Y$33,E180,0,'Transaction Summary'!$C$2-E180,1),0)+E180)),\"\")","v":""},{"$f":"IFERROR(OFFSET(CalculationsAndCharts!$B$32,'Transaction Summary'!E181,0,1,1),\"\")","v":""},{"$f":"IFERROR(OFFSET(CalculationsAndCharts!$D$32,'Transaction Summary'!E181,0,1,1),\"\")","v":""},"","",null,{"$f":"IFERROR(MATCH(TRUE,OFFSET(CalculationsAndCharts!$AE$33,K180,0,'Transaction Summary'!$C$2-K180,1),0)+K180,\"\")","v":""},{"$f":"IFERROR(OFFSET(CalculationsAndCharts!$B$32,'Transaction Summary'!K181,0,1,1),\"\")","v":""},{"$f":"IFERROR(OFFSET(CalculationsAndCharts!$D$32,'Transaction Summary'!K181,0,1,1),\"\")","v":""},{"$f":"IFERROR(IF($N$12>$K$15,$N$12,MATCH(TRUE,OFFSET(CalculationsAndCharts!$AH$33,N180,0,'Transaction Summary'!$C$2-N180,1),0)+N180),\"\")","v":""},{"$f":"IFERROR(OFFSET(CalculationsAndCharts!$B$32,'Transaction Summary'!N181,0,1,1),\"\")","v":""},{"$f":"IFERROR(OFFSET(CalculationsAndCharts!$D$32,'Transaction Summary'!N181,0,1,1),\"\")","v":""},"",""]
[null,{"$f":"IFERROR(MATCH(TRUE,OFFSET(CalculationsAndCharts!$V$33,B181,0,'Transaction Summary'!$C$2-B181,1),0)+B181,\"\")","v":""},{"$f":"IFERROR(OFFSET(CalculationsAndCharts!$B$32,'Transaction Summary'!B182,0,1,1),\"\")","v":""},{"$f":"IFERROR(OFFSET(CalculationsAndCharts!$D$32,'Transaction Summary'!B182,0,1,1),\"\")","v":""},{"$f":"IFERROR(IF($E$12>$B$15,$E$12,(MATCH(TRUE,OFFSET(CalculationsAndCharts!$Y$33,E181,0,'Transaction Summary'!$C$2-E181,1),0)+E181)),\"\")","v":""},{"$f":"IFERROR(OFFSET(CalculationsAndCharts!$B$32,'Transaction Summary'!E182,0,1,1),\"\")","v":""},{"$f":"IFERROR(OFFSET(CalculationsAndCharts!$D$32,'Transaction Summary'!E182,0,1,1),\"\")","v":""},"","",null,{"$f":"IFERROR(MATCH(TRUE,OFFSET(CalculationsAndCharts!$AE$33,K181,0,'Transaction Summary'!$C$2-K181,1),0)+K181,\"\")","v":""},{"$f":"IFERROR(OFFSET(CalculationsAndCharts!$B$32,'Transaction Summary'!K182,0,1,1),\"\")","v":""},{"$f":"IFERROR(OFFSET(CalculationsAndCharts!$D$32,'Transaction Summary'!K182,0,1,1),\"\")","v":""},{"$f":"IFERROR(IF($N$12>$K$15,$N$12,MATCH(TRUE,OFFSET(CalculationsAndCharts!$AH$33,N181,0,'Transaction Summary'!$C$2-N181,1),0)+N181),\"\")","v":""},{"$f":"IFERROR(OFFSET(CalculationsAndCharts!$B$32,'Transaction Summary'!N182,0,1,1),\"\")","v":""},{"$f":"IFERROR(OFFSET(CalculationsAndCharts!$D$32,'Transaction Summary'!N182,0,1,1),\"\")","v":""},"",""]
[null,{"$f":"IFERROR(MATCH(TRUE,OFFSET(CalculationsAndCharts!$V$33,B182,0,'Transaction Summary'!$C$2-B182,1),0)+B182,\"\")","v":""},{"$f":"IFERROR(OFFSET(CalculationsAndCharts!$B$32,'Transaction Summary'!B183,0,1,1),\"\")","v":""},{"$f":"IFERROR(OFFSET(CalculationsAndCharts!$D$32,'Transaction Summary'!B183,0,1,1),\"\")","v":""},{"$f":"IFERROR(IF($E$12>$B$15,$E$12,(MATCH(TRUE,OFFSET(CalculationsAndCharts!$Y$33,E182,0,'Transaction Summary'!$C$2-E182,1),0)+E182)),\"\")","v":""},{"$f":"IFERROR(OFFSET(CalculationsAndCharts!$B$32,'Transaction Summary'!E183,0,1,1),\"\")","v":""},{"$f":"IFERROR(OFFSET(CalculationsAndCharts!$D$32,'Transaction Summary'!E183,0,1,1),\"\")","v":""},"","",null,{"$f":"IFERROR(MATCH(TRUE,OFFSET(CalculationsAndCharts!$AE$33,K182,0,'Transaction Summary'!$C$2-K182,1),0)+K182,\"\")","v":""},{"$f":"IFERROR(OFFSET(CalculationsAndCharts!$B$32,'Transaction Summary'!K183,0,1,1),\"\")","v":""},{"$f":"IFERROR(OFFSET(CalculationsAndCharts!$D$32,'Transaction Summary'!K183,0,1,1),\"\")","v":""},{"$f":"IFERROR(IF($N$12>$K$15,$N$12,MATCH(TRUE,OFFSET(CalculationsAndCharts!$AH$33,N182,0,'Transaction Summary'!$C$2-N182,1),0)+N182),\"\")","v":""},{"$f":"IFERROR(OFFSET(CalculationsAndCharts!$B$32,'Transaction Summary'!N183,0,1,1),\"\")","v":""},{"$f":"IFERROR(OFFSET(CalculationsAndCharts!$D$32,'Transaction Summary'!N183,0,1,1),\"\")","v":""},"",""]
[null,{"$f":"IFERROR(MATCH(TRUE,OFFSET(CalculationsAndCharts!$V$33,B183,0,'Transaction Summary'!$C$2-B183,1),0)+B183,\"\")","v":""},{"$f":"IFERROR(OFFSET(CalculationsAndCharts!$B$32,'Transaction Summary'!B184,0,1,1),\"\")","v":""},{"$f":"IFERROR(OFFSET(CalculationsAndCharts!$D$32,'Transaction Summary'!B184,0,1,1),\"\")","v":""},{"$f":"IFERROR(IF($E$12>$B$15,$E$12,(MATCH(TRUE,OFFSET(CalculationsAndCharts!$Y$33,E183,0,'Transaction Summary'!$C$2-E183,1),0)+E183)),\"\")","v":""},{"$f":"IFERROR(OFFSET(CalculationsAndCharts!$B$32,'Transaction Summary'!E184,0,1,1),\"\")","v":""},{"$f":"IFERROR(OFFSET(CalculationsAndCharts!$D$32,'Transaction Summary'!E184,0,1,1),\"\")","v":""},"","",null,{"$f":"IFERROR(MATCH(TRUE,OFFSET(CalculationsAndCharts!$AE$33,K183,0,'Transaction Summary'!$C$2-K183,1),0)+K183,\"\")","v":""},{"$f":"IFERROR(OFFSET(CalculationsAndCharts!$B$32,'Transaction Summary'!K184,0,1,1),\"\")","v":""},{"$f":"IFERROR(OFFSET(CalculationsAndCharts!$D$32,'Transaction Summary'!K184,0,1,1),\"\")","v":""},{"$f":"IFERROR(IF($N$12>$K$15,$N$12,MATCH(TRUE,OFFSET(CalculationsAndCharts!$AH$33,N183,0,'Transaction Summary'!$C$2-N183,1),0)+N183),\"\")","v":""},{"$f":"IFERROR(OFFSET(CalculationsAndCharts!$B$32,'Transaction Summary'!N184,0,1,1),\"\")","v":""},{"$f":"IFERROR(OFFSET(CalculationsAndCharts!$D$32,'Transaction Summary'!N184,0,1,1),\"\")","v":""},"",""]
[null,{"$f":"IFERROR(MATCH(TRUE,OFFSET(CalculationsAndCharts!$V$33,B184,0,'Transaction Summary'!$C$2-B184,1),0)+B184,\"\")","v":""},{"$f":"IFERROR(OFFSET(CalculationsAndCharts!$B$32,'Transaction Summary'!B185,0,1,1),\"\")","v":""},{"$f":"IFERROR(OFFSET(CalculationsAndCharts!$D$32,'Transaction Summary'!B185,0,1,1),\"\")","v":""},{"$f":"IFERROR(IF($E$12>$B$15,$E$12,(MATCH(TRUE,OFFSET(CalculationsAndCharts!$Y$33,E184,0,'Transaction Summary'!$C$2-E184,1),0)+E184)),\"\")","v":""},{"$f":"IFERROR(OFFSET(CalculationsAndCharts!$B$32,'Transaction Summary'!E185,0,1,1),\"\")","v":""},{"$f":"IFERROR(OFFSET(CalculationsAndCharts!$D$32,'Transaction Summary'!E185,0,1,1),\"\")","v":""},"","",null,{"$f":"IFERROR(MATCH(TRUE,OFFSET(CalculationsAndCharts!$AE$33,K184,0,'Transaction Summary'!$C$2-K184,1),0)+K184,\"\")","v":""},{"$f":"IFERROR(OFFSET(CalculationsAndCharts!$B$32,'Transaction Summary'!K185,0,1,1),\"\")","v":""},{"$f":"IFERROR(OFFSET(CalculationsAndCharts!$D$32,'Transaction Summary'!K185,0,1,1),\"\")","v":""},{"$f":"IFERROR(IF($N$12>$K$15,$N$12,MATCH(TRUE,OFFSET(CalculationsAndCharts!$AH$33,N184,0,'Transaction Summary'!$C$2-N184,1),0)+N184),\"\")","v":""},{"$f":"IFERROR(OFFSET(CalculationsAndCharts!$B$32,'Transaction Summary'!N185,0,1,1),\"\")","v":""},{"$f":"IFERROR(OFFSET(CalculationsAndCharts!$D$32,'Transaction Summary'!N185,0,1,1),\"\")","v":""},"",""]
[null,{"$f":"IFERROR(MATCH(TRUE,OFFSET(CalculationsAndCharts!$V$33,B185,0,'Transaction Summary'!$C$2-B185,1),0)+B185,\"\")","v":""},{"$f":"IFERROR(OFFSET(CalculationsAndCharts!$B$32,'Transaction Summary'!B186,0,1,1),\"\")","v":""},{"$f":"IFERROR(OFFSET(CalculationsAndCharts!$D$32,'Transaction Summary'!B186,0,1,1),\"\")","v":""},{"$f":"IFERROR(IF($E$12>$B$15,$E$12,(MATCH(TRUE,OFFSET(CalculationsAndCharts!$Y$33,E185,0,'Transaction Summary'!$C$2-E185,1),0)+E185)),\"\")","v":""},{"$f":"IFERROR(OFFSET(CalculationsAndCharts!$B$32,'Transaction Summary'!E186,0,1,1),\"\")","v":""},{"$f":"IFERROR(OFFSET(CalculationsAndCharts!$D$32,'Transaction Summary'!E186,0,1,1),\"\")","v":""},"","",null,{"$f":"IFERROR(MATCH(TRUE,OFFSET(CalculationsAndCharts!$AE$33,K185,0,'Transaction Summary'!$C$2-K185,1),0)+K185,\"\")","v":""},{"$f":"IFERROR(OFFSET(CalculationsAndCharts!$B$32,'Transaction Summary'!K186,0,1,1),\"\")","v":""},{"$f":"IFERROR(OFFSET(CalculationsAndCharts!$D$32,'Transaction Summary'!K186,0,1,1),\"\")","v":""},{"$f":"IFERROR(IF($N$12>$K$15,$N$12,MATCH(TRUE,OFFSET(CalculationsAndCharts!$AH$33,N185,0,'Transaction Summary'!$C$2-N185,1),0)+N185),\"\")","v":""},{"$f":"IFERROR(OFFSET(CalculationsAndCharts!$B$32,'Transaction Summary'!N186,0,1,1),\"\")","v":""},{"$f":"IFERROR(OFFSET(CalculationsAndCharts!$D$32,'Transaction Summary'!N186,0,1,1),\"\")","v":""},"",""]
[null,{"$f":"IFERROR(MATCH(TRUE,OFFSET(CalculationsAndCharts!$V$33,B186,0,'Transaction Summary'!$C$2-B186,1),0)+B186,\"\")","v":""},{"$f":"IFERROR(OFFSET(CalculationsAndCharts!$B$32,'Transaction Summary'!B187,0,1,1),\"\")","v":""},{"$f":"IFERROR(OFFSET(CalculationsAndCharts!$D$32,'Transaction Summary'!B187,0,1,1),\"\")","v":""},{"$f":"IFERROR(IF($E$12>$B$15,$E$12,(MATCH(TRUE,OFFSET(CalculationsAndCharts!$Y$33,E186,0,'Transaction Summary'!$C$2-E186,1),0)+E186)),\"\")","v":""},{"$f":"IFERROR(OFFSET(CalculationsAndCharts!$B$32,'Transaction Summary'!E187,0,1,1),\"\")","v":""},{"$f":"IFERROR(OFFSET(CalculationsAndCharts!$D$32,'Transaction Summary'!E187,0,1,1),\"\")","v":""},"","",null,{"$f":"IFERROR(MATCH(TRUE,OFFSET(CalculationsAndCharts!$AE$33,K186,0,'Transaction Summary'!$C$2-K186,1),0)+K186,\"\")","v":""},{"$f":"IFERROR(OFFSET(CalculationsAndCharts!$B$32,'Transaction Summary'!K187,0,1,1),\"\")","v":""},{"$f":"IFERROR(OFFSET(CalculationsAndCharts!$D$32,'Transaction Summary'!K187,0,1,1),\"\")","v":""},{"$f":"IFERROR(IF($N$12>$K$15,$N$12,MATCH(TRUE,OFFSET(CalculationsAndCharts!$AH$33,N186,0,'Transaction Summary'!$C$2-N186,1),0)+N186),\"\")","v":""},{"$f":"IFERROR(OFFSET(CalculationsAndCharts!$B$32,'Transaction Summary'!N187,0,1,1),\"\")","v":""},{"$f":"IFERROR(OFFSET(CalculationsAndCharts!$D$32,'Transaction Summary'!N187,0,1,1),\"\")","v":""},"",""]
[null,{"$f":"IFERROR(MATCH(TRUE,OFFSET(CalculationsAndCharts!$V$33,B187,0,'Transaction Summary'!$C$2-B187,1),0)+B187,\"\")","v":""},{"$f":"IFERROR(OFFSET(CalculationsAndCharts!$B$32,'Transaction Summary'!B188,0,1,1),\"\")","v":""},{"$f":"IFERROR(OFFSET(CalculationsAndCharts!$D$32,'Transaction Summary'!B188,0,1,1),\"\")","v":""},{"$f":"IFERROR(IF($E$12>$B$15,$E$12,(MATCH(TRUE,OFFSET(CalculationsAndCharts!$Y$33,E187,0,'Transaction Summary'!$C$2-E187,1),0)+E187)),\"\")","v":""},{"$f":"IFERROR(OFFSET(CalculationsAndCharts!$B$32,'Transaction Summary'!E188,0,1,1),\"\")","v":""},{"$f":"IFERROR(OFFSET(CalculationsAndCharts!$D$32,'Transaction Summary'!E188,0,1,1),\"\")","v":""},"","",null,{"$f":"IFERROR(MATCH(TRUE,OFFSET(CalculationsAndCharts!$AE$33,K187,0,'Transaction Summary'!$C$2-K187,1),0)+K187,\"\")","v":""},{"$f":"IFERROR(OFFSET(CalculationsAndCharts!$B$32,'Transaction Summary'!K188,0,1,1),\"\")","v":""},{"$f":"IFERROR(OFFSET(CalculationsAndCharts!$D$32,'Transaction Summary'!K188,0,1,1),\"\")","v":""},{"$f":"IFERROR(IF($N$12>$K$15,$N$12,MATCH(TRUE,OFFSET(CalculationsAndCharts!$AH$33,N187,0,'Transaction Summary'!$C$2-N187,1),0)+N187),\"\")","v":""},{"$f":"IFERROR(OFFSET(CalculationsAndCharts!$B$32,'Transaction Summary'!N188,0,1,1),\"\")","v":""},{"$f":"IFERROR(OFFSET(CalculationsAndCharts!$D$32,'Transaction Summary'!N188,0,1,1),\"\")","v":""},"",""]
[null,{"$f":"IFERROR(MATCH(TRUE,OFFSET(CalculationsAndCharts!$V$33,B188,0,'Transaction Summary'!$C$2-B188,1),0)+B188,\"\")","v":""},{"$f":"IFERROR(OFFSET(CalculationsAndCharts!$B$32,'Transaction Summary'!B189,0,1,1),\"\")","v":""},{"$f":"IFERROR(OFFSET(CalculationsAndCharts!$D$32,'Transaction Summary'!B189,0,1,1),\"\")","v":""},{"$f":"IFERROR(IF($E$12>$B$15,$E$12,(MATCH(TRUE,OFFSET(CalculationsAndCharts!$Y$33,E188,0,'Transaction Summary'!$C$2-E188,1),0)+E188)),\"\")","v":""},{"$f":"IFERROR(OFFSET(CalculationsAndCharts!$B$32,'Transaction Summary'!E189,0,1,1),\"\")","v":""},{"$f":"IFERROR(OFFSET(CalculationsAndCharts!$D$32,'Transaction Summary'!E189,0,1,1),\"\")","v":""},"","",null,{"$f":"IFERROR(MATCH(TRUE,OFFSET(CalculationsAndCharts!$AE$33,K188,0,'Transaction Summary'!$C$2-K188,1),0)+K188,\"\")","v":""},{"$f":"IFERROR(OFFSET(CalculationsAndCharts!$B$32,'Transaction Summary'!K189,0,1,1),\"\")","v":""},{"$f":"IFERROR(OFFSET(CalculationsAndCharts!$D$32,'Transaction Summary'!K189,0,1,1),\"\")","v":""},{"$f":"IFERROR(IF($N$12>$K$15,$N$12,MATCH(TRUE,OFFSET(CalculationsAndCharts!$AH$33,N188,0,'Transaction Summary'!$C$2-N188,1),0)+N188),\"\")","v":""},{"$f":"IFERROR(OFFSET(CalculationsAndCharts!$B$32,'Transaction Summary'!N189,0,1,1),\"\")","v":""},{"$f":"IFERROR(OFFSET(CalculationsAndCharts!$D$32,'Transaction Summary'!N189,0,1,1),\"\")","v":""},"",""]
[null,{"$f":"IFERROR(MATCH(TRUE,OFFSET(CalculationsAndCharts!$V$33,B189,0,'Transaction Summary'!$C$2-B189,1),0)+B189,\"\")","v":""},{"$f":"IFERROR(OFFSET(CalculationsAndCharts!$B$32,'Transaction Summary'!B190,0,1,1),\"\")","v":""},{"$f":"IFERROR(OFFSET(CalculationsAndCharts!$D$32,'Transaction Summary'!B190,0,1,1),\"\")","v":""},{"$f":"IFERROR(IF($E$12>$B$15,$E$12,(MATCH(TRUE,OFFSET(CalculationsAndCharts!$Y$33,E189,0,'Transaction Summary'!$C$2-E189,1),0)+E189)),\"\")","v":""},{"$f":"IFERROR(OFFSET(CalculationsAndCharts!$B$32,'Transaction Summary'!E190,0,1,1),\"\")","v":""},{"$f":"IFERROR(OFFSET(CalculationsAndCharts!$D$32,'Transaction Summary'!E190,0,1,1),\"\")","v":""},"","",null,{"$f":"IFERROR(MATCH(TRUE,OFFSET(CalculationsAndCharts!$AE$33,K189,0,'Transaction Summary'!$C$2-K189,1),0)+K189,\"\")","v":""},{"$f":"IFERROR(OFFSET(CalculationsAndCharts!$B$32,'Transaction Summary'!K190,0,1,1),\"\")","v":""},{"$f":"IFERROR(OFFSET(CalculationsAndCharts!$D$32,'Transaction Summary'!K190,0,1,1),\"\")","v":""},{"$f":"IFERROR(IF($N$12>$K$15,$N$12,MATCH(TRUE,OFFSET(CalculationsAndCharts!$AH$33,N189,0,'Transaction Summary'!$C$2-N189,1),0)+N189),\"\")","v":""},{"$f":"IFERROR(OFFSET(CalculationsAndCharts!$B$32,'Transaction Summary'!N190,0,1,1),\"\")","v":""},{"$f":"IFERROR(OFFSET(CalculationsAndCharts!$D$32,'Transaction Summary'!N190,0,1,1),\"\")","v":""},"",""]
[null,{"$f":"IFERROR(MATCH(TRUE,OFFSET(CalculationsAndCharts!$V$33,B190,0,'Transaction Summary'!$C$2-B190,1),0)+B190,\"\")","v":""},{"$f":"IFERROR(OFFSET(CalculationsAndCharts!$B$32,'Transaction Summary'!B191,0,1,1),\"\")","v":""},{"$f":"IFERROR(OFFSET(CalculationsAndCharts!$D$32,'Transaction Summary'!B191,0,1,1),\"\")","v":""},{"$f":"IFERROR(IF($E$12>$B$15,$E$12,(MATCH(TRUE,OFFSET(CalculationsAndCharts!$Y$33,E190,0,'Transaction Summary'!$C$2-E190,1),0)+E190)),\"\")","v":""},{"$f":"IFERROR(OFFSET(CalculationsAndCharts!$B$32,'Transaction Summary'!E191,0,1,1),\"\")","v":""},{"$f":"IFERROR(OFFSET(CalculationsAndCharts!$D$32,'Transaction Summary'!E191,0,1,1),\"\")","v":""},"","",null,{"$f":"IFERROR(MATCH(TRUE,OFFSET(CalculationsAndCharts!$AE$33,K190,0,'Transaction Summary'!$C$2-K190,1),0)+K190,\"\")","v":""},{"$f":"IFERROR(OFFSET(CalculationsAndCharts!$B$32,'Transaction Summary'!K191,0,1,1),\"\")","v":""},{"$f":"IFERROR(OFFSET(CalculationsAndCharts!$D$32,'Transaction Summary'!K191,0,1,1),\"\")","v":""},{"$f":"IFERROR(IF($N$12>$K$15,$N$12,MATCH(TRUE,OFFSET(CalculationsAndCharts!$AH$33,N190,0,'Transaction Summary'!$C$2-N190,1),0)+N190),\"\")","v":""},{"$f":"IFERROR(OFFSET(CalculationsAndCharts!$B$32,'Transaction Summary'!N191,0,1,1),\"\")","v":""},{"$f":"IFERROR(OFFSET(CalculationsAndCharts!$D$32,'Transaction Summary'!N191,0,1,1),\"\")","v":""},"",""]
[null,{"$f":"IFERROR(MATCH(TRUE,OFFSET(CalculationsAndCharts!$V$33,B191,0,'Transaction Summary'!$C$2-B191,1),0)+B191,\"\")","v":""},{"$f":"IFERROR(OFFSET(CalculationsAndCharts!$B$32,'Transaction Summary'!B192,0,1,1),\"\")","v":""},{"$f":"IFERROR(OFFSET(CalculationsAndCharts!$D$32,'Transaction Summary'!B192,0,1,1),\"\")","v":""},{"$f":"IFERROR(IF($E$12>$B$15,$E$12,(MATCH(TRUE,OFFSET(CalculationsAndCharts!$Y$33,E191,0,'Transaction Summary'!$C$2-E191,1),0)+E191)),\"\")","v":""},{"$f":"IFERROR(OFFSET(CalculationsAndCharts!$B$32,'Transaction Summary'!E192,0,1,1),\"\")","v":""},{"$f":"IFERROR(OFFSET(CalculationsAndCharts!$D$32,'Transaction Summary'!E192,0,1,1),\"\")","v":""},"","",null,{"$f":"IFERROR(MATCH(TRUE,OFFSET(CalculationsAndCharts!$AE$33,K191,0,'Transaction Summary'!$C$2-K191,1),0)+K191,\"\")","v":""},{"$f":"IFERROR(OFFSET(CalculationsAndCharts!$B$32,'Transaction Summary'!K192,0,1,1),\"\")","v":""},{"$f":"IFERROR(OFFSET(CalculationsAndCharts!$D$32,'Transaction Summary'!K192,0,1,1),\"\")","v":""},{"$f":"IFERROR(IF($N$12>$K$15,$N$12,MATCH(TRUE,OFFSET(CalculationsAndCharts!$AH$33,N191,0,'Transaction Summary'!$C$2-N191,1),0)+N191),\"\")","v":""},{"$f":"IFERROR(OFFSET(CalculationsAndCharts!$B$32,'Transaction Summary'!N192,0,1,1),\"\")","v":""},{"$f":"IFERROR(OFFSET(CalculationsAndCharts!$D$32,'Transaction Summary'!N192,0,1,1),\"\")","v":""},"",""]
[null,{"$f":"IFERROR(MATCH(TRUE,OFFSET(CalculationsAndCharts!$V$33,B192,0,'Transaction Summary'!$C$2-B192,1),0)+B192,\"\")","v":""},{"$f":"IFERROR(OFFSET(CalculationsAndCharts!$B$32,'Transaction Summary'!B193,0,1,1),\"\")","v":""},{"$f":"IFERROR(OFFSET(CalculationsAndCharts!$D$32,'Transaction Summary'!B193,0,1,1),\"\")","v":""},{"$f":"IFERROR(IF($E$12>$B$15,$E$12,(MATCH(TRUE,OFFSET(CalculationsAndCharts!$Y$33,E192,0,'Transaction Summary'!$C$2-E192,1),0)+E192)),\"\")","v":""},{"$f":"IFERROR(OFFSET(CalculationsAndCharts!$B$32,'Transaction Summary'!E193,0,1,1),\"\")","v":""},{"$f":"IFERROR(OFFSET(CalculationsAndCharts!$D$32,'Transaction Summary'!E193,0,1,1),\"\")","v":""},"","",null,{"$f":"IFERROR(MATCH(TRUE,OFFSET(CalculationsAndCharts!$AE$33,K192,0,'Transaction Summary'!$C$2-K192,1),0)+K192,\"\")","v":""},{"$f":"IFERROR(OFFSET(CalculationsAndCharts!$B$32,'Transaction Summary'!K193,0,1,1),\"\")","v":""},{"$f":"IFERROR(OFFSET(CalculationsAndCharts!$D$32,'Transaction Summary'!K193,0,1,1),\"\")","v":""},{"$f":"IFERROR(IF($N$12>$K$15,$N$12,MATCH(TRUE,OFFSET(CalculationsAndCharts!$AH$33,N192,0,'Transaction Summary'!$C$2-N192,1),0)+N192),\"\")","v":""},{"$f":"IFERROR(OFFSET(CalculationsAndCharts!$B$32,'Transaction Summary'!N193,0,1,1),\"\")","v":""},{"$f":"IFERROR(OFFSET(CalculationsAndCharts!$D$32,'Transaction Summary'!N193,0,1,1),\"\")","v":""},"",""]
[null,{"$f":"IFERROR(MATCH(TRUE,OFFSET(CalculationsAndCharts!$V$33,B193,0,'Transaction Summary'!$C$2-B193,1),0)+B193,\"\")","v":""},{"$f":"IFERROR(OFFSET(CalculationsAndCharts!$B$32,'Transaction Summary'!B194,0,1,1),\"\")","v":""},{"$f":"IFERROR(OFFSET(CalculationsAndCharts!$D$32,'Transaction Summary'!B194,0,1,1),\"\")","v":""},{"$f":"IFERROR(IF($E$12>$B$15,$E$12,(MATCH(TRUE,OFFSET(CalculationsAndCharts!$Y$33,E193,0,'Transaction Summary'!$C$2-E193,1),0)+E193)),\"\")","v":""},{"$f":"IFERROR(OFFSET(CalculationsAndCharts!$B$32,'Transaction Summary'!E194,0,1,1),\"\")","v":""},{"$f":"IFERROR(OFFSET(CalculationsAndCharts!$D$32,'Transaction Summary'!E194,0,1,1),\"\")","v":""},"","",null,{"$f":"IFERROR(MATCH(TRUE,OFFSET(CalculationsAndCharts!$AE$33,K193,0,'Transaction Summary'!$C$2-K193,1),0)+K193,\"\")","v":""},{"$f":"IFERROR(OFFSET(CalculationsAndCharts!$B$32,'Transaction Summary'!K194,0,1,1),\"\")","v":""},{"$f":"IFERROR(OFFSET(CalculationsAndCharts!$D$32,'Transaction Summary'!K194,0,1,1),\"\")","v":""},{"$f":"IFERROR(IF($N$12>$K$15,$N$12,MATCH(TRUE,OFFSET(CalculationsAndCharts!$AH$33,N193,0,'Transaction Summary'!$C$2-N193,1),0)+N193),\"\")","v":""},{"$f":"IFERROR(OFFSET(CalculationsAndCharts!$B$32,'Transaction Summary'!N194,0,1,1),\"\")","v":""},{"$f":"IFERROR(OFFSET(CalculationsAndCharts!$D$32,'Transaction Summary'!N194,0,1,1),\"\")","v":""},"",""]
[null,{"$f":"IFERROR(MATCH(TRUE,OFFSET(CalculationsAndCharts!$V$33,B194,0,'Transaction Summary'!$C$2-B194,1),0)+B194,\"\")","v":""},{"$f":"IFERROR(OFFSET(CalculationsAndCharts!$B$32,'Transaction Summary'!B195,0,1,1),\"\")","v":""},{"$f":"IFERROR(OFFSET(CalculationsAndCharts!$D$32,'Transaction Summary'!B195,0,1,1),\"\")","v":""},{"$f":"IFERROR(IF($E$12>$B$15,$E$12,(MATCH(TRUE,OFFSET(CalculationsAndCharts!$Y$33,E194,0,'Transaction Summary'!$C$2-E194,1),0)+E194)),\"\")","v":""},{"$f":"IFERROR(OFFSET(CalculationsAndCharts!$B$32,'Transaction Summary'!E195,0,1,1),\"\")","v":""},{"$f":"IFERROR(OFFSET(CalculationsAndCharts!$D$32,'Transaction Summary'!E195,0,1,1),\"\")","v":""},"","",null,{"$f":"IFERROR(MATCH(TRUE,OFFSET(CalculationsAndCharts!$AE$33,K194,0,'Transaction Summary'!$C$2-K194,1),0)+K194,\"\")","v":""},{"$f":"IFERROR(OFFSET(CalculationsAndCharts!$B$32,'Transaction Summary'!K195,0,1,1),\"\")","v":""},{"$f":"IFERROR(OFFSET(CalculationsAndCharts!$D$32,'Transaction Summary'!K195,0,1,1),\"\")","v":""},{"$f":"IFERROR(IF($N$12>$K$15,$N$12,MATCH(TRUE,OFFSET(CalculationsAndCharts!$AH$33,N194,0,'Transaction Summary'!$C$2-N194,1),0)+N194),\"\")","v":""},{"$f":"IFERROR(OFFSET(CalculationsAndCharts!$B$32,'Transaction Summary'!N195,0,1,1),\"\")","v":""},{"$f":"IFERROR(OFFSET(CalculationsAndCharts!$D$32,'Transaction Summary'!N195,0,1,1),\"\")","v":""},"",""]
[null,{"$f":"IFERROR(MATCH(TRUE,OFFSET(CalculationsAndCharts!$V$33,B195,0,'Transaction Summary'!$C$2-B195,1),0)+B195,\"\")","v":""},{"$f":"IFERROR(OFFSET(CalculationsAndCharts!$B$32,'Transaction Summary'!B196,0,1,1),\"\")","v":""},{"$f":"IFERROR(OFFSET(CalculationsAndCharts!$D$32,'Transaction Summary'!B196,0,1,1),\"\")","v":""},{"$f":"IFERROR(IF($E$12>$B$15,$E$12,(MATCH(TRUE,OFFSET(CalculationsAndCharts!$Y$33,E195,0,'Transaction Summary'!$C$2-E195,1),0)+E195)),\"\")","v":""},{"$f":"IFERROR(OFFSET(CalculationsAndCharts!$B$32,'Transaction Summary'!E196,0,1,1),\"\")","v":""},{"$f":"IFERROR(OFFSET(CalculationsAndCharts!$D$32,'Transaction Summary'!E196,0,1,1),\"\")","v":""},"","",null,{"$f":"IFERROR(MATCH(TRUE,OFFSET(CalculationsAndCharts!$AE$33,K195,0,'Transaction Summary'!$C$2-K195,1),0)+K195,\"\")","v":""},{"$f":"IFERROR(OFFSET(CalculationsAndCharts!$B$32,'Transaction Summary'!K196,0,1,1),\"\")","v":""},{"$f":"IFERROR(OFFSET(CalculationsAndCharts!$D$32,'Transaction Summary'!K196,0,1,1),\"\")","v":""},{"$f":"IFERROR(IF($N$12>$K$15,$N$12,MATCH(TRUE,OFFSET(CalculationsAndCharts!$AH$33,N195,0,'Transaction Summary'!$C$2-N195,1),0)+N195),\"\")","v":""},{"$f":"IFERROR(OFFSET(CalculationsAndCharts!$B$32,'Transaction Summary'!N196,0,1,1),\"\")","v":""},{"$f":"IFERROR(OFFSET(CalculationsAndCharts!$D$32,'Transaction Summary'!N196,0,1,1),\"\")","v":""},"",""]
[null,{"$f":"IFERROR(MATCH(TRUE,OFFSET(CalculationsAndCharts!$V$33,B196,0,'Transaction Summary'!$C$2-B196,1),0)+B196,\"\")","v":""},{"$f":"IFERROR(OFFSET(CalculationsAndCharts!$B$32,'Transaction Summary'!B197,0,1,1),\"\")","v":""},{"$f":"IFERROR(OFFSET(CalculationsAndCharts!$D$32,'Transaction Summary'!B197,0,1,1),\"\")","v":""},{"$f":"IFERROR(IF($E$12>$B$15,$E$12,(MATCH(TRUE,OFFSET(CalculationsAndCharts!$Y$33,E196,0,'Transaction Summary'!$C$2-E196,1),0)+E196)),\"\")","v":""},{"$f":"IFERROR(OFFSET(CalculationsAndCharts!$B$32,'Transaction Summary'!E197,0,1,1),\"\")","v":""},{"$f":"IFERROR(OFFSET(CalculationsAndCharts!$D$32,'Transaction Summary'!E197,0,1,1),\"\")","v":""},"","",null,{"$f":"IFERROR(MATCH(TRUE,OFFSET(CalculationsAndCharts!$AE$33,K196,0,'Transaction Summary'!$C$2-K196,1),0)+K196,\"\")","v":""},{"$f":"IFERROR(OFFSET(CalculationsAndCharts!$B$32,'Transaction Summary'!K197,0,1,1),\"\")","v":""},{"$f":"IFERROR(OFFSET(CalculationsAndCharts!$D$32,'Transaction Summary'!K197,0,1,1),\"\")","v":""},{"$f":"IFERROR(IF($N$12>$K$15,$N$12,MATCH(TRUE,OFFSET(CalculationsAndCharts!$AH$33,N196,0,'Transaction Summary'!$C$2-N196,1),0)+N196),\"\")","v":""},{"$f":"IFERROR(OFFSET(CalculationsAndCharts!$B$32,'Transaction Summary'!N197,0,1,1),\"\")","v":""},{"$f":"IFERROR(OFFSET(CalculationsAndCharts!$D$32,'Transaction Summary'!N197,0,1,1),\"\")","v":""},"",""]
[null,{"$f":"IFERROR(MATCH(TRUE,OFFSET(CalculationsAndCharts!$V$33,B197,0,'Transaction Summary'!$C$2-B197,1),0)+B197,\"\")","v":""},{"$f":"IFERROR(OFFSET(CalculationsAndCharts!$B$32,'Transaction Summary'!B198,0,1,1),\"\")","v":""},{"$f":"IFERROR(OFFSET(CalculationsAndCharts!$D$32,'Transaction Summary'!B198,0,1,1),\"\")","v":""},{"$f":"IFERROR(IF($E$12>$B$15,$E$12,(MATCH(TRUE,OFFSET(CalculationsAndCharts!$Y$33,E197,0,'Transaction Summary'!$C$2-E197,1),0)+E197)),\"\")","v":""},{"$f":"IFERROR(OFFSET(CalculationsAndCharts!$B$32,'Transaction Summary'!E198,0,1,1),\"\")","v":""},{"$f":"IFERROR(OFFSET(CalculationsAndCharts!$D$32,'Transaction Summary'!E198,0,1,1),\"\")","v":""},"","",null,{"$f":"IFERROR(MATCH(TRUE,OFFSET(CalculationsAndCharts!$AE$33,K197,0,'Transaction Summary'!$C$2-K197,1),0)+K197,\"\")","v":""},{"$f":"IFERROR(OFFSET(CalculationsAndCharts!$B$32,'Transaction Summary'!K198,0,1,1),\"\")","v":""},{"$f":"IFERROR(OFFSET(CalculationsAndCharts!$D$32,'Transaction Summary'!K198,0,1,1),\"\")","v":""},{"$f":"IFERROR(IF($N$12>$K$15,$N$12,MATCH(TRUE,OFFSET(CalculationsAndCharts!$AH$33,N197,0,'Transaction Summary'!$C$2-N197,1),0)+N197),\"\")","v":""},{"$f":"IFERROR(OFFSET(CalculationsAndCharts!$B$32,'Transaction Summary'!N198,0,1,1),\"\")","v":""},{"$f":"IFERROR(OFFSET(CalculationsAndCharts!$D$32,'Transaction Summary'!N198,0,1,1),\"\")","v":""},"",""]
[null,{"$f":"IFERROR(MATCH(TRUE,OFFSET(CalculationsAndCharts!$V$33,B198,0,'Transaction Summary'!$C$2-B198,1),0)+B198,\"\")","v":""},{"$f":"IFERROR(OFFSET(CalculationsAndCharts!$B$32,'Transaction Summary'!B199,0,1,1),\"\")","v":""},{"$f":"IFERROR(OFFSET(CalculationsAndCharts!$D$32,'Transaction Summary'!B199,0,1,1),\"\")","v":""},{"$f":"IFERROR(IF($E$12>$B$15,$E$12,(MATCH(TRUE,OFFSET(CalculationsAndCharts!$Y$33,E198,0,'Transaction Summary'!$C$2-E198,1),0)+E198)),\"\")","v":""},{"$f":"IFERROR(OFFSET(CalculationsAndCharts!$B$32,'Transaction Summary'!E199,0,1,1),\"\")","v":""},{"$f":"IFERROR(OFFSET(CalculationsAndCharts!$D$32,'Transaction Summary'!E199,0,1,1),\"\")","v":""},"","",null,{"$f":"IFERROR(MATCH(TRUE,OFFSET(CalculationsAndCharts!$AE$33,K198,0,'Transaction Summary'!$C$2-K198,1),0)+K198,\"\")","v":""},{"$f":"IFERROR(OFFSET(CalculationsAndCharts!$B$32,'Transaction Summary'!K199,0,1,1),\"\")","v":""},{"$f":"IFERROR(OFFSET(CalculationsAndCharts!$D$32,'Transaction Summary'!K199,0,1,1),\"\")","v":""},{"$f":"IFERROR(IF($N$12>$K$15,$N$12,MATCH(TRUE,OFFSET(CalculationsAndCharts!$AH$33,N198,0,'Transaction Summary'!$C$2-N198,1),0)+N198),\"\")","v":""},{"$f":"IFERROR(OFFSET(CalculationsAndCharts!$B$32,'Transaction Summary'!N199,0,1,1),\"\")","v":""},{"$f":"IFERROR(OFFSET(CalculationsAndCharts!$D$32,'Transaction Summary'!N199,0,1,1),\"\")","v":""},"",""]
[null,{"$f":"IFERROR(MATCH(TRUE,OFFSET(CalculationsAndCharts!$V$33,B199,0,'Transaction Summary'!$C$2-B199,1),0)+B199,\"\")","v":""},{"$f":"IFERROR(OFFSET(CalculationsAndCharts!$B$32,'Transaction Summary'!B200,0,1,1),\"\")","v":""},{"$f":"IFERROR(OFFSET(CalculationsAndCharts!$D$32,'Transaction Summary'!B200,0,1,1),\"\")","v":""},{"$f":"IFERROR(IF($E$12>$B$15,$E$12,(MATCH(TRUE,OFFSET(CalculationsAndCharts!$Y$33,E199,0,'Transaction Summary'!$C$2-E199,1),0)+E199)),\"\")","v":""},{"$f":"IFERROR(OFFSET(CalculationsAndCharts!$B$32,'Transaction Summary'!E200,0,1,1),\"\")","v":""},{"$f":"IFERROR(OFFSET(CalculationsAndCharts!$D$32,'Transaction Summary'!E200,0,1,1),\"\")","v":""},"","",null,{"$f":"IFERROR(MATCH(TRUE,OFFSET(CalculationsAndCharts!$AE$33,K199,0,'Transaction Summary'!$C$2-K199,1),0)+K199,\"\")","v":""},{"$f":"IFERROR(OFFSET(CalculationsAndCharts!$B$32,'Transaction Summary'!K200,0,1,1),\"\")","v":""},{"$f":"IFERROR(OFFSET(CalculationsAndCharts!$D$32,'Transaction Summary'!K200,0,1,1),\"\")","v":""},{"$f":"IFERROR(IF($N$12>$K$15,$N$12,MATCH(TRUE,OFFSET(CalculationsAndCharts!$AH$33,N199,0,'Transaction Summary'!$C$2-N199,1),0)+N199),\"\")","v":""},{"$f":"IFERROR(OFFSET(CalculationsAndCharts!$B$32,'Transaction Summary'!N200,0,1,1),\"\")","v":""},{"$f":"IFERROR(OFFSET(CalculationsAndCharts!$D$32,'Transaction Summary'!N200,0,1,1),\"\")","v":""},"",""]
[null,{"$f":"IFERROR(MATCH(TRUE,OFFSET(CalculationsAndCharts!$V$33,B200,0,'Transaction Summary'!$C$2-B200,1),0)+B200,\"\")","v":""},{"$f":"IFERROR(OFFSET(CalculationsAndCharts!$B$32,'Transaction Summary'!B201,0,1,1),\"\")","v":""},{"$f":"IFERROR(OFFSET(CalculationsAndCharts!$D$32,'Transaction Summary'!B201,0,1,1),\"\")","v":""},{"$f":"IFERROR(IF($E$12>$B$15,$E$12,(MATCH(TRUE,OFFSET(CalculationsAndCharts!$Y$33,E200,0,'Transaction Summary'!$C$2-E200,1),0)+E200)),\"\")","v":""},{"$f":"IFERROR(OFFSET(CalculationsAndCharts!$B$32,'Transaction Summary'!E201,0,1,1),\"\")","v":""},{"$f":"IFERROR(OFFSET(CalculationsAndCharts!$D$32,'Transaction Summary'!E201,0,1,1),\"\")","v":""},"","",null,{"$f":"IFERROR(MATCH(TRUE,OFFSET(CalculationsAndCharts!$AE$33,K200,0,'Transaction Summary'!$C$2-K200,1),0)+K200,\"\")","v":""},{"$f":"IFERROR(OFFSET(CalculationsAndCharts!$B$32,'Transaction Summary'!K201,0,1,1),\"\")","v":""},{"$f":"IFERROR(OFFSET(CalculationsAndCharts!$D$32,'Transaction Summary'!K201,0,1,1),\"\")","v":""},{"$f":"IFERROR(IF($N$12>$K$15,$N$12,MATCH(TRUE,OFFSET(CalculationsAndCharts!$AH$33,N200,0,'Transaction Summary'!$C$2-N200,1),0)+N200),\"\")","v":""},{"$f":"IFERROR(OFFSET(CalculationsAndCharts!$B$32,'Transaction Summary'!N201,0,1,1),\"\")","v":""},{"$f":"IFERROR(OFFSET(CalculationsAndCharts!$D$32,'Transaction Summary'!N201,0,1,1),\"\")","v":""},"",""]
[null,{"$f":"IFERROR(MATCH(TRUE,OFFSET(CalculationsAndCharts!$V$33,B201,0,'Transaction Summary'!$C$2-B201,1),0)+B201,\"\")","v":""},{"$f":"IFERROR(OFFSET(CalculationsAndCharts!$B$32,'Transaction Summary'!B202,0,1,1),\"\")","v":""},{"$f":"IFERROR(OFFSET(CalculationsAndCharts!$D$32,'Transaction Summary'!B202,0,1,1),\"\")","v":""},{"$f":"IFERROR(IF($E$12>$B$15,$E$12,(MATCH(TRUE,OFFSET(CalculationsAndCharts!$Y$33,E201,0,'Transaction Summary'!$C$2-E201,1),0)+E201)),\"\")","v":""},{"$f":"IFERROR(OFFSET(CalculationsAndCharts!$B$32,'Transaction Summary'!E202,0,1,1),\"\")","v":""},{"$f":"IFERROR(OFFSET(CalculationsAndCharts!$D$32,'Transaction Summary'!E202,0,1,1),\"\")","v":""},"","",null,{"$f":"IFERROR(MATCH(TRUE,OFFSET(CalculationsAndCharts!$AE$33,K201,0,'Transaction Summary'!$C$2-K201,1),0)+K201,\"\")","v":""},{"$f":"IFERROR(OFFSET(CalculationsAndCharts!$B$32,'Transaction Summary'!K202,0,1,1),\"\")","v":""},{"$f":"IFERROR(OFFSET(CalculationsAndCharts!$D$32,'Transaction Summary'!K202,0,1,1),\"\")","v":""},{"$f":"IFERROR(IF($N$12>$K$15,$N$12,MATCH(TRUE,OFFSET(CalculationsAndCharts!$AH$33,N201,0,'Transaction Summary'!$C$2-N201,1),0)+N201),\"\")","v":""},{"$f":"IFERROR(OFFSET(CalculationsAndCharts!$B$32,'Transaction Summary'!N202,0,1,1),\"\")","v":""},{"$f":"IFERROR(OFFSET(CalculationsAndCharts!$D$32,'Transaction Summary'!N202,0,1,1),\"\")","v":""},"",""]
[null,{"$f":"IFERROR(MATCH(TRUE,OFFSET(CalculationsAndCharts!$V$33,B202,0,'Transaction Summary'!$C$2-B202,1),0)+B202,\"\")","v":""},{"$f":"IFERROR(OFFSET(CalculationsAndCharts!$B$32,'Transaction Summary'!B203,0,1,1),\"\")","v":""},{"$f":"IFERROR(OFFSET(CalculationsAndCharts!$D$32,'Transaction Summary'!B203,0,1,1),\"\")","v":""},{"$f":"IFERROR(IF($E$12>$B$15,$E$12,(MATCH(TRUE,OFFSET(CalculationsAndCharts!$Y$33,E202,0,'Transaction Summary'!$C$2-E202,1),0)+E202)),\"\")","v":""},{"$f":"IFERROR(OFFSET(CalculationsAndCharts!$B$32,'Transaction Summary'!E203,0,1,1),\"\")","v":""},{"$f":"IFERROR(OFFSET(CalculationsAndCharts!$D$32,'Transaction Summary'!E203,0,1,1),\"\")","v":""},"","",null,{"$f":"IFERROR(MATCH(TRUE,OFFSET(CalculationsAndCharts!$AE$33,K202,0,'Transaction Summary'!$C$2-K202,1),0)+K202,\"\")","v":""},{"$f":"IFERROR(OFFSET(CalculationsAndCharts!$B$32,'Transaction Summary'!K203,0,1,1),\"\")","v":""},{"$f":"IFERROR(OFFSET(CalculationsAndCharts!$D$32,'Transaction Summary'!K203,0,1,1),\"\")","v":""},{"$f":"IFERROR(IF($N$12>$K$15,$N$12,MATCH(TRUE,OFFSET(CalculationsAndCharts!$AH$33,N202,0,'Transaction Summary'!$C$2-N202,1),0)+N202),\"\")","v":""},{"$f":"IFERROR(OFFSET(CalculationsAndCharts!$B$32,'Transaction Summary'!N203,0,1,1),\"\")","v":""},{"$f":"IFERROR(OFFSET(CalculationsAndCharts!$D$32,'Transaction Summary'!N203,0,1,1),\"\")","v":""},"",""]
[null,{"$f":"IFERROR(MATCH(TRUE,OFFSET(CalculationsAndCharts!$V$33,B203,0,'Transaction Summary'!$C$2-B203,1),0)+B203,\"\")","v":""},{"$f":"IFERROR(OFFSET(CalculationsAndCharts!$B$32,'Transaction Summary'!B204,0,1,1),\"\")","v":""},{"$f":"IFERROR(OFFSET(CalculationsAndCharts!$D$32,'Transaction Summary'!B204,0,1,1),\"\")","v":""},{"$f":"IFERROR(IF($E$12>$B$15,$E$12,(MATCH(TRUE,OFFSET(CalculationsAndCharts!$Y$33,E203,0,'Transaction Summary'!$C$2-E203,1),0)+E203)),\"\")","v":""},{"$f":"IFERROR(OFFSET(CalculationsAndCharts!$B$32,'Transaction Summary'!E204,0,1,1),\"\")","v":""},{"$f":"IFERROR(OFFSET(CalculationsAndCharts!$D$32,'Transaction Summary'!E204,0,1,1),\"\")","v":""},"","",null,{"$f":"IFERROR(MATCH(TRUE,OFFSET(CalculationsAndCharts!$AE$33,K203,0,'Transaction Summary'!$C$2-K203,1),0)+K203,\"\")","v":""},{"$f":"IFERROR(OFFSET(CalculationsAndCharts!$B$32,'Transaction Summary'!K204,0,1,1),\"\")","v":""},{"$f":"IFERROR(OFFSET(CalculationsAndCharts!$D$32,'Transaction Summary'!K204,0,1,1),\"\")","v":""},{"$f":"IFERROR(IF($N$12>$K$15,$N$12,MATCH(TRUE,OFFSET(CalculationsAndCharts!$AH$33,N203,0,'Transaction Summary'!$C$2-N203,1),0)+N203),\"\")","v":""},{"$f":"IFERROR(OFFSET(CalculationsAndCharts!$B$32,'Transaction Summary'!N204,0,1,1),\"\")","v":""},{"$f":"IFERROR(OFFSET(CalculationsAndCharts!$D$32,'Transaction Summary'!N204,0,1,1),\"\")","v":""},"",""]
[null,{"$f":"IFERROR(MATCH(TRUE,OFFSET(CalculationsAndCharts!$V$33,B204,0,'Transaction Summary'!$C$2-B204,1),0)+B204,\"\")","v":""},{"$f":"IFERROR(OFFSET(CalculationsAndCharts!$B$32,'Transaction Summary'!B205,0,1,1),\"\")","v":""},{"$f":"IFERROR(OFFSET(CalculationsAndCharts!$D$32,'Transaction Summary'!B205,0,1,1),\"\")","v":""},{"$f":"IFERROR(IF($E$12>$B$15,$E$12,(MATCH(TRUE,OFFSET(CalculationsAndCharts!$Y$33,E204,0,'Transaction Summary'!$C$2-E204,1),0)+E204)),\"\")","v":""},{"$f":"IFERROR(OFFSET(CalculationsAndCharts!$B$32,'Transaction Summary'!E205,0,1,1),\"\")","v":""},{"$f":"IFERROR(OFFSET(CalculationsAndCharts!$D$32,'Transaction Summary'!E205,0,1,1),\"\")","v":""},"","",null,{"$f":"IFERROR(MATCH(TRUE,OFFSET(CalculationsAndCharts!$AE$33,K204,0,'Transaction Summary'!$C$2-K204,1),0)+K204,\"\")","v":""},{"$f":"IFERROR(OFFSET(CalculationsAndCharts!$B$32,'Transaction Summary'!K205,0,1,1),\"\")","v":""},{"$f":"IFERROR(OFFSET(CalculationsAndCharts!$D$32,'Transaction Summary'!K205,0,1,1),\"\")","v":""},{"$f":"IFERROR(IF($N$12>$K$15,$N$12,MATCH(TRUE,OFFSET(CalculationsAndCharts!$AH$33,N204,0,'Transaction Summary'!$C$2-N204,1),0)+N204),\"\")","v":""},{"$f":"IFERROR(OFFSET(CalculationsAndCharts!$B$32,'Transaction Summary'!N205,0,1,1),\"\")","v":""},{"$f":"IFERROR(OFFSET(CalculationsAndCharts!$D$32,'Transaction Summary'!N205,0,1,1),\"\")","v":""},"",""]
[null,{"$f":"IFERROR(MATCH(TRUE,OFFSET(CalculationsAndCharts!$V$33,B205,0,'Transaction Summary'!$C$2-B205,1),0)+B205,\"\")","v":""},{"$f":"IFERROR(OFFSET(CalculationsAndCharts!$B$32,'Transaction Summary'!B206,0,1,1),\"\")","v":""},{"$f":"IFERROR(OFFSET(CalculationsAndCharts!$D$32,'Transaction Summary'!B206,0,1,1),\"\")","v":""},{"$f":"IFERROR(IF($E$12>$B$15,$E$12,(MATCH(TRUE,OFFSET(CalculationsAndCharts!$Y$33,E205,0,'Transaction Summary'!$C$2-E205,1),0)+E205)),\"\")","v":""},{"$f":"IFERROR(OFFSET(CalculationsAndCharts!$B$32,'Transaction Summary'!E206,0,1,1),\"\")","v":""},{"$f":"IFERROR(OFFSET(CalculationsAndCharts!$D$32,'Transaction Summary'!E206,0,1,1),\"\")","v":""},"","",null,{"$f":"IFERROR(MATCH(TRUE,OFFSET(CalculationsAndCharts!$AE$33,K205,0,'Transaction Summary'!$C$2-K205,1),0)+K205,\"\")","v":""},{"$f":"IFERROR(OFFSET(CalculationsAndCharts!$B$32,'Transaction Summary'!K206,0,1,1),\"\")","v":""},{"$f":"IFERROR(OFFSET(CalculationsAndCharts!$D$32,'Transaction Summary'!K206,0,1,1),\"\")","v":""},{"$f":"IFERROR(IF($N$12>$K$15,$N$12,MATCH(TRUE,OFFSET(CalculationsAndCharts!$AH$33,N205,0,'Transaction Summary'!$C$2-N205,1),0)+N205),\"\")","v":""},{"$f":"IFERROR(OFFSET(CalculationsAndCharts!$B$32,'Transaction Summary'!N206,0,1,1),\"\")","v":""},{"$f":"IFERROR(OFFSET(CalculationsAndCharts!$D$32,'Transaction Summary'!N206,0,1,1),\"\")","v":""},"",""]
[null,{"$f":"IFERROR(MATCH(TRUE,OFFSET(CalculationsAndCharts!$V$33,B206,0,'Transaction Summary'!$C$2-B206,1),0)+B206,\"\")","v":""},{"$f":"IFERROR(OFFSET(CalculationsAndCharts!$B$32,'Transaction Summary'!B207,0,1,1),\"\")","v":""},{"$f":"IFERROR(OFFSET(CalculationsAndCharts!$D$32,'Transaction Summary'!B207,0,1,1),\"\")","v":""},{"$f":"IFERROR(IF($E$12>$B$15,$E$12,(MATCH(TRUE,OFFSET(CalculationsAndCharts!$Y$33,E206,0,'Transaction Summary'!$C$2-E206,1),0)+E206)),\"\")","v":""},{"$f":"IFERROR(OFFSET(CalculationsAndCharts!$B$32,'Transaction Summary'!E207,0,1,1),\"\")","v":""},{"$f":"IFERROR(OFFSET(CalculationsAndCharts!$D$32,'Transaction Summary'!E207,0,1,1),\"\")","v":""},"","",null,{"$f":"IFERROR(MATCH(TRUE,OFFSET(CalculationsAndCharts!$AE$33,K206,0,'Transaction Summary'!$C$2-K206,1),0)+K206,\"\")","v":""},{"$f":"IFERROR(OFFSET(CalculationsAndCharts!$B$32,'Transaction Summary'!K207,0,1,1),\"\")","v":""},{"$f":"IFERROR(OFFSET(CalculationsAndCharts!$D$32,'Transaction Summary'!K207,0,1,1),\"\")","v":""},{"$f":"IFERROR(IF($N$12>$K$15,$N$12,MATCH(TRUE,OFFSET(CalculationsAndCharts!$AH$33,N206,0,'Transaction Summary'!$C$2-N206,1),0)+N206),\"\")","v":""},{"$f":"IFERROR(OFFSET(CalculationsAndCharts!$B$32,'Transaction Summary'!N207,0,1,1),\"\")","v":""},{"$f":"IFERROR(OFFSET(CalculationsAndCharts!$D$32,'Transaction Summary'!N207,0,1,1),\"\")","v":""},"",""]
[null,{"$f":"IFERROR(MATCH(TRUE,OFFSET(CalculationsAndCharts!$V$33,B207,0,'Transaction Summary'!$C$2-B207,1),0)+B207,\"\")","v":""},{"$f":"IFERROR(OFFSET(CalculationsAndCharts!$B$32,'Transaction Summary'!B208,0,1,1),\"\")","v":""},{"$f":"IFERROR(OFFSET(CalculationsAndCharts!$D$32,'Transaction Summary'!B208,0,1,1),\"\")","v":""},{"$f":"IFERROR(IF($E$12>$B$15,$E$12,(MATCH(TRUE,OFFSET(CalculationsAndCharts!$Y$33,E207,0,'Transaction Summary'!$C$2-E207,1),0)+E207)),\"\")","v":""},{"$f":"IFERROR(OFFSET(CalculationsAndCharts!$B$32,'Transaction Summary'!E208,0,1,1),\"\")","v":""},{"$f":"IFERROR(OFFSET(CalculationsAndCharts!$D$32,'Transaction Summary'!E208,0,1,1),\"\")","v":""},"","",null,{"$f":"IFERROR(MATCH(TRUE,OFFSET(CalculationsAndCharts!$AE$33,K207,0,'Transaction Summary'!$C$2-K207,1),0)+K207,\"\")","v":""},{"$f":"IFERROR(OFFSET(CalculationsAndCharts!$B$32,'Transaction Summary'!K208,0,1,1),\"\")","v":""},{"$f":"IFERROR(OFFSET(CalculationsAndCharts!$D$32,'Transaction Summary'!K208,0,1,1),\"\")","v":""},{"$f":"IFERROR(IF($N$12>$K$15,$N$12,MATCH(TRUE,OFFSET(CalculationsAndCharts!$AH$33,N207,0,'Transaction Summary'!$C$2-N207,1),0)+N207),\"\")","v":""},{"$f":"IFERROR(OFFSET(CalculationsAndCharts!$B$32,'Transaction Summary'!N208,0,1,1),\"\")","v":""},{"$f":"IFERROR(OFFSET(CalculationsAndCharts!$D$32,'Transaction Summary'!N208,0,1,1),\"\")","v":""},"",""]
[null,{"$f":"IFERROR(MATCH(TRUE,OFFSET(CalculationsAndCharts!$V$33,B208,0,'Transaction Summary'!$C$2-B208,1),0)+B208,\"\")","v":""},{"$f":"IFERROR(OFFSET(CalculationsAndCharts!$B$32,'Transaction Summary'!B209,0,1,1),\"\")","v":""},{"$f":"IFERROR(OFFSET(CalculationsAndCharts!$D$32,'Transaction Summary'!B209,0,1,1),\"\")","v":""},{"$f":"IFERROR(IF($E$12>$B$15,$E$12,(MATCH(TRUE,OFFSET(CalculationsAndCharts!$Y$33,E208,0,'Transaction Summary'!$C$2-E208,1),0)+E208)),\"\")","v":""},{"$f":"IFERROR(OFFSET(CalculationsAndCharts!$B$32,'Transaction Summary'!E209,0,1,1),\"\")","v":""},{"$f":"IFERROR(OFFSET(CalculationsAndCharts!$D$32,'Transaction Summary'!E209,0,1,1),\"\")","v":""},"","",null,{"$f":"IFERROR(MATCH(TRUE,OFFSET(CalculationsAndCharts!$AE$33,K208,0,'Transaction Summary'!$C$2-K208,1),0)+K208,\"\")","v":""},{"$f":"IFERROR(OFFSET(CalculationsAndCharts!$B$32,'Transaction Summary'!K209,0,1,1),\"\")","v":""},{"$f":"IFERROR(OFFSET(CalculationsAndCharts!$D$32,'Transaction Summary'!K209,0,1,1),\"\")","v":""},{"$f":"IFERROR(IF($N$12>$K$15,$N$12,MATCH(TRUE,OFFSET(CalculationsAndCharts!$AH$33,N208,0,'Transaction Summary'!$C$2-N208,1),0)+N208),\"\")","v":""},{"$f":"IFERROR(OFFSET(CalculationsAndCharts!$B$32,'Transaction Summary'!N209,0,1,1),\"\")","v":""},{"$f":"IFERROR(OFFSET(CalculationsAndCharts!$D$32,'Transaction Summary'!N209,0,1,1),\"\")","v":""},"",""]
[null,{"$f":"IFERROR(MATCH(TRUE,OFFSET(CalculationsAndCharts!$V$33,B209,0,'Transaction Summary'!$C$2-B209,1),0)+B209,\"\")","v":""},{"$f":"IFERROR(OFFSET(CalculationsAndCharts!$B$32,'Transaction Summary'!B210,0,1,1),\"\")","v":""},{"$f":"IFERROR(OFFSET(CalculationsAndCharts!$D$32,'Transaction Summary'!B210,0,1,1),\"\")","v":""},{"$f":"IFERROR(IF($E$12>$B$15,$E$12,(MATCH(TRUE,OFFSET(CalculationsAndCharts!$Y$33,E209,0,'Transaction Summary'!$C$2-E209,1),0)+E209)),\"\")","v":""},{"$f":"IFERROR(OFFSET(CalculationsAndCharts!$B$32,'Transaction Summary'!E210,0,1,1),\"\")","v":""},{"$f":"IFERROR(OFFSET(CalculationsAndCharts!$D$32,'Transaction Summary'!E210,0,1,1),\"\")","v":""},"","",null,{"$f":"IFERROR(MATCH(TRUE,OFFSET(CalculationsAndCharts!$AE$33,K209,0,'Transaction Summary'!$C$2-K209,1),0)+K209,\"\")","v":""},{"$f":"IFERROR(OFFSET(CalculationsAndCharts!$B$32,'Transaction Summary'!K210,0,1,1),\"\")","v":""},{"$f":"IFERROR(OFFSET(CalculationsAndCharts!$D$32,'Transaction Summary'!K210,0,1,1),\"\")","v":""},{"$f":"IFERROR(IF($N$12>$K$15,$N$12,MATCH(TRUE,OFFSET(CalculationsAndCharts!$AH$33,N209,0,'Transaction Summary'!$C$2-N209,1),0)+N209),\"\")","v":""},{"$f":"IFERROR(OFFSET(CalculationsAndCharts!$B$32,'Transaction Summary'!N210,0,1,1),\"\")","v":""},{"$f":"IFERROR(OFFSET(CalculationsAndCharts!$D$32,'Transaction Summary'!N210,0,1,1),\"\")","v":""},{"$f":"IFERROR(M210-P210,\"\")","v":""},{"$f":"IFERROR(Q210+IF(\"\"=R211,0,R211),\"\")","v":""}]
[null,{"$f":"IFERROR(MATCH(TRUE,OFFSET(CalculationsAndCharts!$V$33,B210,0,'Transaction Summary'!$C$2-B210,1),0)+B210,\"\")","v":""},{"$f":"IFERROR(OFFSET(CalculationsAndCharts!$B$32,'Transaction Summary'!B211,0,1,1),\"\")","v":""},{"$f":"IFERROR(OFFSET(CalculationsAndCharts!$D$32,'Transaction Summary'!B211,0,1,1),\"\")","v":""},{"$f":"IFERROR(IF($E$12>$B$15,$E$12,(MATCH(TRUE,OFFSET(CalculationsAndCharts!$Y$33,E210,0,'Transaction Summary'!$C$2-E210,1),0)+E210)),\"\")","v":""},{"$f":"IFERROR(OFFSET(CalculationsAndCharts!$B$32,'Transaction Summary'!E211,0,1,1),\"\")","v":""},{"$f":"IFERROR(OFFSET(CalculationsAndCharts!$D$32,'Transaction Summary'!E211,0,1,1),\"\")","v":""},"","",null,{"$f":"IFERROR(MATCH(TRUE,OFFSET(CalculationsAndCharts!$AE$33,K210,0,'Transaction Summary'!$C$2-K210,1),0)+K210,\"\")","v":""},{"$f":"IFERROR(OFFSET(CalculationsAndCharts!$B$32,'Transaction Summary'!K211,0,1,1),\"\")","v":""},{"$f":"IFERROR(OFFSET(CalculationsAndCharts!$D$32,'Transaction Summary'!K211,0,1,1),\"\")","v":""},{"$f":"IFERROR(IF($N$12>$K$15,$N$12,MATCH(TRUE,OFFSET(CalculationsAndCharts!$AH$33,N210,0,'Transaction Summary'!$C$2-N210,1),0)+N210),\"\")","v":""},{"$f":"IFERROR(OFFSET(CalculationsAndCharts!$B$32,'Transaction Summary'!N211,0,1,1),\"\")","v":""},{"$f":"IFERROR(OFFSET(CalculationsAndCharts!$D$32,'Transaction Summary'!N211,0,1,1),\"\")","v":""},"",""]
[null,{"$f":"IFERROR(MATCH(TRUE,OFFSET(CalculationsAndCharts!$V$33,B211,0,'Transaction Summary'!$C$2-B211,1),0)+B211,\"\")","v":""},{"$f":"IFERROR(OFFSET(CalculationsAndCharts!$B$32,'Transaction Summary'!B212,0,1,1),\"\")","v":""},{"$f":"IFERROR(OFFSET(CalculationsAndCharts!$D$32,'Transaction Summary'!B212,0,1,1),\"\")","v":""},{"$f":"IFERROR(IF($E$12>$B$15,$E$12,(MATCH(TRUE,OFFSET(CalculationsAndCharts!$Y$33,E211,0,'Transaction Summary'!$C$2-E211,1),0)+E211)),\"\")","v":""},{"$f":"IFERROR(OFFSET(CalculationsAndCharts!$B$32,'Transaction Summary'!E212,0,1,1),\"\")","v":""},{"$f":"IFERROR(OFFSET(CalculationsAndCharts!$D$32,'Transaction Summary'!E212,0,1,1),\"\")","v":""},"","",null,{"$f":"IFERROR(MATCH(TRUE,OFFSET(CalculationsAndCharts!$AE$33,K211,0,'Transaction Summary'!$C$2-K211,1),0)+K211,\"\")","v":""},{"$f":"IFERROR(OFFSET(CalculationsAndCharts!$B$32,'Transaction Summary'!K212,0,1,1),\"\")","v":""},{"$f":"IFERROR(OFFSET(CalculationsAndCharts!$D$32,'Transaction Summary'!K212,0,1,1),\"\")","v":""},{"$f":"IFERROR(IF($N$12>$K$15,$N$12,MATCH(TRUE,OFFSET(CalculationsAndCharts!$AH$33,N211,0,'Transaction Summary'!$C$2-N211,1),0)+N211),\"\")","v":""},{"$f":"IFERROR(OFFSET(CalculationsAndCharts!$B$32,'Transaction Summary'!N212,0,1,1),\"\")","v":""},{"$f":"IFERROR(OFFSET(CalculationsAndCharts!$D$32,'Transaction Summary'!N212,0,1,1),\"\")","v":""},"",""]
[null,{"$f":"IFERROR(MATCH(TRUE,OFFSET(CalculationsAndCharts!$V$33,B212,0,'Transaction Summary'!$C$2-B212,1),0)+B212,\"\")","v":""},{"$f":"IFERROR(OFFSET(CalculationsAndCharts!$B$32,'Transaction Summary'!B213,0,1,1),\"\")","v":""},{"$f":"IFERROR(OFFSET(CalculationsAndCharts!$D$32,'Transaction Summary'!B213,0,1,1),\"\")","v":""},{"$f":"IFERROR(IF($E$12>$B$15,$E$12,(MATCH(TRUE,OFFSET(CalculationsAndCharts!$Y$33,E212,0,'Transaction Summary'!$C$2-E212,1),0)+E212)),\"\")","v":""},{"$f":"IFERROR(OFFSET(CalculationsAndCharts!$B$32,'Transaction Summary'!E213,0,1,1),\"\")","v":""},{"$f":"IFERROR(OFFSET(CalculationsAndCharts!$D$32,'Transaction Summary'!E213,0,1,1),\"\")","v":""},"","",null,{"$f":"IFERROR(MATCH(TRUE,OFFSET(CalculationsAndCharts!$AE$33,K212,0,'Transaction Summary'!$C$2-K212,1),0)+K212,\"\")","v":""},{"$f":"IFERROR(OFFSET(CalculationsAndCharts!$B$32,'Transaction Summary'!K213,0,1,1),\"\")","v":""},{"$f":"IFERROR(OFFSET(CalculationsAndCharts!$D$32,'Transaction Summary'!K213,0,1,1),\"\")","v":""},{"$f":"IFERROR(IF($N$12>$K$15,$N$12,MATCH(TRUE,OFFSET(CalculationsAndCharts!$AH$33,N212,0,'Transaction Summary'!$C$2-N212,1),0)+N212),\"\")","v":""},{"$f":"IFERROR(OFFSET(CalculationsAndCharts!$B$32,'Transaction Summary'!N213,0,1,1),\"\")","v":""},{"$f":"IFERROR(OFFSET(CalculationsAndCharts!$D$32,'Transaction Summary'!N213,0,1,1),\"\")","v":""},"",""]
[null,{"$f":"IFERROR(MATCH(TRUE,OFFSET(CalculationsAndCharts!$V$33,B213,0,'Transaction Summary'!$C$2-B213,1),0)+B213,\"\")","v":""},{"$f":"IFERROR(OFFSET(CalculationsAndCharts!$B$32,'Transaction Summary'!B214,0,1,1),\"\")","v":""},{"$f":"IFERROR(OFFSET(CalculationsAndCharts!$D$32,'Transaction Summary'!B214,0,1,1),\"\")","v":""},{"$f":"IFERROR(IF($E$12>$B$15,$E$12,(MATCH(TRUE,OFFSET(CalculationsAndCharts!$Y$33,E213,0,'Transaction Summary'!$C$2-E213,1),0)+E213)),\"\")","v":""},{"$f":"IFERROR(OFFSET(CalculationsAndCharts!$B$32,'Transaction Summary'!E214,0,1,1),\"\")","v":""},{"$f":"IFERROR(OFFSET(CalculationsAndCharts!$D$32,'Transaction Summary'!E214,0,1,1),\"\")","v":""},"","",null,{"$f":"IFERROR(MATCH(TRUE,OFFSET(CalculationsAndCharts!$AE$33,K213,0,'Transaction Summary'!$C$2-K213,1),0)+K213,\"\")","v":""},{"$f":"IFERROR(OFFSET(CalculationsAndCharts!$B$32,'Transaction Summary'!K214,0,1,1),\"\")","v":""},{"$f":"IFERROR(OFFSET(CalculationsAndCharts!$D$32,'Transaction Summary'!K214,0,1,1),\"\")","v":""},{"$f":"IFERROR(IF($N$12>$K$15,$N$12,MATCH(TRUE,OFFSET(CalculationsAndCharts!$AH$33,N213,0,'Transaction Summary'!$C$2-N213,1),0)+N213),\"\")","v":""},{"$f":"IFERROR(OFFSET(CalculationsAndCharts!$B$32,'Transaction Summary'!N214,0,1,1),\"\")","v":""},{"$f":"IFERROR(OFFSET(CalculationsAndCharts!$D$32,'Transaction Summary'!N214,0,1,1),\"\")","v":""},"",""]
[null,{"$f":"IFERROR(MATCH(TRUE,OFFSET(CalculationsAndCharts!$V$33,B214,0,'Transaction Summary'!$C$2-B214,1),0)+B214,\"\")","v":""},{"$f":"IFERROR(OFFSET(CalculationsAndCharts!$B$32,'Transaction Summary'!B215,0,1,1),\"\")","v":""},{"$f":"IFERROR(OFFSET(CalculationsAndCharts!$D$32,'Transaction Summary'!B215,0,1,1),\"\")","v":""},{"$f":"IFERROR(IF($E$12>$B$15,$E$12,(MATCH(TRUE,OFFSET(CalculationsAndCharts!$Y$33,E214,0,'Transaction Summary'!$C$2-E214,1),0)+E214)),\"\")","v":""},{"$f":"IFERROR(OFFSET(CalculationsAndCharts!$B$32,'Transaction Summary'!E215,0,1,1),\"\")","v":""},{"$f":"IFERROR(OFFSET(CalculationsAndCharts!$D$32,'Transaction Summary'!E215,0,1,1),\"\")","v":""},"","",null,{"$f":"IFERROR(MATCH(TRUE,OFFSET(CalculationsAndCharts!$AE$33,K214,0,'Transaction Summary'!$C$2-K214,1),0)+K214,\"\")","v":""},{"$f":"IFERROR(OFFSET(CalculationsAndCharts!$B$32,'Transaction Summary'!K215,0,1,1),\"\")","v":""},{"$f":"IFERROR(OFFSET(CalculationsAndCharts!$D$32,'Transaction Summary'!K215,0,1,1),\"\")","v":""},{"$f":"IFERROR(IF($N$12>$K$15,$N$12,MATCH(TRUE,OFFSET(CalculationsAndCharts!$AH$33,N214,0,'Transaction Summary'!$C$2-N214,1),0)+N214),\"\")","v":""},{"$f":"IFERROR(OFFSET(CalculationsAndCharts!$B$32,'Transaction Summary'!N215,0,1,1),\"\")","v":""},{"$f":"IFERROR(OFFSET(CalculationsAndCharts!$D$32,'Transaction Summary'!N215,0,1,1),\"\")","v":""},"",""]
[null,{"$f":"IFERROR(MATCH(TRUE,OFFSET(CalculationsAndCharts!$V$33,B215,0,'Transaction Summary'!$C$2-B215,1),0)+B215,\"\")","v":""},{"$f":"IFERROR(OFFSET(CalculationsAndCharts!$B$32,'Transaction Summary'!B216,0,1,1),\"\")","v":""},{"$f":"IFERROR(OFFSET(CalculationsAndCharts!$D$32,'Transaction Summary'!B216,0,1,1),\"\")","v":""},{"$f":"IFERROR(IF($E$12>$B$15,$E$12,(MATCH(TRUE,OFFSET(CalculationsAndCharts!$Y$33,E215,0,'Transaction Summary'!$C$2-E215,1),0)+E215)),\"\")","v":""},{"$f":"IFERROR(OFFSET(CalculationsAndCharts!$B$32,'Transaction Summary'!E216,0,1,1),\"\")","v":""},{"$f":"IFERROR(OFFSET(CalculationsAndCharts!$D$32,'Transaction Summary'!E216,0,1,1),\"\")","v":""},"","",null,{"$f":"IFERROR(MATCH(TRUE,OFFSET(CalculationsAndCharts!$AE$33,K215,0,'Transaction Summary'!$C$2-K215,1),0)+K215,\"\")","v":""},{"$f":"IFERROR(OFFSET(CalculationsAndCharts!$B$32,'Transaction Summary'!K216,0,1,1),\"\")","v":""},{"$f":"IFERROR(OFFSET(CalculationsAndCharts!$D$32,'Transaction Summary'!K216,0,1,1),\"\")","v":""},{"$f":"IFERROR(IF($N$12>$K$15,$N$12,MATCH(TRUE,OFFSET(CalculationsAndCharts!$AH$33,N215,0,'Transaction Summary'!$C$2-N215,1),0)+N215),\"\")","v":""},{"$f":"IFERROR(OFFSET(CalculationsAndCharts!$B$32,'Transaction Summary'!N216,0,1,1),\"\")","v":""},{"$f":"IFERROR(OFFSET(CalculationsAndCharts!$D$32,'Transaction Summary'!N216,0,1,1),\"\")","v":""},"",""]
[null,{"$f":"IFERROR(MATCH(TRUE,OFFSET(CalculationsAndCharts!$V$33,B216,0,'Transaction Summary'!$C$2-B216,1),0)+B216,\"\")","v":""},{"$f":"IFERROR(OFFSET(CalculationsAndCharts!$B$32,'Transaction Summary'!B217,0,1,1),\"\")","v":""},{"$f":"IFERROR(OFFSET(CalculationsAndCharts!$D$32,'Transaction Summary'!B217,0,1,1),\"\")","v":""},{"$f":"IFERROR(IF($E$12>$B$15,$E$12,(MATCH(TRUE,OFFSET(CalculationsAndCharts!$Y$33,E216,0,'Transaction Summary'!$C$2-E216,1),0)+E216)),\"\")","v":""},{"$f":"IFERROR(OFFSET(CalculationsAndCharts!$B$32,'Transaction Summary'!E217,0,1,1),\"\")","v":""},{"$f":"IFERROR(OFFSET(CalculationsAndCharts!$D$32,'Transaction Summary'!E217,0,1,1),\"\")","v":""},"","",null,{"$f":"IFERROR(MATCH(TRUE,OFFSET(CalculationsAndCharts!$AE$33,K216,0,'Transaction Summary'!$C$2-K216,1),0)+K216,\"\")","v":""},{"$f":"IFERROR(OFFSET(CalculationsAndCharts!$B$32,'Transaction Summary'!K217,0,1,1),\"\")","v":""},{"$f":"IFERROR(OFFSET(CalculationsAndCharts!$D$32,'Transaction Summary'!K217,0,1,1),\"\")","v":""},{"$f":"IFERROR(IF($N$12>$K$15,$N$12,MATCH(TRUE,OFFSET(CalculationsAndCharts!$AH$33,N216,0,'Transaction Summary'!$C$2-N216,1),0)+N216),\"\")","v":""},{"$f":"IFERROR(OFFSET(CalculationsAndCharts!$B$32,'Transaction Summary'!N217,0,1,1),\"\")","v":""},{"$f":"IFERROR(OFFSET(CalculationsAndCharts!$D$32,'Transaction Summary'!N217,0,1,1),\"\")","v":""},"",""]
[null,{"$f":"IFERROR(MATCH(TRUE,OFFSET(CalculationsAndCharts!$V$33,B217,0,'Transaction Summary'!$C$2-B217,1),0)+B217,\"\")","v":""},{"$f":"IFERROR(OFFSET(CalculationsAndCharts!$B$32,'Transaction Summary'!B218,0,1,1),\"\")","v":""},{"$f":"IFERROR(OFFSET(CalculationsAndCharts!$D$32,'Transaction Summary'!B218,0,1,1),\"\")","v":""},{"$f":"IFERROR(IF($E$12>$B$15,$E$12,(MATCH(TRUE,OFFSET(CalculationsAndCharts!$Y$33,E217,0,'Transaction Summary'!$C$2-E217,1),0)+E217)),\"\")","v":""},{"$f":"IFERROR(OFFSET(CalculationsAndCharts!$B$32,'Transaction Summary'!E218,0,1,1),\"\")","v":""},{"$f":"IFERROR(OFFSET(CalculationsAndCharts!$D$32,'Transaction Summary'!E218,0,1,1),\"\")","v":""},"","",null,{"$f":"IFERROR(MATCH(TRUE,OFFSET(CalculationsAndCharts!$AE$33,K217,0,'Transaction Summary'!$C$2-K217,1),0)+K217,\"\")","v":""},{"$f":"IFERROR(OFFSET(CalculationsAndCharts!$B$32,'Transaction Summary'!K218,0,1,1),\"\")","v":""},{"$f":"IFERROR(OFFSET(CalculationsAndCharts!$D$32,'Transaction Summary'!K218,0,1,1),\"\")","v":""},{"$f":"IFERROR(IF($N$12>$K$15,$N$12,MATCH(TRUE,OFFSET(CalculationsAndCharts!$AH$33,N217,0,'Transaction Summary'!$C$2-N217,1),0)+N217),\"\")","v":""},{"$f":"IFERROR(OFFSET(CalculationsAndCharts!$B$32,'Transaction Summary'!N218,0,1,1),\"\")","v":""},{"$f":"IFERROR(OFFSET(CalculationsAndCharts!$D$32,'Transaction Summary'!N218,0,1,1),\"\")","v":""},"",""]
[null,{"$f":"IFERROR(MATCH(TRUE,OFFSET(CalculationsAndCharts!$V$33,B218,0,'Transaction Summary'!$C$2-B218,1),0)+B218,\"\")","v":""},{"$f":"IFERROR(OFFSET(CalculationsAndCharts!$B$32,'Transaction Summary'!B219,0,1,1),\"\")","v":""},{"$f":"IFERROR(OFFSET(CalculationsAndCharts!$D$32,'Transaction Summary'!B219,0,1,1),\"\")","v":""},{"$f":"IFERROR(IF($E$12>$B$15,$E$12,(MATCH(TRUE,OFFSET(CalculationsAndCharts!$Y$33,E218,0,'Transaction Summary'!$C$2-E218,1),0)+E218)),\"\")","v":""},{"$f":"IFERROR(OFFSET(CalculationsAndCharts!$B$32,'Transaction Summary'!E219,0,1,1),\"\")","v":""},{"$f":"IFERROR(OFFSET(CalculationsAndCharts!$D$32,'Transaction Summary'!E219,0,1,1),\"\")","v":""},"","",null,{"$f":"IFERROR(MATCH(TRUE,OFFSET(CalculationsAndCharts!$AE$33,K218,0,'Transaction Summary'!$C$2-K218,1),0)+K218,\"\")","v":""},{"$f":"IFERROR(OFFSET(CalculationsAndCharts!$B$32,'Transaction Summary'!K219,0,1,1),\"\")","v":""},{"$f":"IFERROR(OFFSET(CalculationsAndCharts!$D$32,'Transaction Summary'!K219,0,1,1),\"\")","v":""},{"$f":"IFERROR(IF($N$12>$K$15,$N$12,MATCH(TRUE,OFFSET(CalculationsAndCharts!$AH$33,N218,0,'Transaction Summary'!$C$2-N218,1),0)+N218),\"\")","v":""},{"$f":"IFERROR(OFFSET(CalculationsAndCharts!$B$32,'Transaction Summary'!N219,0,1,1),\"\")","v":""},{"$f":"IFERROR(OFFSET(CalculationsAndCharts!$D$32,'Transaction Summary'!N219,0,1,1),\"\")","v":""},"",""]
[null,{"$f":"IFERROR(MATCH(TRUE,OFFSET(CalculationsAndCharts!$V$33,B219,0,'Transaction Summary'!$C$2-B219,1),0)+B219,\"\")","v":""},{"$f":"IFERROR(OFFSET(CalculationsAndCharts!$B$32,'Transaction Summary'!B220,0,1,1),\"\")","v":""},{"$f":"IFERROR(OFFSET(CalculationsAndCharts!$D$32,'Transaction Summary'!B220,0,1,1),\"\")","v":""},{"$f":"IFERROR(IF($E$12>$B$15,$E$12,(MATCH(TRUE,OFFSET(CalculationsAndCharts!$Y$33,E219,0,'Transaction Summary'!$C$2-E219,1),0)+E219)),\"\")","v":""},{"$f":"IFERROR(OFFSET(CalculationsAndCharts!$B$32,'Transaction Summary'!E220,0,1,1),\"\")","v":""},{"$f":"IFERROR(OFFSET(CalculationsAndCharts!$D$32,'Transaction Summary'!E220,0,1,1),\"\")","v":""},"","",null,{"$f":"IFERROR(MATCH(TRUE,OFFSET(CalculationsAndCharts!$AE$33,K219,0,'Transaction Summary'!$C$2-K219,1),0)+K219,\"\")","v":""},{"$f":"IFERROR(OFFSET(CalculationsAndCharts!$B$32,'Transaction Summary'!K220,0,1,1),\"\")","v":""},{"$f":"IFERROR(OFFSET(CalculationsAndCharts!$D$32,'Transaction Summary'!K220,0,1,1),\"\")","v":""},{"$f":"IFERROR(IF($N$12>$K$15,$N$12,MATCH(TRUE,OFFSET(CalculationsAndCharts!$AH$33,N219,0,'Transaction Summary'!$C$2-N219,1),0)+N219),\"\")","v":""},{"$f":"IFERROR(OFFSET(CalculationsAndCharts!$B$32,'Transaction Summary'!N220,0,1,1),\"\")","v":""},{"$f":"IFERROR(OFFSET(CalculationsAndCharts!$D$32,'Transaction Summary'!N220,0,1,1),\"\")","v":""},"",""]
[null,{"$f":"IFERROR(MATCH(TRUE,OFFSET(CalculationsAndCharts!$V$33,B220,0,'Transaction Summary'!$C$2-B220,1),0)+B220,\"\")","v":""},{"$f":"IFERROR(OFFSET(CalculationsAndCharts!$B$32,'Transaction Summary'!B221,0,1,1),\"\")","v":""},{"$f":"IFERROR(OFFSET(CalculationsAndCharts!$D$32,'Transaction Summary'!B221,0,1,1),\"\")","v":""},{"$f":"IFERROR(IF($E$12>$B$15,$E$12,(MATCH(TRUE,OFFSET(CalculationsAndCharts!$Y$33,E220,0,'Transaction Summary'!$C$2-E220,1),0)+E220)),\"\")","v":""},{"$f":"IFERROR(OFFSET(CalculationsAndCharts!$B$32,'Transaction Summary'!E221,0,1,1),\"\")","v":""},{"$f":"IFERROR(OFFSET(CalculationsAndCharts!$D$32,'Transaction Summary'!E221,0,1,1),\"\")","v":""},"","",null,{"$f":"IFERROR(MATCH(TRUE,OFFSET(CalculationsAndCharts!$AE$33,K220,0,'Transaction Summary'!$C$2-K220,1),0)+K220,\"\")","v":""},{"$f":"IFERROR(OFFSET(CalculationsAndCharts!$B$32,'Transaction Summary'!K221,0,1,1),\"\")","v":""},{"$f":"IFERROR(OFFSET(CalculationsAndCharts!$D$32,'Transaction Summary'!K221,0,1,1),\"\")","v":""},{"$f":"IFERROR(IF($N$12>$K$15,$N$12,MATCH(TRUE,OFFSET(CalculationsAndCharts!$AH$33,N220,0,'Transaction Summary'!$C$2-N220,1),0)+N220),\"\")","v":""},{"$f":"IFERROR(OFFSET(CalculationsAndCharts!$B$32,'Transaction Summary'!N221,0,1,1),\"\")","v":""},{"$f":"IFERROR(OFFSET(CalculationsAndCharts!$D$32,'Transaction Summary'!N221,0,1,1),\"\")","v":""},"",""]
[null,{"$f":"IFERROR(MATCH(TRUE,OFFSET(CalculationsAndCharts!$V$33,B221,0,'Transaction Summary'!$C$2-B221,1),0)+B221,\"\")","v":""},{"$f":"IFERROR(OFFSET(CalculationsAndCharts!$B$32,'Transaction Summary'!B222,0,1,1),\"\")","v":""},{"$f":"IFERROR(OFFSET(CalculationsAndCharts!$D$32,'Transaction Summary'!B222,0,1,1),\"\")","v":""},{"$f":"IFERROR(IF($E$12>$B$15,$E$12,(MATCH(TRUE,OFFSET(CalculationsAndCharts!$Y$33,E221,0,'Transaction Summary'!$C$2-E221,1),0)+E221)),\"\")","v":""},{"$f":"IFERROR(OFFSET(CalculationsAndCharts!$B$32,'Transaction Summary'!E222,0,1,1),\"\")","v":""},{"$f":"IFERROR(OFFSET(CalculationsAndCharts!$D$32,'Transaction Summary'!E222,0,1,1),\"\")","v":""},{"$f":"IFERROR(G222-D222,\"\")","v":""},{"$f":"IFERROR(H222+IF(\"\"=I223,0,I223),\"\")","v":""},null,{"$f":"IFERROR(MATCH(TRUE,OFFSET(CalculationsAndCharts!$AE$33,K221,0,'Transaction Summary'!$C$2-K221,1),0)+K221,\"\")","v":""},{"$f":"IFERROR(OFFSET(CalculationsAndCharts!$B$32,'Transaction Summary'!K222,0,1,1),\"\")","v":""},{"$f":"IFERROR(OFFSET(CalculationsAndCharts!$D$32,'Transaction Summary'!K222,0,1,1),\"\")","v":""},{"$f":"IFERROR(IF($N$12>$K$15,$N$12,MATCH(TRUE,OFFSET(CalculationsAndCharts!$AH$33,N221,0,'Transaction Summary'!$C$2-N221,1),0)+N221),\"\")","v":""},{"$f":"IFERROR(OFFSET(CalculationsAndCharts!$B$32,'Transaction Summary'!N222,0,1,1),\"\")","v":""},{"$f":"IFERROR(OFFSET(CalculationsAndCharts!$D$32,'Transaction Summary'!N222,0,1,1),\"\")","v":""},"",""]
[null,{"$f":"IFERROR(MATCH(TRUE,OFFSET(CalculationsAndCharts!$V$33,B222,0,'Transaction Summary'!$C$2-B222,1),0)+B222,\"\")","v":""},{"$f":"IFERROR(OFFSET(CalculationsAndCharts!$B$32,'Transaction Summary'!B223,0,1,1),\"\")","v":""},{"$f":"IFERROR(OFFSET(CalculationsAndCharts!$D$32,'Transaction Summary'!B223,0,1,1),\"\")","v":""},{"$f":"IFERROR(IF($E$12>$B$15,$E$12,(MATCH(TRUE,OFFSET(CalculationsAndCharts!$Y$33,E222,0,'Transaction Summary'!$C$2-E222,1),0)+E222)),\"\")","v":""},{"$f":"IFERROR(OFFSET(CalculationsAndCharts!$B$32,'Transaction Summary'!E223,0,1,1),\"\")","v":""},{"$f":"IFERROR(OFFSET(CalculationsAndCharts!$D$32,'Transaction Summary'!E223,0,1,1),\"\")","v":""},"","",null,{"$f":"IFERROR(MATCH(TRUE,OFFSET(CalculationsAndCharts!$AE$33,K222,0,'Transaction Summary'!$C$2-K222,1),0)+K222,\"\")","v":""},{"$f":"IFERROR(OFFSET(CalculationsAndCharts!$B$32,'Transaction Summary'!K223,0,1,1),\"\")","v":""},{"$f":"IFERROR(OFFSET(CalculationsAndCharts!$D$32,'Transaction Summary'!K223,0,1,1),\"\")","v":""},{"$f":"IFERROR(IF($N$12>$K$15,$N$12,MATCH(TRUE,OFFSET(CalculationsAndCharts!$AH$33,N222,0,'Transaction Summary'!$C$2-N222,1),0)+N222),\"\")","v":""},{"$f":"IFERROR(OFFSET(CalculationsAndCharts!$B$32,'Transaction Summary'!N223,0,1,1),\"\")","v":""},{"$f":"IFERROR(OFFSET(CalculationsAndCharts!$D$32,'Transaction Summary'!N223,0,1,1),\"\")","v":""},"",""]
[null,{"$f":"IFERROR(MATCH(TRUE,OFFSET(CalculationsAndCharts!$V$33,B223,0,'Transaction Summary'!$C$2-B223,1),0)+B223,\"\")","v":""},{"$f":"IFERROR(OFFSET(CalculationsAndCharts!$B$32,'Transaction Summary'!B224,0,1,1),\"\")","v":""},{"$f":"IFERROR(OFFSET(CalculationsAndCharts!$D$32,'Transaction Summary'!B224,0,1,1),\"\")","v":""},{"$f":"IFERROR(IF($E$12>$B$15,$E$12,(MATCH(TRUE,OFFSET(CalculationsAndCharts!$Y$33,E223,0,'Transaction Summary'!$C$2-E223,1),0)+E223)),\"\")","v":""},{"$f":"IFERROR(OFFSET(CalculationsAndCharts!$B$32,'Transaction Summary'!E224,0,1,1),\"\")","v":""},{"$f":"IFERROR(OFFSET(CalculationsAndCharts!$D$32,'Transaction Summary'!E224,0,1,1),\"\")","v":""},"","",null,{"$f":"IFERROR(MATCH(TRUE,OFFSET(CalculationsAndCharts!$AE$33,K223,0,'Transaction Summary'!$C$2-K223,1),0)+K223,\"\")","v":""},{"$f":"IFERROR(OFFSET(CalculationsAndCharts!$B$32,'Transaction Summary'!K224,0,1,1),\"\")","v":""},{"$f":"IFERROR(OFFSET(CalculationsAndCharts!$D$32,'Transaction Summary'!K224,0,1,1),\"\")","v":""},{"$f":"IFERROR(IF($N$12>$K$15,$N$12,MATCH(TRUE,OFFSET(CalculationsAndCharts!$AH$33,N223,0,'Transaction Summary'!$C$2-N223,1),0)+N223),\"\")","v":""},{"$f":"IFERROR(OFFSET(CalculationsAndCharts!$B$32,'Transaction Summary'!N224,0,1,1),\"\")","v":""},{"$f":"IFERROR(OFFSET(CalculationsAndCharts!$D$32,'Transaction Summary'!N224,0,1,1),\"\")","v":""},"",""]
[null,{"$f":"IFERROR(MATCH(TRUE,OFFSET(CalculationsAndCharts!$V$33,B224,0,'Transaction Summary'!$C$2-B224,1),0)+B224,\"\")","v":""},{"$f":"IFERROR(OFFSET(CalculationsAndCharts!$B$32,'Transaction Summary'!B225,0,1,1),\"\")","v":""},{"$f":"IFERROR(OFFSET(CalculationsAndCharts!$D$32,'Transaction Summary'!B225,0,1,1),\"\")","v":""},{"$f":"IFERROR(IF($E$12>$B$15,$E$12,(MATCH(TRUE,OFFSET(CalculationsAndCharts!$Y$33,E224,0,'Transaction Summary'!$C$2-E224,1),0)+E224)),\"\")","v":""},{"$f":"IFERROR(OFFSET(CalculationsAndCharts!$B$32,'Transaction Summary'!E225,0,1,1),\"\")","v":""},{"$f":"IFERROR(OFFSET(CalculationsAndCharts!$D$32,'Transaction Summary'!E225,0,1,1),\"\")","v":""},"","",null,{"$f":"IFERROR(MATCH(TRUE,OFFSET(CalculationsAndCharts!$AE$33,K224,0,'Transaction Summary'!$C$2-K224,1),0)+K224,\"\")","v":""},{"$f":"IFERROR(OFFSET(CalculationsAndCharts!$B$32,'Transaction Summary'!K225,0,1,1),\"\")","v":""},{"$f":"IFERROR(OFFSET(CalculationsAndCharts!$D$32,'Transaction Summary'!K225,0,1,1),\"\")","v":""},{"$f":"IFERROR(IF($N$12>$K$15,$N$12,MATCH(TRUE,OFFSET(CalculationsAndCharts!$AH$33,N224,0,'Transaction Summary'!$C$2-N224,1),0)+N224),\"\")","v":""},{"$f":"IFERROR(OFFSET(CalculationsAndCharts!$B$32,'Transaction Summary'!N225,0,1,1),\"\")","v":""},{"$f":"IFERROR(OFFSET(CalculationsAndCharts!$D$32,'Transaction Summary'!N225,0,1,1),\"\")","v":""},"",""]
[null,{"$f":"IFERROR(MATCH(TRUE,OFFSET(CalculationsAndCharts!$V$33,B225,0,'Transaction Summary'!$C$2-B225,1),0)+B225,\"\")","v":""},{"$f":"IFERROR(OFFSET(CalculationsAndCharts!$B$32,'Transaction Summary'!B226,0,1,1),\"\")","v":""},{"$f":"IFERROR(OFFSET(CalculationsAndCharts!$D$32,'Transaction Summary'!B226,0,1,1),\"\")","v":""},{"$f":"IFERROR(IF($E$12>$B$15,$E$12,(MATCH(TRUE,OFFSET(CalculationsAndCharts!$Y$33,E225,0,'Transaction Summary'!$C$2-E225,1),0)+E225)),\"\")","v":""},{"$f":"IFERROR(OFFSET(CalculationsAndCharts!$B$32,'Transaction Summary'!E226,0,1,1),\"\")","v":""},{"$f":"IFERROR(OFFSET(CalculationsAndCharts!$D$32,'Transaction Summary'!E226,0,1,1),\"\")","v":""},"","",null,{"$f":"IFERROR(MATCH(TRUE,OFFSET(CalculationsAndCharts!$AE$33,K225,0,'Transaction Summary'!$C$2-K225,1),0)+K225,\"\")","v":""},{"$f":"IFERROR(OFFSET(CalculationsAndCharts!$B$32,'Transaction Summary'!K226,0,1,1),\"\")","v":""},{"$f":"IFERROR(OFFSET(CalculationsAndCharts!$D$32,'Transaction Summary'!K226,0,1,1),\"\")","v":""},{"$f":"IFERROR(IF($N$12>$K$15,$N$12,MATCH(TRUE,OFFSET(CalculationsAndCharts!$AH$33,N225,0,'Transaction Summary'!$C$2-N225,1),0)+N225),\"\")","v":""},{"$f":"IFERROR(OFFSET(CalculationsAndCharts!$B$32,'Transaction Summary'!N226,0,1,1),\"\")","v":""},{"$f":"IFERROR(OFFSET(CalculationsAndCharts!$D$32,'Transaction Summary'!N226,0,1,1),\"\")","v":""},"",""]
[null,{"$f":"IFERROR(MATCH(TRUE,OFFSET(CalculationsAndCharts!$V$33,B226,0,'Transaction Summary'!$C$2-B226,1),0)+B226,\"\")","v":""},{"$f":"IFERROR(OFFSET(CalculationsAndCharts!$B$32,'Transaction Summary'!B227,0,1,1),\"\")","v":""},{"$f":"IFERROR(OFFSET(CalculationsAndCharts!$D$32,'Transaction Summary'!B227,0,1,1),\"\")","v":""},{"$f":"IFERROR(IF($E$12>$B$15,$E$12,(MATCH(TRUE,OFFSET(CalculationsAndCharts!$Y$33,E226,0,'Transaction Summary'!$C$2-E226,1),0)+E226)),\"\")","v":""},{"$f":"IFERROR(OFFSET(CalculationsAndCharts!$B$32,'Transaction Summary'!E227,0,1,1),\"\")","v":""},{"$f":"IFERROR(OFFSET(CalculationsAndCharts!$D$32,'Transaction Summary'!E227,0,1,1),\"\")","v":""},"","",null,{"$f":"IFERROR(MATCH(TRUE,OFFSET(CalculationsAndCharts!$AE$33,K226,0,'Transaction Summary'!$C$2-K226,1),0)+K226,\"\")","v":""},{"$f":"IFERROR(OFFSET(CalculationsAndCharts!$B$32,'Transaction Summary'!K227,0,1,1),\"\")","v":""},{"$f":"IFERROR(OFFSET(CalculationsAndCharts!$D$32,'Transaction Summary'!K227,0,1,1),\"\")","v":""},{"$f":"IFERROR(IF($N$12>$K$15,$N$12,MATCH(TRUE,OFFSET(CalculationsAndCharts!$AH$33,N226,0,'Transaction Summary'!$C$2-N226,1),0)+N226),\"\")","v":""},{"$f":"IFERROR(OFFSET(CalculationsAndCharts!$B$32,'Transaction Summary'!N227,0,1,1),\"\")","v":""},{"$f":"IFERROR(OFFSET(CalculationsAndCharts!$D$32,'Transaction Summary'!N227,0,1,1),\"\")","v":""},"",""]
[null,{"$f":"IFERROR(MATCH(TRUE,OFFSET(CalculationsAndCharts!$V$33,B227,0,'Transaction Summary'!$C$2-B227,1),0)+B227,\"\")","v":""},{"$f":"IFERROR(OFFSET(CalculationsAndCharts!$B$32,'Transaction Summary'!B228,0,1,1),\"\")","v":""},{"$f":"IFERROR(OFFSET(CalculationsAndCharts!$D$32,'Transaction Summary'!B228,0,1,1),\"\")","v":""},{"$f":"IFERROR(IF($E$12>$B$15,$E$12,(MATCH(TRUE,OFFSET(CalculationsAndCharts!$Y$33,E227,0,'Transaction Summary'!$C$2-E227,1),0)+E227)),\"\")","v":""},{"$f":"IFERROR(OFFSET(CalculationsAndCharts!$B$32,'Transaction Summary'!E228,0,1,1),\"\")","v":""},{"$f":"IFERROR(OFFSET(CalculationsAndCharts!$D$32,'Transaction Summary'!E228,0,1,1),\"\")","v":""},"","",null,{"$f":"IFERROR(MATCH(TRUE,OFFSET(CalculationsAndCharts!$AE$33,K227,0,'Transaction Summary'!$C$2-K227,1),0)+K227,\"\")","v":""},{"$f":"IFERROR(OFFSET(CalculationsAndCharts!$B$32,'Transaction Summary'!K228,0,1,1),\"\")","v":""},{"$f":"IFERROR(OFFSET(CalculationsAndCharts!$D$32,'Transaction Summary'!K228,0,1,1),\"\")","v":""},{"$f":"IFERROR(IF($N$12>$K$15,$N$12,MATCH(TRUE,OFFSET(CalculationsAndCharts!$AH$33,N227,0,'Transaction Summary'!$C$2-N227,1),0)+N227),\"\")","v":""},{"$f":"IFERROR(OFFSET(CalculationsAndCharts!$B$32,'Transaction Summary'!N228,0,1,1),\"\")","v":""},{"$f":"IFERROR(OFFSET(CalculationsAndCharts!$D$32,'Transaction Summary'!N228,0,1,1),\"\")","v":""},"",""]
[null,{"$f":"IFERROR(MATCH(TRUE,OFFSET(CalculationsAndCharts!$V$33,B228,0,'Transaction Summary'!$C$2-B228,1),0)+B228,\"\")","v":""},{"$f":"IFERROR(OFFSET(CalculationsAndCharts!$B$32,'Transaction Summary'!B229,0,1,1),\"\")","v":""},{"$f":"IFERROR(OFFSET(CalculationsAndCharts!$D$32,'Transaction Summary'!B229,0,1,1),\"\")","v":""},{"$f":"IFERROR(IF($E$12>$B$15,$E$12,(MATCH(TRUE,OFFSET(CalculationsAndCharts!$Y$33,E228,0,'Transaction Summary'!$C$2-E228,1),0)+E228)),\"\")","v":""},{"$f":"IFERROR(OFFSET(CalculationsAndCharts!$B$32,'Transaction Summary'!E229,0,1,1),\"\")","v":""},{"$f":"IFERROR(OFFSET(CalculationsAndCharts!$D$32,'Transaction Summary'!E229,0,1,1),\"\")","v":""},"","",null,{"$f":"IFERROR(MATCH(TRUE,OFFSET(CalculationsAndCharts!$AE$33,K228,0,'Transaction Summary'!$C$2-K228,1),0)+K228,\"\")","v":""},{"$f":"IFERROR(OFFSET(CalculationsAndCharts!$B$32,'Transaction Summary'!K229,0,1,1),\"\")","v":""},{"$f":"IFERROR(OFFSET(CalculationsAndCharts!$D$32,'Transaction Summary'!K229,0,1,1),\"\")","v":""},{"$f":"IFERROR(IF($N$12>$K$15,$N$12,MATCH(TRUE,OFFSET(CalculationsAndCharts!$AH$33,N228,0,'Transaction Summary'!$C$2-N228,1),0)+N228),\"\")","v":""},{"$f":"IFERROR(OFFSET(CalculationsAndCharts!$B$32,'Transaction Summary'!N229,0,1,1),\"\")","v":""},{"$f":"IFERROR(OFFSET(CalculationsAndCharts!$D$32,'Transaction Summary'!N229,0,1,1),\"\")","v":""},"",""]
[null,{"$f":"IFERROR(MATCH(TRUE,OFFSET(CalculationsAndCharts!$V$33,B229,0,'Transaction Summary'!$C$2-B229,1),0)+B229,\"\")","v":""},{"$f":"IFERROR(OFFSET(CalculationsAndCharts!$B$32,'Transaction Summary'!B230,0,1,1),\"\")","v":""},{"$f":"IFERROR(OFFSET(CalculationsAndCharts!$D$32,'Transaction Summary'!B230,0,1,1),\"\")","v":""},{"$f":"IFERROR(IF($E$12>$B$15,$E$12,(MATCH(TRUE,OFFSET(CalculationsAndCharts!$Y$33,E229,0,'Transaction Summary'!$C$2-E229,1),0)+E229)),\"\")","v":""},{"$f":"IFERROR(OFFSET(CalculationsAndCharts!$B$32,'Transaction Summary'!E230,0,1,1),\"\")","v":""},{"$f":"IFERROR(OFFSET(CalculationsAndCharts!$D$32,'Transaction Summary'!E230,0,1,1),\"\")","v":""},"","",null,{"$f":"IFERROR(MATCH(TRUE,OFFSET(CalculationsAndCharts!$AE$33,K229,0,'Transaction Summary'!$C$2-K229,1),0)+K229,\"\")","v":""},{"$f":"IFERROR(OFFSET(CalculationsAndCharts!$B$32,'Transaction Summary'!K230,0,1,1),\"\")","v":""},{"$f":"IFERROR(OFFSET(CalculationsAndCharts!$D$32,'Transaction Summary'!K230,0,1,1),\"\")","v":""},{"$f":"IFERROR(IF($N$12>$K$15,$N$12,MATCH(TRUE,OFFSET(CalculationsAndCharts!$AH$33,N229,0,'Transaction Summary'!$C$2-N229,1),0)+N229),\"\")","v":""},{"$f":"IFERROR(OFFSET(CalculationsAndCharts!$B$32,'Transaction Summary'!N230,0,1,1),\"\")","v":""},{"$f":"IFERROR(OFFSET(CalculationsAndCharts!$D$32,'Transaction Summary'!N230,0,1,1),\"\")","v":""},"",""]
[null,{"$f":"IFERROR(MATCH(TRUE,OFFSET(CalculationsAndCharts!$V$33,B230,0,'Transaction Summary'!$C$2-B230,1),0)+B230,\"\")","v":""},{"$f":"IFERROR(OFFSET(CalculationsAndCharts!$B$32,'Transaction Summary'!B231,0,1,1),\"\")","v":""},{"$f":"IFERROR(OFFSET(CalculationsAndCharts!$D$32,'Transaction Summary'!B231,0,1,1),\"\")","v":""},{"$f":"IFERROR(IF($E$12>$B$15,$E$12,(MATCH(TRUE,OFFSET(CalculationsAndCharts!$Y$33,E230,0,'Transaction Summary'!$C$2-E230,1),0)+E230)),\"\")","v":""},{"$f":"IFERROR(OFFSET(CalculationsAndCharts!$B$32,'Transaction Summary'!E231,0,1,1),\"\")","v":""},{"$f":"IFERROR(OFFSET(CalculationsAndCharts!$D$32,'Transaction Summary'!E231,0,1,1),\"\")","v":""},"","",null,{"$f":"IFERROR(MATCH(TRUE,OFFSET(CalculationsAndCharts!$AE$33,K230,0,'Transaction Summary'!$C$2-K230,1),0)+K230,\"\")","v":""},{"$f":"IFERROR(OFFSET(CalculationsAndCharts!$B$32,'Transaction Summary'!K231,0,1,1),\"\")","v":""},{"$f":"IFERROR(OFFSET(CalculationsAndCharts!$D$32,'Transaction Summary'!K231,0,1,1),\"\")","v":""},{"$f":"IFERROR(IF($N$12>$K$15,$N$12,MATCH(TRUE,OFFSET(CalculationsAndCharts!$AH$33,N230,0,'Transaction Summary'!$C$2-N230,1),0)+N230),\"\")","v":""},{"$f":"IFERROR(OFFSET(CalculationsAndCharts!$B$32,'Transaction Summary'!N231,0,1,1),\"\")","v":""},{"$f":"IFERROR(OFFSET(CalculationsAndCharts!$D$32,'Transaction Summary'!N231,0,1,1),\"\")","v":""},"",""]
[null,{"$f":"IFERROR(MATCH(TRUE,OFFSET(CalculationsAndCharts!$V$33,B231,0,'Transaction Summary'!$C$2-B231,1),0)+B231,\"\")","v":""},{"$f":"IFERROR(OFFSET(CalculationsAndCharts!$B$32,'Transaction Summary'!B232,0,1,1),\"\")","v":""},{"$f":"IFERROR(OFFSET(CalculationsAndCharts!$D$32,'Transaction Summary'!B232,0,1,1),\"\")","v":""},{"$f":"IFERROR(IF($E$12>$B$15,$E$12,(MATCH(TRUE,OFFSET(CalculationsAndCharts!$Y$33,E231,0,'Transaction Summary'!$C$2-E231,1),0)+E231)),\"\")","v":""},{"$f":"IFERROR(OFFSET(CalculationsAndCharts!$B$32,'Transaction Summary'!E232,0,1,1),\"\")","v":""},{"$f":"IFERROR(OFFSET(CalculationsAndCharts!$D$32,'Transaction Summary'!E232,0,1,1),\"\")","v":""},"","",null,{"$f":"IFERROR(MATCH(TRUE,OFFSET(CalculationsAndCharts!$AE$33,K231,0,'Transaction Summary'!$C$2-K231,1),0)+K231,\"\")","v":""},{"$f":"IFERROR(OFFSET(CalculationsAndCharts!$B$32,'Transaction Summary'!K232,0,1,1),\"\")","v":""},{"$f":"IFERROR(OFFSET(CalculationsAndCharts!$D$32,'Transaction Summary'!K232,0,1,1),\"\")","v":""},{"$f":"IFERROR(IF($N$12>$K$15,$N$12,MATCH(TRUE,OFFSET(CalculationsAndCharts!$AH$33,N231,0,'Transaction Summary'!$C$2-N231,1),0)+N231),\"\")","v":""},{"$f":"IFERROR(OFFSET(CalculationsAndCharts!$B$32,'Transaction Summary'!N232,0,1,1),\"\")","v":""},{"$f":"IFERROR(OFFSET(CalculationsAndCharts!$D$32,'Transaction Summary'!N232,0,1,1),\"\")","v":""},"",""]
[null,{"$f":"IFERROR(MATCH(TRUE,OFFSET(CalculationsAndCharts!$V$33,B232,0,'Transaction Summary'!$C$2-B232,1),0)+B232,\"\")","v":""},{"$f":"IFERROR(OFFSET(CalculationsAndCharts!$B$32,'Transaction Summary'!B233,0,1,1),\"\")","v":""},{"$f":"IFERROR(OFFSET(CalculationsAndCharts!$D$32,'Transaction Summary'!B233,0,1,1),\"\")","v":""},{"$f":"IFERROR(IF($E$12>$B$15,$E$12,(MATCH(TRUE,OFFSET(CalculationsAndCharts!$Y$33,E232,0,'Transaction Summary'!$C$2-E232,1),0)+E232)),\"\")","v":""},{"$f":"IFERROR(OFFSET(CalculationsAndCharts!$B$32,'Transaction Summary'!E233,0,1,1),\"\")","v":""},{"$f":"IFERROR(OFFSET(CalculationsAndCharts!$D$32,'Transaction Summary'!E233,0,1,1),\"\")","v":""},"","",null,{"$f":"IFERROR(MATCH(TRUE,OFFSET(CalculationsAndCharts!$AE$33,K232,0,'Transaction Summary'!$C$2-K232,1),0)+K232,\"\")","v":""},{"$f":"IFERROR(OFFSET(CalculationsAndCharts!$B$32,'Transaction Summary'!K233,0,1,1),\"\")","v":""},{"$f":"IFERROR(OFFSET(CalculationsAndCharts!$D$32,'Transaction Summary'!K233,0,1,1),\"\")","v":""},{"$f":"IFERROR(IF($N$12>$K$15,$N$12,MATCH(TRUE,OFFSET(CalculationsAndCharts!$AH$33,N232,0,'Transaction Summary'!$C$2-N232,1),0)+N232),\"\")","v":""},{"$f":"IFERROR(OFFSET(CalculationsAndCharts!$B$32,'Transaction Summary'!N233,0,1,1),\"\")","v":""},{"$f":"IFERROR(OFFSET(CalculationsAndCharts!$D$32,'Transaction Summary'!N233,0,1,1),\"\")","v":""},"",""]
[null,{"$f":"IFERROR(MATCH(TRUE,OFFSET(CalculationsAndCharts!$V$33,B233,0,'Transaction Summary'!$C$2-B233,1),0)+B233,\"\")","v":""},{"$f":"IFERROR(OFFSET(CalculationsAndCharts!$B$32,'Transaction Summary'!B234,0,1,1),\"\")","v":""},{"$f":"IFERROR(OFFSET(CalculationsAndCharts!$D$32,'Transaction Summary'!B234,0,1,1),\"\")","v":""},{"$f":"IFERROR(IF($E$12>$B$15,$E$12,(MATCH(TRUE,OFFSET(CalculationsAndCharts!$Y$33,E233,0,'Transaction Summary'!$C$2-E233,1),0)+E233)),\"\")","v":""},{"$f":"IFERROR(OFFSET(CalculationsAndCharts!$B$32,'Transaction Summary'!E234,0,1,1),\"\")","v":""},{"$f":"IFERROR(OFFSET(CalculationsAndCharts!$D$32,'Transaction Summary'!E234,0,1,1),\"\")","v":""},"","",null,{"$f":"IFERROR(MATCH(TRUE,OFFSET(CalculationsAndCharts!$AE$33,K233,0,'Transaction Summary'!$C$2-K233,1),0)+K233,\"\")","v":""},{"$f":"IFERROR(OFFSET(CalculationsAndCharts!$B$32,'Transaction Summary'!K234,0,1,1),\"\")","v":""},{"$f":"IFERROR(OFFSET(CalculationsAndCharts!$D$32,'Transaction Summary'!K234,0,1,1),\"\")","v":""},{"$f":"IFERROR(IF($N$12>$K$15,$N$12,MATCH(TRUE,OFFSET(CalculationsAndCharts!$AH$33,N233,0,'Transaction Summary'!$C$2-N233,1),0)+N233),\"\")","v":""},{"$f":"IFERROR(OFFSET(CalculationsAndCharts!$B$32,'Transaction Summary'!N234,0,1,1),\"\")","v":""},{"$f":"IFERROR(OFFSET(CalculationsAndCharts!$D$32,'Transaction Summary'!N234,0,1,1),\"\")","v":""},"",""]
[null,{"$f":"IFERROR(MATCH(TRUE,OFFSET(CalculationsAndCharts!$V$33,B234,0,'Transaction Summary'!$C$2-B234,1),0)+B234,\"\")","v":""},{"$f":"IFERROR(OFFSET(CalculationsAndCharts!$B$32,'Transaction Summary'!B235,0,1,1),\"\")","v":""},{"$f":"IFERROR(OFFSET(CalculationsAndCharts!$D$32,'Transaction Summary'!B235,0,1,1),\"\")","v":""},{"$f":"IFERROR(IF($E$12>$B$15,$E$12,(MATCH(TRUE,OFFSET(CalculationsAndCharts!$Y$33,E234,0,'Transaction Summary'!$C$2-E234,1),0)+E234)),\"\")","v":""},{"$f":"IFERROR(OFFSET(CalculationsAndCharts!$B$32,'Transaction Summary'!E235,0,1,1),\"\")","v":""},{"$f":"IFERROR(OFFSET(CalculationsAndCharts!$D$32,'Transaction Summary'!E235,0,1,1),\"\")","v":""},"","",null,{"$f":"IFERROR(MATCH(TRUE,OFFSET(CalculationsAndCharts!$AE$33,K234,0,'Transaction Summary'!$C$2-K234,1),0)+K234,\"\")","v":""},{"$f":"IFERROR(OFFSET(CalculationsAndCharts!$B$32,'Transaction Summary'!K235,0,1,1),\"\")","v":""},{"$f":"IFERROR(OFFSET(CalculationsAndCharts!$D$32,'Transaction Summary'!K235,0,1,1),\"\")","v":""},{"$f":"IFERROR(IF($N$12>$K$15,$N$12,MATCH(TRUE,OFFSET(CalculationsAndCharts!$AH$33,N234,0,'Transaction Summary'!$C$2-N234,1),0)+N234),\"\")","v":""},{"$f":"IFERROR(OFFSET(CalculationsAndCharts!$B$32,'Transaction Summary'!N235,0,1,1),\"\")","v":""},{"$f":"IFERROR(OFFSET(CalculationsAndCharts!$D$32,'Transaction Summary'!N235,0,1,1),\"\")","v":""},"",""]
[null,{"$f":"IFERROR(MATCH(TRUE,OFFSET(CalculationsAndCharts!$V$33,B235,0,'Transaction Summary'!$C$2-B235,1),0)+B235,\"\")","v":""},{"$f":"IFERROR(OFFSET(CalculationsAndCharts!$B$32,'Transaction Summary'!B236,0,1,1),\"\")","v":""},{"$f":"IFERROR(OFFSET(CalculationsAndCharts!$D$32,'Transaction Summary'!B236,0,1,1),\"\")","v":""},{"$f":"IFERROR(IF($E$12>$B$15,$E$12,(MATCH(TRUE,OFFSET(CalculationsAndCharts!$Y$33,E235,0,'Transaction Summary'!$C$2-E235,1),0)+E235)),\"\")","v":""},{"$f":"IFERROR(OFFSET(CalculationsAndCharts!$B$32,'Transaction Summary'!E236,0,1,1),\"\")","v":""},{"$f":"IFERROR(OFFSET(CalculationsAndCharts!$D$32,'Transaction Summary'!E236,0,1,1),\"\")","v":""},"","",null,{"$f":"IFERROR(MATCH(TRUE,OFFSET(CalculationsAndCharts!$AE$33,K235,0,'Transaction Summary'!$C$2-K235,1),0)+K235,\"\")","v":""},{"$f":"IFERROR(OFFSET(CalculationsAndCharts!$B$32,'Transaction Summary'!K236,0,1,1),\"\")","v":""},{"$f":"IFERROR(OFFSET(CalculationsAndCharts!$D$32,'Transaction Summary'!K236,0,1,1),\"\")","v":""},{"$f":"IFERROR(IF($N$12>$K$15,$N$12,MATCH(TRUE,OFFSET(CalculationsAndCharts!$AH$33,N235,0,'Transaction Summary'!$C$2-N235,1),0)+N235),\"\")","v":""},{"$f":"IFERROR(OFFSET(CalculationsAndCharts!$B$32,'Transaction Summary'!N236,0,1,1),\"\")","v":""},{"$f":"IFERROR(OFFSET(CalculationsAndCharts!$D$32,'Transaction Summary'!N236,0,1,1),\"\")","v":""},"",""]
[null,{"$f":"IFERROR(MATCH(TRUE,OFFSET(CalculationsAndCharts!$V$33,B236,0,'Transaction Summary'!$C$2-B236,1),0)+B236,\"\")","v":""},{"$f":"IFERROR(OFFSET(CalculationsAndCharts!$B$32,'Transaction Summary'!B237,0,1,1),\"\")","v":""},{"$f":"IFERROR(OFFSET(CalculationsAndCharts!$D$32,'Transaction Summary'!B237,0,1,1),\"\")","v":""},{"$f":"IFERROR(IF($E$12>$B$15,$E$12,(MATCH(TRUE,OFFSET(CalculationsAndCharts!$Y$33,E236,0,'Transaction Summary'!$C$2-E236,1),0)+E236)),\"\")","v":""},{"$f":"IFERROR(OFFSET(CalculationsAndCharts!$B$32,'Transaction Summary'!E237,0,1,1),\"\")","v":""},{"$f":"IFERROR(OFFSET(CalculationsAndCharts!$D$32,'Transaction Summary'!E237,0,1,1),\"\")","v":""},"","",null,{"$f":"IFERROR(MATCH(TRUE,OFFSET(CalculationsAndCharts!$AE$33,K236,0,'Transaction Summary'!$C$2-K236,1),0)+K236,\"\")","v":""},{"$f":"IFERROR(OFFSET(CalculationsAndCharts!$B$32,'Transaction Summary'!K237,0,1,1),\"\")","v":""},{"$f":"IFERROR(OFFSET(CalculationsAndCharts!$D$32,'Transaction Summary'!K237,0,1,1),\"\")","v":""},{"$f":"IFERROR(IF($N$12>$K$15,$N$12,MATCH(TRUE,OFFSET(CalculationsAndCharts!$AH$33,N236,0,'Transaction Summary'!$C$2-N236,1),0)+N236),\"\")","v":""},{"$f":"IFERROR(OFFSET(CalculationsAndCharts!$B$32,'Transaction Summary'!N237,0,1,1),\"\")","v":""},{"$f":"IFERROR(OFFSET(CalculationsAndCharts!$D$32,'Transaction Summary'!N237,0,1,1),\"\")","v":""},"",""]
[null,{"$f":"IFERROR(MATCH(TRUE,OFFSET(CalculationsAndCharts!$V$33,B237,0,'Transaction Summary'!$C$2-B237,1),0)+B237,\"\")","v":""},{"$f":"IFERROR(OFFSET(CalculationsAndCharts!$B$32,'Transaction Summary'!B238,0,1,1),\"\")","v":""},{"$f":"IFERROR(OFFSET(CalculationsAndCharts!$D$32,'Transaction Summary'!B238,0,1,1),\"\")","v":""},{"$f":"IFERROR(IF($E$12>$B$15,$E$12,(MATCH(TRUE,OFFSET(CalculationsAndCharts!$Y$33,E237,0,'Transaction Summary'!$C$2-E237,1),0)+E237)),\"\")","v":""},{"$f":"IFERROR(OFFSET(CalculationsAndCharts!$B$32,'Transaction Summary'!E238,0,1,1),\"\")","v":""},{"$f":"IFERROR(OFFSET(CalculationsAndCharts!$D$32,'Transaction Summary'!E238,0,1,1),\"\")","v":""},"","",null,{"$f":"IFERROR(MATCH(TRUE,OFFSET(CalculationsAndCharts!$AE$33,K237,0,'Transaction Summary'!$C$2-K237,1),0)+K237,\"\")","v":""},{"$f":"IFERROR(OFFSET(CalculationsAndCharts!$B$32,'Transaction Summary'!K238,0,1,1),\"\")","v":""},{"$f":"IFERROR(OFFSET(CalculationsAndCharts!$D$32,'Transaction Summary'!K238,0,1,1),\"\")","v":""},{"$f":"IFERROR(IF($N$12>$K$15,$N$12,MATCH(TRUE,OFFSET(CalculationsAndCharts!$AH$33,N237,0,'Transaction Summary'!$C$2-N237,1),0)+N237),\"\")","v":""},{"$f":"IFERROR(OFFSET(CalculationsAndCharts!$B$32,'Transaction Summary'!N238,0,1,1),\"\")","v":""},{"$f":"IFERROR(OFFSET(CalculationsAndCharts!$D$32,'Transaction Summary'!N238,0,1,1),\"\")","v":""},"",""]
[null,{"$f":"IFERROR(MATCH(TRUE,OFFSET(CalculationsAndCharts!$V$33,B238,0,'Transaction Summary'!$C$2-B238,1),0)+B238,\"\")","v":""},{"$f":"IFERROR(OFFSET(CalculationsAndCharts!$B$32,'Transaction Summary'!B239,0,1,1),\"\")","v":""},{"$f":"IFERROR(OFFSET(CalculationsAndCharts!$D$32,'Transaction Summary'!B239,0,1,1),\"\")","v":""},{"$f":"IFERROR(IF($E$12>$B$15,$E$12,(MATCH(TRUE,OFFSET(CalculationsAndCharts!$Y$33,E238,0,'Transaction Summary'!$C$2-E238,1),0)+E238)),\"\")","v":""},{"$f":"IFERROR(OFFSET(CalculationsAndCharts!$B$32,'Transaction Summary'!E239,0,1,1),\"\")","v":""},{"$f":"IFERROR(OFFSET(CalculationsAndCharts!$D$32,'Transaction Summary'!E239,0,1,1),\"\")","v":""},"","",null,{"$f":"IFERROR(MATCH(TRUE,OFFSET(CalculationsAndCharts!$AE$33,K238,0,'Transaction Summary'!$C$2-K238,1),0)+K238,\"\")","v":""},{"$f":"IFERROR(OFFSET(CalculationsAndCharts!$B$32,'Transaction Summary'!K239,0,1,1),\"\")","v":""},{"$f":"IFERROR(OFFSET(CalculationsAndCharts!$D$32,'Transaction Summary'!K239,0,1,1),\"\")","v":""},{"$f":"IFERROR(IF($N$12>$K$15,$N$12,MATCH(TRUE,OFFSET(CalculationsAndCharts!$AH$33,N238,0,'Transaction Summary'!$C$2-N238,1),0)+N238),\"\")","v":""},{"$f":"IFERROR(OFFSET(CalculationsAndCharts!$B$32,'Transaction Summary'!N239,0,1,1),\"\")","v":""},{"$f":"IFERROR(OFFSET(CalculationsAndCharts!$D$32,'Transaction Summary'!N239,0,1,1),\"\")","v":""},"",""]
[null,{"$f":"IFERROR(MATCH(TRUE,OFFSET(CalculationsAndCharts!$V$33,B239,0,'Transaction Summary'!$C$2-B239,1),0)+B239,\"\")","v":""},{"$f":"IFERROR(OFFSET(CalculationsAndCharts!$B$32,'Transaction Summary'!B240,0,1,1),\"\")","v":""},{"$f":"IFERROR(OFFSET(CalculationsAndCharts!$D$32,'Transaction Summary'!B240,0,1,1),\"\")","v":""},{"$f":"IFERROR(IF($E$12>$B$15,$E$12,(MATCH(TRUE,OFFSET(CalculationsAndCharts!$Y$33,E239,0,'Transaction Summary'!$C$2-E239,1),0)+E239)),\"\")","v":""},{"$f":"IFERROR(OFFSET(CalculationsAndCharts!$B$32,'Transaction Summary'!E240,0,1,1),\"\")","v":""},{"$f":"IFERROR(OFFSET(CalculationsAndCharts!$D$32,'Transaction Summary'!E240,0,1,1),\"\")","v":""},"","",null,{"$f":"IFERROR(MATCH(TRUE,OFFSET(CalculationsAndCharts!$AE$33,K239,0,'Transaction Summary'!$C$2-K239,1),0)+K239,\"\")","v":""},{"$f":"IFERROR(OFFSET(CalculationsAndCharts!$B$32,'Transaction Summary'!K240,0,1,1),\"\")","v":""},{"$f":"IFERROR(OFFSET(CalculationsAndCharts!$D$32,'Transaction Summary'!K240,0,1,1),\"\")","v":""},{"$f":"IFERROR(IF($N$12>$K$15,$N$12,MATCH(TRUE,OFFSET(CalculationsAndCharts!$AH$33,N239,0,'Transaction Summary'!$C$2-N239,1),0)+N239),\"\")","v":""},{"$f":"IFERROR(OFFSET(CalculationsAndCharts!$B$32,'Transaction Summary'!N240,0,1,1),\"\")","v":""},{"$f":"IFERROR(OFFSET(CalculationsAndCharts!$D$32,'Transaction Summary'!N240,0,1,1),\"\")","v":""},"",""]
[null,{"$f":"IFERROR(MATCH(TRUE,OFFSET(CalculationsAndCharts!$V$33,B240,0,'Transaction Summary'!$C$2-B240,1),0)+B240,\"\")","v":""},{"$f":"IFERROR(OFFSET(CalculationsAndCharts!$B$32,'Transaction Summary'!B241,0,1,1),\"\")","v":""},{"$f":"IFERROR(OFFSET(CalculationsAndCharts!$D$32,'Transaction Summary'!B241,0,1,1),\"\")","v":""},{"$f":"IFERROR(IF($E$12>$B$15,$E$12,(MATCH(TRUE,OFFSET(CalculationsAndCharts!$Y$33,E240,0,'Transaction Summary'!$C$2-E240,1),0)+E240)),\"\")","v":""},{"$f":"IFERROR(OFFSET(CalculationsAndCharts!$B$32,'Transaction Summary'!E241,0,1,1),\"\")","v":""},{"$f":"IFERROR(OFFSET(CalculationsAndCharts!$D$32,'Transaction Summary'!E241,0,1,1),\"\")","v":""},"","",null,{"$f":"IFERROR(MATCH(TRUE,OFFSET(CalculationsAndCharts!$AE$33,K240,0,'Transaction Summary'!$C$2-K240,1),0)+K240,\"\")","v":""},{"$f":"IFERROR(OFFSET(CalculationsAndCharts!$B$32,'Transaction Summary'!K241,0,1,1),\"\")","v":""},{"$f":"IFERROR(OFFSET(CalculationsAndCharts!$D$32,'Transaction Summary'!K241,0,1,1),\"\")","v":""},{"$f":"IFERROR(IF($N$12>$K$15,$N$12,MATCH(TRUE,OFFSET(CalculationsAndCharts!$AH$33,N240,0,'Transaction Summary'!$C$2-N240,1),0)+N240),\"\")","v":""},{"$f":"IFERROR(OFFSET(CalculationsAndCharts!$B$32,'Transaction Summary'!N241,0,1,1),\"\")","v":""},{"$f":"IFERROR(OFFSET(CalculationsAndCharts!$D$32,'Transaction Summary'!N241,0,1,1),\"\")","v":""},"",""]
[null,{"$f":"IFERROR(MATCH(TRUE,OFFSET(CalculationsAndCharts!$V$33,B241,0,'Transaction Summary'!$C$2-B241,1),0)+B241,\"\")","v":""},{"$f":"IFERROR(OFFSET(CalculationsAndCharts!$B$32,'Transaction Summary'!B242,0,1,1),\"\")","v":""},{"$f":"IFERROR(OFFSET(CalculationsAndCharts!$D$32,'Transaction Summary'!B242,0,1,1),\"\")","v":""},{"$f":"IFERROR(IF($E$12>$B$15,$E$12,(MATCH(TRUE,OFFSET(CalculationsAndCharts!$Y$33,E241,0,'Transaction Summary'!$C$2-E241,1),0)+E241)),\"\")","v":""},{"$f":"IFERROR(OFFSET(CalculationsAndCharts!$B$32,'Transaction Summary'!E242,0,1,1),\"\")","v":""},{"$f":"IFERROR(OFFSET(CalculationsAndCharts!$D$32,'Transaction Summary'!E242,0,1,1),\"\")","v":""},"","",null,{"$f":"IFERROR(MATCH(TRUE,OFFSET(CalculationsAndCharts!$AE$33,K241,0,'Transaction Summary'!$C$2-K241,1),0)+K241,\"\")","v":""},{"$f":"IFERROR(OFFSET(CalculationsAndCharts!$B$32,'Transaction Summary'!K242,0,1,1),\"\")","v":""},{"$f":"IFERROR(OFFSET(CalculationsAndCharts!$D$32,'Transaction Summary'!K242,0,1,1),\"\")","v":""},{"$f":"IFERROR(IF($N$12>$K$15,$N$12,MATCH(TRUE,OFFSET(CalculationsAndCharts!$AH$33,N241,0,'Transaction Summary'!$C$2-N241,1),0)+N241),\"\")","v":""},{"$f":"IFERROR(OFFSET(CalculationsAndCharts!$B$32,'Transaction Summary'!N242,0,1,1),\"\")","v":""},{"$f":"IFERROR(OFFSET(CalculationsAndCharts!$D$32,'Transaction Summary'!N242,0,1,1),\"\")","v":""},"",""]
[null,{"$f":"IFERROR(MATCH(TRUE,OFFSET(CalculationsAndCharts!$V$33,B242,0,'Transaction Summary'!$C$2-B242,1),0)+B242,\"\")","v":""},{"$f":"IFERROR(OFFSET(CalculationsAndCharts!$B$32,'Transaction Summary'!B243,0,1,1),\"\")","v":""},{"$f":"IFERROR(OFFSET(CalculationsAndCharts!$D$32,'Transaction Summary'!B243,0,1,1),\"\")","v":""},{"$f":"IFERROR(IF($E$12>$B$15,$E$12,(MATCH(TRUE,OFFSET(CalculationsAndCharts!$Y$33,E242,0,'Transaction Summary'!$C$2-E242,1),0)+E242)),\"\")","v":""},{"$f":"IFERROR(OFFSET(CalculationsAndCharts!$B$32,'Transaction Summary'!E243,0,1,1),\"\")","v":""},{"$f":"IFERROR(OFFSET(CalculationsAndCharts!$D$32,'Transaction Summary'!E243,0,1,1),\"\")","v":""},"","",null,{"$f":"IFERROR(MATCH(TRUE,OFFSET(CalculationsAndCharts!$AE$33,K242,0,'Transaction Summary'!$C$2-K242,1),0)+K242,\"\")","v":""},{"$f":"IFERROR(OFFSET(CalculationsAndCharts!$B$32,'Transaction Summary'!K243,0,1,1),\"\")","v":""},{"$f":"IFERROR(OFFSET(CalculationsAndCharts!$D$32,'Transaction Summary'!K243,0,1,1),\"\")","v":""},{"$f":"IFERROR(IF($N$12>$K$15,$N$12,MATCH(TRUE,OFFSET(CalculationsAndCharts!$AH$33,N242,0,'Transaction Summary'!$C$2-N242,1),0)+N242),\"\")","v":""},{"$f":"IFERROR(OFFSET(CalculationsAndCharts!$B$32,'Transaction Summary'!N243,0,1,1),\"\")","v":""},{"$f":"IFERROR(OFFSET(CalculationsAndCharts!$D$32,'Transaction Summary'!N243,0,1,1),\"\")","v":""},"",""]
[null,{"$f":"IFERROR(MATCH(TRUE,OFFSET(CalculationsAndCharts!$V$33,B243,0,'Transaction Summary'!$C$2-B243,1),0)+B243,\"\")","v":""},{"$f":"IFERROR(OFFSET(CalculationsAndCharts!$B$32,'Transaction Summary'!B244,0,1,1),\"\")","v":""},{"$f":"IFERROR(OFFSET(CalculationsAndCharts!$D$32,'Transaction Summary'!B244,0,1,1),\"\")","v":""},{"$f":"IFERROR(IF($E$12>$B$15,$E$12,(MATCH(TRUE,OFFSET(CalculationsAndCharts!$Y$33,E243,0,'Transaction Summary'!$C$2-E243,1),0)+E243)),\"\")","v":""},{"$f":"IFERROR(OFFSET(CalculationsAndCharts!$B$32,'Transaction Summary'!E244,0,1,1),\"\")","v":""},{"$f":"IFERROR(OFFSET(CalculationsAndCharts!$D$32,'Transaction Summary'!E244,0,1,1),\"\")","v":""},"","",null,{"$f":"IFERROR(MATCH(TRUE,OFFSET(CalculationsAndCharts!$AE$33,K243,0,'Transaction Summary'!$C$2-K243,1),0)+K243,\"\")","v":""},{"$f":"IFERROR(OFFSET(CalculationsAndCharts!$B$32,'Transaction Summary'!K244,0,1,1),\"\")","v":""},{"$f":"IFERROR(OFFSET(CalculationsAndCharts!$D$32,'Transaction Summary'!K244,0,1,1),\"\")","v":""},{"$f":"IFERROR(IF($N$12>$K$15,$N$12,MATCH(TRUE,OFFSET(CalculationsAndCharts!$AH$33,N243,0,'Transaction Summary'!$C$2-N243,1),0)+N243),\"\")","v":""},{"$f":"IFERROR(OFFSET(CalculationsAndCharts!$B$32,'Transaction Summary'!N244,0,1,1),\"\")","v":""},{"$f":"IFERROR(OFFSET(CalculationsAndCharts!$D$32,'Transaction Summary'!N244,0,1,1),\"\")","v":""},"",""]
[null,{"$f":"IFERROR(MATCH(TRUE,OFFSET(CalculationsAndCharts!$V$33,B244,0,'Transaction Summary'!$C$2-B244,1),0)+B244,\"\")","v":""},{"$f":"IFERROR(OFFSET(CalculationsAndCharts!$B$32,'Transaction Summary'!B245,0,1,1),\"\")","v":""},{"$f":"IFERROR(OFFSET(CalculationsAndCharts!$D$32,'Transaction Summary'!B245,0,1,1),\"\")","v":""},{"$f":"IFERROR(IF($E$12>$B$15,$E$12,(MATCH(TRUE,OFFSET(CalculationsAndCharts!$Y$33,E244,0,'Transaction Summary'!$C$2-E244,1),0)+E244)),\"\")","v":""},{"$f":"IFERROR(OFFSET(CalculationsAndCharts!$B$32,'Transaction Summary'!E245,0,1,1),\"\")","v":""},{"$f":"IFERROR(OFFSET(CalculationsAndCharts!$D$32,'Transaction Summary'!E245,0,1,1),\"\")","v":""},"","",null,{"$f":"IFERROR(MATCH(TRUE,OFFSET(CalculationsAndCharts!$AE$33,K244,0,'Transaction Summary'!$C$2-K244,1),0)+K244,\"\")","v":""},{"$f":"IFERROR(OFFSET(CalculationsAndCharts!$B$32,'Transaction Summary'!K245,0,1,1),\"\")","v":""},{"$f":"IFERROR(OFFSET(CalculationsAndCharts!$D$32,'Transaction Summary'!K245,0,1,1),\"\")","v":""},{"$f":"IFERROR(IF($N$12>$K$15,$N$12,MATCH(TRUE,OFFSET(CalculationsAndCharts!$AH$33,N244,0,'Transaction Summary'!$C$2-N244,1),0)+N244),\"\")","v":""},{"$f":"IFERROR(OFFSET(CalculationsAndCharts!$B$32,'Transaction Summary'!N245,0,1,1),\"\")","v":""},{"$f":"IFERROR(OFFSET(CalculationsAndCharts!$D$32,'Transaction Summary'!N245,0,1,1),\"\")","v":""},"",""]
[null,{"$f":"IFERROR(MATCH(TRUE,OFFSET(CalculationsAndCharts!$V$33,B245,0,'Transaction Summary'!$C$2-B245,1),0)+B245,\"\")","v":""},{"$f":"IFERROR(OFFSET(CalculationsAndCharts!$B$32,'Transaction Summary'!B246,0,1,1),\"\")","v":""},{"$f":"IFERROR(OFFSET(CalculationsAndCharts!$D$32,'Transaction Summary'!B246,0,1,1),\"\")","v":""},{"$f":"IFERROR(IF($E$12>$B$15,$E$12,(MATCH(TRUE,OFFSET(CalculationsAndCharts!$Y$33,E245,0,'Transaction Summary'!$C$2-E245,1),0)+E245)),\"\")","v":""},{"$f":"IFERROR(OFFSET(CalculationsAndCharts!$B$32,'Transaction Summary'!E246,0,1,1),\"\")","v":""},{"$f":"IFERROR(OFFSET(CalculationsAndCharts!$D$32,'Transaction Summary'!E246,0,1,1),\"\")","v":""},"","",null,{"$f":"IFERROR(MATCH(TRUE,OFFSET(CalculationsAndCharts!$AE$33,K245,0,'Transaction Summary'!$C$2-K245,1),0)+K245,\"\")","v":""},{"$f":"IFERROR(OFFSET(CalculationsAndCharts!$B$32,'Transaction Summary'!K246,0,1,1),\"\")","v":""},{"$f":"IFERROR(OFFSET(CalculationsAndCharts!$D$32,'Transaction Summary'!K246,0,1,1),\"\")","v":""},{"$f":"IFERROR(IF($N$12>$K$15,$N$12,MATCH(TRUE,OFFSET(CalculationsAndCharts!$AH$33,N245,0,'Transaction Summary'!$C$2-N245,1),0)+N245),\"\")","v":""},{"$f":"IFERROR(OFFSET(CalculationsAndCharts!$B$32,'Transaction Summary'!N246,0,1,1),\"\")","v":""},{"$f":"IFERROR(OFFSET(CalculationsAndCharts!$D$32,'Transaction Summary'!N246,0,1,1),\"\")","v":""},"",""]
[null,{"$f":"IFERROR(MATCH(TRUE,OFFSET(CalculationsAndCharts!$V$33,B246,0,'Transaction Summary'!$C$2-B246,1),0)+B246,\"\")","v":""},{"$f":"IFERROR(OFFSET(CalculationsAndCharts!$B$32,'Transaction Summary'!B247,0,1,1),\"\")","v":""},{"$f":"IFERROR(OFFSET(CalculationsAndCharts!$D$32,'Transaction Summary'!B247,0,1,1),\"\")","v":""},{"$f":"IFERROR(IF($E$12>$B$15,$E$12,(MATCH(TRUE,OFFSET(CalculationsAndCharts!$Y$33,E246,0,'Transaction Summary'!$C$2-E246,1),0)+E246)),\"\")","v":""},{"$f":"IFERROR(OFFSET(CalculationsAndCharts!$B$32,'Transaction Summary'!E247,0,1,1),\"\")","v":""},{"$f":"IFERROR(OFFSET(CalculationsAndCharts!$D$32,'Transaction Summary'!E247,0,1,1),\"\")","v":""},"","",null,{"$f":"IFERROR(MATCH(TRUE,OFFSET(CalculationsAndCharts!$AE$33,K246,0,'Transaction Summary'!$C$2-K246,1),0)+K246,\"\")","v":""},{"$f":"IFERROR(OFFSET(CalculationsAndCharts!$B$32,'Transaction Summary'!K247,0,1,1),\"\")","v":""},{"$f":"IFERROR(OFFSET(CalculationsAndCharts!$D$32,'Transaction Summary'!K247,0,1,1),\"\")","v":""},{"$f":"IFERROR(IF($N$12>$K$15,$N$12,MATCH(TRUE,OFFSET(CalculationsAndCharts!$AH$33,N246,0,'Transaction Summary'!$C$2-N246,1),0)+N246),\"\")","v":""},{"$f":"IFERROR(OFFSET(CalculationsAndCharts!$B$32,'Transaction Summary'!N247,0,1,1),\"\")","v":""},{"$f":"IFERROR(OFFSET(CalculationsAndCharts!$D$32,'Transaction Summary'!N247,0,1,1),\"\")","v":""},"",""]
[null,{"$f":"IFERROR(MATCH(TRUE,OFFSET(CalculationsAndCharts!$V$33,B247,0,'Transaction Summary'!$C$2-B247,1),0)+B247,\"\")","v":""},{"$f":"IFERROR(OFFSET(CalculationsAndCharts!$B$32,'Transaction Summary'!B248,0,1,1),\"\")","v":""},{"$f":"IFERROR(OFFSET(CalculationsAndCharts!$D$32,'Transaction Summary'!B248,0,1,1),\"\")","v":""},{"$f":"IFERROR(IF($E$12>$B$15,$E$12,(MATCH(TRUE,OFFSET(CalculationsAndCharts!$Y$33,E247,0,'Transaction Summary'!$C$2-E247,1),0)+E247)),\"\")","v":""},{"$f":"IFERROR(OFFSET(CalculationsAndCharts!$B$32,'Transaction Summary'!E248,0,1,1),\"\")","v":""},{"$f":"IFERROR(OFFSET(CalculationsAndCharts!$D$32,'Transaction Summary'!E248,0,1,1),\"\")","v":""},"","",null,{"$f":"IFERROR(MATCH(TRUE,OFFSET(CalculationsAndCharts!$AE$33,K247,0,'Transaction Summary'!$C$2-K247,1),0)+K247,\"\")","v":""},{"$f":"IFERROR(OFFSET(CalculationsAndCharts!$B$32,'Transaction Summary'!K248,0,1,1),\"\")","v":""},{"$f":"IFERROR(OFFSET(CalculationsAndCharts!$D$32,'Transaction Summary'!K248,0,1,1),\"\")","v":""},{"$f":"IFERROR(IF($N$12>$K$15,$N$12,MATCH(TRUE,OFFSET(CalculationsAndCharts!$AH$33,N247,0,'Transaction Summary'!$C$2-N247,1),0)+N247),\"\")","v":""},{"$f":"IFERROR(OFFSET(CalculationsAndCharts!$B$32,'Transaction Summary'!N248,0,1,1),\"\")","v":""},{"$f":"IFERROR(OFFSET(CalculationsAndCharts!$D$32,'Transaction Summary'!N248,0,1,1),\"\")","v":""},"",""]
[null,{"$f":"IFERROR(MATCH(TRUE,OFFSET(CalculationsAndCharts!$V$33,B248,0,'Transaction Summary'!$C$2-B248,1),0)+B248,\"\")","v":""},{"$f":"IFERROR(OFFSET(CalculationsAndCharts!$B$32,'Transaction Summary'!B249,0,1,1),\"\")","v":""},{"$f":"IFERROR(OFFSET(CalculationsAndCharts!$D$32,'Transaction Summary'!B249,0,1,1),\"\")","v":""},{"$f":"IFERROR(IF($E$12>$B$15,$E$12,(MATCH(TRUE,OFFSET(CalculationsAndCharts!$Y$33,E248,0,'Transaction Summary'!$C$2-E248,1),0)+E248)),\"\")","v":""},{"$f":"IFERROR(OFFSET(CalculationsAndCharts!$B$32,'Transaction Summary'!E249,0,1,1),\"\")","v":""},{"$f":"IFERROR(OFFSET(CalculationsAndCharts!$D$32,'Transaction Summary'!E249,0,1,1),\"\")","v":""},"","",null,{"$f":"IFERROR(MATCH(TRUE,OFFSET(CalculationsAndCharts!$AE$33,K248,0,'Transaction Summary'!$C$2-K248,1),0)+K248,\"\")","v":""},{"$f":"IFERROR(OFFSET(CalculationsAndCharts!$B$32,'Transaction Summary'!K249,0,1,1),\"\")","v":""},{"$f":"IFERROR(OFFSET(CalculationsAndCharts!$D$32,'Transaction Summary'!K249,0,1,1),\"\")","v":""},{"$f":"IFERROR(IF($N$12>$K$15,$N$12,MATCH(TRUE,OFFSET(CalculationsAndCharts!$AH$33,N248,0,'Transaction Summary'!$C$2-N248,1),0)+N248),\"\")","v":""},{"$f":"IFERROR(OFFSET(CalculationsAndCharts!$B$32,'Transaction Summary'!N249,0,1,1),\"\")","v":""},{"$f":"IFERROR(OFFSET(CalculationsAndCharts!$D$32,'Transaction Summary'!N249,0,1,1),\"\")","v":""},"",""]
[null,{"$f":"IFERROR(MATCH(TRUE,OFFSET(CalculationsAndCharts!$V$33,B249,0,'Transaction Summary'!$C$2-B249,1),0)+B249,\"\")","v":""},{"$f":"IFERROR(OFFSET(CalculationsAndCharts!$B$32,'Transaction Summary'!B250,0,1,1),\"\")","v":""},{"$f":"IFERROR(OFFSET(CalculationsAndCharts!$D$32,'Transaction Summary'!B250,0,1,1),\"\")","v":""},{"$f":"IFERROR(IF($E$12>$B$15,$E$12,(MATCH(TRUE,OFFSET(CalculationsAndCharts!$Y$33,E249,0,'Transaction Summary'!$C$2-E249,1),0)+E249)),\"\")","v":""},{"$f":"IFERROR(OFFSET(CalculationsAndCharts!$B$32,'Transaction Summary'!E250,0,1,1),\"\")","v":""},{"$f":"IFERROR(OFFSET(CalculationsAndCharts!$D$32,'Transaction Summary'!E250,0,1,1),\"\")","v":""},"","",null,{"$f":"IFERROR(MATCH(TRUE,OFFSET(CalculationsAndCharts!$AE$33,K249,0,'Transaction Summary'!$C$2-K249,1),0)+K249,\"\")","v":""},{"$f":"IFERROR(OFFSET(CalculationsAndCharts!$B$32,'Transaction Summary'!K250,0,1,1),\"\")","v":""},{"$f":"IFERROR(OFFSET(CalculationsAndCharts!$D$32,'Transaction Summary'!K250,0,1,1),\"\")","v":""},{"$f":"IFERROR(IF($N$12>$K$15,$N$12,MATCH(TRUE,OFFSET(CalculationsAndCharts!$AH$33,N249,0,'Transaction Summary'!$C$2-N249,1),0)+N249),\"\")","v":""},{"$f":"IFERROR(OFFSET(CalculationsAndCharts!$B$32,'Transaction Summary'!N250,0,1,1),\"\")","v":""},{"$f":"IFERROR(OFFSET(CalculationsAndCharts!$D$32,'Transaction Summary'!N250,0,1,1),\"\")","v":""},"",""]
[null,{"$f":"IFERROR(MATCH(TRUE,OFFSET(CalculationsAndCharts!$V$33,B250,0,'Transaction Summary'!$C$2-B250,1),0)+B250,\"\")","v":""},{"$f":"IFERROR(OFFSET(CalculationsAndCharts!$B$32,'Transaction Summary'!B251,0,1,1),\"\")","v":""},{"$f":"IFERROR(OFFSET(CalculationsAndCharts!$D$32,'Transaction Summary'!B251,0,1,1),\"\")","v":""},{"$f":"IFERROR(IF($E$12>$B$15,$E$12,(MATCH(TRUE,OFFSET(CalculationsAndCharts!$Y$33,E250,0,'Transaction Summary'!$C$2-E250,1),0)+E250)),\"\")","v":""},{"$f":"IFERROR(OFFSET(CalculationsAndCharts!$B$32,'Transaction Summary'!E251,0,1,1),\"\")","v":""},{"$f":"IFERROR(OFFSET(CalculationsAndCharts!$D$32,'Transaction Summary'!E251,0,1,1),\"\")","v":""},"","",null,{"$f":"IFERROR(MATCH(TRUE,OFFSET(CalculationsAndCharts!$AE$33,K250,0,'Transaction Summary'!$C$2-K250,1),0)+K250,\"\")","v":""},{"$f":"IFERROR(OFFSET(CalculationsAndCharts!$B$32,'Transaction Summary'!K251,0,1,1),\"\")","v":""},{"$f":"IFERROR(OFFSET(CalculationsAndCharts!$D$32,'Transaction Summary'!K251,0,1,1),\"\")","v":""},{"$f":"IFERROR(IF($N$12>$K$15,$N$12,MATCH(TRUE,OFFSET(CalculationsAndCharts!$AH$33,N250,0,'Transaction Summary'!$C$2-N250,1),0)+N250),\"\")","v":""},{"$f":"IFERROR(OFFSET(CalculationsAndCharts!$B$32,'Transaction Summary'!N251,0,1,1),\"\")","v":""},{"$f":"IFERROR(OFFSET(CalculationsAndCharts!$D$32,'Transaction Summary'!N251,0,1,1),\"\")","v":""},"",""]
[null,{"$f":"IFERROR(MATCH(TRUE,OFFSET(CalculationsAndCharts!$V$33,B251,0,'Transaction Summary'!$C$2-B251,1),0)+B251,\"\")","v":""},{"$f":"IFERROR(OFFSET(CalculationsAndCharts!$B$32,'Transaction Summary'!B252,0,1,1),\"\")","v":""},{"$f":"IFERROR(OFFSET(CalculationsAndCharts!$D$32,'Transaction Summary'!B252,0,1,1),\"\")","v":""},{"$f":"IFERROR(IF($E$12>$B$15,$E$12,(MATCH(TRUE,OFFSET(CalculationsAndCharts!$Y$33,E251,0,'Transaction Summary'!$C$2-E251,1),0)+E251)),\"\")","v":""},{"$f":"IFERROR(OFFSET(CalculationsAndCharts!$B$32,'Transaction Summary'!E252,0,1,1),\"\")","v":""},{"$f":"IFERROR(OFFSET(CalculationsAndCharts!$D$32,'Transaction Summary'!E252,0,1,1),\"\")","v":""},"","",null,{"$f":"IFERROR(MATCH(TRUE,OFFSET(CalculationsAndCharts!$AE$33,K251,0,'Transaction Summary'!$C$2-K251,1),0)+K251,\"\")","v":""},{"$f":"IFERROR(OFFSET(CalculationsAndCharts!$B$32,'Transaction Summary'!K252,0,1,1),\"\")","v":""},{"$f":"IFERROR(OFFSET(CalculationsAndCharts!$D$32,'Transaction Summary'!K252,0,1,1),\"\")","v":""},{"$f":"IFERROR(IF($N$12>$K$15,$N$12,MATCH(TRUE,OFFSET(CalculationsAndCharts!$AH$33,N251,0,'Transaction Summary'!$C$2-N251,1),0)+N251),\"\")","v":""},{"$f":"IFERROR(OFFSET(CalculationsAndCharts!$B$32,'Transaction Summary'!N252,0,1,1),\"\")","v":""},{"$f":"IFERROR(OFFSET(CalculationsAndCharts!$D$32,'Transaction Summary'!N252,0,1,1),\"\")","v":""},"",""]
[null,{"$f":"IFERROR(MATCH(TRUE,OFFSET(CalculationsAndCharts!$V$33,B252,0,'Transaction Summary'!$C$2-B252,1),0)+B252,\"\")","v":""},{"$f":"IFERROR(OFFSET(CalculationsAndCharts!$B$32,'Transaction Summary'!B253,0,1,1),\"\")","v":""},{"$f":"IFERROR(OFFSET(CalculationsAndCharts!$D$32,'Transaction Summary'!B253,0,1,1),\"\")","v":""},{"$f":"IFERROR(IF($E$12>$B$15,$E$12,(MATCH(TRUE,OFFSET(CalculationsAndCharts!$Y$33,E252,0,'Transaction Summary'!$C$2-E252,1),0)+E252)),\"\")","v":""},{"$f":"IFERROR(OFFSET(CalculationsAndCharts!$B$32,'Transaction Summary'!E253,0,1,1),\"\")","v":""},{"$f":"IFERROR(OFFSET(CalculationsAndCharts!$D$32,'Transaction Summary'!E253,0,1,1),\"\")","v":""},"","",null,{"$f":"IFERROR(MATCH(TRUE,OFFSET(CalculationsAndCharts!$AE$33,K252,0,'Transaction Summary'!$C$2-K252,1),0)+K252,\"\")","v":""},{"$f":"IFERROR(OFFSET(CalculationsAndCharts!$B$32,'Transaction Summary'!K253,0,1,1),\"\")","v":""},{"$f":"IFERROR(OFFSET(CalculationsAndCharts!$D$32,'Transaction Summary'!K253,0,1,1),\"\")","v":""},{"$f":"IFERROR(IF($N$12>$K$15,$N$12,MATCH(TRUE,OFFSET(CalculationsAndCharts!$AH$33,N252,0,'Transaction Summary'!$C$2-N252,1),0)+N252),\"\")","v":""},{"$f":"IFERROR(OFFSET(CalculationsAndCharts!$B$32,'Transaction Summary'!N253,0,1,1),\"\")","v":""},{"$f":"IFERROR(OFFSET(CalculationsAndCharts!$D$32,'Transaction Summary'!N253,0,1,1),\"\")","v":""},"",""]
[null,{"$f":"IFERROR(MATCH(TRUE,OFFSET(CalculationsAndCharts!$V$33,B253,0,'Transaction Summary'!$C$2-B253,1),0)+B253,\"\")","v":""},{"$f":"IFERROR(OFFSET(CalculationsAndCharts!$B$32,'Transaction Summary'!B254,0,1,1),\"\")","v":""},{"$f":"IFERROR(OFFSET(CalculationsAndCharts!$D$32,'Transaction Summary'!B254,0,1,1),\"\")","v":""},{"$f":"IFERROR(IF($E$12>$B$15,$E$12,(MATCH(TRUE,OFFSET(CalculationsAndCharts!$Y$33,E253,0,'Transaction Summary'!$C$2-E253,1),0)+E253)),\"\")","v":""},{"$f":"IFERROR(OFFSET(CalculationsAndCharts!$B$32,'Transaction Summary'!E254,0,1,1),\"\")","v":""},{"$f":"IFERROR(OFFSET(CalculationsAndCharts!$D$32,'Transaction Summary'!E254,0,1,1),\"\")","v":""},"","",null,{"$f":"IFERROR(MATCH(TRUE,OFFSET(CalculationsAndCharts!$AE$33,K253,0,'Transaction Summary'!$C$2-K253,1),0)+K253,\"\")","v":""},{"$f":"IFERROR(OFFSET(CalculationsAndCharts!$B$32,'Transaction Summary'!K254,0,1,1),\"\")","v":""},{"$f":"IFERROR(OFFSET(CalculationsAndCharts!$D$32,'Transaction Summary'!K254,0,1,1),\"\")","v":""},{"$f":"IFERROR(IF($N$12>$K$15,$N$12,MATCH(TRUE,OFFSET(CalculationsAndCharts!$AH$33,N253,0,'Transaction Summary'!$C$2-N253,1),0)+N253),\"\")","v":""},{"$f":"IFERROR(OFFSET(CalculationsAndCharts!$B$32,'Transaction Summary'!N254,0,1,1),\"\")","v":""},{"$f":"IFERROR(OFFSET(CalculationsAndCharts!$D$32,'Transaction Summary'!N254,0,1,1),\"\")","v":""},"",""]
[null,{"$f":"IFERROR(MATCH(TRUE,OFFSET(CalculationsAndCharts!$V$33,B254,0,'Transaction Summary'!$C$2-B254,1),0)+B254,\"\")","v":""},{"$f":"IFERROR(OFFSET(CalculationsAndCharts!$B$32,'Transaction Summary'!B255,0,1,1),\"\")","v":""},{"$f":"IFERROR(OFFSET(CalculationsAndCharts!$D$32,'Transaction Summary'!B255,0,1,1),\"\")","v":""},{"$f":"IFERROR(IF($E$12>$B$15,$E$12,(MATCH(TRUE,OFFSET(CalculationsAndCharts!$Y$33,E254,0,'Transaction Summary'!$C$2-E254,1),0)+E254)),\"\")","v":""},{"$f":"IFERROR(OFFSET(CalculationsAndCharts!$B$32,'Transaction Summary'!E255,0,1,1),\"\")","v":""},{"$f":"IFERROR(OFFSET(CalculationsAndCharts!$D$32,'Transaction Summary'!E255,0,1,1),\"\")","v":""},"","",null,{"$f":"IFERROR(MATCH(TRUE,OFFSET(CalculationsAndCharts!$AE$33,K254,0,'Transaction Summary'!$C$2-K254,1),0)+K254,\"\")","v":""},{"$f":"IFERROR(OFFSET(CalculationsAndCharts!$B$32,'Transaction Summary'!K255,0,1,1),\"\")","v":""},{"$f":"IFERROR(OFFSET(CalculationsAndCharts!$D$32,'Transaction Summary'!K255,0,1,1),\"\")","v":""},{"$f":"IFERROR(IF($N$12>$K$15,$N$12,MATCH(TRUE,OFFSET(CalculationsAndCharts!$AH$33,N254,0,'Transaction Summary'!$C$2-N254,1),0)+N254),\"\")","v":""},{"$f":"IFERROR(OFFSET(CalculationsAndCharts!$B$32,'Transaction Summary'!N255,0,1,1),\"\")","v":""},{"$f":"IFERROR(OFFSET(CalculationsAndCharts!$D$32,'Transaction Summary'!N255,0,1,1),\"\")","v":""},"",""]
[null,{"$f":"IFERROR(MATCH(TRUE,OFFSET(CalculationsAndCharts!$V$33,B255,0,'Transaction Summary'!$C$2-B255,1),0)+B255,\"\")","v":""},{"$f":"IFERROR(OFFSET(CalculationsAndCharts!$B$32,'Transaction Summary'!B256,0,1,1),\"\")","v":""},{"$f":"IFERROR(OFFSET(CalculationsAndCharts!$D$32,'Transaction Summary'!B256,0,1,1),\"\")","v":""},{"$f":"IFERROR(IF($E$12>$B$15,$E$12,(MATCH(TRUE,OFFSET(CalculationsAndCharts!$Y$33,E255,0,'Transaction Summary'!$C$2-E255,1),0)+E255)),\"\")","v":""},{"$f":"IFERROR(OFFSET(CalculationsAndCharts!$B$32,'Transaction Summary'!E256,0,1,1),\"\")","v":""},{"$f":"IFERROR(OFFSET(CalculationsAndCharts!$D$32,'Transaction Summary'!E256,0,1,1),\"\")","v":""},"","",null,{"$f":"IFERROR(MATCH(TRUE,OFFSET(CalculationsAndCharts!$AE$33,K255,0,'Transaction Summary'!$C$2-K255,1),0)+K255,\"\")","v":""},{"$f":"IFERROR(OFFSET(CalculationsAndCharts!$B$32,'Transaction Summary'!K256,0,1,1),\"\")","v":""},{"$f":"IFERROR(OFFSET(CalculationsAndCharts!$D$32,'Transaction Summary'!K256,0,1,1),\"\")","v":""},{"$f":"IFERROR(IF($N$12>$K$15,$N$12,MATCH(TRUE,OFFSET(CalculationsAndCharts!$AH$33,N255,0,'Transaction Summary'!$C$2-N255,1),0)+N255),\"\")","v":""},{"$f":"IFERROR(OFFSET(CalculationsAndCharts!$B$32,'Transaction Summary'!N256,0,1,1),\"\")","v":""},{"$f":"IFERROR(OFFSET(CalculationsAndCharts!$D$32,'Transaction Summary'!N256,0,1,1),\"\")","v":""},"",""]
[null,{"$f":"IFERROR(MATCH(TRUE,OFFSET(CalculationsAndCharts!$V$33,B256,0,'Transaction Summary'!$C$2-B256,1),0)+B256,\"\")","v":""},{"$f":"IFERROR(OFFSET(CalculationsAndCharts!$B$32,'Transaction Summary'!B257,0,1,1),\"\")","v":""},{"$f":"IFERROR(OFFSET(CalculationsAndCharts!$D$32,'Transaction Summary'!B257,0,1,1),\"\")","v":""},{"$f":"IFERROR(IF($E$12>$B$15,$E$12,(MATCH(TRUE,OFFSET(CalculationsAndCharts!$Y$33,E256,0,'Transaction Summary'!$C$2-E256,1),0)+E256)),\"\")","v":""},{"$f":"IFERROR(OFFSET(CalculationsAndCharts!$B$32,'Transaction Summary'!E257,0,1,1),\"\")","v":""},{"$f":"IFERROR(OFFSET(CalculationsAndCharts!$D$32,'Transaction Summary'!E257,0,1,1),\"\")","v":""},"","",null,{"$f":"IFERROR(MATCH(TRUE,OFFSET(CalculationsAndCharts!$AE$33,K256,0,'Transaction Summary'!$C$2-K256,1),0)+K256,\"\")","v":""},{"$f":"IFERROR(OFFSET(CalculationsAndCharts!$B$32,'Transaction Summary'!K257,0,1,1),\"\")","v":""},{"$f":"IFERROR(OFFSET(CalculationsAndCharts!$D$32,'Transaction Summary'!K257,0,1,1),\"\")","v":""},{"$f":"IFERROR(IF($N$12>$K$15,$N$12,MATCH(TRUE,OFFSET(CalculationsAndCharts!$AH$33,N256,0,'Transaction Summary'!$C$2-N256,1),0)+N256),\"\")","v":""},{"$f":"IFERROR(OFFSET(CalculationsAndCharts!$B$32,'Transaction Summary'!N257,0,1,1),\"\")","v":""},{"$f":"IFERROR(OFFSET(CalculationsAndCharts!$D$32,'Transaction Summary'!N257,0,1,1),\"\")","v":""},"",""]
[null,{"$f":"IFERROR(MATCH(TRUE,OFFSET(CalculationsAndCharts!$V$33,B257,0,'Transaction Summary'!$C$2-B257,1),0)+B257,\"\")","v":""},{"$f":"IFERROR(OFFSET(CalculationsAndCharts!$B$32,'Transaction Summary'!B258,0,1,1),\"\")","v":""},{"$f":"IFERROR(OFFSET(CalculationsAndCharts!$D$32,'Transaction Summary'!B258,0,1,1),\"\")","v":""},{"$f":"IFERROR(IF($E$12>$B$15,$E$12,(MATCH(TRUE,OFFSET(CalculationsAndCharts!$Y$33,E257,0,'Transaction Summary'!$C$2-E257,1),0)+E257)),\"\")","v":""},{"$f":"IFERROR(OFFSET(CalculationsAndCharts!$B$32,'Transaction Summary'!E258,0,1,1),\"\")","v":""},{"$f":"IFERROR(OFFSET(CalculationsAndCharts!$D$32,'Transaction Summary'!E258,0,1,1),\"\")","v":""},"","",null,{"$f":"IFERROR(MATCH(TRUE,OFFSET(CalculationsAndCharts!$AE$33,K257,0,'Transaction Summary'!$C$2-K257,1),0)+K257,\"\")","v":""},{"$f":"IFERROR(OFFSET(CalculationsAndCharts!$B$32,'Transaction Summary'!K258,0,1,1),\"\")","v":""},{"$f":"IFERROR(OFFSET(CalculationsAndCharts!$D$32,'Transaction Summary'!K258,0,1,1),\"\")","v":""},{"$f":"IFERROR(IF($N$12>$K$15,$N$12,MATCH(TRUE,OFFSET(CalculationsAndCharts!$AH$33,N257,0,'Transaction Summary'!$C$2-N257,1),0)+N257),\"\")","v":""},{"$f":"IFERROR(OFFSET(CalculationsAndCharts!$B$32,'Transaction Summary'!N258,0,1,1),\"\")","v":""},{"$f":"IFERROR(OFFSET(CalculationsAndCharts!$D$32,'Transaction Summary'!N258,0,1,1),\"\")","v":""},"",""]
[null,{"$f":"IFERROR(MATCH(TRUE,OFFSET(CalculationsAndCharts!$V$33,B258,0,'Transaction Summary'!$C$2-B258,1),0)+B258,\"\")","v":""},{"$f":"IFERROR(OFFSET(CalculationsAndCharts!$B$32,'Transaction Summary'!B259,0,1,1),\"\")","v":""},{"$f":"IFERROR(OFFSET(CalculationsAndCharts!$D$32,'Transaction Summary'!B259,0,1,1),\"\")","v":""},{"$f":"IFERROR(IF($E$12>$B$15,$E$12,(MATCH(TRUE,OFFSET(CalculationsAndCharts!$Y$33,E258,0,'Transaction Summary'!$C$2-E258,1),0)+E258)),\"\")","v":""},{"$f":"IFERROR(OFFSET(CalculationsAndCharts!$B$32,'Transaction Summary'!E259,0,1,1),\"\")","v":""},{"$f":"IFERROR(OFFSET(CalculationsAndCharts!$D$32,'Transaction Summary'!E259,0,1,1),\"\")","v":""},"","",null,{"$f":"IFERROR(MATCH(TRUE,OFFSET(CalculationsAndCharts!$AE$33,K258,0,'Transaction Summary'!$C$2-K258,1),0)+K258,\"\")","v":""},{"$f":"IFERROR(OFFSET(CalculationsAndCharts!$B$32,'Transaction Summary'!K259,0,1,1),\"\")","v":""},{"$f":"IFERROR(OFFSET(CalculationsAndCharts!$D$32,'Transaction Summary'!K259,0,1,1),\"\")","v":""},{"$f":"IFERROR(IF($N$12>$K$15,$N$12,MATCH(TRUE,OFFSET(CalculationsAndCharts!$AH$33,N258,0,'Transaction Summary'!$C$2-N258,1),0)+N258),\"\")","v":""},{"$f":"IFERROR(OFFSET(CalculationsAndCharts!$B$32,'Transaction Summary'!N259,0,1,1),\"\")","v":""},{"$f":"IFERROR(OFFSET(CalculationsAndCharts!$D$32,'Transaction Summary'!N259,0,1,1),\"\")","v":""},"",""]
[null,{"$f":"IFERROR(MATCH(TRUE,OFFSET(CalculationsAndCharts!$V$33,B259,0,'Transaction Summary'!$C$2-B259,1),0)+B259,\"\")","v":""},{"$f":"IFERROR(OFFSET(CalculationsAndCharts!$B$32,'Transaction Summary'!B260,0,1,1),\"\")","v":""},{"$f":"IFERROR(OFFSET(CalculationsAndCharts!$D$32,'Transaction Summary'!B260,0,1,1),\"\")","v":""},{"$f":"IFERROR(IF($E$12>$B$15,$E$12,(MATCH(TRUE,OFFSET(CalculationsAndCharts!$Y$33,E259,0,'Transaction Summary'!$C$2-E259,1),0)+E259)),\"\")","v":""},{"$f":"IFERROR(OFFSET(CalculationsAndCharts!$B$32,'Transaction Summary'!E260,0,1,1),\"\")","v":""},{"$f":"IFERROR(OFFSET(CalculationsAndCharts!$D$32,'Transaction Summary'!E260,0,1,1),\"\")","v":""},"","",null,{"$f":"IFERROR(MATCH(TRUE,OFFSET(CalculationsAndCharts!$AE$33,K259,0,'Transaction Summary'!$C$2-K259,1),0)+K259,\"\")","v":""},{"$f":"IFERROR(OFFSET(CalculationsAndCharts!$B$32,'Transaction Summary'!K260,0,1,1),\"\")","v":""},{"$f":"IFERROR(OFFSET(CalculationsAndCharts!$D$32,'Transaction Summary'!K260,0,1,1),\"\")","v":""},{"$f":"IFERROR(IF($N$12>$K$15,$N$12,MATCH(TRUE,OFFSET(CalculationsAndCharts!$AH$33,N259,0,'Transaction Summary'!$C$2-N259,1),0)+N259),\"\")","v":""},{"$f":"IFERROR(OFFSET(CalculationsAndCharts!$B$32,'Transaction Summary'!N260,0,1,1),\"\")","v":""},{"$f":"IFERROR(OFFSET(CalculationsAndCharts!$D$32,'Transaction Summary'!N260,0,1,1),\"\")","v":""},"",""]
[null,{"$f":"IFERROR(MATCH(TRUE,OFFSET(CalculationsAndCharts!$V$33,B260,0,'Transaction Summary'!$C$2-B260,1),0)+B260,\"\")","v":""},{"$f":"IFERROR(OFFSET(CalculationsAndCharts!$B$32,'Transaction Summary'!B261,0,1,1),\"\")","v":""},{"$f":"IFERROR(OFFSET(CalculationsAndCharts!$D$32,'Transaction Summary'!B261,0,1,1),\"\")","v":""},{"$f":"IFERROR(IF($E$12>$B$15,$E$12,(MATCH(TRUE,OFFSET(CalculationsAndCharts!$Y$33,E260,0,'Transaction Summary'!$C$2-E260,1),0)+E260)),\"\")","v":""},{"$f":"IFERROR(OFFSET(CalculationsAndCharts!$B$32,'Transaction Summary'!E261,0,1,1),\"\")","v":""},{"$f":"IFERROR(OFFSET(CalculationsAndCharts!$D$32,'Transaction Summary'!E261,0,1,1),\"\")","v":""},"","",null,{"$f":"IFERROR(MATCH(TRUE,OFFSET(CalculationsAndCharts!$AE$33,K260,0,'Transaction Summary'!$C$2-K260,1),0)+K260,\"\")","v":""},{"$f":"IFERROR(OFFSET(CalculationsAndCharts!$B$32,'Transaction Summary'!K261,0,1,1),\"\")","v":""},{"$f":"IFERROR(OFFSET(CalculationsAndCharts!$D$32,'Transaction Summary'!K261,0,1,1),\"\")","v":""},{"$f":"IFERROR(IF($N$12>$K$15,$N$12,MATCH(TRUE,OFFSET(CalculationsAndCharts!$AH$33,N260,0,'Transaction Summary'!$C$2-N260,1),0)+N260),\"\")","v":""},{"$f":"IFERROR(OFFSET(CalculationsAndCharts!$B$32,'Transaction Summary'!N261,0,1,1),\"\")","v":""},{"$f":"IFERROR(OFFSET(CalculationsAndCharts!$D$32,'Transaction Summary'!N261,0,1,1),\"\")","v":""},"",""]
[null,{"$f":"IFERROR(MATCH(TRUE,OFFSET(CalculationsAndCharts!$V$33,B261,0,'Transaction Summary'!$C$2-B261,1),0)+B261,\"\")","v":""},{"$f":"IFERROR(OFFSET(CalculationsAndCharts!$B$32,'Transaction Summary'!B262,0,1,1),\"\")","v":""},{"$f":"IFERROR(OFFSET(CalculationsAndCharts!$D$32,'Transaction Summary'!B262,0,1,1),\"\")","v":""},{"$f":"IFERROR(IF($E$12>$B$15,$E$12,(MATCH(TRUE,OFFSET(CalculationsAndCharts!$Y$33,E261,0,'Transaction Summary'!$C$2-E261,1),0)+E261)),\"\")","v":""},{"$f":"IFERROR(OFFSET(CalculationsAndCharts!$B$32,'Transaction Summary'!E262,0,1,1),\"\")","v":""},{"$f":"IFERROR(OFFSET(CalculationsAndCharts!$D$32,'Transaction Summary'!E262,0,1,1),\"\")","v":""},"","",null,{"$f":"IFERROR(MATCH(TRUE,OFFSET(CalculationsAndCharts!$AE$33,K261,0,'Transaction Summary'!$C$2-K261,1),0)+K261,\"\")","v":""},{"$f":"IFERROR(OFFSET(CalculationsAndCharts!$B$32,'Transaction Summary'!K262,0,1,1),\"\")","v":""},{"$f":"IFERROR(OFFSET(CalculationsAndCharts!$D$32,'Transaction Summary'!K262,0,1,1),\"\")","v":""},{"$f":"IFERROR(IF($N$12>$K$15,$N$12,MATCH(TRUE,OFFSET(CalculationsAndCharts!$AH$33,N261,0,'Transaction Summary'!$C$2-N261,1),0)+N261),\"\")","v":""},{"$f":"IFERROR(OFFSET(CalculationsAndCharts!$B$32,'Transaction Summary'!N262,0,1,1),\"\")","v":""},{"$f":"IFERROR(OFFSET(CalculationsAndCharts!$D$32,'Transaction Summary'!N262,0,1,1),\"\")","v":""},"",""]
[null,{"$f":"IFERROR(MATCH(TRUE,OFFSET(CalculationsAndCharts!$V$33,B262,0,'Transaction Summary'!$C$2-B262,1),0)+B262,\"\")","v":""},{"$f":"IFERROR(OFFSET(CalculationsAndCharts!$B$32,'Transaction Summary'!B263,0,1,1),\"\")","v":""},{"$f":"IFERROR(OFFSET(CalculationsAndCharts!$D$32,'Transaction Summary'!B263,0,1,1),\"\")","v":""},{"$f":"IFERROR(IF($E$12>$B$15,$E$12,(MATCH(TRUE,OFFSET(CalculationsAndCharts!$Y$33,E262,0,'Transaction Summary'!$C$2-E262,1),0)+E262)),\"\")","v":""},{"$f":"IFERROR(OFFSET(CalculationsAndCharts!$B$32,'Transaction Summary'!E263,0,1,1),\"\")","v":""},{"$f":"IFERROR(OFFSET(CalculationsAndCharts!$D$32,'Transaction Summary'!E263,0,1,1),\"\")","v":""},"","",null,{"$f":"IFERROR(MATCH(TRUE,OFFSET(CalculationsAndCharts!$AE$33,K262,0,'Transaction Summary'!$C$2-K262,1),0)+K262,\"\")","v":""},{"$f":"IFERROR(OFFSET(CalculationsAndCharts!$B$32,'Transaction Summary'!K263,0,1,1),\"\")","v":""},{"$f":"IFERROR(OFFSET(CalculationsAndCharts!$D$32,'Transaction Summary'!K263,0,1,1),\"\")","v":""},{"$f":"IFERROR(IF($N$12>$K$15,$N$12,MATCH(TRUE,OFFSET(CalculationsAndCharts!$AH$33,N262,0,'Transaction Summary'!$C$2-N262,1),0)+N262),\"\")","v":""},{"$f":"IFERROR(OFFSET(CalculationsAndCharts!$B$32,'Transaction Summary'!N263,0,1,1),\"\")","v":""},{"$f":"IFERROR(OFFSET(CalculationsAndCharts!$D$32,'Transaction Summary'!N263,0,1,1),\"\")","v":""},"",""]
[null,{"$f":"IFERROR(MATCH(TRUE,OFFSET(CalculationsAndCharts!$V$33,B263,0,'Transaction Summary'!$C$2-B263,1),0)+B263,\"\")","v":""},{"$f":"IFERROR(OFFSET(CalculationsAndCharts!$B$32,'Transaction Summary'!B264,0,1,1),\"\")","v":""},{"$f":"IFERROR(OFFSET(CalculationsAndCharts!$D$32,'Transaction Summary'!B264,0,1,1),\"\")","v":""},{"$f":"IFERROR(IF($E$12>$B$15,$E$12,(MATCH(TRUE,OFFSET(CalculationsAndCharts!$Y$33,E263,0,'Transaction Summary'!$C$2-E263,1),0)+E263)),\"\")","v":""},{"$f":"IFERROR(OFFSET(CalculationsAndCharts!$B$32,'Transaction Summary'!E264,0,1,1),\"\")","v":""},{"$f":"IFERROR(OFFSET(CalculationsAndCharts!$D$32,'Transaction Summary'!E264,0,1,1),\"\")","v":""},"","",null,{"$f":"IFERROR(MATCH(TRUE,OFFSET(CalculationsAndCharts!$AE$33,K263,0,'Transaction Summary'!$C$2-K263,1),0)+K263,\"\")","v":""},{"$f":"IFERROR(OFFSET(CalculationsAndCharts!$B$32,'Transaction Summary'!K264,0,1,1),\"\")","v":""},{"$f":"IFERROR(OFFSET(CalculationsAndCharts!$D$32,'Transaction Summary'!K264,0,1,1),\"\")","v":""},{"$f":"IFERROR(IF($N$12>$K$15,$N$12,MATCH(TRUE,OFFSET(CalculationsAndCharts!$AH$33,N263,0,'Transaction Summary'!$C$2-N263,1),0)+N263),\"\")","v":""},{"$f":"IFERROR(OFFSET(CalculationsAndCharts!$B$32,'Transaction Summary'!N264,0,1,1),\"\")","v":""},{"$f":"IFERROR(OFFSET(CalculationsAndCharts!$D$32,'Transaction Summary'!N264,0,1,1),\"\")","v":""},"",""]
[null,{"$f":"IFERROR(MATCH(TRUE,OFFSET(CalculationsAndCharts!$V$33,B264,0,'Transaction Summary'!$C$2-B264,1),0)+B264,\"\")","v":""},{"$f":"IFERROR(OFFSET(CalculationsAndCharts!$B$32,'Transaction Summary'!B265,0,1,1),\"\")","v":""},{"$f":"IFERROR(OFFSET(CalculationsAndCharts!$D$32,'Transaction Summary'!B265,0,1,1),\"\")","v":""},{"$f":"IFERROR(IF($E$12>$B$15,$E$12,(MATCH(TRUE,OFFSET(CalculationsAndCharts!$Y$33,E264,0,'Transaction Summary'!$C$2-E264,1),0)+E264)),\"\")","v":""},{"$f":"IFERROR(OFFSET(CalculationsAndCharts!$B$32,'Transaction Summary'!E265,0,1,1),\"\")","v":""},{"$f":"IFERROR(OFFSET(CalculationsAndCharts!$D$32,'Transaction Summary'!E265,0,1,1),\"\")","v":""},"","",null,{"$f":"IFERROR(MATCH(TRUE,OFFSET(CalculationsAndCharts!$AE$33,K264,0,'Transaction Summary'!$C$2-K264,1),0)+K264,\"\")","v":""},{"$f":"IFERROR(OFFSET(CalculationsAndCharts!$B$32,'Transaction Summary'!K265,0,1,1),\"\")","v":""},{"$f":"IFERROR(OFFSET(CalculationsAndCharts!$D$32,'Transaction Summary'!K265,0,1,1),\"\")","v":""},{"$f":"IFERROR(IF($N$12>$K$15,$N$12,MATCH(TRUE,OFFSET(CalculationsAndCharts!$AH$33,N264,0,'Transaction Summary'!$C$2-N264,1),0)+N264),\"\")","v":""},{"$f":"IFERROR(OFFSET(CalculationsAndCharts!$B$32,'Transaction Summary'!N265,0,1,1),\"\")","v":""},{"$f":"IFERROR(OFFSET(CalculationsAndCharts!$D$32,'Transaction Summary'!N265,0,1,1),\"\")","v":""},"",""]
[null,{"$f":"IFERROR(MATCH(TRUE,OFFSET(CalculationsAndCharts!$V$33,B265,0,'Transaction Summary'!$C$2-B265,1),0)+B265,\"\")","v":""},{"$f":"IFERROR(OFFSET(CalculationsAndCharts!$B$32,'Transaction Summary'!B266,0,1,1),\"\")","v":""},{"$f":"IFERROR(OFFSET(CalculationsAndCharts!$D$32,'Transaction Summary'!B266,0,1,1),\"\")","v":""},{"$f":"IFERROR(IF($E$12>$B$15,$E$12,(MATCH(TRUE,OFFSET(CalculationsAndCharts!$Y$33,E265,0,'Transaction Summary'!$C$2-E265,1),0)+E265)),\"\")","v":""},{"$f":"IFERROR(OFFSET(CalculationsAndCharts!$B$32,'Transaction Summary'!E266,0,1,1),\"\")","v":""},{"$f":"IFERROR(OFFSET(CalculationsAndCharts!$D$32,'Transaction Summary'!E266,0,1,1),\"\")","v":""},"","",null,{"$f":"IFERROR(MATCH(TRUE,OFFSET(CalculationsAndCharts!$AE$33,K265,0,'Transaction Summary'!$C$2-K265,1),0)+K265,\"\")","v":""},{"$f":"IFERROR(OFFSET(CalculationsAndCharts!$B$32,'Transaction Summary'!K266,0,1,1),\"\")","v":""},{"$f":"IFERROR(OFFSET(CalculationsAndCharts!$D$32,'Transaction Summary'!K266,0,1,1),\"\")","v":""},{"$f":"IFERROR(IF($N$12>$K$15,$N$12,MATCH(TRUE,OFFSET(CalculationsAndCharts!$AH$33,N265,0,'Transaction Summary'!$C$2-N265,1),0)+N265),\"\")","v":""},{"$f":"IFERROR(OFFSET(CalculationsAndCharts!$B$32,'Transaction Summary'!N266,0,1,1),\"\")","v":""},{"$f":"IFERROR(OFFSET(CalculationsAndCharts!$D$32,'Transaction Summary'!N266,0,1,1),\"\")","v":""},"",""]
[null,{"$f":"IFERROR(MATCH(TRUE,OFFSET(CalculationsAndCharts!$V$33,B266,0,'Transaction Summary'!$C$2-B266,1),0)+B266,\"\")","v":""},{"$f":"IFERROR(OFFSET(CalculationsAndCharts!$B$32,'Transaction Summary'!B267,0,1,1),\"\")","v":""},{"$f":"IFERROR(OFFSET(CalculationsAndCharts!$D$32,'Transaction Summary'!B267,0,1,1),\"\")","v":""},{"$f":"IFERROR(IF($E$12>$B$15,$E$12,(MATCH(TRUE,OFFSET(CalculationsAndCharts!$Y$33,E266,0,'Transaction Summary'!$C$2-E266,1),0)+E266)),\"\")","v":""},{"$f":"IFERROR(OFFSET(CalculationsAndCharts!$B$32,'Transaction Summary'!E267,0,1,1),\"\")","v":""},{"$f":"IFERROR(OFFSET(CalculationsAndCharts!$D$32,'Transaction Summary'!E267,0,1,1),\"\")","v":""},"","",null,{"$f":"IFERROR(MATCH(TRUE,OFFSET(CalculationsAndCharts!$AE$33,K266,0,'Transaction Summary'!$C$2-K266,1),0)+K266,\"\")","v":""},{"$f":"IFERROR(OFFSET(CalculationsAndCharts!$B$32,'Transaction Summary'!K267,0,1,1),\"\")","v":""},{"$f":"IFERROR(OFFSET(CalculationsAndCharts!$D$32,'Transaction Summary'!K267,0,1,1),\"\")","v":""},{"$f":"IFERROR(IF($N$12>$K$15,$N$12,MATCH(TRUE,OFFSET(CalculationsAndCharts!$AH$33,N266,0,'Transaction Summary'!$C$2-N266,1),0)+N266),\"\")","v":""},{"$f":"IFERROR(OFFSET(CalculationsAndCharts!$B$32,'Transaction Summary'!N267,0,1,1),\"\")","v":""},{"$f":"IFERROR(OFFSET(CalculationsAndCharts!$D$32,'Transaction Summary'!N267,0,1,1),\"\")","v":""},"",""]
[null,{"$f":"IFERROR(MATCH(TRUE,OFFSET(CalculationsAndCharts!$V$33,B267,0,'Transaction Summary'!$C$2-B267,1),0)+B267,\"\")","v":""},{"$f":"IFERROR(OFFSET(CalculationsAndCharts!$B$32,'Transaction Summary'!B268,0,1,1),\"\")","v":""},{"$f":"IFERROR(OFFSET(CalculationsAndCharts!$D$32,'Transaction Summary'!B268,0,1,1),\"\")","v":""},{"$f":"IFERROR(IF($E$12>$B$15,$E$12,(MATCH(TRUE,OFFSET(CalculationsAndCharts!$Y$33,E267,0,'Transaction Summary'!$C$2-E267,1),0)+E267)),\"\")","v":""},{"$f":"IFERROR(OFFSET(CalculationsAndCharts!$B$32,'Transaction Summary'!E268,0,1,1),\"\")","v":""},{"$f":"IFERROR(OFFSET(CalculationsAndCharts!$D$32,'Transaction Summary'!E268,0,1,1),\"\")","v":""},"","",null,{"$f":"IFERROR(MATCH(TRUE,OFFSET(CalculationsAndCharts!$AE$33,K267,0,'Transaction Summary'!$C$2-K267,1),0)+K267,\"\")","v":""},{"$f":"IFERROR(OFFSET(CalculationsAndCharts!$B$32,'Transaction Summary'!K268,0,1,1),\"\")","v":""},{"$f":"IFERROR(OFFSET(CalculationsAndCharts!$D$32,'Transaction Summary'!K268,0,1,1),\"\")","v":""},{"$f":"IFERROR(IF($N$12>$K$15,$N$12,MATCH(TRUE,OFFSET(CalculationsAndCharts!$AH$33,N267,0,'Transaction Summary'!$C$2-N267,1),0)+N267),\"\")","v":""},{"$f":"IFERROR(OFFSET(CalculationsAndCharts!$B$32,'Transaction Summary'!N268,0,1,1),\"\")","v":""},{"$f":"IFERROR(OFFSET(CalculationsAndCharts!$D$32,'Transaction Summary'!N268,0,1,1),\"\")","v":""},"",""]
[null,{"$f":"IFERROR(MATCH(TRUE,OFFSET(CalculationsAndCharts!$V$33,B268,0,'Transaction Summary'!$C$2-B268,1),0)+B268,\"\")","v":""},{"$f":"IFERROR(OFFSET(CalculationsAndCharts!$B$32,'Transaction Summary'!B269,0,1,1),\"\")","v":""},{"$f":"IFERROR(OFFSET(CalculationsAndCharts!$D$32,'Transaction Summary'!B269,0,1,1),\"\")","v":""},{"$f":"IFERROR(IF($E$12>$B$15,$E$12,(MATCH(TRUE,OFFSET(CalculationsAndCharts!$Y$33,E268,0,'Transaction Summary'!$C$2-E268,1),0)+E268)),\"\")","v":""},{"$f":"IFERROR(OFFSET(CalculationsAndCharts!$B$32,'Transaction Summary'!E269,0,1,1),\"\")","v":""},{"$f":"IFERROR(OFFSET(CalculationsAndCharts!$D$32,'Transaction Summary'!E269,0,1,1),\"\")","v":""},"","",null,{"$f":"IFERROR(MATCH(TRUE,OFFSET(CalculationsAndCharts!$AE$33,K268,0,'Transaction Summary'!$C$2-K268,1),0)+K268,\"\")","v":""},{"$f":"IFERROR(OFFSET(CalculationsAndCharts!$B$32,'Transaction Summary'!K269,0,1,1),\"\")","v":""},{"$f":"IFERROR(OFFSET(CalculationsAndCharts!$D$32,'Transaction Summary'!K269,0,1,1),\"\")","v":""},{"$f":"IFERROR(IF($N$12>$K$15,$N$12,MATCH(TRUE,OFFSET(CalculationsAndCharts!$AH$33,N268,0,'Transaction Summary'!$C$2-N268,1),0)+N268),\"\")","v":""},{"$f":"IFERROR(OFFSET(CalculationsAndCharts!$B$32,'Transaction Summary'!N269,0,1,1),\"\")","v":""},{"$f":"IFERROR(OFFSET(CalculationsAndCharts!$D$32,'Transaction Summary'!N269,0,1,1),\"\")","v":""},"",""]
[null,{"$f":"IFERROR(MATCH(TRUE,OFFSET(CalculationsAndCharts!$V$33,B269,0,'Transaction Summary'!$C$2-B269,1),0)+B269,\"\")","v":""},{"$f":"IFERROR(OFFSET(CalculationsAndCharts!$B$32,'Transaction Summary'!B270,0,1,1),\"\")","v":""},{"$f":"IFERROR(OFFSET(CalculationsAndCharts!$D$32,'Transaction Summary'!B270,0,1,1),\"\")","v":""},{"$f":"IFERROR(IF($E$12>$B$15,$E$12,(MATCH(TRUE,OFFSET(CalculationsAndCharts!$Y$33,E269,0,'Transaction Summary'!$C$2-E269,1),0)+E269)),\"\")","v":""},{"$f":"IFERROR(OFFSET(CalculationsAndCharts!$B$32,'Transaction Summary'!E270,0,1,1),\"\")","v":""},{"$f":"IFERROR(OFFSET(CalculationsAndCharts!$D$32,'Transaction Summary'!E270,0,1,1),\"\")","v":""},"","",null,{"$f":"IFERROR(MATCH(TRUE,OFFSET(CalculationsAndCharts!$AE$33,K269,0,'Transaction Summary'!$C$2-K269,1),0)+K269,\"\")","v":""},{"$f":"IFERROR(OFFSET(CalculationsAndCharts!$B$32,'Transaction Summary'!K270,0,1,1),\"\")","v":""},{"$f":"IFERROR(OFFSET(CalculationsAndCharts!$D$32,'Transaction Summary'!K270,0,1,1),\"\")","v":""},{"$f":"IFERROR(IF($N$12>$K$15,$N$12,MATCH(TRUE,OFFSET(CalculationsAndCharts!$AH$33,N269,0,'Transaction Summary'!$C$2-N269,1),0)+N269),\"\")","v":""},{"$f":"IFERROR(OFFSET(CalculationsAndCharts!$B$32,'Transaction Summary'!N270,0,1,1),\"\")","v":""},{"$f":"IFERROR(OFFSET(CalculationsAndCharts!$D$32,'Transaction Summary'!N270,0,1,1),\"\")","v":""},"",""]
[null,{"$f":"IFERROR(MATCH(TRUE,OFFSET(CalculationsAndCharts!$V$33,B270,0,'Transaction Summary'!$C$2-B270,1),0)+B270,\"\")","v":""},{"$f":"IFERROR(OFFSET(CalculationsAndCharts!$B$32,'Transaction Summary'!B271,0,1,1),\"\")","v":""},{"$f":"IFERROR(OFFSET(CalculationsAndCharts!$D$32,'Transaction Summary'!B271,0,1,1),\"\")","v":""},{"$f":"IFERROR(IF($E$12>$B$15,$E$12,(MATCH(TRUE,OFFSET(CalculationsAndCharts!$Y$33,E270,0,'Transaction Summary'!$C$2-E270,1),0)+E270)),\"\")","v":""},{"$f":"IFERROR(OFFSET(CalculationsAndCharts!$B$32,'Transaction Summary'!E271,0,1,1),\"\")","v":""},{"$f":"IFERROR(OFFSET(CalculationsAndCharts!$D$32,'Transaction Summary'!E271,0,1,1),\"\")","v":""},"","",null,{"$f":"IFERROR(MATCH(TRUE,OFFSET(CalculationsAndCharts!$AE$33,K270,0,'Transaction Summary'!$C$2-K270,1),0)+K270,\"\")","v":""},{"$f":"IFERROR(OFFSET(CalculationsAndCharts!$B$32,'Transaction Summary'!K271,0,1,1),\"\")","v":""},{"$f":"IFERROR(OFFSET(CalculationsAndCharts!$D$32,'Transaction Summary'!K271,0,1,1),\"\")","v":""},{"$f":"IFERROR(IF($N$12>$K$15,$N$12,MATCH(TRUE,OFFSET(CalculationsAndCharts!$AH$33,N270,0,'Transaction Summary'!$C$2-N270,1),0)+N270),\"\")","v":""},{"$f":"IFERROR(OFFSET(CalculationsAndCharts!$B$32,'Transaction Summary'!N271,0,1,1),\"\")","v":""},{"$f":"IFERROR(OFFSET(CalculationsAndCharts!$D$32,'Transaction Summary'!N271,0,1,1),\"\")","v":""},"",""]
[null,{"$f":"IFERROR(MATCH(TRUE,OFFSET(CalculationsAndCharts!$V$33,B271,0,'Transaction Summary'!$C$2-B271,1),0)+B271,\"\")","v":""},{"$f":"IFERROR(OFFSET(CalculationsAndCharts!$B$32,'Transaction Summary'!B272,0,1,1),\"\")","v":""},{"$f":"IFERROR(OFFSET(CalculationsAndCharts!$D$32,'Transaction Summary'!B272,0,1,1),\"\")","v":""},{"$f":"IFERROR(IF($E$12>$B$15,$E$12,(MATCH(TRUE,OFFSET(CalculationsAndCharts!$Y$33,E271,0,'Transaction Summary'!$C$2-E271,1),0)+E271)),\"\")","v":""},{"$f":"IFERROR(OFFSET(CalculationsAndCharts!$B$32,'Transaction Summary'!E272,0,1,1),\"\")","v":""},{"$f":"IFERROR(OFFSET(CalculationsAndCharts!$D$32,'Transaction Summary'!E272,0,1,1),\"\")","v":""},"","",null,{"$f":"IFERROR(MATCH(TRUE,OFFSET(CalculationsAndCharts!$AE$33,K271,0,'Transaction Summary'!$C$2-K271,1),0)+K271,\"\")","v":""},{"$f":"IFERROR(OFFSET(CalculationsAndCharts!$B$32,'Transaction Summary'!K272,0,1,1),\"\")","v":""},{"$f":"IFERROR(OFFSET(CalculationsAndCharts!$D$32,'Transaction Summary'!K272,0,1,1),\"\")","v":""},{"$f":"IFERROR(IF($N$12>$K$15,$N$12,MATCH(TRUE,OFFSET(CalculationsAndCharts!$AH$33,N271,0,'Transaction Summary'!$C$2-N271,1),0)+N271),\"\")","v":""},{"$f":"IFERROR(OFFSET(CalculationsAndCharts!$B$32,'Transaction Summary'!N272,0,1,1),\"\")","v":""},{"$f":"IFERROR(OFFSET(CalculationsAndCharts!$D$32,'Transaction Summary'!N272,0,1,1),\"\")","v":""},"",""]
[null,{"$f":"IFERROR(MATCH(TRUE,OFFSET(CalculationsAndCharts!$V$33,B272,0,'Transaction Summary'!$C$2-B272,1),0)+B272,\"\")","v":""},{"$f":"IFERROR(OFFSET(CalculationsAndCharts!$B$32,'Transaction Summary'!B273,0,1,1),\"\")","v":""},{"$f":"IFERROR(OFFSET(CalculationsAndCharts!$D$32,'Transaction Summary'!B273,0,1,1),\"\")","v":""},{"$f":"IFERROR(IF($E$12>$B$15,$E$12,(MATCH(TRUE,OFFSET(CalculationsAndCharts!$Y$33,E272,0,'Transaction Summary'!$C$2-E272,1),0)+E272)),\"\")","v":""},{"$f":"IFERROR(OFFSET(CalculationsAndCharts!$B$32,'Transaction Summary'!E273,0,1,1),\"\")","v":""},{"$f":"IFERROR(OFFSET(CalculationsAndCharts!$D$32,'Transaction Summary'!E273,0,1,1),\"\")","v":""},"","",null,{"$f":"IFERROR(MATCH(TRUE,OFFSET(CalculationsAndCharts!$AE$33,K272,0,'Transaction Summary'!$C$2-K272,1),0)+K272,\"\")","v":""},{"$f":"IFERROR(OFFSET(CalculationsAndCharts!$B$32,'Transaction Summary'!K273,0,1,1),\"\")","v":""},{"$f":"IFERROR(OFFSET(CalculationsAndCharts!$D$32,'Transaction Summary'!K273,0,1,1),\"\")","v":""},{"$f":"IFERROR(IF($N$12>$K$15,$N$12,MATCH(TRUE,OFFSET(CalculationsAndCharts!$AH$33,N272,0,'Transaction Summary'!$C$2-N272,1),0)+N272),\"\")","v":""},{"$f":"IFERROR(OFFSET(CalculationsAndCharts!$B$32,'Transaction Summary'!N273,0,1,1),\"\")","v":""},{"$f":"IFERROR(OFFSET(CalculationsAndCharts!$D$32,'Transaction Summary'!N273,0,1,1),\"\")","v":""},"",""]
[null,{"$f":"IFERROR(MATCH(TRUE,OFFSET(CalculationsAndCharts!$V$33,B273,0,'Transaction Summary'!$C$2-B273,1),0)+B273,\"\")","v":""},{"$f":"IFERROR(OFFSET(CalculationsAndCharts!$B$32,'Transaction Summary'!B274,0,1,1),\"\")","v":""},{"$f":"IFERROR(OFFSET(CalculationsAndCharts!$D$32,'Transaction Summary'!B274,0,1,1),\"\")","v":""},{"$f":"IFERROR(IF($E$12>$B$15,$E$12,(MATCH(TRUE,OFFSET(CalculationsAndCharts!$Y$33,E273,0,'Transaction Summary'!$C$2-E273,1),0)+E273)),\"\")","v":""},{"$f":"IFERROR(OFFSET(CalculationsAndCharts!$B$32,'Transaction Summary'!E274,0,1,1),\"\")","v":""},{"$f":"IFERROR(OFFSET(CalculationsAndCharts!$D$32,'Transaction Summary'!E274,0,1,1),\"\")","v":""},"","",null,{"$f":"IFERROR(MATCH(TRUE,OFFSET(CalculationsAndCharts!$AE$33,K273,0,'Transaction Summary'!$C$2-K273,1),0)+K273,\"\")","v":""},{"$f":"IFERROR(OFFSET(CalculationsAndCharts!$B$32,'Transaction Summary'!K274,0,1,1),\"\")","v":""},{"$f":"IFERROR(OFFSET(CalculationsAndCharts!$D$32,'Transaction Summary'!K274,0,1,1),\"\")","v":""},{"$f":"IFERROR(IF($N$12>$K$15,$N$12,MATCH(TRUE,OFFSET(CalculationsAndCharts!$AH$33,N273,0,'Transaction Summary'!$C$2-N273,1),0)+N273),\"\")","v":""},{"$f":"IFERROR(OFFSET(CalculationsAndCharts!$B$32,'Transaction Summary'!N274,0,1,1),\"\")","v":""},{"$f":"IFERROR(OFFSET(CalculationsAndCharts!$D$32,'Transaction Summary'!N274,0,1,1),\"\")","v":""},{"$f":"IFERROR(M274-P274,\"\")","v":""},{"$f":"IFERROR(Q274+IF(\"\"=R275,0,R275),\"\")","v":""}]
[null,{"$f":"IFERROR(MATCH(TRUE,OFFSET(CalculationsAndCharts!$V$33,B274,0,'Transaction Summary'!$C$2-B274,1),0)+B274,\"\")","v":""},{"$f":"IFERROR(OFFSET(CalculationsAndCharts!$B$32,'Transaction Summary'!B275,0,1,1),\"\")","v":""},{"$f":"IFERROR(OFFSET(CalculationsAndCharts!$D$32,'Transaction Summary'!B275,0,1,1),\"\")","v":""},{"$f":"IFERROR(IF($E$12>$B$15,$E$12,(MATCH(TRUE,OFFSET(CalculationsAndCharts!$Y$33,E274,0,'Transaction Summary'!$C$2-E274,1),0)+E274)),\"\")","v":""},{"$f":"IFERROR(OFFSET(CalculationsAndCharts!$B$32,'Transaction Summary'!E275,0,1,1),\"\")","v":""},{"$f":"IFERROR(OFFSET(CalculationsAndCharts!$D$32,'Transaction Summary'!E275,0,1,1),\"\")","v":""},"","",null,{"$f":"IFERROR(MATCH(TRUE,OFFSET(CalculationsAndCharts!$AE$33,K274,0,'Transaction Summary'!$C$2-K274,1),0)+K274,\"\")","v":""},{"$f":"IFERROR(OFFSET(CalculationsAndCharts!$B$32,'Transaction Summary'!K275,0,1,1),\"\")","v":""},{"$f":"IFERROR(OFFSET(CalculationsAndCharts!$D$32,'Transaction Summary'!K275,0,1,1),\"\")","v":""},{"$f":"IFERROR(IF($N$12>$K$15,$N$12,MATCH(TRUE,OFFSET(CalculationsAndCharts!$AH$33,N274,0,'Transaction Summary'!$C$2-N274,1),0)+N274),\"\")","v":""},{"$f":"IFERROR(OFFSET(CalculationsAndCharts!$B$32,'Transaction Summary'!N275,0,1,1),\"\")","v":""},{"$f":"IFERROR(OFFSET(CalculationsAndCharts!$D$32,'Transaction Summary'!N275,0,1,1),\"\")","v":""},"",""]
[null,{"$f":"IFERROR(MATCH(TRUE,OFFSET(CalculationsAndCharts!$V$33,B275,0,'Transaction Summary'!$C$2-B275,1),0)+B275,\"\")","v":""},{"$f":"IFERROR(OFFSET(CalculationsAndCharts!$B$32,'Transaction Summary'!B276,0,1,1),\"\")","v":""},{"$f":"IFERROR(OFFSET(CalculationsAndCharts!$D$32,'Transaction Summary'!B276,0,1,1),\"\")","v":""},{"$f":"IFERROR(IF($E$12>$B$15,$E$12,(MATCH(TRUE,OFFSET(CalculationsAndCharts!$Y$33,E275,0,'Transaction Summary'!$C$2-E275,1),0)+E275)),\"\")","v":""},{"$f":"IFERROR(OFFSET(CalculationsAndCharts!$B$32,'Transaction Summary'!E276,0,1,1),\"\")","v":""},{"$f":"IFERROR(OFFSET(CalculationsAndCharts!$D$32,'Transaction Summary'!E276,0,1,1),\"\")","v":""},"","",null,{"$f":"IFERROR(MATCH(TRUE,OFFSET(CalculationsAndCharts!$AE$33,K275,0,'Transaction Summary'!$C$2-K275,1),0)+K275,\"\")","v":""},{"$f":"IFERROR(OFFSET(CalculationsAndCharts!$B$32,'Transaction Summary'!K276,0,1,1),\"\")","v":""},{"$f":"IFERROR(OFFSET(CalculationsAndCharts!$D$32,'Transaction Summary'!K276,0,1,1),\"\")","v":""},{"$f":"IFERROR(IF($N$12>$K$15,$N$12,MATCH(TRUE,OFFSET(CalculationsAndCharts!$AH$33,N275,0,'Transaction Summary'!$C$2-N275,1),0)+N275),\"\")","v":""},{"$f":"IFERROR(OFFSET(CalculationsAndCharts!$B$32,'Transaction Summary'!N276,0,1,1),\"\")","v":""},{"$f":"IFERROR(OFFSET(CalculationsAndCharts!$D$32,'Transaction Summary'!N276,0,1,1),\"\")","v":""},"",""]
[null,{"$f":"IFERROR(MATCH(TRUE,OFFSET(CalculationsAndCharts!$V$33,B276,0,'Transaction Summary'!$C$2-B276,1),0)+B276,\"\")","v":""},{"$f":"IFERROR(OFFSET(CalculationsAndCharts!$B$32,'Transaction Summary'!B277,0,1,1),\"\")","v":""},{"$f":"IFERROR(OFFSET(CalculationsAndCharts!$D$32,'Transaction Summary'!B277,0,1,1),\"\")","v":""},{"$f":"IFERROR(IF($E$12>$B$15,$E$12,(MATCH(TRUE,OFFSET(CalculationsAndCharts!$Y$33,E276,0,'Transaction Summary'!$C$2-E276,1),0)+E276)),\"\")","v":""},{"$f":"IFERROR(OFFSET(CalculationsAndCharts!$B$32,'Transaction Summary'!E277,0,1,1),\"\")","v":""},{"$f":"IFERROR(OFFSET(CalculationsAndCharts!$D$32,'Transaction Summary'!E277,0,1,1),\"\")","v":""},"","",null,{"$f":"IFERROR(MATCH(TRUE,OFFSET(CalculationsAndCharts!$AE$33,K276,0,'Transaction Summary'!$C$2-K276,1),0)+K276,\"\")","v":""},{"$f":"IFERROR(OFFSET(CalculationsAndCharts!$B$32,'Transaction Summary'!K277,0,1,1),\"\")","v":""},{"$f":"IFERROR(OFFSET(CalculationsAndCharts!$D$32,'Transaction Summary'!K277,0,1,1),\"\")","v":""},{"$f":"IFERROR(IF($N$12>$K$15,$N$12,MATCH(TRUE,OFFSET(CalculationsAndCharts!$AH$33,N276,0,'Transaction Summary'!$C$2-N276,1),0)+N276),\"\")","v":""},{"$f":"IFERROR(OFFSET(CalculationsAndCharts!$B$32,'Transaction Summary'!N277,0,1,1),\"\")","v":""},{"$f":"IFERROR(OFFSET(CalculationsAndCharts!$D$32,'Transaction Summary'!N277,0,1,1),\"\")","v":""},"",""]
[null,{"$f":"IFERROR(MATCH(TRUE,OFFSET(CalculationsAndCharts!$V$33,B277,0,'Transaction Summary'!$C$2-B277,1),0)+B277,\"\")","v":""},{"$f":"IFERROR(OFFSET(CalculationsAndCharts!$B$32,'Transaction Summary'!B278,0,1,1),\"\")","v":""},{"$f":"IFERROR(OFFSET(CalculationsAndCharts!$D$32,'Transaction Summary'!B278,0,1,1),\"\")","v":""},{"$f":"IFERROR(IF($E$12>$B$15,$E$12,(MATCH(TRUE,OFFSET(CalculationsAndCharts!$Y$33,E277,0,'Transaction Summary'!$C$2-E277,1),0)+E277)),\"\")","v":""},{"$f":"IFERROR(OFFSET(CalculationsAndCharts!$B$32,'Transaction Summary'!E278,0,1,1),\"\")","v":""},{"$f":"IFERROR(OFFSET(CalculationsAndCharts!$D$32,'Transaction Summary'!E278,0,1,1),\"\")","v":""},"","",null,{"$f":"IFERROR(MATCH(TRUE,OFFSET(CalculationsAndCharts!$AE$33,K277,0,'Transaction Summary'!$C$2-K277,1),0)+K277,\"\")","v":""},{"$f":"IFERROR(OFFSET(CalculationsAndCharts!$B$32,'Transaction Summary'!K278,0,1,1),\"\")","v":""},{"$f":"IFERROR(OFFSET(CalculationsAndCharts!$D$32,'Transaction Summary'!K278,0,1,1),\"\")","v":""},{"$f":"IFERROR(IF($N$12>$K$15,$N$12,MATCH(TRUE,OFFSET(CalculationsAndCharts!$AH$33,N277,0,'Transaction Summary'!$C$2-N277,1),0)+N277),\"\")","v":""},{"$f":"IFERROR(OFFSET(CalculationsAndCharts!$B$32,'Transaction Summary'!N278,0,1,1),\"\")","v":""},{"$f":"IFERROR(OFFSET(CalculationsAndCharts!$D$32,'Transaction Summary'!N278,0,1,1),\"\")","v":""},"",""]
[null,{"$f":"IFERROR(MATCH(TRUE,OFFSET(CalculationsAndCharts!$V$33,B278,0,'Transaction Summary'!$C$2-B278,1),0)+B278,\"\")","v":""},{"$f":"IFERROR(OFFSET(CalculationsAndCharts!$B$32,'Transaction Summary'!B279,0,1,1),\"\")","v":""},{"$f":"IFERROR(OFFSET(CalculationsAndCharts!$D$32,'Transaction Summary'!B279,0,1,1),\"\")","v":""},{"$f":"IFERROR(IF($E$12>$B$15,$E$12,(MATCH(TRUE,OFFSET(CalculationsAndCharts!$Y$33,E278,0,'Transaction Summary'!$C$2-E278,1),0)+E278)),\"\")","v":""},{"$f":"IFERROR(OFFSET(CalculationsAndCharts!$B$32,'Transaction Summary'!E279,0,1,1),\"\")","v":""},{"$f":"IFERROR(OFFSET(CalculationsAndCharts!$D$32,'Transaction Summary'!E279,0,1,1),\"\")","v":""},"","",null,{"$f":"IFERROR(MATCH(TRUE,OFFSET(CalculationsAndCharts!$AE$33,K278,0,'Transaction Summary'!$C$2-K278,1),0)+K278,\"\")","v":""},{"$f":"IFERROR(OFFSET(CalculationsAndCharts!$B$32,'Transaction Summary'!K279,0,1,1),\"\")","v":""},{"$f":"IFERROR(OFFSET(CalculationsAndCharts!$D$32,'Transaction Summary'!K279,0,1,1),\"\")","v":""},{"$f":"IFERROR(IF($N$12>$K$15,$N$12,MATCH(TRUE,OFFSET(CalculationsAndCharts!$AH$33,N278,0,'Transaction Summary'!$C$2-N278,1),0)+N278),\"\")","v":""},{"$f":"IFERROR(OFFSET(CalculationsAndCharts!$B$32,'Transaction Summary'!N279,0,1,1),\"\")","v":""},{"$f":"IFERROR(OFFSET(CalculationsAndCharts!$D$32,'Transaction Summary'!N279,0,1,1),\"\")","v":""},"",""]
[null,{"$f":"IFERROR(MATCH(TRUE,OFFSET(CalculationsAndCharts!$V$33,B279,0,'Transaction Summary'!$C$2-B279,1),0)+B279,\"\")","v":""},{"$f":"IFERROR(OFFSET(CalculationsAndCharts!$B$32,'Transaction Summary'!B280,0,1,1),\"\")","v":""},{"$f":"IFERROR(OFFSET(CalculationsAndCharts!$D$32,'Transaction Summary'!B280,0,1,1),\"\")","v":""},{"$f":"IFERROR(IF($E$12>$B$15,$E$12,(MATCH(TRUE,OFFSET(CalculationsAndCharts!$Y$33,E279,0,'Transaction Summary'!$C$2-E279,1),0)+E279)),\"\")","v":""},{"$f":"IFERROR(OFFSET(CalculationsAndCharts!$B$32,'Transaction Summary'!E280,0,1,1),\"\")","v":""},{"$f":"IFERROR(OFFSET(CalculationsAndCharts!$D$32,'Transaction Summary'!E280,0,1,1),\"\")","v":""},"","",null,{"$f":"IFERROR(MATCH(TRUE,OFFSET(CalculationsAndCharts!$AE$33,K279,0,'Transaction Summary'!$C$2-K279,1),0)+K279,\"\")","v":""},{"$f":"IFERROR(OFFSET(CalculationsAndCharts!$B$32,'Transaction Summary'!K280,0,1,1),\"\")","v":""},{"$f":"IFERROR(OFFSET(CalculationsAndCharts!$D$32,'Transaction Summary'!K280,0,1,1),\"\")","v":""},{"$f":"IFERROR(IF($N$12>$K$15,$N$12,MATCH(TRUE,OFFSET(CalculationsAndCharts!$AH$33,N279,0,'Transaction Summary'!$C$2-N279,1),0)+N279),\"\")","v":""},{"$f":"IFERROR(OFFSET(CalculationsAndCharts!$B$32,'Transaction Summary'!N280,0,1,1),\"\")","v":""},{"$f":"IFERROR(OFFSET(CalculationsAndCharts!$D$32,'Transaction Summary'!N280,0,1,1),\"\")","v":""},"",""]
[null,{"$f":"IFERROR(MATCH(TRUE,OFFSET(CalculationsAndCharts!$V$33,B280,0,'Transaction Summary'!$C$2-B280,1),0)+B280,\"\")","v":""},{"$f":"IFERROR(OFFSET(CalculationsAndCharts!$B$32,'Transaction Summary'!B281,0,1,1),\"\")","v":""},{"$f":"IFERROR(OFFSET(CalculationsAndCharts!$D$32,'Transaction Summary'!B281,0,1,1),\"\")","v":""},{"$f":"IFERROR(IF($E$12>$B$15,$E$12,(MATCH(TRUE,OFFSET(CalculationsAndCharts!$Y$33,E280,0,'Transaction Summary'!$C$2-E280,1),0)+E280)),\"\")","v":""},{"$f":"IFERROR(OFFSET(CalculationsAndCharts!$B$32,'Transaction Summary'!E281,0,1,1),\"\")","v":""},{"$f":"IFERROR(OFFSET(CalculationsAndCharts!$D$32,'Transaction Summary'!E281,0,1,1),\"\")","v":""},"","",null,{"$f":"IFERROR(MATCH(TRUE,OFFSET(CalculationsAndCharts!$AE$33,K280,0,'Transaction Summary'!$C$2-K280,1),0)+K280,\"\")","v":""},{"$f":"IFERROR(OFFSET(CalculationsAndCharts!$B$32,'Transaction Summary'!K281,0,1,1),\"\")","v":""},{"$f":"IFERROR(OFFSET(CalculationsAndCharts!$D$32,'Transaction Summary'!K281,0,1,1),\"\")","v":""},{"$f":"IFERROR(IF($N$12>$K$15,$N$12,MATCH(TRUE,OFFSET(CalculationsAndCharts!$AH$33,N280,0,'Transaction Summary'!$C$2-N280,1),0)+N280),\"\")","v":""},{"$f":"IFERROR(OFFSET(CalculationsAndCharts!$B$32,'Transaction Summary'!N281,0,1,1),\"\")","v":""},{"$f":"IFERROR(OFFSET(CalculationsAndCharts!$D$32,'Transaction Summary'!N281,0,1,1),\"\")","v":""},"",""]
[null,{"$f":"IFERROR(MATCH(TRUE,OFFSET(CalculationsAndCharts!$V$33,B281,0,'Transaction Summary'!$C$2-B281,1),0)+B281,\"\")","v":""},{"$f":"IFERROR(OFFSET(CalculationsAndCharts!$B$32,'Transaction Summary'!B282,0,1,1),\"\")","v":""},{"$f":"IFERROR(OFFSET(CalculationsAndCharts!$D$32,'Transaction Summary'!B282,0,1,1),\"\")","v":""},{"$f":"IFERROR(IF($E$12>$B$15,$E$12,(MATCH(TRUE,OFFSET(CalculationsAndCharts!$Y$33,E281,0,'Transaction Summary'!$C$2-E281,1),0)+E281)),\"\")","v":""},{"$f":"IFERROR(OFFSET(CalculationsAndCharts!$B$32,'Transaction Summary'!E282,0,1,1),\"\")","v":""},{"$f":"IFERROR(OFFSET(CalculationsAndCharts!$D$32,'Transaction Summary'!E282,0,1,1),\"\")","v":""},"","",null,{"$f":"IFERROR(MATCH(TRUE,OFFSET(CalculationsAndCharts!$AE$33,K281,0,'Transaction Summary'!$C$2-K281,1),0)+K281,\"\")","v":""},{"$f":"IFERROR(OFFSET(CalculationsAndCharts!$B$32,'Transaction Summary'!K282,0,1,1),\"\")","v":""},{"$f":"IFERROR(OFFSET(CalculationsAndCharts!$D$32,'Transaction Summary'!K282,0,1,1),\"\")","v":""},{"$f":"IFERROR(IF($N$12>$K$15,$N$12,MATCH(TRUE,OFFSET(CalculationsAndCharts!$AH$33,N281,0,'Transaction Summary'!$C$2-N281,1),0)+N281),\"\")","v":""},{"$f":"IFERROR(OFFSET(CalculationsAndCharts!$B$32,'Transaction Summary'!N282,0,1,1),\"\")","v":""},{"$f":"IFERROR(OFFSET(CalculationsAndCharts!$D$32,'Transaction Summary'!N282,0,1,1),\"\")","v":""},"",""]
[null,{"$f":"IFERROR(MATCH(TRUE,OFFSET(CalculationsAndCharts!$V$33,B282,0,'Transaction Summary'!$C$2-B282,1),0)+B282,\"\")","v":""},{"$f":"IFERROR(OFFSET(CalculationsAndCharts!$B$32,'Transaction Summary'!B283,0,1,1),\"\")","v":""},{"$f":"IFERROR(OFFSET(CalculationsAndCharts!$D$32,'Transaction Summary'!B283,0,1,1),\"\")","v":""},{"$f":"IFERROR(IF($E$12>$B$15,$E$12,(MATCH(TRUE,OFFSET(CalculationsAndCharts!$Y$33,E282,0,'Transaction Summary'!$C$2-E282,1),0)+E282)),\"\")","v":""},{"$f":"IFERROR(OFFSET(CalculationsAndCharts!$B$32,'Transaction Summary'!E283,0,1,1),\"\")","v":""},{"$f":"IFERROR(OFFSET(CalculationsAndCharts!$D$32,'Transaction Summary'!E283,0,1,1),\"\")","v":""},"","",null,{"$f":"IFERROR(MATCH(TRUE,OFFSET(CalculationsAndCharts!$AE$33,K282,0,'Transaction Summary'!$C$2-K282,1),0)+K282,\"\")","v":""},{"$f":"IFERROR(OFFSET(CalculationsAndCharts!$B$32,'Transaction Summary'!K283,0,1,1),\"\")","v":""},{"$f":"IFERROR(OFFSET(CalculationsAndCharts!$D$32,'Transaction Summary'!K283,0,1,1),\"\")","v":""},{"$f":"IFERROR(IF($N$12>$K$15,$N$12,MATCH(TRUE,OFFSET(CalculationsAndCharts!$AH$33,N282,0,'Transaction Summary'!$C$2-N282,1),0)+N282),\"\")","v":""},{"$f":"IFERROR(OFFSET(CalculationsAndCharts!$B$32,'Transaction Summary'!N283,0,1,1),\"\")","v":""},{"$f":"IFERROR(OFFSET(CalculationsAndCharts!$D$32,'Transaction Summary'!N283,0,1,1),\"\")","v":""},"",""]
[null,{"$f":"IFERROR(MATCH(TRUE,OFFSET(CalculationsAndCharts!$V$33,B283,0,'Transaction Summary'!$C$2-B283,1),0)+B283,\"\")","v":""},{"$f":"IFERROR(OFFSET(CalculationsAndCharts!$B$32,'Transaction Summary'!B284,0,1,1),\"\")","v":""},{"$f":"IFERROR(OFFSET(CalculationsAndCharts!$D$32,'Transaction Summary'!B284,0,1,1),\"\")","v":""},{"$f":"IFERROR(IF($E$12>$B$15,$E$12,(MATCH(TRUE,OFFSET(CalculationsAndCharts!$Y$33,E283,0,'Transaction Summary'!$C$2-E283,1),0)+E283)),\"\")","v":""},{"$f":"IFERROR(OFFSET(CalculationsAndCharts!$B$32,'Transaction Summary'!E284,0,1,1),\"\")","v":""},{"$f":"IFERROR(OFFSET(CalculationsAndCharts!$D$32,'Transaction Summary'!E284,0,1,1),\"\")","v":""},"","",null,{"$f":"IFERROR(MATCH(TRUE,OFFSET(CalculationsAndCharts!$AE$33,K283,0,'Transaction Summary'!$C$2-K283,1),0)+K283,\"\")","v":""},{"$f":"IFERROR(OFFSET(CalculationsAndCharts!$B$32,'Transaction Summary'!K284,0,1,1),\"\")","v":""},{"$f":"IFERROR(OFFSET(CalculationsAndCharts!$D$32,'Transaction Summary'!K284,0,1,1),\"\")","v":""},{"$f":"IFERROR(IF($N$12>$K$15,$N$12,MATCH(TRUE,OFFSET(CalculationsAndCharts!$AH$33,N283,0,'Transaction Summary'!$C$2-N283,1),0)+N283),\"\")","v":""},{"$f":"IFERROR(OFFSET(CalculationsAndCharts!$B$32,'Transaction Summary'!N284,0,1,1),\"\")","v":""},{"$f":"IFERROR(OFFSET(CalculationsAndCharts!$D$32,'Transaction Summary'!N284,0,1,1),\"\")","v":""},"",""]
[null,{"$f":"IFERROR(MATCH(TRUE,OFFSET(CalculationsAndCharts!$V$33,B284,0,'Transaction Summary'!$C$2-B284,1),0)+B284,\"\")","v":""},{"$f":"IFERROR(OFFSET(CalculationsAndCharts!$B$32,'Transaction Summary'!B285,0,1,1),\"\")","v":""},{"$f":"IFERROR(OFFSET(CalculationsAndCharts!$D$32,'Transaction Summary'!B285,0,1,1),\"\")","v":""},{"$f":"IFERROR(IF($E$12>$B$15,$E$12,(MATCH(TRUE,OFFSET(CalculationsAndCharts!$Y$33,E284,0,'Transaction Summary'!$C$2-E284,1),0)+E284)),\"\")","v":""},{"$f":"IFERROR(OFFSET(CalculationsAndCharts!$B$32,'Transaction Summary'!E285,0,1,1),\"\")","v":""},{"$f":"IFERROR(OFFSET(CalculationsAndCharts!$D$32,'Transaction Summary'!E285,0,1,1),\"\")","v":""},"","",null,{"$f":"IFERROR(MATCH(TRUE,OFFSET(CalculationsAndCharts!$AE$33,K284,0,'Transaction Summary'!$C$2-K284,1),0)+K284,\"\")","v":""},{"$f":"IFERROR(OFFSET(CalculationsAndCharts!$B$32,'Transaction Summary'!K285,0,1,1),\"\")","v":""},{"$f":"IFERROR(OFFSET(CalculationsAndCharts!$D$32,'Transaction Summary'!K285,0,1,1),\"\")","v":""},{"$f":"IFERROR(IF($N$12>$K$15,$N$12,MATCH(TRUE,OFFSET(CalculationsAndCharts!$AH$33,N284,0,'Transaction Summary'!$C$2-N284,1),0)+N284),\"\")","v":""},{"$f":"IFERROR(OFFSET(CalculationsAndCharts!$B$32,'Transaction Summary'!N285,0,1,1),\"\")","v":""},{"$f":"IFERROR(OFFSET(CalculationsAndCharts!$D$32,'Transaction Summary'!N285,0,1,1),\"\")","v":""},"",""]
[null,{"$f":"IFERROR(MATCH(TRUE,OFFSET(CalculationsAndCharts!$V$33,B285,0,'Transaction Summary'!$C$2-B285,1),0)+B285,\"\")","v":""},{"$f":"IFERROR(OFFSET(CalculationsAndCharts!$B$32,'Transaction Summary'!B286,0,1,1),\"\")","v":""},{"$f":"IFERROR(OFFSET(CalculationsAndCharts!$D$32,'Transaction Summary'!B286,0,1,1),\"\")","v":""},{"$f":"IFERROR(IF($E$12>$B$15,$E$12,(MATCH(TRUE,OFFSET(CalculationsAndCharts!$Y$33,E285,0,'Transaction Summary'!$C$2-E285,1),0)+E285)),\"\")","v":""},{"$f":"IFERROR(OFFSET(CalculationsAndCharts!$B$32,'Transaction Summary'!E286,0,1,1),\"\")","v":""},{"$f":"IFERROR(OFFSET(CalculationsAndCharts!$D$32,'Transaction Summary'!E286,0,1,1),\"\")","v":""},{"$f":"IFERROR(G286-D286,\"\")","v":""},{"$f":"IFERROR(H286+IF(\"\"=I287,0,I287),\"\")","v":""},null,{"$f":"IFERROR(MATCH(TRUE,OFFSET(CalculationsAndCharts!$AE$33,K285,0,'Transaction Summary'!$C$2-K285,1),0)+K285,\"\")","v":""},{"$f":"IFERROR(OFFSET(CalculationsAndCharts!$B$32,'Transaction Summary'!K286,0,1,1),\"\")","v":""},{"$f":"IFERROR(OFFSET(CalculationsAndCharts!$D$32,'Transaction Summary'!K286,0,1,1),\"\")","v":""},{"$f":"IFERROR(IF($N$12>$K$15,$N$12,MATCH(TRUE,OFFSET(CalculationsAndCharts!$AH$33,N285,0,'Transaction Summary'!$C$2-N285,1),0)+N285),\"\")","v":""},{"$f":"IFERROR(OFFSET(CalculationsAndCharts!$B$32,'Transaction Summary'!N286,0,1,1),\"\")","v":""},{"$f":"IFERROR(OFFSET(CalculationsAndCharts!$D$32,'Transaction Summary'!N286,0,1,1),\"\")","v":""},"",""]