{"text_format":"1","workbook":"xlsx","n_sheets":4,"sheets":["Notes","InputPriceData","CalculationsAndCharts","Transaction Summary"],"not_rendered":{"charts":2,"images":0,"macros":1,"external_links":1,"defined_names":32,"comments":2,"pivot_tables":0},"unopened":[],"bounds":{"document_bytes":16777216,"sheet_cells":100000,"rows_first":2000,"rows_last":500,"rows_between":2000,"halvings":0,"cell_chars":16384,"cell_head_chars":4096},"cells_cut":0,"cells_raw":0,"read":"whole","date_system":"1900"}

{"sheet":"Notes","index":0,"n_rows":56,"n_cols":3,"rows_kept":56,"cut":false,"hidden":false,"merged":[]}
["EhlersPredictiveIndicators.xlsm"]
["Coded beginning 2013-Nov-01 by Ronald McAllister (rpmac_xltt@sprynet.com)"]
[]
["This Workbook demonstrates an EXCEL version of the ideas presented"]
["by John F. Ehlers, PhD in an article titled \"Predictive Indicators For Effective Trading Strategies\""]
["which appears in the January 2014 issue of"]
["\"Technical Analysis of Stocks and Commodities\" magazine."]
[]
["New Features for the basic TradersTips Template"]
[1,null,"Intra-Day price and volume bar."]
[null,null,"On the InputPriceData tab, the Direct from Yahoo Finance Price History download button will now retrieve the data necessary to "]
[null,null,"create an Intra-Day price bar which is cumulative for the trading day through the then current last trade price and time stamp."]
[null,null,"Last Trade data from the Fundamentals interface appears to be delayed by approximately 15 minutes."]
[]
[null,null,"If the download request is for daily data: "]
[null,null,"The logic will insert this bar as the most recent data bar as long as the most recent date in the normally downloaded file "]
[null,null,"is less than the intra-day bar date. After the markets close, there is a delay of 2 to 3 hours before the normal history download "]
[null,null,"incorporates a bar for the current day. So this intra-day bar can fill in the gap if one is the impatient sort."]
[]
[null,null,"If the download request is NOT for daily data the intra-day bar will not be inserted into the price history data."]
[]
[null,null,"One Note: Well after the close of the markets, the volume returned for the intra-day bar tends to be slightly higher than the volume in the "]
[null,null,"bar for the day that eventually shows up in the normal history download. On the otherhand, the prices all seem to match."]
[]
["CalculationsAndCharts construction Notes:"]
[null,null,"Mr. Ehlers' signals are generated by the Close of a bar, which for daily data, means the market is closed. "]
[]
[null,null,"For trading simulation purposes one cannot logically trade a closed bar, so I am generating trades on the next bar after a signal using the Open price of that next bar."]
[]
[]
["Data for this EXCEL example:"]
[]
[]
["Development Notes:"]
[1,null,"This workbook contains and uses VBA macros."]
[2,null,"Input Data"]
[null,null,"The data in this workbook is sorted date descending (most recent date at the top). All formulas and "]
[null,null,"VBA routines are built accordingly."]
["Calculation and Chart Worksheet Usage Comments:"]
[1,null,"In General, Items in Bolded BLUE are items you may freely change to play what-if games. "]
[null,null,"Be sure to have a backup copy of the spreadsheet before you alter anything else."]
[2,null,"Several of the column formulas begin with \"IF\" logic that determines when there is sufficient data "]
[null,null,"available for the subsequent calculations to be relevant. The cell will calculate to blank or the "]
[null,null,"result of the calculation."]
[null,null,"In a couple of cases, this \"IF\" logic also sets starter values for subsequent smoothing calculations."]
[3,null,"Data windowing can be performed by changing cell A11. Positive values logically \"Pan\" the "]
[null,null,"data window represented by the Calculation sheet down the input sheet and back in time."]
[null,null,"This can have two side effects: First, data may fall outside of the fixed Y-axis scales and be clipped "]
[null,null,"or fall well inside the Y-axis scales wasting a lot of chart vertical space. Second, you may move far "]
[null,null,"enough back that you do not have sufficient data points to fill the left of the chart."]
[4,null,"The VBA macros behind the SetChart button address these Data Windowing problems and also "]
[null,null,"resizes and vertically aligns all charts on the work sheet to match the Price chart and then "]
[null,null,"horizontally adjusts the X-axis positions of all charts on the work sheet so that the corresponding "]
[null,null,"data points align vertically."]
[null,null,"The macros behind the SetChart button are sensitive to the user control values in cells A11 and "]
[null,null,"A12, and also uses the computed values in cells A8, F11, and F12"]

{"sheet":"InputPriceData","index":1,"n_rows":1019,"n_cols":17,"rows_kept":1019,"cut":false,"hidden":false,"merged":[[13,9,13,12],[13,1,13,6]]}
["Dollar General Co (DG) -NYSE",null,null,null,null,null,null,null,null,null,null,null,null,null,null,"Notes:","Online Yahoo Finance Query Interfaces used in the VBA code to obtain this data: "]
["Last Trade","2013-11-08",57.19,57.41,56.81,57.28,1920765,"4:02pm",null,null,null,null,null,null,null,null,"A.) Price History Only: \"http://ichart.finance.yahoo.com/table.csv\""]
["Request Online Yahoo History for:",null,null,null,null,null,null,null,null,null,null,null,null,null,null,null,"B.) Price History w/ imbedded divs n splits: \"http://ichart.finance.yahoo.com/x\""]
["Symbol","dg",null,"Valid"]
["From","1977-01-07",null,"Data",null,null,null,null,null,null,null,null,null,null,null,null,"C.) Fundamentals (in this case name and exchange):"]
["To",{"$f":"TODAY()","v":"2013-11-08"},null,"Types",{"$f":"VLOOKUP(B7,D7:E10,2,FALSE)","v":"d"},null,null,null,null,null,null,null,null,null,null,null," \"http://download.finance.yahoo.com/d/quotes.csv?\""]
["Data Type","Daily",null,"Daily","d",null,null,null,null,null,null,null,null,null,null,null,"For some how-to doc regarding this particular interface, including a list of the "]
[null,null,null,"Weekly","w",null,null,null,null,null,null,null,null,null,null,null,"specific fields you can include in a request to this interface see:"]
["Available Data",null,null,"Monthly","m",null,null,null,null,null,null,null,null,null,null,null,"http://www.gummy-stuff.org/Yahoo-data.htm"]
["Bar Count: ",{"$f":"COUNTA(B15:B64892)-1","v":1004},null,"Div/Split","v",null,null,null,null,null,null,null,null,null,null,null,"This web site includes a downloadable working EXCEL/VBA example "]
["From: ",{"$f":"IF(B10<=0,\"\",OFFSET(B15,B10,IF(HistReqDataType=\"v\",1,0),1,1))","v":"2009-11-13"},null,null,null,null,null,null,null,null,null,null,null,null,null,null,"of the capabilities of this interface."]
["To: ",{"$f":"IF(B10<=0,\"\",IF(HistReqDataType=\"v\",OFFSET(B15,2,1,1,1),OFFSET(B15,1,0,1,1)))","v":"2013-11-08"}]
[]
[null,"Raw Data Values",null,null,null,null,null,"Adjusted","Adjustment","Adjusted Values"]
["RelRow","Date","Open","High","Low","Close","Volume","Adj Close","Factor","Open","High","Low","Close"]
[1,"2013-11-08",57.19,57.41,56.81,57.28,1920765,57.28,{"$f":"H16/F16","v":1},{"$f":"ROUND($I16*C16,2)","v":57.19},{"$f":"ROUND($I16*D16,2)","v":57.41},{"$f":"ROUND($I16*E16,2)","v":56.81},{"$f":"ROUND($I16*F16,2)","v":57.28},"4:02pm"]
[2,"2013-11-07",58.09,58.59,56.95,57.22,2247800,57.22,{"$f":"H17/F17","v":1},58.09,58.59,56.95,57.22]
[3,"2013-11-06",58.11,58.59,57.89,58.01,1629700,58.01,{"$f":"H18/F18","v":1},58.11,58.59,57.89,58.01]
[4,"2013-11-05",57.41,58.4,57.2,58.11,2864800,58.11,1,57.41,58.4,57.2,58.11]
[5,"2013-11-04",57.99,58.23,57.47,57.53,2516900,57.53,1,57.99,58.23,57.47,57.53]
[6,"2013-11-01",57.83,58.14,57.5,57.77,2128200,57.77,1,57.83,58.14,57.5,57.77]
[7,"2013-10-31",58.5,58.79,57.7,57.78,2837700,57.78,1,58.5,58.79,57.7,57.78]
[8,"2013-10-30",59.48,59.52,58.13,58.57,1879600,58.57,1,59.48,59.52,58.13,58.57]
[9,"2013-10-29",59.46,59.71,59.17,59.34,1755800,59.34,1,59.46,59.71,59.17,59.34]
[10,"2013-10-28",59.4,59.57,58.97,59.17,1678900,59.17,1,59.4,59.57,58.97,59.17]
[11,"2013-10-25",59.74,59.87,59.27,59.5,1959800,59.5,1,59.74,59.87,59.27,59.5]
[12,"2013-10-24",59.13,59.84,58.94,59.75,1930800,59.75,1,59.13,59.84,58.94,59.75]
[13,"2013-10-23",59.38,59.43,58.5,58.98,1711500,58.98,1,59.38,59.43,58.5,58.98]
[14,"2013-10-22",58.98,59.59,58.96,59.37,1676100,59.37,1,58.98,59.59,58.96,59.37]
[15,"2013-10-21",58.88,59.04,58.37,58.92,968900,58.92,1,58.88,59.04,58.37,58.92]
[16,"2013-10-18",59.13,59.13,57.98,58.89,2678100,58.89,1,59.13,59.13,57.98,58.89]
[17,"2013-10-17",57.24,58.93,57.1,58.82,2379500,58.82,1,57.24,58.93,57.1,58.82]
[18,"2013-10-16",57.19,57.66,57.04,57.37,2308400,57.37,1,57.19,57.66,57.04,57.37]
[19,"2013-10-15",57.03,57.23,56.44,56.75,2110800,56.75,1,57.03,57.23,56.44,56.75]
[20,"2013-10-14",57.52,57.8,56.76,57.05,3449400,57.05,1,57.52,57.8,56.76,57.05]
[21,"2013-10-11",57.4,57.95,57.15,57.83,2580800,57.83,1,57.4,57.95,57.15,57.83]
[22,"2013-10-10",57.1,57.63,57.04,57.54,2483900,57.54,1,57.1,57.63,57.04,57.54]
[23,"2013-10-09",56.35,56.78,55.96,56.7,4153900,56.7,1,56.35,56.78,55.96,56.7]
[24,"2013-10-08",57,57.28,56.27,56.35,2762100,56.35,1,57,57.28,56.27,56.35]
[25,"2013-10-07",58.36,58.36,57.13,57.14,2790100,57.14,1,58.36,58.36,57.13,57.14]
[26,"2013-10-04",57.66,58.82,57.54,58.77,2513700,58.77,1,57.66,58.82,57.54,58.77]
[27,"2013-10-03",57.9,58.02,57.45,57.75,2609500,57.75,1,57.9,58.02,57.45,57.75]
[28,"2013-10-02",57.44,57.94,57.25,57.9,2206400,57.9,1,57.44,57.94,57.25,57.9]
[29,"2013-10-01",56.59,57.98,56.32,57.78,3575200,57.78,1,56.59,57.98,56.32,57.78]
[30,"2013-09-30",56.23,56.76,55.71,56.46,1860400,56.46,1,56.23,56.76,55.71,56.46]
[31,"2013-09-27",56.7,57.08,56.51,56.59,2568700,56.59,1,56.7,57.08,56.51,56.59]
[32,"2013-09-26",57.15,57.55,56.71,56.75,2741900,56.75,1,57.15,57.55,56.71,56.75]
[33,"2013-09-25",58.09,58.11,56.96,57,2844400,57,1,58.09,58.11,56.96,57]
[34,"2013-09-24",58.22,58.29,58,58.11,1923600,58.11,1,58.22,58.29,58,58.11]
[35,"2013-09-23",57.68,58.29,57.61,58.19,2416700,58.19,1,57.68,58.29,57.61,58.19]
[36,"2013-09-20",58.42,58.44,57.65,57.65,4398300,57.65,1,58.42,58.44,57.65,57.65]
[37,"2013-09-19",58.1,58.71,57.69,58.49,3267900,58.49,1,58.1,58.71,57.69,58.49]
[38,"2013-09-18",57.35,58.14,57.27,57.92,2848800,57.92,1,57.35,58.14,57.27,57.92]
[39,"2013-09-17",57.07,57.57,57.04,57.33,2038300,57.33,1,57.07,57.57,57.04,57.33]
[40,"2013-09-16",57.4,57.57,56.57,57,2618500,57,1,57.4,57.57,56.57,57]
[41,"2013-09-13",57.25,57.35,56.64,56.83,1366800,56.83,1,57.25,57.35,56.64,56.83]
[42,"2013-09-12",57.46,57.5,56.77,57.14,1261100,57.14,1,57.46,57.5,56.77,57.14]
[43,"2013-09-11",57.4,57.42,56.88,57.36,1579500,57.36,1,57.4,57.42,56.88,57.36]
[44,"2013-09-10",57.24,57.36,56.54,57.33,2373900,57.33,1,57.24,57.36,56.54,57.33]
[45,"2013-09-09",57.2,57.52,57,57.47,3070700,57.47,1,57.2,57.52,57,57.47]
[46,"2013-09-06",57.61,57.71,56.72,56.96,2302300,56.96,1,57.61,57.71,56.72,56.96]
[47,"2013-09-05",56.58,57.8,56.41,57.38,4013800,57.38,1,56.58,57.8,56.41,57.38]
[48,"2013-09-04",56.06,57.42,55.29,56.39,9699000,56.39,1,56.06,57.42,55.29,56.39]
[49,"2013-09-03",54.47,54.74,53.4,53.88,4268700,53.88,1,54.47,54.74,53.4,53.88]
[50,"2013-08-30",54.61,54.87,53.86,53.97,1887400,53.97,1,54.61,54.87,53.86,53.97]
[51,"2013-08-29",54.4,54.75,54.24,54.37,1346300,54.37,1,54.4,54.75,54.24,54.37]
[52,"2013-08-28",54.65,54.9,54.21,54.48,1777200,54.48,1,54.65,54.9,54.21,54.48]
[53,"2013-08-27",55,55.33,54.62,54.65,1908400,54.65,1,55,55.33,54.62,54.65]
[54,"2013-08-26",55.43,56.1,55.16,55.59,1744600,55.59,1,55.43,56.1,55.16,55.59]
[55,"2013-08-23",55.51,55.6,54.79,55.05,2263300,55.05,1,55.51,55.6,54.79,55.05]
[56,"2013-08-22",54.34,55.6,54,55.45,3108500,55.45,1,54.34,55.6,54,55.45]
[57,"2013-08-21",53.4,54.5,53.1,54.4,3274300,54.4,1,53.4,54.5,53.1,54.4]
[58,"2013-08-20",54.16,54.23,53.3,53.37,2663400,53.37,1,54.16,54.23,53.3,53.37]
[59,"2013-08-19",53.5,54.47,53.2,54.09,4538700,54.09,1,53.5,54.47,53.2,54.09]
[60,"2013-08-16",53.23,53.32,52.4,52.47,3489900,52.47,1,53.23,53.32,52.4,52.47]
[61,"2013-08-15",54.19,54.49,53.37,53.5,2987200,53.5,1,54.19,54.49,53.37,53.5]
[62,"2013-08-14",54.41,54.82,54.08,54.5,1792300,54.5,1,54.41,54.82,54.08,54.5]
[63,"2013-08-13",54.36,54.83,54.2,54.6,2171300,54.6,1,54.36,54.83,54.2,54.6]
[64,"2013-08-12",54.14,54.58,53.99,54.35,2295500,54.35,1,54.14,54.58,53.99,54.35]
[65,"2013-08-09",54.7,54.82,54.22,54.25,1201100,54.25,1,{"$f":"ROUND($I80*C80,2)","v":54.7},{"$f":"ROUND($I80*D80,2)","v":54.82},{"$f":"ROUND($I80*E80,2)","v":54.22},{"$f":"ROUND($I80*F80,2)","v":54.25}]
[66,"2013-08-08",54.36,54.91,54.27,54.73,2739700,54.73,1,54.36,54.91,54.27,54.73]
[67,"2013-08-07",54.76,54.79,54.12,54.12,3007200,54.12,{"$f":"H82/F82","v":1},54.76,54.79,54.12,54.12]
[68,"2013-08-06",55.04,55.18,54.31,54.87,2533700,54.87,1,55.04,55.18,54.31,54.87]
[69,"2013-08-05",55.52,55.64,55.02,55.25,1875900,55.25,1,55.52,55.64,55.02,55.25]
[70,"2013-08-02",55.4,55.82,54.55,55.79,3049700,55.79,1,55.4,55.82,54.55,55.79]
[71,"2013-08-01",54.97,55.6,54.4,55.42,4140100,55.42,1,54.97,55.6,54.4,55.42]
[72,"2013-07-31",54.2,54.84,54.17,54.67,2868800,54.67,1,54.2,54.84,54.17,54.67]
[73,"2013-07-30",54.15,54.44,53.86,54.06,2051100,54.06,1,54.15,54.44,53.86,54.06]
[74,"2013-07-29",53.81,54.2,53.44,54.18,2497900,54.18,1,53.81,54.2,53.44,54.18]
[75,"2013-07-26",54.03,54.05,53.25,53.78,2808400,53.78,1,54.03,54.05,53.25,53.78]
[76,"2013-07-25",54.1,54.37,53.72,54.23,2688000,54.23,1,54.1,54.37,53.72,54.23]
[77,"2013-07-24",53.76,54.25,53.67,54.23,2924700,54.23,1,53.76,54.25,53.67,54.23]
[78,"2013-07-23",53.63,53.95,53.31,53.82,2915400,53.82,1,53.63,53.95,53.31,53.82]
[79,"2013-07-22",53.37,53.69,53.04,53.54,2225000,53.54,1,53.37,53.69,53.04,53.54]
[80,"2013-07-19",53.51,53.94,53.06,53.3,2474400,53.3,1,53.51,53.94,53.06,53.3]
[81,"2013-07-18",53.71,53.91,53.29,53.45,2050400,53.45,1,53.71,53.91,53.29,53.45]
[82,"2013-07-17",54.15,54.2,53.6,53.65,1784300,53.65,1,54.15,54.2,53.6,53.65]
[83,"2013-07-16",53.71,54.03,53.5,53.9,2169100,53.9,1,53.71,54.03,53.5,53.9]
[84,"2013-07-15",53.93,54.2,53.76,53.96,2538100,53.96,1,53.93,54.2,53.76,53.96]
[85,"2013-07-12",54.14,54.4,53.45,53.77,7579900,53.77,1,54.14,54.4,53.45,53.77]
[86,"2013-07-11",55.05,55.8,54.58,55.65,4215300,55.65,1,55.05,55.8,54.58,55.65]
[87,"2013-07-10",52.87,55.01,52.83,54.78,8237500,54.78,1,52.87,55.01,52.83,54.78]
[88,"2013-07-09",52.32,52.82,51.77,51.8,2370100,51.8,1,52.32,52.82,51.77,51.8]
[89,"2013-07-08",52,52.36,51.49,52.12,2309500,52.12,1,52,52.36,51.49,52.12]
[90,"2013-07-05",51.46,52.05,51.26,52.01,1673500,52.01,1,51.46,52.05,51.26,52.01]
[91,"2013-07-03",51.25,51.38,50.53,51.11,1860000,51.11,1,51.25,51.38,50.53,51.11]
[92,"2013-07-02",52.19,52.43,51.23,51.36,3334300,51.36,1,52.19,52.43,51.23,51.36]
[93,"2013-07-01",51.03,52.84,50.97,52.43,4290300,52.43,1,51.03,52.84,50.97,52.43]
[94,"2013-06-28",51.45,51.59,50.43,50.43,8498100,50.43,1,51.45,51.59,50.43,50.43]
[95,"2013-06-27",51.28,51.93,51.16,51.64,2268900,51.64,1,51.28,51.93,51.16,51.64]
[96,"2013-06-26",50.54,51.27,50.54,51.17,1980700,51.17,1,50.54,51.27,50.54,51.17]
[97,"2013-06-25",50.16,50.81,50.03,50.51,2966100,50.51,1,50.16,50.81,50.03,50.51]
[98,"2013-06-24",49.78,50.42,49.5,50,3669000,50,1,49.78,50.42,49.5,50]
[99,"2013-06-21",50.3,50.33,49.47,50.21,4118300,50.21,1,50.3,50.33,49.47,50.21]
[100,"2013-06-20",51.17,51.19,49.72,49.88,4553000,49.88,1,51.17,51.19,49.72,49.88]
[101,"2013-06-19",52.36,52.47,51.3,51.33,2913500,51.33,1,52.36,52.47,51.3,51.33]
[102,"2013-06-18",51.1,52.3,50.81,52.29,2988500,52.29,1,51.1,52.3,50.81,52.29]
[103,"2013-06-17",51.37,51.8,50.73,51.13,2745200,51.13,1,51.37,51.8,50.73,51.13]
[104,"2013-06-14",51.15,51.58,50.96,51.18,1600000,51.18,1,51.15,51.58,50.96,51.18]
[105,"2013-06-13",51.18,51.5,50.85,51.2,2163900,51.2,1,51.18,51.5,50.85,51.2]
[106,"2013-06-12",51.75,52,50.78,51.09,3171300,51.09,1,51.75,52,50.78,51.09]
[107,"2013-06-11",50.33,52,50.16,51.67,4824900,51.67,1,50.33,52,50.16,51.67]
[108,"2013-06-10",51.11,51.33,50.31,50.35,5033200,50.35,1,51.11,51.33,50.31,50.35]
[109,"2013-06-07",51.49,52.3,50.87,51.09,4334600,51.09,1,51.49,52.3,50.87,51.09]
[110,"2013-06-06",50.43,51.49,49.83,51.32,5672300,51.32,1,50.43,51.49,49.83,51.32]
[111,"2013-06-05",49.3,51.2,49.22,50.19,8192600,50.19,1,49.3,51.2,49.22,50.19]
[112,"2013-06-04",50,50.22,48.61,48.64,16091900,48.64,1,50,50.22,48.61,48.64]
[113,"2013-06-03",53.06,53.99,52.65,53.55,4486900,53.55,1,53.06,53.99,52.65,53.55]
[114,"2013-05-31",53.7,54.06,52.72,52.8,3723900,52.8,1,53.7,54.06,52.72,52.8]
[115,"2013-05-30",53.94,54.21,53.66,53.67,1145400,53.67,1,53.94,54.21,53.66,53.67]
[116,"2013-05-29",54.23,54.51,53.65,53.93,2206800,53.93,1,54.23,54.51,53.65,53.93]
[117,"2013-05-28",54.87,55.17,54.42,54.48,2262800,54.48,1,54.87,55.17,54.42,54.48]
[118,"2013-05-24",54.22,54.56,54.12,54.42,1839400,54.42,1,54.22,54.56,54.12,54.42]
[119,"2013-05-23",53.64,54.81,53.46,54.45,3714100,54.45,1,53.64,54.81,53.46,54.45]
[120,"2013-05-22",54.34,54.75,53.69,53.86,2634200,53.86,1,54.34,54.75,53.69,53.86]
[121,"2013-05-21",53.9,54.67,53.73,54.47,2313000,54.47,1,53.9,54.67,53.73,54.47]
[122,"2013-05-20",53.98,54.25,53.59,53.84,1953600,53.84,1,53.98,54.25,53.59,53.84]
[123,"2013-05-17",53.5,54.17,53.32,54.08,2350900,54.08,1,53.5,54.17,53.32,54.08]
[124,"2013-05-16",53.15,53.67,52.98,53.26,2215600,53.26,1,53.15,53.67,52.98,53.26]
[125,"2013-05-15",52.85,53.61,52.42,53.32,2836400,53.32,1,52.85,53.61,52.42,53.32]
[126,"2013-05-14",52.67,53.14,52.52,52.79,1390200,52.79,1,52.67,53.14,52.52,52.79]
[127,"2013-05-13",52.84,53,52.46,52.59,1386600,52.59,1,52.84,53,52.46,52.59]
[128,"2013-05-10",52.58,53.18,52.58,52.8,1327400,52.8,1,52.58,53.18,52.58,52.8]
[129,"2013-05-09",53.53,53.55,52.51,52.68,1881000,52.68,1,{"$f":"ROUND($I144*C144,2)","v":53.53},{"$f":"ROUND($I144*D144,2)","v":53.55},{"$f":"ROUND($I144*E144,2)","v":52.51},{"$f":"ROUND($I144*F144,2)","v":52.68}]
[130,"2013-05-08",53.42,53.69,53.22,53.42,1297800,53.42,1,53.42,53.69,53.22,53.42]
[131,"2013-05-07",53.43,53.52,52.98,53.44,4557600,53.44,{"$f":"H146/F146","v":1},53.43,53.52,52.98,53.44]
[132,"2013-05-06",53.11,54.16,53.05,53.58,4635600,53.58,1,53.11,54.16,53.05,53.58]
[133,"2013-05-03",52.49,53,52.08,52.49,2925200,52.49,1,52.49,53,52.08,52.49]
[134,"2013-05-02",52.02,52.5,51.83,52.39,1485700,52.39,1,52.02,52.5,51.83,52.39]
[135,"2013-05-01",52,52.6,51.99,52.03,1579600,52.03,1,52,52.6,51.99,52.03]
[136,"2013-04-30",52.24,52.31,51.7,52.09,1553400,52.09,1,52.24,52.31,51.7,52.09]
[137,"2013-04-29",52.82,52.99,52.14,52.18,1231300,52.18,1,52.82,52.99,52.14,52.18]
[138,"2013-04-26",52.57,52.95,52.44,52.83,2082000,52.83,1,52.57,52.95,52.44,52.83]
[139,"2013-04-25",52.24,52.9,52.2,52.71,2071000,52.71,1,52.24,52.9,52.2,52.71]
[140,"2013-04-24",52.33,52.74,52.01,52.09,1604700,52.09,1,52.33,52.74,52.01,52.09]
[141,"2013-04-23",51.81,52.57,51.74,52.15,2936300,52.15,1,51.81,52.57,51.74,52.15]
[142,"2013-04-22",51.74,51.89,51.38,51.63,1895800,51.63,1,51.74,51.89,51.38,51.63]
[143,"2013-04-19",51.47,51.86,51.15,51.82,4407800,51.82,1,51.47,51.86,51.15,51.82]
[144,"2013-04-18",51.9,51.99,50.67,51.3,4107100,51.3,1,51.9,51.99,50.67,51.3]
[145,"2013-04-17",50.18,51.92,50.17,51.9,6858300,51.9,1,50.18,51.92,50.17,51.9]
[146,"2013-04-16",49.98,50.51,49.55,50.47,3536500,50.47,1,49.98,50.51,49.55,50.47]
[147,"2013-04-15",50.01,50.6,49.62,49.9,3509300,49.9,1,50.01,50.6,49.62,49.9]
[148,"2013-04-12",50.24,50.84,49.86,50.31,2347800,50.31,1,50.24,50.84,49.86,50.31]
[149,"2013-04-11",50.31,50.85,50.21,50.28,5470800,50.28,1,50.31,50.85,50.21,50.28]
[150,"2013-04-10",49.9,51.34,49.76,50.24,6801000,50.24,1,49.9,51.34,49.76,50.24]
[151,"2013-04-09",50.48,50.58,49.76,49.85,7493300,49.85,1,50.48,50.58,49.76,49.85]
[152,"2013-04-08",50.28,50.49,50.05,50.36,3150200,50.36,1,50.28,50.49,50.05,50.36]
[153,"2013-04-05",50.23,50.42,49.92,50.4,3662400,50.4,1,50.23,50.42,49.92,50.4]
[154,"2013-04-04",50.22,50.74,50.13,50.73,2929400,50.73,1,50.22,50.74,50.13,50.73]
[155,"2013-04-03",50.68,50.73,50.04,50.12,2804700,50.12,1,50.68,50.73,50.04,50.12]
[156,"2013-04-02",50.73,50.76,50.4,50.54,2790300,50.54,1,50.73,50.76,50.4,50.54]
[157,"2013-04-01",50.77,50.87,50.25,50.62,4970100,50.62,1,50.77,50.87,50.25,50.62]
[158,"2013-03-28",50.3,50.72,50.24,50.58,33355800,50.58,1,50.3,50.72,50.24,50.58]
[159,"2013-03-27",50.88,51.56,50.6,50.95,7721400,50.95,1,50.88,51.56,50.6,50.95]
[160,"2013-03-26",51.23,52.3,51.17,52.22,4110500,52.22,1,51.23,52.3,51.17,52.22]
[161,"2013-03-25",52.53,52.91,49.84,51.08,10543200,51.08,1,52.53,52.91,49.84,51.08]
[162,"2013-03-22",50.09,50.49,49.75,50.07,6403900,50.07,1,50.09,50.49,49.75,50.07]
[163,"2013-03-21",49.41,49.91,48.92,49.81,3240000,49.81,1,49.41,49.91,48.92,49.81]
[164,"2013-03-20",48.26,50.04,48.15,49.79,5946300,49.79,1,48.26,50.04,48.15,49.79]
[165,"2013-03-19",48.12,48.22,47.46,47.77,5279300,47.77,1,48.12,48.22,47.46,47.77]
[166,"2013-03-18",47.74,48.38,47.63,48.11,1830700,48.11,1,47.74,48.38,47.63,48.11]
[167,"2013-03-15",48.64,48.72,47.79,48.18,3069900,48.18,1,48.64,48.72,47.79,48.18]
[168,"2013-03-14",48.01,48.83,47.85,48.77,3169600,48.77,1,48.01,48.83,47.85,48.77]
[169,"2013-03-13",47.71,48.1,47.53,48.03,2340700,48.03,1,47.71,48.1,47.53,48.03]
[170,"2013-03-12",47.5,47.97,47.49,47.76,2714400,47.76,1,47.5,47.97,47.49,47.76]
[171,"2013-03-11",47.79,48.1,47.45,47.48,2743800,47.48,1,47.79,48.1,47.45,47.48]
[172,"2013-03-08",47.72,47.97,47.39,47.79,2538600,47.79,1,47.72,47.97,47.39,47.79]
[173,"2013-03-07",47.85,48.35,47.41,47.46,3482800,47.46,1,47.85,48.35,47.41,47.46]
[174,"2013-03-06",49.09,49.2,48.15,48.2,3143400,48.2,1,49.09,49.2,48.15,48.2]
[175,"2013-03-05",48.75,48.99,48.32,48.92,2875000,48.92,1,48.75,48.99,48.32,48.92]
[176,"2013-03-04",47.6,48.71,47.56,48.65,5396300,48.65,1,47.6,48.71,47.56,48.65]
[177,"2013-03-01",46.26,47.59,45.84,47.57,4134700,47.57,1,46.26,47.59,45.84,47.57]
[178,"2013-02-28",46.37,46.68,46.08,46.34,5017900,46.34,1,46.37,46.68,46.08,46.34]
[179,"2013-02-27",46.28,47.5,46.21,46.56,6093000,46.56,1,46.28,47.5,46.21,46.56]
[180,"2013-02-26",45.6,45.64,44.59,44.95,4375900,44.95,1,45.6,45.64,44.59,44.95]
[181,"2013-02-25",46.17,46.38,45.4,45.45,4008000,45.45,1,46.17,46.38,45.4,45.45]
[182,"2013-02-22",45.59,46.22,45.26,46.03,3691600,46.03,1,45.59,46.22,45.26,46.03]
[183,"2013-02-21",43.61,46.09,43.58,45.51,6922500,45.51,1,43.61,46.09,43.58,45.51]
[184,"2013-02-20",43.9,44.37,43.54,43.8,4446700,43.8,1,43.9,44.37,43.54,43.8]
[185,"2013-02-19",44.11,44.6,43.35,43.96,6584100,43.96,1,44.11,44.6,43.35,43.96]
[186,"2013-02-15",45.12,46.64,43.9,44.37,14019600,44.37,1,45.12,46.64,43.9,44.37]
[187,"2013-02-14",44.39,45.57,44.32,45.03,5687200,45.03,1,44.39,45.57,44.32,45.03]
[188,"2013-02-13",45.13,45.25,43.76,44.39,7877100,44.39,1,45.13,45.25,43.76,44.39]
[189,"2013-02-12",45.74,45.77,45,45.04,3204600,45.04,1,45.74,45.77,45,45.04]
[190,"2013-02-11",45.85,45.93,45.49,45.75,2223700,45.75,1,45.85,45.93,45.49,45.75]
[191,"2013-02-08",45.49,46.15,45.42,46,1801700,46,1,45.49,46.15,45.42,46]
[192,"2013-02-07",46.14,46.49,45.22,45.4,4865100,45.4,1,46.14,46.49,45.22,45.4]
[193,"2013-02-06",45.58,46.16,45.33,46.05,4506900,46.05,1,{"$f":"ROUND($I208*C208,2)","v":45.58},{"$f":"ROUND($I208*D208,2)","v":46.16},{"$f":"ROUND($I208*E208,2)","v":45.33},{"$f":"ROUND($I208*F208,2)","v":46.05}]
[194,"2013-02-05",45.71,45.99,44.98,45.54,9746500,45.54,1,45.71,45.99,44.98,45.54]
[195,"2013-02-04",46.25,46.51,45.49,45.52,4877200,45.52,{"$f":"H210/F210","v":1},46.25,46.51,45.49,45.52]
[196,"2013-02-01",46.46,46.6,46.15,46.28,3421100,46.28,1,46.46,46.6,46.15,46.28]
[197,"2013-01-31",46.63,46.83,46.19,46.22,3008800,46.22,1,46.63,46.83,46.19,46.22]
[198,"2013-01-30",47.03,47.21,46.54,46.77,4138800,46.77,1,47.03,47.21,46.54,46.77]
[199,"2013-01-29",46.89,47.24,46.4,47.16,2838600,47.16,1,46.89,47.24,46.4,47.16]
[200,"2013-01-28",46.77,47.2,46.6,47,4163600,47,1,46.77,47.2,46.6,47]
[201,"2013-01-25",46.42,46.85,46.28,46.84,3589600,46.84,1,46.42,46.85,46.28,46.84]
[202,"2013-01-24",45.16,46.83,45.1,46.37,8393700,46.37,1,45.16,46.83,45.1,46.37]
[203,"2013-01-23",44.73,45.16,44.67,45.06,2224300,45.06,1,44.73,45.16,44.67,45.06]
[204,"2013-01-22",44.83,45.12,44.61,44.97,2552600,44.97,1,44.83,45.12,44.61,44.97]
[205,"2013-01-18",44.74,44.98,44.52,44.65,1766000,44.65,1,44.74,44.98,44.52,44.65]
[206,"2013-01-17",44.58,45.24,44.58,44.85,3651200,44.85,1,44.58,45.24,44.58,44.85]
[207,"2013-01-16",44.53,44.86,44.07,44.63,2348300,44.63,1,44.53,44.86,44.07,44.63]
[208,"2013-01-15",43,44.69,42.78,44.64,3542700,44.64,1,43,44.69,42.78,44.64]
[209,"2013-01-14",43.24,43.84,42.87,43.02,4359200,43.02,1,43.24,43.84,42.87,43.02]
[210,"2013-01-11",43.31,43.49,42.99,43.34,2240200,43.34,1,43.31,43.49,42.99,43.34]
[211,"2013-01-10",42.99,43.38,42.68,43.38,2946200,43.38,1,42.99,43.38,42.68,43.38]
[212,"2013-01-09",43.18,43.35,42.59,42.99,4621800,42.99,1,43.18,43.35,42.59,42.99]
[213,"2013-01-08",43.63,43.72,43.34,43.36,2340000,43.36,1,43.63,43.72,43.34,43.36]
[214,"2013-01-07",44.44,44.46,42.84,43.72,5862400,43.72,1,44.44,44.46,42.84,43.72]
[215,"2013-01-04",42.41,44.75,42.22,44.6,8772500,44.6,1,42.41,44.75,42.22,44.6]
[216,"2013-01-03",40.76,42.87,39.729999999999997,42.33,18764800,42.33,1,40.76,42.87,39.729999999999997,42.33]
[217,"2013-01-02",44.41,44.6,42.89,42.92,7058300,42.92,1,44.41,44.6,42.89,42.92]
[218,"2012-12-31",42.6,44.12,42.6,44.09,3404100,44.09,1,42.6,44.12,42.6,44.09]
[219,"2012-12-28",43.1,43.21,42.69,42.7,2114300,42.7,1,43.1,43.21,42.69,42.7]
[220,"2012-12-27",42.96,43.3,42.65,43.12,2227900,43.12,1,42.96,43.3,42.65,43.12]
[221,"2012-12-26",43.4,43.42,42.6,42.95,2623500,42.95,1,43.4,43.42,42.6,42.95]
[222,"2012-12-24",43.58,43.89,43.41,43.46,1587500,43.46,1,43.58,43.89,43.41,43.46]
[223,"2012-12-21",43.71,44.1,43.39,43.63,5483500,43.63,1,43.71,44.1,43.39,43.63]
[224,"2012-12-20",43.22,44,43.2,43.97,5205100,43.97,1,43.22,44,43.2,43.97]
[225,"2012-12-19",44.04,44.13,43.24,43.28,5994500,43.28,1,44.04,44.13,43.24,43.28]
[226,"2012-12-18",44.05,44.34,43.84,44.2,5519800,44.2,1,44.05,44.34,43.84,44.2]
[227,"2012-12-17",43.79,44.23,43.33,44.13,4976200,44.13,1,43.79,44.23,43.33,44.13]
[228,"2012-12-14",44.9,44.96,43.82,43.83,3904200,43.83,1,44.9,44.96,43.82,43.83]
[229,"2012-12-13",44.32,45.28,44.28,44.95,10397300,44.95,1,44.32,45.28,44.28,44.95]
[230,"2012-12-12",42.75,44.51,42.25,44.39,17707500,44.39,1,42.75,44.51,42.25,44.39]
[231,"2012-12-11",45.65,45.9,42.77,42.94,28375200,42.94,1,45.65,45.9,42.77,42.94]
[232,"2012-12-10",46.8,46.9,46.28,46.57,5670900,46.57,1,46.8,46.9,46.28,46.57]
[233,"2012-12-07",46.56,47.01,46.43,46.8,3985000,46.8,1,46.56,47.01,46.43,46.8]
[234,"2012-12-06",46.58,46.6,45.78,46.43,5114300,46.43,1,46.58,46.6,45.78,46.43]
[235,"2012-12-05",48.08,48.24,46.56,46.6,5788400,46.6,1,48.08,48.24,46.56,46.6]
[236,"2012-12-04",48.65,48.65,47.4,47.94,5949500,47.94,1,48.65,48.65,47.4,47.94]
[237,"2012-12-03",50.04,50.24,48.72,48.76,8317400,48.76,1,50.04,50.24,48.72,48.76]
[238,"2012-11-30",50.68,50.8,49.77,50,66137200,50,1,50.68,50.8,49.77,50]
[239,"2012-11-29",49.71,50.34,49.62,49.86,11412300,49.86,1,49.71,50.34,49.62,49.86]
[240,"2012-11-28",49.51,49.84,49.3,49.58,4484200,49.58,1,49.51,49.84,49.3,49.58]
[241,"2012-11-27",50.36,50.55,49.12,49.51,10802400,49.51,1,50.36,50.55,49.12,49.51]
[242,"2012-11-26",49.31,49.45,48.61,49.31,4008800,49.31,1,49.31,49.45,48.61,49.31]
[243,"2012-11-23",48.1,49.47,47.94,49.41,1407100,49.41,1,48.1,49.47,47.94,49.41]
[244,"2012-11-21",47.47,48.06,47.42,48,1617000,48,1,47.47,48.06,47.42,48]
[245,"2012-11-20",48.43,48.57,47.35,47.59,3612400,47.59,1,48.43,48.57,47.35,47.59]
[246,"2012-11-19",48.7,48.95,48.31,48.47,2406600,48.47,1,48.7,48.95,48.31,48.47]
[247,"2012-11-16",47.82,48.81,47.81,48.7,4520600,48.7,1,47.82,48.81,47.81,48.7]
[248,"2012-11-15",47.4,48.1,47.25,47.96,4318300,47.96,1,47.4,48.1,47.25,47.96]
[249,"2012-11-14",46.93,47.73,46.81,47.18,3427300,47.18,1,46.93,47.73,46.81,47.18]
[250,"2012-11-13",46.73,47.47,46.45,46.6,3472400,46.6,1,46.73,47.47,46.45,46.6]
[251,"2012-11-12",46.83,46.96,46.46,46.71,1644600,46.71,1,46.83,46.96,46.46,46.71]
[252,"2012-11-09",47.87,48.06,46.87,46.99,4125300,46.99,1,47.87,48.06,46.87,46.99]
[253,"2012-11-08",47.68,48.18,47.68,48.12,2261800,48.12,1,47.68,48.18,47.68,48.12]
[254,"2012-11-07",48.01,48.28,47.4,47.98,2211300,47.98,1,48.01,48.28,47.4,47.98]
[255,"2012-11-06",47.89,48.31,47.49,48,2254500,48,1,47.89,48.31,47.49,48]
[256,"2012-11-05",47.5,47.86,47.38,47.73,1853400,47.73,1,47.5,47.86,47.38,47.73]
[257,"2012-11-02",48.46,48.65,47.67,47.77,1885100,47.77,1,{"$f":"ROUND($I272*C272,2)","v":48.46},{"$f":"ROUND($I272*D272,2)","v":48.65},{"$f":"ROUND($I272*E272,2)","v":47.67},{"$f":"ROUND($I272*F272,2)","v":47.77}]
[258,"2012-11-01",48.4,48.75,48.03,48.5,3580500,48.5,1,48.4,48.75,48.03,48.5]
[259,"2012-10-31",48.4,49,47.92,48.62,4080400,48.62,{"$f":"H274/F274","v":1},48.4,49,47.92,48.62]
[260,"2012-10-26",47.3,47.96,47.28,47.63,2281600,47.63,1,47.3,47.96,47.28,47.63]
[261,"2012-10-25",47.42,47.65,47.05,47.3,2708200,47.3,1,47.42,47.65,47.05,47.3]
[262,"2012-10-24",47.36,47.53,46.85,47.22,4638900,47.22,1,47.36,47.53,46.85,47.22]
[263,"2012-10-23",46.76,47.38,46.52,47.11,3349200,47.11,1,46.76,47.38,46.52,47.11]
[264,"2012-10-22",47.2,47.66,46.56,46.95,2506600,46.95,1,47.2,47.66,46.56,46.95]
[265,"2012-10-19",47.33,48.4,47.08,47.17,4034100,47.17,1,47.33,48.4,47.08,47.17]
[266,"2012-10-18",48.58,48.9,46.06,47.29,10520600,47.29,1,48.58,48.9,46.06,47.29]
[267,"2012-10-17",50.34,50.82,45.58,48.24,16966500,48.24,1,50.34,50.82,45.58,48.24]
[268,"2012-10-16",49.41,50.42,49.24,50.29,3814700,50.29,1,49.41,50.42,49.24,50.29]
[269,"2012-10-15",49.56,49.72,49.05,49.33,4158400,49.33,1,49.56,49.72,49.05,49.33]
[270,"2012-10-12",49.44,49.81,48.9,49.25,5537000,49.25,1,49.44,49.81,48.9,49.25]
[271,"2012-10-11",50.76,51.17,49.02,49.57,9612000,49.57,1,50.76,51.17,49.02,49.57]
[272,"2012-10-10",50.55,51.15,50.28,50.46,2586000,50.46,1,50.55,51.15,50.28,50.46]
[273,"2012-10-09",51.05,51.18,50.19,50.21,3202700,50.21,1,51.05,51.18,50.19,50.21]
[274,"2012-10-08",51.78,51.8,51.04,51.05,2919000,51.05,1,51.78,51.8,51.04,51.05]
[275,"2012-10-05",52.29,52.46,51.53,51.69,3202900,51.69,1,52.29,52.46,51.53,51.69]
[276,"2012-10-04",51.75,52.32,51.61,52.07,6312800,52.07,1,51.75,52.32,51.61,52.07]
[277,"2012-10-03",51.8,51.85,51.46,51.55,3202100,51.55,1,51.8,51.85,51.46,51.55]
[278,"2012-10-02",51.75,51.75,51.2,51.55,5244400,51.55,1,51.75,51.75,51.2,51.55]
[279,"2012-10-01",52,52.15,51.49,51.61,5812800,51.61,1,52,52.15,51.49,51.61]
[280,"2012-09-28",51.83,51.99,51.5,51.54,26313000,51.54,1,51.83,51.99,51.5,51.54]
[281,"2012-09-27",51.01,52.49,51.01,52,7688600,52,1,51.01,52.49,51.01,52]
[282,"2012-09-26",52.5,53.36,52.46,52.86,3029400,52.86,1,52.5,53.36,52.46,52.86]
[283,"2012-09-25",52.52,52.9,52.43,52.7,2423000,52.7,1,52.52,52.9,52.43,52.7]
[284,"2012-09-24",52.4,52.72,52.35,52.51,2403500,52.51,1,52.4,52.72,52.35,52.51]
[285,"2012-09-21",52.77,52.94,52.55,52.94,3464100,52.94,1,52.77,52.94,52.55,52.94]
[286,"2012-09-20",51.32,52.79,51.16,52.45,5283600,52.45,1,51.32,52.79,51.16,52.45]
[287,"2012-09-19",50.24,51.44,50.24,51.18,2603000,51.18,1,50.24,51.44,50.24,51.18]
[288,"2012-09-18",50.04,50.26,49.93,50.25,2030800,50.25,1,50.04,50.26,49.93,50.25]
[289,"2012-09-17",49.97,50.26,49.78,50.11,2001800,50.11,1,49.97,50.26,49.78,50.11]
[290,"2012-09-14",50.92,51.02,50.05,50.16,2710700,50.16,1,50.92,51.02,50.05,50.16]
[291,"2012-09-13",49.62,50.81,49.59,50.74,2842000,50.74,1,49.62,50.81,49.59,50.74]
[292,"2012-09-12",49.41,50.1,49.08,49.72,3496500,49.72,1,49.41,50.1,49.08,49.72]
[293,"2012-09-11",48.81,49.25,48.51,48.83,2344100,48.83,1,48.81,49.25,48.51,48.83]
[294,"2012-09-10",49.53,49.94,48.92,48.97,2609500,48.97,1,49.53,49.94,48.92,48.97]
[295,"2012-09-07",50.57,50.67,49.8,49.85,3055200,49.85,1,50.57,50.67,49.8,49.85]
[296,"2012-09-06",51.59,51.63,50.22,50.64,4509200,50.64,1,51.59,51.63,50.22,50.64]
[297,"2012-09-05",51.92,52,50.76,51.06,5587800,51.06,1,51.92,52,50.76,51.06]
[298,"2012-09-04",51.32,51.33,49.89,50.66,3946200,50.66,1,51.32,51.33,49.89,50.66]
[299,"2012-08-31",50.3,51.42,50.29,51.07,4392300,51.07,1,50.3,51.42,50.29,51.07]
[300,"2012-08-30",48.33,50.53,48.22,50.07,8407500,50.07,1,48.33,50.53,48.22,50.07]
[301,"2012-08-29",48.75,48.91,48.37,48.54,2483600,48.54,1,48.75,48.91,48.37,48.54]
[302,"2012-08-28",48.78,48.93,48.61,48.82,2428600,48.82,1,48.78,48.93,48.61,48.82]
[303,"2012-08-27",49.41,49.72,48.57,48.85,4675100,48.85,1,49.41,49.72,48.57,48.85]
[304,"2012-08-24",49.46,50.21,49.46,49.66,2419700,49.66,1,49.46,50.21,49.46,49.66]
[305,"2012-08-23",49.77,50.03,48.19,49.71,4561100,49.71,1,49.77,50.03,48.19,49.71]
[306,"2012-08-22",50.64,50.67,50.18,50.54,1859000,50.54,1,50.64,50.67,50.18,50.54]
[307,"2012-08-21",50.84,51.15,50.55,50.77,2172700,50.77,1,50.84,51.15,50.55,50.77]
[308,"2012-08-20",51.59,51.59,50.65,50.79,1737600,50.79,1,51.59,51.59,50.65,50.79]
[309,"2012-08-17",51.11,51.76,51.04,51.35,1999600,51.35,1,51.11,51.76,51.04,51.35]
[310,"2012-08-16",50.75,51.55,50.3,51.22,3888900,51.22,1,50.75,51.55,50.3,51.22]
[311,"2012-08-15",52.41,52.65,51.69,51.76,1335800,51.76,1,52.41,52.65,51.69,51.76]
[312,"2012-08-14",52.62,52.9,52.18,52.31,1113800,52.31,1,52.62,52.9,52.18,52.31]
[313,"2012-08-13",51.79,52.59,51.52,52.54,2458400,52.54,1,51.79,52.59,51.52,52.54]
[314,"2012-08-10",51.16,51.96,51.1,51.77,1971900,51.77,1,51.16,51.96,51.1,51.77]
[315,"2012-08-09",52.15,52.46,51.29,51.35,1426300,51.35,1,52.15,52.46,51.29,51.35]
[316,"2012-08-08",52.54,52.63,51.96,52.1,1810100,52.1,1,52.54,52.63,51.96,52.1]
[317,"2012-08-07",51.7,52.97,51.61,52.72,2164800,52.72,1,51.7,52.97,51.61,52.72]
[318,"2012-08-06",51.96,52.46,51.49,51.54,1208000,51.54,1,51.96,52.46,51.49,51.54]
[319,"2012-08-03",52.25,52.25,51.65,51.9,2083000,51.9,1,52.25,52.25,51.65,51.9]
[320,"2012-08-02",50.92,51.57,50.88,51.47,2333900,51.47,1,50.92,51.57,50.88,51.47]
[321,"2012-08-01",51.38,51.5,50.91,51.06,2632600,51.06,1,{"$f":"ROUND($I336*C336,2)","v":51.38},{"$f":"ROUND($I336*D336,2)","v":51.5},{"$f":"ROUND($I336*E336,2)","v":50.91},{"$f":"ROUND($I336*F336,2)","v":51.06}]
[322,"2012-07-31",51,51.26,50.32,51.01,2716100,51.01,1,51,51.26,50.32,51.01]
[323,"2012-07-30",51.47,51.64,50.37,50.95,3375900,50.95,{"$f":"H338/F338","v":1},51.47,51.64,50.37,50.95]
[324,"2012-07-27",51.45,51.58,50.77,50.99,3411400,50.99,1,51.45,51.58,50.77,50.99]
[325,"2012-07-26",51.57,51.97,50.58,51.28,4110600,51.28,1,51.57,51.97,50.58,51.28]
[326,"2012-07-25",50.98,51.43,49.42,51.29,5258600,51.29,1,50.98,51.43,49.42,51.29]
[327,"2012-07-24",52.61,52.94,52.09,52.48,3725700,52.48,1,52.61,52.94,52.09,52.48]
[328,"2012-07-23",51.65,52.52,50.86,52.32,2947700,52.32,1,51.65,52.52,50.86,52.32]
[329,"2012-07-20",52.25,53.02,51.41,52.34,3240000,52.34,1,52.25,53.02,51.41,52.34]
[330,"2012-07-19",53.87,54.24,52.24,52.29,5059500,52.29,1,53.87,54.24,52.24,52.29]
[331,"2012-07-18",55,55.33,53.3,53.74,4311500,53.74,1,55,55.33,53.3,53.74]
[332,"2012-07-17",54.81,55.23,54.42,55.06,1378800,55.06,1,54.81,55.23,54.42,55.06]
[333,"2012-07-16",54.5,54.92,54.03,54.61,2001000,54.61,1,54.5,54.92,54.03,54.61]
[334,"2012-07-13",54.5,54.64,54.06,54.53,1551500,54.53,1,54.5,54.64,54.06,54.53]
[335,"2012-07-12",54.75,54.96,53.95,54,3073200,54,1,54.75,54.96,53.95,54]
[336,"2012-07-11",55.51,55.56,54.44,54.92,1896100,54.92,1,55.51,55.56,54.44,54.92]
[337,"2012-07-10",55.04,56.04,54.88,55.6,3324300,55.6,1,55.04,56.04,54.88,55.6]
[338,"2012-07-09",54.48,55.07,54.4,54.86,1496300,54.86,1,54.48,55.07,54.4,54.86]
[339,"2012-07-06",53.99,55.05,53.9,54.59,1917000,54.59,1,53.99,55.05,53.9,54.59]
[340,"2012-07-05",53.75,54.57,53.02,54.29,4047600,54.29,1,53.75,54.57,53.02,54.29]
[341,"2012-07-03",54.73,54.83,53.23,53.76,2343200,53.76,1,54.73,54.83,53.23,53.76]
[342,"2012-07-02",54.61,55.02,54.28,54.73,2317200,54.73,1,54.61,55.02,54.28,54.73]
[343,"2012-06-29",54.34,54.69,53.72,54.39,3181100,54.39,1,54.34,54.69,53.72,54.39]
[344,"2012-06-28",52.75,53.75,52.61,53.73,3299100,53.73,1,52.75,53.75,52.61,53.73]
[345,"2012-06-27",55.23,55.3,53.28,54.02,4864500,54.02,1,55.23,55.3,53.28,54.02]
[346,"2012-06-26",53.92,55.18,53.25,54.95,4639000,54.95,1,53.92,55.18,53.25,54.95]
[347,"2012-06-25",52.5,53.45,52.29,53.19,3847300,53.19,1,52.5,53.45,52.29,53.19]
[348,"2012-06-22",52.45,52.83,52.17,52.6,8631500,52.6,1,52.45,52.83,52.17,52.6]
[349,"2012-06-21",52.82,53.06,52.14,52.38,3868900,52.38,1,52.82,53.06,52.14,52.38]
[350,"2012-06-20",52.33,52.62,52.02,52.6,3232000,52.6,1,52.33,52.62,52.02,52.6]
[351,"2012-06-19",51.67,52.31,51.55,52.2,3117000,52.2,1,51.67,52.31,51.55,52.2]
[352,"2012-06-18",52.03,52.25,51.54,51.63,3943300,51.63,1,52.03,52.25,51.54,51.63]
[353,"2012-06-15",50.75,52.19,50.53,52.19,7469500,52.19,1,50.75,52.19,50.53,52.19]
[354,"2012-06-14",50.5,50.85,50.15,50.55,4621500,50.55,1,50.5,50.85,50.15,50.55]
[355,"2012-06-13",50.42,50.7,50.01,50.18,4276100,50.18,1,50.42,50.7,50.01,50.18]
[356,"2012-06-12",50.37,50.5,49.63,50.33,3631500,50.33,1,50.37,50.5,49.63,50.33]
[357,"2012-06-11",50.75,50.75,49.95,50.18,3886200,50.18,1,50.75,50.75,49.95,50.18]
[358,"2012-06-08",48.98,50.75,48.95,50.29,4517800,50.29,1,48.98,50.75,48.95,50.29]
[359,"2012-06-07",49.27,49.49,48.6,48.98,4736800,48.98,1,49.27,49.49,48.6,48.98]
[360,"2012-06-06",47.66,48.98,47.46,48.7,22697400,48.7,1,47.66,48.98,47.46,48.7]
[361,"2012-06-05",46.6,47.58,46.45,46.76,8569900,46.76,1,46.6,47.58,46.45,46.76]
[362,"2012-06-04",48.87,48.97,47.63,48.49,5194600,48.49,1,48.87,48.97,47.63,48.49]
[363,"2012-06-01",48.42,48.96,48.22,48.62,5251700,48.62,1,48.42,48.96,48.22,48.62]
[364,"2012-05-31",48.46,49.5,48.46,48.91,4625400,48.91,1,48.46,49.5,48.46,48.91]
[365,"2012-05-30",47.97,48.59,47.31,48.56,3013800,48.56,1,47.97,48.59,47.31,48.56]
[366,"2012-05-29",47.95,48.28,47.29,48.06,2433200,48.06,1,47.95,48.28,47.29,48.06]
[367,"2012-05-25",47.7,47.92,47.49,47.58,1072200,47.58,1,47.7,47.92,47.49,47.58]
[368,"2012-05-24",47.07,48.09,46.99,47.65,2806400,47.65,1,47.07,48.09,46.99,47.65]
[369,"2012-05-23",45.71,47.1,45.71,46.9,2000000,46.9,1,45.71,47.1,45.71,46.9]
[370,"2012-05-22",46.4,46.73,45.79,45.9,2129400,45.9,1,46.4,46.73,45.79,45.9]
[371,"2012-05-21",45.61,46.5,45.58,46.35,2603300,46.35,1,45.61,46.5,45.58,46.35]
[372,"2012-05-18",46.09,46.45,45.37,45.65,2468100,45.65,1,46.09,46.45,45.37,45.65]
[373,"2012-05-17",47,47.11,45.68,45.99,3805900,45.99,1,47,47.11,45.68,45.99]
[374,"2012-05-16",47,47.73,46.89,47.61,2330100,47.61,1,47,47.73,46.89,47.61]
[375,"2012-05-15",46.83,47.38,46.75,47,1401400,47,1,46.83,47.38,46.75,47]
[376,"2012-05-14",47.05,47.61,46.77,46.82,1953500,46.82,1,47.05,47.61,46.77,46.82]
[377,"2012-05-11",46.8,47.77,46.73,47.17,2363100,47.17,1,46.8,47.77,46.73,47.17]
[378,"2012-05-10",47.16,47.4,46.72,46.95,2337800,46.95,1,47.16,47.4,46.72,46.95]
[379,"2012-05-09",46.6,47.34,46.6,46.84,2939800,46.84,1,46.6,47.34,46.6,46.84]
[380,"2012-05-08",47.97,48.11,46.5,47.1,3066500,47.1,1,47.97,48.11,46.5,47.1]
[381,"2012-05-07",47.41,48.6,47.3,48.21,3987300,48.21,1,47.41,48.6,47.3,48.21]
[382,"2012-05-04",48,48.4,47.47,47.56,1952400,47.56,1,48,48.4,47.47,47.56]
[383,"2012-05-03",48.27,48.76,47.94,48.08,2200000,48.08,1,48.27,48.76,47.94,48.08]
[384,"2012-05-02",47.65,48.41,47.6,48.19,1875000,48.19,1,47.65,48.41,47.6,48.19]
[385,"2012-05-01",47.51,48.57,47.41,47.8,1969000,47.8,1,{"$f":"ROUND($I400*C400,2)","v":47.51},{"$f":"ROUND($I400*D400,2)","v":48.57},{"$f":"ROUND($I400*E400,2)","v":47.41},{"$f":"ROUND($I400*F400,2)","v":47.8}]
[386,"2012-04-30",48.69,48.74,47.4,47.46,2027200,47.46,1,48.69,48.74,47.4,47.46]
[387,"2012-04-27",47.45,48.02,46.98,47.78,3735900,47.78,{"$f":"H402/F402","v":1},47.45,48.02,46.98,47.78]
[388,"2012-04-26",46.29,47.62,46.23,47.41,4376900,47.41,1,46.29,47.62,46.23,47.41]
[389,"2012-04-25",45.99,46.38,45.8,46.3,2382200,46.3,1,45.99,46.38,45.8,46.3]
[390,"2012-04-24",46.35,46.57,45.44,45.69,2708200,45.69,1,46.35,46.57,45.44,45.69]
[391,"2012-04-23",46.7,46.89,46.04,46.5,1285700,46.5,1,46.7,46.89,46.04,46.5]
[392,"2012-04-20",46.88,47.17,46.59,46.93,976000,46.93,1,46.88,47.17,46.59,46.93]
[393,"2012-04-19",46.92,47.08,46.46,46.64,1291300,46.64,1,46.92,47.08,46.46,46.64]
[394,"2012-04-18",46.51,47.18,46.37,46.88,1723900,46.88,1,46.51,47.18,46.37,46.88]
[395,"2012-04-17",46.22,46.57,45.86,46.55,2487500,46.55,1,46.22,46.57,45.86,46.55]
[396,"2012-04-16",46.32,46.44,45.71,45.89,1988100,45.89,1,46.32,46.44,45.71,45.89]
[397,"2012-04-13",46.52,46.75,46.15,46.3,1887100,46.3,1,46.52,46.75,46.15,46.3]
[398,"2012-04-12",45.84,46.66,45.68,46.63,1479200,46.63,1,45.84,46.66,45.68,46.63]
[399,"2012-04-11",45.69,46.16,45.47,45.86,1947300,45.86,1,45.69,46.16,45.47,45.86]
[400,"2012-04-10",46.6,46.71,45.34,45.5,2405700,45.5,1,46.6,46.71,45.34,45.5]
[401,"2012-04-09",46.66,46.86,46.43,46.54,1859300,46.54,1,46.66,46.86,46.43,46.54]
[402,"2012-04-05",46.69,47.4,46.6,47.22,2272900,47.22,1,46.69,47.4,46.6,47.22]
[403,"2012-04-04",46.81,46.91,46.42,46.84,2334400,46.84,1,46.81,46.91,46.42,46.84]
[404,"2012-04-03",46.77,47.5,46.77,47,1700900,47,1,46.77,47.5,46.77,47]
[405,"2012-04-02",46.38,47.12,46.19,46.76,3174400,46.76,1,46.38,47.12,46.19,46.76]
[406,"2012-03-30",46.5,46.64,44.44,46.2,3562500,46.2,1,46.5,46.64,44.44,46.2]
[407,"2012-03-29",46.21,46.45,45.87,46.27,4193400,46.27,1,46.21,46.45,45.87,46.27]
[408,"2012-03-28",45.29,46.28,44.85,46,17001000,46,1,45.29,46.28,44.85,46]
[409,"2012-03-27",46.48,46.69,45.7,45.75,6228600,45.75,1,46.48,46.69,45.7,45.75]
[410,"2012-03-26",47.36,47.45,46.88,47.26,1723500,47.26,1,47.36,47.45,46.88,47.26]
[411,"2012-03-23",47.42,47.59,46.7,47.13,2646500,47.13,1,47.42,47.59,46.7,47.13]
[412,"2012-03-22",45.88,46.95,45.44,46.14,3521200,46.14,1,45.88,46.95,45.44,46.14]
[413,"2012-03-21",45.41,45.78,44.68,44.75,2026100,44.75,1,45.41,45.78,44.68,44.75]
[414,"2012-03-20",44.5,45.27,44.41,45.25,2616900,45.25,1,44.5,45.27,44.41,45.25]
[415,"2012-03-19",44.71,45.04,44.29,44.75,1607100,44.75,1,44.71,45.04,44.29,44.75]
[416,"2012-03-16",45.13,45.33,44.64,44.69,1196400,44.69,1,45.13,45.33,44.64,44.69]
[417,"2012-03-15",44.55,45.75,44.28,45.13,2422700,45.13,1,44.55,45.75,44.28,45.13]
[418,"2012-03-14",43.67,44.46,43.67,44.46,1199900,44.46,1,43.67,44.46,43.67,44.46]
[419,"2012-03-13",43.82,44.08,43.42,43.86,1015900,43.86,1,43.82,44.08,43.42,43.86]
[420,"2012-03-12",44.18,44.32,43.53,43.61,1049700,43.61,1,44.18,44.32,43.53,43.61]
[421,"2012-03-09",43.41,44.41,43.25,44.21,1689500,44.21,1,43.41,44.41,43.25,44.21]
[422,"2012-03-08",42.6,43.38,42.48,43.38,1240800,43.38,1,42.6,43.38,42.48,43.38]
[423,"2012-03-07",42.82,42.86,42.26,42.55,1037600,42.55,1,42.82,42.86,42.26,42.55]
[424,"2012-03-06",43.04,43.07,42.46,42.71,1435800,42.71,1,43.04,43.07,42.46,42.71]
[425,"2012-03-05",42.85,43.33,42.67,43.2,1117800,43.2,1,42.85,43.33,42.67,43.2]
[426,"2012-03-02",42.99,43.1,42.65,42.77,1776600,42.77,1,42.99,43.1,42.65,42.77]
[427,"2012-03-01",42.11,43.12,42.04,43.01,2619600,43.01,1,42.11,43.12,42.04,43.01]
[428,"2012-02-29",42.4,42.44,41.71,42.06,1759000,42.06,1,42.4,42.44,41.71,42.06]
[429,"2012-02-28",41.75,42.3,41.2,42.29,1589600,42.29,1,41.75,42.3,41.2,42.29]
[430,"2012-02-27",41.51,41.76,41.39,41.64,1584000,41.64,1,41.51,41.76,41.39,41.64]
[431,"2012-02-24",42.14,42.17,41.62,41.67,1316500,41.67,1,42.14,42.17,41.62,41.67]
[432,"2012-02-23",41.38,42.29,41.38,42.14,1675300,42.14,1,41.38,42.29,41.38,42.14]
[433,"2012-02-22",41.94,42.03,41.23,41.38,2078800,41.38,1,41.94,42.03,41.23,41.38]
[434,"2012-02-21",42.56,42.93,41.95,42.13,1389700,42.13,1,42.56,42.93,41.95,42.13]
[435,"2012-02-17",42.05,42.5,41.95,42.38,1296400,42.38,1,42.05,42.5,41.95,42.38]
[436,"2012-02-16",42.17,42.57,41.75,41.94,1719300,41.94,1,42.17,42.57,41.75,41.94]
[437,"2012-02-15",42.51,42.72,42.03,42.27,1891400,42.27,1,42.51,42.72,42.03,42.27]
[438,"2012-02-14",41.51,42.5,41.5,42.49,960100,42.49,1,41.51,42.5,41.5,42.49]
[439,"2012-02-13",42.98,43.15,41.7,41.76,2740000,41.76,1,42.98,43.15,41.7,41.76]
[440,"2012-02-10",42.47,42.9,42.16,42.89,1236700,42.89,1,42.47,42.9,42.16,42.89]
[441,"2012-02-09",42.26,42.67,41.89,42.67,1732400,42.67,1,42.26,42.67,41.89,42.67]
[442,"2012-02-08",42.44,42.72,42.04,42.27,1818800,42.27,1,42.44,42.72,42.04,42.27]
[443,"2012-02-07",42.11,42.61,42.11,42.41,1621700,42.41,1,42.11,42.61,42.11,42.41]
[444,"2012-02-06",42.03,42.19,41.7,42.02,1106000,42.02,1,42.03,42.19,41.7,42.02]
[445,"2012-02-03",42.57,42.57,41.94,41.94,2692400,41.94,1,42.57,42.57,41.94,41.94]
[446,"2012-02-02",42.51,43.07,42.3,42.3,1602400,42.3,1,42.51,43.07,42.3,42.3]
[447,"2012-02-01",42.79,42.79,42.22,42.32,1455800,42.32,1,42.79,42.79,42.22,42.32]
[448,"2012-01-31",42.43,42.65,42.35,42.61,1342500,42.61,1,42.43,42.65,42.35,42.61]
[449,"2012-01-30",42.11,42.8,41.93,42.3,1411000,42.3,1,{"$f":"ROUND($I464*C464,2)","v":42.11},{"$f":"ROUND($I464*D464,2)","v":42.8},{"$f":"ROUND($I464*E464,2)","v":41.93},{"$f":"ROUND($I464*F464,2)","v":42.3}]
[450,"2012-01-27",42.29,42.75,42.06,42.09,1625400,42.09,1,42.29,42.75,42.06,42.09]
[451,"2012-01-26",42.95,43,42.29,42.42,1701700,42.42,{"$f":"H466/F466","v":1},42.95,43,42.29,42.42]
[452,"2012-01-25",41.87,42.82,41.64,42.7,2400900,42.7,1,41.87,42.82,41.64,42.7]
[453,"2012-01-24",41.28,41.98,41.27,41.82,2633100,41.82,1,41.28,41.98,41.27,41.82]
[454,"2012-01-23",41.45,41.58,41.22,41.29,2078900,41.29,1,41.45,41.58,41.22,41.29]
[455,"2012-01-20",41.12,41.25,40.71,40.96,1575700,40.96,1,41.12,41.25,40.71,40.96]
[456,"2012-01-19",41.63,41.67,40.99,41.22,1581300,41.22,1,41.63,41.67,40.99,41.22]
[457,"2012-01-18",41.24,41.5,40.86,41.43,1396000,41.43,1,41.24,41.5,40.86,41.43]
[458,"2012-01-17",41.18,41.79,41.18,41.38,1305400,41.38,1,41.18,41.79,41.18,41.38]
[459,"2012-01-13",40.159999999999997,41,39.83,41,1450400,41,1,40.159999999999997,41,39.83,41]
[460,"2012-01-12",40.44,40.549999999999997,40.020000000000003,40.369999999999997,995400,40.369999999999997,1,40.44,40.549999999999997,40.020000000000003,40.369999999999997]
[461,"2012-01-11",40.51,40.69,40.32,40.409999999999997,1132500,40.409999999999997,1,40.51,40.69,40.32,40.409999999999997]
[462,"2012-01-10",40.950000000000003,41.08,40.43,40.5,1882900,40.5,1,40.950000000000003,41.08,40.43,40.5]
[463,"2012-01-09",41.04,41.04,40.36,40.85,1143400,40.85,1,41.04,41.04,40.36,40.85]
[464,"2012-01-06",41.22,41.26,40.56,40.869999999999997,2411900,40.869999999999997,1,41.22,41.26,40.56,40.869999999999997]
[465,"2012-01-05",41.26,41.4,41.01,41.36,1265100,41.36,1,41.26,41.4,41.01,41.36]
[466,"2012-01-04",40.909999999999997,41.5,40.909999999999997,41.36,1381600,41.36,1,40.909999999999997,41.5,40.909999999999997,41.36]
[467,"2012-01-03",41.52,41.57,40.97,41.08,1162500,41.08,1,41.52,41.57,40.97,41.08]
[468,"2011-12-30",41.22,41.48,41.1,41.14,563600,41.14,1,41.22,41.48,41.1,41.14]
[469,"2011-12-29",41.56,41.75,41.1,41.32,1020900,41.32,1,41.56,41.75,41.1,41.32]
[470,"2011-12-28",41.53,41.63,41.35,41.45,1550200,41.45,1,41.53,41.63,41.35,41.45]
[471,"2011-12-27",41.26,41.67,40.82,41.48,1678100,41.48,1,41.26,41.67,40.82,41.48]
[472,"2011-12-23",41.09,41.25,40.880000000000003,41.22,862900,41.22,1,41.09,41.25,40.880000000000003,41.22]
[473,"2011-12-22",40.83,41.27,40.5,40.950000000000003,2220700,40.950000000000003,1,40.83,41.27,40.5,40.950000000000003]
[474,"2011-12-21",40.950000000000003,41.03,40.409999999999997,40.72,2076000,40.72,1,40.950000000000003,41.03,40.409999999999997,40.72]
[475,"2011-12-20",40.92,41.09,40.6,40.86,1604300,40.86,1,40.92,41.09,40.6,40.86]
[476,"2011-12-19",41.44,41.45,40.24,40.47,1762500,40.47,1,41.44,41.45,40.24,40.47]
[477,"2011-12-16",40.880000000000003,41.15,40.35,41.02,2473400,41.02,1,40.880000000000003,41.15,40.35,41.02]
[478,"2011-12-15",41.1,41.65,40.71,40.909999999999997,2118800,40.909999999999997,1,41.1,41.65,40.71,40.909999999999997]
[479,"2011-12-14",41.34,41.35,40.31,40.94,3058400,40.94,1,41.34,41.35,40.31,40.94]
[480,"2011-12-13",41.87,42.1,41.01,41.45,3610200,41.45,1,41.87,42.1,41.01,41.45]
[481,"2011-12-12",40.39,41.5,40,41.32,3907500,41.32,1,40.39,41.5,40,41.32]
[482,"2011-12-09",40.33,40.549999999999997,40.020000000000003,40.44,2451400,40.44,1,40.33,40.549999999999997,40.020000000000003,40.44]
[483,"2011-12-08",39.44,40.44,39.44,39.99,5571300,39.99,1,39.44,40.44,39.44,39.99]
[484,"2011-12-07",39.130000000000003,39.700000000000003,38.85,39.47,20771500,39.47,1,39.130000000000003,39.700000000000003,38.85,39.47]
[485,"2011-12-06",40.25,40.5,39.6,39.630000000000003,4241800,39.630000000000003,1,40.25,40.5,39.6,39.630000000000003]
[486,"2011-12-05",40.98,41.25,40.020000000000003,40.58,3879000,40.58,1,40.98,41.25,40.020000000000003,40.58]
[487,"2011-12-02",40.79,40.79,39.35,39.94,1694900,39.94,1,40.79,40.79,39.35,39.94]
[488,"2011-12-01",40.549999999999997,41.05,39.99,40.090000000000003,1123900,40.090000000000003,1,40.549999999999997,41.05,39.99,40.090000000000003]
[489,"2011-11-30",40.47,40.6,39.479999999999997,40.57,1764700,40.57,1,40.47,40.6,39.479999999999997,40.57]
[490,"2011-11-29",38.619999999999997,40.08,38.43,39.93,1852900,39.93,1,38.619999999999997,40.08,38.43,39.93]
[491,"2011-11-28",38.79,39.340000000000003,38.57,38.700000000000003,1165500,38.700000000000003,1,38.79,39.340000000000003,38.57,38.700000000000003]
[492,"2011-11-25",38.69,38.89,38.32,38.32,492800,38.32,1,38.69,38.89,38.32,38.32]
[493,"2011-11-23",39.299999999999997,39.369999999999997,38.880000000000003,38.93,548900,38.93,1,39.299999999999997,39.369999999999997,38.880000000000003,38.93]
[494,"2011-11-22",39.090000000000003,40.4,39.090000000000003,39.39,1389200,39.39,1,39.090000000000003,40.4,39.090000000000003,39.39]
[495,"2011-11-21",39.35,39.44,38.93,39.229999999999997,1565700,39.229999999999997,1,39.35,39.44,38.93,39.229999999999997]
[496,"2011-11-18",39.020000000000003,39.97,38.81,39.71,1760900,39.71,1,39.020000000000003,39.97,38.81,39.71]
[497,"2011-11-17",39.47,39.65,38.630000000000003,39.06,1193700,39.06,1,39.47,39.65,38.630000000000003,39.06]
[498,"2011-11-16",40.26,40.44,39.42,39.47,1941100,39.47,1,40.26,40.44,39.42,39.47]
[499,"2011-11-15",39.82,40.36,39.74,40.29,1148700,40.29,1,39.82,40.36,39.74,40.29]
[500,"2011-11-14",39.85,39.909999999999997,39.5,39.72,602800,39.72,1,39.85,39.909999999999997,39.5,39.72]
[501,"2011-11-11",39.159999999999997,39.880000000000003,38.700000000000003,39.86,746300,39.86,1,39.159999999999997,39.880000000000003,38.700000000000003,39.86]
[502,"2011-11-10",39.119999999999997,39.119999999999997,38.46,38.96,698200,38.96,1,39.119999999999997,39.119999999999997,38.46,38.96]
[503,"2011-11-09",38.9,39.32,38.61,38.71,782800,38.71,1,38.9,39.32,38.61,38.71]
[504,"2011-11-08",39.31,39.520000000000003,38.89,39.450000000000003,985700,39.450000000000003,1,39.31,39.520000000000003,38.89,39.450000000000003]
[505,"2011-11-07",39.270000000000003,39.5,38.93,39.200000000000003,582200,39.200000000000003,1,39.270000000000003,39.5,38.93,39.200000000000003]
[506,"2011-11-04",38.86,39.57,38.65,39.26,909100,39.26,1,38.86,39.57,38.65,39.26]
[507,"2011-11-03",39.130000000000003,39.409999999999997,38.58,38.92,1551500,38.92,1,39.130000000000003,39.409999999999997,38.58,38.92]
[508,"2011-11-02",39.39,39.61,39,39.18,625700,39.18,1,39.39,39.61,39,39.18]
[509,"2011-11-01",38.979999999999997,39.67,38.630000000000003,39.090000000000003,921200,39.090000000000003,1,38.979999999999997,39.67,38.630000000000003,39.090000000000003]
[510,"2011-10-31",38.82,39.92,38.72,39.659999999999997,2322000,39.659999999999997,1,38.82,39.92,38.72,39.659999999999997]
[511,"2011-10-28",39.479999999999997,40.049999999999997,38.520000000000003,38.97,2254400,38.97,1,39.479999999999997,40.049999999999997,38.520000000000003,38.97]
[512,"2011-10-27",40.25,40.36,39.130000000000003,39.770000000000003,2074400,39.770000000000003,1,40.25,40.36,39.130000000000003,39.770000000000003]
[513,"2011-10-26",40.619999999999997,40.71,39.31,39.869999999999997,1310200,39.869999999999997,1,{"$f":"ROUND($I528*C528,2)","v":40.619999999999997},{"$f":"ROUND($I528*D528,2)","v":40.71},{"$f":"ROUND($I528*E528,2)","v":39.31},{"$f":"ROUND($I528*F528,2)","v":39.869999999999997}]
[514,"2011-10-25",40.119999999999997,40.49,40.01,40.36,1354700,40.36,1,40.119999999999997,40.49,40.01,40.36]
[515,"2011-10-24",40.020000000000003,40.22,39.44,40.01,2382200,40.01,{"$f":"H530/F530","v":1},40.020000000000003,40.22,39.44,40.01]
[516,"2011-10-21",40.11,40.270000000000003,39.83,40,1641400,40,1,40.11,40.270000000000003,39.83,40]
[517,"2011-10-20",39.840000000000003,40.1,39.4,39.75,2109700,39.75,1,39.840000000000003,40.1,39.4,39.75]
[518,"2011-10-19",40.08,40.46,39.880000000000003,39.92,1232800,39.92,1,40.08,40.46,39.880000000000003,39.92]
[519,"2011-10-18",39.43,40.26,39.31,40.04,1647900,40.04,1,39.43,40.26,39.31,40.04]
[520,"2011-10-17",39.450000000000003,39.840000000000003,39.049999999999997,39.32,1215300,39.32,1,39.450000000000003,39.840000000000003,39.049999999999997,39.32]
[521,"2011-10-14",39.090000000000003,39.340000000000003,38.68,39.33,1078000,39.33,1,39.090000000000003,39.340000000000003,38.68,39.33]
[522,"2011-10-13",38.78,38.92,38.35,38.83,1153900,38.83,1,38.78,38.92,38.35,38.83]
[523,"2011-10-12",39.68,39.69,38.76,38.950000000000003,1919100,38.950000000000003,1,39.68,39.69,38.76,38.950000000000003]
[524,"2011-10-11",38.46,39.4,38.46,39.07,1868600,39.07,1,38.46,39.4,38.46,39.07]
[525,"2011-10-10",38.299999999999997,38.47,37.97,38.450000000000003,1169100,38.450000000000003,1,38.299999999999997,38.47,37.97,38.450000000000003]
[526,"2011-10-07",38.03,38.39,37.36,37.799999999999997,1500100,37.799999999999997,1,38.03,38.39,37.36,37.799999999999997]
[527,"2011-10-06",38,38.11,37.409999999999997,37.880000000000003,2112900,37.880000000000003,1,38,38.11,37.409999999999997,37.880000000000003]
[528,"2011-10-05",37.36,37.869999999999997,36.950000000000003,37.71,1806100,37.71,1,37.36,37.869999999999997,36.950000000000003,37.71]
[529,"2011-10-04",36.4,37.25,35.83,37.22,2109700,37.22,1,36.4,37.25,35.83,37.22]
[530,"2011-10-03",37.71,37.770000000000003,36.51,36.82,2064100,36.82,1,37.71,37.770000000000003,36.51,36.82]
[531,"2011-09-30",37.340000000000003,38.39,36.94,37.76,1778000,37.76,1,37.340000000000003,38.39,36.94,37.76]
[532,"2011-09-29",38.090000000000003,38.22,36.69,37.72,3239300,37.72,1,38.090000000000003,38.22,36.69,37.72]
[533,"2011-09-28",37.31,38.200000000000003,37.22,37.78,2282900,37.78,1,37.31,38.200000000000003,37.22,37.78]
[534,"2011-09-27",37.729999999999997,37.92,37.1,37.32,1675400,37.32,1,37.729999999999997,37.92,37.1,37.32]
[535,"2011-09-26",36.9,37.119999999999997,36.409999999999997,37.08,2341700,37.08,1,36.9,37.119999999999997,36.409999999999997,37.08]
[536,"2011-09-23",36,36.71,35.979999999999997,36.549999999999997,2712700,36.549999999999997,1,36,36.71,35.979999999999997,36.549999999999997]
[537,"2011-09-22",36.22,37.54,35.76,36.01,3176800,36.01,1,36.22,37.54,35.76,36.01]
[538,"2011-09-21",37.94,37.99,37.049999999999997,37.08,2208600,37.08,1,37.94,37.99,37.049999999999997,37.08]
[539,"2011-09-20",37.950000000000003,38,37.46,37.65,3229200,37.65,1,37.950000000000003,38,37.46,37.65]
[540,"2011-09-19",37.799999999999997,38.25,37.450000000000003,37.9,1595600,37.9,1,37.799999999999997,38.25,37.450000000000003,37.9]
[541,"2011-09-16",37.56,38.590000000000003,37.520000000000003,38.07,2535200,38.07,1,37.56,38.590000000000003,37.520000000000003,38.07]
[542,"2011-09-15",37.25,37.5,37.049999999999997,37.39,2013700,37.39,1,37.25,37.5,37.049999999999997,37.39]
[543,"2011-09-14",36.08,37.1,35.86,37.01,2472300,37.01,1,36.08,37.1,35.86,37.01]
[544,"2011-09-13",36.06,36.28,35.22,36.049999999999997,3631700,36.049999999999997,1,36.06,36.28,35.22,36.049999999999997]
[545,"2011-09-12",34.93,35.74,34.630000000000003,35.74,3842900,35.74,1,34.93,35.74,34.630000000000003,35.74]
[546,"2011-09-09",34.28,35.049999999999997,34.22,34.799999999999997,21565400,34.799999999999997,1,34.28,35.049999999999997,34.22,34.799999999999997]
[547,"2011-09-08",35.840000000000003,35.89,34.799999999999997,35,4622100,35,1,35.840000000000003,35.89,34.799999999999997,35]
[548,"2011-09-07",36.71,37.130000000000003,36.14,37.130000000000003,1871100,37.130000000000003,1,36.71,37.130000000000003,36.14,37.130000000000003]
[549,"2011-09-06",35.51,36.590000000000003,35.25,36.450000000000003,2254400,36.450000000000003,1,35.51,36.590000000000003,35.25,36.450000000000003]
[550,"2011-09-02",35.630000000000003,36.14,35.03,36.06,1792400,36.06,1,35.630000000000003,36.14,35.03,36.06]
[551,"2011-09-01",36.54,36.79,35.78,35.97,1953200,35.97,1,36.54,36.79,35.78,35.97]
[552,"2011-08-31",36.409999999999997,36.86,36.22,36.6,4411400,36.6,1,36.409999999999997,36.86,36.22,36.6]
[553,"2011-08-30",35.159999999999997,36.130000000000003,34.6,35.76,4536600,35.76,1,35.159999999999997,36.130000000000003,34.6,35.76]
[554,"2011-08-29",32.74,33.79,32.65,33.79,2867400,33.79,1,32.74,33.79,32.65,33.79]
[555,"2011-08-26",32.200000000000003,32.76,31.55,32.549999999999997,2324900,32.549999999999997,1,32.200000000000003,32.76,31.55,32.549999999999997]
[556,"2011-08-25",32.99,33.299999999999997,32.130000000000003,32.229999999999997,1616200,32.229999999999997,1,32.99,33.299999999999997,32.130000000000003,32.229999999999997]
[557,"2011-08-24",32.450000000000003,32.92,32.340000000000003,32.840000000000003,1747200,32.840000000000003,1,32.450000000000003,32.92,32.340000000000003,32.840000000000003]
[558,"2011-08-23",32.18,32.49,31.56,32.4,1985300,32.4,1,32.18,32.49,31.56,32.4]
[559,"2011-08-22",32.74,32.79,31.76,31.94,1928500,31.94,1,32.74,32.79,31.76,31.94]
[560,"2011-08-19",32.24,32.619999999999997,31.95,32.08,1365900,32.08,1,32.24,32.619999999999997,31.95,32.08]
[561,"2011-08-18",31.96,32.659999999999997,31.6,32.549999999999997,1857700,32.549999999999997,1,31.96,32.659999999999997,31.6,32.549999999999997]
[562,"2011-08-17",34.130000000000003,34.17,32.47,32.770000000000003,1711100,32.770000000000003,1,34.130000000000003,34.17,32.47,32.770000000000003]
[563,"2011-08-16",33.020000000000003,33.96,32.659999999999997,33.79,3064200,33.79,1,33.020000000000003,33.96,32.659999999999997,33.79]
[564,"2011-08-15",31.87,32.33,31.44,32.19,1458800,32.19,1,31.87,32.33,31.44,32.19]
[565,"2011-08-12",31.95,31.95,30.94,31.66,1097600,31.66,1,31.95,31.95,30.94,31.66]
[566,"2011-08-11",31.03,31.91,30.82,31.62,1929000,31.62,1,31.03,31.91,30.82,31.62]
[567,"2011-08-10",31.37,31.65,30.68,30.78,1186800,30.78,1,31.37,31.65,30.68,30.78]
[568,"2011-08-09",31.12,31.65,30.33,31.64,2134700,31.64,1,31.12,31.65,30.33,31.64]
[569,"2011-08-08",29.98,31.03,29.84,30.46,5163000,30.46,1,29.98,31.03,29.84,30.46]
[570,"2011-08-05",30.65,31.04,29.95,30.8,1801500,30.8,1,30.65,31.04,29.95,30.8]
[571,"2011-08-04",30.86,31.36,30.32,30.4,2425700,30.4,1,30.86,31.36,30.32,30.4]
[572,"2011-08-03",30.41,31.18,30.11,31.05,1816500,31.05,1,30.41,31.18,30.11,31.05]
[573,"2011-08-02",31.15,31.3,30.45,30.52,1325600,30.52,1,31.15,31.3,30.45,30.52]
[574,"2011-08-01",31.71,31.84,31,31.14,1761300,31.14,1,31.71,31.84,31,31.14]
[575,"2011-07-29",31.25,31.87,31.1,31.46,3847700,31.46,1,31.25,31.87,31.1,31.46]
[576,"2011-07-28",31.74,32.200000000000003,31.49,31.5,1921900,31.5,1,31.74,32.200000000000003,31.49,31.5]
[577,"2011-07-27",32.46,32.5,31.61,31.74,1836400,31.74,1,{"$f":"ROUND($I592*C592,2)","v":32.46},{"$f":"ROUND($I592*D592,2)","v":32.5},{"$f":"ROUND($I592*E592,2)","v":31.61},{"$f":"ROUND($I592*F592,2)","v":31.74}]
[578,"2011-07-26",32.67,32.979999999999997,32.46,32.5,889400,32.5,1,32.67,32.979999999999997,32.46,32.5]
[579,"2011-07-25",33.1,33.21,32.450000000000003,32.479999999999997,1007500,32.479999999999997,{"$f":"H594/F594","v":1},33.1,33.21,32.450000000000003,32.479999999999997]
[580,"2011-07-22",33.479999999999997,33.64,33.17,33.200000000000003,765900,33.200000000000003,1,33.479999999999997,33.64,33.17,33.200000000000003]
[581,"2011-07-21",33.44,33.72,33.380000000000003,33.409999999999997,514200,33.409999999999997,1,33.44,33.72,33.380000000000003,33.409999999999997]
[582,"2011-07-20",33.799999999999997,33.799999999999997,33.18,33.22,766100,33.22,1,33.799999999999997,33.799999999999997,33.18,33.22]
[583,"2011-07-19",33.15,33.97,33.049999999999997,33.82,984200,33.82,1,33.15,33.97,33.049999999999997,33.82]
[584,"2011-07-18",33.130000000000003,33.18,32.93,33.06,954800,33.06,1,33.130000000000003,33.18,32.93,33.06]
[585,"2011-07-15",33.409999999999997,33.65,33,33.21,776100,33.21,1,33.409999999999997,33.65,33,33.21]
[586,"2011-07-14",33.409999999999997,33.64,33.25,33.36,1016400,33.36,1,33.409999999999997,33.64,33.25,33.36]
[587,"2011-07-13",33.31,33.64,33.24,33.35,878000,33.35,1,33.31,33.64,33.24,33.35]
[588,"2011-07-12",33.42,33.770000000000003,33.21,33.270000000000003,1798300,33.270000000000003,1,33.42,33.770000000000003,33.21,33.270000000000003]
[589,"2011-07-11",33.659999999999997,33.75,33.25,33.28,677400,33.28,1,33.659999999999997,33.75,33.25,33.28]
[590,"2011-07-08",33.82,34.17,33.630000000000003,33.86,547900,33.86,1,33.82,34.17,33.630000000000003,33.86]
[591,"2011-07-07",34.14,34.32,33.909999999999997,34.130000000000003,1343000,34.130000000000003,1,34.14,34.32,33.909999999999997,34.130000000000003]
[592,"2011-07-06",34.090000000000003,34.28,33.96,34.1,752300,34.1,1,34.090000000000003,34.28,33.96,34.1]
[593,"2011-07-05",34.1,34.47,33.94,34.090000000000003,595600,34.090000000000003,1,34.1,34.47,33.94,34.090000000000003]
[594,"2011-07-01",33.92,34.24,33.79,34,1249600,34,1,33.92,34.24,33.79,34]
[595,"2011-06-30",33.659999999999997,34.39,33.53,33.89,1313300,33.89,1,33.659999999999997,34.39,33.53,33.89]
[596,"2011-06-29",33.26,33.6,32.26,33.42,2044000,33.42,1,33.26,33.6,32.26,33.42]
[597,"2011-06-28",33.369999999999997,33.520000000000003,33.130000000000003,33.46,1031500,33.46,1,33.369999999999997,33.520000000000003,33.130000000000003,33.46]
[598,"2011-06-27",33.28,33.47,33.049999999999997,33.090000000000003,1723200,33.090000000000003,1,33.28,33.47,33.049999999999997,33.090000000000003]
[599,"2011-06-24",33.590000000000003,33.659999999999997,33.270000000000003,33.44,2018200,33.44,1,33.590000000000003,33.659999999999997,33.270000000000003,33.44]
[600,"2011-06-23",33.15,33.94,33.01,33.57,2061000,33.57,1,33.15,33.94,33.01,33.57]
[601,"2011-06-22",34.369999999999997,34.49,33.96,33.979999999999997,1079000,33.979999999999997,1,34.369999999999997,34.49,33.96,33.979999999999997]
[602,"2011-06-21",34.47,34.700000000000003,34.229999999999997,34.4,1277700,34.4,1,34.47,34.700000000000003,34.229999999999997,34.4]
[603,"2011-06-20",33.65,34.270000000000003,33.56,34.270000000000003,793200,34.270000000000003,1,33.65,34.270000000000003,33.56,34.270000000000003]
[604,"2011-06-17",33.28,33.96,33.229999999999997,33.89,2439000,33.89,1,33.28,33.96,33.229999999999997,33.89]
[605,"2011-06-16",33.36,33.44,33.049999999999997,33.18,1425800,33.18,1,33.36,33.44,33.049999999999997,33.18]
[606,"2011-06-15",33.22,33.57,33.07,33.36,1002800,33.36,1,33.22,33.57,33.07,33.36]
[607,"2011-06-14",33.24,33.549999999999997,33.01,33.450000000000003,1439500,33.450000000000003,1,33.24,33.549999999999997,33.01,33.450000000000003]
[608,"2011-06-13",32.79,33.06,32.4,33.020000000000003,1851000,33.020000000000003,1,32.79,33.06,32.4,33.020000000000003]
[609,"2011-06-10",32.69,32.880000000000003,32.39,32.57,2303000,32.57,1,32.69,32.880000000000003,32.39,32.57]
[610,"2011-06-09",32.24,32.94,32.200000000000003,32.700000000000003,1082600,32.700000000000003,1,32.24,32.94,32.200000000000003,32.700000000000003]
[611,"2011-06-08",32.450000000000003,32.51,31.9,32.31,1272100,32.31,1,32.450000000000003,32.51,31.9,32.31]
[612,"2011-06-07",32.39,33.86,32.39,32.43,2077300,32.43,1,32.39,33.86,32.39,32.43]
[613,"2011-06-06",31.69,32.44,31.65,32.25,1744000,32.25,1,31.69,32.44,31.65,32.25]
[614,"2011-06-03",31.81,32.18,31.31,31.84,1934100,31.84,1,31.81,32.18,31.31,31.84]
[615,"2011-06-02",32.01,32.840000000000003,31.92,31.97,5285000,31.97,1,32.01,32.840000000000003,31.92,31.97]
[616,"2011-06-01",32.75,33.42,31.55,31.81,7952300,31.81,1,32.75,33.42,31.55,31.81]
[617,"2011-05-31",34.75,35.090000000000003,34.369999999999997,35.07,1246800,35.07,1,34.75,35.090000000000003,34.369999999999997,35.07]
[618,"2011-05-27",34,34.75,33.99,34.659999999999997,584400,34.659999999999997,1,34,34.75,33.99,34.659999999999997]
[619,"2011-05-26",33.270000000000003,34.29,33.26,33.89,2171100,33.89,1,33.270000000000003,34.29,33.26,33.89]
[620,"2011-05-25",32.700000000000003,33.31,32.6,33.159999999999997,1275600,33.159999999999997,1,32.700000000000003,33.31,32.6,33.159999999999997]
[621,"2011-05-24",33.04,33.200000000000003,32.58,32.75,875900,32.75,1,33.04,33.200000000000003,32.58,32.75]
[622,"2011-05-23",33.5,34.29,32.56,32.9,3015700,32.9,1,33.5,34.29,32.56,32.9]
[623,"2011-05-20",33.58,33.68,32.97,33.630000000000003,896700,33.630000000000003,1,33.58,33.68,32.97,33.630000000000003]
[624,"2011-05-19",34.21,34.79,33.549999999999997,33.61,1062000,33.61,1,34.21,34.79,33.549999999999997,33.61]
[625,"2011-05-18",33.76,34.06,33.450000000000003,34.06,570500,34.06,1,33.76,34.06,33.450000000000003,34.06]
[626,"2011-05-17",33.43,33.92,33.25,33.619999999999997,945800,33.619999999999997,1,33.43,33.92,33.25,33.619999999999997]
[627,"2011-05-16",33.299999999999997,33.630000000000003,32.97,33.49,1009900,33.49,1,33.299999999999997,33.630000000000003,32.97,33.49]
[628,"2011-05-13",33.65,33.770000000000003,33.14,33.39,399200,33.39,1,33.65,33.770000000000003,33.14,33.39]
[629,"2011-05-12",33.31,33.72,32.979999999999997,33.71,668000,33.71,1,33.31,33.72,32.979999999999997,33.71]
[630,"2011-05-11",33.130000000000003,33.619999999999997,32.979999999999997,33.42,1393500,33.42,1,33.130000000000003,33.619999999999997,32.979999999999997,33.42]
[631,"2011-05-10",33.11,33.229999999999997,32.78,33.090000000000003,736800,33.090000000000003,1,33.11,33.229999999999997,32.78,33.090000000000003]
[632,"2011-05-09",32.89,33.090000000000003,32.6,33.01,932900,33.01,1,32.89,33.090000000000003,32.6,33.01]
[633,"2011-05-06",32.68,33,32.58,32.950000000000003,872600,32.950000000000003,1,32.68,33,32.58,32.950000000000003]
[634,"2011-05-05",32.72,32.770000000000003,32.28,32.51,1353700,32.51,1,32.72,32.770000000000003,32.28,32.51]
[635,"2011-05-04",33.06,33.32,32.31,32.72,953900,32.72,1,33.06,33.32,32.31,32.72]
[636,"2011-05-03",32.979999999999997,33.18,32.630000000000003,33.18,729800,33.18,1,32.979999999999997,33.18,32.630000000000003,33.18]
[637,"2011-05-02",32.57,33.090000000000003,32.54,33.06,892200,33.06,1,32.57,33.090000000000003,32.54,33.06]
[638,"2011-04-29",33.18,33.18,32.54,32.590000000000003,785000,32.590000000000003,1,33.18,33.18,32.54,32.590000000000003]
[639,"2011-04-28",32.82,33.58,32.82,33.049999999999997,1608800,33.049999999999997,1,32.82,33.58,32.82,33.049999999999997]
[640,"2011-04-27",32.17,32.99,32.090000000000003,32.880000000000003,969200,32.880000000000003,1,32.17,32.99,32.090000000000003,32.880000000000003]
[641,"2011-04-26",32.07,32.31,31.77,32.200000000000003,931600,32.200000000000003,1,{"$f":"ROUND($I656*C656,2)","v":32.07},{"$f":"ROUND($I656*D656,2)","v":32.31},{"$f":"ROUND($I656*E656,2)","v":31.77},{"$f":"ROUND($I656*F656,2)","v":32.200000000000003}]
[642,"2011-04-25",31.22,32.020000000000003,31.17,31.96,1082900,31.96,1,31.22,32.020000000000003,31.17,31.96]
[643,"2011-04-21",31.16,31.25,30.92,31.17,825400,31.17,{"$f":"H658/F658","v":1},31.16,31.25,30.92,31.17]
[644,"2011-04-20",31.57,31.61,30.94,31,1141100,31,1,31.57,31.61,30.94,31]
[645,"2011-04-19",31.49,31.71,31.13,31.36,304400,31.36,1,31.49,31.71,31.13,31.36]
[646,"2011-04-18",31.35,31.7,31.21,31.49,905700,31.49,1,31.35,31.7,31.21,31.49]
[647,"2011-04-15",31.58,31.67,31.31,31.49,933000,31.49,1,31.58,31.67,31.31,31.49]
[648,"2011-04-14",31.69,32,31.44,31.45,1571200,31.45,1,31.69,32,31.44,31.45]
[649,"2011-04-13",31.9,32.07,31.5,31.73,1252000,31.73,1,31.9,32.07,31.5,31.73]
[650,"2011-04-12",31.6,32.03,31.37,31.81,2179100,31.81,1,31.6,32.03,31.37,31.81]
[651,"2011-04-11",31.96,32.01,31.45,31.63,1495000,31.63,1,31.96,32.01,31.45,31.63]
[652,"2011-04-08",32.56,32.74,31.66,31.82,1440500,31.82,1,32.56,32.74,31.66,31.82]
[653,"2011-04-07",32.31,32.92,32.21,32.51,1723800,32.51,1,32.31,32.92,32.21,32.51]
[654,"2011-04-06",32.24,32.61,32.14,32.35,1598800,32.35,1,32.24,32.61,32.14,32.35]
[655,"2011-04-05",31.59,32.5,31.41,32.229999999999997,1287800,32.229999999999997,1,31.59,32.5,31.41,32.229999999999997]
[656,"2011-04-04",31.61,31.71,31.22,31.6,1115400,31.6,1,31.61,31.71,31.22,31.6]
[657,"2011-04-01",31.43,31.7,31.18,31.55,1146700,31.55,1,31.43,31.7,31.18,31.55]
[658,"2011-03-31",31.41,31.45,30.86,31.35,902800,31.35,1,31.41,31.45,30.86,31.35]
[659,"2011-03-30",30.75,31.7,30.67,31.54,1948800,31.54,1,30.75,31.7,30.67,31.54]
[660,"2011-03-29",31.42,31.52,30.35,30.52,5736100,30.52,1,31.42,31.52,30.35,30.52]
[661,"2011-03-28",31.52,32.08,31.32,31.49,855800,31.49,1,31.52,32.08,31.32,31.49]
[662,"2011-03-25",31.31,31.72,31.16,31.55,1128200,31.55,1,31.31,31.72,31.16,31.55]
[663,"2011-03-24",30.83,31.34,30.76,31.23,1170600,31.23,1,30.83,31.34,30.76,31.23]
[664,"2011-03-23",30.9,31.15,30.55,30.61,1465200,30.61,1,30.9,31.15,30.55,30.61]
[665,"2011-03-22",31.8,32.1,30.57,30.84,4373600,30.84,1,31.8,32.1,30.57,30.84]
[666,"2011-03-21",30,30.39,29.9,30.38,2121400,30.38,1,30,30.39,29.9,30.38]
[667,"2011-03-18",29.97,30.18,29.79,29.85,3123600,29.85,1,29.97,30.18,29.79,29.85]
[668,"2011-03-17",29.99,30,29.26,29.75,1486100,29.75,1,29.99,30,29.26,29.75]
[669,"2011-03-16",28.76,29.98,28.76,29.78,2095600,29.78,1,28.76,29.98,28.76,29.78]
[670,"2011-03-15",28.41,29.08,28.18,28.88,1252600,28.88,1,28.41,29.08,28.18,28.88]
[671,"2011-03-14",28.69,28.74,28.34,28.65,1703100,28.65,1,28.69,28.74,28.34,28.65]
[672,"2011-03-11",28.81,29.32,28.36,28.82,1910000,28.82,1,28.81,29.32,28.36,28.82]
[673,"2011-03-10",27.9,28.39,27.81,28.11,1726400,28.11,1,27.9,28.39,27.81,28.11]
[674,"2011-03-09",28.09,28.21,27.74,28,940500,28,1,28.09,28.21,27.74,28]
[675,"2011-03-08",28.01,28.46,27.88,28.03,1198400,28.03,1,28.01,28.46,27.88,28.03]
[676,"2011-03-07",28.54,28.67,27.56,27.9,2581800,27.9,1,28.54,28.67,27.56,27.9]
[677,"2011-03-04",28.05,28.58,27.86,28.47,1523400,28.47,1,28.05,28.58,27.86,28.47]
[678,"2011-03-03",28.59,28.77,27.93,27.98,831800,27.98,1,28.59,28.77,27.93,27.98]
[679,"2011-03-02",28.28,28.5,28.12,28.27,635700,28.27,1,28.28,28.5,28.12,28.27]
[680,"2011-03-01",28.3,29.02,28.23,28.28,2516000,28.28,1,28.3,29.02,28.23,28.28]
[681,"2011-02-28",28.2,28.37,27.99,28.25,1061600,28.25,1,28.2,28.37,27.99,28.25]
[682,"2011-02-25",28.36,28.59,27.74,28,1988700,28,1,28.36,28.59,27.74,28]
[683,"2011-02-24",27.91,28.68,27.91,28.35,1373700,28.35,1,27.91,28.68,27.91,28.35]
[684,"2011-02-23",28.27,28.56,27.71,27.97,3876700,27.97,1,28.27,28.56,27.71,27.97]
[685,"2011-02-22",28.94,29.07,28.15,28.48,1392200,28.48,1,28.94,29.07,28.15,28.48]
[686,"2011-02-18",29.38,29.5,29.05,29.25,1580700,29.25,1,29.38,29.5,29.05,29.25]
[687,"2011-02-17",29.63,29.91,28.9,29.52,3762500,29.52,1,29.63,29.91,28.9,29.52]
[688,"2011-02-16",29.32,31.38,29.26,29.64,14666800,29.64,1,29.32,31.38,29.26,29.64]
[689,"2011-02-15",26.76,27.03,26.7,26.93,3813900,26.93,1,26.76,27.03,26.7,26.93]
[690,"2011-02-14",27.37,27.38,26.65,26.85,3109400,26.85,1,27.37,27.38,26.65,26.85]
[691,"2011-02-11",27.58,27.74,27.2,27.24,1366800,27.24,1,27.58,27.74,27.2,27.24]
[692,"2011-02-10",27.81,28.06,27.54,27.65,564800,27.65,1,27.81,28.06,27.54,27.65]
[693,"2011-02-09",28,28.25,27.83,27.91,906800,27.91,1,28,28.25,27.83,27.91]
[694,"2011-02-08",28.01,28.22,27.54,28,5007900,28,1,28.01,28.22,27.54,28]
[695,"2011-02-07",27.66,27.96,27.33,27.9,1487100,27.9,1,27.66,27.96,27.33,27.9]
[696,"2011-02-04",27.6,27.69,27.22,27.47,1010200,27.47,1,27.6,27.69,27.22,27.47]
[697,"2011-02-03",27.73,27.97,27.21,27.45,1357000,27.45,1,27.73,27.97,27.21,27.45]
[698,"2011-02-02",28.13,28.37,27.5,27.63,5701400,27.63,1,28.13,28.37,27.5,27.63]
[699,"2011-02-01",27.99,29.18,27.82,28.85,2006900,28.85,1,27.99,29.18,27.82,28.85]
[700,"2011-01-31",28.35,28.42,27.73,27.81,1477000,27.81,1,28.35,28.42,27.73,27.81]
[701,"2011-01-28",28.68,28.83,28.31,28.4,910600,28.4,1,28.68,28.83,28.31,28.4]
[702,"2011-01-27",28.69,28.9,28.53,28.67,876500,28.67,1,28.69,28.9,28.53,28.67]
[703,"2011-01-26",28.83,29,28.5,28.75,4809300,28.75,1,28.83,29,28.5,28.75]
[704,"2011-01-25",28.85,29.1,28.21,28.7,2213700,28.7,1,28.85,29.1,28.21,28.7]
[705,"2011-01-24",29.48,29.49,28.98,29,1674300,29,1,{"$f":"ROUND($I720*C720,2)","v":29.48},{"$f":"ROUND($I720*D720,2)","v":29.49},{"$f":"ROUND($I720*E720,2)","v":28.98},{"$f":"ROUND($I720*F720,2)","v":29}]
[706,"2011-01-21",29.66,29.72,29.22,29.41,7111200,29.41,1,29.66,29.72,29.22,29.41]
[707,"2011-01-20",29.32,29.72,29.12,29.48,1055900,29.48,{"$f":"H722/F722","v":1},29.32,29.72,29.12,29.48]
[708,"2011-01-19",30.08,30.15,29.16,29.33,2289100,29.33,1,30.08,30.15,29.16,29.33]
[709,"2011-01-18",29.41,30.17,29.4,30,1701300,30,1,29.41,30.17,29.4,30]
[710,"2011-01-14",28.88,29.54,28.77,29.46,2040100,29.46,1,28.88,29.54,28.77,29.46]
[711,"2011-01-13",29.5,29.52,28.59,28.7,1470100,28.7,1,29.5,29.52,28.59,28.7]
[712,"2011-01-12",29.61,29.75,29.36,29.46,706700,29.46,1,29.61,29.75,29.36,29.46]
[713,"2011-01-11",29.99,30.06,29.47,29.59,943000,29.59,1,29.99,30.06,29.47,29.59]
[714,"2011-01-10",29.85,30.3,29.74,30,969200,30,1,29.85,30.3,29.74,30]
[715,"2011-01-07",30.2,30.49,29.6,29.83,1687600,29.83,1,30.2,30.49,29.6,29.83]
[716,"2011-01-06",29.74,29.87,29.29,29.8,2272100,29.8,1,29.74,29.87,29.29,29.8]
[717,"2011-01-05",29.94,30.19,29.01,30.1,2831200,30.1,1,29.94,30.19,29.01,30.1]
[718,"2011-01-04",30.85,30.99,30.23,30.54,1282700,30.54,1,30.85,30.99,30.23,30.54]
[719,"2011-01-03",31,31,30.55,30.67,800500,30.67,1,31,31,30.55,30.67]
[720,"2010-12-31",30.61,30.84,30.34,30.67,572400,30.67,1,30.61,30.84,30.34,30.67]
[721,"2010-12-30",30.75,30.9,30.31,30.58,2938300,30.58,1,30.75,30.9,30.31,30.58]
[722,"2010-12-29",30.68,30.83,30.52,30.79,439600,30.79,1,30.68,30.83,30.52,30.79]
[723,"2010-12-28",30.77,30.78,30.28,30.62,870800,30.62,1,30.77,30.78,30.28,30.62]
[724,"2010-12-27",30.83,30.98,30.59,30.63,341900,30.63,1,30.83,30.98,30.59,30.63]
[725,"2010-12-23",31.2,31.25,30.65,30.81,584900,30.81,1,31.2,31.25,30.65,30.81]
[726,"2010-12-22",31.38,31.49,31.04,31.09,674800,31.09,1,31.38,31.49,31.04,31.09]
[727,"2010-12-21",31.2,31.43,31.01,31.3,818800,31.3,1,31.2,31.43,31.01,31.3]
[728,"2010-12-20",30.88,31.24,30.77,30.99,1151700,30.99,1,30.88,31.24,30.77,30.99]
[729,"2010-12-17",30.72,30.79,30.59,30.66,1272400,30.66,1,30.72,30.79,30.59,30.66]
[730,"2010-12-16",30.65,30.91,30.5,30.7,1488200,30.7,1,30.65,30.91,30.5,30.7]
[731,"2010-12-15",30.41,30.84,30.28,30.51,1168600,30.51,1,30.41,30.84,30.28,30.51]
[732,"2010-12-14",30.95,31,30.29,30.5,2136900,30.5,1,30.95,31,30.29,30.5]
[733,"2010-12-13",31.21,31.22,30.91,31,1340600,31,1,31.21,31.22,30.91,31]
[734,"2010-12-10",30.83,31.34,30.83,31.07,1460800,31.07,1,30.83,31.34,30.83,31.07]
[735,"2010-12-09",31.01,31.51,30.77,30.83,11532700,30.83,1,31.01,31.51,30.77,30.83]
[736,"2010-12-08",31.49,31.7,30.7,30.84,1819000,30.84,1,31.49,31.7,30.7,30.84]
[737,"2010-12-07",31.51,31.8,31.28,31.6,2586000,31.6,1,31.51,31.8,31.28,31.6]
[738,"2010-12-06",31.92,32,30.58,30.99,4422300,30.99,1,31.92,32,30.58,30.99]
[739,"2010-12-03",31.77,33.68,31.57,33.43,2580900,33.43,1,31.77,33.68,31.57,33.43]
[740,"2010-12-02",32.450000000000003,32.479999999999997,31.89,31.93,1709300,31.93,1,32.450000000000003,32.479999999999997,31.89,31.93]
[741,"2010-12-01",33.21,33.51,32.229999999999997,32.31,1296500,32.31,1,33.21,33.51,32.229999999999997,32.31]
[742,"2010-11-30",32.51,33.07,32.4,32.840000000000003,706100,32.840000000000003,1,32.51,33.07,32.4,32.840000000000003]
[743,"2010-11-29",32.54,33.090000000000003,32.340000000000003,32.78,1306600,32.78,1,32.54,33.090000000000003,32.340000000000003,32.78]
[744,"2010-11-26",32.75,33.42,32.72,32.74,272600,32.74,1,32.75,33.42,32.72,32.74]
[745,"2010-11-24",33.5,33.58,32.950000000000003,33.01,1068800,33.01,1,33.5,33.58,32.950000000000003,33.01]
[746,"2010-11-23",31.74,33.729999999999997,31.74,33.28,2483600,33.28,1,31.74,33.729999999999997,31.74,33.28]
[747,"2010-11-22",30.78,32.229999999999997,30.65,31.98,1280400,31.98,1,30.78,32.229999999999997,30.65,31.98]
[748,"2010-11-19",30.14,30.98,30.06,30.96,1335500,30.96,1,30.14,30.98,30.06,30.96]
[749,"2010-11-18",29.93,30.44,29.92,30.08,1848400,30.08,1,29.93,30.44,29.92,30.08]
[750,"2010-11-17",29.17,30.09,29.11,29.71,1210000,29.71,1,29.17,30.09,29.11,29.71]
[751,"2010-11-16",28.77,29.38,28.74,29.16,987500,29.16,1,28.77,29.38,28.74,29.16]
[752,"2010-11-15",29.13,29.46,28.74,28.88,340600,28.88,1,29.13,29.46,28.74,28.88]
[753,"2010-11-12",29.51,29.67,28.82,29.02,827000,29.02,1,29.51,29.67,28.82,29.02]
[754,"2010-11-11",28.81,29.85,28.78,29.68,644500,29.68,1,28.81,29.85,28.78,29.68]
[755,"2010-11-10",28.6,29.23,28.38,29.06,1348500,29.06,1,28.6,29.23,28.38,29.06]
[756,"2010-11-09",28.41,28.73,28.25,28.58,749900,28.58,1,28.41,28.73,28.25,28.58]
[757,"2010-11-08",28.01,28.44,27.35,28.38,527600,28.38,1,28.01,28.44,27.35,28.38]
[758,"2010-11-05",28.35,28.5,27.29,28,2020900,28,1,28.35,28.5,27.29,28]
[759,"2010-11-04",28.83,28.88,28.21,28.35,828700,28.35,1,28.83,28.88,28.21,28.35]
[760,"2010-11-03",28.84,28.89,28.48,28.55,504700,28.55,1,28.84,28.89,28.48,28.55]
[761,"2010-11-02",28.12,28.9,28.05,28.64,1256000,28.64,1,28.12,28.9,28.05,28.64]
[762,"2010-11-01",28.22,28.31,27.58,27.94,1598700,27.94,1,28.22,28.31,27.58,27.94]
[763,"2010-10-29",27.87,28.45,27.74,28.19,1135400,28.19,1,27.87,28.45,27.74,28.19]
[764,"2010-10-28",28.02,28.24,27.94,27.94,581500,27.94,1,28.02,28.24,27.94,27.94]
[765,"2010-10-27",28.15,28.15,27.4,27.94,1077100,27.94,1,28.15,28.15,27.4,27.94]
[766,"2010-10-26",28.43,28.47,28,28.32,472700,28.32,1,28.43,28.47,28,28.32]
[767,"2010-10-25",28.38,28.87,28.18,28.59,830800,28.59,1,28.38,28.87,28.18,28.59]
[768,"2010-10-22",28,28.27,27.96,28.2,795900,28.2,1,28,28.27,27.96,28.2]
[769,"2010-10-21",28.22,28.56,27.76,27.9,478300,27.9,1,{"$f":"ROUND($I784*C784,2)","v":28.22},{"$f":"ROUND($I784*D784,2)","v":28.56},{"$f":"ROUND($I784*E784,2)","v":27.76},{"$f":"ROUND($I784*F784,2)","v":27.9}]
[770,"2010-10-20",28.21,28.47,27.95,28.1,521300,28.1,1,28.21,28.47,27.95,28.1]
[771,"2010-10-19",29.15,29.32,27.95,28.11,943400,28.11,{"$f":"H786/F786","v":1},29.15,29.32,27.95,28.11]
[772,"2010-10-18",28.99,29.34,28.95,29.34,203800,29.34,1,28.99,29.34,28.95,29.34]
[773,"2010-10-15",29.16,29.2,28.87,28.93,292600,28.93,1,29.16,29.2,28.87,28.93]
[774,"2010-10-14",29.21,29.25,28.15,29,824700,29,1,29.21,29.25,28.15,29]
[775,"2010-10-13",29,29.32,28.76,29.24,604800,29.24,1,29,29.32,28.76,29.24]
[776,"2010-10-12",29.31,29.68,28.68,28.81,970800,28.81,1,29.31,29.68,28.68,28.81]
[777,"2010-10-11",30.07,30.07,29.27,29.34,649900,29.34,1,30.07,30.07,29.27,29.34]
[778,"2010-10-08",29.8,30.13,29.54,30,385200,30,1,29.8,30.13,29.54,30]
[779,"2010-10-07",29.79,29.98,29.48,29.83,335700,29.83,1,29.79,29.98,29.48,29.83]
[780,"2010-10-06",29.2,29.76,29.16,29.76,304000,29.76,1,29.2,29.76,29.16,29.76]
[781,"2010-10-05",29.09,29.38,29.01,29.24,330800,29.24,1,29.09,29.38,29.01,29.24]
[782,"2010-10-04",29.06,29.51,28.93,28.94,413300,28.94,1,29.06,29.51,28.93,28.94]
[783,"2010-10-01",29.29,29.41,28.8,29.15,997300,29.15,1,29.29,29.41,28.8,29.15]
[784,"2010-09-30",29.55,29.66,28.89,29.25,788100,29.25,1,29.55,29.66,28.89,29.25]
[785,"2010-09-29",29.83,29.9,28.98,29.53,884700,29.53,1,29.83,29.9,28.98,29.53]
[786,"2010-09-28",29.41,29.83,29.21,29.76,554800,29.76,1,29.41,29.83,29.21,29.76]
[787,"2010-09-27",28.34,29.38,28.05,29.25,2594300,29.25,1,28.34,29.38,28.05,29.25]
[788,"2010-09-24",27.67,28.37,27.61,28.23,650700,28.23,1,27.67,28.37,27.61,28.23]
[789,"2010-09-23",27.39,28,27.29,27.45,585100,27.45,1,27.39,28,27.29,27.45]
[790,"2010-09-22",27.75,27.95,27.47,27.67,1424300,27.67,1,27.75,27.95,27.47,27.67]
[791,"2010-09-21",27.86,27.87,27.27,27.73,893800,27.73,1,27.86,27.87,27.27,27.73]
[792,"2010-09-20",27.43,27.91,27,27.8,802500,27.8,1,27.43,27.91,27,27.8]
[793,"2010-09-17",27.66,27.9,27.3,27.42,666900,27.42,1,27.66,27.9,27.3,27.42]
[794,"2010-09-16",27.52,27.79,27.42,27.68,957600,27.68,1,27.52,27.79,27.42,27.68]
[795,"2010-09-15",27.42,27.7,27.19,27.47,927700,27.47,1,27.42,27.7,27.19,27.47]
[796,"2010-09-14",27.24,27.56,27.11,27.4,710200,27.4,1,27.24,27.56,27.11,27.4]
[797,"2010-09-13",27.68,27.68,27.21,27.42,604700,27.42,1,27.68,27.68,27.21,27.42]
[798,"2010-09-10",27.31,27.89,27.31,27.45,561800,27.45,1,27.31,27.89,27.31,27.45]
[799,"2010-09-09",27.94,28.14,27.31,27.33,1640500,27.33,1,27.94,28.14,27.31,27.33]
[800,"2010-09-08",27.98,28.24,27.58,27.68,1371800,27.68,1,27.98,28.24,27.58,27.68]
[801,"2010-09-07",28.04,28.15,27.87,28,627000,28,1,28.04,28.15,27.87,28]
[802,"2010-09-03",28.82,29.27,27.94,28.03,509800,28.03,1,28.82,29.27,27.94,28.03]
[803,"2010-09-02",28.12,28.88,28.02,28.7,620700,28.7,1,28.12,28.88,28.02,28.7]
[804,"2010-09-01",27.66,28.17,27.45,28.02,977200,28.02,1,27.66,28.17,27.45,28.02]
[805,"2010-08-31",27.49,27.58,26.64,27.31,2336400,27.31,1,27.49,27.58,26.64,27.31]
[806,"2010-08-30",28.19,28.34,27.31,27.38,1133400,27.38,1,28.19,28.34,27.31,27.38]
[807,"2010-08-27",28.55,28.65,28.01,28.09,645100,28.09,1,28.55,28.65,28.01,28.09]
[808,"2010-08-26",28.7,28.86,28.35,28.5,466700,28.5,1,28.7,28.86,28.35,28.5]
[809,"2010-08-25",28.01,28.5,27.28,28.45,741600,28.45,1,28.01,28.5,27.28,28.45]
[810,"2010-08-24",28,28.46,27.43,28.02,1237700,28.02,1,28,28.46,27.43,28.02]
[811,"2010-08-23",29.46,29.46,27.21,28.15,2039600,28.15,1,29.46,29.46,27.21,28.15]
[812,"2010-08-20",29.01,29.66,29.01,29.44,553200,29.44,1,29.01,29.66,29.01,29.44]
[813,"2010-08-19",29.36,29.65,28.99,29,648300,29,1,29.36,29.65,28.99,29]
[814,"2010-08-18",29.52,29.6,29.06,29.39,690300,29.39,1,29.52,29.6,29.06,29.39]
[815,"2010-08-17",29.14,29.57,29.09,29.36,352000,29.36,1,29.14,29.57,29.09,29.36]
[816,"2010-08-16",28.72,29.24,28.57,29.08,361100,29.08,1,28.72,29.24,28.57,29.08]
[817,"2010-08-13",28.99,29.09,28.48,28.76,447500,28.76,1,28.99,29.09,28.48,28.76]
[818,"2010-08-12",28.16,29.03,28.1,29,671600,29,1,28.16,29.03,28.1,29]
[819,"2010-08-11",29.32,29.65,28.23,28.44,908600,28.44,1,29.32,29.65,28.23,28.44]
[820,"2010-08-10",29.52,29.63,29.1,29.35,754200,29.35,1,29.52,29.63,29.1,29.35]
[821,"2010-08-09",29.46,30.02,29.24,29.66,602600,29.66,1,29.46,30.02,29.24,29.66]
[822,"2010-08-06",29.33,29.59,29.1,29.44,562000,29.44,1,29.33,29.59,29.1,29.44]
[823,"2010-08-05",29.84,29.86,29,29.59,1250500,29.59,1,29.84,29.86,29,29.59]
[824,"2010-08-04",29.32,30.2,29.32,30.1,493900,30.1,1,29.32,30.2,29.32,30.1]
[825,"2010-08-03",29.6,29.65,29.04,29.33,592200,29.33,1,29.6,29.65,29.04,29.33]
[826,"2010-08-02",29.52,29.72,29.25,29.51,546700,29.51,1,29.52,29.72,29.25,29.51]
[827,"2010-07-30",28.59,29.27,28.34,29.18,718800,29.18,1,28.59,29.27,28.34,29.18]
[828,"2010-07-29",29.65,29.94,28.6,28.72,561100,28.72,1,29.65,29.94,28.6,28.72]
[829,"2010-07-28",29.39,29.98,28.95,29.5,1665800,29.5,1,29.39,29.98,28.95,29.5]
[830,"2010-07-27",29.69,29.77,28.95,29.36,542200,29.36,1,29.69,29.77,28.95,29.36]
[831,"2010-07-26",29.58,30,29.39,29.69,691500,29.69,1,29.58,30,29.39,29.69]
[832,"2010-07-23",29.03,29.46,28.91,29.37,770400,29.37,1,29.03,29.46,28.91,29.37]
[833,"2010-07-22",29.06,29.32,28.8,28.98,388300,28.98,1,{"$f":"ROUND($I848*C848,2)","v":29.06},{"$f":"ROUND($I848*D848,2)","v":29.32},{"$f":"ROUND($I848*E848,2)","v":28.8},{"$f":"ROUND($I848*F848,2)","v":28.98}]
[834,"2010-07-21",29.67,29.67,28.71,28.92,791600,28.92,1,29.67,29.67,28.71,28.92]
[835,"2010-07-20",29,29.53,28.78,29.52,640600,29.52,{"$f":"H850/F850","v":1},29,29.53,28.78,29.52]
[836,"2010-07-19",29.2,29.57,29.02,29.27,724300,29.27,1,29.2,29.57,29.02,29.27]
[837,"2010-07-16",29.78,29.78,28.98,29.09,1425500,29.09,1,29.78,29.78,28.98,29.09]
[838,"2010-07-15",28.29,30.17,28.17,29.8,1981600,29.8,1,28.29,30.17,28.17,29.8]
[839,"2010-07-14",27.71,28.46,27.62,28.23,1069600,28.23,1,27.71,28.46,27.62,28.23]
[840,"2010-07-13",27.64,27.9,27.43,27.7,672600,27.7,1,27.64,27.9,27.43,27.7]
[841,"2010-07-12",28.12,28.12,27.28,27.47,1033200,27.47,1,28.12,28.12,27.28,27.47]
[842,"2010-07-09",27.6,28.15,27.36,28.14,866400,28.14,1,27.6,28.15,27.36,28.14]
[843,"2010-07-08",28.13,28.39,27.34,27.63,1826600,27.63,1,28.13,28.39,27.34,27.63]
[844,"2010-07-07",27.44,27.97,26.61,27.95,3463700,27.95,1,27.44,27.97,26.61,27.95]
[845,"2010-07-06",28.16,28.4,27.77,28,560000,28,1,28.16,28.4,27.77,28]
[846,"2010-07-02",28.28,28.59,27.85,28.01,424700,28.01,1,28.28,28.59,27.85,28.01]
[847,"2010-07-01",27.51,28.16,27.37,28.13,1658000,28.13,1,27.51,28.16,27.37,28.13]
[848,"2010-06-30",28.28,28.72,27.21,27.55,1636800,27.55,1,28.28,28.72,27.21,27.55]
[849,"2010-06-29",28.39,28.73,27.84,28.39,1157900,28.39,1,28.39,28.73,27.84,28.39]
[850,"2010-06-28",29.07,29.13,28.74,28.91,310500,28.91,1,29.07,29.13,28.74,28.91]
[851,"2010-06-25",29,29.34,28.16,29.08,2382600,29.08,1,29,29.34,28.16,29.08]
[852,"2010-06-24",29.09,29.16,28.66,29.13,881200,29.13,1,29.09,29.16,28.66,29.13]
[853,"2010-06-23",29.03,29.41,28.76,29.13,1023800,29.13,1,29.03,29.41,28.76,29.13]
[854,"2010-06-22",29.64,30.08,28.78,28.89,2754400,28.89,1,29.64,30.08,28.78,28.89]
[855,"2010-06-21",30.39,30.39,29.5,29.63,1226500,29.63,1,30.39,30.39,29.5,29.63]
[856,"2010-06-18",29.71,30.29,29.68,30.15,739300,30.15,1,29.71,30.29,29.68,30.15]
[857,"2010-06-17",30.26,30.49,29.5,29.9,909600,29.9,1,30.26,30.49,29.5,29.9]
[858,"2010-06-16",29.98,30.53,29.89,30.3,1516800,30.3,1,29.98,30.53,29.89,30.3]
[859,"2010-06-15",30.19,30.5,29.49,30,1501100,30,1,30.19,30.5,29.49,30]
[860,"2010-06-14",30.18,30.66,29.9,30.22,2304900,30.22,1,30.18,30.66,29.9,30.22]
[861,"2010-06-11",29.69,30.01,29.41,29.97,485700,29.97,1,29.69,30.01,29.41,29.97]
[862,"2010-06-10",30.95,31.23,29.66,29.98,1345000,29.98,1,30.95,31.23,29.66,29.98]
[863,"2010-06-09",30.19,30.45,29.85,30,1581400,30,1,30.19,30.45,29.85,30]
[864,"2010-06-08",30.35,30.35,29.25,29.83,3250900,29.83,1,30.35,30.35,29.25,29.83]
[865,"2010-06-07",30.19,30.5,28.84,29.23,1242800,29.23,1,30.19,30.5,28.84,29.23]
[866,"2010-06-04",30.25,30.5,29.58,30.04,895800,30.04,1,30.25,30.5,29.58,30.04]
[867,"2010-06-03",31.06,31.41,30.29,30.7,773600,30.7,1,31.06,31.41,30.29,30.7]
[868,"2010-06-02",30.84,31.36,30.61,31.36,1251100,31.36,1,30.84,31.36,30.61,31.36]
[869,"2010-06-01",30.23,30.98,30.08,30.54,667200,30.54,1,30.23,30.98,30.08,30.54]
[870,"2010-05-28",30.46,30.82,30.14,30.23,968700,30.23,1,30.46,30.82,30.14,30.23]
[871,"2010-05-27",31.07,31.21,30.36,30.64,1256000,30.64,1,31.07,31.21,30.36,30.64]
[872,"2010-05-26",31,31.38,30.22,30.44,4955600,30.44,1,31,31.38,30.22,30.44]
[873,"2010-05-25",29.38,30.64,29.23,30.61,1768800,30.61,1,29.38,30.64,29.23,30.61]
[874,"2010-05-24",29.6,30.34,29.54,30.01,1703300,30.01,1,29.6,30.34,29.54,30.01]
[875,"2010-05-21",28.74,29.83,28.63,29.55,1039500,29.55,1,28.74,29.83,28.63,29.55]
[876,"2010-05-20",29.31,29.56,28.91,29.03,969900,29.03,1,29.31,29.56,28.91,29.03]
[877,"2010-05-19",29.24,30.2,29.13,29.7,949400,29.7,1,29.24,30.2,29.13,29.7]
[878,"2010-05-18",29.71,29.96,29.06,29.29,763100,29.29,1,29.71,29.96,29.06,29.29]
[879,"2010-05-17",29.36,30,29.06,29.45,1259900,29.45,1,29.36,30,29.06,29.45]
[880,"2010-05-14",29.39,29.73,29.01,29.27,2256400,29.27,1,29.39,29.73,29.01,29.27]
[881,"2010-05-13",29.36,29.94,28.98,29.44,1661400,29.44,1,29.36,29.94,28.98,29.44]
[882,"2010-05-12",28.28,29.48,28.14,29.36,1070400,29.36,1,28.28,29.48,28.14,29.36]
[883,"2010-05-11",27.31,28.36,27.31,27.98,686400,27.98,1,27.31,28.36,27.31,27.98]
[884,"2010-05-10",27.9,28.65,27.32,27.72,1048200,27.72,1,27.9,28.65,27.32,27.72]
[885,"2010-05-07",27.9,28.13,26.74,27.19,1395700,27.19,1,27.9,28.13,26.74,27.19]
[886,"2010-05-06",28.35,29.05,27.59,27.91,1625600,27.91,1,28.35,29.05,27.59,27.91]
[887,"2010-05-05",28.29,28.76,28.14,28.52,556000,28.52,1,28.29,28.76,28.14,28.52]
[888,"2010-05-04",28.55,28.93,27.87,28.64,754800,28.64,1,28.55,28.93,27.87,28.64]
[889,"2010-05-03",28.59,29.29,28.43,29.02,424200,29.02,1,28.59,29.29,28.43,29.02]
[890,"2010-04-30",29.13,29.24,28.32,28.57,879600,28.57,1,29.13,29.24,28.32,28.57]
[891,"2010-04-29",29.06,29.45,28.58,29.13,830100,29.13,1,29.06,29.45,28.58,29.13]
[892,"2010-04-28",29.03,29.91,28.54,29.01,795200,29.01,1,29.03,29.91,28.54,29.01]
[893,"2010-04-27",29.34,29.74,28.94,28.99,952900,28.99,1,29.34,29.74,28.94,28.99]
[894,"2010-04-26",28.55,29.7,28.43,29.58,1181100,29.58,1,28.55,29.7,28.43,29.58]
[895,"2010-04-23",29.67,29.69,29.17,29.38,668300,29.38,1,29.67,29.69,29.17,29.38]
[896,"2010-04-22",28.01,29.62,28,29.53,1441400,29.53,1,28.01,29.62,28,29.53]
[897,"2010-04-21",28.2,28.45,27.9,28.19,1229100,28.19,1,{"$f":"ROUND($I912*C912,2)","v":28.2},{"$f":"ROUND($I912*D912,2)","v":28.45},{"$f":"ROUND($I912*E912,2)","v":27.9},{"$f":"ROUND($I912*F912,2)","v":28.19}]
[898,"2010-04-20",29.25,29.25,28.08,28.25,1273300,28.25,1,29.25,29.25,28.08,28.25]
[899,"2010-04-19",28.6,29.55,28.12,29.01,1889200,29.01,{"$f":"H914/F914","v":1},28.6,29.55,28.12,29.01]
[900,"2010-04-16",27,28.88,27,28.6,3306900,28.6,1,27,28.88,27,28.6]
[901,"2010-04-15",27.5,27.63,26.95,27,11184100,27,1,27.5,27.63,26.95,27]
[902,"2010-04-14",27.15,27.86,26.69,27.52,1010100,27.52,1,27.15,27.86,26.69,27.52]
[903,"2010-04-13",26.25,27.18,26.19,27.03,1792000,27.03,1,26.25,27.18,26.19,27.03]
[904,"2010-04-12",26.45,26.58,26.18,26.24,252100,26.24,1,26.45,26.58,26.18,26.24]
[905,"2010-04-09",26.6,26.64,26.25,26.47,305300,26.47,1,26.6,26.64,26.25,26.47]
[906,"2010-04-08",26.6,26.76,26.23,26.51,210300,26.51,1,26.6,26.76,26.23,26.51]
[907,"2010-04-07",27.02,27.1,26.43,26.55,731700,26.55,1,27.02,27.1,26.43,26.55]
[908,"2010-04-06",26.11,27.01,26.08,27.01,716600,27.01,1,26.11,27.01,26.08,27.01]
[909,"2010-04-05",25.73,25.8,25.39,25.8,621500,25.8,1,25.73,25.8,25.39,25.8]
[910,"2010-04-01",25.35,25.8,25.29,25.52,1232200,25.52,1,25.35,25.8,25.29,25.52]
[911,"2010-03-31",26.4,26.4,24.85,25.25,1212100,25.25,1,26.4,26.4,24.85,25.25]
[912,"2010-03-30",25.5,25.91,25.2,25.79,553100,25.79,1,25.5,25.91,25.2,25.79]
[913,"2010-03-29",25.23,25.6,25.16,25.35,336700,25.35,1,25.23,25.6,25.16,25.35]
[914,"2010-03-26",24.59,25.18,24.35,24.99,793000,24.99,1,24.59,25.18,24.35,24.99]
[915,"2010-03-25",25.44,25.48,24.29,24.43,367900,24.43,1,25.44,25.48,24.29,24.43]
[916,"2010-03-24",25.17,25.97,25,25.25,1307200,25.25,1,25.17,25.97,25,25.25]
[917,"2010-03-23",25,25.25,24.9,25.18,152500,25.18,1,25,25.25,24.9,25.18]
[918,"2010-03-22",25.56,25.72,24.95,25.01,234000,25.01,1,25.56,25.72,24.95,25.01]
[919,"2010-03-19",25.29,25.75,25,25.6,741400,25.6,1,25.29,25.75,25,25.6]
[920,"2010-03-18",25.88,25.93,25.23,25.24,156700,25.24,1,25.88,25.93,25.23,25.24]
[921,"2010-03-17",25.11,26.51,24.94,25.82,503500,25.82,1,25.11,26.51,24.94,25.82]
[922,"2010-03-16",25.02,25.2,24.86,25.12,109300,25.12,1,25.02,25.2,24.86,25.12]
[923,"2010-03-15",25.16,25.25,24.87,25.03,195600,25.03,1,25.16,25.25,24.87,25.03]
[924,"2010-03-12",25.14,25.25,24.98,25.13,55300,25.13,1,25.14,25.25,24.98,25.13]
[925,"2010-03-11",24.99,25.19,24.81,25.11,99800,25.11,1,24.99,25.19,24.81,25.11]
[926,"2010-03-10",25.11,25.18,24.91,25.06,248200,25.06,1,25.11,25.18,24.91,25.06]
[927,"2010-03-09",24.55,25.24,24.5,25.12,185200,25.12,1,24.55,25.24,24.5,25.12]
[928,"2010-03-08",24.55,24.88,24.51,24.67,144800,24.67,1,24.55,24.88,24.51,24.67]
[929,"2010-03-05",24.25,24.74,24.18,24.52,189900,24.52,1,24.25,24.74,24.18,24.52]
[930,"2010-03-04",24.02,24.4,23.99,24.2,149900,24.2,1,24.02,24.4,23.99,24.2]
[931,"2010-03-03",24,24.11,23.82,23.99,114700,23.99,1,24,24.11,23.82,23.99]
[932,"2010-03-02",24.13,24.3,23.77,24.04,279500,24.04,1,24.13,24.3,23.77,24.04]
[933,"2010-03-01",24.01,24.57,23.88,24.09,271500,24.09,1,24.01,24.57,23.88,24.09]
[934,"2010-02-26",23.91,23.96,23.51,23.89,265000,23.89,1,23.91,23.96,23.51,23.89]
[935,"2010-02-25",23.82,24.07,23.52,23.8,258000,23.8,1,23.82,24.07,23.52,23.8]
[936,"2010-02-24",23.81,24.35,23.75,24.16,208400,24.16,1,23.81,24.35,23.75,24.16]
[937,"2010-02-23",23.2,23.73,23.1,23.64,134300,23.64,1,23.2,23.73,23.1,23.64]
[938,"2010-02-22",23.5,23.52,23.09,23.24,155500,23.24,1,23.5,23.52,23.09,23.24]
[939,"2010-02-19",23.29,23.96,23.29,23.58,187600,23.58,1,23.29,23.96,23.29,23.58]
[940,"2010-02-18",22.64,23.5,22.5,23.28,121400,23.28,1,22.64,23.5,22.5,23.28]
[941,"2010-02-17",23.04,23.39,22.59,22.76,189800,22.76,1,23.04,23.39,22.59,22.76]
[942,"2010-02-16",22.65,23.07,22.27,23.03,248000,23.03,1,22.65,23.07,22.27,23.03]
[943,"2010-02-12",21.91,22.55,21.88,22.55,125600,22.55,1,21.91,22.55,21.88,22.55]
[944,"2010-02-11",21.97,22.18,21.95,22.06,107600,22.06,1,21.97,22.18,21.95,22.06]
[945,"2010-02-10",22.38,22.38,21.87,22.05,403900,22.05,1,22.38,22.38,21.87,22.05]
[946,"2010-02-09",22.49,22.76,22.27,22.56,220700,22.56,1,22.49,22.76,22.27,22.56]
[947,"2010-02-08",21.88,22.63,21.76,22.39,208100,22.39,1,21.88,22.63,21.76,22.39]
[948,"2010-02-05",22.41,22.57,21.3,21.71,1137100,21.71,1,22.41,22.57,21.3,21.71]
[949,"2010-02-04",23.64,23.75,22.35,22.47,714000,22.47,1,23.64,23.75,22.35,22.47]
[950,"2010-02-03",23.6,23.86,23.41,23.84,827700,23.84,1,23.6,23.86,23.41,23.84]
[951,"2010-02-02",23.33,23.72,23.19,23.63,208300,23.63,1,23.33,23.72,23.19,23.63]
[952,"2010-02-01",23.68,23.68,23.13,23.37,407500,23.37,1,23.68,23.68,23.13,23.37]
[953,"2010-01-29",24,24,23.23,23.49,337800,23.49,1,24,24,23.23,23.49]
[954,"2010-01-28",23.79,24.12,23.39,23.84,131400,23.84,1,23.79,24.12,23.39,23.84]
[955,"2010-01-27",23.6,23.6,23.37,23.55,175300,23.55,1,23.6,23.6,23.37,23.55]
[956,"2010-01-26",23.4,23.68,23.32,23.53,164800,23.53,1,23.4,23.68,23.32,23.53]
[957,"2010-01-25",23.64,23.64,23.06,23.35,119500,23.35,1,23.64,23.64,23.06,23.35]
[958,"2010-01-22",23.99,24.04,22.77,23.34,892700,23.34,1,23.99,24.04,22.77,23.34]
[959,"2010-01-21",24.53,24.72,23.9,23.98,203300,23.98,1,24.53,24.72,23.9,23.98]
[960,"2010-01-20",24.51,24.8,24.25,24.51,589800,24.51,1,24.51,24.8,24.25,24.51]
[961,"2010-01-19",24.4,24.9,24.23,24.55,679300,24.55,1,{"$f":"ROUND($I976*C976,2)","v":24.4},{"$f":"ROUND($I976*D976,2)","v":24.9},{"$f":"ROUND($I976*E976,2)","v":24.23},{"$f":"ROUND($I976*F976,2)","v":24.55}]
[962,"2010-01-15",24.44,24.5,24.1,24.36,202100,24.36,1,24.44,24.5,24.1,24.36]
[963,"2010-01-14",24.18,24.2,23.93,24.2,201500,24.2,{"$f":"H978/F978","v":1},24.18,24.2,23.93,24.2]
[964,"2010-01-13",23.95,24.4,23.81,24.3,596300,24.3,1,23.95,24.4,23.81,24.3]
[965,"2010-01-12",23.85,24,23.56,23.95,517700,23.95,1,23.85,24,23.56,23.95]
[966,"2010-01-11",23.85,24.08,23.76,24,253500,24,1,23.85,24.08,23.76,24]
[967,"2010-01-08",23.64,24.15,23.32,23.87,967300,23.87,1,23.64,24.15,23.32,23.87]
[968,"2010-01-07",23.55,23.78,23.4,23.74,360700,23.74,1,23.55,23.78,23.4,23.74]
[969,"2010-01-06",23.6,23.9,23.41,23.58,968100,23.58,1,23.6,23.9,23.41,23.58]
[970,"2010-01-05",23,23.26,22.96,23.26,283600,23.26,1,23,23.26,22.96,23.26]
[971,"2010-01-04",22.55,23.4,22.4,23.08,437200,23.08,1,22.55,23.4,22.4,23.08]
[972,"2009-12-31",22.8,22.84,22.38,22.43,156700,22.43,1,22.8,22.84,22.38,22.43]
[973,"2009-12-30",22.52,22.8,22.52,22.61,173300,22.61,1,22.52,22.8,22.52,22.61]
[974,"2009-12-29",22.69,22.8,22.53,22.61,123500,22.61,1,22.69,22.8,22.53,22.61]
[975,"2009-12-28",22.15,22.68,22.15,22.62,804300,22.62,1,22.15,22.68,22.15,22.62]
[976,"2009-12-24",22.46,22.6,22.1,22.15,254300,22.15,1,22.46,22.6,22.1,22.15]
[977,"2009-12-23",23.22,23.25,22.4,22.41,1103000,22.41,1,23.22,23.25,22.4,22.41]
[978,"2009-12-22",22.58,22.61,22.3,22.4,766100,22.4,1,22.58,22.61,22.3,22.4]
[979,"2009-12-21",22.5,22.61,22.17,22.6,536400,22.6,1,22.5,22.61,22.17,22.6]
[980,"2009-12-18",22.61,22.61,22.11,22.57,2105100,22.57,1,22.61,22.61,22.11,22.57]
[981,"2009-12-17",22.75,22.75,22.08,22.44,634000,22.44,1,22.75,22.75,22.08,22.44]
[982,"2009-12-16",22.84,23.05,22.55,22.73,585400,22.73,1,22.84,23.05,22.55,22.73]
[983,"2009-12-15",22.8,22.89,22.52,22.69,700100,22.69,1,22.8,22.89,22.52,22.69]
[984,"2009-12-14",23.29,23.33,22.75,22.8,489100,22.8,1,23.29,23.33,22.75,22.8]
[985,"2009-12-11",23.6,23.74,23.11,23.34,600300,23.34,1,23.6,23.74,23.11,23.34]
[986,"2009-12-10",24.77,24.77,23.39,23.7,848400,23.7,1,24.77,24.77,23.39,23.7]
[987,"2009-12-09",23.63,24.12,23.5,24,609400,24,1,23.63,24.12,23.5,24]
[988,"2009-12-08",23.5,23.75,23,23.63,652900,23.63,1,23.5,23.75,23,23.63]
[989,"2009-12-07",23.77,23.77,23.28,23.63,271500,23.63,1,23.77,23.77,23.28,23.63]
[990,"2009-12-04",23.47,23.98,23.3,23.85,318100,23.85,1,23.47,23.98,23.3,23.85]
[991,"2009-12-03",23.82,23.82,23,23.31,410000,23.31,1,23.82,23.82,23,23.31]
[992,"2009-12-02",23.29,23.75,23.25,23.6,571300,23.6,1,23.29,23.75,23.25,23.6]
[993,"2009-12-01",23.44,23.57,23,23.31,803500,23.31,1,23.44,23.57,23,23.31]
[994,"2009-11-30",23.12,23.12,22.62,23,853000,23,1,23.12,23.12,22.62,23]
[995,"2009-11-27",22.74,23.3,22.74,23.15,141400,23.15,1,22.74,23.3,22.74,23.15]
[996,"2009-11-25",23,23.8,22.99,23.74,362600,23.74,1,23,23.8,22.99,23.74]
[997,"2009-11-24",23.6,23.65,23.25,23.5,633100,23.5,1,23.6,23.65,23.25,23.5]
[998,"2009-11-23",23.7,23.98,23.18,23.4,741100,23.4,1,23.7,23.98,23.18,23.4]
[999,"2009-11-20",22.5,23.33,22.5,23.21,1080900,23.21,1,22.5,23.33,22.5,23.21]
[1000,"2009-11-19",22.27,23.14,22.27,22.87,1031500,22.87,1,22.27,23.14,22.27,22.87]
[1001,"2009-11-18",23,23.02,22.5,22.55,918300,22.55,1,23,23.02,22.5,22.55]
[1002,"2009-11-17",23.03,23.17,22.5,23.04,1328000,23.04,1,23.03,23.17,22.5,23.04]
[1003,"2009-11-16",22.9,23.1,22.13,23.1,2080000,23.1,1,22.9,23.1,22.13,23.1]
[1004,"2009-11-13",22,23.1,21.75,22.73,22079100,22.73,1,22,23.1,21.75,22.73]

{"sheet":"CalculationsAndCharts","index":2,"n_rows":873,"n_cols":47,"rows_kept":873,"cut":false,"hidden":false,"merged":[[30,10,31,10],[30,25,30,26],[30,27,30,28],[30,16,31,16],[30,17,31,17],[30,19,31,19],[30,20,31,20],[30,21,31,21],[30,23,30,24],[30,12,31,12],[22,3,22,5],[25,3,26,3],[28,4,28,5],[30,0,31,0],[30,8,30,9],[30,34,31,34],[30,35,31,35],[30,36,31,36],[30,37,31,37],[30,38,31,38],[30,29,31,29],[30,30,31,30],[30,31,31,31],[30,32,31,32],[30,33,31,33],[30,44,31,44],[30,45,31,45],[30,46,31,46],[29,36,29,37],[29,45,29,46],[30,39,31,39],[30,40,31,40],[30,41,31,41],[30,43,31,43]]}
["EhlersPredictiveIndicators.xlsm"]
[{"$f":"InputPriceData!A1&B3","v":"Dollar General Co (DG) -NYSE"},null,null,null,null,null,null,null,null,null,null,null,null,null,null,null,null,null,"Chart Controls"]
[]
["User Charting Controls"]
["Data Control",null,null,null,null,null,null,null,null,null,null,null,null,null,null,null,null,null,true]
[{"$f":"InputPriceData!$B$10","v":1004}," Available Input Data Rows",null,null,"Earliest: ",{"$f":"OFFSET(InputPriceData!B15,CalculationsAndCharts!A6,0,1,1)","v":"2009-11-13"}]
[null,"Use Close Adjusted:",true,null,"Latest: ",{"$f":"OFFSET(InputPriceData!B15,1,0,1,1)","v":"2013-11-08"},null,null,null,null,null,null,null,null,null,null,null,null,true]
[{"$f":"MIN(A6-A11,COUNTA(B33:B9983))","v":841}," Logically Available for Calc / Plot"]
[]
["Price Chart Windowing Controls",null,null,null,null,"Y-axis Range"]
[0,"Input Data Offset (Pan)",null,null,"Max High+",{"$f":"CEILING(MAX(OFFSET($E$33,0,0,$A$12,1))+2*F14,0.1)","v":62}]
[245,"Data Points to Plot (Zoom)",null,null,"Min Low-",{"$f":"FLOOR(MIN(OFFSET($F$33,0,0,$A$12,1))-2*F14,0.1)","v":37.6}]
[null,"First: ",{"$f":"OFFSET(B32,A12,0,1,1)","v":"2012-11-20"},null,"White space %:",0.05]
[null,{"$f":"\"Last: \"&OFFSET(InputPriceData!N15,1+A11,0,1,1)","v":"Last: 4:02pm"},{"$f":"B33","v":"2013-11-08"},null,"Allowance:",{"$f":"FLOOR((CEILING(MAX(OFFSET($E$33,0,0,$A$12,1)),1)-FLOOR(MIN(OFFSET($F$33,0,0,$A$12,1)),1))*F13,0.01)","v":1.05}]
["Controls",null,"Intermediate Calculation Values"]
[10,"<=SuperSmoothBars","a1 =",{"$f":"EXP(-1.414*3.14159/A16)","v":0.6413237842233982},"c1 =",{"$f":"1-F17-F18","v":0.2531351772630101}]
[null,null,"b1 =",{"$f":"2*D16*COS(RADIANS(1.414*180/A16))","v":1.1581610189476097},"c2 =",{"$f":"D17","v":1.1581610189476097}]
[null,null,null,null,"c3 =",{"$f":"-(D16^2)","v":-0.4112961962106198}]
[48,"<=HiPassBars","Alpha1 =",{"$f":" (COS(RADIANS(0.707*360 / A19)) + SIN(RADIANS(0.707*360 / A19)) - 1) / COS(RADIANS(0.707*360 / A19))","v":8.8513479524936864E-2},"1-Alpha1 =",{"$f":"1-D19","v":0.91148652047506318}]
[null,null,"2*(1-Alpha1) =",{"$f":"F19*2","v":1.8229730409501264},"(1-Alpha1)^2 =",{"$f":"F19^2","v":0.83080767700773772}]
[null,null,"(1-Alpha1/2)^2 =",{"$f":"(1-D19/2)^2","v":0.91344517948946591}]
[20,"<=StochLen"]
["Help! I would like to plot data"]
["From","2011-10-12",{"$f":"OFFSET(InputPriceData!$A$15,MATCH(B24,OFFSET(InputPriceData!B15,1,0,InputPriceData!$B$10,1),0),0,1,1)-C25","v":245},null,209]
["To","2012-10-01",{"$f":"OFFSET(InputPriceData!$A$15,MATCH(B25,OFFSET(InputPriceData!$B$15,1,0,InputPriceData!$B$10,1),0),0,1,1)-1","v":278},null,{"$f":"$A$12-$E$24+1","v":37}]
[null,null,null,"Date at Cursor"]
[]
[null,null,null,{"$f":"OFFSET($B$32,B28,0,1,1)","v":"Date"},null,null,null,"@ Scroll Bar =>",{"$f":"OFFSET(A32,$E$25,0,1,1)&\"(RR)\"","v":"37(RR)"},{"$f":"TEXT(OFFSET(D32,$E$25,0,1,1),\"#,##0.00\")&\"(o)\"","v":"58.10(o)"},{"$f":"TEXT(OFFSET(E32,$E$25,0,1,1),\"#,##0.00\")&\"(h)\"","v":"58.71(h)"},{"$f":"TEXT(OFFSET(F32,$E$25,0,1,1),\"#,##0.00\")&\"(l)\"","v":"57.69(l)"},{"$f":"TEXT(OFFSET(G32,$E$25,0,1,1),\"#,##0.00\")&\"(c)\"","v":"58.49(c)"}]
[null,null,null,{"$f":"OFFSET($B$32,E25,0,1,1)","v":"2013-09-19"},"Scroll Price => "]
[null,null,null,null,null,null,null,null,null,null,null,null,null,null,null,null,null,null,null,null,null,null,null,null,null,null,null,"Buy2","Sell2",null,null,null,null,null,null,null,"For Charting",null,null,null,null,null,null,null,null,"For Charting"]
["Rel Row",null,null,"Price Sources",null,null,null,"$Cursor","Indicator Cursor",null,{"$f":"\"Super Smooth(\"&$A$16&\")\"","v":"Super Smooth(10)"},"Display",{"$f":"\"HiPass (\"&$A$19&\")\"","v":"HiPass (48)"},null,null,null,{"$f":"\"Stoch(\"&$A$22&\")\"","v":"Stoch(20)"},{"$f":"\"MyStoch (\"&$A$22&\")\"","v":"MyStoch (20)"},null,"HiClose","LowClose",{"$f":"\"Conv. Stch(\"&$A$22&\")\"","v":"Conv. Stch(20)"},"Display ","Decision Levels",null,"Price Chart",null,"Indicator Chart",null,"Long Signal","Long Entry","Long Active","Long Exit Sig","Exit Long","Long Entry","Long Exit","Long Entry","Long Exit","Short Signal","Short Entry","Short Active","Short Exit Sig",null,"Short Entry","Short Exit","Short Entry","Short Exit"]
[null,"Date","Volume","Open","High","Low","Close",{"$f":"$F$11","v":62},1.2,0,null,"SuperSM",null,"Roofing","HiR","LowR",null,null,null,null,null,null,"Conv stch",0.2,0.8,"Buy","Sell","Buy Signal","Sell Signal",null,null,null,null,null,null,null,null,null,null,null,null,null,"Exit Short"]
[1,{"$f":"OFFSET(InputPriceData!B$15,CalculationsAndCharts!$A33+$A$11,0,1,1)","v":"2013-11-08"},{"$f":"OFFSET(InputPriceData!G$15,CalculationsAndCharts!$A33+$A$11,0,1,1)","v":1920765},{"$f":"OFFSET(InputPriceData!C$15,CalculationsAndCharts!$A33+$A$11,IF($C$7,7,0),1,1)","v":57.19},{"$f":"OFFSET(InputPriceData!D$15,CalculationsAndCharts!$A33+$A$11,IF($C$7,7,0),1,1)","v":57.41},{"$f":"OFFSET(InputPriceData!E$15,CalculationsAndCharts!$A33+$A$11,IF($C$7,7,0),1,1)","v":56.81},{"$f":"OFFSET(InputPriceData!F$15,CalculationsAndCharts!$A33+$A$11,IF($C$7,7,0),1,1)","v":57.28},{"$f":"IF($A33=$E$25,H$32,NA())","v":{"$error":"#N/A"}},{"$f":"IF($A33=$E$25,I$32,NA())","v":{"$error":"#N/A"}},{"$error":"#N/A"},{"$f":"$F$16*(G33+G34)/2+$F$17*K34+$F$18*K35","v":57.592631932242128},{"$f":"IF($S$5,K33,NA())","v":57.592631932242128},{"$f":"$D$21*(G33 - 2*G34 + G35) + $D$20*M34 - $F$20*M35","v":-1.0375478565102152},{"$f":"$F$16*(M33+M34)/2+$F$17*N34+$F$18*N35","v":-1.01053437294693},{"$f":"MAX(OFFSET(N33,0,0,$A$22,1))","v":0.8123319952324134},{"$f":"MIN(OFFSET(N33,0,0,$A$22,1))","v":-1.1388603197257099},{"$f":"IFERROR(IF($A33>$A$8,0,(N33-P33)/(O33-P33)),1)","v":6.5767964436418955E-2},{"$f":"IF($A33>$A$8,0,$F$16*(Q33+Q34)/2+$F$17*R34+$F$18*R35)","v":1.0203206538282463E-2},null,{"$f":"MAX(OFFSET(G33,0,0,$A$22,1))","v":59.75},{"$f":"MIN(OFFSET(G33,0,0,$A$22,1))","v":56.75},{"$f":"IFERROR(IF($A33>$A$8,0,(G33-U33)/(T33-U33)),1)","v":0.17666666666666705},{"$f":"IF($S$18,V33,NA())","v":{"$error":"#N/A"}},{"$f":"$X$32","v":0.2},{"$f":"$Y$32","v":0.8},{"$f":"IF($S$7,AI33,NA())","v":{"$error":"#N/A"}},{"$f":"IF($S$7,AJ33,NA())","v":{"$error":"#N/A"}},{"$f":"IF($S$7,IF(AD33,R33,NA()),NA())","v":{"$error":"#N/A"}},{"$f":"IF($S$7,IF(AG33,R33,NA()),NA())","v":{"$error":"#N/A"}},{"$f":"IF(AND(R34>$X$32,R33<$X$32),TRUE,FALSE)","v":false},{"$f":"AND(AD34,NOT(AF34))","v":false},{"$f":"IF(AF34,IF(AH34,FALSE,AF34),IF(AE33,TRUE,AF34))","v":true},{"$f":"IF(AND(AF33,R34<$Y$32,R33>$Y$32),TRUE,FALSE)","v":false},{"$f":"AND(AG34,AF34)","v":false},{"$f":"IF(AE33,D33,NA())","v":{"$error":"#N/A"}},{"$f":"IF(AH33,D33,NA())","v":{"$error":"#N/A"}},{"$f":"IF($S$7,AI33,NA())","v":{"$error":"#N/A"}},{"$f":"IF($S$7,AJ33,NA())","v":{"$error":"#N/A"}},{"$f":"IF(AND(R34<$Y$32,R33>$Y$32),TRUE,FALSE)","v":false},{"$f":"AND(AM34,NOT(AO34))","v":false},{"$f":"IF(AO34,IF(AP34,FALSE,AO34),IF(AN33,TRUE,AO34))","v":false},{"$f":"IF(AND(AO34,R34>$X$32,R33<$X$32),TRUE,FALSE)","v":false},{"$f":"AND(AP34,AO34)","v":false},{"$f":"IF(AN33,D33,NA())","v":{"$error":"#N/A"}},{"$f":"IF(AQ33,D33,NA())","v":{"$error":"#N/A"}},{"$f":"IF($S$5,AR33,NA())","v":{"$error":"#N/A"}},{"$f":"IF($S$5,AS33,NA())","v":{"$error":"#N/A"}}]
[2,{"$f":"OFFSET(InputPriceData!B$15,CalculationsAndCharts!$A34+$A$11,0,1,1)","v":"2013-11-07"},{"$f":"OFFSET(InputPriceData!G$15,CalculationsAndCharts!$A34+$A$11,0,1,1)","v":2247800},{"$f":"OFFSET(InputPriceData!C$15,CalculationsAndCharts!$A34+$A$11,IF($C$7,7,0),1,1)","v":58.09},{"$f":"OFFSET(InputPriceData!D$15,CalculationsAndCharts!$A34+$A$11,IF($C$7,7,0),1,1)","v":58.59},{"$f":"OFFSET(InputPriceData!E$15,CalculationsAndCharts!$A34+$A$11,IF($C$7,7,0),1,1)","v":56.95},{"$f":"OFFSET(InputPriceData!F$15,CalculationsAndCharts!$A34+$A$11,IF($C$7,7,0),1,1)","v":57.22},{"$error":"#N/A"},{"$error":"#N/A"},{"$error":"#N/A"},57.750236778994946,{"$f":"IF($S$5,K34,NA())","v":57.750236778994946},-1.2821970432599983,{"$f":"$F$16*(M34+M35)/2+$F$17*N35+$F$18*N36","v":-0.99289264407719147},{"$f":"MAX(OFFSET(N34,0,0,$A$22,1))","v":0.8123319952324134},{"$f":"MIN(OFFSET(N34,0,0,$A$22,1))","v":-1.1388603197257099},7.4809476508035141E-2,1.2278201627397817E-2,null,59.75,56.75,0.15666666666666629,{"$f":"IF($S$18,V34,NA())","v":{"$error":"#N/A"}},{"$f":"$X$32","v":0.2},{"$f":"$Y$32","v":0.8},{"$error":"#N/A"},{"$error":"#N/A"},{"$error":"#N/A"},{"$error":"#N/A"},false,false,{"$f":"IF(AF35,IF(AH35,FALSE,AF35),IF(AE34,TRUE,AF35))","v":true},false,false,{"$error":"#N/A"},{"$error":"#N/A"},{"$error":"#N/A"},{"$error":"#N/A"},false,false,{"$f":"IF(AO35,IF(AP35,FALSE,AO35),IF(AN34,TRUE,AO35))","v":false},false,false,{"$error":"#N/A"},{"$error":"#N/A"},{"$f":"IF($S$5,AR34,NA())","v":{"$error":"#N/A"}},{"$error":"#N/A"}]
[3,{"$f":"OFFSET(InputPriceData!B$15,CalculationsAndCharts!$A35+$A$11,0,1,1)","v":"2013-11-06"},{"$f":"OFFSET(InputPriceData!G$15,CalculationsAndCharts!$A35+$A$11,0,1,1)","v":1629700},{"$f":"OFFSET(InputPriceData!C$15,CalculationsAndCharts!$A35+$A$11,IF($C$7,7,0),1,1)","v":58.11},{"$f":"OFFSET(InputPriceData!D$15,CalculationsAndCharts!$A35+$A$11,IF($C$7,7,0),1,1)","v":58.59},{"$f":"OFFSET(InputPriceData!E$15,CalculationsAndCharts!$A35+$A$11,IF($C$7,7,0),1,1)","v":57.89},{"$f":"OFFSET(InputPriceData!F$15,CalculationsAndCharts!$A35+$A$11,IF($C$7,7,0),1,1)","v":58.01},{"$error":"#N/A"},{"$error":"#N/A"},{"$error":"#N/A"},57.825553111394463,57.825553111394463,-0.63003075014652521,-1.0527685537006781,0.8123319952324134,-1.1388603197257099,4.4122645095022055E-2,5.3026203224373569E-2,null,59.75,56.75,0.41999999999999932,{"$error":"#N/A"},0.2,0.8,58.11,{"$error":"#N/A"},{"$error":"#N/A"},{"$error":"#N/A"},false,true,true,false,false,58.11,{"$error":"#N/A"},58.11,{"$error":"#N/A"},false,false,false,false,true,{"$error":"#N/A"},58.11,{"$error":"#N/A"},58.11]
[4,{"$f":"OFFSET(InputPriceData!B$15,CalculationsAndCharts!$A36+$A$11,0,1,1)","v":"2013-11-05"},{"$f":"OFFSET(InputPriceData!G$15,CalculationsAndCharts!$A36+$A$11,0,1,1)","v":2864800},{"$f":"OFFSET(InputPriceData!C$15,CalculationsAndCharts!$A36+$A$11,IF($C$7,7,0),1,1)","v":57.41},{"$f":"OFFSET(InputPriceData!D$15,CalculationsAndCharts!$A36+$A$11,IF($C$7,7,0),1,1)","v":58.4},{"$f":"OFFSET(InputPriceData!E$15,CalculationsAndCharts!$A36+$A$11,IF($C$7,7,0),1,1)","v":57.2},{"$f":"OFFSET(InputPriceData!F$15,CalculationsAndCharts!$A36+$A$11,IF($C$7,7,0),1,1)","v":58.11},{"$error":"#N/A"},{"$error":"#N/A"},{"$error":"#N/A"},57.87908614531564,57.87908614531564,-0.5977426747704524,-1.1388603197257099,0.8123319952324134,-1.1388603197257099,0,0.15606181716089559,null,59.75,56.7,0.46229508196721242,{"$error":"#N/A"},0.2,0.8,{"$error":"#N/A"},{"$error":"#N/A"},0.15606181716089559,{"$error":"#N/A"},true,false,false,false,false,{"$error":"#N/A"},{"$error":"#N/A"},{"$error":"#N/A"},{"$error":"#N/A"},false,false,true,true,false,{"$error":"#N/A"},{"$error":"#N/A"},{"$error":"#N/A"},{"$error":"#N/A"}]
[5,{"$f":"OFFSET(InputPriceData!B$15,CalculationsAndCharts!$A37+$A$11,0,1,1)","v":"2013-11-04"},{"$f":"OFFSET(InputPriceData!G$15,CalculationsAndCharts!$A37+$A$11,0,1,1)","v":2516900},{"$f":"OFFSET(InputPriceData!C$15,CalculationsAndCharts!$A37+$A$11,IF($C$7,7,0),1,1)","v":57.99},{"$f":"OFFSET(InputPriceData!D$15,CalculationsAndCharts!$A37+$A$11,IF($C$7,7,0),1,1)","v":58.23},{"$f":"OFFSET(InputPriceData!E$15,CalculationsAndCharts!$A37+$A$11,IF($C$7,7,0),1,1)","v":57.47},{"$f":"OFFSET(InputPriceData!F$15,CalculationsAndCharts!$A37+$A$11,IF($C$7,7,0),1,1)","v":57.53},{"$error":"#N/A"},{"$error":"#N/A"},{"$error":"#N/A"},58.120587757806049,58.120587757806049,-1.3008795938559909,-1.0250797364377626,0.8123319952324134,-1.0250797364377626,0,0.32410464278391382,null,59.75,56.35,0.34705882352941181,{"$error":"#N/A"},0.2,0.8,{"$error":"#N/A"},{"$error":"#N/A"},{"$error":"#N/A"},{"$error":"#N/A"},false,false,false,false,false,{"$error":"#N/A"},{"$error":"#N/A"},{"$error":"#N/A"},{"$error":"#N/A"},false,false,true,false,false,{"$error":"#N/A"},{"$error":"#N/A"},{"$error":"#N/A"},{"$error":"#N/A"}]
[6,{"$f":"OFFSET(InputPriceData!B$15,CalculationsAndCharts!$A38+$A$11,0,1,1)","v":"2013-11-01"},{"$f":"OFFSET(InputPriceData!G$15,CalculationsAndCharts!$A38+$A$11,0,1,1)","v":2128200},{"$f":"OFFSET(InputPriceData!C$15,CalculationsAndCharts!$A38+$A$11,IF($C$7,7,0),1,1)","v":57.83},{"$f":"OFFSET(InputPriceData!D$15,CalculationsAndCharts!$A38+$A$11,IF($C$7,7,0),1,1)","v":58.14},{"$f":"OFFSET(InputPriceData!E$15,CalculationsAndCharts!$A38+$A$11,IF($C$7,7,0),1,1)","v":57.5},{"$f":"OFFSET(InputPriceData!F$15,CalculationsAndCharts!$A38+$A$11,IF($C$7,7,0),1,1)","v":57.77},{"$error":"#N/A"},{"$error":"#N/A"},{"$error":"#N/A"},58.522760884275698,58.522760884275698,-1.2333789582450654,-0.70180837374899596,0.8123319952324134,-0.78252553475295383,5.0610891246629687E-2,0.53320100742937671,null,59.75,56.35,0.41764705882353009,{"$error":"#N/A"},0.2,0.8,{"$error":"#N/A"},{"$error":"#N/A"},{"$error":"#N/A"},{"$error":"#N/A"},false,false,false,false,false,{"$error":"#N/A"},{"$error":"#N/A"},{"$error":"#N/A"},{"$error":"#N/A"},false,false,true,false,false,{"$error":"#N/A"},{"$error":"#N/A"},{"$error":"#N/A"},{"$error":"#N/A"}]
[7,{"$f":"OFFSET(InputPriceData!B$15,CalculationsAndCharts!$A39+$A$11,0,1,1)","v":"2013-10-31"},{"$f":"OFFSET(InputPriceData!G$15,CalculationsAndCharts!$A39+$A$11,0,1,1)","v":2837700},{"$f":"OFFSET(InputPriceData!C$15,CalculationsAndCharts!$A39+$A$11,IF($C$7,7,0),1,1)","v":58.5},{"$f":"OFFSET(InputPriceData!D$15,CalculationsAndCharts!$A39+$A$11,IF($C$7,7,0),1,1)","v":58.79},{"$f":"OFFSET(InputPriceData!E$15,CalculationsAndCharts!$A39+$A$11,IF($C$7,7,0),1,1)","v":57.7},{"$f":"OFFSET(InputPriceData!F$15,CalculationsAndCharts!$A39+$A$11,IF($C$7,7,0),1,1)","v":57.78},{"$error":"#N/A"},{"$error":"#N/A"},{"$error":"#N/A"},58.96343270908271,58.96343270908271,-1.3933782987560357,-0.26375726232582808,0.8123319952324134,-0.78252553475295383,0.32527562034452406,0.72899696255498858,null,59.75,56.35,0.42058823529411776,{"$error":"#N/A"},0.2,0.8,{"$error":"#N/A"},{"$error":"#N/A"},{"$error":"#N/A"},{"$error":"#N/A"},false,false,false,false,false,{"$error":"#N/A"},{"$error":"#N/A"},{"$error":"#N/A"},{"$error":"#N/A"},false,false,true,false,false,{"$error":"#N/A"},{"$error":"#N/A"},{"$error":"#N/A"},{"$error":"#N/A"}]
[8,{"$f":"OFFSET(InputPriceData!B$15,CalculationsAndCharts!$A40+$A$11,0,1,1)","v":"2013-10-30"},{"$f":"OFFSET(InputPriceData!G$15,CalculationsAndCharts!$A40+$A$11,0,1,1)","v":1879600},{"$f":"OFFSET(InputPriceData!C$15,CalculationsAndCharts!$A40+$A$11,IF($C$7,7,0),1,1)","v":59.48},{"$f":"OFFSET(InputPriceData!D$15,CalculationsAndCharts!$A40+$A$11,IF($C$7,7,0),1,1)","v":59.52},{"$f":"OFFSET(InputPriceData!E$15,CalculationsAndCharts!$A40+$A$11,IF($C$7,7,0),1,1)","v":58.13},{"$f":"OFFSET(InputPriceData!F$15,CalculationsAndCharts!$A40+$A$11,IF($C$7,7,0),1,1)","v":58.57},{"$error":"#N/A"},{"$error":"#N/A"},{"$error":"#N/A"},59.303425399548999,59.303425399548999,-0.71523758467246279,0.15529601953147798,0.8123319952324134,{"$f":"MIN(OFFSET(N40,0,0,$A$22,1))","v":-0.78252553475295383},0.58802842050288728,0.87204771210806764,null,59.75,56.35,0.65294117647058814,{"$error":"#N/A"},0.2,0.8,{"$error":"#N/A"},{"$error":"#N/A"},{"$error":"#N/A"},{"$error":"#N/A"},false,false,false,false,false,{"$error":"#N/A"},{"$error":"#N/A"},{"$error":"#N/A"},{"$error":"#N/A"},false,false,true,false,false,{"$error":"#N/A"},{"$error":"#N/A"},{"$error":"#N/A"},{"$error":"#N/A"}]
[9,{"$f":"OFFSET(InputPriceData!B$15,CalculationsAndCharts!$A41+$A$11,0,1,1)","v":"2013-10-29"},{"$f":"OFFSET(InputPriceData!G$15,CalculationsAndCharts!$A41+$A$11,0,1,1)","v":1755800},{"$f":"OFFSET(InputPriceData!C$15,CalculationsAndCharts!$A41+$A$11,IF($C$7,7,0),1,1)","v":59.46},{"$f":"OFFSET(InputPriceData!D$15,CalculationsAndCharts!$A41+$A$11,IF($C$7,7,0),1,1)","v":59.71},{"$f":"OFFSET(InputPriceData!E$15,CalculationsAndCharts!$A41+$A$11,IF($C$7,7,0),1,1)","v":59.17},{"$f":"OFFSET(InputPriceData!F$15,CalculationsAndCharts!$A41+$A$11,IF($C$7,7,0),1,1)","v":59.34},{"$error":"#N/A"},{"$error":"#N/A"},{"$error":"#N/A"},59.43556502890636,59.43556502890636,8.5760594666969503E-2,0.4296967306227506,0.8123319952324134,-0.78252553475295383,0.76008185219329683,0.96419416970588978,null,59.75,56.35,0.87941176470588334,{"$error":"#N/A"},0.2,0.8,{"$error":"#N/A"},{"$error":"#N/A"},{"$error":"#N/A"},{"$error":"#N/A"},false,false,false,false,false,{"$error":"#N/A"},{"$error":"#N/A"},{"$error":"#N/A"},{"$error":"#N/A"},false,false,true,false,false,{"$error":"#N/A"},{"$error":"#N/A"},{"$error":"#N/A"},{"$error":"#N/A"}]
[10,{"$f":"OFFSET(InputPriceData!B$15,CalculationsAndCharts!$A42+$A$11,0,1,1)","v":"2013-10-28"},{"$f":"OFFSET(InputPriceData!G$15,CalculationsAndCharts!$A42+$A$11,0,1,1)","v":1678900},{"$f":"OFFSET(InputPriceData!C$15,CalculationsAndCharts!$A42+$A$11,IF($C$7,7,0),1,1)","v":59.4},{"$f":"OFFSET(InputPriceData!D$15,CalculationsAndCharts!$A42+$A$11,IF($C$7,7,0),1,1)","v":59.57},{"$f":"OFFSET(InputPriceData!E$15,CalculationsAndCharts!$A42+$A$11,IF($C$7,7,0),1,1)","v":58.97},{"$f":"OFFSET(InputPriceData!F$15,CalculationsAndCharts!$A42+$A$11,IF($C$7,7,0),1,1)","v":59.17},{"$error":"#N/A"},{"$error":"#N/A"},{"$error":"#N/A"},59.461073933864427,59.461073933864427,1.5573240792256748E-2,0.63868959047335672,0.8123319952324134,-1.0318643392909033,0.90584386189882571,1.0096652003893354,null,59.75,56.35,0.82941176470588274,{"$error":"#N/A"},0.2,0.8,{"$error":"#N/A"},{"$error":"#N/A"},{"$error":"#N/A"},{"$error":"#N/A"},false,false,false,false,false,{"$error":"#N/A"},{"$error":"#N/A"},{"$error":"#N/A"},{"$error":"#N/A"},false,false,true,false,false,{"$error":"#N/A"},{"$error":"#N/A"},{"$error":"#N/A"},{"$error":"#N/A"}]
[11,{"$f":"OFFSET(InputPriceData!B$15,CalculationsAndCharts!$A43+$A$11,0,1,1)","v":"2013-10-25"},{"$f":"OFFSET(InputPriceData!G$15,CalculationsAndCharts!$A43+$A$11,0,1,1)","v":1959800},{"$f":"OFFSET(InputPriceData!C$15,CalculationsAndCharts!$A43+$A$11,IF($C$7,7,0),1,1)","v":59.74},{"$f":"OFFSET(InputPriceData!D$15,CalculationsAndCharts!$A43+$A$11,IF($C$7,7,0),1,1)","v":59.87},{"$f":"OFFSET(InputPriceData!E$15,CalculationsAndCharts!$A43+$A$11,IF($C$7,7,0),1,1)","v":59.27},{"$f":"OFFSET(InputPriceData!F$15,CalculationsAndCharts!$A43+$A$11,IF($C$7,7,0),1,1)","v":59.5},{"$error":"#N/A"},{"$error":"#N/A"},{"$error":"#N/A"},59.396265027131079,59.396265027131079,0.48067874702432839,0.78491908859434278,0.8123319952324134,-1.0318643392909033,0.98513558121502476,1.0114679199021528,null,59.75,56.35,0.92647058823529405,{"$error":"#N/A"},0.2,0.8,{"$error":"#N/A"},{"$error":"#N/A"},{"$error":"#N/A"},{"$error":"#N/A"},false,false,false,false,false,{"$error":"#N/A"},{"$error":"#N/A"},{"$error":"#N/A"},{"$error":"#N/A"},false,false,true,false,false,{"$error":"#N/A"},{"$error":"#N/A"},{"$error":"#N/A"},{"$error":"#N/A"}]
[12,{"$f":"OFFSET(InputPriceData!B$15,CalculationsAndCharts!$A44+$A$11,0,1,1)","v":"2013-10-24"},{"$f":"OFFSET(InputPriceData!G$15,CalculationsAndCharts!$A44+$A$11,0,1,1)","v":1930800},{"$f":"OFFSET(InputPriceData!C$15,CalculationsAndCharts!$A44+$A$11,IF($C$7,7,0),1,1)","v":59.13},{"$f":"OFFSET(InputPriceData!D$15,CalculationsAndCharts!$A44+$A$11,IF($C$7,7,0),1,1)","v":59.84},{"$f":"OFFSET(InputPriceData!E$15,CalculationsAndCharts!$A44+$A$11,IF($C$7,7,0),1,1)","v":58.94},{"$f":"OFFSET(InputPriceData!F$15,CalculationsAndCharts!$A44+$A$11,IF($C$7,7,0),1,1)","v":59.75},{"$error":"#N/A"},{"$error":"#N/A"},{"$error":"#N/A"},59.200986682774442,59.200986682774442,0.94801187305866508,0.81007926036207212,0.8123319952324134,-1.0318643392909033,0.99877847340428438,0.97524418732679408,null,59.75,56.35,1,{"$error":"#N/A"},0.2,0.8,{"$error":"#N/A"},59.13,{"$error":"#N/A"},{"$error":"#N/A"},false,false,true,false,true,{"$error":"#N/A"},59.13,{"$error":"#N/A"},59.13,false,true,true,false,false,59.13,{"$error":"#N/A"},59.13,{"$error":"#N/A"}]
[13,{"$f":"OFFSET(InputPriceData!B$15,CalculationsAndCharts!$A45+$A$11,0,1,1)","v":"2013-10-23"},{"$f":"OFFSET(InputPriceData!G$15,CalculationsAndCharts!$A45+$A$11,0,1,1)","v":1711500},{"$f":"OFFSET(InputPriceData!C$15,CalculationsAndCharts!$A45+$A$11,IF($C$7,7,0),1,1)","v":59.38},{"$f":"OFFSET(InputPriceData!D$15,CalculationsAndCharts!$A45+$A$11,IF($C$7,7,0),1,1)","v":59.43},{"$f":"OFFSET(InputPriceData!E$15,CalculationsAndCharts!$A45+$A$11,IF($C$7,7,0),1,1)","v":58.5},{"$f":"OFFSET(InputPriceData!F$15,CalculationsAndCharts!$A45+$A$11,IF($C$7,7,0),1,1)","v":58.98},{"$error":"#N/A"},{"$error":"#N/A"},{"$error":"#N/A"},58.987161077409873,58.987161077409873,0.38012077370350561,0.8123319952324134,0.8123319952324134,-1.0318643392909033,1,0.89745809263763787,null,59.37,56.35,0.87086092715231755,{"$error":"#N/A"},0.2,0.8,{"$error":"#N/A"},{"$error":"#N/A"},{"$error":"#N/A"},0.89745809263763787,false,false,true,true,false,{"$error":"#N/A"},{"$error":"#N/A"},{"$error":"#N/A"},{"$error":"#N/A"},true,false,false,false,false,{"$error":"#N/A"},{"$error":"#N/A"},{"$error":"#N/A"},{"$error":"#N/A"}]
[14,{"$f":"OFFSET(InputPriceData!B$15,CalculationsAndCharts!$A46+$A$11,0,1,1)","v":"2013-10-22"},{"$f":"OFFSET(InputPriceData!G$15,CalculationsAndCharts!$A46+$A$11,0,1,1)","v":1676100},{"$f":"OFFSET(InputPriceData!C$15,CalculationsAndCharts!$A46+$A$11,IF($C$7,7,0),1,1)","v":58.98},{"$f":"OFFSET(InputPriceData!D$15,CalculationsAndCharts!$A46+$A$11,IF($C$7,7,0),1,1)","v":59.59},{"$f":"OFFSET(InputPriceData!E$15,CalculationsAndCharts!$A46+$A$11,IF($C$7,7,0),1,1)","v":58.96},{"$f":"OFFSET(InputPriceData!F$15,CalculationsAndCharts!$A46+$A$11,IF($C$7,7,0),1,1)","v":59.37},{"$error":"#N/A"},{"$error":"#N/A"},{"$error":"#N/A"},58.699822454279619,58.699822454279619,0.96837629234884903,0.72655798958686069,0.72655798958686069,-1.0318643392909033,1,0.77106806776819714,null,59.37,56.35,1,{"$error":"#N/A"},0.2,0.8,{"$error":"#N/A"},{"$error":"#N/A"},{"$error":"#N/A"},{"$error":"#N/A"},false,false,true,false,false,{"$error":"#N/A"},{"$error":"#N/A"},{"$error":"#N/A"},{"$error":"#N/A"},false,false,false,false,false,{"$error":"#N/A"},{"$error":"#N/A"},{"$error":"#N/A"},{"$error":"#N/A"}]
[15,{"$f":"OFFSET(InputPriceData!B$15,CalculationsAndCharts!$A47+$A$11,0,1,1)","v":"2013-10-21"},{"$f":"OFFSET(InputPriceData!G$15,CalculationsAndCharts!$A47+$A$11,0,1,1)","v":968900},{"$f":"OFFSET(InputPriceData!C$15,CalculationsAndCharts!$A47+$A$11,IF($C$7,7,0),1,1)","v":58.88},{"$f":"OFFSET(InputPriceData!D$15,CalculationsAndCharts!$A47+$A$11,IF($C$7,7,0),1,1)","v":59.04},{"$f":"OFFSET(InputPriceData!E$15,CalculationsAndCharts!$A47+$A$11,IF($C$7,7,0),1,1)","v":58.37},{"$f":"OFFSET(InputPriceData!F$15,CalculationsAndCharts!$A47+$A$11,IF($C$7,7,0),1,1)","v":58.92},{"$error":"#N/A"},{"$error":"#N/A"},{"$error":"#N/A"},58.293656600080041,58.293656600080041,0.74374511342747429,0.48581817697291552,0.48581817697291552,-1.0318643392909033,1,0.60466900973330828,null,58.92,56.35,1,{"$error":"#N/A"},0.2,0.8,{"$error":"#N/A"},{"$error":"#N/A"},{"$error":"#N/A"},{"$error":"#N/A"},false,false,true,false,false,{"$error":"#N/A"},{"$error":"#N/A"},{"$error":"#N/A"},{"$error":"#N/A"},false,false,false,false,false,{"$error":"#N/A"},{"$error":"#N/A"},{"$error":"#N/A"},{"$error":"#N/A"}]
[16,{"$f":"OFFSET(InputPriceData!B$15,CalculationsAndCharts!$A48+$A$11,0,1,1)","v":"2013-10-18"},{"$f":"OFFSET(InputPriceData!G$15,CalculationsAndCharts!$A48+$A$11,0,1,1)","v":2678100},{"$f":"OFFSET(InputPriceData!C$15,CalculationsAndCharts!$A48+$A$11,IF($C$7,7,0),1,1)","v":59.13},{"$f":"OFFSET(InputPriceData!D$15,CalculationsAndCharts!$A48+$A$11,IF($C$7,7,0),1,1)","v":59.13},{"$f":"OFFSET(InputPriceData!E$15,CalculationsAndCharts!$A48+$A$11,IF($C$7,7,0),1,1)","v":57.98},{"$f":"OFFSET(InputPriceData!F$15,CalculationsAndCharts!$A48+$A$11,IF($C$7,7,0),1,1)","v":58.89},{"$error":"#N/A"},{"$error":"#N/A"},{"$error":"#N/A"},57.830095561816727,57.830095561816727,0.9281305354936189,0.12836676716022094,0.35874476129465704,-1.0318643392909033,0.83433303144828541,0.4434059629381874,null,58.89,56.35,1,{"$error":"#N/A"},0.2,0.8,{"$error":"#N/A"},{"$error":"#N/A"},{"$error":"#N/A"},{"$error":"#N/A"},false,false,true,false,false,{"$error":"#N/A"},{"$error":"#N/A"},{"$error":"#N/A"},{"$error":"#N/A"},false,false,false,false,false,{"$error":"#N/A"},{"$error":"#N/A"},{"$error":"#N/A"},{"$error":"#N/A"}]
[17,{"$f":"OFFSET(InputPriceData!B$15,CalculationsAndCharts!$A49+$A$11,0,1,1)","v":"2013-10-17"},{"$f":"OFFSET(InputPriceData!G$15,CalculationsAndCharts!$A49+$A$11,0,1,1)","v":2379500},{"$f":"OFFSET(InputPriceData!C$15,CalculationsAndCharts!$A49+$A$11,IF($C$7,7,0),1,1)","v":57.24},{"$f":"OFFSET(InputPriceData!D$15,CalculationsAndCharts!$A49+$A$11,IF($C$7,7,0),1,1)","v":58.93},{"$f":"OFFSET(InputPriceData!E$15,CalculationsAndCharts!$A49+$A$11,IF($C$7,7,0),1,1)","v":57.1},{"$f":"OFFSET(InputPriceData!F$15,CalculationsAndCharts!$A49+$A$11,IF($C$7,7,0),1,1)","v":58.82},{"$error":"#N/A"},{"$error":"#N/A"},{"$error":"#N/A"},57.364579676848642,57.364579676848642,1.0973346170366798,-0.30523871336670144,0.40284180740561643,-1.0318643392909033,0.50646303258496006,0.34290032815167459,null,58.82,56.35,1,{"$error":"#N/A"},0.2,0.8,{"$error":"#N/A"},{"$error":"#N/A"},{"$error":"#N/A"},{"$error":"#N/A"},false,false,true,false,false,{"$error":"#N/A"},{"$error":"#N/A"},{"$error":"#N/A"},{"$error":"#N/A"},false,false,false,false,false,{"$error":"#N/A"},{"$error":"#N/A"},{"$error":"#N/A"},{"$error":"#N/A"}]
[18,{"$f":"OFFSET(InputPriceData!B$15,CalculationsAndCharts!$A50+$A$11,0,1,1)","v":"2013-10-16"},{"$f":"OFFSET(InputPriceData!G$15,CalculationsAndCharts!$A50+$A$11,0,1,1)","v":2308400},{"$f":"OFFSET(InputPriceData!C$15,CalculationsAndCharts!$A50+$A$11,IF($C$7,7,0),1,1)","v":57.19},{"$f":"OFFSET(InputPriceData!D$15,CalculationsAndCharts!$A50+$A$11,IF($C$7,7,0),1,1)","v":57.66},{"$f":"OFFSET(InputPriceData!E$15,CalculationsAndCharts!$A50+$A$11,IF($C$7,7,0),1,1)","v":57.04},{"$f":"OFFSET(InputPriceData!F$15,CalculationsAndCharts!$A50+$A$11,IF($C$7,7,0),1,1)","v":57.37},{"$error":"#N/A"},{"$error":"#N/A"},{"$error":"#N/A"},57.150043113944051,57.150043113944051,-0.2266149731643996,-0.54832529043586287,0.40284180740561643,-1.0318643392909033,0.33703002525528486,0.30009797396599347,null,58.77,56.35,0.42148760330578317,{"$error":"#N/A"},0.2,0.8,{"$error":"#N/A"},{"$error":"#N/A"},{"$error":"#N/A"},{"$error":"#N/A"},false,false,true,false,false,{"$error":"#N/A"},{"$error":"#N/A"},{"$error":"#N/A"},{"$error":"#N/A"},false,false,false,false,false,{"$error":"#N/A"},{"$error":"#N/A"},{"$error":"#N/A"},{"$error":"#N/A"}]
[19,{"$f":"OFFSET(InputPriceData!B$15,CalculationsAndCharts!$A51+$A$11,0,1,1)","v":"2013-10-15"},{"$f":"OFFSET(InputPriceData!G$15,CalculationsAndCharts!$A51+$A$11,0,1,1)","v":2110800},{"$f":"OFFSET(InputPriceData!C$15,CalculationsAndCharts!$A51+$A$11,IF($C$7,7,0),1,1)","v":57.03},{"$f":"OFFSET(InputPriceData!D$15,CalculationsAndCharts!$A51+$A$11,IF($C$7,7,0),1,1)","v":57.23},{"$f":"OFFSET(InputPriceData!E$15,CalculationsAndCharts!$A51+$A$11,IF($C$7,7,0),1,1)","v":56.44},{"$f":"OFFSET(InputPriceData!F$15,CalculationsAndCharts!$A51+$A$11,IF($C$7,7,0),1,1)","v":56.75},{"$error":"#N/A"},{"$error":"#N/A"},{"$error":"#N/A"},57.210012708071886,57.210012708071886,-0.90549007385706726,-0.53393486262096856,0.40284180740561643,-1.0318643392909033,0.34706025189648865,0.27090046187077083,null,58.77,56.35,0.16528925619834639,{"$error":"#N/A"},0.2,0.8,{"$error":"#N/A"},{"$error":"#N/A"},{"$error":"#N/A"},{"$error":"#N/A"},false,false,true,false,false,{"$error":"#N/A"},{"$error":"#N/A"},{"$error":"#N/A"},{"$error":"#N/A"},false,false,false,false,false,{"$error":"#N/A"},{"$error":"#N/A"},{"$error":"#N/A"},{"$error":"#N/A"}]
[20,{"$f":"OFFSET(InputPriceData!B$15,CalculationsAndCharts!$A52+$A$11,0,1,1)","v":"2013-10-14"},{"$f":"OFFSET(InputPriceData!G$15,CalculationsAndCharts!$A52+$A$11,0,1,1)","v":3449400},{"$f":"OFFSET(InputPriceData!C$15,CalculationsAndCharts!$A52+$A$11,IF($C$7,7,0),1,1)","v":57.52},{"$f":"OFFSET(InputPriceData!D$15,CalculationsAndCharts!$A52+$A$11,IF($C$7,7,0),1,1)","v":57.8},{"$f":"OFFSET(InputPriceData!E$15,CalculationsAndCharts!$A52+$A$11,IF($C$7,7,0),1,1)","v":56.76},{"$f":"OFFSET(InputPriceData!F$15,CalculationsAndCharts!$A52+$A$11,IF($C$7,7,0),1,1)","v":57.05},{"$error":"#N/A"},{"$error":"#N/A"},{"$error":"#N/A"},57.263492659700425,57.263492659700425,-0.70256868267869033,-0.51871391457922078,0.40284180740561643,-1.0318643392909033,0.35766935681793527,0.24369794492742369,null,58.77,56.35,0.28925619834710548,{"$error":"#N/A"},0.2,0.8,{"$error":"#N/A"},{"$error":"#N/A"},{"$error":"#N/A"},{"$error":"#N/A"},false,false,true,false,false,{"$error":"#N/A"},{"$error":"#N/A"},{"$error":"#N/A"},{"$error":"#N/A"},false,false,false,false,false,{"$error":"#N/A"},{"$error":"#N/A"},{"$error":"#N/A"},{"$error":"#N/A"}]
[21,{"$f":"OFFSET(InputPriceData!B$15,CalculationsAndCharts!$A53+$A$11,0,1,1)","v":"2013-10-11"},{"$f":"OFFSET(InputPriceData!G$15,CalculationsAndCharts!$A53+$A$11,0,1,1)","v":2580800},{"$f":"OFFSET(InputPriceData!C$15,CalculationsAndCharts!$A53+$A$11,IF($C$7,7,0),1,1)","v":57.4},{"$f":"OFFSET(InputPriceData!D$15,CalculationsAndCharts!$A53+$A$11,IF($C$7,7,0),1,1)","v":57.95},{"$f":"OFFSET(InputPriceData!E$15,CalculationsAndCharts!$A53+$A$11,IF($C$7,7,0),1,1)","v":57.15},{"$f":"OFFSET(InputPriceData!F$15,CalculationsAndCharts!$A53+$A$11,IF($C$7,7,0),1,1)","v":57.83},{"$error":"#N/A"},{"$f":"IF($A53=$E$25,I$32,NA())","v":{"$error":"#N/A"}},{"$error":"#N/A"},57.169806339297899,57.169806339297899,7.6046471188698117E-2,-0.65730608479654085,0.49680707018675524,-1.0318643392909033,0.24502208399537453,0.24443923012246299,null,58.77,56.35,0.61157024793388259,{"$error":"#N/A"},0.2,0.8,{"$error":"#N/A"},{"$error":"#N/A"},{"$error":"#N/A"},{"$error":"#N/A"},false,false,true,false,false,{"$error":"#N/A"},{"$error":"#N/A"},{"$error":"#N/A"},{"$error":"#N/A"},false,false,false,false,false,{"$error":"#N/A"},{"$error":"#N/A"},{"$error":"#N/A"},{"$error":"#N/A"}]
[22,{"$f":"OFFSET(InputPriceData!B$15,CalculationsAndCharts!$A54+$A$11,0,1,1)","v":"2013-10-10"},{"$f":"OFFSET(InputPriceData!G$15,CalculationsAndCharts!$A54+$A$11,0,1,1)","v":2483900},{"$f":"OFFSET(InputPriceData!C$15,CalculationsAndCharts!$A54+$A$11,IF($C$7,7,0),1,1)","v":57.1},{"$f":"OFFSET(InputPriceData!D$15,CalculationsAndCharts!$A54+$A$11,IF($C$7,7,0),1,1)","v":57.63},{"$f":"OFFSET(InputPriceData!E$15,CalculationsAndCharts!$A54+$A$11,IF($C$7,7,0),1,1)","v":57.04},{"$f":"OFFSET(InputPriceData!F$15,CalculationsAndCharts!$A54+$A$11,IF($C$7,7,0),1,1)","v":57.54},{"$error":"#N/A"},{"$error":"#N/A"},{"$error":"#N/A"},57.108315860080339,57.108315860080339,-0.16392120138940758,-0.78252553475295383,0.85980510134236021,-1.0318643392909033,0.13180886638126357,0.28126505015214237,null,58.77,56.35,0.49173553719008134,{"$error":"#N/A"},0.2,0.8,{"$error":"#N/A"},{"$error":"#N/A"},{"$error":"#N/A"},{"$error":"#N/A"},false,false,true,false,false,{"$error":"#N/A"},{"$error":"#N/A"},{"$error":"#N/A"},{"$error":"#N/A"},false,false,false,false,false,{"$error":"#N/A"},{"$error":"#N/A"},{"$error":"#N/A"},{"$error":"#N/A"}]
[23,{"$f":"OFFSET(InputPriceData!B$15,CalculationsAndCharts!$A55+$A$11,0,1,1)","v":"2013-10-09"},{"$f":"OFFSET(InputPriceData!G$15,CalculationsAndCharts!$A55+$A$11,0,1,1)","v":4153900},{"$f":"OFFSET(InputPriceData!C$15,CalculationsAndCharts!$A55+$A$11,IF($C$7,7,0),1,1)","v":56.35},{"$f":"OFFSET(InputPriceData!D$15,CalculationsAndCharts!$A55+$A$11,IF($C$7,7,0),1,1)","v":56.78},{"$f":"OFFSET(InputPriceData!E$15,CalculationsAndCharts!$A55+$A$11,IF($C$7,7,0),1,1)","v":55.96},{"$f":"OFFSET(InputPriceData!F$15,CalculationsAndCharts!$A55+$A$11,IF($C$7,7,0),1,1)","v":56.7},{"$error":"#N/A"},{"$error":"#N/A"},{"$error":"#N/A"},57.313736098692281,57.313736098692281,-1.055918565943605,-0.63240696360686444,1.2129389097729326,-1.0318643392909033,0.17794761115506538,0.31365612630397388,null,58.77,56.35,0.14462809917355421,{"$error":"#N/A"},0.2,0.8,{"$error":"#N/A"},{"$error":"#N/A"},{"$error":"#N/A"},{"$error":"#N/A"},false,false,true,false,false,{"$error":"#N/A"},{"$error":"#N/A"},{"$error":"#N/A"},{"$error":"#N/A"},false,false,false,false,false,{"$error":"#N/A"},{"$error":"#N/A"},{"$error":"#N/A"},{"$error":"#N/A"}]
[24,{"$f":"OFFSET(InputPriceData!B$15,CalculationsAndCharts!$A56+$A$11,0,1,1)","v":"2013-10-08"},{"$f":"OFFSET(InputPriceData!G$15,CalculationsAndCharts!$A56+$A$11,0,1,1)","v":2762100},{"$f":"OFFSET(InputPriceData!C$15,CalculationsAndCharts!$A56+$A$11,IF($C$7,7,0),1,1)","v":57},{"$f":"OFFSET(InputPriceData!D$15,CalculationsAndCharts!$A56+$A$11,IF($C$7,7,0),1,1)","v":57.28},{"$f":"OFFSET(InputPriceData!E$15,CalculationsAndCharts!$A56+$A$11,IF($C$7,7,0),1,1)","v":56.27},{"$f":"OFFSET(InputPriceData!F$15,CalculationsAndCharts!$A56+$A$11,IF($C$7,7,0),1,1)","v":56.35},{"$error":"#N/A"},{"$error":"#N/A"},{"$error":"#N/A"},57.693945831648719,57.693945831648719,-1.5808733791977665,-0.25357816930133542,1.4436605127567288,-1.0318643392909033,0.3143923880811812,0.29468879174832674,null,58.77,56.35,0,{"$error":"#N/A"},0.2,0.8,{"$error":"#N/A"},{"$error":"#N/A"},{"$error":"#N/A"},{"$error":"#N/A"},false,false,true,false,false,{"$error":"#N/A"},{"$error":"#N/A"},{"$error":"#N/A"},{"$error":"#N/A"},false,false,false,false,false,{"$error":"#N/A"},{"$error":"#N/A"},{"$error":"#N/A"},{"$error":"#N/A"}]
[25,{"$f":"OFFSET(InputPriceData!B$15,CalculationsAndCharts!$A57+$A$11,0,1,1)","v":"2013-10-07"},{"$f":"OFFSET(InputPriceData!G$15,CalculationsAndCharts!$A57+$A$11,0,1,1)","v":2790100},{"$f":"OFFSET(InputPriceData!C$15,CalculationsAndCharts!$A57+$A$11,IF($C$7,7,0),1,1)","v":58.36},{"$f":"OFFSET(InputPriceData!D$15,CalculationsAndCharts!$A57+$A$11,IF($C$7,7,0),1,1)","v":58.36},{"$f":"OFFSET(InputPriceData!E$15,CalculationsAndCharts!$A57+$A$11,IF($C$7,7,0),1,1)","v":57.13},{"$f":"OFFSET(InputPriceData!F$15,CalculationsAndCharts!$A57+$A$11,IF($C$7,7,0),1,1)","v":57.14},{"$error":"#N/A"},{"$error":"#N/A"},{"$error":"#N/A"},57.89892808878588,57.89892808878588,-0.94443455758335537,1.2132897149104149E-2,1.5087156199839327,-1.0318643392909033,0.41092870650605234,0.21871155711785858,null,58.77,56.46,0.29437229437229395,{"$error":"#N/A"},0.2,0.8,{"$error":"#N/A"},{"$error":"#N/A"},{"$error":"#N/A"},{"$error":"#N/A"},false,false,true,false,false,{"$error":"#N/A"},{"$error":"#N/A"},{"$error":"#N/A"},{"$error":"#N/A"},false,false,false,false,false,{"$error":"#N/A"},{"$error":"#N/A"},{"$error":"#N/A"},{"$error":"#N/A"}]
[26,{"$f":"OFFSET(InputPriceData!B$15,CalculationsAndCharts!$A58+$A$11,0,1,1)","v":"2013-10-04"},{"$f":"OFFSET(InputPriceData!G$15,CalculationsAndCharts!$A58+$A$11,0,1,1)","v":2513700},{"$f":"OFFSET(InputPriceData!C$15,CalculationsAndCharts!$A58+$A$11,IF($C$7,7,0),1,1)","v":57.66},{"$f":"OFFSET(InputPriceData!D$15,CalculationsAndCharts!$A58+$A$11,IF($C$7,7,0),1,1)","v":58.82},{"$f":"OFFSET(InputPriceData!E$15,CalculationsAndCharts!$A58+$A$11,IF($C$7,7,0),1,1)","v":57.54},{"$f":"OFFSET(InputPriceData!F$15,CalculationsAndCharts!$A58+$A$11,IF($C$7,7,0),1,1)","v":58.77},{"$error":"#N/A"},{"$error":"#N/A"},{"$error":"#N/A"},57.687115932561099,57.687115932561099,0.75407174234256569,-0.12641040389645319,1.5087156199839327,-1.0318643392909033,0.35639655114531255,0.12257966518747698,null,58.77,56.46,1,{"$error":"#N/A"},0.2,0.8,{"$error":"#N/A"},{"$error":"#N/A"},{"$error":"#N/A"},{"$error":"#N/A"},false,false,true,false,false,{"$error":"#N/A"},{"$error":"#N/A"},{"$error":"#N/A"},{"$error":"#N/A"},false,false,false,false,false,{"$error":"#N/A"},{"$error":"#N/A"},{"$error":"#N/A"},{"$error":"#N/A"}]
[27,{"$f":"OFFSET(InputPriceData!B$15,CalculationsAndCharts!$A59+$A$11,0,1,1)","v":"2013-10-03"},{"$f":"OFFSET(InputPriceData!G$15,CalculationsAndCharts!$A59+$A$11,0,1,1)","v":2609500},{"$f":"OFFSET(InputPriceData!C$15,CalculationsAndCharts!$A59+$A$11,IF($C$7,7,0),1,1)","v":57.9},{"$f":"OFFSET(InputPriceData!D$15,CalculationsAndCharts!$A59+$A$11,IF($C$7,7,0),1,1)","v":58.02},{"$f":"OFFSET(InputPriceData!E$15,CalculationsAndCharts!$A59+$A$11,IF($C$7,7,0),1,1)","v":57.45},{"$f":"OFFSET(InputPriceData!F$15,CalculationsAndCharts!$A59+$A$11,IF($C$7,7,0),1,1)","v":57.75},{"$error":"#N/A"},{"$error":"#N/A"},{"$error":"#N/A"},57.337000184702475,57.337000184702475,-0.12222168095107967,-0.44403586394464978,1.5087156199839327,-1.0318643392909033,0.23137570348859987,4.9535931921127999E-2,null,58.49,56.46,0.63546798029556573,{"$error":"#N/A"},0.2,0.8,{"$error":"#N/A"},{"$error":"#N/A"},{"$error":"#N/A"},{"$error":"#N/A"},false,false,true,false,false,{"$error":"#N/A"},{"$error":"#N/A"},{"$error":"#N/A"},{"$error":"#N/A"},false,false,false,false,false,{"$error":"#N/A"},{"$error":"#N/A"},{"$error":"#N/A"},{"$error":"#N/A"}]
[28,{"$f":"OFFSET(InputPriceData!B$15,CalculationsAndCharts!$A60+$A$11,0,1,1)","v":"2013-10-02"},{"$f":"OFFSET(InputPriceData!G$15,CalculationsAndCharts!$A60+$A$11,0,1,1)","v":2206400},{"$f":"OFFSET(InputPriceData!C$15,CalculationsAndCharts!$A60+$A$11,IF($C$7,7,0),1,1)","v":57.44},{"$f":"OFFSET(InputPriceData!D$15,CalculationsAndCharts!$A60+$A$11,IF($C$7,7,0),1,1)","v":57.94},{"$f":"OFFSET(InputPriceData!E$15,CalculationsAndCharts!$A60+$A$11,IF($C$7,7,0),1,1)","v":57.25},{"$f":"OFFSET(InputPriceData!F$15,CalculationsAndCharts!$A60+$A$11,IF($C$7,7,0),1,1)","v":57.9},{"$error":"#N/A"},{"$error":"#N/A"},{"$error":"#N/A"},57.053817342087733,57.053817342087733,0.11055782319862895,-0.74856730728020804,1.5087156199839327,-1.0318643392909033,0.11150880371880026,2.2329010622870842E-2,null,58.49,56.46,0.70935960591132852,{"$error":"#N/A"},0.2,0.8,{"$error":"#N/A"},{"$error":"#N/A"},{"$error":"#N/A"},{"$error":"#N/A"},false,false,true,false,false,{"$error":"#N/A"},{"$error":"#N/A"},{"$error":"#N/A"},{"$error":"#N/A"},false,false,false,false,false,{"$error":"#N/A"},{"$error":"#N/A"},{"$error":"#N/A"},{"$error":"#N/A"}]
[29,{"$f":"OFFSET(InputPriceData!B$15,CalculationsAndCharts!$A61+$A$11,0,1,1)","v":"2013-10-01"},{"$f":"OFFSET(InputPriceData!G$15,CalculationsAndCharts!$A61+$A$11,0,1,1)","v":3575200},{"$f":"OFFSET(InputPriceData!C$15,CalculationsAndCharts!$A61+$A$11,IF($C$7,7,0),1,1)","v":56.59},{"$f":"OFFSET(InputPriceData!D$15,CalculationsAndCharts!$A61+$A$11,IF($C$7,7,0),1,1)","v":57.98},{"$f":"OFFSET(InputPriceData!E$15,CalculationsAndCharts!$A61+$A$11,IF($C$7,7,0),1,1)","v":56.32},{"$f":"OFFSET(InputPriceData!F$15,CalculationsAndCharts!$A61+$A$11,IF($C$7,7,0),1,1)","v":57.78},{"$error":"#N/A"},{"$error":"#N/A"},{"$error":"#N/A"},56.839934051621022,56.839934051621022,9.2843886474390569E-2,-1.0318643392909033,1.5087156199839327,-1.0318643392909033,0,4.7952602557478741E-2,null,58.49,56.39,0.66190476190476177,{"$error":"#N/A"},0.2,0.8,56.59,{"$error":"#N/A"},{"$error":"#N/A"},{"$error":"#N/A"},false,true,true,false,false,56.59,{"$error":"#N/A"},56.59,{"$error":"#N/A"},false,false,false,false,true,{"$error":"#N/A"},56.59,{"$error":"#N/A"},56.59]
[30,{"$f":"OFFSET(InputPriceData!B$15,CalculationsAndCharts!$A62+$A$11,0,1,1)","v":"2013-09-30"},{"$f":"OFFSET(InputPriceData!G$15,CalculationsAndCharts!$A62+$A$11,0,1,1)","v":1860400},{"$f":"OFFSET(InputPriceData!C$15,CalculationsAndCharts!$A62+$A$11,IF($C$7,7,0),1,1)","v":56.23},{"$f":"OFFSET(InputPriceData!D$15,CalculationsAndCharts!$A62+$A$11,IF($C$7,7,0),1,1)","v":56.76},{"$f":"OFFSET(InputPriceData!E$15,CalculationsAndCharts!$A62+$A$11,IF($C$7,7,0),1,1)","v":55.71},{"$f":"OFFSET(InputPriceData!F$15,CalculationsAndCharts!$A62+$A$11,IF($C$7,7,0),1,1)","v":56.46},{"$error":"#N/A"},{"$error":"#N/A"},{"$error":"#N/A"},56.935409237175094,56.935409237175094,-1.248712746929131,-1.0229943463818083,1.5087156199839327,-1.0229943463818083,0,0.11505388391661231,null,58.49,53.88,0.55965292841648562,{"$error":"#N/A"},0.2,0.8,{"$error":"#N/A"},{"$error":"#N/A"},0.11505388391661231,{"$error":"#N/A"},true,false,false,false,false,{"$error":"#N/A"},{"$error":"#N/A"},{"$error":"#N/A"},{"$error":"#N/A"},false,false,true,true,false,{"$error":"#N/A"},{"$error":"#N/A"},{"$error":"#N/A"},{"$error":"#N/A"}]
[31,{"$f":"OFFSET(InputPriceData!B$15,CalculationsAndCharts!$A63+$A$11,0,1,1)","v":"2013-09-27"},{"$f":"OFFSET(InputPriceData!G$15,CalculationsAndCharts!$A63+$A$11,0,1,1)","v":2568700},{"$f":"OFFSET(InputPriceData!C$15,CalculationsAndCharts!$A63+$A$11,IF($C$7,7,0),1,1)","v":56.7},{"$f":"OFFSET(InputPriceData!D$15,CalculationsAndCharts!$A63+$A$11,IF($C$7,7,0),1,1)","v":57.08},{"$f":"OFFSET(InputPriceData!E$15,CalculationsAndCharts!$A63+$A$11,IF($C$7,7,0),1,1)","v":56.51},{"$f":"OFFSET(InputPriceData!F$15,CalculationsAndCharts!$A63+$A$11,IF($C$7,7,0),1,1)","v":56.59},{"$error":"#N/A"},{"$error":"#N/A"},{"$error":"#N/A"},57.281149368819925,57.281149368819925,-1.2574727926443026,-0.72751309759516769,1.5087156199839327,-0.72751309759516769,0,0.20738903412951754,null,58.49,53.88,0.58785249457700672,{"$error":"#N/A"},0.2,0.8,{"$error":"#N/A"},{"$error":"#N/A"},{"$error":"#N/A"},{"$error":"#N/A"},false,false,false,false,false,{"$error":"#N/A"},{"$error":"#N/A"},{"$error":"#N/A"},{"$error":"#N/A"},false,false,true,false,false,{"$error":"#N/A"},{"$error":"#N/A"},{"$error":"#N/A"},{"$error":"#N/A"}]
[32,{"$f":"OFFSET(InputPriceData!B$15,CalculationsAndCharts!$A64+$A$11,0,1,1)","v":"2013-09-26"},{"$f":"OFFSET(InputPriceData!G$15,CalculationsAndCharts!$A64+$A$11,0,1,1)","v":2741900},{"$f":"OFFSET(InputPriceData!C$15,CalculationsAndCharts!$A64+$A$11,IF($C$7,7,0),1,1)","v":57.15},{"$f":"OFFSET(InputPriceData!D$15,CalculationsAndCharts!$A64+$A$11,IF($C$7,7,0),1,1)","v":57.55},{"$f":"OFFSET(InputPriceData!E$15,CalculationsAndCharts!$A64+$A$11,IF($C$7,7,0),1,1)","v":56.71},{"$f":"OFFSET(InputPriceData!F$15,CalculationsAndCharts!$A64+$A$11,IF($C$7,7,0),1,1)","v":56.75},{"$error":"#N/A"},{"$error":"#N/A"},{"$error":"#N/A"},57.656382907455068,57.656382907455068,-1.2231746606688585,-0.33257011782247048,1.5087156199839327,-0.44382764972846728,5.698082784223496E-2,0.3042479174918255,null,58.49,53.88,0.62255965292841597,{"$error":"#N/A"},0.2,0.8,{"$error":"#N/A"},{"$error":"#N/A"},{"$error":"#N/A"},{"$error":"#N/A"},false,false,false,false,false,{"$error":"#N/A"},{"$error":"#N/A"},{"$error":"#N/A"},{"$error":"#N/A"},false,false,true,false,false,{"$error":"#N/A"},{"$error":"#N/A"},{"$error":"#N/A"},{"$error":"#N/A"}]
[33,{"$f":"OFFSET(InputPriceData!B$15,CalculationsAndCharts!$A65+$A$11,0,1,1)","v":"2013-09-25"},{"$f":"OFFSET(InputPriceData!G$15,CalculationsAndCharts!$A65+$A$11,0,1,1)","v":2844400},{"$f":"OFFSET(InputPriceData!C$15,CalculationsAndCharts!$A65+$A$11,IF($C$7,7,0),1,1)","v":58.09},{"$f":"OFFSET(InputPriceData!D$15,CalculationsAndCharts!$A65+$A$11,IF($C$7,7,0),1,1)","v":58.11},{"$f":"OFFSET(InputPriceData!E$15,CalculationsAndCharts!$A65+$A$11,IF($C$7,7,0),1,1)","v":56.96},{"$f":"OFFSET(InputPriceData!F$15,CalculationsAndCharts!$A65+$A$11,IF($C$7,7,0),1,1)","v":57},{"$error":"#N/A"},{"$error":"#N/A"},{"$error":"#N/A"},57.961626008811166,57.961626008811166,-1.0714050876133157,6.8986255931985346E-2,1.5087156199839327,-0.44382764972846728,0.26263894563319334,0.37002766226845152,null,58.49,53.88,0.6767895878524941,{"$error":"#N/A"},0.2,0.8,{"$error":"#N/A"},{"$error":"#N/A"},{"$error":"#N/A"},{"$error":"#N/A"},false,false,false,false,false,{"$error":"#N/A"},{"$error":"#N/A"},{"$error":"#N/A"},{"$error":"#N/A"},false,false,true,false,false,{"$error":"#N/A"},{"$error":"#N/A"},{"$error":"#N/A"},{"$error":"#N/A"}]
[34,{"$f":"OFFSET(InputPriceData!B$15,CalculationsAndCharts!$A66+$A$11,0,1,1)","v":"2013-09-24"},{"$f":"OFFSET(InputPriceData!G$15,CalculationsAndCharts!$A66+$A$11,0,1,1)","v":1923600},{"$f":"OFFSET(InputPriceData!C$15,CalculationsAndCharts!$A66+$A$11,IF($C$7,7,0),1,1)","v":58.22},{"$f":"OFFSET(InputPriceData!D$15,CalculationsAndCharts!$A66+$A$11,IF($C$7,7,0),1,1)","v":58.29},{"$f":"OFFSET(InputPriceData!E$15,CalculationsAndCharts!$A66+$A$11,IF($C$7,7,0),1,1)","v":58},{"$f":"OFFSET(InputPriceData!F$15,CalculationsAndCharts!$A66+$A$11,IF($C$7,7,0),1,1)","v":58.11},{"$error":"#N/A"},{"$error":"#N/A"},{"$error":"#N/A"},58.035003380824705,58.035003380824705,6.6916719612111181E-2,0.29673963860531138,1.5087156199839327,-0.44382764972846728,0.379283419641123,0.40058041480930445,null,58.49,53.88,0.91757049891540077,{"$error":"#N/A"},0.2,0.8,{"$error":"#N/A"},{"$error":"#N/A"},{"$error":"#N/A"},{"$error":"#N/A"},false,false,false,false,false,{"$error":"#N/A"},{"$error":"#N/A"},{"$error":"#N/A"},{"$error":"#N/A"},false,false,true,false,false,{"$error":"#N/A"},{"$error":"#N/A"},{"$error":"#N/A"},{"$error":"#N/A"}]
[35,{"$f":"OFFSET(InputPriceData!B$15,CalculationsAndCharts!$A67+$A$11,0,1,1)","v":"2013-09-23"},{"$f":"OFFSET(InputPriceData!G$15,CalculationsAndCharts!$A67+$A$11,0,1,1)","v":2416700},{"$f":"OFFSET(InputPriceData!C$15,CalculationsAndCharts!$A67+$A$11,IF($C$7,7,0),1,1)","v":57.68},{"$f":"OFFSET(InputPriceData!D$15,CalculationsAndCharts!$A67+$A$11,IF($C$7,7,0),1,1)","v":58.29},{"$f":"OFFSET(InputPriceData!E$15,CalculationsAndCharts!$A67+$A$11,IF($C$7,7,0),1,1)","v":57.61},{"$f":"OFFSET(InputPriceData!F$15,CalculationsAndCharts!$A67+$A$11,IF($C$7,7,0),1,1)","v":58.19},{"$error":"#N/A"},{"$error":"#N/A"},{"$error":"#N/A"},57.91798705701288,57.91798705701288,0.3039739949087038,0.35874476129465704,1.5087156199839327,-0.44382764972846728,0.41103950087689439,0.42586225351147222,null,58.49,53.88,0.93492407809110534,{"$error":"#N/A"},0.2,0.8,{"$error":"#N/A"},{"$error":"#N/A"},{"$error":"#N/A"},{"$error":"#N/A"},false,false,false,false,false,{"$error":"#N/A"},{"$error":"#N/A"},{"$error":"#N/A"},{"$error":"#N/A"},false,false,true,false,false,{"$error":"#N/A"},{"$error":"#N/A"},{"$error":"#N/A"},{"$error":"#N/A"}]
[36,{"$f":"OFFSET(InputPriceData!B$15,CalculationsAndCharts!$A68+$A$11,0,1,1)","v":"2013-09-20"},{"$f":"OFFSET(InputPriceData!G$15,CalculationsAndCharts!$A68+$A$11,0,1,1)","v":4398300},{"$f":"OFFSET(InputPriceData!C$15,CalculationsAndCharts!$A68+$A$11,IF($C$7,7,0),1,1)","v":58.42},{"$f":"OFFSET(InputPriceData!D$15,CalculationsAndCharts!$A68+$A$11,IF($C$7,7,0),1,1)","v":58.44},{"$f":"OFFSET(InputPriceData!E$15,CalculationsAndCharts!$A68+$A$11,IF($C$7,7,0),1,1)","v":57.65},{"$f":"OFFSET(InputPriceData!F$15,CalculationsAndCharts!$A68+$A$11,IF($C$7,7,0),1,1)","v":57.65},{"$error":"#N/A"},{"$error":"#N/A"},{"$error":"#N/A"},57.776274862982248,57.776274862982248,-9.5228216128247056E-2,0.40284180740561643,1.5087156199839327,-0.44382764972846728,0.43362391516106785,0.46843592212649526,null,58.49,53.88,0.81778741865509685,{"$error":"#N/A"},0.2,0.8,{"$error":"#N/A"},{"$error":"#N/A"},{"$error":"#N/A"},{"$error":"#N/A"},false,false,false,false,false,{"$error":"#N/A"},{"$error":"#N/A"},{"$error":"#N/A"},{"$error":"#N/A"},false,false,true,false,{"$f":"AND(AP69,AO69)","v":false},{"$error":"#N/A"},{"$error":"#N/A"},{"$error":"#N/A"},{"$error":"#N/A"}]
[37,{"$f":"OFFSET(InputPriceData!B$15,CalculationsAndCharts!$A69+$A$11,0,1,1)","v":"2013-09-19"},{"$f":"OFFSET(InputPriceData!G$15,CalculationsAndCharts!$A69+$A$11,0,1,1)","v":3267900},{"$f":"OFFSET(InputPriceData!C$15,CalculationsAndCharts!$A69+$A$11,IF($C$7,7,0),1,1)","v":58.1},{"$f":"OFFSET(InputPriceData!D$15,CalculationsAndCharts!$A69+$A$11,IF($C$7,7,0),1,1)","v":58.71},{"$f":"OFFSET(InputPriceData!E$15,CalculationsAndCharts!$A69+$A$11,IF($C$7,7,0),1,1)","v":57.69},{"$f":"OFFSET(InputPriceData!F$15,CalculationsAndCharts!$A69+$A$11,IF($C$7,7,0),1,1)","v":58.49},62,1.2,0,57.520181305675038,57.520181305675038,0.9424345774791183,0.32636179944984989,1.5087156199839327,-0.44382764972846728,0.39445448463314331,0.54357172568865764,null,58.49,53.88,1,{"$error":"#N/A"},0.2,0.8,{"$error":"#N/A"},{"$error":"#N/A"},{"$error":"#N/A"},{"$error":"#N/A"},false,false,false,false,{"$f":"AND(AG70,AF70)","v":false},{"$error":"#N/A"},{"$error":"#N/A"},{"$error":"#N/A"},{"$error":"#N/A"},false,{"$f":"AND(AM70,NOT(AO70))","v":false},true,false,{"$f":"AND(AP70,AO70)","v":false},{"$error":"#N/A"},{"$error":"#N/A"},{"$error":"#N/A"},{"$error":"#N/A"}]
[38,{"$f":"OFFSET(InputPriceData!B$15,CalculationsAndCharts!$A70+$A$11,0,1,1)","v":"2013-09-18"},{"$f":"OFFSET(InputPriceData!G$15,CalculationsAndCharts!$A70+$A$11,0,1,1)","v":2848800},{"$f":"OFFSET(InputPriceData!C$15,CalculationsAndCharts!$A70+$A$11,IF($C$7,7,0),1,1)","v":57.35},{"$f":"OFFSET(InputPriceData!D$15,CalculationsAndCharts!$A70+$A$11,IF($C$7,7,0),1,1)","v":58.14},{"$f":"OFFSET(InputPriceData!E$15,CalculationsAndCharts!$A70+$A$11,IF($C$7,7,0),1,1)","v":57.27},{"$f":"OFFSET(InputPriceData!F$15,CalculationsAndCharts!$A70+$A$11,IF($C$7,7,0),1,1)","v":57.92},{"$error":"#N/A"},{"$error":"#N/A"},{"$error":"#N/A"},57.235921189160692,57.235921189160692,0.6322803161180468,0.20026096467488252,1.5087156199839327,-0.89424123713624526,0.45548142013786841,0.64653053025515361,null,57.92,53.88,1,{"$error":"#N/A"},0.2,0.8,{"$error":"#N/A"},{"$error":"#N/A"},{"$error":"#N/A"},{"$error":"#N/A"},false,false,false,false,{"$f":"AND(AG71,AF71)","v":false},{"$error":"#N/A"},{"$error":"#N/A"},{"$error":"#N/A"},{"$error":"#N/A"},false,{"$f":"AND(AM71,NOT(AO71))","v":false},true,false,{"$f":"AND(AP71,AO71)","v":false},{"$error":"#N/A"},{"$error":"#N/A"},{"$error":"#N/A"},{"$error":"#N/A"}]
[39,{"$f":"OFFSET(InputPriceData!B$15,CalculationsAndCharts!$A71+$A$11,0,1,1)","v":"2013-09-17"},{"$f":"OFFSET(InputPriceData!G$15,CalculationsAndCharts!$A71+$A$11,0,1,1)","v":2038300},{"$f":"OFFSET(InputPriceData!C$15,CalculationsAndCharts!$A71+$A$11,IF($C$7,7,0),1,1)","v":57.07},{"$f":"OFFSET(InputPriceData!D$15,CalculationsAndCharts!$A71+$A$11,IF($C$7,7,0),1,1)","v":57.57},{"$f":"OFFSET(InputPriceData!E$15,CalculationsAndCharts!$A71+$A$11,IF($C$7,7,0),1,1)","v":57.04},{"$f":"OFFSET(InputPriceData!F$15,CalculationsAndCharts!$A71+$A$11,IF($C$7,7,0),1,1)","v":57.33},{"$error":"#N/A"},{"$error":"#N/A"},{"$error":"#N/A"},57.141215280597507,57.141215280597507,0.23101193555283545,0.25499995206482673,1.5087156199839327,-1.0875751571478232,0.51711276758293434,0.76049589773112669,null,57.47,53.37,0.96585365853658522,{"$error":"#N/A"},0.2,0.8,{"$error":"#N/A"},{"$error":"#N/A"},{"$error":"#N/A"},{"$error":"#N/A"},false,false,false,false,false,{"$error":"#N/A"},{"$error":"#N/A"},{"$error":"#N/A"},{"$error":"#N/A"},false,false,true,false,{"$f":"AND(AP72,AO72)","v":false},{"$error":"#N/A"},{"$error":"#N/A"},{"$error":"#N/A"},{"$error":"#N/A"}]
[40,{"$f":"OFFSET(InputPriceData!B$15,CalculationsAndCharts!$A72+$A$11,0,1,1)","v":"2013-09-16"},{"$f":"OFFSET(InputPriceData!G$15,CalculationsAndCharts!$A72+$A$11,0,1,1)","v":2618500},{"$f":"OFFSET(InputPriceData!C$15,CalculationsAndCharts!$A72+$A$11,IF($C$7,7,0),1,1)","v":57.4},{"$f":"OFFSET(InputPriceData!D$15,CalculationsAndCharts!$A72+$A$11,IF($C$7,7,0),1,1)","v":57.57},{"$f":"OFFSET(InputPriceData!E$15,CalculationsAndCharts!$A72+$A$11,IF($C$7,7,0),1,1)","v":56.57},{"$f":"OFFSET(InputPriceData!F$15,CalculationsAndCharts!$A72+$A$11,IF($C$7,7,0),1,1)","v":57},{"$error":"#N/A"},{"$error":"#N/A"},{"$error":"#N/A"},57.208701978494645,57.208701978494645,3.1708856247726569E-2,0.49680707018675524,1.5087156199839327,-1.13902539245835,0.61782193007472797,0.86882659726921596,null,57.47,53.37,0.88536585365853693,{"$error":"#N/A"},0.2,0.8,{"$error":"#N/A"},{"$error":"#N/A"},{"$error":"#N/A"},{"$error":"#N/A"},false,false,false,false,false,{"$error":"#N/A"},{"$error":"#N/A"},{"$error":"#N/A"},{"$error":"#N/A"},false,false,true,false,false,{"$error":"#N/A"},{"$error":"#N/A"},{"$error":"#N/A"},{"$error":"#N/A"}]
[41,{"$f":"OFFSET(InputPriceData!B$15,CalculationsAndCharts!$A73+$A$11,0,1,1)","v":"2013-09-13"},{"$f":"OFFSET(InputPriceData!G$15,CalculationsAndCharts!$A73+$A$11,0,1,1)","v":1366800},{"$f":"OFFSET(InputPriceData!C$15,CalculationsAndCharts!$A73+$A$11,IF($C$7,7,0),1,1)","v":57.25},{"$f":"OFFSET(InputPriceData!D$15,CalculationsAndCharts!$A73+$A$11,IF($C$7,7,0),1,1)","v":57.35},{"$f":"OFFSET(InputPriceData!E$15,CalculationsAndCharts!$A73+$A$11,IF($C$7,7,0),1,1)","v":56.64},{"$f":"OFFSET(InputPriceData!F$15,CalculationsAndCharts!$A73+$A$11,IF($C$7,7,0),1,1)","v":56.83},{"$error":"#N/A"},{"$f":"IF($A73=$E$25,I$32,NA())","v":{"$error":"#N/A"}},{"$error":"#N/A"},57.345888245579062,57.345888245579062,-3.2566281564708643E-2,0.85980510134236021,1.5087156199839327,-1.13902539245835,0.75491918749144737,0.94674142619186097,null,57.47,52.47,0.87199999999999989,{"$error":"#N/A"},0.2,0.8,{"$error":"#N/A"},{"$error":"#N/A"},{"$error":"#N/A"},{"$error":"#N/A"},false,false,false,false,false,{"$error":"#N/A"},{"$error":"#N/A"},{"$error":"#N/A"},{"$error":"#N/A"},false,false,true,false,false,{"$error":"#N/A"},{"$error":"#N/A"},{"$error":"#N/A"},{"$error":"#N/A"}]
[42,{"$f":"OFFSET(InputPriceData!B$15,CalculationsAndCharts!$A74+$A$11,0,1,1)","v":"2013-09-12"},{"$f":"OFFSET(InputPriceData!G$15,CalculationsAndCharts!$A74+$A$11,0,1,1)","v":1261100},{"$f":"OFFSET(InputPriceData!C$15,CalculationsAndCharts!$A74+$A$11,IF($C$7,7,0),1,1)","v":57.46},{"$f":"OFFSET(InputPriceData!D$15,CalculationsAndCharts!$A74+$A$11,IF($C$7,7,0),1,1)","v":57.5},{"$f":"OFFSET(InputPriceData!E$15,CalculationsAndCharts!$A74+$A$11,IF($C$7,7,0),1,1)","v":56.77},{"$f":"OFFSET(InputPriceData!F$15,CalculationsAndCharts!$A74+$A$11,IF($C$7,7,0),1,1)","v":57.14},{"$error":"#N/A"},{"$error":"#N/A"},{"$error":"#N/A"},57.414241162329134,57.414241162329134,0.41812008505011744,1.2129389097729326,1.5087156199839327,-1.13902539245835,0.88829092089404349,0.97593158977133032,null,57.47,52.47,0.93400000000000039,{"$error":"#N/A"},0.2,0.8,{"$error":"#N/A"},{"$error":"#N/A"},{"$error":"#N/A"},{"$error":"#N/A"},false,false,false,false,false,{"$error":"#N/A"},{"$error":"#N/A"},{"$error":"#N/A"},{"$error":"#N/A"},false,false,true,false,false,{"$error":"#N/A"},{"$error":"#N/A"},{"$error":"#N/A"},{"$error":"#N/A"}]
[43,{"$f":"OFFSET(InputPriceData!B$15,CalculationsAndCharts!$A75+$A$11,0,1,1)","v":"2013-09-11"},{"$f":"OFFSET(InputPriceData!G$15,CalculationsAndCharts!$A75+$A$11,0,1,1)","v":1579500},{"$f":"OFFSET(InputPriceData!C$15,CalculationsAndCharts!$A75+$A$11,IF($C$7,7,0),1,1)","v":57.4},{"$f":"OFFSET(InputPriceData!D$15,CalculationsAndCharts!$A75+$A$11,IF($C$7,7,0),1,1)","v":57.42},{"$f":"OFFSET(InputPriceData!E$15,CalculationsAndCharts!$A75+$A$11,IF($C$7,7,0),1,1)","v":56.88},{"$f":"OFFSET(InputPriceData!F$15,CalculationsAndCharts!$A75+$A$11,IF($C$7,7,0),1,1)","v":57.36},{"$error":"#N/A"},{"$error":"#N/A"},{"$error":"#N/A"},57.316250659776429,57.316250659776429,0.85769291504772061,1.4436605127567288,1.5087156199839327,-1.13902539245835,0.97542995824686152,0.95192137170564961,null,57.47,52.47,0.97800000000000009,{"$error":"#N/A"},0.2,0.8,{"$error":"#N/A"},{"$error":"#N/A"},{"$error":"#N/A"},{"$error":"#N/A"},false,false,false,false,false,{"$error":"#N/A"},{"$error":"#N/A"},{"$error":"#N/A"},{"$error":"#N/A"},false,false,true,false,false,{"$error":"#N/A"},{"$error":"#N/A"},{"$error":"#N/A"},{"$error":"#N/A"}]
[44,{"$f":"OFFSET(InputPriceData!B$15,CalculationsAndCharts!$A76+$A$11,0,1,1)","v":"2013-09-10"},{"$f":"OFFSET(InputPriceData!G$15,CalculationsAndCharts!$A76+$A$11,0,1,1)","v":2373900},{"$f":"OFFSET(InputPriceData!C$15,CalculationsAndCharts!$A76+$A$11,IF($C$7,7,0),1,1)","v":57.24},{"$f":"OFFSET(InputPriceData!D$15,CalculationsAndCharts!$A76+$A$11,IF($C$7,7,0),1,1)","v":57.36},{"$f":"OFFSET(InputPriceData!E$15,CalculationsAndCharts!$A76+$A$11,IF($C$7,7,0),1,1)","v":56.54},{"$f":"OFFSET(InputPriceData!F$15,CalculationsAndCharts!$A76+$A$11,IF($C$7,7,0),1,1)","v":57.33},{"$error":"#N/A"},{"$error":"#N/A"},{"$error":"#N/A"},57.037228203171381,57.037228203171381,1.1038290894547145,1.5087156199839327,1.5087156199839327,-1.13902539245835,1,0.88119777653072762,null,57.47,52.47,0.97199999999999986,{"$error":"#N/A"},0.2,0.8,{"$error":"#N/A"},{"$error":"#N/A"},{"$error":"#N/A"},{"$error":"#N/A"},false,false,false,false,false,{"$error":"#N/A"},{"$error":"#N/A"},{"$error":"#N/A"},{"$error":"#N/A"},true,false,true,false,false,{"$error":"#N/A"},{"$error":"#N/A"},{"$error":"#N/A"},{"$error":"#N/A"}]
[45,{"$f":"OFFSET(InputPriceData!B$15,CalculationsAndCharts!$A77+$A$11,0,1,1)","v":"2013-09-09"},{"$f":"OFFSET(InputPriceData!G$15,CalculationsAndCharts!$A77+$A$11,0,1,1)","v":3070700},{"$f":"OFFSET(InputPriceData!C$15,CalculationsAndCharts!$A77+$A$11,IF($C$7,7,0),1,1)","v":57.2},{"$f":"OFFSET(InputPriceData!D$15,CalculationsAndCharts!$A77+$A$11,IF($C$7,7,0),1,1)","v":57.52},{"$f":"OFFSET(InputPriceData!E$15,CalculationsAndCharts!$A77+$A$11,IF($C$7,7,0),1,1)","v":57},{"$f":"OFFSET(InputPriceData!F$15,CalculationsAndCharts!$A77+$A$11,IF($C$7,7,0),1,1)","v":57.47},{"$error":"#N/A"},{"$error":"#N/A"},{"$error":"#N/A"},56.548250697152099,56.548250697152099,1.5765904355572786,1.3419531282533541,1.3419531282533541,-1.13902539245835,1,0.77480159631259327,null,57.47,52.47,1,{"$error":"#N/A"},0.2,0.8,{"$error":"#N/A"},{"$error":"#N/A"},{"$error":"#N/A"},{"$error":"#N/A"},false,false,false,false,false,{"$error":"#N/A"},{"$error":"#N/A"},{"$error":"#N/A"},{"$error":"#N/A"},false,false,true,false,false,{"$error":"#N/A"},{"$error":"#N/A"},{"$error":"#N/A"},{"$error":"#N/A"}]
[46,{"$f":"OFFSET(InputPriceData!B$15,CalculationsAndCharts!$A78+$A$11,0,1,1)","v":"2013-09-06"},{"$f":"OFFSET(InputPriceData!G$15,CalculationsAndCharts!$A78+$A$11,0,1,1)","v":2302300},{"$f":"OFFSET(InputPriceData!C$15,CalculationsAndCharts!$A78+$A$11,IF($C$7,7,0),1,1)","v":57.61},{"$f":"OFFSET(InputPriceData!D$15,CalculationsAndCharts!$A78+$A$11,IF($C$7,7,0),1,1)","v":57.71},{"$f":"OFFSET(InputPriceData!E$15,CalculationsAndCharts!$A78+$A$11,IF($C$7,7,0),1,1)","v":56.72},{"$f":"OFFSET(InputPriceData!F$15,CalculationsAndCharts!$A78+$A$11,IF($C$7,7,0),1,1)","v":56.96},{"$error":"#N/A"},{"$error":"#N/A"},{"$error":"#N/A"},55.88359637314457,55.88359637314457,1.4161080079992001,0.93542420708033314,0.93542420708033314,-1.13902539245835,1,0.65471650231847478,null,57.38,52.47,0.91446028513238264,{"$error":"#N/A"},0.2,0.8,{"$error":"#N/A"},{"$error":"#N/A"},{"$error":"#N/A"},{"$error":"#N/A"},false,false,false,false,false,{"$error":"#N/A"},{"$error":"#N/A"},{"$error":"#N/A"},{"$error":"#N/A"},false,false,true,false,false,{"$error":"#N/A"},{"$error":"#N/A"},{"$error":"#N/A"},{"$error":"#N/A"}]
[47,{"$f":"OFFSET(InputPriceData!B$15,CalculationsAndCharts!$A79+$A$11,0,1,1)","v":"2013-09-05"},{"$f":"OFFSET(InputPriceData!G$15,CalculationsAndCharts!$A79+$A$11,0,1,1)","v":4013800},{"$f":"OFFSET(InputPriceData!C$15,CalculationsAndCharts!$A79+$A$11,IF($C$7,7,0),1,1)","v":56.58},{"$f":"OFFSET(InputPriceData!D$15,CalculationsAndCharts!$A79+$A$11,IF($C$7,7,0),1,1)","v":57.8},{"$f":"OFFSET(InputPriceData!E$15,CalculationsAndCharts!$A79+$A$11,IF($C$7,7,0),1,1)","v":56.41},{"$f":"OFFSET(InputPriceData!F$15,CalculationsAndCharts!$A79+$A$11,IF($C$7,7,0),1,1)","v":57.38},{"$error":"#N/A"},{"$error":"#N/A"},{"$error":"#N/A"},55.087019030749019,55.087019030749019,2.2320933644993035,0.29224036394373715,0.52827128878839835,-1.13902539245835,0.85843495791752844,0.57525626197679758,null,57.38,52.47,1,{"$error":"#N/A"},0.2,0.8,{"$error":"#N/A"},{"$error":"#N/A"},{"$error":"#N/A"},{"$error":"#N/A"},false,false,false,false,false,{"$error":"#N/A"},{"$error":"#N/A"},{"$error":"#N/A"},{"$error":"#N/A"},false,false,true,false,false,{"$error":"#N/A"},{"$error":"#N/A"},{"$error":"#N/A"},{"$error":"#N/A"}]
[48,{"$f":"OFFSET(InputPriceData!B$15,CalculationsAndCharts!$A80+$A$11,0,1,1)","v":"2013-09-04"},{"$f":"OFFSET(InputPriceData!G$15,CalculationsAndCharts!$A80+$A$11,0,1,1)","v":9699000},{"$f":"OFFSET(InputPriceData!C$15,CalculationsAndCharts!$A80+$A$11,IF($C$7,7,0),1,1)","v":56.06},{"$f":"OFFSET(InputPriceData!D$15,CalculationsAndCharts!$A80+$A$11,IF($C$7,7,0),1,1)","v":57.42},{"$f":"OFFSET(InputPriceData!E$15,CalculationsAndCharts!$A80+$A$11,IF($C$7,7,0),1,1)","v":55.29},{"$f":"OFFSET(InputPriceData!F$15,CalculationsAndCharts!$A80+$A$11,IF($C$7,7,0),1,1)","v":56.39},{"$error":"#N/A"},{"$error":"#N/A"},{"$error":"#N/A"},54.43225589899658,54.43225589899658,1.6429558308882006,-0.32876248330073954,0.52827128878839835,-1.13902539245835,0.48597404305496678,0.59990952927346664,null,56.39,52.47,1,{"$error":"#N/A"},0.2,0.8,{"$error":"#N/A"},{"$error":"#N/A"},{"$error":"#N/A"},{"$error":"#N/A"},false,false,false,false,false,{"$error":"#N/A"},{"$error":"#N/A"},{"$error":"#N/A"},{"$error":"#N/A"},false,false,true,false,false,{"$error":"#N/A"},{"$error":"#N/A"},{"$error":"#N/A"},{"$error":"#N/A"}]
[49,{"$f":"OFFSET(InputPriceData!B$15,CalculationsAndCharts!$A81+$A$11,0,1,1)","v":"2013-09-03"},{"$f":"OFFSET(InputPriceData!G$15,CalculationsAndCharts!$A81+$A$11,0,1,1)","v":4268700},{"$f":"OFFSET(InputPriceData!C$15,CalculationsAndCharts!$A81+$A$11,IF($C$7,7,0),1,1)","v":54.47},{"$f":"OFFSET(InputPriceData!D$15,CalculationsAndCharts!$A81+$A$11,IF($C$7,7,0),1,1)","v":54.74},{"$f":"OFFSET(InputPriceData!E$15,CalculationsAndCharts!$A81+$A$11,IF($C$7,7,0),1,1)","v":53.4},{"$f":"OFFSET(InputPriceData!F$15,CalculationsAndCharts!$A81+$A$11,IF($C$7,7,0),1,1)","v":53.88},{"$error":"#N/A"},{"$error":"#N/A"},{"$error":"#N/A"},54.349864378539202,54.349864378539202,-0.75284072048416839,-0.44382764972846728,0.57163000883592574,-1.13902539245835,0.40639262717897406,0.70434440624433114,null,55.59,52.47,0.45192307692307743,{"$error":"#N/A"},0.2,0.8,{"$error":"#N/A"},{"$error":"#N/A"},{"$error":"#N/A"},{"$error":"#N/A"},false,false,false,false,false,{"$error":"#N/A"},{"$error":"#N/A"},{"$error":"#N/A"},{"$error":"#N/A"},false,false,true,false,false,{"$error":"#N/A"},{"$error":"#N/A"},{"$error":"#N/A"},{"$error":"#N/A"}]
[50,{"$f":"OFFSET(InputPriceData!B$15,CalculationsAndCharts!$A82+$A$11,0,1,1)","v":"2013-08-30"},{"$f":"OFFSET(InputPriceData!G$15,CalculationsAndCharts!$A82+$A$11,0,1,1)","v":1887400},{"$f":"OFFSET(InputPriceData!C$15,CalculationsAndCharts!$A82+$A$11,IF($C$7,7,0),1,1)","v":54.61},{"$f":"OFFSET(InputPriceData!D$15,CalculationsAndCharts!$A82+$A$11,IF($C$7,7,0),1,1)","v":54.87},{"$f":"OFFSET(InputPriceData!E$15,CalculationsAndCharts!$A82+$A$11,IF($C$7,7,0),1,1)","v":53.86},{"$f":"OFFSET(InputPriceData!F$15,CalculationsAndCharts!$A82+$A$11,IF($C$7,7,0),1,1)","v":53.97},{"$error":"#N/A"},{"$error":"#N/A"},{"$error":"#N/A"},54.632760075918867,54.632760075918867,-0.77082424670678484,-0.17651920267315635,0.66102141976838347,-1.13902539245835,0.53471175485404909,0.79937380070198505,null,55.59,52.47,0.48076923076923006,{"$error":"#N/A"},0.2,0.8,{"$error":"#N/A"},54.61,{"$error":"#N/A"},{"$error":"#N/A"},false,false,true,false,true,{"$error":"#N/A"},54.61,{"$error":"#N/A"},54.61,false,true,true,false,false,54.61,{"$error":"#N/A"},54.61,{"$error":"#N/A"}]
[51,{"$f":"OFFSET(InputPriceData!B$15,CalculationsAndCharts!$A83+$A$11,0,1,1)","v":"2013-08-29"},{"$f":"OFFSET(InputPriceData!G$15,CalculationsAndCharts!$A83+$A$11,0,1,1)","v":1346300},{"$f":"OFFSET(InputPriceData!C$15,CalculationsAndCharts!$A83+$A$11,IF($C$7,7,0),1,1)","v":54.4},{"$f":"OFFSET(InputPriceData!D$15,CalculationsAndCharts!$A83+$A$11,IF($C$7,7,0),1,1)","v":54.75},{"$f":"OFFSET(InputPriceData!E$15,CalculationsAndCharts!$A83+$A$11,IF($C$7,7,0),1,1)","v":54.24},{"$f":"OFFSET(InputPriceData!F$15,CalculationsAndCharts!$A83+$A$11,IF($C$7,7,0),1,1)","v":54.37},{"$error":"#N/A"},{"$error":"#N/A"},{"$error":"#N/A"},54.884979099722202,54.884979099722202,-0.44436649437438291,0.11316270304919224,0.66102141976838347,-1.13902539245835,0.69564196164350467,0.82804675734653022,null,55.79,52.47,0.57228915662650559,{"$error":"#N/A"},0.2,0.8,{"$error":"#N/A"},{"$error":"#N/A"},{"$error":"#N/A"},0.82804675734653022,false,false,true,true,false,{"$error":"#N/A"},{"$error":"#N/A"},{"$error":"#N/A"},{"$error":"#N/A"},true,false,false,false,false,{"$error":"#N/A"},{"$error":"#N/A"},{"$error":"#N/A"},{"$error":"#N/A"}]
[52,{"$f":"OFFSET(InputPriceData!B$15,CalculationsAndCharts!$A84+$A$11,0,1,1)","v":"2013-08-28"},{"$f":"OFFSET(InputPriceData!G$15,CalculationsAndCharts!$A84+$A$11,0,1,1)","v":1777200},{"$f":"OFFSET(InputPriceData!C$15,CalculationsAndCharts!$A84+$A$11,IF($C$7,7,0),1,1)","v":54.65},{"$f":"OFFSET(InputPriceData!D$15,CalculationsAndCharts!$A84+$A$11,IF($C$7,7,0),1,1)","v":54.9},{"$f":"OFFSET(InputPriceData!E$15,CalculationsAndCharts!$A84+$A$11,IF($C$7,7,0),1,1)","v":54.21},{"$f":"OFFSET(InputPriceData!F$15,CalculationsAndCharts!$A84+$A$11,IF($C$7,7,0),1,1)","v":54.48},{"$error":"#N/A"},{"$error":"#N/A"},{"$error":"#N/A"},55.058169766964184,55.058169766964184,-0.36608110794857623,0.37388158153243112,0.66102141976838347,-1.13902539245835,0.84048201619781848,0.76674810389481474,null,55.79,52.47,0.60542168674698726,{"$error":"#N/A"},0.2,0.8,{"$error":"#N/A"},{"$error":"#N/A"},{"$error":"#N/A"},{"$error":"#N/A"},false,false,true,false,false,{"$error":"#N/A"},{"$error":"#N/A"},{"$error":"#N/A"},{"$error":"#N/A"},false,false,false,false,false,{"$error":"#N/A"},{"$error":"#N/A"},{"$error":"#N/A"},{"$error":"#N/A"}]
[53,{"$f":"OFFSET(InputPriceData!B$15,CalculationsAndCharts!$A85+$A$11,0,1,1)","v":"2013-08-27"},{"$f":"OFFSET(InputPriceData!G$15,CalculationsAndCharts!$A85+$A$11,0,1,1)","v":1908400},{"$f":"OFFSET(InputPriceData!C$15,CalculationsAndCharts!$A85+$A$11,IF($C$7,7,0),1,1)","v":55},{"$f":"OFFSET(InputPriceData!D$15,CalculationsAndCharts!$A85+$A$11,IF($C$7,7,0),1,1)","v":55.33},{"$f":"OFFSET(InputPriceData!E$15,CalculationsAndCharts!$A85+$A$11,IF($C$7,7,0),1,1)","v":54.62},{"$f":"OFFSET(InputPriceData!F$15,CalculationsAndCharts!$A85+$A$11,IF($C$7,7,0),1,1)","v":54.65},{"$error":"#N/A"},{"$error":"#N/A"},{"$error":"#N/A"},55.089565938781234,55.089565938781234,-0.20243287357837952,0.52827128878839835,0.66102141976838347,-1.13902539245835,0.92625184518631065,0.61851900891535538,null,55.79,52.47,0.65662650602409622,{"$error":"#N/A"},0.2,0.8,{"$error":"#N/A"},{"$error":"#N/A"},{"$error":"#N/A"},{"$error":"#N/A"},false,false,true,false,false,{"$error":"#N/A"},{"$error":"#N/A"},{"$error":"#N/A"},{"$error":"#N/A"},false,false,false,false,false,{"$error":"#N/A"},{"$error":"#N/A"},{"$error":"#N/A"},{"$error":"#N/A"}]
[54,{"$f":"OFFSET(InputPriceData!B$15,CalculationsAndCharts!$A86+$A$11,0,1,1)","v":"2013-08-26"},{"$f":"OFFSET(InputPriceData!G$15,CalculationsAndCharts!$A86+$A$11,0,1,1)","v":1744600},{"$f":"OFFSET(InputPriceData!C$15,CalculationsAndCharts!$A86+$A$11,IF($C$7,7,0),1,1)","v":55.43},{"$f":"OFFSET(InputPriceData!D$15,CalculationsAndCharts!$A86+$A$11,IF($C$7,7,0),1,1)","v":56.1},{"$f":"OFFSET(InputPriceData!E$15,CalculationsAndCharts!$A86+$A$11,IF($C$7,7,0),1,1)","v":55.16},{"$f":"OFFSET(InputPriceData!F$15,CalculationsAndCharts!$A86+$A$11,IF($C$7,7,0),1,1)","v":55.59},{"$error":"#N/A"},{"$error":"#N/A"},{"$error":"#N/A"},54.843052790795397,54.843052790795397,0.84304014563588781,0.40356849967400377,0.66102141976838347,-1.13902539245835,0.85697431958677817,0.42112654552579021,null,55.79,52.47,0.93975903614457956,{"$error":"#N/A"},0.2,0.8,{"$error":"#N/A"},{"$error":"#N/A"},{"$error":"#N/A"},{"$error":"#N/A"},false,false,true,false,false,{"$error":"#N/A"},{"$error":"#N/A"},{"$error":"#N/A"},{"$error":"#N/A"},false,false,false,false,false,{"$error":"#N/A"},{"$error":"#N/A"},{"$error":"#N/A"},{"$error":"#N/A"}]
[55,{"$f":"OFFSET(InputPriceData!B$15,CalculationsAndCharts!$A87+$A$11,0,1,1)","v":"2013-08-23"},{"$f":"OFFSET(InputPriceData!G$15,CalculationsAndCharts!$A87+$A$11,0,1,1)","v":2263300},{"$f":"OFFSET(InputPriceData!C$15,CalculationsAndCharts!$A87+$A$11,IF($C$7,7,0),1,1)","v":55.51},{"$f":"OFFSET(InputPriceData!D$15,CalculationsAndCharts!$A87+$A$11,IF($C$7,7,0),1,1)","v":55.6},{"$f":"OFFSET(InputPriceData!E$15,CalculationsAndCharts!$A87+$A$11,IF($C$7,7,0),1,1)","v":54.79},{"$f":"OFFSET(InputPriceData!F$15,CalculationsAndCharts!$A87+$A$11,IF($C$7,7,0),1,1)","v":55.05},{"$error":"#N/A"},{"$error":"#N/A"},{"$error":"#N/A"},54.414145184266019,54.414145184266019,0.46626129799621951,4.9127937188560566E-2,0.66102141976838347,-1.13902539245835,0.66006801688513583,0.2307630770502293,null,55.79,52.47,0.77710843373493921,{"$error":"#N/A"},0.2,0.8,{"$error":"#N/A"},{"$error":"#N/A"},{"$error":"#N/A"},{"$error":"#N/A"},false,false,true,false,false,{"$error":"#N/A"},{"$error":"#N/A"},{"$error":"#N/A"},{"$error":"#N/A"},false,false,false,false,false,{"$error":"#N/A"},{"$error":"#N/A"},{"$error":"#N/A"},{"$error":"#N/A"}]
[56,{"$f":"OFFSET(InputPriceData!B$15,CalculationsAndCharts!$A88+$A$11,0,1,1)","v":"2013-08-22"},{"$f":"OFFSET(InputPriceData!G$15,CalculationsAndCharts!$A88+$A$11,0,1,1)","v":3108500},{"$f":"OFFSET(InputPriceData!C$15,CalculationsAndCharts!$A88+$A$11,IF($C$7,7,0),1,1)","v":54.34},{"$f":"OFFSET(InputPriceData!D$15,CalculationsAndCharts!$A88+$A$11,IF($C$7,7,0),1,1)","v":55.6},{"$f":"OFFSET(InputPriceData!E$15,CalculationsAndCharts!$A88+$A$11,IF($C$7,7,0),1,1)","v":54},{"$f":"OFFSET(InputPriceData!F$15,CalculationsAndCharts!$A88+$A$11,IF($C$7,7,0),1,1)","v":55.45},{"$error":"#N/A"},{"$error":"#N/A"},{"$error":"#N/A"},53.92884070293843,53.92884070293843,1.0418537566807786,-0.43996349354997921,0.66102141976838347,-1.13902539245835,0.38835762167962834,9.2737656357539555E-2,null,55.79,52.47,0.8975903614457843,{"$error":"#N/A"},0.2,0.8,{"$error":"#N/A"},{"$error":"#N/A"},{"$error":"#N/A"},{"$error":"#N/A"},false,false,true,false,false,{"$error":"#N/A"},{"$error":"#N/A"},{"$error":"#N/A"},{"$error":"#N/A"},false,false,false,false,false,{"$error":"#N/A"},{"$error":"#N/A"},{"$error":"#N/A"},{"$error":"#N/A"}]
[57,{"$f":"OFFSET(InputPriceData!B$15,CalculationsAndCharts!$A89+$A$11,0,1,1)","v":"2013-08-21"},{"$f":"OFFSET(InputPriceData!G$15,CalculationsAndCharts!$A89+$A$11,0,1,1)","v":3274300},{"$f":"OFFSET(InputPriceData!C$15,CalculationsAndCharts!$A89+$A$11,IF($C$7,7,0),1,1)","v":53.4},{"$f":"OFFSET(InputPriceData!D$15,CalculationsAndCharts!$A89+$A$11,IF($C$7,7,0),1,1)","v":54.5},{"$f":"OFFSET(InputPriceData!E$15,CalculationsAndCharts!$A89+$A$11,IF($C$7,7,0),1,1)","v":53.1},{"$f":"OFFSET(InputPriceData!F$15,CalculationsAndCharts!$A89+$A$11,IF($C$7,7,0),1,1)","v":54.4},{"$error":"#N/A"},{"$error":"#N/A"},{"$error":"#N/A"},53.562018471507002,53.562018471507002,0.13061326440379933,-0.89424123713624526,0.66102141976838347,-1.13902539245835,0.13598766079827471,2.2705696163155781E-2,null,55.79,52.47,0.58132530120481918,{"$error":"#N/A"},0.2,0.8,{"$error":"#N/A"},{"$error":"#N/A"},{"$error":"#N/A"},{"$error":"#N/A"},false,false,true,false,false,{"$error":"#N/A"},{"$error":"#N/A"},{"$error":"#N/A"},{"$error":"#N/A"},false,false,false,false,false,{"$error":"#N/A"},{"$error":"#N/A"},{"$error":"#N/A"},{"$error":"#N/A"}]
[58,{"$f":"OFFSET(InputPriceData!B$15,CalculationsAndCharts!$A90+$A$11,0,1,1)","v":"2013-08-20"},{"$f":"OFFSET(InputPriceData!G$15,CalculationsAndCharts!$A90+$A$11,0,1,1)","v":2663400},{"$f":"OFFSET(InputPriceData!C$15,CalculationsAndCharts!$A90+$A$11,IF($C$7,7,0),1,1)","v":54.16},{"$f":"OFFSET(InputPriceData!D$15,CalculationsAndCharts!$A90+$A$11,IF($C$7,7,0),1,1)","v":54.23},{"$f":"OFFSET(InputPriceData!E$15,CalculationsAndCharts!$A90+$A$11,IF($C$7,7,0),1,1)","v":53.3},{"$f":"OFFSET(InputPriceData!F$15,CalculationsAndCharts!$A90+$A$11,IF($C$7,7,0),1,1)","v":53.37},{"$error":"#N/A"},{"$error":"#N/A"},{"$error":"#N/A"},53.509006406695732,53.509006406695732,-0.94544190554591356,-1.0875751571478232,0.66102141976838347,-1.13902539245835,2.858272071651333E-2,-1.8401857461363596E-4,null,55.79,52.47,0.27108433734939713,{"$error":"#N/A"},0.2,0.8,{"$error":"#N/A"},{"$error":"#N/A"},{"$error":"#N/A"},{"$error":"#N/A"},false,false,true,false,false,{"$error":"#N/A"},{"$error":"#N/A"},{"$error":"#N/A"},{"$error":"#N/A"},false,false,false,false,false,{"$error":"#N/A"},{"$error":"#N/A"},{"$error":"#N/A"},{"$error":"#N/A"}]
[59,{"$f":"OFFSET(InputPriceData!B$15,CalculationsAndCharts!$A91+$A$11,0,1,1)","v":"2013-08-19"},{"$f":"OFFSET(InputPriceData!G$15,CalculationsAndCharts!$A91+$A$11,0,1,1)","v":4538700},{"$f":"OFFSET(InputPriceData!C$15,CalculationsAndCharts!$A91+$A$11,IF($C$7,7,0),1,1)","v":53.5},{"$f":"OFFSET(InputPriceData!D$15,CalculationsAndCharts!$A91+$A$11,IF($C$7,7,0),1,1)","v":54.47},{"$f":"OFFSET(InputPriceData!E$15,CalculationsAndCharts!$A91+$A$11,IF($C$7,7,0),1,1)","v":53.2},{"$f":"OFFSET(InputPriceData!F$15,CalculationsAndCharts!$A91+$A$11,IF($C$7,7,0),1,1)","v":54.09},{"$error":"#N/A"},{"$error":"#N/A"},{"$error":"#N/A"},53.611524106757251,53.611524106757251,-0.30765159370279038,-1.13902539245835,0.66102141976838347,-1.13902539245835,0,-5.0803848267831596E-3,null,55.79,52.47,0.48795180722891701,{"$error":"#N/A"},0.2,0.8,{"$error":"#N/A"},{"$error":"#N/A"},{"$error":"#N/A"},{"$error":"#N/A"},false,{"$f":"AND(AD92,NOT(AF92))","v":false},true,false,false,{"$error":"#N/A"},{"$error":"#N/A"},{"$error":"#N/A"},{"$error":"#N/A"},false,false,false,false,false,{"$error":"#N/A"},{"$error":"#N/A"},{"$error":"#N/A"},{"$error":"#N/A"}]
[60,{"$f":"OFFSET(InputPriceData!B$15,CalculationsAndCharts!$A92+$A$11,0,1,1)","v":"2013-08-16"},{"$f":"OFFSET(InputPriceData!G$15,CalculationsAndCharts!$A92+$A$11,0,1,1)","v":3489900},{"$f":"OFFSET(InputPriceData!C$15,CalculationsAndCharts!$A92+$A$11,IF($C$7,7,0),1,1)","v":53.23},{"$f":"OFFSET(InputPriceData!D$15,CalculationsAndCharts!$A92+$A$11,IF($C$7,7,0),1,1)","v":53.32},{"$f":"OFFSET(InputPriceData!E$15,CalculationsAndCharts!$A92+$A$11,IF($C$7,7,0),1,1)","v":52.4},{"$f":"OFFSET(InputPriceData!F$15,CalculationsAndCharts!$A92+$A$11,IF($C$7,7,0),1,1)","v":52.47},{"$error":"#N/A"},{"$error":"#N/A"},{"$error":"#N/A"},53.93369610231607,53.93369610231607,-2.1098268880929583,-0.94870966012738589,0.66102141976838347,-0.94870966012738589,0,-5.0626265805200346E-3,null,55.79,52.47,0,{"$error":"#N/A"},0.2,0.8,{"$error":"#N/A"},{"$error":"#N/A"},{"$error":"#N/A"},{"$error":"#N/A"},false,{"$f":"AND(AD93,NOT(AF93))","v":false},true,false,false,{"$error":"#N/A"},{"$error":"#N/A"},{"$error":"#N/A"},{"$error":"#N/A"},false,false,false,false,false,{"$error":"#N/A"},{"$error":"#N/A"},{"$error":"#N/A"},{"$error":"#N/A"}]
[61,{"$f":"OFFSET(InputPriceData!B$15,CalculationsAndCharts!$A93+$A$11,0,1,1)","v":"2013-08-15"},{"$f":"OFFSET(InputPriceData!G$15,CalculationsAndCharts!$A93+$A$11,0,1,1)","v":2987200},{"$f":"OFFSET(InputPriceData!C$15,CalculationsAndCharts!$A93+$A$11,IF($C$7,7,0),1,1)","v":54.19},{"$f":"OFFSET(InputPriceData!D$15,CalculationsAndCharts!$A93+$A$11,IF($C$7,7,0),1,1)","v":54.49},{"$f":"OFFSET(InputPriceData!E$15,CalculationsAndCharts!$A93+$A$11,IF($C$7,7,0),1,1)","v":53.37},{"$f":"OFFSET(InputPriceData!F$15,CalculationsAndCharts!$A93+$A$11,IF($C$7,7,0),1,1)","v":53.5},{"$error":"#N/A"},{"$f":"IF($A93=$E$25,I$32,NA())","v":{"$error":"#N/A"}},{"$error":"#N/A"},54.314683133722163,54.314683133722163,-1.3455294764986512,-0.64602488099257271,0.66102141976838347,-0.64602488099257271,0,-1.9036206497330139E-3,null,55.79,53.3,8.0321285140563331E-2,{"$error":"#N/A"},0.2,0.8,{"$error":"#N/A"},{"$error":"#N/A"},{"$error":"#N/A"},{"$error":"#N/A"},false,false,true,false,false,{"$error":"#N/A"},{"$error":"#N/A"},{"$error":"#N/A"},{"$error":"#N/A"},false,false,false,false,false,{"$error":"#N/A"},{"$error":"#N/A"},{"$error":"#N/A"},{"$error":"#N/A"}]
[62,{"$f":"OFFSET(InputPriceData!B$15,CalculationsAndCharts!$A94+$A$11,0,1,1)","v":"2013-08-14"},{"$f":"OFFSET(InputPriceData!G$15,CalculationsAndCharts!$A94+$A$11,0,1,1)","v":1792300},{"$f":"OFFSET(InputPriceData!C$15,CalculationsAndCharts!$A94+$A$11,IF($C$7,7,0),1,1)","v":54.41},{"$f":"OFFSET(InputPriceData!D$15,CalculationsAndCharts!$A94+$A$11,IF($C$7,7,0),1,1)","v":54.82},{"$f":"OFFSET(InputPriceData!E$15,CalculationsAndCharts!$A94+$A$11,IF($C$7,7,0),1,1)","v":54.08},{"$f":"OFFSET(InputPriceData!F$15,CalculationsAndCharts!$A94+$A$11,IF($C$7,7,0),1,1)","v":54.5},{"$error":"#N/A"},{"$error":"#N/A"},{"$error":"#N/A"},54.422628347066571,54.422628347066571,-0.44587988171545778,-0.57580716626926332,0.81486908566493454,-0.60196738606709255,1.8463824386062977E-2,6.9485868711317393E-3,null,55.79,53.3,0.48192771084337427,{"$error":"#N/A"},0.2,0.8,{"$error":"#N/A"},{"$error":"#N/A"},{"$error":"#N/A"},{"$error":"#N/A"},false,false,true,false,false,{"$error":"#N/A"},{"$error":"#N/A"},{"$error":"#N/A"},{"$error":"#N/A"},false,false,false,false,false,{"$error":"#N/A"},{"$error":"#N/A"},{"$error":"#N/A"},{"$error":"#N/A"}]
[63,{"$f":"OFFSET(InputPriceData!B$15,CalculationsAndCharts!$A95+$A$11,0,1,1)","v":"2013-08-13"},{"$f":"OFFSET(InputPriceData!G$15,CalculationsAndCharts!$A95+$A$11,0,1,1)","v":2171300},{"$f":"OFFSET(InputPriceData!C$15,CalculationsAndCharts!$A95+$A$11,IF($C$7,7,0),1,1)","v":54.36},{"$f":"OFFSET(InputPriceData!D$15,CalculationsAndCharts!$A95+$A$11,IF($C$7,7,0),1,1)","v":54.83},{"$f":"OFFSET(InputPriceData!E$15,CalculationsAndCharts!$A95+$A$11,IF($C$7,7,0),1,1)","v":54.2},{"$f":"OFFSET(InputPriceData!F$15,CalculationsAndCharts!$A95+$A$11,IF($C$7,7,0),1,1)","v":54.6},{"$error":"#N/A"},{"$error":"#N/A"},{"$error":"#N/A"},54.424969997201465,54.424969997201465,-0.348333551699333,-0.60196738606709255,1.2682388298630425,-0.60196738606709255,0,2.9876582723891522E-2,null,55.79,53.3,0.52208835341365589,{"$error":"#N/A"},0.2,0.8,{"$error":"#N/A"},{"$error":"#N/A"},{"$error":"#N/A"},{"$error":"#N/A"},false,false,true,false,false,{"$error":"#N/A"},{"$error":"#N/A"},{"$error":"#N/A"},{"$error":"#N/A"},false,false,false,false,false,{"$error":"#N/A"},{"$error":"#N/A"},{"$error":"#N/A"},{"$error":"#N/A"}]
[64,{"$f":"OFFSET(InputPriceData!B$15,CalculationsAndCharts!$A96+$A$11,0,1,1)","v":"2013-08-12"},{"$f":"OFFSET(InputPriceData!G$15,CalculationsAndCharts!$A96+$A$11,0,1,1)","v":2295500},{"$f":"OFFSET(InputPriceData!C$15,CalculationsAndCharts!$A96+$A$11,IF($C$7,7,0),1,1)","v":54.14},{"$f":"OFFSET(InputPriceData!D$15,CalculationsAndCharts!$A96+$A$11,IF($C$7,7,0),1,1)","v":54.58},{"$f":"OFFSET(InputPriceData!E$15,CalculationsAndCharts!$A96+$A$11,IF($C$7,7,0),1,1)","v":53.99},{"$f":"OFFSET(InputPriceData!F$15,CalculationsAndCharts!$A96+$A$11,IF($C$7,7,0),1,1)","v":54.35},{"$error":"#N/A"},{"$error":"#N/A"},{"$error":"#N/A"},54.507613946670645,54.507613946670645,-0.61245053361177448,-0.53948875803330099,1.7005369615465995,-0.53948875803330099,0,7.2916376627866875E-2,null,55.79,53.3,0.42168674698795316,{"$error":"#N/A"},0.2,0.8,{"$error":"#N/A"},{"$error":"#N/A"},{"$error":"#N/A"},{"$error":"#N/A"},false,false,true,false,false,{"$error":"#N/A"},{"$error":"#N/A"},{"$error":"#N/A"},{"$error":"#N/A"},false,false,false,false,false,{"$error":"#N/A"},{"$error":"#N/A"},{"$error":"#N/A"},{"$error":"#N/A"}]
[65,{"$f":"OFFSET(InputPriceData!B$15,CalculationsAndCharts!$A97+$A$11,0,1,1)","v":"2013-08-09"},{"$f":"OFFSET(InputPriceData!G$15,CalculationsAndCharts!$A97+$A$11,0,1,1)","v":1201100},{"$f":"OFFSET(InputPriceData!C$15,CalculationsAndCharts!$A97+$A$11,IF($C$7,7,0),1,1)","v":54.7},{"$f":"OFFSET(InputPriceData!D$15,CalculationsAndCharts!$A97+$A$11,IF($C$7,7,0),1,1)","v":54.82},{"$f":"OFFSET(InputPriceData!E$15,CalculationsAndCharts!$A97+$A$11,IF($C$7,7,0),1,1)","v":54.22},{"$f":"OFFSET(InputPriceData!F$15,CalculationsAndCharts!$A97+$A$11,IF($C$7,7,0),1,1)","v":54.25},{"$f":"IF($A97=$E$25,H$32,NA())","v":{"$error":"#N/A"}},{"$error":"#N/A"},{"$error":"#N/A"},{"$f":"$F$16*(G97+G98)/2+$F$17*K98+$F$18*K99","v":54.68847682112176},54.68847682112176,{"$f":"$D$21*(G97 - 2*G98 + G99) + $D$20*M98 - $F$20*M99","v":-0.75965894458285621},-0.3512106113593062,2.0352298540462384,-0.3512106113593062,{"$f":"IFERROR(IF($A97>$A$8,0,(N97-P97)/(O97-P97)),1)","v":0},{"$f":"IF($A97>$A$8,0,$F$16*(Q97+Q98)/2+$F$17*R98+$F$18*R99)","v":0.13268375159360973},null,{"$f":"MAX(OFFSET(G97,0,0,$A$22,1))","v":55.79},{"$f":"MIN(OFFSET(G97,0,0,$A$22,1))","v":53.3},{"$f":"IFERROR(IF($A97>$A$8,0,(G97-U97)/(T97-U97)),1)","v":0.38152610441767154},{"$error":"#N/A"},0.2,0.8,{"$f":"IF($S$7,AI97,NA())","v":{"$error":"#N/A"}},{"$f":"IF($S$7,AJ97,NA())","v":{"$error":"#N/A"}},{"$f":"IF($S$7,IF(AD97,R97,NA()),NA())","v":{"$error":"#N/A"}},{"$f":"IF($S$7,IF(AG97,R97,NA()),NA())","v":{"$error":"#N/A"}},{"$f":"IF(AND(R98>$X$32,R97<$X$32),TRUE,FALSE)","v":false},false,true,{"$f":"IF(AND(AF97,R98<$Y$32,R97>$Y$32),TRUE,FALSE)","v":false},false,{"$f":"IF(AE97,D97,NA())","v":{"$error":"#N/A"}},{"$f":"IF(AH97,D97,NA())","v":{"$error":"#N/A"}},{"$f":"IF($S$7,AI97,NA())","v":{"$error":"#N/A"}},{"$f":"IF($S$7,AJ97,NA())","v":{"$error":"#N/A"}},{"$f":"IF(AND(R98<$Y$32,R97>$Y$32),TRUE,FALSE)","v":false},false,false,{"$f":"IF(AND(AO98,R98>$X$32,R97<$X$32),TRUE,FALSE)","v":false},false,{"$f":"IF(AN97,D97,NA())","v":{"$error":"#N/A"}},{"$f":"IF(AQ97,D97,NA())","v":{"$error":"#N/A"}},{"$error":"#N/A"},{"$error":"#N/A"}]
[66,{"$f":"OFFSET(InputPriceData!B$15,CalculationsAndCharts!$A98+$A$11,0,1,1)","v":"2013-08-08"},{"$f":"OFFSET(InputPriceData!G$15,CalculationsAndCharts!$A98+$A$11,0,1,1)","v":2739700},{"$f":"OFFSET(InputPriceData!C$15,CalculationsAndCharts!$A98+$A$11,IF($C$7,7,0),1,1)","v":54.36},{"$f":"OFFSET(InputPriceData!D$15,CalculationsAndCharts!$A98+$A$11,IF($C$7,7,0),1,1)","v":54.91},{"$f":"OFFSET(InputPriceData!E$15,CalculationsAndCharts!$A98+$A$11,IF($C$7,7,0),1,1)","v":54.27},{"$f":"OFFSET(InputPriceData!F$15,CalculationsAndCharts!$A98+$A$11,IF($C$7,7,0),1,1)","v":54.73},{"$error":"#N/A"},{"$error":"#N/A"},{"$error":"#N/A"},54.889124739177468,{"$f":"IF($S$5,K98,NA())","v":54.889124739177468},-0.29199181144934283,{"$f":"$F$16*(M98+M99)/2+$F$17*N99+$F$18*N100","v":-9.9525037806017375E-2},{"$f":"MAX(OFFSET(N98,0,0,$A$22,1))","v":2.1405678533937635},-9.9525037806017375E-2,0,0.1963372699761784,null,55.79,53.3,0.57429718875501956,{"$f":"IF($S$18,V98,NA())","v":{"$error":"#N/A"}},{"$f":"$X$32","v":0.2},{"$f":"$Y$32","v":0.8},{"$error":"#N/A"},{"$error":"#N/A"},0.1963372699761784,{"$error":"#N/A"},true,false,{"$f":"IF(AF99,IF(AH99,FALSE,AF99),IF(AE98,TRUE,AF99))","v":true},false,false,{"$error":"#N/A"},{"$error":"#N/A"},{"$error":"#N/A"},{"$error":"#N/A"},false,false,{"$f":"IF(AO99,IF(AP99,FALSE,AO99),IF(AN98,TRUE,AO99))","v":false},false,false,{"$error":"#N/A"},{"$error":"#N/A"},{"$f":"IF($S$5,AR98,NA())","v":{"$error":"#N/A"}},{"$error":"#N/A"}]
[67,{"$f":"OFFSET(InputPriceData!B$15,CalculationsAndCharts!$A99+$A$11,0,1,1)","v":"2013-08-07"},{"$f":"OFFSET(InputPriceData!G$15,CalculationsAndCharts!$A99+$A$11,0,1,1)","v":3007200},{"$f":"OFFSET(InputPriceData!C$15,CalculationsAndCharts!$A99+$A$11,IF($C$7,7,0),1,1)","v":54.76},{"$f":"OFFSET(InputPriceData!D$15,CalculationsAndCharts!$A99+$A$11,IF($C$7,7,0),1,1)","v":54.79},{"$f":"OFFSET(InputPriceData!E$15,CalculationsAndCharts!$A99+$A$11,IF($C$7,7,0),1,1)","v":54.12},{"$f":"OFFSET(InputPriceData!F$15,CalculationsAndCharts!$A99+$A$11,IF($C$7,7,0),1,1)","v":54.12},{"$error":"#N/A"},{"$error":"#N/A"},{"$error":"#N/A"},55.13132344505356,55.13132344505356,-0.92475012301053572,0.25003803302117616,2.1405678533937635,-8.6126585166431124E-3,0.12034851893752965,0.23026330399344364,null,55.79,53.3,0.3293172690763051,{"$error":"#N/A"},0.2,0.8,{"$error":"#N/A"},{"$error":"#N/A"},{"$error":"#N/A"},{"$error":"#N/A"},false,false,true,false,false,{"$error":"#N/A"},{"$error":"#N/A"},{"$error":"#N/A"},{"$error":"#N/A"},false,false,false,false,false,{"$error":"#N/A"},{"$error":"#N/A"},{"$error":"#N/A"},{"$error":"#N/A"}]
[68,{"$f":"OFFSET(InputPriceData!B$15,CalculationsAndCharts!$A100+$A$11,0,1,1)","v":"2013-08-06"},{"$f":"OFFSET(InputPriceData!G$15,CalculationsAndCharts!$A100+$A$11,0,1,1)","v":2533700},{"$f":"OFFSET(InputPriceData!C$15,CalculationsAndCharts!$A100+$A$11,IF($C$7,7,0),1,1)","v":55.04},{"$f":"OFFSET(InputPriceData!D$15,CalculationsAndCharts!$A100+$A$11,IF($C$7,7,0),1,1)","v":55.18},{"$f":"OFFSET(InputPriceData!E$15,CalculationsAndCharts!$A100+$A$11,IF($C$7,7,0),1,1)","v":54.31},{"$f":"OFFSET(InputPriceData!F$15,CalculationsAndCharts!$A100+$A$11,IF($C$7,7,0),1,1)","v":54.87},{"$error":"#N/A"},{"$error":"#N/A"},{"$error":"#N/A"},55.285478518675895,55.285478518675895,-0.18237348125406472,0.57163000883592574,2.1405678533937635,-8.6126585166431124E-3,0.26998321645713746,0.20806643832072966,null,55.79,53.3,0.63052208835341328,{"$error":"#N/A"},0.2,0.8,{"$error":"#N/A"},{"$error":"#N/A"},{"$error":"#N/A"},{"$error":"#N/A"},false,false,true,false,false,{"$error":"#N/A"},{"$error":"#N/A"},{"$error":"#N/A"},{"$error":"#N/A"},false,false,false,false,false,{"$error":"#N/A"},{"$error":"#N/A"},{"$error":"#N/A"},{"$error":"#N/A"}]
[69,{"$f":"OFFSET(InputPriceData!B$15,CalculationsAndCharts!$A101+$A$11,0,1,1)","v":"2013-08-05"},{"$f":"OFFSET(InputPriceData!G$15,CalculationsAndCharts!$A101+$A$11,0,1,1)","v":1875900},{"$f":"OFFSET(InputPriceData!C$15,CalculationsAndCharts!$A101+$A$11,IF($C$7,7,0),1,1)","v":55.52},{"$f":"OFFSET(InputPriceData!D$15,CalculationsAndCharts!$A101+$A$11,IF($C$7,7,0),1,1)","v":55.64},{"$f":"OFFSET(InputPriceData!E$15,CalculationsAndCharts!$A101+$A$11,IF($C$7,7,0),1,1)","v":55.02},{"$f":"OFFSET(InputPriceData!F$15,CalculationsAndCharts!$A101+$A$11,IF($C$7,7,0),1,1)","v":55.25},{"$error":"#N/A"},{"$error":"#N/A"},{"$error":"#N/A"},55.17377593851937,55.17377593851937,0.30610389615680444,0.66102141976838347,2.1405678533937635,-8.6126585166431124E-3,0.31157647046119391,0.14615861097184191,null,55.79,51.8,0.86466165413533858,{"$error":"#N/A"},0.2,0.8,{"$error":"#N/A"},{"$error":"#N/A"},{"$error":"#N/A"},{"$error":"#N/A"},false,false,true,false,false,{"$error":"#N/A"},{"$error":"#N/A"},{"$error":"#N/A"},{"$error":"#N/A"},false,false,false,false,false,{"$error":"#N/A"},{"$error":"#N/A"},{"$error":"#N/A"},{"$error":"#N/A"}]
[70,{"$f":"OFFSET(InputPriceData!B$15,CalculationsAndCharts!$A102+$A$11,0,1,1)","v":"2013-08-02"},{"$f":"OFFSET(InputPriceData!G$15,CalculationsAndCharts!$A102+$A$11,0,1,1)","v":3049700},{"$f":"OFFSET(InputPriceData!C$15,CalculationsAndCharts!$A102+$A$11,IF($C$7,7,0),1,1)","v":55.4},{"$f":"OFFSET(InputPriceData!D$15,CalculationsAndCharts!$A102+$A$11,IF($C$7,7,0),1,1)","v":55.82},{"$f":"OFFSET(InputPriceData!E$15,CalculationsAndCharts!$A102+$A$11,IF($C$7,7,0),1,1)","v":54.55},{"$f":"OFFSET(InputPriceData!F$15,CalculationsAndCharts!$A102+$A$11,IF($C$7,7,0),1,1)","v":55.79},{"$error":"#N/A"},{"$error":"#N/A"},{"$error":"#N/A"},54.832165017201895,54.832165017201895,1.0670867457424456,0.50960717462240512,2.1405678533937635,-8.6126585166431124E-3,0.2411243868382198,8.4647937495399908E-2,null,55.79,51.8,1,{"$error":"#N/A"},0.2,0.8,{"$error":"#N/A"},{"$error":"#N/A"},{"$error":"#N/A"},{"$error":"#N/A"},false,false,true,false,false,{"$error":"#N/A"},{"$error":"#N/A"},{"$error":"#N/A"},{"$error":"#N/A"},false,false,false,false,false,{"$error":"#N/A"},{"$error":"#N/A"},{"$error":"#N/A"},{"$error":"#N/A"}]
[71,{"$f":"OFFSET(InputPriceData!B$15,CalculationsAndCharts!$A103+$A$11,0,1,1)","v":"2013-08-01"},{"$f":"OFFSET(InputPriceData!G$15,CalculationsAndCharts!$A103+$A$11,0,1,1)","v":4140100},{"$f":"OFFSET(InputPriceData!C$15,CalculationsAndCharts!$A103+$A$11,IF($C$7,7,0),1,1)","v":54.97},{"$f":"OFFSET(InputPriceData!D$15,CalculationsAndCharts!$A103+$A$11,IF($C$7,7,0),1,1)","v":55.6},{"$f":"OFFSET(InputPriceData!E$15,CalculationsAndCharts!$A103+$A$11,IF($C$7,7,0),1,1)","v":54.4},{"$f":"OFFSET(InputPriceData!F$15,CalculationsAndCharts!$A103+$A$11,IF($C$7,7,0),1,1)","v":55.42},{"$error":"#N/A"},{"$error":"#N/A"},{"$error":"#N/A"},54.424926407746327,54.424926407746327,0.97246496717668163,0.25039660974426292,2.1405678533937635,-8.6126585166431124E-3,0.12051536240232918,5.3079375675569931E-2,null,55.65,51.8,0.94025974025974113,{"$error":"#N/A"},0.2,0.8,{"$error":"#N/A"},{"$error":"#N/A"},{"$error":"#N/A"},{"$error":"#N/A"},false,false,true,false,false,{"$error":"#N/A"},{"$error":"#N/A"},{"$error":"#N/A"},{"$error":"#N/A"},false,false,false,false,false,{"$error":"#N/A"},{"$error":"#N/A"},{"$error":"#N/A"},{"$error":"#N/A"}]
[72,{"$f":"OFFSET(InputPriceData!B$15,CalculationsAndCharts!$A104+$A$11,0,1,1)","v":"2013-07-31"},{"$f":"OFFSET(InputPriceData!G$15,CalculationsAndCharts!$A104+$A$11,0,1,1)","v":2868800},{"$f":"OFFSET(InputPriceData!C$15,CalculationsAndCharts!$A104+$A$11,IF($C$7,7,0),1,1)","v":54.2},{"$f":"OFFSET(InputPriceData!D$15,CalculationsAndCharts!$A104+$A$11,IF($C$7,7,0),1,1)","v":54.84},{"$f":"OFFSET(InputPriceData!E$15,CalculationsAndCharts!$A104+$A$11,IF($C$7,7,0),1,1)","v":54.17},{"$f":"OFFSET(InputPriceData!F$15,CalculationsAndCharts!$A104+$A$11,IF($C$7,7,0),1,1)","v":54.67},{"$error":"#N/A"},{"$error":"#N/A"},{"$error":"#N/A"},54.161076480378014,54.161076480378014,0.43160591121951741,9.3688102658100972E-2,2.1405678533937635,{"$f":"MIN(OFFSET(N104,0,0,$A$22,1))","v":-8.6126585166431124E-3},4.7599892427746295E-2,5.4944338277388823E-2,null,55.65,51.11,0.78414096916299625,{"$error":"#N/A"},0.2,0.8,{"$error":"#N/A"},{"$error":"#N/A"},{"$error":"#N/A"},{"$error":"#N/A"},false,false,true,false,false,{"$error":"#N/A"},{"$error":"#N/A"},{"$error":"#N/A"},{"$error":"#N/A"},false,false,false,false,false,{"$error":"#N/A"},{"$error":"#N/A"},{"$error":"#N/A"},{"$error":"#N/A"}]
[73,{"$f":"OFFSET(InputPriceData!B$15,CalculationsAndCharts!$A105+$A$11,0,1,1)","v":"2013-07-30"},{"$f":"OFFSET(InputPriceData!G$15,CalculationsAndCharts!$A105+$A$11,0,1,1)","v":2051100},{"$f":"OFFSET(InputPriceData!C$15,CalculationsAndCharts!$A105+$A$11,IF($C$7,7,0),1,1)","v":54.15},{"$f":"OFFSET(InputPriceData!D$15,CalculationsAndCharts!$A105+$A$11,IF($C$7,7,0),1,1)","v":54.44},{"$f":"OFFSET(InputPriceData!E$15,CalculationsAndCharts!$A105+$A$11,IF($C$7,7,0),1,1)","v":53.86},{"$f":"OFFSET(InputPriceData!F$15,CalculationsAndCharts!$A105+$A$11,IF($C$7,7,0),1,1)","v":54.06},{"$error":"#N/A"},{"$error":"#N/A"},{"$error":"#N/A"},54.063585205449399,54.063585205449399,-6.9542811386086811E-2,8.7088488466095834E-2,2.1405678533937635,-8.6126585166431124E-3,4.4529133989620155E-2,7.7396673828914353E-2,null,55.65,51.11,0.6497797356828201,{"$error":"#N/A"},0.2,0.8,{"$error":"#N/A"},{"$error":"#N/A"},{"$error":"#N/A"},{"$error":"#N/A"},false,false,true,false,false,{"$error":"#N/A"},{"$error":"#N/A"},{"$error":"#N/A"},{"$error":"#N/A"},false,false,false,false,false,{"$error":"#N/A"},{"$error":"#N/A"},{"$error":"#N/A"},{"$error":"#N/A"}]
[74,{"$f":"OFFSET(InputPriceData!B$15,CalculationsAndCharts!$A106+$A$11,0,1,1)","v":"2013-07-29"},{"$f":"OFFSET(InputPriceData!G$15,CalculationsAndCharts!$A106+$A$11,0,1,1)","v":2497900},{"$f":"OFFSET(InputPriceData!C$15,CalculationsAndCharts!$A106+$A$11,IF($C$7,7,0),1,1)","v":53.81},{"$f":"OFFSET(InputPriceData!D$15,CalculationsAndCharts!$A106+$A$11,IF($C$7,7,0),1,1)","v":54.2},{"$f":"OFFSET(InputPriceData!E$15,CalculationsAndCharts!$A106+$A$11,IF($C$7,7,0),1,1)","v":53.44},{"$f":"OFFSET(InputPriceData!F$15,CalculationsAndCharts!$A106+$A$11,IF($C$7,7,0),1,1)","v":54.18},{"$error":"#N/A"},{"$error":"#N/A"},{"$error":"#N/A"},54.012058865853732,54.012058865853732,0.13051684819477694,0.1288605239947912,2.1405678533937635,-8.6126585166431124E-3,6.3965395996092661E-2,0.11270228485249444,null,55.65,51.11,0.67621145374449354,{"$error":"#N/A"},0.2,0.8,53.81,{"$error":"#N/A"},{"$error":"#N/A"},{"$error":"#N/A"},false,true,true,false,false,53.81,{"$error":"#N/A"},53.81,{"$error":"#N/A"},false,false,false,false,true,{"$error":"#N/A"},53.81,{"$error":"#N/A"},53.81]
[75,{"$f":"OFFSET(InputPriceData!B$15,CalculationsAndCharts!$A107+$A$11,0,1,1)","v":"2013-07-26"},{"$f":"OFFSET(InputPriceData!G$15,CalculationsAndCharts!$A107+$A$11,0,1,1)","v":2808400},{"$f":"OFFSET(InputPriceData!C$15,CalculationsAndCharts!$A107+$A$11,IF($C$7,7,0),1,1)","v":54.03},{"$f":"OFFSET(InputPriceData!D$15,CalculationsAndCharts!$A107+$A$11,IF($C$7,7,0),1,1)","v":54.05},{"$f":"OFFSET(InputPriceData!E$15,CalculationsAndCharts!$A107+$A$11,IF($C$7,7,0),1,1)","v":53.25},{"$f":"OFFSET(InputPriceData!F$15,CalculationsAndCharts!$A107+$A$11,IF($C$7,7,0),1,1)","v":53.78},{"$error":"#N/A"},{"$error":"#N/A"},{"$error":"#N/A"},53.953214068132368,53.953214068132368,-0.20163509670844448,0.16987777849046623,2.1405678533937635,-8.6126585166431124E-3,8.305046319652748E-2,0.16256559357853873,null,55.65,50.43,0.64176245210728011,{"$error":"#N/A"},0.2,0.8,{"$error":"#N/A"},{"$error":"#N/A"},0.16256559357853873,{"$error":"#N/A"},true,false,false,false,false,{"$error":"#N/A"},{"$error":"#N/A"},{"$error":"#N/A"},{"$error":"#N/A"},false,false,true,true,false,{"$error":"#N/A"},{"$error":"#N/A"},{"$error":"#N/A"},{"$error":"#N/A"}]
[76,{"$f":"OFFSET(InputPriceData!B$15,CalculationsAndCharts!$A108+$A$11,0,1,1)","v":"2013-07-25"},{"$f":"OFFSET(InputPriceData!G$15,CalculationsAndCharts!$A108+$A$11,0,1,1)","v":2688000},{"$f":"OFFSET(InputPriceData!C$15,CalculationsAndCharts!$A108+$A$11,IF($C$7,7,0),1,1)","v":54.1},{"$f":"OFFSET(InputPriceData!D$15,CalculationsAndCharts!$A108+$A$11,IF($C$7,7,0),1,1)","v":54.37},{"$f":"OFFSET(InputPriceData!E$15,CalculationsAndCharts!$A108+$A$11,IF($C$7,7,0),1,1)","v":53.72},{"$f":"OFFSET(InputPriceData!F$15,CalculationsAndCharts!$A108+$A$11,IF($C$7,7,0),1,1)","v":54.23},{"$error":"#N/A"},{"$error":"#N/A"},{"$error":"#N/A"},53.826628078304168,53.826628078304168,0.33501882164216662,0.14316697396846018,2.1405678533937635,-0.10673904572243686,0.1112024440405437,0.22898896782555747,null,55.65,50.43,0.72796934865900342,{"$error":"#N/A"},0.2,0.8,{"$error":"#N/A"},{"$error":"#N/A"},{"$error":"#N/A"},{"$error":"#N/A"},false,false,false,false,false,{"$error":"#N/A"},{"$error":"#N/A"},{"$error":"#N/A"},{"$error":"#N/A"},false,false,true,false,false,{"$error":"#N/A"},{"$error":"#N/A"},{"$error":"#N/A"},{"$error":"#N/A"}]
[77,{"$f":"OFFSET(InputPriceData!B$15,CalculationsAndCharts!$A109+$A$11,0,1,1)","v":"2013-07-24"},{"$f":"OFFSET(InputPriceData!G$15,CalculationsAndCharts!$A109+$A$11,0,1,1)","v":2924700},{"$f":"OFFSET(InputPriceData!C$15,CalculationsAndCharts!$A109+$A$11,IF($C$7,7,0),1,1)","v":53.76},{"$f":"OFFSET(InputPriceData!D$15,CalculationsAndCharts!$A109+$A$11,IF($C$7,7,0),1,1)","v":54.25},{"$f":"OFFSET(InputPriceData!E$15,CalculationsAndCharts!$A109+$A$11,IF($C$7,7,0),1,1)","v":53.67},{"$f":"OFFSET(InputPriceData!F$15,CalculationsAndCharts!$A109+$A$11,IF($C$7,7,0),1,1)","v":54.23},{"$error":"#N/A"},{"$error":"#N/A"},{"$error":"#N/A"},53.628635044181166,53.628635044181166,0.48304205306350279,3.1156831758002573E-2,2.1405678533937635,-0.49512965193840697,0.19967635991296465,0.30933090544453912,null,55.65,50.43,0.72796934865900342,{"$error":"#N/A"},0.2,0.8,{"$error":"#N/A"},{"$error":"#N/A"},{"$error":"#N/A"},{"$error":"#N/A"},false,false,false,false,false,{"$error":"#N/A"},{"$error":"#N/A"},{"$error":"#N/A"},{"$error":"#N/A"},false,false,true,false,false,{"$error":"#N/A"},{"$error":"#N/A"},{"$error":"#N/A"},{"$error":"#N/A"}]
[78,{"$f":"OFFSET(InputPriceData!B$15,CalculationsAndCharts!$A110+$A$11,0,1,1)","v":"2013-07-23"},{"$f":"OFFSET(InputPriceData!G$15,CalculationsAndCharts!$A110+$A$11,0,1,1)","v":2915400},{"$f":"OFFSET(InputPriceData!C$15,CalculationsAndCharts!$A110+$A$11,IF($C$7,7,0),1,1)","v":53.63},{"$f":"OFFSET(InputPriceData!D$15,CalculationsAndCharts!$A110+$A$11,IF($C$7,7,0),1,1)","v":53.95},{"$f":"OFFSET(InputPriceData!E$15,CalculationsAndCharts!$A110+$A$11,IF($C$7,7,0),1,1)","v":53.31},{"$f":"OFFSET(InputPriceData!F$15,CalculationsAndCharts!$A110+$A$11,IF($C$7,7,0),1,1)","v":53.82},{"$error":"#N/A"},{"$error":"#N/A"},{"$error":"#N/A"},53.517361441717327,53.517361441717327,0.20587351306520063,-8.6126585166431124E-3,2.1405678533937635,-0.68752522635706681,0.2400601920429859,0.40995567414091477,null,55.65,50.43,0.6494252873563221,{"$error":"#N/A"},0.2,0.8,{"$error":"#N/A"},{"$error":"#N/A"},{"$error":"#N/A"},{"$error":"#N/A"},false,false,false,false,false,{"$error":"#N/A"},{"$error":"#N/A"},{"$error":"#N/A"},{"$error":"#N/A"},false,false,true,false,false,{"$error":"#N/A"},{"$error":"#N/A"},{"$error":"#N/A"},{"$error":"#N/A"}]
[79,{"$f":"OFFSET(InputPriceData!B$15,CalculationsAndCharts!$A111+$A$11,0,1,1)","v":"2013-07-22"},{"$f":"OFFSET(InputPriceData!G$15,CalculationsAndCharts!$A111+$A$11,0,1,1)","v":2225000},{"$f":"OFFSET(InputPriceData!C$15,CalculationsAndCharts!$A111+$A$11,IF($C$7,7,0),1,1)","v":53.37},{"$f":"OFFSET(InputPriceData!D$15,CalculationsAndCharts!$A111+$A$11,IF($C$7,7,0),1,1)","v":53.69},{"$f":"OFFSET(InputPriceData!E$15,CalculationsAndCharts!$A111+$A$11,IF($C$7,7,0),1,1)","v":53.04},{"$f":"OFFSET(InputPriceData!F$15,CalculationsAndCharts!$A111+$A$11,IF($C$7,7,0),1,1)","v":53.54},{"$error":"#N/A"},{"$error":"#N/A"},{"$error":"#N/A"},53.559247493986504,53.559247493986504,1.3249377368928009E-2,0.11199399673160171,2.1405678533937635,-0.68752522635706681,0.28270612053515237,0.53761783574293309,null,55.65,50,0.6265486725663717,{"$error":"#N/A"},0.2,0.8,{"$error":"#N/A"},{"$error":"#N/A"},{"$error":"#N/A"},{"$error":"#N/A"},false,false,false,false,false,{"$error":"#N/A"},{"$error":"#N/A"},{"$error":"#N/A"},{"$error":"#N/A"},false,false,true,false,false,{"$error":"#N/A"},{"$error":"#N/A"},{"$error":"#N/A"},{"$error":"#N/A"}]
[80,{"$f":"OFFSET(InputPriceData!B$15,CalculationsAndCharts!$A112+$A$11,0,1,1)","v":"2013-07-19"},{"$f":"OFFSET(InputPriceData!G$15,CalculationsAndCharts!$A112+$A$11,0,1,1)","v":2474400},{"$f":"OFFSET(InputPriceData!C$15,CalculationsAndCharts!$A112+$A$11,IF($C$7,7,0),1,1)","v":53.51},{"$f":"OFFSET(InputPriceData!D$15,CalculationsAndCharts!$A112+$A$11,IF($C$7,7,0),1,1)","v":53.94},{"$f":"OFFSET(InputPriceData!E$15,CalculationsAndCharts!$A112+$A$11,IF($C$7,7,0),1,1)","v":53.06},{"$f":"OFFSET(InputPriceData!F$15,CalculationsAndCharts!$A112+$A$11,IF($C$7,7,0),1,1)","v":53.3},{"$error":"#N/A"},{"$error":"#N/A"},{"$error":"#N/A"},53.735404628313027,53.735404628313027,-0.1747485635370942,0.40373238866159933,2.1405678533937635,-0.68752522635706681,0.38586340132581903,0.67799707480282234,null,55.65,50,0.58407079646017668,{"$error":"#N/A"},0.2,0.8,{"$error":"#N/A"},{"$error":"#N/A"},{"$error":"#N/A"},{"$error":"#N/A"},false,false,false,false,false,{"$error":"#N/A"},{"$error":"#N/A"},{"$error":"#N/A"},{"$error":"#N/A"},false,false,true,false,false,{"$error":"#N/A"},{"$error":"#N/A"},{"$error":"#N/A"},{"$error":"#N/A"}]
[81,{"$f":"OFFSET(InputPriceData!B$15,CalculationsAndCharts!$A113+$A$11,0,1,1)","v":"2013-07-18"},{"$f":"OFFSET(InputPriceData!G$15,CalculationsAndCharts!$A113+$A$11,0,1,1)","v":2050400},{"$f":"OFFSET(InputPriceData!C$15,CalculationsAndCharts!$A113+$A$11,IF($C$7,7,0),1,1)","v":53.71},{"$f":"OFFSET(InputPriceData!D$15,CalculationsAndCharts!$A113+$A$11,IF($C$7,7,0),1,1)","v":53.91},{"$f":"OFFSET(InputPriceData!E$15,CalculationsAndCharts!$A113+$A$11,IF($C$7,7,0),1,1)","v":53.29},{"$f":"OFFSET(InputPriceData!F$15,CalculationsAndCharts!$A113+$A$11,IF($C$7,7,0),1,1)","v":53.45},{"$error":"#N/A"},{"$f":"IF($A113=$E$25,I$32,NA())","v":{"$error":"#N/A"}},{"$error":"#N/A"},53.969584104603683,53.969584104603683,2.9407915977719301E-2,0.81486908566493454,2.1405678533937635,-0.68752522635706681,0.53123934384591409,0.80776623399291614,null,55.65,49.88,0.61871750433275607,{"$error":"#N/A"},0.2,0.8,{"$error":"#N/A"},{"$error":"#N/A"},{"$error":"#N/A"},{"$error":"#N/A"},false,false,false,false,false,{"$error":"#N/A"},{"$error":"#N/A"},{"$error":"#N/A"},{"$error":"#N/A"},false,false,true,false,false,{"$error":"#N/A"},{"$error":"#N/A"},{"$error":"#N/A"},{"$error":"#N/A"}]
[82,{"$f":"OFFSET(InputPriceData!B$15,CalculationsAndCharts!$A114+$A$11,0,1,1)","v":"2013-07-17"},{"$f":"OFFSET(InputPriceData!G$15,CalculationsAndCharts!$A114+$A$11,0,1,1)","v":1784300},{"$f":"OFFSET(InputPriceData!C$15,CalculationsAndCharts!$A114+$A$11,IF($C$7,7,0),1,1)","v":54.15},{"$f":"OFFSET(InputPriceData!D$15,CalculationsAndCharts!$A114+$A$11,IF($C$7,7,0),1,1)","v":54.2},{"$f":"OFFSET(InputPriceData!E$15,CalculationsAndCharts!$A114+$A$11,IF($C$7,7,0),1,1)","v":53.6},{"$f":"OFFSET(InputPriceData!F$15,CalculationsAndCharts!$A114+$A$11,IF($C$7,7,0),1,1)","v":53.65},{"$error":"#N/A"},{"$error":"#N/A"},{"$error":"#N/A"},54.173012495979286,54.173012495979286,0.32983645687582519,1.2682388298630425,2.1405678533937635,-0.68752522635706681,0.69154868707235839,0.90835212252313102,null,55.65,49.88,0.65337954939341403,{"$error":"#N/A"},0.2,0.8,{"$error":"#N/A"},{"$error":"#N/A"},{"$error":"#N/A"},{"$error":"#N/A"},false,false,false,false,false,{"$error":"#N/A"},{"$error":"#N/A"},{"$error":"#N/A"},{"$error":"#N/A"},false,false,true,false,false,{"$error":"#N/A"},{"$error":"#N/A"},{"$error":"#N/A"},{"$error":"#N/A"}]
[83,{"$f":"OFFSET(InputPriceData!B$15,CalculationsAndCharts!$A115+$A$11,0,1,1)","v":"2013-07-16"},{"$f":"OFFSET(InputPriceData!G$15,CalculationsAndCharts!$A115+$A$11,0,1,1)","v":2169100},{"$f":"OFFSET(InputPriceData!C$15,CalculationsAndCharts!$A115+$A$11,IF($C$7,7,0),1,1)","v":53.71},{"$f":"OFFSET(InputPriceData!D$15,CalculationsAndCharts!$A115+$A$11,IF($C$7,7,0),1,1)","v":54.03},{"$f":"OFFSET(InputPriceData!E$15,CalculationsAndCharts!$A115+$A$11,IF($C$7,7,0),1,1)","v":53.5},{"$f":"OFFSET(InputPriceData!F$15,CalculationsAndCharts!$A115+$A$11,IF($C$7,7,0),1,1)","v":53.9},{"$error":"#N/A"},{"$error":"#N/A"},{"$error":"#N/A"},54.28417815515644,54.28417815515644,0.74330958763895094,1.7005369615465995,2.1405678533937635,-0.68752522635706681,0.8444072102867517,0.9701454133267926,null,55.65,49.88,0.69670710571923722,{"$error":"#N/A"},0.2,0.8,{"$error":"#N/A"},{"$error":"#N/A"},{"$error":"#N/A"},{"$error":"#N/A"},false,false,false,false,false,{"$error":"#N/A"},{"$error":"#N/A"},{"$error":"#N/A"},{"$error":"#N/A"},false,false,true,false,false,{"$error":"#N/A"},{"$error":"#N/A"},{"$error":"#N/A"},{"$error":"#N/A"}]
[84,{"$f":"OFFSET(InputPriceData!B$15,CalculationsAndCharts!$A116+$A$11,0,1,1)","v":"2013-07-15"},{"$f":"OFFSET(InputPriceData!G$15,CalculationsAndCharts!$A116+$A$11,0,1,1)","v":2538100},{"$f":"OFFSET(InputPriceData!C$15,CalculationsAndCharts!$A116+$A$11,IF($C$7,7,0),1,1)","v":53.93},{"$f":"OFFSET(InputPriceData!D$15,CalculationsAndCharts!$A116+$A$11,IF($C$7,7,0),1,1)","v":54.2},{"$f":"OFFSET(InputPriceData!E$15,CalculationsAndCharts!$A116+$A$11,IF($C$7,7,0),1,1)","v":53.76},{"$f":"OFFSET(InputPriceData!F$15,CalculationsAndCharts!$A116+$A$11,IF($C$7,7,0),1,1)","v":53.96},{"$error":"#N/A"},{"$error":"#N/A"},{"$error":"#N/A"},54.241082100415035,54.241082100415035,1.0250775503592386,2.0352298540462384,2.1405678533937635,-0.68752522635706681,0.9627529941989017,0.99596037077398614,null,55.65,49.88,0.70710571923743515,{"$error":"#N/A"},0.2,0.8,{"$error":"#N/A"},{"$error":"#N/A"},{"$error":"#N/A"},{"$error":"#N/A"},false,false,false,false,false,{"$error":"#N/A"},{"$error":"#N/A"},{"$error":"#N/A"},{"$error":"#N/A"},false,false,true,false,false,{"$error":"#N/A"},{"$error":"#N/A"},{"$error":"#N/A"},{"$error":"#N/A"}]
[85,{"$f":"OFFSET(InputPriceData!B$15,CalculationsAndCharts!$A117+$A$11,0,1,1)","v":"2013-07-12"},{"$f":"OFFSET(InputPriceData!G$15,CalculationsAndCharts!$A117+$A$11,0,1,1)","v":7579900},{"$f":"OFFSET(InputPriceData!C$15,CalculationsAndCharts!$A117+$A$11,IF($C$7,7,0),1,1)","v":54.14},{"$f":"OFFSET(InputPriceData!D$15,CalculationsAndCharts!$A117+$A$11,IF($C$7,7,0),1,1)","v":54.4},{"$f":"OFFSET(InputPriceData!E$15,CalculationsAndCharts!$A117+$A$11,IF($C$7,7,0),1,1)","v":53.45},{"$f":"OFFSET(InputPriceData!F$15,CalculationsAndCharts!$A117+$A$11,IF($C$7,7,0),1,1)","v":53.77},{"$error":"#N/A"},{"$error":"#N/A"},{"$error":"#N/A"},53.944843335029205,53.944843335029205,1.0796937504327078,2.1405678533937635,2.1405678533937635,-0.68752522635706681,1,1.0018691582107402,null,55.65,49.88,0.67417677642980989,{"$error":"#N/A"},0.2,0.8,{"$error":"#N/A"},{"$error":"#N/A"},{"$error":"#N/A"},{"$error":"#N/A"},false,false,false,false,false,{"$error":"#N/A"},{"$error":"#N/A"},{"$error":"#N/A"},{"$error":"#N/A"},false,false,true,false,false,{"$error":"#N/A"},{"$error":"#N/A"},{"$error":"#N/A"},{"$error":"#N/A"}]
[86,{"$f":"OFFSET(InputPriceData!B$15,CalculationsAndCharts!$A118+$A$11,0,1,1)","v":"2013-07-11"},{"$f":"OFFSET(InputPriceData!G$15,CalculationsAndCharts!$A118+$A$11,0,1,1)","v":4215300},{"$f":"OFFSET(InputPriceData!C$15,CalculationsAndCharts!$A118+$A$11,IF($C$7,7,0),1,1)","v":55.05},{"$f":"OFFSET(InputPriceData!D$15,CalculationsAndCharts!$A118+$A$11,IF($C$7,7,0),1,1)","v":55.8},{"$f":"OFFSET(InputPriceData!E$15,CalculationsAndCharts!$A118+$A$11,IF($C$7,7,0),1,1)","v":54.58},{"$f":"OFFSET(InputPriceData!F$15,CalculationsAndCharts!$A118+$A$11,IF($C$7,7,0),1,1)","v":55.65},{"$error":"#N/A"},{"$error":"#N/A"},{"$error":"#N/A"},53.175446668910581,53.175446668910581,3.4111463448582398,1.7269506182475927,1.7269506182475927,-0.88839437656689046,1,1.0036230621865201,null,55.65,49.88,1,{"$error":"#N/A"},0.2,0.8,{"$error":"#N/A"},{"$error":"#N/A"},{"$error":"#N/A"},{"$error":"#N/A"},false,false,false,false,false,{"$error":"#N/A"},{"$error":"#N/A"},{"$error":"#N/A"},{"$error":"#N/A"},false,false,true,false,false,{"$error":"#N/A"},{"$error":"#N/A"},{"$error":"#N/A"},{"$error":"#N/A"}]
[87,{"$f":"OFFSET(InputPriceData!B$15,CalculationsAndCharts!$A119+$A$11,0,1,1)","v":"2013-07-10"},{"$f":"OFFSET(InputPriceData!G$15,CalculationsAndCharts!$A119+$A$11,0,1,1)","v":8237500},{"$f":"OFFSET(InputPriceData!C$15,CalculationsAndCharts!$A119+$A$11,IF($C$7,7,0),1,1)","v":52.87},{"$f":"OFFSET(InputPriceData!D$15,CalculationsAndCharts!$A119+$A$11,IF($C$7,7,0),1,1)","v":55.01},{"$f":"OFFSET(InputPriceData!E$15,CalculationsAndCharts!$A119+$A$11,IF($C$7,7,0),1,1)","v":52.83},{"$f":"OFFSET(InputPriceData!F$15,CalculationsAndCharts!$A119+$A$11,IF($C$7,7,0),1,1)","v":54.78},{"$error":"#N/A"},{"$error":"#N/A"},{"$error":"#N/A"},52.249235242343737,52.249235242343737,3.1616942212715458,1.0404030964575148,1.0404030964575148,-1.2586491408550249,1,1.0056575558061294,null,54.78,49.88,1,{"$error":"#N/A"},0.2,0.8,{"$error":"#N/A"},{"$error":"#N/A"},{"$error":"#N/A"},{"$error":"#N/A"},false,false,false,false,false,{"$error":"#N/A"},{"$error":"#N/A"},{"$error":"#N/A"},{"$error":"#N/A"},false,false,true,false,false,{"$error":"#N/A"},{"$error":"#N/A"},{"$error":"#N/A"},{"$error":"#N/A"}]
[88,{"$f":"OFFSET(InputPriceData!B$15,CalculationsAndCharts!$A120+$A$11,0,1,1)","v":"2013-07-09"},{"$f":"OFFSET(InputPriceData!G$15,CalculationsAndCharts!$A120+$A$11,0,1,1)","v":2370100},{"$f":"OFFSET(InputPriceData!C$15,CalculationsAndCharts!$A120+$A$11,IF($C$7,7,0),1,1)","v":52.32},{"$f":"OFFSET(InputPriceData!D$15,CalculationsAndCharts!$A120+$A$11,IF($C$7,7,0),1,1)","v":52.82},{"$f":"OFFSET(InputPriceData!E$15,CalculationsAndCharts!$A120+$A$11,IF($C$7,7,0),1,1)","v":51.77},{"$f":"OFFSET(InputPriceData!F$15,CalculationsAndCharts!$A120+$A$11,IF($C$7,7,0),1,1)","v":51.8},{"$error":"#N/A"},{"$error":"#N/A"},{"$error":"#N/A"},51.822603436521547,51.822603436521547,0.51175219884355116,0.75350143237787792,0.75350143237787792,-1.7499416789481008,1,1.0071221140327777,null,52.43,49.88,0.752941176470587,{"$error":"#N/A"},0.2,0.8,{"$error":"#N/A"},{"$error":"#N/A"},{"$error":"#N/A"},{"$error":"#N/A"},false,false,false,false,false,{"$error":"#N/A"},{"$error":"#N/A"},{"$error":"#N/A"},{"$error":"#N/A"},false,false,true,false,false,{"$error":"#N/A"},{"$error":"#N/A"},{"$error":"#N/A"},{"$error":"#N/A"}]
[89,{"$f":"OFFSET(InputPriceData!B$15,CalculationsAndCharts!$A121+$A$11,0,1,1)","v":"2013-07-08"},{"$f":"OFFSET(InputPriceData!G$15,CalculationsAndCharts!$A121+$A$11,0,1,1)","v":2309500},{"$f":"OFFSET(InputPriceData!C$15,CalculationsAndCharts!$A121+$A$11,IF($C$7,7,0),1,1)","v":52},{"$f":"OFFSET(InputPriceData!D$15,CalculationsAndCharts!$A121+$A$11,IF($C$7,7,0),1,1)","v":52.36},{"$f":"OFFSET(InputPriceData!E$15,CalculationsAndCharts!$A121+$A$11,IF($C$7,7,0),1,1)","v":51.49},{"$f":"OFFSET(InputPriceData!F$15,CalculationsAndCharts!$A121+$A$11,IF($C$7,7,0),1,1)","v":52.12},{"$error":"#N/A"},{"$error":"#N/A"},{"$error":"#N/A"},51.688437069024474,51.688437069024474,0.94556821623486442,0.72262313229012998,0.72262313229012998,-2.1695911524785174,1,1.0062995939738928,null,52.43,49.88,0.8784313725490186,{"$error":"#N/A"},0.2,0.8,{"$error":"#N/A"},{"$error":"#N/A"},{"$error":"#N/A"},{"$error":"#N/A"},false,false,false,false,false,{"$error":"#N/A"},{"$error":"#N/A"},{"$error":"#N/A"},{"$error":"#N/A"},false,false,true,false,false,{"$error":"#N/A"},{"$error":"#N/A"},{"$error":"#N/A"},{"$error":"#N/A"}]
[90,{"$f":"OFFSET(InputPriceData!B$15,CalculationsAndCharts!$A122+$A$11,0,1,1)","v":"2013-07-05"},{"$f":"OFFSET(InputPriceData!G$15,CalculationsAndCharts!$A122+$A$11,0,1,1)","v":1673500},{"$f":"OFFSET(InputPriceData!C$15,CalculationsAndCharts!$A122+$A$11,IF($C$7,7,0),1,1)","v":51.46},{"$f":"OFFSET(InputPriceData!D$15,CalculationsAndCharts!$A122+$A$11,IF($C$7,7,0),1,1)","v":52.05},{"$f":"OFFSET(InputPriceData!E$15,CalculationsAndCharts!$A122+$A$11,IF($C$7,7,0),1,1)","v":51.26},{"$f":"OFFSET(InputPriceData!F$15,CalculationsAndCharts!$A122+$A$11,IF($C$7,7,0),1,1)","v":52.01},{"$error":"#N/A"},{"$error":"#N/A"},{"$error":"#N/A"},51.529368647217296,51.529368647217296,0.98604257425970598,0.65126311426702932,0.67135009320256323,-2.4868138663368731,0.99363966558010386,1.000422639802127,null,52.43,49.88,0.83529411764705797,{"$error":"#N/A"},0.2,0.8,{"$error":"#N/A"},{"$error":"#N/A"},{"$error":"#N/A"},{"$error":"#N/A"},false,false,false,false,false,{"$error":"#N/A"},{"$error":"#N/A"},{"$error":"#N/A"},{"$error":"#N/A"},false,false,true,false,false,{"$error":"#N/A"},{"$error":"#N/A"},{"$error":"#N/A"},{"$error":"#N/A"}]
[91,{"$f":"OFFSET(InputPriceData!B$15,CalculationsAndCharts!$A123+$A$11,0,1,1)","v":"2013-07-03"},{"$f":"OFFSET(InputPriceData!G$15,CalculationsAndCharts!$A123+$A$11,0,1,1)","v":1860000},{"$f":"OFFSET(InputPriceData!C$15,CalculationsAndCharts!$A123+$A$11,IF($C$7,7,0),1,1)","v":51.25},{"$f":"OFFSET(InputPriceData!D$15,CalculationsAndCharts!$A123+$A$11,IF($C$7,7,0),1,1)","v":51.38},{"$f":"OFFSET(InputPriceData!E$15,CalculationsAndCharts!$A123+$A$11,IF($C$7,7,0),1,1)","v":50.53},{"$f":"OFFSET(InputPriceData!F$15,CalculationsAndCharts!$A123+$A$11,IF($C$7,7,0),1,1)","v":51.11},{"$error":"#N/A"},{"$error":"#N/A"},{"$error":"#N/A"},51.472277712291955,51.472277712291955,0.15688242379078465,0.67135009320256323,0.67135009320256323,-2.6969193883865095,1,0.98391640554574344,null,52.43,49.88,0.48235294117646987,{"$error":"#N/A"},0.2,0.8,{"$error":"#N/A"},{"$error":"#N/A"},{"$error":"#N/A"},{"$error":"#N/A"},false,false,false,false,false,{"$error":"#N/A"},{"$error":"#N/A"},{"$error":"#N/A"},{"$error":"#N/A"},false,false,true,false,false,{"$error":"#N/A"},{"$error":"#N/A"},{"$error":"#N/A"},{"$error":"#N/A"}]
[92,{"$f":"OFFSET(InputPriceData!B$15,CalculationsAndCharts!$A124+$A$11,0,1,1)","v":"2013-07-02"},{"$f":"OFFSET(InputPriceData!G$15,CalculationsAndCharts!$A124+$A$11,0,1,1)","v":3334300},{"$f":"OFFSET(InputPriceData!C$15,CalculationsAndCharts!$A124+$A$11,IF($C$7,7,0),1,1)","v":52.19},{"$f":"OFFSET(InputPriceData!D$15,CalculationsAndCharts!$A124+$A$11,IF($C$7,7,0),1,1)","v":52.43},{"$f":"OFFSET(InputPriceData!E$15,CalculationsAndCharts!$A124+$A$11,IF($C$7,7,0),1,1)","v":51.23},{"$f":"OFFSET(InputPriceData!F$15,CalculationsAndCharts!$A124+$A$11,IF($C$7,7,0),1,1)","v":51.36},{"$error":"#N/A"},{"$error":"#N/A"},{"$error":"#N/A"},51.387459670214596,51.387459670214596,0.42177247637473175,0.65871179270086022,0.65871179270086022,-2.6969193883865095,1,0.95172568013768433,null,52.43,49.88,0.58039215686274448,{"$error":"#N/A"},0.2,0.8,{"$error":"#N/A"},{"$error":"#N/A"},{"$error":"#N/A"},{"$error":"#N/A"},false,false,false,false,false,{"$error":"#N/A"},{"$error":"#N/A"},{"$error":"#N/A"},{"$error":"#N/A"},false,false,true,false,false,{"$error":"#N/A"},{"$error":"#N/A"},{"$error":"#N/A"},{"$error":"#N/A"}]
[93,{"$f":"OFFSET(InputPriceData!B$15,CalculationsAndCharts!$A125+$A$11,0,1,1)","v":"2013-07-01"},{"$f":"OFFSET(InputPriceData!G$15,CalculationsAndCharts!$A125+$A$11,0,1,1)","v":4290300},{"$f":"OFFSET(InputPriceData!C$15,CalculationsAndCharts!$A125+$A$11,IF($C$7,7,0),1,1)","v":51.03},{"$f":"OFFSET(InputPriceData!D$15,CalculationsAndCharts!$A125+$A$11,IF($C$7,7,0),1,1)","v":52.84},{"$f":"OFFSET(InputPriceData!E$15,CalculationsAndCharts!$A125+$A$11,IF($C$7,7,0),1,1)","v":50.97},{"$f":"OFFSET(InputPriceData!F$15,CalculationsAndCharts!$A125+$A$11,IF($C$7,7,0),1,1)","v":52.43},{"$error":"#N/A"},{"$error":"#N/A"},{"$error":"#N/A"},51.08740596473519,51.08740596473519,1.6381919846219861,0.40064358656028509,0.40064358656028509,-2.6969193883865095,1,0.90316992621519065,null,52.43,48.64,1,{"$error":"#N/A"},0.2,0.8,{"$error":"#N/A"},{"$error":"#N/A"},{"$error":"#N/A"},{"$error":"#N/A"},false,false,false,false,false,{"$error":"#N/A"},{"$error":"#N/A"},{"$error":"#N/A"},{"$error":"#N/A"},false,false,true,false,false,{"$error":"#N/A"},{"$error":"#N/A"},{"$error":"#N/A"},{"$error":"#N/A"}]
[94,{"$f":"OFFSET(InputPriceData!B$15,CalculationsAndCharts!$A126+$A$11,0,1,1)","v":"2013-06-28"},{"$f":"OFFSET(InputPriceData!G$15,CalculationsAndCharts!$A126+$A$11,0,1,1)","v":8498100},{"$f":"OFFSET(InputPriceData!C$15,CalculationsAndCharts!$A126+$A$11,IF($C$7,7,0),1,1)","v":51.45},{"$f":"OFFSET(InputPriceData!D$15,CalculationsAndCharts!$A126+$A$11,IF($C$7,7,0),1,1)","v":51.59},{"$f":"OFFSET(InputPriceData!E$15,CalculationsAndCharts!$A126+$A$11,IF($C$7,7,0),1,1)","v":50.43},{"$f":"OFFSET(InputPriceData!F$15,CalculationsAndCharts!$A126+$A$11,IF($C$7,7,0),1,1)","v":50.43},{"$error":"#N/A"},{"$error":"#N/A"},{"$error":"#N/A"},50.854913549081679,50.854913549081679,-0.28847753839267359,0.1605235517562813,0.1605235517562813,-2.6969193883865095,1,0.84470924446778994,null,53.55,48.64,0.36456211812627298,{"$error":"#N/A"},0.2,0.8,{"$error":"#N/A"},{"$error":"#N/A"},{"$error":"#N/A"},{"$error":"#N/A"},false,false,false,false,false,{"$error":"#N/A"},{"$error":"#N/A"},{"$error":"#N/A"},{"$error":"#N/A"},true,false,true,false,false,{"$error":"#N/A"},{"$error":"#N/A"},{"$error":"#N/A"},{"$error":"#N/A"}]
[95,{"$f":"OFFSET(InputPriceData!B$15,CalculationsAndCharts!$A127+$A$11,0,1,1)","v":"2013-06-27"},{"$f":"OFFSET(InputPriceData!G$15,CalculationsAndCharts!$A127+$A$11,0,1,1)","v":2268900},{"$f":"OFFSET(InputPriceData!C$15,CalculationsAndCharts!$A127+$A$11,IF($C$7,7,0),1,1)","v":51.28},{"$f":"OFFSET(InputPriceData!D$15,CalculationsAndCharts!$A127+$A$11,IF($C$7,7,0),1,1)","v":51.93},{"$f":"OFFSET(InputPriceData!E$15,CalculationsAndCharts!$A127+$A$11,IF($C$7,7,0),1,1)","v":51.16},{"$f":"OFFSET(InputPriceData!F$15,CalculationsAndCharts!$A127+$A$11,IF($C$7,7,0),1,1)","v":51.64},{"$error":"#N/A"},{"$error":"#N/A"},{"$error":"#N/A"},50.643587002034693,50.643587002034693,0.92449827726200451,-0.10673904572243686,5.1124861746515815E-2,-2.6969193883865095,0.94255408825337839,0.79814638053933085,null,53.55,48.64,0.61099796334012257,{"$error":"#N/A"},0.2,0.8,{"$error":"#N/A"},{"$error":"#N/A"},{"$error":"#N/A"},{"$error":"#N/A"},false,false,false,false,false,{"$error":"#N/A"},{"$error":"#N/A"},{"$error":"#N/A"},{"$error":"#N/A"},false,false,true,false,false,{"$error":"#N/A"},{"$error":"#N/A"},{"$error":"#N/A"},{"$error":"#N/A"}]
[96,{"$f":"OFFSET(InputPriceData!B$15,CalculationsAndCharts!$A128+$A$11,0,1,1)","v":"2013-06-26"},{"$f":"OFFSET(InputPriceData!G$15,CalculationsAndCharts!$A128+$A$11,0,1,1)","v":1980700},{"$f":"OFFSET(InputPriceData!C$15,CalculationsAndCharts!$A128+$A$11,IF($C$7,7,0),1,1)","v":50.54},{"$f":"OFFSET(InputPriceData!D$15,CalculationsAndCharts!$A128+$A$11,IF($C$7,7,0),1,1)","v":51.27},{"$f":"OFFSET(InputPriceData!E$15,CalculationsAndCharts!$A128+$A$11,IF($C$7,7,0),1,1)","v":50.54},{"$f":"OFFSET(InputPriceData!F$15,CalculationsAndCharts!$A128+$A$11,IF($C$7,7,0),1,1)","v":51.17},{"$error":"#N/A"},{"$error":"#N/A"},{"$error":"#N/A"},50.370678695422214,50.370678695422214,0.52867238093630387,-0.49512965193840697,5.1124861746515815E-2,-2.6969193883865095,0.80122062675720007,0.79149082977851437,null,53.67,48.64,0.5029821073558649,{"$error":"#N/A"},0.2,0.8,{"$error":"#N/A"},{"$error":"#N/A"},{"$error":"#N/A"},{"$error":"#N/A"},false,false,false,false,false,{"$error":"#N/A"},{"$error":"#N/A"},{"$error":"#N/A"},{"$error":"#N/A"},false,false,true,false,false,{"$error":"#N/A"},{"$error":"#N/A"},{"$error":"#N/A"},{"$error":"#N/A"}]
[97,{"$f":"OFFSET(InputPriceData!B$15,CalculationsAndCharts!$A129+$A$11,0,1,1)","v":"2013-06-25"},{"$f":"OFFSET(InputPriceData!G$15,CalculationsAndCharts!$A129+$A$11,0,1,1)","v":2966100},{"$f":"OFFSET(InputPriceData!C$15,CalculationsAndCharts!$A129+$A$11,IF($C$7,7,0),1,1)","v":50.16},{"$f":"OFFSET(InputPriceData!D$15,CalculationsAndCharts!$A129+$A$11,IF($C$7,7,0),1,1)","v":50.81},{"$f":"OFFSET(InputPriceData!E$15,CalculationsAndCharts!$A129+$A$11,IF($C$7,7,0),1,1)","v":50.03},{"$f":"OFFSET(InputPriceData!F$15,CalculationsAndCharts!$A129+$A$11,IF($C$7,7,0),1,1)","v":50.51},{"$error":"#N/A"},{"$error":"#N/A"},{"$error":"#N/A"},50.343726829751205,50.343726829751205,-0.16164675308116971,-0.68752522635706681,5.1124861746515815E-2,-2.6969193883865095,0.73120880856710135,0.82478955381927277,null,53.93,48.64,0.35349716446124724,{"$error":"#N/A"},0.2,0.8,{"$error":"#N/A"},{"$error":"#N/A"},{"$error":"#N/A"},{"$error":"#N/A"},false,false,false,false,false,{"$error":"#N/A"},{"$error":"#N/A"},{"$error":"#N/A"},{"$error":"#N/A"},false,false,true,false,false,{"$error":"#N/A"},{"$error":"#N/A"},{"$error":"#N/A"},{"$error":"#N/A"}]
[98,{"$f":"OFFSET(InputPriceData!B$15,CalculationsAndCharts!$A130+$A$11,0,1,1)","v":"2013-06-24"},{"$f":"OFFSET(InputPriceData!G$15,CalculationsAndCharts!$A130+$A$11,0,1,1)","v":3669000},{"$f":"OFFSET(InputPriceData!C$15,CalculationsAndCharts!$A130+$A$11,IF($C$7,7,0),1,1)","v":49.78},{"$f":"OFFSET(InputPriceData!D$15,CalculationsAndCharts!$A130+$A$11,IF($C$7,7,0),1,1)","v":50.42},{"$f":"OFFSET(InputPriceData!E$15,CalculationsAndCharts!$A130+$A$11,IF($C$7,7,0),1,1)","v":49.5},{"$f":"OFFSET(InputPriceData!F$15,CalculationsAndCharts!$A130+$A$11,IF($C$7,7,0),1,1)","v":50},{"$error":"#N/A"},{"$error":"#N/A"},{"$error":"#N/A"},50.583632601211995,50.583632601211995,-0.82610367721792333,-0.61921729020190497,0.16413130542764182,-2.6969193883865095,0.72620247613115807,0.86969970051441636,null,54.48,48.64,0.23287671232876717,{"$error":"#N/A"},0.2,0.8,{"$error":"#N/A"},{"$error":"#N/A"},{"$error":"#N/A"},{"$error":"#N/A"},false,false,false,false,false,{"$error":"#N/A"},{"$error":"#N/A"},{"$error":"#N/A"},{"$error":"#N/A"},false,false,true,false,false,{"$error":"#N/A"},{"$error":"#N/A"},{"$error":"#N/A"},{"$error":"#N/A"}]
[99,{"$f":"OFFSET(InputPriceData!B$15,CalculationsAndCharts!$A131+$A$11,0,1,1)","v":"2013-06-21"},{"$f":"OFFSET(InputPriceData!G$15,CalculationsAndCharts!$A131+$A$11,0,1,1)","v":4118300},{"$f":"OFFSET(InputPriceData!C$15,CalculationsAndCharts!$A131+$A$11,IF($C$7,7,0),1,1)","v":50.3},{"$f":"OFFSET(InputPriceData!D$15,CalculationsAndCharts!$A131+$A$11,IF($C$7,7,0),1,1)","v":50.33},{"$f":"OFFSET(InputPriceData!E$15,CalculationsAndCharts!$A131+$A$11,IF($C$7,7,0),1,1)","v":49.47},{"$f":"OFFSET(InputPriceData!F$15,CalculationsAndCharts!$A131+$A$11,IF($C$7,7,0),1,1)","v":50.21},{"$error":"#N/A"},{"$error":"#N/A"},{"$error":"#N/A"},50.964665300134236,50.964665300134236,-0.82646979473934268,-0.37599494712235315,0.20348494719761617,-2.6969193883865095,0.80020720310940197,0.89211564034898116,null,54.48,48.64,0.26883561643835641,{"$error":"#N/A"},0.2,0.8,{"$error":"#N/A"},50.3,{"$error":"#N/A"},{"$error":"#N/A"},false,false,true,false,true,{"$error":"#N/A"},50.3,{"$error":"#N/A"},50.3,false,true,true,false,false,50.3,{"$error":"#N/A"},50.3,{"$error":"#N/A"}]
[100,{"$f":"OFFSET(InputPriceData!B$15,CalculationsAndCharts!$A132+$A$11,0,1,1)","v":"2013-06-20"},{"$f":"OFFSET(InputPriceData!G$15,CalculationsAndCharts!$A132+$A$11,0,1,1)","v":4553000},{"$f":"OFFSET(InputPriceData!C$15,CalculationsAndCharts!$A132+$A$11,IF($C$7,7,0),1,1)","v":51.17},{"$f":"OFFSET(InputPriceData!D$15,CalculationsAndCharts!$A132+$A$11,IF($C$7,7,0),1,1)","v":51.19},{"$f":"OFFSET(InputPriceData!E$15,CalculationsAndCharts!$A132+$A$11,IF($C$7,7,0),1,1)","v":49.72},{"$f":"OFFSET(InputPriceData!F$15,CalculationsAndCharts!$A132+$A$11,IF($C$7,7,0),1,1)","v":49.88},{"$error":"#N/A"},{"$error":"#N/A"},{"$error":"#N/A"},51.361997374419261,51.361997374419261,-1.4128286330999582,-6.1774556858499474E-2,0.2160186402224521,-2.6969193883865095,0.90463470408479363,0.86727729111761565,null,54.48,48.64,0.21232876712328816,{"$error":"#N/A"},0.2,0.8,{"$error":"#N/A"},{"$error":"#N/A"},{"$error":"#N/A"},0.86727729111761565,false,false,true,true,false,{"$error":"#N/A"},{"$error":"#N/A"},{"$error":"#N/A"},{"$error":"#N/A"},true,false,false,false,false,{"$error":"#N/A"},{"$error":"#N/A"},{"$error":"#N/A"},{"$error":"#N/A"}]
[101,{"$f":"OFFSET(InputPriceData!B$15,CalculationsAndCharts!$A133+$A$11,0,1,1)","v":"2013-06-19"},{"$f":"OFFSET(InputPriceData!G$15,CalculationsAndCharts!$A133+$A$11,0,1,1)","v":2913500},{"$f":"OFFSET(InputPriceData!C$15,CalculationsAndCharts!$A133+$A$11,IF($C$7,7,0),1,1)","v":52.36},{"$f":"OFFSET(InputPriceData!D$15,CalculationsAndCharts!$A133+$A$11,IF($C$7,7,0),1,1)","v":52.47},{"$f":"OFFSET(InputPriceData!E$15,CalculationsAndCharts!$A133+$A$11,IF($C$7,7,0),1,1)","v":51.3},{"$f":"OFFSET(InputPriceData!F$15,CalculationsAndCharts!$A133+$A$11,IF($C$7,7,0),1,1)","v":51.33},{"$error":"#N/A"},{"$f":"IF($A133=$E$25,I$32,NA())","v":{"$error":"#N/A"}},{"$error":"#N/A"},51.517490449837197,51.517490449837197,-0.14822479233290409,5.1124861746515815E-2,0.23022202860890925,-2.6969193883865095,0.9388149934189961,0.79774343418776561,null,54.48,48.64,0.46061643835616428,{"$error":"#N/A"},0.2,0.8,{"$error":"#N/A"},{"$error":"#N/A"},{"$error":"#N/A"},{"$error":"#N/A"},false,false,true,false,false,{"$error":"#N/A"},{"$error":"#N/A"},{"$error":"#N/A"},{"$error":"#N/A"},false,false,false,false,false,{"$error":"#N/A"},{"$error":"#N/A"},{"$error":"#N/A"},{"$error":"#N/A"}]
[102,{"$f":"OFFSET(InputPriceData!B$15,CalculationsAndCharts!$A134+$A$11,0,1,1)","v":"2013-06-18"},{"$f":"OFFSET(InputPriceData!G$15,CalculationsAndCharts!$A134+$A$11,0,1,1)","v":2988500},{"$f":"OFFSET(InputPriceData!C$15,CalculationsAndCharts!$A134+$A$11,IF($C$7,7,0),1,1)","v":51.1},{"$f":"OFFSET(InputPriceData!D$15,CalculationsAndCharts!$A134+$A$11,IF($C$7,7,0),1,1)","v":52.3},{"$f":"OFFSET(InputPriceData!E$15,CalculationsAndCharts!$A134+$A$11,IF($C$7,7,0),1,1)","v":50.81},{"$f":"OFFSET(InputPriceData!F$15,CalculationsAndCharts!$A134+$A$11,IF($C$7,7,0),1,1)","v":52.29},{"$error":"#N/A"},{"$error":"#N/A"},{"$error":"#N/A"},51.333947890854347,51.333947890854347,0.83657230663786497,-0.18622440386092437,0.23022202860890925,-2.6969193883865095,0.85772930885679666,0.70498838337931025,null,54.48,48.64,0.62500000000000011,{"$error":"#N/A"},0.2,0.8,{"$error":"#N/A"},{"$error":"#N/A"},{"$error":"#N/A"},{"$error":"#N/A"},false,false,true,false,{"$f":"AND(AG135,AF135)","v":false},{"$error":"#N/A"},{"$error":"#N/A"},{"$error":"#N/A"},{"$error":"#N/A"},false,{"$f":"AND(AM135,NOT(AO135))","v":false},false,false,false,{"$error":"#N/A"},{"$error":"#N/A"},{"$error":"#N/A"},{"$error":"#N/A"}]
[103,{"$f":"OFFSET(InputPriceData!B$15,CalculationsAndCharts!$A135+$A$11,0,1,1)","v":"2013-06-17"},{"$f":"OFFSET(InputPriceData!G$15,CalculationsAndCharts!$A135+$A$11,0,1,1)","v":2745200},{"$f":"OFFSET(InputPriceData!C$15,CalculationsAndCharts!$A135+$A$11,IF($C$7,7,0),1,1)","v":51.37},{"$f":"OFFSET(InputPriceData!D$15,CalculationsAndCharts!$A135+$A$11,IF($C$7,7,0),1,1)","v":51.8},{"$f":"OFFSET(InputPriceData!E$15,CalculationsAndCharts!$A135+$A$11,IF($C$7,7,0),1,1)","v":50.73},{"$f":"OFFSET(InputPriceData!F$15,CalculationsAndCharts!$A135+$A$11,IF($C$7,7,0),1,1)","v":51.13},{"$error":"#N/A"},{"$error":"#N/A"},{"$error":"#N/A"},51.180683590020521,51.180683590020521,-0.31683653589544236,-0.43686332065398875,0.23022202860890925,-2.6969193883865095,0.77210347768314114,0.59842739303069237,null,54.48,48.64,0.42636986301369922,{"$error":"#N/A"},0.2,0.8,{"$error":"#N/A"},{"$error":"#N/A"},{"$error":"#N/A"},{"$error":"#N/A"},false,false,true,false,false,{"$error":"#N/A"},{"$error":"#N/A"},{"$error":"#N/A"},{"$error":"#N/A"},false,false,false,false,{"$f":"AND(AP136,AO136)","v":false},{"$error":"#N/A"},{"$error":"#N/A"},{"$error":"#N/A"},{"$error":"#N/A"}]
[104,{"$f":"OFFSET(InputPriceData!B$15,CalculationsAndCharts!$A136+$A$11,0,1,1)","v":"2013-06-14"},{"$f":"OFFSET(InputPriceData!G$15,CalculationsAndCharts!$A136+$A$11,0,1,1)","v":1600000},{"$f":"OFFSET(InputPriceData!C$15,CalculationsAndCharts!$A136+$A$11,IF($C$7,7,0),1,1)","v":51.15},{"$f":"OFFSET(InputPriceData!D$15,CalculationsAndCharts!$A136+$A$11,IF($C$7,7,0),1,1)","v":51.58},{"$f":"OFFSET(InputPriceData!E$15,CalculationsAndCharts!$A136+$A$11,IF($C$7,7,0),1,1)","v":50.96},{"$f":"OFFSET(InputPriceData!F$15,CalculationsAndCharts!$A136+$A$11,IF($C$7,7,0),1,1)","v":51.18},{"$error":"#N/A"},{"$error":"#N/A"},{"$error":"#N/A"},51.133817857385395,51.133817857385395,-0.37179254757675828,-0.61744301026816373,0.23022202860890925,-2.6969193883865095,0.71041199651120246,0.47258132546567388,null,54.48,48.64,0.4349315068493152,{"$error":"#N/A"},0.2,0.8,{"$error":"#N/A"},{"$error":"#N/A"},{"$error":"#N/A"},{"$error":"#N/A"},false,false,true,false,false,{"$error":"#N/A"},{"$error":"#N/A"},{"$error":"#N/A"},{"$error":"#N/A"},false,false,false,false,false,{"$error":"#N/A"},{"$error":"#N/A"},{"$error":"#N/A"},{"$error":"#N/A"}]
[105,{"$f":"OFFSET(InputPriceData!B$15,CalculationsAndCharts!$A137+$A$11,0,1,1)","v":"2013-06-13"},{"$f":"OFFSET(InputPriceData!G$15,CalculationsAndCharts!$A137+$A$11,0,1,1)","v":2163900},{"$f":"OFFSET(InputPriceData!C$15,CalculationsAndCharts!$A137+$A$11,IF($C$7,7,0),1,1)","v":51.18},{"$f":"OFFSET(InputPriceData!D$15,CalculationsAndCharts!$A137+$A$11,IF($C$7,7,0),1,1)","v":51.5},{"$f":"OFFSET(InputPriceData!E$15,CalculationsAndCharts!$A137+$A$11,IF($C$7,7,0),1,1)","v":50.85},{"$f":"OFFSET(InputPriceData!F$15,CalculationsAndCharts!$A137+$A$11,IF($C$7,7,0),1,1)","v":51.2},{"$error":"#N/A"},{"$error":"#N/A"},{"$error":"#N/A"},51.032908129573791,51.032908129573791,-0.467418177870565,-0.88839437656689046,0.23022202860890925,-2.6969193883865095,0.61784681851004997,0.33196583469980889,null,54.48,48.64,0.43835616438356229,{"$error":"#N/A"},0.2,0.8,{"$error":"#N/A"},{"$error":"#N/A"},{"$error":"#N/A"},{"$error":"#N/A"},false,false,true,false,false,{"$error":"#N/A"},{"$error":"#N/A"},{"$error":"#N/A"},{"$error":"#N/A"},false,false,false,false,false,{"$error":"#N/A"},{"$error":"#N/A"},{"$error":"#N/A"},{"$error":"#N/A"}]
[106,{"$f":"OFFSET(InputPriceData!B$15,CalculationsAndCharts!$A138+$A$11,0,1,1)","v":"2013-06-12"},{"$f":"OFFSET(InputPriceData!G$15,CalculationsAndCharts!$A138+$A$11,0,1,1)","v":3171300},{"$f":"OFFSET(InputPriceData!C$15,CalculationsAndCharts!$A138+$A$11,IF($C$7,7,0),1,1)","v":51.75},{"$f":"OFFSET(InputPriceData!D$15,CalculationsAndCharts!$A138+$A$11,IF($C$7,7,0),1,1)","v":52},{"$f":"OFFSET(InputPriceData!E$15,CalculationsAndCharts!$A138+$A$11,IF($C$7,7,0),1,1)","v":50.78},{"$f":"OFFSET(InputPriceData!F$15,CalculationsAndCharts!$A138+$A$11,IF($C$7,7,0),1,1)","v":51.09},{"$error":"#N/A"},{"$error":"#N/A"},{"$error":"#N/A"},50.884245803230812,50.884245803230812,-0.7210405963296922,-1.2586491408550249,0.23022202860890925,-2.6969193883865095,0.49135659766237239,0.19451451274998463,null,54.48,48.64,0.41952054794520621,{"$error":"#N/A"},0.2,0.8,{"$error":"#N/A"},{"$error":"#N/A"},{"$error":"#N/A"},{"$error":"#N/A"},false,false,true,false,false,{"$error":"#N/A"},{"$error":"#N/A"},{"$error":"#N/A"},{"$error":"#N/A"},false,false,false,false,false,{"$error":"#N/A"},{"$error":"#N/A"},{"$error":"#N/A"},{"$error":"#N/A"}]
[107,{"$f":"OFFSET(InputPriceData!B$15,CalculationsAndCharts!$A139+$A$11,0,1,1)","v":"2013-06-11"},{"$f":"OFFSET(InputPriceData!G$15,CalculationsAndCharts!$A139+$A$11,0,1,1)","v":4824900},{"$f":"OFFSET(InputPriceData!C$15,CalculationsAndCharts!$A139+$A$11,IF($C$7,7,0),1,1)","v":50.33},{"$f":"OFFSET(InputPriceData!D$15,CalculationsAndCharts!$A139+$A$11,IF($C$7,7,0),1,1)","v":52},{"$f":"OFFSET(InputPriceData!E$15,CalculationsAndCharts!$A139+$A$11,IF($C$7,7,0),1,1)","v":50.16},{"$f":"OFFSET(InputPriceData!F$15,CalculationsAndCharts!$A139+$A$11,IF($C$7,7,0),1,1)","v":51.67},{"$error":"#N/A"},{"$error":"#N/A"},{"$error":"#N/A"},50.6832804957875,50.6832804957875,-0.2608813361017106,-1.7499416789481008,0.23022202860890925,-2.6969193883865095,0.32351621412621717,8.1942146764527241E-2,null,54.48,48.64,0.51883561643835674,{"$error":"#N/A"},0.2,0.8,{"$error":"#N/A"},{"$error":"#N/A"},{"$error":"#N/A"},{"$error":"#N/A"},false,false,true,false,false,{"$error":"#N/A"},{"$error":"#N/A"},{"$error":"#N/A"},{"$error":"#N/A"},false,false,false,false,false,{"$error":"#N/A"},{"$error":"#N/A"},{"$error":"#N/A"},{"$error":"#N/A"}]
[108,{"$f":"OFFSET(InputPriceData!B$15,CalculationsAndCharts!$A140+$A$11,0,1,1)","v":"2013-06-10"},{"$f":"OFFSET(InputPriceData!G$15,CalculationsAndCharts!$A140+$A$11,0,1,1)","v":5033200},{"$f":"OFFSET(InputPriceData!C$15,CalculationsAndCharts!$A140+$A$11,IF($C$7,7,0),1,1)","v":51.11},{"$f":"OFFSET(InputPriceData!D$15,CalculationsAndCharts!$A140+$A$11,IF($C$7,7,0),1,1)","v":51.33},{"$f":"OFFSET(InputPriceData!E$15,CalculationsAndCharts!$A140+$A$11,IF($C$7,7,0),1,1)","v":50.31},{"$f":"OFFSET(InputPriceData!F$15,CalculationsAndCharts!$A140+$A$11,IF($C$7,7,0),1,1)","v":50.35},{"$error":"#N/A"},{"$error":"#N/A"},{"$error":"#N/A"},50.623466929631178,50.623466929631178,-1.7935376965551093,-2.1695911524785174,0.23022202860890925,-2.6969193883865095,0.18015126732389689,8.5684582145422392E-3,null,54.48,48.64,0.29280821917808253,{"$error":"#N/A"},0.2,0.8,{"$error":"#N/A"},{"$error":"#N/A"},{"$error":"#N/A"},{"$error":"#N/A"},false,false,true,false,false,{"$error":"#N/A"},{"$error":"#N/A"},{"$error":"#N/A"},{"$error":"#N/A"},false,false,false,false,false,{"$error":"#N/A"},{"$error":"#N/A"},{"$error":"#N/A"},{"$error":"#N/A"}]
[109,{"$f":"OFFSET(InputPriceData!B$15,CalculationsAndCharts!$A141+$A$11,0,1,1)","v":"2013-06-07"},{"$f":"OFFSET(InputPriceData!G$15,CalculationsAndCharts!$A141+$A$11,0,1,1)","v":4334600},{"$f":"OFFSET(InputPriceData!C$15,CalculationsAndCharts!$A141+$A$11,IF($C$7,7,0),1,1)","v":51.49},{"$f":"OFFSET(InputPriceData!D$15,CalculationsAndCharts!$A141+$A$11,IF($C$7,7,0),1,1)","v":52.3},{"$f":"OFFSET(InputPriceData!E$15,CalculationsAndCharts!$A141+$A$11,IF($C$7,7,0),1,1)","v":50.87},{"$f":"OFFSET(InputPriceData!F$15,CalculationsAndCharts!$A141+$A$11,IF($C$7,7,0),1,1)","v":51.09},{"$error":"#N/A"},{"$error":"#N/A"},{"$error":"#N/A"},50.715934478516623,50.715934478516623,-1.3565022255893817,-2.4868138663368731,0.23022202860890925,-2.6969193883865095,7.1778398142888639E-2,-2.0108413218787743E-2,null,54.48,48.64,0.41952054794520621,{"$error":"#N/A"},0.2,0.8,{"$error":"#N/A"},{"$error":"#N/A"},{"$error":"#N/A"},{"$error":"#N/A"},false,false,true,false,false,{"$error":"#N/A"},{"$error":"#N/A"},{"$error":"#N/A"},{"$error":"#N/A"},false,false,false,false,false,{"$error":"#N/A"},{"$error":"#N/A"},{"$error":"#N/A"},{"$error":"#N/A"}]
[110,{"$f":"OFFSET(InputPriceData!B$15,CalculationsAndCharts!$A142+$A$11,0,1,1)","v":"2013-06-06"},{"$f":"OFFSET(InputPriceData!G$15,CalculationsAndCharts!$A142+$A$11,0,1,1)","v":5672300},{"$f":"OFFSET(InputPriceData!C$15,CalculationsAndCharts!$A142+$A$11,IF($C$7,7,0),1,1)","v":50.43},{"$f":"OFFSET(InputPriceData!D$15,CalculationsAndCharts!$A142+$A$11,IF($C$7,7,0),1,1)","v":51.49},{"$f":"OFFSET(InputPriceData!E$15,CalculationsAndCharts!$A142+$A$11,IF($C$7,7,0),1,1)","v":49.83},{"$f":"OFFSET(InputPriceData!F$15,CalculationsAndCharts!$A142+$A$11,IF($C$7,7,0),1,1)","v":51.32},{"$error":"#N/A"},{"$error":"#N/A"},{"$error":"#N/A"},50.943256482095109,50.943256482095109,-1.3784012400407164,-2.6969193883865095,0.23022202860890925,-2.6969193883865095,0,7.0245496325865853E-5,null,54.48,48.64,0.45890410958904132,{"$error":"#N/A"},0.2,0.8,50.43,{"$error":"#N/A"},{"$error":"#N/A"},{"$error":"#N/A"},false,true,true,false,false,50.43,{"$error":"#N/A"},50.43,{"$error":"#N/A"},false,false,false,false,true,{"$error":"#N/A"},50.43,{"$error":"#N/A"},50.43]
[111,{"$f":"OFFSET(InputPriceData!B$15,CalculationsAndCharts!$A143+$A$11,0,1,1)","v":"2013-06-05"},{"$f":"OFFSET(InputPriceData!G$15,CalculationsAndCharts!$A143+$A$11,0,1,1)","v":8192600},{"$f":"OFFSET(InputPriceData!C$15,CalculationsAndCharts!$A143+$A$11,IF($C$7,7,0),1,1)","v":49.3},{"$f":"OFFSET(InputPriceData!D$15,CalculationsAndCharts!$A143+$A$11,IF($C$7,7,0),1,1)","v":51.2},{"$f":"OFFSET(InputPriceData!E$15,CalculationsAndCharts!$A143+$A$11,IF($C$7,7,0),1,1)","v":49.22},{"$f":"OFFSET(InputPriceData!F$15,CalculationsAndCharts!$A143+$A$11,IF($C$7,7,0),1,1)","v":50.19},{"$error":"#N/A"},{"$error":"#N/A"},{"$error":"#N/A"},51.657044983145184,51.657044983145184,-2.8870358147887005,-2.3895265416407523,0.23022202860890925,-2.3895265416407523,0,7.1176412164471708E-2,null,54.48,48.64,0.26541095890410926,{"$error":"#N/A"},0.2,0.8,{"$error":"#N/A"},{"$error":"#N/A"},7.1176412164471708E-2,{"$error":"#N/A"},true,false,false,false,false,{"$error":"#N/A"},{"$error":"#N/A"},{"$error":"#N/A"},{"$error":"#N/A"},false,false,true,true,false,{"$error":"#N/A"},{"$error":"#N/A"},{"$error":"#N/A"},{"$error":"#N/A"}]
[112,{"$f":"OFFSET(InputPriceData!B$15,CalculationsAndCharts!$A144+$A$11,0,1,1)","v":"2013-06-04"},{"$f":"OFFSET(InputPriceData!G$15,CalculationsAndCharts!$A144+$A$11,0,1,1)","v":16091900},{"$f":"OFFSET(InputPriceData!C$15,CalculationsAndCharts!$A144+$A$11,IF($C$7,7,0),1,1)","v":50},{"$f":"OFFSET(InputPriceData!D$15,CalculationsAndCharts!$A144+$A$11,IF($C$7,7,0),1,1)","v":50.22},{"$f":"OFFSET(InputPriceData!E$15,CalculationsAndCharts!$A144+$A$11,IF($C$7,7,0),1,1)","v":48.61},{"$f":"OFFSET(InputPriceData!F$15,CalculationsAndCharts!$A144+$A$11,IF($C$7,7,0),1,1)","v":48.64},{"$error":"#N/A"},{"$error":"#N/A"},{"$error":"#N/A"},52.837335948184432,52.837335948184432,-5.1374515571819703,-1.4840963616866274,0.23022202860890925,-1.4840963616866274,0,0.20025349444013912,null,54.48,48.64,0,{"$error":"#N/A"},0.2,0.8,{"$error":"#N/A"},{"$error":"#N/A"},{"$error":"#N/A"},{"$error":"#N/A"},false,false,false,false,false,{"$error":"#N/A"},{"$error":"#N/A"},{"$error":"#N/A"},{"$error":"#N/A"},false,false,true,false,false,{"$error":"#N/A"},{"$error":"#N/A"},{"$error":"#N/A"},{"$error":"#N/A"}]
[113,{"$f":"OFFSET(InputPriceData!B$15,CalculationsAndCharts!$A145+$A$11,0,1,1)","v":"2013-06-03"},{"$f":"OFFSET(InputPriceData!G$15,CalculationsAndCharts!$A145+$A$11,0,1,1)","v":4486900},{"$f":"OFFSET(InputPriceData!C$15,CalculationsAndCharts!$A145+$A$11,IF($C$7,7,0),1,1)","v":53.06},{"$f":"OFFSET(InputPriceData!D$15,CalculationsAndCharts!$A145+$A$11,IF($C$7,7,0),1,1)","v":53.99},{"$f":"OFFSET(InputPriceData!E$15,CalculationsAndCharts!$A145+$A$11,IF($C$7,7,0),1,1)","v":52.65},{"$f":"OFFSET(InputPriceData!F$15,CalculationsAndCharts!$A145+$A$11,IF($C$7,7,0),1,1)","v":53.55},{"$error":"#N/A"},{"$error":"#N/A"},{"$error":"#N/A"},53.600720951582858,53.600720951582858,-0.69515969775271358,-0.83865601646441157,0.23022202860890925,-0.83865601646441157,0,0.39083604585981024,null,54.48,52.59,0.50793650793650635,{"$error":"#N/A"},0.2,0.8,{"$error":"#N/A"},{"$error":"#N/A"},{"$error":"#N/A"},{"$error":"#N/A"},false,false,false,false,false,{"$error":"#N/A"},{"$error":"#N/A"},{"$error":"#N/A"},{"$error":"#N/A"},false,false,true,false,false,{"$error":"#N/A"},{"$error":"#N/A"},{"$error":"#N/A"},{"$error":"#N/A"}]
[114,{"$f":"OFFSET(InputPriceData!B$15,CalculationsAndCharts!$A146+$A$11,0,1,1)","v":"2013-05-31"},{"$f":"OFFSET(InputPriceData!G$15,CalculationsAndCharts!$A146+$A$11,0,1,1)","v":3723900},{"$f":"OFFSET(InputPriceData!C$15,CalculationsAndCharts!$A146+$A$11,IF($C$7,7,0),1,1)","v":53.7},{"$f":"OFFSET(InputPriceData!D$15,CalculationsAndCharts!$A146+$A$11,IF($C$7,7,0),1,1)","v":54.06},{"$f":"OFFSET(InputPriceData!E$15,CalculationsAndCharts!$A146+$A$11,IF($C$7,7,0),1,1)","v":52.72},{"$f":"OFFSET(InputPriceData!F$15,CalculationsAndCharts!$A146+$A$11,IF($C$7,7,0),1,1)","v":52.8},{"$error":"#N/A"},{"$error":"#N/A"},{"$error":"#N/A"},53.914603956914021,53.914603956914021,-1.5646287135530792,-0.54807676056153598,0.23022202860890925,-0.54807676056153598,0,0.61366378050591952,null,54.48,52.49,0.15577889447235979,{"$error":"#N/A"},0.2,0.8,{"$error":"#N/A"},{"$error":"#N/A"},{"$error":"#N/A"},{"$error":"#N/A"},false,false,false,false,false,{"$error":"#N/A"},{"$error":"#N/A"},{"$error":"#N/A"},{"$error":"#N/A"},false,false,true,false,false,{"$error":"#N/A"},{"$error":"#N/A"},{"$error":"#N/A"},{"$error":"#N/A"}]
[115,{"$f":"OFFSET(InputPriceData!B$15,CalculationsAndCharts!$A147+$A$11,0,1,1)","v":"2013-05-30"},{"$f":"OFFSET(InputPriceData!G$15,CalculationsAndCharts!$A147+$A$11,0,1,1)","v":1145400},{"$f":"OFFSET(InputPriceData!C$15,CalculationsAndCharts!$A147+$A$11,IF($C$7,7,0),1,1)","v":53.94},{"$f":"OFFSET(InputPriceData!D$15,CalculationsAndCharts!$A147+$A$11,IF($C$7,7,0),1,1)","v":54.21},{"$f":"OFFSET(InputPriceData!E$15,CalculationsAndCharts!$A147+$A$11,IF($C$7,7,0),1,1)","v":53.66},{"$f":"OFFSET(InputPriceData!F$15,CalculationsAndCharts!$A147+$A$11,IF($C$7,7,0),1,1)","v":53.67},{"$error":"#N/A"},{"$error":"#N/A"},{"$error":"#N/A"},54.22256505103617,54.22256505103617,-0.81527300977477601,-0.19966411992631911,0.23022202860890925,-0.49599210157298085,0.40804491310633467,0.77774953040985184,null,54.48,52.39,0.61244019138756145,{"$error":"#N/A"},0.2,0.8,{"$error":"#N/A"},53.94,{"$error":"#N/A"},{"$error":"#N/A"},false,false,true,false,true,{"$error":"#N/A"},53.94,{"$error":"#N/A"},53.94,false,true,true,false,false,53.94,{"$error":"#N/A"},53.94,{"$error":"#N/A"}]
[116,{"$f":"OFFSET(InputPriceData!B$15,CalculationsAndCharts!$A148+$A$11,0,1,1)","v":"2013-05-29"},{"$f":"OFFSET(InputPriceData!G$15,CalculationsAndCharts!$A148+$A$11,0,1,1)","v":2206800},{"$f":"OFFSET(InputPriceData!C$15,CalculationsAndCharts!$A148+$A$11,IF($C$7,7,0),1,1)","v":54.23},{"$f":"OFFSET(InputPriceData!D$15,CalculationsAndCharts!$A148+$A$11,IF($C$7,7,0),1,1)","v":54.51},{"$f":"OFFSET(InputPriceData!E$15,CalculationsAndCharts!$A148+$A$11,IF($C$7,7,0),1,1)","v":53.65},{"$f":"OFFSET(InputPriceData!F$15,CalculationsAndCharts!$A148+$A$11,IF($C$7,7,0),1,1)","v":53.93},{"$error":"#N/A"},{"$error":"#N/A"},{"$error":"#N/A"},54.363518554626715,54.363518554626715,-0.57629891612656259,3.7965674914305067E-2,0.23022202860890925,-0.49599210157298085,0.73526216896048147,0.8235930016997659,null,54.48,52.03,0.7755102040816334,{"$error":"#N/A"},0.2,0.8,{"$error":"#N/A"},{"$error":"#N/A"},{"$error":"#N/A"},0.8235930016997659,false,false,true,true,false,{"$error":"#N/A"},{"$error":"#N/A"},{"$error":"#N/A"},{"$error":"#N/A"},true,false,false,false,false,{"$error":"#N/A"},{"$error":"#N/A"},{"$error":"#N/A"},{"$error":"#N/A"}]
[117,{"$f":"OFFSET(InputPriceData!B$15,CalculationsAndCharts!$A149+$A$11,0,1,1)","v":"2013-05-28"},{"$f":"OFFSET(InputPriceData!G$15,CalculationsAndCharts!$A149+$A$11,0,1,1)","v":2262800},{"$f":"OFFSET(InputPriceData!C$15,CalculationsAndCharts!$A149+$A$11,IF($C$7,7,0),1,1)","v":54.87},{"$f":"OFFSET(InputPriceData!D$15,CalculationsAndCharts!$A149+$A$11,IF($C$7,7,0),1,1)","v":55.17},{"$f":"OFFSET(InputPriceData!E$15,CalculationsAndCharts!$A149+$A$11,IF($C$7,7,0),1,1)","v":54.42},{"$f":"OFFSET(InputPriceData!F$15,CalculationsAndCharts!$A149+$A$11,IF($C$7,7,0),1,1)","v":54.48},{"$error":"#N/A"},{"$error":"#N/A"},{"$error":"#N/A"},54.359402626394271,54.359402626394271,3.5621630635152696E-2,0.16413130542764182,0.23022202860890925,-0.49599210157298085,0.90899278816743201,0.77999602971068105,null,54.48,52.03,1,{"$error":"#N/A"},0.2,0.8,{"$error":"#N/A"},{"$error":"#N/A"},{"$error":"#N/A"},{"$error":"#N/A"},false,false,true,false,false,{"$error":"#N/A"},{"$error":"#N/A"},{"$error":"#N/A"},{"$error":"#N/A"},false,false,false,false,false,{"$error":"#N/A"},{"$error":"#N/A"},{"$error":"#N/A"},{"$error":"#N/A"}]
[118,{"$f":"OFFSET(InputPriceData!B$15,CalculationsAndCharts!$A150+$A$11,0,1,1)","v":"2013-05-24"},{"$f":"OFFSET(InputPriceData!G$15,CalculationsAndCharts!$A150+$A$11,0,1,1)","v":1839400},{"$f":"OFFSET(InputPriceData!C$15,CalculationsAndCharts!$A150+$A$11,IF($C$7,7,0),1,1)","v":54.22},{"$f":"OFFSET(InputPriceData!D$15,CalculationsAndCharts!$A150+$A$11,IF($C$7,7,0),1,1)","v":54.56},{"$f":"OFFSET(InputPriceData!E$15,CalculationsAndCharts!$A150+$A$11,IF($C$7,7,0),1,1)","v":54.12},{"$f":"OFFSET(InputPriceData!F$15,CalculationsAndCharts!$A150+$A$11,IF($C$7,7,0),1,1)","v":54.42},{"$error":"#N/A"},{"$error":"#N/A"},{"$error":"#N/A"},54.254367216797363,54.254367216797363,0.1011481131989819,0.20348494719761617,0.39346851633959457,-0.49599210157298085,0.78640586742576635,0.69992716323762605,null,54.47,52.03,0.97950819672131262,{"$error":"#N/A"},0.2,0.8,{"$error":"#N/A"},{"$error":"#N/A"},{"$error":"#N/A"},{"$error":"#N/A"},false,false,true,false,false,{"$error":"#N/A"},{"$error":"#N/A"},{"$error":"#N/A"},{"$error":"#N/A"},false,false,false,false,false,{"$error":"#N/A"},{"$error":"#N/A"},{"$error":"#N/A"},{"$error":"#N/A"}]
[119,{"$f":"OFFSET(InputPriceData!B$15,CalculationsAndCharts!$A151+$A$11,0,1,1)","v":"2013-05-23"},{"$f":"OFFSET(InputPriceData!G$15,CalculationsAndCharts!$A151+$A$11,0,1,1)","v":3714100},{"$f":"OFFSET(InputPriceData!C$15,CalculationsAndCharts!$A151+$A$11,IF($C$7,7,0),1,1)","v":53.64},{"$f":"OFFSET(InputPriceData!D$15,CalculationsAndCharts!$A151+$A$11,IF($C$7,7,0),1,1)","v":54.81},{"$f":"OFFSET(InputPriceData!E$15,CalculationsAndCharts!$A151+$A$11,IF($C$7,7,0),1,1)","v":53.46},{"$f":"OFFSET(InputPriceData!F$15,CalculationsAndCharts!$A151+$A$11,IF($C$7,7,0),1,1)","v":54.45},{"$error":"#N/A"},{"$error":"#N/A"},{"$error":"#N/A"},54.119394243903585,54.119394243903585,0.27801707352477956,0.2160186402224521,0.44682923778008932,-0.49599210157298085,0.7551915851671207,0.59620013197416732,null,54.47,52.03,0.99180327868852625,{"$error":"#N/A"},0.2,0.8,{"$error":"#N/A"},{"$error":"#N/A"},{"$error":"#N/A"},{"$error":"#N/A"},false,false,true,false,false,{"$error":"#N/A"},{"$error":"#N/A"},{"$error":"#N/A"},{"$error":"#N/A"},false,false,false,false,false,{"$error":"#N/A"},{"$error":"#N/A"},{"$error":"#N/A"},{"$error":"#N/A"}]
[120,{"$f":"OFFSET(InputPriceData!B$15,CalculationsAndCharts!$A152+$A$11,0,1,1)","v":"2013-05-22"},{"$f":"OFFSET(InputPriceData!G$15,CalculationsAndCharts!$A152+$A$11,0,1,1)","v":2634200},{"$f":"OFFSET(InputPriceData!C$15,CalculationsAndCharts!$A152+$A$11,IF($C$7,7,0),1,1)","v":54.34},{"$f":"OFFSET(InputPriceData!D$15,CalculationsAndCharts!$A152+$A$11,IF($C$7,7,0),1,1)","v":54.75},{"$f":"OFFSET(InputPriceData!E$15,CalculationsAndCharts!$A152+$A$11,IF($C$7,7,0),1,1)","v":53.69},{"$f":"OFFSET(InputPriceData!F$15,CalculationsAndCharts!$A152+$A$11,IF($C$7,7,0),1,1)","v":53.86},{"$error":"#N/A"},{"$error":"#N/A"},{"$error":"#N/A"},53.985471162711562,53.985471162711562,-0.19338590502869926,0.23022202860890925,0.44682923778008932,-0.49599210157298085,0.77025635703174877,0.45146262725546987,null,54.47,52.03,0.75,{"$error":"#N/A"},0.2,0.8,{"$error":"#N/A"},{"$error":"#N/A"},{"$error":"#N/A"},{"$error":"#N/A"},false,false,true,false,false,{"$error":"#N/A"},{"$error":"#N/A"},{"$error":"#N/A"},{"$error":"#N/A"},false,false,false,false,false,{"$error":"#N/A"},{"$error":"#N/A"},{"$error":"#N/A"},{"$error":"#N/A"}]
[121,{"$f":"OFFSET(InputPriceData!B$15,CalculationsAndCharts!$A153+$A$11,0,1,1)","v":"2013-05-21"},{"$f":"OFFSET(InputPriceData!G$15,CalculationsAndCharts!$A153+$A$11,0,1,1)","v":2313000},{"$f":"OFFSET(InputPriceData!C$15,CalculationsAndCharts!$A153+$A$11,IF($C$7,7,0),1,1)","v":53.9},{"$f":"OFFSET(InputPriceData!D$15,CalculationsAndCharts!$A153+$A$11,IF($C$7,7,0),1,1)","v":54.67},{"$f":"OFFSET(InputPriceData!E$15,CalculationsAndCharts!$A153+$A$11,IF($C$7,7,0),1,1)","v":53.73},{"$f":"OFFSET(InputPriceData!F$15,CalculationsAndCharts!$A153+$A$11,IF($C$7,7,0),1,1)","v":54.47},{"$error":"#N/A"},{"$f":"IF($A153=$E$25,I$32,NA())","v":{"$error":"#N/A"}},{"$error":"#N/A"},53.764196641448521,53.764196641448521,0.56039425655329578,0.14910690276269567,0.44682923778008932,-0.49599210157298085,0.68422189593027249,0.29112487096884876,null,54.47,52.03,1,{"$error":"#N/A"},0.2,0.8,{"$error":"#N/A"},{"$error":"#N/A"},{"$error":"#N/A"},{"$error":"#N/A"},false,false,true,false,false,{"$error":"#N/A"},{"$error":"#N/A"},{"$error":"#N/A"},{"$error":"#N/A"},false,false,false,false,false,{"$error":"#N/A"},{"$error":"#N/A"},{"$error":"#N/A"},{"$error":"#N/A"}]
[122,{"$f":"OFFSET(InputPriceData!B$15,CalculationsAndCharts!$A154+$A$11,0,1,1)","v":"2013-05-20"},{"$f":"OFFSET(InputPriceData!G$15,CalculationsAndCharts!$A154+$A$11,0,1,1)","v":1953600},{"$f":"OFFSET(InputPriceData!C$15,CalculationsAndCharts!$A154+$A$11,IF($C$7,7,0),1,1)","v":53.98},{"$f":"OFFSET(InputPriceData!D$15,CalculationsAndCharts!$A154+$A$11,IF($C$7,7,0),1,1)","v":54.25},{"$f":"OFFSET(InputPriceData!E$15,CalculationsAndCharts!$A154+$A$11,IF($C$7,7,0),1,1)","v":53.59},{"$f":"OFFSET(InputPriceData!F$15,CalculationsAndCharts!$A154+$A$11,IF($C$7,7,0),1,1)","v":53.84},{"$error":"#N/A"},{"$error":"#N/A"},{"$error":"#N/A"},53.472880813214715,53.472880813214715,9.9057226767713724E-2,-2.6941324075307443E-2,0.44682923778008932,-0.49599210157298085,0.49749698900485118,0.16969924785161039,null,54.08,52.03,0.88292682926829502,{"$error":"#N/A"},0.2,0.8,{"$error":"#N/A"},{"$error":"#N/A"},{"$error":"#N/A"},{"$error":"#N/A"},false,false,true,false,false,{"$error":"#N/A"},{"$error":"#N/A"},{"$error":"#N/A"},{"$error":"#N/A"},false,false,false,false,false,{"$error":"#N/A"},{"$error":"#N/A"},{"$error":"#N/A"},{"$error":"#N/A"}]
[123,{"$f":"OFFSET(InputPriceData!B$15,CalculationsAndCharts!$A155+$A$11,0,1,1)","v":"2013-05-17"},{"$f":"OFFSET(InputPriceData!G$15,CalculationsAndCharts!$A155+$A$11,0,1,1)","v":2350900},{"$f":"OFFSET(InputPriceData!C$15,CalculationsAndCharts!$A155+$A$11,IF($C$7,7,0),1,1)","v":53.5},{"$f":"OFFSET(InputPriceData!D$15,CalculationsAndCharts!$A155+$A$11,IF($C$7,7,0),1,1)","v":54.17},{"$f":"OFFSET(InputPriceData!E$15,CalculationsAndCharts!$A155+$A$11,IF($C$7,7,0),1,1)","v":53.32},{"$f":"OFFSET(InputPriceData!F$15,CalculationsAndCharts!$A155+$A$11,IF($C$7,7,0),1,1)","v":54.08},{"$error":"#N/A"},{"$error":"#N/A"},{"$error":"#N/A"},53.184408738672005,53.184408738672005,0.49937153325978723,-0.23546074807983267,0.44682923778008932,-0.49599210157298085,0.27633162574779579,0.13367858261448515,null,54.08,51.63,1,{"$error":"#N/A"},0.2,0.8,{"$error":"#N/A"},{"$error":"#N/A"},0.13367858261448515,{"$error":"#N/A"},true,false,true,false,false,{"$error":"#N/A"},{"$error":"#N/A"},{"$error":"#N/A"},{"$error":"#N/A"},false,false,false,false,false,{"$error":"#N/A"},{"$error":"#N/A"},{"$error":"#N/A"},{"$error":"#N/A"}]
[124,{"$f":"OFFSET(InputPriceData!B$15,CalculationsAndCharts!$A156+$A$11,0,1,1)","v":"2013-05-16"},{"$f":"OFFSET(InputPriceData!G$15,CalculationsAndCharts!$A156+$A$11,0,1,1)","v":2215600},{"$f":"OFFSET(InputPriceData!C$15,CalculationsAndCharts!$A156+$A$11,IF($C$7,7,0),1,1)","v":53.15},{"$f":"OFFSET(InputPriceData!D$15,CalculationsAndCharts!$A156+$A$11,IF($C$7,7,0),1,1)","v":53.67},{"$f":"OFFSET(InputPriceData!E$15,CalculationsAndCharts!$A156+$A$11,IF($C$7,7,0),1,1)","v":52.98},{"$f":"OFFSET(InputPriceData!F$15,CalculationsAndCharts!$A156+$A$11,IF($C$7,7,0),1,1)","v":53.26},{"$error":"#N/A"},{"$error":"#N/A"},{"$error":"#N/A"},52.960378844956111,52.960378844956111,-0.18893454986040015,-0.41337229054146463,0.44682923778008932,-0.49599210157298085,8.7630399931557482E-2,0.20195590951057188,null,53.58,51.63,0.83589743589743537,{"$error":"#N/A"},0.2,0.8,{"$error":"#N/A"},{"$error":"#N/A"},{"$error":"#N/A"},{"$error":"#N/A"},false,{"$f":"AND(AD157,NOT(AF157))","v":false},true,false,false,{"$error":"#N/A"},{"$error":"#N/A"},{"$error":"#N/A"},{"$error":"#N/A"},false,false,false,false,false,{"$error":"#N/A"},{"$error":"#N/A"},{"$error":"#N/A"},{"$error":"#N/A"}]
[125,{"$f":"OFFSET(InputPriceData!B$15,CalculationsAndCharts!$A157+$A$11,0,1,1)","v":"2013-05-15"},{"$f":"OFFSET(InputPriceData!G$15,CalculationsAndCharts!$A157+$A$11,0,1,1)","v":2836400},{"$f":"OFFSET(InputPriceData!C$15,CalculationsAndCharts!$A157+$A$11,IF($C$7,7,0),1,1)","v":52.85},{"$f":"OFFSET(InputPriceData!D$15,CalculationsAndCharts!$A157+$A$11,IF($C$7,7,0),1,1)","v":53.61},{"$f":"OFFSET(InputPriceData!E$15,CalculationsAndCharts!$A157+$A$11,IF($C$7,7,0),1,1)","v":52.42},{"$f":"OFFSET(InputPriceData!F$15,CalculationsAndCharts!$A157+$A$11,IF($C$7,7,0),1,1)","v":53.32},{"$error":"#N/A"},{"$error":"#N/A"},{"$error":"#N/A"},52.852427890745147,52.852427890745147,-4.8100622219261924E-2,-0.49599210157298085,0.44682923778008932,-0.49599210157298085,0,0.35566746451390241,null,53.58,51.3,0.88596491228070273,{"$error":"#N/A"},0.2,0.8,{"$error":"#N/A"},{"$error":"#N/A"},{"$error":"#N/A"},{"$error":"#N/A"},false,false,true,false,false,{"$error":"#N/A"},{"$error":"#N/A"},{"$error":"#N/A"},{"$error":"#N/A"},false,false,false,false,false,{"$error":"#N/A"},{"$error":"#N/A"},{"$error":"#N/A"},{"$error":"#N/A"}]
[126,{"$f":"OFFSET(InputPriceData!B$15,CalculationsAndCharts!$A158+$A$11,0,1,1)","v":"2013-05-14"},{"$f":"OFFSET(InputPriceData!G$15,CalculationsAndCharts!$A158+$A$11,0,1,1)","v":1390200},{"$f":"OFFSET(InputPriceData!C$15,CalculationsAndCharts!$A158+$A$11,IF($C$7,7,0),1,1)","v":52.67},{"$f":"OFFSET(InputPriceData!D$15,CalculationsAndCharts!$A158+$A$11,IF($C$7,7,0),1,1)","v":53.14},{"$f":"OFFSET(InputPriceData!E$15,CalculationsAndCharts!$A158+$A$11,IF($C$7,7,0),1,1)","v":52.52},{"$f":"OFFSET(InputPriceData!F$15,CalculationsAndCharts!$A158+$A$11,IF($C$7,7,0),1,1)","v":52.79},{"$error":"#N/A"},{"$error":"#N/A"},{"$error":"#N/A"},52.859269527639768,52.859269527639768,-0.52681776506135092,-0.46454939072521489,0.44682923778008932,-0.50530961860865242,4.2809121390163955E-2,0.53746048235834876,null,53.58,51.3,0.65350877192982515,{"$error":"#N/A"},0.2,0.8,{"$error":"#N/A"},{"$error":"#N/A"},{"$error":"#N/A"},{"$error":"#N/A"},false,false,true,false,false,{"$error":"#N/A"},{"$error":"#N/A"},{"$error":"#N/A"},{"$error":"#N/A"},false,false,false,false,false,{"$error":"#N/A"},{"$error":"#N/A"},{"$error":"#N/A"},{"$error":"#N/A"}]
[127,{"$f":"OFFSET(InputPriceData!B$15,CalculationsAndCharts!$A159+$A$11,0,1,1)","v":"2013-05-13"},{"$f":"OFFSET(InputPriceData!G$15,CalculationsAndCharts!$A159+$A$11,0,1,1)","v":1386600},{"$f":"OFFSET(InputPriceData!C$15,CalculationsAndCharts!$A159+$A$11,IF($C$7,7,0),1,1)","v":52.84},{"$f":"OFFSET(InputPriceData!D$15,CalculationsAndCharts!$A159+$A$11,IF($C$7,7,0),1,1)","v":53},{"$f":"OFFSET(InputPriceData!E$15,CalculationsAndCharts!$A159+$A$11,IF($C$7,7,0),1,1)","v":52.46},{"$f":"OFFSET(InputPriceData!F$15,CalculationsAndCharts!$A159+$A$11,IF($C$7,7,0),1,1)","v":52.59},{"$error":"#N/A"},{"$error":"#N/A"},{"$error":"#N/A"},52.996367573356736,52.996367573356736,-0.73523279653560603,-0.27911011367598493,0.44682923778008932,-0.76891144077150997,0.4028830619364166,0.66185042592687671,null,53.58,50.47,0.6816720257234743,{"$error":"#N/A"},0.2,0.8,{"$error":"#N/A"},{"$error":"#N/A"},{"$error":"#N/A"},{"$error":"#N/A"},false,false,true,false,false,{"$error":"#N/A"},{"$error":"#N/A"},{"$error":"#N/A"},{"$error":"#N/A"},false,false,false,false,false,{"$error":"#N/A"},{"$error":"#N/A"},{"$error":"#N/A"},{"$error":"#N/A"}]
[128,{"$f":"OFFSET(InputPriceData!B$15,CalculationsAndCharts!$A160+$A$11,0,1,1)","v":"2013-05-10"},{"$f":"OFFSET(InputPriceData!G$15,CalculationsAndCharts!$A160+$A$11,0,1,1)","v":1327400},{"$f":"OFFSET(InputPriceData!C$15,CalculationsAndCharts!$A160+$A$11,IF($C$7,7,0),1,1)","v":52.58},{"$f":"OFFSET(InputPriceData!D$15,CalculationsAndCharts!$A160+$A$11,IF($C$7,7,0),1,1)","v":53.18},{"$f":"OFFSET(InputPriceData!E$15,CalculationsAndCharts!$A160+$A$11,IF($C$7,7,0),1,1)","v":52.58},{"$f":"OFFSET(InputPriceData!F$15,CalculationsAndCharts!$A160+$A$11,IF($C$7,7,0),1,1)","v":52.8},{"$error":"#N/A"},{"$error":"#N/A"},{"$error":"#N/A"},53.141143129941696,53.141143129941696,-0.5283765309389028,-4.4833284165039525E-2,0.44682923778008932,-0.79420987258549625,0.60382995359405334,0.69409605260097718,null,53.58,49.9,0.78804347826086929,{"$error":"#N/A"},0.2,0.8,{"$error":"#N/A"},{"$error":"#N/A"},{"$error":"#N/A"},{"$error":"#N/A"},false,false,true,false,false,{"$error":"#N/A"},{"$error":"#N/A"},{"$error":"#N/A"},{"$error":"#N/A"},false,false,false,false,false,{"$error":"#N/A"},{"$error":"#N/A"},{"$error":"#N/A"},{"$error":"#N/A"}]
[129,{"$f":"OFFSET(InputPriceData!B$15,CalculationsAndCharts!$A161+$A$11,0,1,1)","v":"2013-05-09"},{"$f":"OFFSET(InputPriceData!G$15,CalculationsAndCharts!$A161+$A$11,0,1,1)","v":1881000},{"$f":"OFFSET(InputPriceData!C$15,CalculationsAndCharts!$A161+$A$11,IF($C$7,7,0),1,1)","v":53.53},{"$f":"OFFSET(InputPriceData!D$15,CalculationsAndCharts!$A161+$A$11,IF($C$7,7,0),1,1)","v":53.55},{"$f":"OFFSET(InputPriceData!E$15,CalculationsAndCharts!$A161+$A$11,IF($C$7,7,0),1,1)","v":52.51},{"$f":"OFFSET(InputPriceData!F$15,CalculationsAndCharts!$A161+$A$11,IF($C$7,7,0),1,1)","v":52.68},{"$f":"IF($A161=$E$25,H$32,NA())","v":{"$error":"#N/A"}},{"$error":"#N/A"},{"$error":"#N/A"},{"$f":"$F$16*(G161+G162)/2+$F$17*K162+$F$18*K163","v":53.218559445958846},53.218559445958846,{"$f":"$D$21*(G161 - 2*G162 + G163) + $D$20*M162 - $F$20*M163","v":-0.63723566683333499},0.16351711169112948,0.44682923778008932,-0.80458396766523932,{"$f":"IFERROR(IF($A161>$A$8,0,(N161-P161)/(O161-P161)),1)","v":0.77360625183099274},{"$f":"IF($A161>$A$8,0,$F$16*(Q161+Q162)/2+$F$17*R162+$F$18*R163)","v":0.65510405129701055},null,{"$f":"MAX(OFFSET(G161,0,0,$A$22,1))","v":53.58},{"$f":"MIN(OFFSET(G161,0,0,$A$22,1))","v":49.9},{"$f":"IFERROR(IF($A161>$A$8,0,(G161-U161)/(T161-U161)),1)","v":0.75543478260869601},{"$error":"#N/A"},0.2,0.8,{"$f":"IF($S$7,AI161,NA())","v":{"$error":"#N/A"}},{"$f":"IF($S$7,AJ161,NA())","v":{"$error":"#N/A"}},{"$f":"IF($S$7,IF(AD161,R161,NA()),NA())","v":{"$error":"#N/A"}},{"$f":"IF($S$7,IF(AG161,R161,NA()),NA())","v":{"$error":"#N/A"}},{"$f":"IF(AND(R162>$X$32,R161<$X$32),TRUE,FALSE)","v":false},false,true,{"$f":"IF(AND(AF161,R162<$Y$32,R161>$Y$32),TRUE,FALSE)","v":false},false,{"$f":"IF(AE161,D161,NA())","v":{"$error":"#N/A"}},{"$f":"IF(AH161,D161,NA())","v":{"$error":"#N/A"}},{"$f":"IF($S$7,AI161,NA())","v":{"$error":"#N/A"}},{"$f":"IF($S$7,AJ161,NA())","v":{"$error":"#N/A"}},{"$f":"IF(AND(R162<$Y$32,R161>$Y$32),TRUE,FALSE)","v":false},false,false,{"$f":"IF(AND(AO162,R162>$X$32,R161<$X$32),TRUE,FALSE)","v":false},false,{"$f":"IF(AN161,D161,NA())","v":{"$error":"#N/A"}},{"$f":"IF(AQ161,D161,NA())","v":{"$error":"#N/A"}},{"$error":"#N/A"},{"$error":"#N/A"}]
[130,{"$f":"OFFSET(InputPriceData!B$15,CalculationsAndCharts!$A162+$A$11,0,1,1)","v":"2013-05-08"},{"$f":"OFFSET(InputPriceData!G$15,CalculationsAndCharts!$A162+$A$11,0,1,1)","v":1297800},{"$f":"OFFSET(InputPriceData!C$15,CalculationsAndCharts!$A162+$A$11,IF($C$7,7,0),1,1)","v":53.42},{"$f":"OFFSET(InputPriceData!D$15,CalculationsAndCharts!$A162+$A$11,IF($C$7,7,0),1,1)","v":53.69},{"$f":"OFFSET(InputPriceData!E$15,CalculationsAndCharts!$A162+$A$11,IF($C$7,7,0),1,1)","v":53.22},{"$f":"OFFSET(InputPriceData!F$15,CalculationsAndCharts!$A162+$A$11,IF($C$7,7,0),1,1)","v":53.42},{"$error":"#N/A"},{"$error":"#N/A"},{"$error":"#N/A"},53.112251839495741,{"$f":"IF($S$5,K162,NA())","v":53.112251839495741},0.18328663557760849,{"$f":"$F$16*(M162+M163)/2+$F$17*N163+$F$18*N164","v":0.21075736781362639},{"$f":"MAX(OFFSET(N162,0,0,$A$22,1))","v":0.44682923778008932},-0.84378553041931559,0.81708572086478015,0.58098933124556873,null,53.58,49.9,0.9565217391304357,{"$f":"IF($S$18,V162,NA())","v":{"$error":"#N/A"}},{"$f":"$X$32","v":0.2},{"$f":"$Y$32","v":0.8},{"$error":"#N/A"},{"$error":"#N/A"},{"$error":"#N/A"},{"$error":"#N/A"},false,false,{"$f":"IF(AF163,IF(AH163,FALSE,AF163),IF(AE162,TRUE,AF163))","v":true},false,false,{"$error":"#N/A"},{"$error":"#N/A"},{"$error":"#N/A"},{"$error":"#N/A"},false,false,{"$f":"IF(AO163,IF(AP163,FALSE,AO163),IF(AN162,TRUE,AO163))","v":false},false,false,{"$error":"#N/A"},{"$error":"#N/A"},{"$f":"IF($S$5,AR162,NA())","v":{"$error":"#N/A"}},{"$error":"#N/A"}]
[131,{"$f":"OFFSET(InputPriceData!B$15,CalculationsAndCharts!$A163+$A$11,0,1,1)","v":"2013-05-07"},{"$f":"OFFSET(InputPriceData!G$15,CalculationsAndCharts!$A163+$A$11,0,1,1)","v":4557600},{"$f":"OFFSET(InputPriceData!C$15,CalculationsAndCharts!$A163+$A$11,IF($C$7,7,0),1,1)","v":53.43},{"$f":"OFFSET(InputPriceData!D$15,CalculationsAndCharts!$A163+$A$11,IF($C$7,7,0),1,1)","v":53.52},{"$f":"OFFSET(InputPriceData!E$15,CalculationsAndCharts!$A163+$A$11,IF($C$7,7,0),1,1)","v":52.98},{"$f":"OFFSET(InputPriceData!F$15,CalculationsAndCharts!$A163+$A$11,IF($C$7,7,0),1,1)","v":53.44},{"$error":"#N/A"},{"$error":"#N/A"},{"$error":"#N/A"},52.815468796001923,52.815468796001923,0.37756239103989786,5.6209179982623592E-2,0.44682923778008932,-0.84378553041931559,0.69733799161275878,0.53271874098111605,null,53.58,49.9,0.96195652173913027,{"$error":"#N/A"},0.2,0.8,{"$error":"#N/A"},{"$error":"#N/A"},{"$error":"#N/A"},{"$error":"#N/A"},false,false,true,false,false,{"$error":"#N/A"},{"$error":"#N/A"},{"$error":"#N/A"},{"$error":"#N/A"},false,false,false,false,false,{"$error":"#N/A"},{"$error":"#N/A"},{"$error":"#N/A"},{"$error":"#N/A"}]
[132,{"$f":"OFFSET(InputPriceData!B$15,CalculationsAndCharts!$A164+$A$11,0,1,1)","v":"2013-05-06"},{"$f":"OFFSET(InputPriceData!G$15,CalculationsAndCharts!$A164+$A$11,0,1,1)","v":4635600},{"$f":"OFFSET(InputPriceData!C$15,CalculationsAndCharts!$A164+$A$11,IF($C$7,7,0),1,1)","v":53.11},{"$f":"OFFSET(InputPriceData!D$15,CalculationsAndCharts!$A164+$A$11,IF($C$7,7,0),1,1)","v":54.16},{"$f":"OFFSET(InputPriceData!E$15,CalculationsAndCharts!$A164+$A$11,IF($C$7,7,0),1,1)","v":53.05},{"$f":"OFFSET(InputPriceData!F$15,CalculationsAndCharts!$A164+$A$11,IF($C$7,7,0),1,1)","v":53.58},{"$error":"#N/A"},{"$error":"#N/A"},{"$error":"#N/A"},52.472106568154331,52.472106568154331,0.73977752386345697,-0.18155474923769499,0.44682923778008932,-0.84378553041931559,0.51311266343676565,0.55352251777130324,null,53.58,49.85,1,{"$error":"#N/A"},0.2,0.8,{"$error":"#N/A"},{"$error":"#N/A"},{"$error":"#N/A"},{"$error":"#N/A"},false,false,true,false,false,{"$error":"#N/A"},{"$error":"#N/A"},{"$error":"#N/A"},{"$error":"#N/A"},false,false,false,false,false,{"$error":"#N/A"},{"$error":"#N/A"},{"$error":"#N/A"},{"$error":"#N/A"}]
[133,{"$f":"OFFSET(InputPriceData!B$15,CalculationsAndCharts!$A165+$A$11,0,1,1)","v":"2013-05-03"},{"$f":"OFFSET(InputPriceData!G$15,CalculationsAndCharts!$A165+$A$11,0,1,1)","v":2925200},{"$f":"OFFSET(InputPriceData!C$15,CalculationsAndCharts!$A165+$A$11,IF($C$7,7,0),1,1)","v":52.49},{"$f":"OFFSET(InputPriceData!D$15,CalculationsAndCharts!$A165+$A$11,IF($C$7,7,0),1,1)","v":53},{"$f":"OFFSET(InputPriceData!E$15,CalculationsAndCharts!$A165+$A$11,IF($C$7,7,0),1,1)","v":52.08},{"$f":"OFFSET(InputPriceData!F$15,CalculationsAndCharts!$A165+$A$11,IF($C$7,7,0),1,1)","v":52.49},{"$error":"#N/A"},{"$error":"#N/A"},{"$error":"#N/A"},52.276055909917915,52.276055909917915,-0.18356291561638627,-0.30406260936933127,0.44682923778008932,-0.84378553041931559,0.41819056650264136,0.63592439022812808,null,52.83,49.85,0.88590604026845754,{"$error":"#N/A"},0.2,0.8,{"$error":"#N/A"},{"$error":"#N/A"},{"$error":"#N/A"},{"$error":"#N/A"},false,false,true,false,false,{"$error":"#N/A"},{"$error":"#N/A"},{"$error":"#N/A"},{"$error":"#N/A"},false,false,false,false,false,{"$error":"#N/A"},{"$error":"#N/A"},{"$error":"#N/A"},{"$error":"#N/A"}]
[134,{"$f":"OFFSET(InputPriceData!B$15,CalculationsAndCharts!$A166+$A$11,0,1,1)","v":"2013-05-02"},{"$f":"OFFSET(InputPriceData!G$15,CalculationsAndCharts!$A166+$A$11,0,1,1)","v":1485700},{"$f":"OFFSET(InputPriceData!C$15,CalculationsAndCharts!$A166+$A$11,IF($C$7,7,0),1,1)","v":52.02},{"$f":"OFFSET(InputPriceData!D$15,CalculationsAndCharts!$A166+$A$11,IF($C$7,7,0),1,1)","v":52.5},{"$f":"OFFSET(InputPriceData!E$15,CalculationsAndCharts!$A166+$A$11,IF($C$7,7,0),1,1)","v":51.83},{"$f":"OFFSET(InputPriceData!F$15,CalculationsAndCharts!$A166+$A$11,IF($C$7,7,0),1,1)","v":52.39},{"$error":"#N/A"},{"$error":"#N/A"},{"$error":"#N/A"},52.266488081435597,52.266488081435597,-0.20473696544113823,-0.24361997861657481,0.44682923778008932,-0.84378553041931559,0.4650230003489414,0.73147558586474881,null,52.83,49.85,0.85234899328859126,{"$error":"#N/A"},0.2,0.8,{"$error":"#N/A"},{"$error":"#N/A"},{"$error":"#N/A"},{"$error":"#N/A"},false,false,true,false,false,{"$error":"#N/A"},{"$error":"#N/A"},{"$error":"#N/A"},{"$error":"#N/A"},false,false,false,false,false,{"$error":"#N/A"},{"$error":"#N/A"},{"$error":"#N/A"},{"$error":"#N/A"}]
[135,{"$f":"OFFSET(InputPriceData!B$15,CalculationsAndCharts!$A167+$A$11,0,1,1)","v":"2013-05-01"},{"$f":"OFFSET(InputPriceData!G$15,CalculationsAndCharts!$A167+$A$11,0,1,1)","v":1579600},{"$f":"OFFSET(InputPriceData!C$15,CalculationsAndCharts!$A167+$A$11,IF($C$7,7,0),1,1)","v":52},{"$f":"OFFSET(InputPriceData!D$15,CalculationsAndCharts!$A167+$A$11,IF($C$7,7,0),1,1)","v":52.6},{"$f":"OFFSET(InputPriceData!E$15,CalculationsAndCharts!$A167+$A$11,IF($C$7,7,0),1,1)","v":51.99},{"$f":"OFFSET(InputPriceData!F$15,CalculationsAndCharts!$A167+$A$11,IF($C$7,7,0),1,1)","v":52.03},{"$error":"#N/A"},{"$error":"#N/A"},{"$error":"#N/A"},52.350014605865532,52.350014605865532,-0.51415364994518131,-6.6216836342051721E-2,0.44682923778008932,-0.84378553041931559,0.60247930926908977,0.78539100047962951,null,52.83,49.85,0.73154362416107455,{"$error":"#N/A"},0.2,0.8,{"$error":"#N/A"},{"$error":"#N/A"},{"$error":"#N/A"},{"$error":"#N/A"},false,false,true,false,false,{"$error":"#N/A"},{"$error":"#N/A"},{"$error":"#N/A"},{"$error":"#N/A"},false,false,false,false,false,{"$error":"#N/A"},{"$error":"#N/A"},{"$error":"#N/A"},{"$error":"#N/A"}]
[136,{"$f":"OFFSET(InputPriceData!B$15,CalculationsAndCharts!$A168+$A$11,0,1,1)","v":"2013-04-30"},{"$f":"OFFSET(InputPriceData!G$15,CalculationsAndCharts!$A168+$A$11,0,1,1)","v":1553400},{"$f":"OFFSET(InputPriceData!C$15,CalculationsAndCharts!$A168+$A$11,IF($C$7,7,0),1,1)","v":52.24},{"$f":"OFFSET(InputPriceData!D$15,CalculationsAndCharts!$A168+$A$11,IF($C$7,7,0),1,1)","v":52.31},{"$f":"OFFSET(InputPriceData!E$15,CalculationsAndCharts!$A168+$A$11,IF($C$7,7,0),1,1)","v":51.7},{"$f":"OFFSET(InputPriceData!F$15,CalculationsAndCharts!$A168+$A$11,IF($C$7,7,0),1,1)","v":52.09},{"$error":"#N/A"},{"$error":"#N/A"},{"$error":"#N/A"},52.466922816536481,52.466922816536481,-0.41995796570643507,0.18464058016481846,0.44682923778008932,{"$f":"MIN(OFFSET(N168,0,0,$A$22,1))","v":-0.84378553041931559},0.79684979276886625,0.76160404982089602,null,52.83,49.85,0.75167785234899476,{"$error":"#N/A"},0.2,0.8,{"$error":"#N/A"},{"$error":"#N/A"},{"$error":"#N/A"},{"$error":"#N/A"},false,false,true,false,false,{"$error":"#N/A"},{"$error":"#N/A"},{"$error":"#N/A"},{"$error":"#N/A"},false,false,false,false,false,{"$error":"#N/A"},{"$error":"#N/A"},{"$error":"#N/A"},{"$error":"#N/A"}]
[137,{"$f":"OFFSET(InputPriceData!B$15,CalculationsAndCharts!$A169+$A$11,0,1,1)","v":"2013-04-29"},{"$f":"OFFSET(InputPriceData!G$15,CalculationsAndCharts!$A169+$A$11,0,1,1)","v":1231300},{"$f":"OFFSET(InputPriceData!C$15,CalculationsAndCharts!$A169+$A$11,IF($C$7,7,0),1,1)","v":52.82},{"$f":"OFFSET(InputPriceData!D$15,CalculationsAndCharts!$A169+$A$11,IF($C$7,7,0),1,1)","v":52.99},{"$f":"OFFSET(InputPriceData!E$15,CalculationsAndCharts!$A169+$A$11,IF($C$7,7,0),1,1)","v":52.14},{"$f":"OFFSET(InputPriceData!F$15,CalculationsAndCharts!$A169+$A$11,IF($C$7,7,0),1,1)","v":52.18},{"$error":"#N/A"},{"$error":"#N/A"},{"$error":"#N/A"},52.500722621890148,52.500722621890148,-0.26963526058407217,0.39346851633959457,0.44682923778008932,-0.84378553041931559,0.95865480331133923,0.66564883061111546,null,52.83,49.85,0.78187919463087274,{"$error":"#N/A"},0.2,0.8,{"$error":"#N/A"},{"$error":"#N/A"},{"$error":"#N/A"},{"$error":"#N/A"},false,false,true,false,false,{"$error":"#N/A"},{"$error":"#N/A"},{"$error":"#N/A"},{"$error":"#N/A"},false,false,false,false,false,{"$error":"#N/A"},{"$error":"#N/A"},{"$error":"#N/A"},{"$error":"#N/A"}]
[138,{"$f":"OFFSET(InputPriceData!B$15,CalculationsAndCharts!$A170+$A$11,0,1,1)","v":"2013-04-26"},{"$f":"OFFSET(InputPriceData!G$15,CalculationsAndCharts!$A170+$A$11,0,1,1)","v":2082000},{"$f":"OFFSET(InputPriceData!C$15,CalculationsAndCharts!$A170+$A$11,IF($C$7,7,0),1,1)","v":52.57},{"$f":"OFFSET(InputPriceData!D$15,CalculationsAndCharts!$A170+$A$11,IF($C$7,7,0),1,1)","v":52.95},{"$f":"OFFSET(InputPriceData!E$15,CalculationsAndCharts!$A170+$A$11,IF($C$7,7,0),1,1)","v":52.44},{"$f":"OFFSET(InputPriceData!F$15,CalculationsAndCharts!$A170+$A$11,IF($C$7,7,0),1,1)","v":52.83},{"$error":"#N/A"},{"$error":"#N/A"},{"$error":"#N/A"},52.357814771272714,52.357814771272714,0.52954428258384367,0.44682923778008932,0.8464889795389442,-0.84378553041931559,0.76355335218968423,0.56288986815671493,null,52.83,49.85,1,{"$error":"#N/A"},0.2,0.8,{"$error":"#N/A"},{"$error":"#N/A"},{"$error":"#N/A"},{"$error":"#N/A"},false,false,true,false,false,{"$error":"#N/A"},{"$error":"#N/A"},{"$error":"#N/A"},{"$error":"#N/A"},false,false,false,false,false,{"$error":"#N/A"},{"$error":"#N/A"},{"$error":"#N/A"},{"$error":"#N/A"}]
[139,{"$f":"OFFSET(InputPriceData!B$15,CalculationsAndCharts!$A171+$A$11,0,1,1)","v":"2013-04-25"},{"$f":"OFFSET(InputPriceData!G$15,CalculationsAndCharts!$A171+$A$11,0,1,1)","v":2071000},{"$f":"OFFSET(InputPriceData!C$15,CalculationsAndCharts!$A171+$A$11,IF($C$7,7,0),1,1)","v":52.24},{"$f":"OFFSET(InputPriceData!D$15,CalculationsAndCharts!$A171+$A$11,IF($C$7,7,0),1,1)","v":52.9},{"$f":"OFFSET(InputPriceData!E$15,CalculationsAndCharts!$A171+$A$11,IF($C$7,7,0),1,1)","v":52.2},{"$f":"OFFSET(InputPriceData!F$15,CalculationsAndCharts!$A171+$A$11,IF($C$7,7,0),1,1)","v":52.71},{"$error":"#N/A"},{"$error":"#N/A"},{"$error":"#N/A"},52.100943706997278,52.100943706997278,0.63989228581942714,0.38154436779935719,1.2764404969122314,-0.84378553041931559,0.57792418469687223,0.4965861777803483,null,52.71,49.85,1,{"$error":"#N/A"},0.2,0.8,{"$error":"#N/A"},{"$error":"#N/A"},{"$error":"#N/A"},{"$error":"#N/A"},false,false,true,false,false,{"$error":"#N/A"},{"$error":"#N/A"},{"$error":"#N/A"},{"$error":"#N/A"},false,false,false,false,false,{"$error":"#N/A"},{"$error":"#N/A"},{"$error":"#N/A"},{"$error":"#N/A"}]
[140,{"$f":"OFFSET(InputPriceData!B$15,CalculationsAndCharts!$A172+$A$11,0,1,1)","v":"2013-04-24"},{"$f":"OFFSET(InputPriceData!G$15,CalculationsAndCharts!$A172+$A$11,0,1,1)","v":1604700},{"$f":"OFFSET(InputPriceData!C$15,CalculationsAndCharts!$A172+$A$11,IF($C$7,7,0),1,1)","v":52.33},{"$f":"OFFSET(InputPriceData!D$15,CalculationsAndCharts!$A172+$A$11,IF($C$7,7,0),1,1)","v":52.74},{"$f":"OFFSET(InputPriceData!E$15,CalculationsAndCharts!$A172+$A$11,IF($C$7,7,0),1,1)","v":52.01},{"$f":"OFFSET(InputPriceData!F$15,CalculationsAndCharts!$A172+$A$11,IF($C$7,7,0),1,1)","v":52.09},{"$error":"#N/A"},{"$error":"#N/A"},{"$error":"#N/A"},51.888178838871788,51.888178838871788,0.21694493060216791,0.34785962973305451,1.5068888655461496,-0.84378553041931559,0.50693756744771934,0.44256296124489769,null,52.15,49.85,0.97391304347826291,{"$error":"#N/A"},0.2,0.8,{"$error":"#N/A"},{"$error":"#N/A"},{"$error":"#N/A"},{"$error":"#N/A"},false,false,true,false,false,{"$error":"#N/A"},{"$error":"#N/A"},{"$error":"#N/A"},{"$error":"#N/A"},false,false,false,false,false,{"$error":"#N/A"},{"$error":"#N/A"},{"$error":"#N/A"},{"$error":"#N/A"}]
[141,{"$f":"OFFSET(InputPriceData!B$15,CalculationsAndCharts!$A173+$A$11,0,1,1)","v":"2013-04-23"},{"$f":"OFFSET(InputPriceData!G$15,CalculationsAndCharts!$A173+$A$11,0,1,1)","v":2936300},{"$f":"OFFSET(InputPriceData!C$15,CalculationsAndCharts!$A173+$A$11,IF($C$7,7,0),1,1)","v":51.81},{"$f":"OFFSET(InputPriceData!D$15,CalculationsAndCharts!$A173+$A$11,IF($C$7,7,0),1,1)","v":52.57},{"$f":"OFFSET(InputPriceData!E$15,CalculationsAndCharts!$A173+$A$11,IF($C$7,7,0),1,1)","v":51.74},{"$f":"OFFSET(InputPriceData!F$15,CalculationsAndCharts!$A173+$A$11,IF($C$7,7,0),1,1)","v":52.15},{"$error":"#N/A"},{"$f":"IF($A173=$E$25,I$32,NA())","v":{"$error":"#N/A"}},{"$error":"#N/A"},51.685879550565865,51.685879550565865,0.45345656584302624,0.31554124971476399,1.5068888655461496,-0.84378553041931559,0.49318901083189903,0.37267869176332208,null,52.22,49.85,0.97046413502109685,{"$error":"#N/A"},0.2,0.8,{"$error":"#N/A"},{"$error":"#N/A"},{"$error":"#N/A"},{"$error":"#N/A"},false,false,true,false,false,{"$error":"#N/A"},{"$error":"#N/A"},{"$error":"#N/A"},{"$error":"#N/A"},false,false,false,false,false,{"$error":"#N/A"},{"$error":"#N/A"},{"$error":"#N/A"},{"$error":"#N/A"}]
[142,{"$f":"OFFSET(InputPriceData!B$15,CalculationsAndCharts!$A174+$A$11,0,1,1)","v":"2013-04-22"},{"$f":"OFFSET(InputPriceData!G$15,CalculationsAndCharts!$A174+$A$11,0,1,1)","v":1895800},{"$f":"OFFSET(InputPriceData!C$15,CalculationsAndCharts!$A174+$A$11,IF($C$7,7,0),1,1)","v":51.74},{"$f":"OFFSET(InputPriceData!D$15,CalculationsAndCharts!$A174+$A$11,IF($C$7,7,0),1,1)","v":51.89},{"$f":"OFFSET(InputPriceData!E$15,CalculationsAndCharts!$A174+$A$11,IF($C$7,7,0),1,1)","v":51.38},{"$f":"OFFSET(InputPriceData!F$15,CalculationsAndCharts!$A174+$A$11,IF($C$7,7,0),1,1)","v":51.63},{"$error":"#N/A"},{"$error":"#N/A"},{"$error":"#N/A"},51.461204165195674,51.461204165195674,9.6166612657418271E-2,0.24906392843021008,1.5068888655461496,-0.84378553041931559,0.46490890474887409,0.28116618279563127,null,52.22,49.85,0.75105485232067637,{"$error":"#N/A"},0.2,0.8,{"$error":"#N/A"},{"$error":"#N/A"},{"$error":"#N/A"},{"$error":"#N/A"},false,false,true,false,false,{"$error":"#N/A"},{"$error":"#N/A"},{"$error":"#N/A"},{"$error":"#N/A"},false,false,false,false,false,{"$error":"#N/A"},{"$error":"#N/A"},{"$error":"#N/A"},{"$error":"#N/A"}]
[143,{"$f":"OFFSET(InputPriceData!B$15,CalculationsAndCharts!$A175+$A$11,0,1,1)","v":"2013-04-19"},{"$f":"OFFSET(InputPriceData!G$15,CalculationsAndCharts!$A175+$A$11,0,1,1)","v":4407800},{"$f":"OFFSET(InputPriceData!C$15,CalculationsAndCharts!$A175+$A$11,IF($C$7,7,0),1,1)","v":51.47},{"$f":"OFFSET(InputPriceData!D$15,CalculationsAndCharts!$A175+$A$11,IF($C$7,7,0),1,1)","v":51.86},{"$f":"OFFSET(InputPriceData!E$15,CalculationsAndCharts!$A175+$A$11,IF($C$7,7,0),1,1)","v":51.15},{"$f":"OFFSET(InputPriceData!F$15,CalculationsAndCharts!$A175+$A$11,IF($C$7,7,0),1,1)","v":51.82},{"$error":"#N/A"},{"$error":"#N/A"},{"$error":"#N/A"},51.178847856561376,51.178847856561376,0.44582959950790857,0.10328168402533439,1.5068888655461496,-0.84378553041931559,0.40289170464022173,0.18045672322920811,null,52.22,49.85,0.83122362869198352,{"$error":"#N/A"},0.2,0.8,{"$error":"#N/A"},{"$error":"#N/A"},{"$error":"#N/A"},{"$error":"#N/A"},false,false,true,false,false,{"$error":"#N/A"},{"$error":"#N/A"},{"$error":"#N/A"},{"$error":"#N/A"},false,false,false,false,false,{"$error":"#N/A"},{"$error":"#N/A"},{"$error":"#N/A"},{"$error":"#N/A"}]
[144,{"$f":"OFFSET(InputPriceData!B$15,CalculationsAndCharts!$A176+$A$11,0,1,1)","v":"2013-04-18"},{"$f":"OFFSET(InputPriceData!G$15,CalculationsAndCharts!$A176+$A$11,0,1,1)","v":4107100},{"$f":"OFFSET(InputPriceData!C$15,CalculationsAndCharts!$A176+$A$11,IF($C$7,7,0),1,1)","v":51.9},{"$f":"OFFSET(InputPriceData!D$15,CalculationsAndCharts!$A176+$A$11,IF($C$7,7,0),1,1)","v":51.99},{"$f":"OFFSET(InputPriceData!E$15,CalculationsAndCharts!$A176+$A$11,IF($C$7,7,0),1,1)","v":50.67},{"$f":"OFFSET(InputPriceData!F$15,CalculationsAndCharts!$A176+$A$11,IF($C$7,7,0),1,1)","v":51.3},{"$error":"#N/A"},{"$error":"#N/A"},{"$error":"#N/A"},50.828477514408739,50.828477514408739,8.1875327525332497E-2,-0.14794193323506749,1.5068888655461496,-0.84378553041931559,0.29601870781361544,9.158166437186005E-2,null,52.22,49.81,0.61825726141078718,{"$error":"#N/A"},0.2,0.8,{"$error":"#N/A"},{"$error":"#N/A"},{"$error":"#N/A"},{"$error":"#N/A"},false,false,true,false,false,{"$error":"#N/A"},{"$error":"#N/A"},{"$error":"#N/A"},{"$error":"#N/A"},false,false,false,false,false,{"$error":"#N/A"},{"$error":"#N/A"},{"$error":"#N/A"},{"$error":"#N/A"}]
[145,{"$f":"OFFSET(InputPriceData!B$15,CalculationsAndCharts!$A177+$A$11,0,1,1)","v":"2013-04-17"},{"$f":"OFFSET(InputPriceData!G$15,CalculationsAndCharts!$A177+$A$11,0,1,1)","v":6858300},{"$f":"OFFSET(InputPriceData!C$15,CalculationsAndCharts!$A177+$A$11,IF($C$7,7,0),1,1)","v":50.18},{"$f":"OFFSET(InputPriceData!D$15,CalculationsAndCharts!$A177+$A$11,IF($C$7,7,0),1,1)","v":51.92},{"$f":"OFFSET(InputPriceData!E$15,CalculationsAndCharts!$A177+$A$11,IF($C$7,7,0),1,1)","v":50.17},{"$f":"OFFSET(InputPriceData!F$15,CalculationsAndCharts!$A177+$A$11,IF($C$7,7,0),1,1)","v":51.9},{"$error":"#N/A"},{"$error":"#N/A"},{"$error":"#N/A"},50.426829578899927,50.426829578899927,0.87443283978125086,-0.50530961860865242,1.5068888655461496,-0.84378553041931559,0.1439909807975106,3.4206482335546726E-2,null,52.22,49.79,0.86831275720164591,{"$error":"#N/A"},0.2,0.8,{"$error":"#N/A"},{"$error":"#N/A"},{"$error":"#N/A"},{"$error":"#N/A"},false,false,true,false,false,{"$error":"#N/A"},{"$error":"#N/A"},{"$error":"#N/A"},{"$error":"#N/A"},false,false,false,false,false,{"$error":"#N/A"},{"$error":"#N/A"},{"$error":"#N/A"},{"$error":"#N/A"}]
[146,{"$f":"OFFSET(InputPriceData!B$15,CalculationsAndCharts!$A178+$A$11,0,1,1)","v":"2013-04-16"},{"$f":"OFFSET(InputPriceData!G$15,CalculationsAndCharts!$A178+$A$11,0,1,1)","v":3536500},{"$f":"OFFSET(InputPriceData!C$15,CalculationsAndCharts!$A178+$A$11,IF($C$7,7,0),1,1)","v":49.98},{"$f":"OFFSET(InputPriceData!D$15,CalculationsAndCharts!$A178+$A$11,IF($C$7,7,0),1,1)","v":50.51},{"$f":"OFFSET(InputPriceData!E$15,CalculationsAndCharts!$A178+$A$11,IF($C$7,7,0),1,1)","v":49.55},{"$f":"OFFSET(InputPriceData!F$15,CalculationsAndCharts!$A178+$A$11,IF($C$7,7,0),1,1)","v":50.47},{"$error":"#N/A"},{"$error":"#N/A"},{"$error":"#N/A"},50.172323862658573,50.172323862658573,-0.41176984555365603,-0.76891144077150997,1.5068888655461496,-0.84378553041931559,3.1852173902227512E-2,9.0589588739882071E-3,null,52.22,47.77,0.60674157303370746,{"$error":"#N/A"},0.2,0.8,{"$error":"#N/A"},{"$error":"#N/A"},{"$error":"#N/A"},{"$error":"#N/A"},false,false,true,false,false,{"$error":"#N/A"},{"$error":"#N/A"},{"$error":"#N/A"},{"$error":"#N/A"},false,false,false,false,false,{"$error":"#N/A"},{"$error":"#N/A"},{"$error":"#N/A"},{"$error":"#N/A"}]
[147,{"$f":"OFFSET(InputPriceData!B$15,CalculationsAndCharts!$A179+$A$11,0,1,1)","v":"2013-04-15"},{"$f":"OFFSET(InputPriceData!G$15,CalculationsAndCharts!$A179+$A$11,0,1,1)","v":3509300},{"$f":"OFFSET(InputPriceData!C$15,CalculationsAndCharts!$A179+$A$11,IF($C$7,7,0),1,1)","v":50.01},{"$f":"OFFSET(InputPriceData!D$15,CalculationsAndCharts!$A179+$A$11,IF($C$7,7,0),1,1)","v":50.6},{"$f":"OFFSET(InputPriceData!E$15,CalculationsAndCharts!$A179+$A$11,IF($C$7,7,0),1,1)","v":49.62},{"$f":"OFFSET(InputPriceData!F$15,CalculationsAndCharts!$A179+$A$11,IF($C$7,7,0),1,1)","v":49.9},{"$error":"#N/A"},{"$error":"#N/A"},{"$error":"#N/A"},50.176793238528134,50.176793238528134,-1.0104809285880059,-0.79420987258549625,1.5068888655461496,-0.84378553041931559,2.1089972273024102E-2,-3.5466051988346427E-3,null,52.22,47.77,0.47865168539325786,{"$error":"#N/A"},0.2,0.8,{"$error":"#N/A"},{"$error":"#N/A"},{"$error":"#N/A"},{"$error":"#N/A"},false,false,true,false,false,{"$error":"#N/A"},{"$error":"#N/A"},{"$error":"#N/A"},{"$error":"#N/A"},false,false,false,false,false,{"$error":"#N/A"},{"$error":"#N/A"},{"$error":"#N/A"},{"$error":"#N/A"}]
[148,{"$f":"OFFSET(InputPriceData!B$15,CalculationsAndCharts!$A180+$A$11,0,1,1)","v":"2013-04-12"},{"$f":"OFFSET(InputPriceData!G$15,CalculationsAndCharts!$A180+$A$11,0,1,1)","v":2347800},{"$f":"OFFSET(InputPriceData!C$15,CalculationsAndCharts!$A180+$A$11,IF($C$7,7,0),1,1)","v":50.24},{"$f":"OFFSET(InputPriceData!D$15,CalculationsAndCharts!$A180+$A$11,IF($C$7,7,0),1,1)","v":50.84},{"$f":"OFFSET(InputPriceData!E$15,CalculationsAndCharts!$A180+$A$11,IF($C$7,7,0),1,1)","v":49.86},{"$f":"OFFSET(InputPriceData!F$15,CalculationsAndCharts!$A180+$A$11,IF($C$7,7,0),1,1)","v":50.31},{"$error":"#N/A"},{"$error":"#N/A"},{"$error":"#N/A"},50.192710711020759,50.192710711020759,-0.64411221100435778,-0.80458396766523932,1.5068888655461496,-0.84378553041931559,1.6676730227444137E-2,-1.5720395778195197E-2,null,52.22,47.77,0.57078651685393289,{"$error":"#N/A"},0.2,0.8,{"$error":"#N/A"},{"$error":"#N/A"},{"$error":"#N/A"},{"$error":"#N/A"},false,false,true,false,false,{"$error":"#N/A"},{"$error":"#N/A"},{"$error":"#N/A"},{"$error":"#N/A"},false,false,false,false,false,{"$error":"#N/A"},{"$error":"#N/A"},{"$error":"#N/A"},{"$error":"#N/A"}]
[149,{"$f":"OFFSET(InputPriceData!B$15,CalculationsAndCharts!$A181+$A$11,0,1,1)","v":"2013-04-11"},{"$f":"OFFSET(InputPriceData!G$15,CalculationsAndCharts!$A181+$A$11,0,1,1)","v":5470800},{"$f":"OFFSET(InputPriceData!C$15,CalculationsAndCharts!$A181+$A$11,IF($C$7,7,0),1,1)","v":50.31},{"$f":"OFFSET(InputPriceData!D$15,CalculationsAndCharts!$A181+$A$11,IF($C$7,7,0),1,1)","v":50.85},{"$f":"OFFSET(InputPriceData!E$15,CalculationsAndCharts!$A181+$A$11,IF($C$7,7,0),1,1)","v":50.21},{"$f":"OFFSET(InputPriceData!F$15,CalculationsAndCharts!$A181+$A$11,IF($C$7,7,0),1,1)","v":50.28},{"$error":"#N/A"},{"$error":"#N/A"},{"$error":"#N/A"},50.177429281366443,50.177429281366443,-0.68082440984692416,-0.84378553041931559,1.5068888655461496,-0.84378553041931559,0,-2.4021870415724515E-2,null,52.22,47.77,0.56404494382022485,{"$error":"#N/A"},0.2,0.8,{"$error":"#N/A"},{"$error":"#N/A"},{"$error":"#N/A"},{"$error":"#N/A"},false,false,true,false,false,{"$error":"#N/A"},{"$error":"#N/A"},{"$error":"#N/A"},{"$error":"#N/A"},false,false,false,false,false,{"$error":"#N/A"},{"$error":"#N/A"},{"$error":"#N/A"},{"$error":"#N/A"}]
[150,{"$f":"OFFSET(InputPriceData!B$15,CalculationsAndCharts!$A182+$A$11,0,1,1)","v":"2013-04-10"},{"$f":"OFFSET(InputPriceData!G$15,CalculationsAndCharts!$A182+$A$11,0,1,1)","v":6801000},{"$f":"OFFSET(InputPriceData!C$15,CalculationsAndCharts!$A182+$A$11,IF($C$7,7,0),1,1)","v":49.9},{"$f":"OFFSET(InputPriceData!D$15,CalculationsAndCharts!$A182+$A$11,IF($C$7,7,0),1,1)","v":51.34},{"$f":"OFFSET(InputPriceData!E$15,CalculationsAndCharts!$A182+$A$11,IF($C$7,7,0),1,1)","v":49.76},{"$f":"OFFSET(InputPriceData!F$15,CalculationsAndCharts!$A182+$A$11,IF($C$7,7,0),1,1)","v":50.24},{"$error":"#N/A"},{"$error":"#N/A"},{"$error":"#N/A"},50.212634700675778,50.212634700675778,-0.7295873670129942,-0.82750479665237953,1.5068888655461496,-0.82750479665237953,0,-2.4289221977745259E-2,null,52.22,47.77,0.55505617977528121,{"$error":"#N/A"},0.2,0.8,{"$error":"#N/A"},{"$error":"#N/A"},{"$error":"#N/A"},{"$error":"#N/A"},false,false,true,false,false,{"$error":"#N/A"},{"$error":"#N/A"},{"$error":"#N/A"},{"$error":"#N/A"},false,false,false,false,false,{"$error":"#N/A"},{"$error":"#N/A"},{"$error":"#N/A"},{"$error":"#N/A"}]
[151,{"$f":"OFFSET(InputPriceData!B$15,CalculationsAndCharts!$A183+$A$11,0,1,1)","v":"2013-04-09"},{"$f":"OFFSET(InputPriceData!G$15,CalculationsAndCharts!$A183+$A$11,0,1,1)","v":7493300},{"$f":"OFFSET(InputPriceData!C$15,CalculationsAndCharts!$A183+$A$11,IF($C$7,7,0),1,1)","v":50.48},{"$f":"OFFSET(InputPriceData!D$15,CalculationsAndCharts!$A183+$A$11,IF($C$7,7,0),1,1)","v":50.58},{"$f":"OFFSET(InputPriceData!E$15,CalculationsAndCharts!$A183+$A$11,IF($C$7,7,0),1,1)","v":49.76},{"$f":"OFFSET(InputPriceData!F$15,CalculationsAndCharts!$A183+$A$11,IF($C$7,7,0),1,1)","v":49.85},{"$error":"#N/A"},{"$error":"#N/A"},{"$error":"#N/A"},50.327382279633966,50.327382279633966,-1.1662139516409888,-0.71265109750778421,1.5068888655461496,-0.71265109750778421,0,-9.9902690501943309E-3,null,52.22,47.76,0.4686098654708527,{"$error":"#N/A"},0.2,0.8,{"$error":"#N/A"},{"$error":"#N/A"},{"$error":"#N/A"},{"$error":"#N/A"},false,false,true,false,false,{"$error":"#N/A"},{"$error":"#N/A"},{"$error":"#N/A"},{"$error":"#N/A"},false,false,false,false,false,{"$error":"#N/A"},{"$error":"#N/A"},{"$error":"#N/A"},{"$error":"#N/A"}]
[152,{"$f":"OFFSET(InputPriceData!B$15,CalculationsAndCharts!$A184+$A$11,0,1,1)","v":"2013-04-08"},{"$f":"OFFSET(InputPriceData!G$15,CalculationsAndCharts!$A184+$A$11,0,1,1)","v":3150200},{"$f":"OFFSET(InputPriceData!C$15,CalculationsAndCharts!$A184+$A$11,IF($C$7,7,0),1,1)","v":50.28},{"$f":"OFFSET(InputPriceData!D$15,CalculationsAndCharts!$A184+$A$11,IF($C$7,7,0),1,1)","v":50.49},{"$f":"OFFSET(InputPriceData!E$15,CalculationsAndCharts!$A184+$A$11,IF($C$7,7,0),1,1)","v":50.05},{"$f":"OFFSET(InputPriceData!F$15,CalculationsAndCharts!$A184+$A$11,IF($C$7,7,0),1,1)","v":50.36},{"$error":"#N/A"},{"$error":"#N/A"},{"$error":"#N/A"},50.43257822101571,50.43257822101571,-0.69124128382672156,-0.57818897477975262,1.5068888655461496,-0.57818897477975262,0,3.0923898426958071E-2,null,52.22,47.48,0.607594936708861,{"$error":"#N/A"},0.2,0.8,50.28,{"$error":"#N/A"},{"$error":"#N/A"},{"$error":"#N/A"},false,true,true,false,false,50.28,{"$error":"#N/A"},50.28,{"$error":"#N/A"},false,false,false,false,true,{"$error":"#N/A"},50.28,{"$error":"#N/A"},50.28]
[153,{"$f":"OFFSET(InputPriceData!B$15,CalculationsAndCharts!$A185+$A$11,0,1,1)","v":"2013-04-05"},{"$f":"OFFSET(InputPriceData!G$15,CalculationsAndCharts!$A185+$A$11,0,1,1)","v":3662400},{"$f":"OFFSET(InputPriceData!C$15,CalculationsAndCharts!$A185+$A$11,IF($C$7,7,0),1,1)","v":50.23},{"$f":"OFFSET(InputPriceData!D$15,CalculationsAndCharts!$A185+$A$11,IF($C$7,7,0),1,1)","v":50.42},{"$f":"OFFSET(InputPriceData!E$15,CalculationsAndCharts!$A185+$A$11,IF($C$7,7,0),1,1)","v":49.92},{"$f":"OFFSET(InputPriceData!F$15,CalculationsAndCharts!$A185+$A$11,IF($C$7,7,0),1,1)","v":50.4},{"$error":"#N/A"},{"$error":"#N/A"},{"$error":"#N/A"},50.486734740192546,50.486734740192546,-0.62977211502350383,-0.46700763727257877,1.5068888655461496,-0.46700763727257877,0,0.11136772764787795,null,52.22,47.48,0.61603375527426174,{"$error":"#N/A"},0.2,0.8,{"$error":"#N/A"},{"$error":"#N/A"},0.11136772764787795,{"$error":"#N/A"},true,false,false,false,false,{"$error":"#N/A"},{"$error":"#N/A"},{"$error":"#N/A"},{"$error":"#N/A"},false,false,true,true,false,{"$error":"#N/A"},{"$error":"#N/A"},{"$error":"#N/A"},{"$error":"#N/A"}]
[154,{"$f":"OFFSET(InputPriceData!B$15,CalculationsAndCharts!$A186+$A$11,0,1,1)","v":"2013-04-04"},{"$f":"OFFSET(InputPriceData!G$15,CalculationsAndCharts!$A186+$A$11,0,1,1)","v":2929400},{"$f":"OFFSET(InputPriceData!C$15,CalculationsAndCharts!$A186+$A$11,IF($C$7,7,0),1,1)","v":50.22},{"$f":"OFFSET(InputPriceData!D$15,CalculationsAndCharts!$A186+$A$11,IF($C$7,7,0),1,1)","v":50.74},{"$f":"OFFSET(InputPriceData!E$15,CalculationsAndCharts!$A186+$A$11,IF($C$7,7,0),1,1)","v":50.13},{"$f":"OFFSET(InputPriceData!F$15,CalculationsAndCharts!$A186+$A$11,IF($C$7,7,0),1,1)","v":50.73},{"$error":"#N/A"},{"$error":"#N/A"},{"$error":"#N/A"},50.552716876784388,50.552716876784388,-0.23100075632731076,-0.31577862353009778,1.6817934380628481,-0.31577862353009778,0,0.23841179035211374,null,52.22,47.46,0.68697478991596583,{"$error":"#N/A"},0.2,0.8,{"$error":"#N/A"},{"$error":"#N/A"},{"$error":"#N/A"},{"$error":"#N/A"},false,false,false,false,false,{"$error":"#N/A"},{"$error":"#N/A"},{"$error":"#N/A"},{"$error":"#N/A"},false,false,true,false,false,{"$error":"#N/A"},{"$error":"#N/A"},{"$error":"#N/A"},{"$error":"#N/A"}]
[155,{"$f":"OFFSET(InputPriceData!B$15,CalculationsAndCharts!$A187+$A$11,0,1,1)","v":"2013-04-03"},{"$f":"OFFSET(InputPriceData!G$15,CalculationsAndCharts!$A187+$A$11,0,1,1)","v":2804700},{"$f":"OFFSET(InputPriceData!C$15,CalculationsAndCharts!$A187+$A$11,IF($C$7,7,0),1,1)","v":50.68},{"$f":"OFFSET(InputPriceData!D$15,CalculationsAndCharts!$A187+$A$11,IF($C$7,7,0),1,1)","v":50.73},{"$f":"OFFSET(InputPriceData!E$15,CalculationsAndCharts!$A187+$A$11,IF($C$7,7,0),1,1)","v":50.04},{"$f":"OFFSET(InputPriceData!F$15,CalculationsAndCharts!$A187+$A$11,IF($C$7,7,0),1,1)","v":50.12},{"$error":"#N/A"},{"$error":"#N/A"},{"$error":"#N/A"},50.720701477179276,50.720701477179276,-0.78234051382545833,-1.8625997210242107E-2,1.9337880006366244,-1.8625997210242107E-2,0,0.40056658902598441,null,52.22,47.46,0.55882352941176427,{"$error":"#N/A"},0.2,0.8,{"$error":"#N/A"},{"$error":"#N/A"},{"$error":"#N/A"},{"$error":"#N/A"},false,false,false,false,false,{"$error":"#N/A"},{"$error":"#N/A"},{"$error":"#N/A"},{"$error":"#N/A"},false,false,true,false,false,{"$error":"#N/A"},{"$error":"#N/A"},{"$error":"#N/A"},{"$error":"#N/A"}]
[156,{"$f":"OFFSET(InputPriceData!B$15,CalculationsAndCharts!$A188+$A$11,0,1,1)","v":"2013-04-02"},{"$f":"OFFSET(InputPriceData!G$15,CalculationsAndCharts!$A188+$A$11,0,1,1)","v":2790300},{"$f":"OFFSET(InputPriceData!C$15,CalculationsAndCharts!$A188+$A$11,IF($C$7,7,0),1,1)","v":50.73},{"$f":"OFFSET(InputPriceData!D$15,CalculationsAndCharts!$A188+$A$11,IF($C$7,7,0),1,1)","v":50.76},{"$f":"OFFSET(InputPriceData!E$15,CalculationsAndCharts!$A188+$A$11,IF($C$7,7,0),1,1)","v":50.4},{"$f":"OFFSET(InputPriceData!F$15,CalculationsAndCharts!$A188+$A$11,IF($C$7,7,0),1,1)","v":50.54},{"$error":"#N/A"},{"$error":"#N/A"},{"$error":"#N/A"},50.947137207463754,50.947137207463754,-0.30613146867087709,0.40348187055239537,1.9337880006366244,7.4950650154718107E-2,0.17674016519654345,0.54828812089258527,null,52.22,47.46,0.64705882352941169,{"$error":"#N/A"},0.2,0.8,{"$error":"#N/A"},{"$error":"#N/A"},{"$error":"#N/A"},{"$error":"#N/A"},false,false,false,false,false,{"$error":"#N/A"},{"$error":"#N/A"},{"$error":"#N/A"},{"$error":"#N/A"},false,false,true,false,false,{"$error":"#N/A"},{"$error":"#N/A"},{"$error":"#N/A"},{"$error":"#N/A"}]
[157,{"$f":"OFFSET(InputPriceData!B$15,CalculationsAndCharts!$A189+$A$11,0,1,1)","v":"2013-04-01"},{"$f":"OFFSET(InputPriceData!G$15,CalculationsAndCharts!$A189+$A$11,0,1,1)","v":4970100},{"$f":"OFFSET(InputPriceData!C$15,CalculationsAndCharts!$A189+$A$11,IF($C$7,7,0),1,1)","v":50.77},{"$f":"OFFSET(InputPriceData!D$15,CalculationsAndCharts!$A189+$A$11,IF($C$7,7,0),1,1)","v":50.87},{"$f":"OFFSET(InputPriceData!E$15,CalculationsAndCharts!$A189+$A$11,IF($C$7,7,0),1,1)","v":50.25},{"$f":"OFFSET(InputPriceData!F$15,CalculationsAndCharts!$A189+$A$11,IF($C$7,7,0),1,1)","v":50.62},{"$error":"#N/A"},{"$error":"#N/A"},{"$error":"#N/A"},51.117857468250186,51.117857468250186,-0.10387513736664289,0.8464889795389442,1.9337880006366244,7.4950650154718107E-2,0.41506500242433997,0.62438923246349198,null,52.22,47.46,0.66386554621848692,{"$error":"#N/A"},0.2,0.8,{"$error":"#N/A"},{"$error":"#N/A"},{"$error":"#N/A"},{"$error":"#N/A"},false,false,false,false,false,{"$error":"#N/A"},{"$error":"#N/A"},{"$error":"#N/A"},{"$error":"#N/A"},false,false,true,false,false,{"$error":"#N/A"},{"$error":"#N/A"},{"$error":"#N/A"},{"$error":"#N/A"}]
[158,{"$f":"OFFSET(InputPriceData!B$15,CalculationsAndCharts!$A190+$A$11,0,1,1)","v":"2013-03-28"},{"$f":"OFFSET(InputPriceData!G$15,CalculationsAndCharts!$A190+$A$11,0,1,1)","v":33355800},{"$f":"OFFSET(InputPriceData!C$15,CalculationsAndCharts!$A190+$A$11,IF($C$7,7,0),1,1)","v":50.3},{"$f":"OFFSET(InputPriceData!D$15,CalculationsAndCharts!$A190+$A$11,IF($C$7,7,0),1,1)","v":50.72},{"$f":"OFFSET(InputPriceData!E$15,CalculationsAndCharts!$A190+$A$11,IF($C$7,7,0),1,1)","v":50.24},{"$f":"OFFSET(InputPriceData!F$15,CalculationsAndCharts!$A190+$A$11,IF($C$7,7,0),1,1)","v":50.58},{"$error":"#N/A"},{"$error":"#N/A"},{"$error":"#N/A"},51.201907881400572,51.201907881400572,8.6138733256984068E-3,1.2764404969122314,1.9337880006366244,7.4950650154718107E-2,0.64636631410813072,0.60724729307924119,null,52.22,47.46,0.65546218487394936,{"$error":"#N/A"},0.2,0.8,{"$error":"#N/A"},{"$error":"#N/A"},{"$error":"#N/A"},{"$error":"#N/A"},false,false,false,false,false,{"$error":"#N/A"},{"$error":"#N/A"},{"$error":"#N/A"},{"$error":"#N/A"},false,false,true,false,false,{"$error":"#N/A"},{"$error":"#N/A"},{"$error":"#N/A"},{"$error":"#N/A"}]
[159,{"$f":"OFFSET(InputPriceData!B$15,CalculationsAndCharts!$A191+$A$11,0,1,1)","v":"2013-03-27"},{"$f":"OFFSET(InputPriceData!G$15,CalculationsAndCharts!$A191+$A$11,0,1,1)","v":7721400},{"$f":"OFFSET(InputPriceData!C$15,CalculationsAndCharts!$A191+$A$11,IF($C$7,7,0),1,1)","v":50.88},{"$f":"OFFSET(InputPriceData!D$15,CalculationsAndCharts!$A191+$A$11,IF($C$7,7,0),1,1)","v":51.56},{"$f":"OFFSET(InputPriceData!E$15,CalculationsAndCharts!$A191+$A$11,IF($C$7,7,0),1,1)","v":50.6},{"$f":"OFFSET(InputPriceData!F$15,CalculationsAndCharts!$A191+$A$11,IF($C$7,7,0),1,1)","v":50.95},{"$error":"#N/A"},{"$error":"#N/A"},{"$error":"#N/A"},51.035814331950462,51.035814331950462,0.59471106669086926,1.5068888655461496,1.9337880006366244,7.4950650154718107E-2,0.77034078049927257,0.51846750696575561,null,52.22,46.34,0.78401360544217735,{"$error":"#N/A"},0.2,0.8,{"$error":"#N/A"},{"$error":"#N/A"},{"$error":"#N/A"},{"$error":"#N/A"},false,false,false,false,false,{"$error":"#N/A"},{"$error":"#N/A"},{"$error":"#N/A"},{"$error":"#N/A"},false,false,true,false,false,{"$error":"#N/A"},{"$error":"#N/A"},{"$error":"#N/A"},{"$error":"#N/A"}]
[160,{"$f":"OFFSET(InputPriceData!B$15,CalculationsAndCharts!$A192+$A$11,0,1,1)","v":"2013-03-26"},{"$f":"OFFSET(InputPriceData!G$15,CalculationsAndCharts!$A192+$A$11,0,1,1)","v":4110500},{"$f":"OFFSET(InputPriceData!C$15,CalculationsAndCharts!$A192+$A$11,IF($C$7,7,0),1,1)","v":51.23},{"$f":"OFFSET(InputPriceData!D$15,CalculationsAndCharts!$A192+$A$11,IF($C$7,7,0),1,1)","v":52.3},{"$f":"OFFSET(InputPriceData!E$15,CalculationsAndCharts!$A192+$A$11,IF($C$7,7,0),1,1)","v":51.17},{"$f":"OFFSET(InputPriceData!F$15,CalculationsAndCharts!$A192+$A$11,IF($C$7,7,0),1,1)","v":52.22},{"$error":"#N/A"},{"$error":"#N/A"},{"$error":"#N/A"},50.465310190323052,50.465310190323052,2.2840773893442092,1.3254215207706155,1.9337880006366244,7.4950650154718107E-2,0.67271666899296545,0.41948057246972137,null,52.22,46.34,1,{"$error":"#N/A"},0.2,0.8,{"$error":"#N/A"},{"$error":"#N/A"},{"$error":"#N/A"},{"$error":"#N/A"},false,false,false,false,false,{"$error":"#N/A"},{"$error":"#N/A"},{"$error":"#N/A"},{"$error":"#N/A"},false,false,true,false,false,{"$error":"#N/A"},{"$error":"#N/A"},{"$error":"#N/A"},{"$error":"#N/A"}]
[161,{"$f":"OFFSET(InputPriceData!B$15,CalculationsAndCharts!$A193+$A$11,0,1,1)","v":"2013-03-25"},{"$f":"OFFSET(InputPriceData!G$15,CalculationsAndCharts!$A193+$A$11,0,1,1)","v":10543200},{"$f":"OFFSET(InputPriceData!C$15,CalculationsAndCharts!$A193+$A$11,IF($C$7,7,0),1,1)","v":52.53},{"$f":"OFFSET(InputPriceData!D$15,CalculationsAndCharts!$A193+$A$11,IF($C$7,7,0),1,1)","v":52.91},{"$f":"OFFSET(InputPriceData!E$15,CalculationsAndCharts!$A193+$A$11,IF($C$7,7,0),1,1)","v":49.84},{"$f":"OFFSET(InputPriceData!F$15,CalculationsAndCharts!$A193+$A$11,IF($C$7,7,0),1,1)","v":51.08},{"$error":"#N/A"},{"$f":"IF($A193=$E$25,I$32,NA())","v":{"$error":"#N/A"}},{"$error":"#N/A"},49.767342969084197,49.767342969084197,1.6462264285805603,0.95435841654174536,1.9337880006366244,7.4950650154718107E-2,0.47309559718016186,0.36470758372064138,null,51.08,44.95,1,{"$error":"#N/A"},0.2,0.8,{"$error":"#N/A"},{"$error":"#N/A"},{"$error":"#N/A"},{"$error":"#N/A"},false,false,false,false,false,{"$error":"#N/A"},{"$error":"#N/A"},{"$error":"#N/A"},{"$error":"#N/A"},false,false,true,false,false,{"$error":"#N/A"},{"$error":"#N/A"},{"$error":"#N/A"},{"$error":"#N/A"}]
[162,{"$f":"OFFSET(InputPriceData!B$15,CalculationsAndCharts!$A194+$A$11,0,1,1)","v":"2013-03-22"},{"$f":"OFFSET(InputPriceData!G$15,CalculationsAndCharts!$A194+$A$11,0,1,1)","v":6403900},{"$f":"OFFSET(InputPriceData!C$15,CalculationsAndCharts!$A194+$A$11,IF($C$7,7,0),1,1)","v":50.09},{"$f":"OFFSET(InputPriceData!D$15,CalculationsAndCharts!$A194+$A$11,IF($C$7,7,0),1,1)","v":50.49},{"$f":"OFFSET(InputPriceData!E$15,CalculationsAndCharts!$A194+$A$11,IF($C$7,7,0),1,1)","v":49.75},{"$f":"OFFSET(InputPriceData!F$15,CalculationsAndCharts!$A194+$A$11,IF($C$7,7,0),1,1)","v":50.07},{"$error":"#N/A"},{"$error":"#N/A"},{"$error":"#N/A"},49.229043558507698,49.229043558507698,1.0058848825293298,0.67427871872298817,1.9337880006366244,3.7940142905301122E-2,0.33564854543716666,0.35967322631954524,null,50.07,44.95,1,{"$error":"#N/A"},0.2,0.8,{"$error":"#N/A"},{"$error":"#N/A"},{"$error":"#N/A"},{"$error":"#N/A"},false,false,false,false,false,{"$error":"#N/A"},{"$error":"#N/A"},{"$error":"#N/A"},{"$error":"#N/A"},false,false,true,false,false,{"$error":"#N/A"},{"$error":"#N/A"},{"$error":"#N/A"},{"$error":"#N/A"}]
[163,{"$f":"OFFSET(InputPriceData!B$15,CalculationsAndCharts!$A195+$A$11,0,1,1)","v":"2013-03-21"},{"$f":"OFFSET(InputPriceData!G$15,CalculationsAndCharts!$A195+$A$11,0,1,1)","v":3240000},{"$f":"OFFSET(InputPriceData!C$15,CalculationsAndCharts!$A195+$A$11,IF($C$7,7,0),1,1)","v":49.41},{"$f":"OFFSET(InputPriceData!D$15,CalculationsAndCharts!$A195+$A$11,IF($C$7,7,0),1,1)","v":49.91},{"$f":"OFFSET(InputPriceData!E$15,CalculationsAndCharts!$A195+$A$11,IF($C$7,7,0),1,1)","v":48.92},{"$f":"OFFSET(InputPriceData!F$15,CalculationsAndCharts!$A195+$A$11,IF($C$7,7,0),1,1)","v":49.81},{"$error":"#N/A"},{"$error":"#N/A"},{"$error":"#N/A"},48.748634330337076,48.748634330337076,1.0502532696007643,0.3944511189585575,1.9337880006366244,-0.43327728832730206,0.34968549923190306,0.37494322566926008,null,49.81,44.95,1,{"$error":"#N/A"},0.2,0.8,{"$error":"#N/A"},{"$error":"#N/A"},{"$error":"#N/A"},{"$error":"#N/A"},false,false,false,false,false,{"$error":"#N/A"},{"$error":"#N/A"},{"$error":"#N/A"},{"$error":"#N/A"},false,false,true,false,false,{"$error":"#N/A"},{"$error":"#N/A"},{"$error":"#N/A"},{"$error":"#N/A"}]
[164,{"$f":"OFFSET(InputPriceData!B$15,CalculationsAndCharts!$A196+$A$11,0,1,1)","v":"2013-03-20"},{"$f":"OFFSET(InputPriceData!G$15,CalculationsAndCharts!$A196+$A$11,0,1,1)","v":5946300},{"$f":"OFFSET(InputPriceData!C$15,CalculationsAndCharts!$A196+$A$11,IF($C$7,7,0),1,1)","v":48.26},{"$f":"OFFSET(InputPriceData!D$15,CalculationsAndCharts!$A196+$A$11,IF($C$7,7,0),1,1)","v":50.04},{"$f":"OFFSET(InputPriceData!E$15,CalculationsAndCharts!$A196+$A$11,IF($C$7,7,0),1,1)","v":48.15},{"$f":"OFFSET(InputPriceData!F$15,CalculationsAndCharts!$A196+$A$11,IF($C$7,7,0),1,1)","v":49.79},{"$error":"#N/A"},{"$error":"#N/A"},{"$error":"#N/A"},48.313831699427588,48.313831699427588,1.3576251019519052,0.10406038115049111,1.9337880006366244,-0.92527152027009285,0.36002464932739259,0.39220513317682804,null,49.79,44.95,1,{"$error":"#N/A"},0.2,0.8,{"$error":"#N/A"},{"$error":"#N/A"},{"$error":"#N/A"},{"$error":"#N/A"},false,false,false,false,false,{"$error":"#N/A"},{"$error":"#N/A"},{"$error":"#N/A"},{"$error":"#N/A"},false,false,true,false,false,{"$error":"#N/A"},{"$error":"#N/A"},{"$error":"#N/A"},{"$error":"#N/A"}]
[165,{"$f":"OFFSET(InputPriceData!B$15,CalculationsAndCharts!$A197+$A$11,0,1,1)","v":"2013-03-19"},{"$f":"OFFSET(InputPriceData!G$15,CalculationsAndCharts!$A197+$A$11,0,1,1)","v":5279300},{"$f":"OFFSET(InputPriceData!C$15,CalculationsAndCharts!$A197+$A$11,IF($C$7,7,0),1,1)","v":48.12},{"$f":"OFFSET(InputPriceData!D$15,CalculationsAndCharts!$A197+$A$11,IF($C$7,7,0),1,1)","v":48.22},{"$f":"OFFSET(InputPriceData!E$15,CalculationsAndCharts!$A197+$A$11,IF($C$7,7,0),1,1)","v":47.46},{"$f":"OFFSET(InputPriceData!F$15,CalculationsAndCharts!$A197+$A$11,IF($C$7,7,0),1,1)","v":47.77},{"$error":"#N/A"},{"$error":"#N/A"},{"$error":"#N/A"},48.171352495288744,48.171352495288744,-0.48414293600762343,7.4950650154718107E-2,1.9337880006366244,-1.0705758469440674,0.38128753879835081,0.41118730174482598,null,48.92,43.8,0.77539062500000044,{"$error":"#N/A"},0.2,0.8,{"$error":"#N/A"},{"$error":"#N/A"},{"$error":"#N/A"},{"$error":"#N/A"},false,false,false,false,false,{"$error":"#N/A"},{"$error":"#N/A"},{"$error":"#N/A"},{"$error":"#N/A"},false,false,true,false,false,{"$error":"#N/A"},{"$error":"#N/A"},{"$error":"#N/A"},{"$error":"#N/A"}]
[166,{"$f":"OFFSET(InputPriceData!B$15,CalculationsAndCharts!$A198+$A$11,0,1,1)","v":"2013-03-18"},{"$f":"OFFSET(InputPriceData!G$15,CalculationsAndCharts!$A198+$A$11,0,1,1)","v":1830700},{"$f":"OFFSET(InputPriceData!C$15,CalculationsAndCharts!$A198+$A$11,IF($C$7,7,0),1,1)","v":47.74},{"$f":"OFFSET(InputPriceData!D$15,CalculationsAndCharts!$A198+$A$11,IF($C$7,7,0),1,1)","v":48.38},{"$f":"OFFSET(InputPriceData!E$15,CalculationsAndCharts!$A198+$A$11,IF($C$7,7,0),1,1)","v":47.63},{"$f":"OFFSET(InputPriceData!F$15,CalculationsAndCharts!$A198+$A$11,IF($C$7,7,0),1,1)","v":48.11},{"$error":"#N/A"},{"$error":"#N/A"},{"$error":"#N/A"},48.199533864247918,48.199533864247918,-0.10167695966575141,0.22684156216192575,1.9337880006366244,-1.0705758469440674,0.43184430213096781,0.43239414539449572,null,48.92,43.8,0.84179687499999967,{"$error":"#N/A"},0.2,0.8,{"$error":"#N/A"},{"$error":"#N/A"},{"$error":"#N/A"},{"$error":"#N/A"},false,false,false,false,{"$f":"AND(AG199,AF199)","v":false},{"$error":"#N/A"},{"$error":"#N/A"},{"$error":"#N/A"},{"$error":"#N/A"},false,{"$f":"AND(AM199,NOT(AO199))","v":false},true,false,false,{"$error":"#N/A"},{"$error":"#N/A"},{"$error":"#N/A"},{"$error":"#N/A"}]
[167,{"$f":"OFFSET(InputPriceData!B$15,CalculationsAndCharts!$A199+$A$11,0,1,1)","v":"2013-03-15"},{"$f":"OFFSET(InputPriceData!G$15,CalculationsAndCharts!$A199+$A$11,0,1,1)","v":3069900},{"$f":"OFFSET(InputPriceData!C$15,CalculationsAndCharts!$A199+$A$11,IF($C$7,7,0),1,1)","v":48.64},{"$f":"OFFSET(InputPriceData!D$15,CalculationsAndCharts!$A199+$A$11,IF($C$7,7,0),1,1)","v":48.72},{"$f":"OFFSET(InputPriceData!E$15,CalculationsAndCharts!$A199+$A$11,IF($C$7,7,0),1,1)","v":47.79},{"$f":"OFFSET(InputPriceData!F$15,CalculationsAndCharts!$A199+$A$11,IF($C$7,7,0),1,1)","v":48.18},{"$error":"#N/A"},{"$error":"#N/A"},{"$error":"#N/A"},48.108320324909087,48.108320324909087,6.2780331275811396E-2,0.27625490850025192,1.9337880006366244,-1.0705758469440674,0.4482914932320447,0.4680589813176439,null,48.92,43.8,0.85546874999999978,{"$error":"#N/A"},0.2,0.8,{"$error":"#N/A"},{"$error":"#N/A"},{"$error":"#N/A"},{"$error":"#N/A"},false,false,false,false,false,{"$error":"#N/A"},{"$error":"#N/A"},{"$error":"#N/A"},{"$error":"#N/A"},false,false,true,false,{"$f":"AND(AP200,AO200)","v":false},{"$error":"#N/A"},{"$error":"#N/A"},{"$error":"#N/A"},{"$error":"#N/A"}]
[168,{"$f":"OFFSET(InputPriceData!B$15,CalculationsAndCharts!$A200+$A$11,0,1,1)","v":"2013-03-14"},{"$f":"OFFSET(InputPriceData!G$15,CalculationsAndCharts!$A200+$A$11,0,1,1)","v":3169600},{"$f":"OFFSET(InputPriceData!C$15,CalculationsAndCharts!$A200+$A$11,IF($C$7,7,0),1,1)","v":48.01},{"$f":"OFFSET(InputPriceData!D$15,CalculationsAndCharts!$A200+$A$11,IF($C$7,7,0),1,1)","v":48.83},{"$f":"OFFSET(InputPriceData!E$15,CalculationsAndCharts!$A200+$A$11,IF($C$7,7,0),1,1)","v":47.85},{"$f":"OFFSET(InputPriceData!F$15,CalculationsAndCharts!$A200+$A$11,IF($C$7,7,0),1,1)","v":48.77},{"$error":"#N/A"},{"$error":"#N/A"},{"$error":"#N/A"},47.909124163997376,47.909124163997376,0.83185955491786101,0.21440278929697845,1.9337880006366244,-1.0705758469440674,0.42770406696106195,0.5375449339436088,null,48.92,43.8,0.97070312500000033,{"$error":"#N/A"},0.2,0.8,{"$error":"#N/A"},{"$error":"#N/A"},{"$error":"#N/A"},{"$error":"#N/A"},false,false,false,false,false,{"$error":"#N/A"},{"$error":"#N/A"},{"$error":"#N/A"},{"$error":"#N/A"},false,false,true,false,false,{"$error":"#N/A"},{"$error":"#N/A"},{"$error":"#N/A"},{"$error":"#N/A"}]
[169,{"$f":"OFFSET(InputPriceData!B$15,CalculationsAndCharts!$A201+$A$11,0,1,1)","v":"2013-03-13"},{"$f":"OFFSET(InputPriceData!G$15,CalculationsAndCharts!$A201+$A$11,0,1,1)","v":2340700},{"$f":"OFFSET(InputPriceData!C$15,CalculationsAndCharts!$A201+$A$11,IF($C$7,7,0),1,1)","v":47.71},{"$f":"OFFSET(InputPriceData!D$15,CalculationsAndCharts!$A201+$A$11,IF($C$7,7,0),1,1)","v":48.1},{"$f":"OFFSET(InputPriceData!E$15,CalculationsAndCharts!$A201+$A$11,IF($C$7,7,0),1,1)","v":47.53},{"$f":"OFFSET(InputPriceData!F$15,CalculationsAndCharts!$A201+$A$11,IF($C$7,7,0),1,1)","v":48.03},{"$error":"#N/A"},{"$error":"#N/A"},{"$error":"#N/A"},47.773083321967128,47.773083321967128,0.28742527191765671,0.2073699156278298,1.9337880006366244,-1.0705758469440674,0.42536318082810837,0.64522175322589448,null,48.92,43.8,0.826171875,{"$error":"#N/A"},0.2,0.8,{"$error":"#N/A"},{"$error":"#N/A"},{"$error":"#N/A"},{"$error":"#N/A"},false,false,false,false,false,{"$error":"#N/A"},{"$error":"#N/A"},{"$error":"#N/A"},{"$error":"#N/A"},false,false,true,false,false,{"$error":"#N/A"},{"$error":"#N/A"},{"$error":"#N/A"},{"$error":"#N/A"}]
[170,{"$f":"OFFSET(InputPriceData!B$15,CalculationsAndCharts!$A202+$A$11,0,1,1)","v":"2013-03-12"},{"$f":"OFFSET(InputPriceData!G$15,CalculationsAndCharts!$A202+$A$11,0,1,1)","v":2714400},{"$f":"OFFSET(InputPriceData!C$15,CalculationsAndCharts!$A202+$A$11,IF($C$7,7,0),1,1)","v":47.5},{"$f":"OFFSET(InputPriceData!D$15,CalculationsAndCharts!$A202+$A$11,IF($C$7,7,0),1,1)","v":47.97},{"$f":"OFFSET(InputPriceData!E$15,CalculationsAndCharts!$A202+$A$11,IF($C$7,7,0),1,1)","v":47.49},{"$f":"OFFSET(InputPriceData!F$15,CalculationsAndCharts!$A202+$A$11,IF($C$7,7,0),1,1)","v":47.76},{"$error":"#N/A"},{"$error":"#N/A"},{"$error":"#N/A"},47.828162417279628,47.828162417279628,0.14615681197503383,0.40707924496411574,1.9337880006366244,-1.0705758469440674,0.49183626447179057,0.77242730820237837,null,48.92,43.8,0.77343749999999944,{"$error":"#N/A"},0.2,0.8,{"$error":"#N/A"},{"$error":"#N/A"},{"$error":"#N/A"},{"$error":"#N/A"},false,false,false,false,false,{"$error":"#N/A"},{"$error":"#N/A"},{"$error":"#N/A"},{"$error":"#N/A"},false,false,true,false,false,{"$error":"#N/A"},{"$error":"#N/A"},{"$error":"#N/A"},{"$error":"#N/A"}]
[171,{"$f":"OFFSET(InputPriceData!B$15,CalculationsAndCharts!$A203+$A$11,0,1,1)","v":"2013-03-11"},{"$f":"OFFSET(InputPriceData!G$15,CalculationsAndCharts!$A203+$A$11,0,1,1)","v":2743800},{"$f":"OFFSET(InputPriceData!C$15,CalculationsAndCharts!$A203+$A$11,IF($C$7,7,0),1,1)","v":47.79},{"$f":"OFFSET(InputPriceData!D$15,CalculationsAndCharts!$A203+$A$11,IF($C$7,7,0),1,1)","v":48.1},{"$f":"OFFSET(InputPriceData!E$15,CalculationsAndCharts!$A203+$A$11,IF($C$7,7,0),1,1)","v":47.45},{"$f":"OFFSET(InputPriceData!F$15,CalculationsAndCharts!$A203+$A$11,IF($C$7,7,0),1,1)","v":47.48},{"$error":"#N/A"},{"$error":"#N/A"},{"$error":"#N/A"},48.003213972158044,48.003213972158044,-3.6253631934801966E-2,0.77552586015411085,1.9337880006366244,-1.0705758469440674,0.61447341292725877,0.88855956013593995,null,48.92,43.8,0.71874999999999933,{"$error":"#N/A"},0.2,0.8,{"$error":"#N/A"},{"$error":"#N/A"},{"$error":"#N/A"},{"$error":"#N/A"},false,false,false,false,false,{"$error":"#N/A"},{"$error":"#N/A"},{"$error":"#N/A"},{"$error":"#N/A"},false,false,true,false,false,{"$error":"#N/A"},{"$error":"#N/A"},{"$error":"#N/A"},{"$error":"#N/A"}]
[172,{"$f":"OFFSET(InputPriceData!B$15,CalculationsAndCharts!$A204+$A$11,0,1,1)","v":"2013-03-08"},{"$f":"OFFSET(InputPriceData!G$15,CalculationsAndCharts!$A204+$A$11,0,1,1)","v":2538600},{"$f":"OFFSET(InputPriceData!C$15,CalculationsAndCharts!$A204+$A$11,IF($C$7,7,0),1,1)","v":47.72},{"$f":"OFFSET(InputPriceData!D$15,CalculationsAndCharts!$A204+$A$11,IF($C$7,7,0),1,1)","v":47.97},{"$f":"OFFSET(InputPriceData!E$15,CalculationsAndCharts!$A204+$A$11,IF($C$7,7,0),1,1)","v":47.39},{"$f":"OFFSET(InputPriceData!F$15,CalculationsAndCharts!$A204+$A$11,IF($C$7,7,0),1,1)","v":47.79},{"$error":"#N/A"},{"$error":"#N/A"},{"$error":"#N/A"},48.1929716670397,48.1929716670397,0.39321549296063985,1.2278614793563642,1.9337880006366244,-1.0705758469440674,0.76503294637607977,0.96448906934519085,null,48.92,43.8,0.77929687499999967,{"$error":"#N/A"},0.2,0.8,{"$error":"#N/A"},{"$error":"#N/A"},{"$error":"#N/A"},{"$error":"#N/A"},false,false,false,false,false,{"$error":"#N/A"},{"$error":"#N/A"},{"$error":"#N/A"},{"$error":"#N/A"},false,false,true,false,false,{"$error":"#N/A"},{"$error":"#N/A"},{"$error":"#N/A"},{"$error":"#N/A"}]
[173,{"$f":"OFFSET(InputPriceData!B$15,CalculationsAndCharts!$A205+$A$11,0,1,1)","v":"2013-03-07"},{"$f":"OFFSET(InputPriceData!G$15,CalculationsAndCharts!$A205+$A$11,0,1,1)","v":3482800},{"$f":"OFFSET(InputPriceData!C$15,CalculationsAndCharts!$A205+$A$11,IF($C$7,7,0),1,1)","v":47.85},{"$f":"OFFSET(InputPriceData!D$15,CalculationsAndCharts!$A205+$A$11,IF($C$7,7,0),1,1)","v":48.35},{"$f":"OFFSET(InputPriceData!E$15,CalculationsAndCharts!$A205+$A$11,IF($C$7,7,0),1,1)","v":47.41},{"$f":"OFFSET(InputPriceData!F$15,CalculationsAndCharts!$A205+$A$11,IF($C$7,7,0),1,1)","v":47.46},{"$error":"#N/A"},{"$error":"#N/A"},{"$error":"#N/A"},48.310929086740643,48.310929086740643,0.20277853066966167,1.6817934380628481,1.9337880006366244,-1.0705758469440674,0.91612382009699056,0.98001119459212971,null,48.92,43.8,0.71484375000000011,{"$error":"#N/A"},0.2,0.8,{"$error":"#N/A"},{"$error":"#N/A"},{"$error":"#N/A"},{"$error":"#N/A"},false,false,false,false,false,{"$error":"#N/A"},{"$error":"#N/A"},{"$error":"#N/A"},{"$error":"#N/A"},false,false,true,false,false,{"$error":"#N/A"},{"$error":"#N/A"},{"$error":"#N/A"},{"$error":"#N/A"}]
[174,{"$f":"OFFSET(InputPriceData!B$15,CalculationsAndCharts!$A206+$A$11,0,1,1)","v":"2013-03-06"},{"$f":"OFFSET(InputPriceData!G$15,CalculationsAndCharts!$A206+$A$11,0,1,1)","v":3143400},{"$f":"OFFSET(InputPriceData!C$15,CalculationsAndCharts!$A206+$A$11,IF($C$7,7,0),1,1)","v":49.09},{"$f":"OFFSET(InputPriceData!D$15,CalculationsAndCharts!$A206+$A$11,IF($C$7,7,0),1,1)","v":49.2},{"$f":"OFFSET(InputPriceData!E$15,CalculationsAndCharts!$A206+$A$11,IF($C$7,7,0),1,1)","v":48.15},{"$f":"OFFSET(InputPriceData!F$15,CalculationsAndCharts!$A206+$A$11,IF($C$7,7,0),1,1)","v":48.2},{"$error":"#N/A"},{"$error":"#N/A"},{"$error":"#N/A"},48.175563474867857,48.175563474867857,1.1480763480938285,1.9337880006366244,1.9337880006366244,-1.0705758469440674,1,0.93193580669889031,null,48.92,43.8,0.85937500000000033,{"$error":"#N/A"},0.2,0.8,{"$error":"#N/A"},49.09,{"$error":"#N/A"},{"$error":"#N/A"},false,false,true,false,true,{"$error":"#N/A"},49.09,{"$error":"#N/A"},49.09,false,true,true,false,false,49.09,{"$error":"#N/A"},49.09,{"$error":"#N/A"}]
[175,{"$f":"OFFSET(InputPriceData!B$15,CalculationsAndCharts!$A207+$A$11,0,1,1)","v":"2013-03-05"},{"$f":"OFFSET(InputPriceData!G$15,CalculationsAndCharts!$A207+$A$11,0,1,1)","v":2875000},{"$f":"OFFSET(InputPriceData!C$15,CalculationsAndCharts!$A207+$A$11,IF($C$7,7,0),1,1)","v":48.75},{"$f":"OFFSET(InputPriceData!D$15,CalculationsAndCharts!$A207+$A$11,IF($C$7,7,0),1,1)","v":48.99},{"$f":"OFFSET(InputPriceData!E$15,CalculationsAndCharts!$A207+$A$11,IF($C$7,7,0),1,1)","v":48.32},{"$f":"OFFSET(InputPriceData!F$15,CalculationsAndCharts!$A207+$A$11,IF($C$7,7,0),1,1)","v":48.92},{"$error":"#N/A"},{"$error":"#N/A"},{"$error":"#N/A"},47.633764437113157,47.633764437113157,2.2530663221719784,1.7720049309819181,1.7720049309819181,-1.0705758469440674,1,0.83112779419440985,null,48.92,43.8,1,{"$error":"#N/A"},0.2,0.8,{"$error":"#N/A"},{"$error":"#N/A"},{"$error":"#N/A"},0.83112779419440985,false,false,true,true,false,{"$error":"#N/A"},{"$error":"#N/A"},{"$error":"#N/A"},{"$error":"#N/A"},true,false,false,false,false,{"$error":"#N/A"},{"$error":"#N/A"},{"$error":"#N/A"},{"$error":"#N/A"}]
[176,{"$f":"OFFSET(InputPriceData!B$15,CalculationsAndCharts!$A208+$A$11,0,1,1)","v":"2013-03-04"},{"$f":"OFFSET(InputPriceData!G$15,CalculationsAndCharts!$A208+$A$11,0,1,1)","v":5396300},{"$f":"OFFSET(InputPriceData!C$15,CalculationsAndCharts!$A208+$A$11,IF($C$7,7,0),1,1)","v":47.6},{"$f":"OFFSET(InputPriceData!D$15,CalculationsAndCharts!$A208+$A$11,IF($C$7,7,0),1,1)","v":48.71},{"$f":"OFFSET(InputPriceData!E$15,CalculationsAndCharts!$A208+$A$11,IF($C$7,7,0),1,1)","v":47.56},{"$f":"OFFSET(InputPriceData!F$15,CalculationsAndCharts!$A208+$A$11,IF($C$7,7,0),1,1)","v":48.65},{"$error":"#N/A"},{"$error":"#N/A"},{"$error":"#N/A"},46.886526224876818,46.886526224876818,2.4733667560761221,1.3346913179224529,1.3346913179224529,-1.0705758469440674,1,0.68996306355013504,null,48.65,43.8,1,{"$error":"#N/A"},0.2,0.8,{"$error":"#N/A"},{"$error":"#N/A"},{"$error":"#N/A"},{"$error":"#N/A"},false,false,true,false,false,{"$error":"#N/A"},{"$error":"#N/A"},{"$error":"#N/A"},{"$error":"#N/A"},false,false,false,false,false,{"$error":"#N/A"},{"$error":"#N/A"},{"$error":"#N/A"},{"$error":"#N/A"}]
[177,{"$f":"OFFSET(InputPriceData!B$15,CalculationsAndCharts!$A209+$A$11,0,1,1)","v":"2013-03-01"},{"$f":"OFFSET(InputPriceData!G$15,CalculationsAndCharts!$A209+$A$11,0,1,1)","v":4134700},{"$f":"OFFSET(InputPriceData!C$15,CalculationsAndCharts!$A209+$A$11,IF($C$7,7,0),1,1)","v":46.26},{"$f":"OFFSET(InputPriceData!D$15,CalculationsAndCharts!$A209+$A$11,IF($C$7,7,0),1,1)","v":47.59},{"$f":"OFFSET(InputPriceData!E$15,CalculationsAndCharts!$A209+$A$11,IF($C$7,7,0),1,1)","v":45.84},{"$f":"OFFSET(InputPriceData!F$15,CalculationsAndCharts!$A209+$A$11,IF($C$7,7,0),1,1)","v":47.57},{"$error":"#N/A"},{"$error":"#N/A"},{"$error":"#N/A"},46.238166918133309,46.238166918133309,1.8246388918917971,0.90444737085588645,1.2024573217029704,-1.0705758469440674,0.86889326783362941,0.5375583577554377,null,47.57,43.8,1,{"$error":"#N/A"},0.2,0.8,{"$error":"#N/A"},{"$error":"#N/A"},{"$error":"#N/A"},{"$error":"#N/A"},false,false,true,false,false,{"$error":"#N/A"},{"$error":"#N/A"},{"$error":"#N/A"},{"$error":"#N/A"},false,false,false,false,false,{"$error":"#N/A"},{"$error":"#N/A"},{"$error":"#N/A"},{"$error":"#N/A"}]
[178,{"$f":"OFFSET(InputPriceData!B$15,CalculationsAndCharts!$A210+$A$11,0,1,1)","v":"2013-02-28"},{"$f":"OFFSET(InputPriceData!G$15,CalculationsAndCharts!$A210+$A$11,0,1,1)","v":5017900},{"$f":"OFFSET(InputPriceData!C$15,CalculationsAndCharts!$A210+$A$11,IF($C$7,7,0),1,1)","v":46.37},{"$f":"OFFSET(InputPriceData!D$15,CalculationsAndCharts!$A210+$A$11,IF($C$7,7,0),1,1)","v":46.68},{"$f":"OFFSET(InputPriceData!E$15,CalculationsAndCharts!$A210+$A$11,IF($C$7,7,0),1,1)","v":46.08},{"$f":"OFFSET(InputPriceData!F$15,CalculationsAndCharts!$A210+$A$11,IF($C$7,7,0),1,1)","v":46.34},{"$error":"#N/A"},{"$error":"#N/A"},{"$error":"#N/A"},45.813819429957086,45.813819429957086,0.8616723174329195,0.62434951707862529,1.6534999511415229,-1.0705758469440674,0.62220198322449105,0.41127875163824484,null,46.56,43.8,0.9202898550724643,{"$error":"#N/A"},0.2,0.8,{"$error":"#N/A"},{"$error":"#N/A"},{"$error":"#N/A"},{"$error":"#N/A"},false,false,true,false,false,{"$error":"#N/A"},{"$error":"#N/A"},{"$error":"#N/A"},{"$error":"#N/A"},false,false,false,false,false,{"$error":"#N/A"},{"$error":"#N/A"},{"$error":"#N/A"},{"$error":"#N/A"}]
[179,{"$f":"OFFSET(InputPriceData!B$15,CalculationsAndCharts!$A211+$A$11,0,1,1)","v":"2013-02-27"},{"$f":"OFFSET(InputPriceData!G$15,CalculationsAndCharts!$A211+$A$11,0,1,1)","v":6093000},{"$f":"OFFSET(InputPriceData!C$15,CalculationsAndCharts!$A211+$A$11,IF($C$7,7,0),1,1)","v":46.28},{"$f":"OFFSET(InputPriceData!D$15,CalculationsAndCharts!$A211+$A$11,IF($C$7,7,0),1,1)","v":47.5},{"$f":"OFFSET(InputPriceData!E$15,CalculationsAndCharts!$A211+$A$11,IF($C$7,7,0),1,1)","v":46.21},{"$f":"OFFSET(InputPriceData!F$15,CalculationsAndCharts!$A211+$A$11,IF($C$7,7,0),1,1)","v":46.56},{"$error":"#N/A"},{"$error":"#N/A"},{"$error":"#N/A"},45.484435050676474,45.484435050676474,1.2887002044050497,0.38573134291791844,1.9907943082109787,-1.0705758469440674,0.47570437942948773,0.30997853088444344,null,46.77,43.8,0.92929292929292917,{"$error":"#N/A"},0.2,0.8,{"$error":"#N/A"},{"$error":"#N/A"},{"$error":"#N/A"},{"$error":"#N/A"},false,false,true,false,false,{"$error":"#N/A"},{"$error":"#N/A"},{"$error":"#N/A"},{"$error":"#N/A"},false,false,false,false,false,{"$error":"#N/A"},{"$error":"#N/A"},{"$error":"#N/A"},{"$error":"#N/A"}]
[180,{"$f":"OFFSET(InputPriceData!B$15,CalculationsAndCharts!$A212+$A$11,0,1,1)","v":"2013-02-26"},{"$f":"OFFSET(InputPriceData!G$15,CalculationsAndCharts!$A212+$A$11,0,1,1)","v":4375900},{"$f":"OFFSET(InputPriceData!C$15,CalculationsAndCharts!$A212+$A$11,IF($C$7,7,0),1,1)","v":45.6},{"$f":"OFFSET(InputPriceData!D$15,CalculationsAndCharts!$A212+$A$11,IF($C$7,7,0),1,1)","v":45.64},{"$f":"OFFSET(InputPriceData!E$15,CalculationsAndCharts!$A212+$A$11,IF($C$7,7,0),1,1)","v":44.59},{"$f":"OFFSET(InputPriceData!F$15,CalculationsAndCharts!$A212+$A$11,IF($C$7,7,0),1,1)","v":44.95},{"$error":"#N/A"},{"$error":"#N/A"},{"$error":"#N/A"},45.277854183998244,45.277854183998244,-0.22148479184022241,0.22989989621805229,2.091681160695011,-1.0705758469440674,0.41124922484812421,0.21076212521711585,null,47.16,43.8,0.34226190476190649,{"$error":"#N/A"},0.2,0.8,{"$error":"#N/A"},{"$error":"#N/A"},{"$error":"#N/A"},{"$error":"#N/A"},false,false,true,false,false,{"$error":"#N/A"},{"$error":"#N/A"},{"$error":"#N/A"},{"$error":"#N/A"},false,false,false,false,false,{"$error":"#N/A"},{"$error":"#N/A"},{"$error":"#N/A"},{"$error":"#N/A"}]
[181,{"$f":"OFFSET(InputPriceData!B$15,CalculationsAndCharts!$A213+$A$11,0,1,1)","v":"2013-02-25"},{"$f":"OFFSET(InputPriceData!G$15,CalculationsAndCharts!$A213+$A$11,0,1,1)","v":4008000},{"$f":"OFFSET(InputPriceData!C$15,CalculationsAndCharts!$A213+$A$11,IF($C$7,7,0),1,1)","v":46.17},{"$f":"OFFSET(InputPriceData!D$15,CalculationsAndCharts!$A213+$A$11,IF($C$7,7,0),1,1)","v":46.38},{"$f":"OFFSET(InputPriceData!E$15,CalculationsAndCharts!$A213+$A$11,IF($C$7,7,0),1,1)","v":45.4},{"$f":"OFFSET(InputPriceData!F$15,CalculationsAndCharts!$A213+$A$11,IF($C$7,7,0),1,1)","v":45.45},{"$error":"#N/A"},{"$f":"IF($A213=$E$25,I$32,NA())","v":{"$error":"#N/A"}},{"$error":"#N/A"},45.069249103876402,45.069249103876402,0.28274692966078474,3.7940142905301122E-2,2.091681160695011,-1.0705758469440674,0.35054582444485738,0.11275943264562867,null,47.16,43.8,0.49107142857143032,{"$error":"#N/A"},0.2,0.8,{"$error":"#N/A"},{"$error":"#N/A"},{"$error":"#N/A"},{"$error":"#N/A"},false,false,true,false,false,{"$error":"#N/A"},{"$error":"#N/A"},{"$error":"#N/A"},{"$error":"#N/A"},false,false,false,false,false,{"$error":"#N/A"},{"$error":"#N/A"},{"$error":"#N/A"},{"$error":"#N/A"}]
[182,{"$f":"OFFSET(InputPriceData!B$15,CalculationsAndCharts!$A214+$A$11,0,1,1)","v":"2013-02-22"},{"$f":"OFFSET(InputPriceData!G$15,CalculationsAndCharts!$A214+$A$11,0,1,1)","v":3691600},{"$f":"OFFSET(InputPriceData!C$15,CalculationsAndCharts!$A214+$A$11,IF($C$7,7,0),1,1)","v":45.59},{"$f":"OFFSET(InputPriceData!D$15,CalculationsAndCharts!$A214+$A$11,IF($C$7,7,0),1,1)","v":46.22},{"$f":"OFFSET(InputPriceData!E$15,CalculationsAndCharts!$A214+$A$11,IF($C$7,7,0),1,1)","v":45.26},{"$f":"OFFSET(InputPriceData!F$15,CalculationsAndCharts!$A214+$A$11,IF($C$7,7,0),1,1)","v":46.03},{"$error":"#N/A"},{"$error":"#N/A"},{"$error":"#N/A"},44.642531253161266,44.642531253161266,0.97495540640612832,-0.43327728832730206,2.091681160695011,-1.0705758469440674,0.201532815668442,3.9509280080503299E-2,null,47.16,43.8,0.6636904761904775,{"$error":"#N/A"},0.2,0.8,{"$error":"#N/A"},{"$error":"#N/A"},{"$error":"#N/A"},{"$error":"#N/A"},false,false,true,false,false,{"$error":"#N/A"},{"$error":"#N/A"},{"$error":"#N/A"},{"$error":"#N/A"},false,false,false,false,false,{"$error":"#N/A"},{"$error":"#N/A"},{"$error":"#N/A"},{"$error":"#N/A"}]
[183,{"$f":"OFFSET(InputPriceData!B$15,CalculationsAndCharts!$A215+$A$11,0,1,1)","v":"2013-02-21"},{"$f":"OFFSET(InputPriceData!G$15,CalculationsAndCharts!$A215+$A$11,0,1,1)","v":6922500},{"$f":"OFFSET(InputPriceData!C$15,CalculationsAndCharts!$A215+$A$11,IF($C$7,7,0),1,1)","v":43.61},{"$f":"OFFSET(InputPriceData!D$15,CalculationsAndCharts!$A215+$A$11,IF($C$7,7,0),1,1)","v":46.09},{"$f":"OFFSET(InputPriceData!E$15,CalculationsAndCharts!$A215+$A$11,IF($C$7,7,0),1,1)","v":43.58},{"$f":"OFFSET(InputPriceData!F$15,CalculationsAndCharts!$A215+$A$11,IF($C$7,7,0),1,1)","v":45.51},{"$error":"#N/A"},{"$error":"#N/A"},{"$error":"#N/A"},44.280480968438376,44.280480968438376,0.58952367492770041,-0.92527152027009285,2.091681160695011,-1.0705758469440674,4.5949562708838092E-2,6.9875133076178981E-3,null,47.16,43.8,0.50892857142857173,{"$error":"#N/A"},0.2,0.8,{"$error":"#N/A"},{"$error":"#N/A"},{"$error":"#N/A"},{"$error":"#N/A"},false,false,true,false,false,{"$error":"#N/A"},{"$error":"#N/A"},{"$error":"#N/A"},{"$error":"#N/A"},false,false,false,false,false,{"$error":"#N/A"},{"$error":"#N/A"},{"$error":"#N/A"},{"$error":"#N/A"}]
[184,{"$f":"OFFSET(InputPriceData!B$15,CalculationsAndCharts!$A216+$A$11,0,1,1)","v":"2013-02-20"},{"$f":"OFFSET(InputPriceData!G$15,CalculationsAndCharts!$A216+$A$11,0,1,1)","v":4446700},{"$f":"OFFSET(InputPriceData!C$15,CalculationsAndCharts!$A216+$A$11,IF($C$7,7,0),1,1)","v":43.9},{"$f":"OFFSET(InputPriceData!D$15,CalculationsAndCharts!$A216+$A$11,IF($C$7,7,0),1,1)","v":44.37},{"$f":"OFFSET(InputPriceData!E$15,CalculationsAndCharts!$A216+$A$11,IF($C$7,7,0),1,1)","v":43.54},{"$f":"OFFSET(InputPriceData!F$15,CalculationsAndCharts!$A216+$A$11,IF($C$7,7,0),1,1)","v":43.8},{"$error":"#N/A"},{"$error":"#N/A"},{"$error":"#N/A"},44.316949526879434,44.316949526879434,-1.1883248445167558,-1.0705758469440674,2.091681160695011,-1.0705758469440674,0,-2.2700596091262916E-4,null,47.16,43.8,0,{"$error":"#N/A"},0.2,0.8,{"$error":"#N/A"},{"$error":"#N/A"},{"$error":"#N/A"},{"$error":"#N/A"},false,false,true,false,false,{"$error":"#N/A"},{"$error":"#N/A"},{"$error":"#N/A"},{"$error":"#N/A"},false,false,false,false,false,{"$error":"#N/A"},{"$error":"#N/A"},{"$error":"#N/A"},{"$error":"#N/A"}]
[185,{"$f":"OFFSET(InputPriceData!B$15,CalculationsAndCharts!$A217+$A$11,0,1,1)","v":"2013-02-19"},{"$f":"OFFSET(InputPriceData!G$15,CalculationsAndCharts!$A217+$A$11,0,1,1)","v":6584100},{"$f":"OFFSET(InputPriceData!C$15,CalculationsAndCharts!$A217+$A$11,IF($C$7,7,0),1,1)","v":44.11},{"$f":"OFFSET(InputPriceData!D$15,CalculationsAndCharts!$A217+$A$11,IF($C$7,7,0),1,1)","v":44.6},{"$f":"OFFSET(InputPriceData!E$15,CalculationsAndCharts!$A217+$A$11,IF($C$7,7,0),1,1)","v":43.35},{"$f":"OFFSET(InputPriceData!F$15,CalculationsAndCharts!$A217+$A$11,IF($C$7,7,0),1,1)","v":43.96},{"$error":"#N/A"},{"$error":"#N/A"},{"$error":"#N/A"},44.613672487127239,44.613672487127239,-1.2610202983450933,-0.94923443783086359,2.091681160695011,-0.94923443783086359,0,-3.4882340879982118E-3,null,47.16,43.96,0,{"$error":"#N/A"},0.2,0.8,{"$error":"#N/A"},{"$error":"#N/A"},{"$error":"#N/A"},{"$error":"#N/A"},false,false,true,false,false,{"$error":"#N/A"},{"$error":"#N/A"},{"$error":"#N/A"},{"$error":"#N/A"},false,false,false,false,false,{"$error":"#N/A"},{"$error":"#N/A"},{"$error":"#N/A"},{"$error":"#N/A"}]
[186,{"$f":"OFFSET(InputPriceData!B$15,CalculationsAndCharts!$A218+$A$11,0,1,1)","v":"2013-02-15"},{"$f":"OFFSET(InputPriceData!G$15,CalculationsAndCharts!$A218+$A$11,0,1,1)","v":14019600},{"$f":"OFFSET(InputPriceData!C$15,CalculationsAndCharts!$A218+$A$11,IF($C$7,7,0),1,1)","v":45.12},{"$f":"OFFSET(InputPriceData!D$15,CalculationsAndCharts!$A218+$A$11,IF($C$7,7,0),1,1)","v":46.64},{"$f":"OFFSET(InputPriceData!E$15,CalculationsAndCharts!$A218+$A$11,IF($C$7,7,0),1,1)","v":43.9},{"$f":"OFFSET(InputPriceData!F$15,CalculationsAndCharts!$A218+$A$11,IF($C$7,7,0),1,1)","v":44.37},{"$error":"#N/A"},{"$error":"#N/A"},{"$error":"#N/A"},44.883562279905711,44.883562279905711,-1.0617618168406247,-0.82373284356635801,2.091681160695011,-0.82373284356635801,0,-9.2705228492281268E-3,null,47.16,44.37,0,{"$error":"#N/A"},0.2,0.8,{"$error":"#N/A"},{"$error":"#N/A"},{"$error":"#N/A"},{"$error":"#N/A"},false,false,true,false,false,{"$error":"#N/A"},{"$error":"#N/A"},{"$error":"#N/A"},{"$error":"#N/A"},false,false,false,false,false,{"$error":"#N/A"},{"$error":"#N/A"},{"$error":"#N/A"},{"$error":"#N/A"}]
[187,{"$f":"OFFSET(InputPriceData!B$15,CalculationsAndCharts!$A219+$A$11,0,1,1)","v":"2013-02-14"},{"$f":"OFFSET(InputPriceData!G$15,CalculationsAndCharts!$A219+$A$11,0,1,1)","v":5687200},{"$f":"OFFSET(InputPriceData!C$15,CalculationsAndCharts!$A219+$A$11,IF($C$7,7,0),1,1)","v":44.39},{"$f":"OFFSET(InputPriceData!D$15,CalculationsAndCharts!$A219+$A$11,IF($C$7,7,0),1,1)","v":45.57},{"$f":"OFFSET(InputPriceData!E$15,CalculationsAndCharts!$A219+$A$11,IF($C$7,7,0),1,1)","v":44.32},{"$f":"OFFSET(InputPriceData!F$15,CalculationsAndCharts!$A219+$A$11,IF($C$7,7,0),1,1)","v":45.03},{"$error":"#N/A"},{"$error":"#N/A"},{"$error":"#N/A"},45.097511262392686,45.097511262392686,-0.53704556077310162,-0.72641022601874072,2.091681160695011,-0.72641022601874072,0,-1.7623610838183031E-2,null,47.16,44.39,0.23104693140794277,{"$error":"#N/A"},0.2,0.8,{"$error":"#N/A"},{"$error":"#N/A"},{"$error":"#N/A"},{"$error":"#N/A"},false,false,true,false,false,{"$error":"#N/A"},{"$error":"#N/A"},{"$error":"#N/A"},{"$error":"#N/A"},false,false,false,false,false,{"$error":"#N/A"},{"$error":"#N/A"},{"$error":"#N/A"},{"$error":"#N/A"}]
[188,{"$f":"OFFSET(InputPriceData!B$15,CalculationsAndCharts!$A220+$A$11,0,1,1)","v":"2013-02-13"},{"$f":"OFFSET(InputPriceData!G$15,CalculationsAndCharts!$A220+$A$11,0,1,1)","v":7877100},{"$f":"OFFSET(InputPriceData!C$15,CalculationsAndCharts!$A220+$A$11,IF($C$7,7,0),1,1)","v":45.13},{"$f":"OFFSET(InputPriceData!D$15,CalculationsAndCharts!$A220+$A$11,IF($C$7,7,0),1,1)","v":45.25},{"$f":"OFFSET(InputPriceData!E$15,CalculationsAndCharts!$A220+$A$11,IF($C$7,7,0),1,1)","v":43.76},{"$f":"OFFSET(InputPriceData!F$15,CalculationsAndCharts!$A220+$A$11,IF($C$7,7,0),1,1)","v":44.39},{"$error":"#N/A"},{"$error":"#N/A"},{"$error":"#N/A"},45.373042375155826,45.373042375155826,-1.3297138749678439,-0.53471041179208778,2.091681160695011,-0.53471041179208778,0,-2.7086212659630765E-2,null,47.16,44.39,0,{"$error":"#N/A"},0.2,0.8,{"$error":"#N/A"},{"$error":"#N/A"},{"$error":"#N/A"},{"$error":"#N/A"},false,{"$f":"AND(AD221,NOT(AF221))","v":false},true,false,false,{"$error":"#N/A"},{"$error":"#N/A"},{"$error":"#N/A"},{"$error":"#N/A"},false,false,false,false,false,{"$error":"#N/A"},{"$error":"#N/A"},{"$error":"#N/A"},{"$error":"#N/A"}]
[189,{"$f":"OFFSET(InputPriceData!B$15,CalculationsAndCharts!$A221+$A$11,0,1,1)","v":"2013-02-12"},{"$f":"OFFSET(InputPriceData!G$15,CalculationsAndCharts!$A221+$A$11,0,1,1)","v":3204600},{"$f":"OFFSET(InputPriceData!C$15,CalculationsAndCharts!$A221+$A$11,IF($C$7,7,0),1,1)","v":45.74},{"$f":"OFFSET(InputPriceData!D$15,CalculationsAndCharts!$A221+$A$11,IF($C$7,7,0),1,1)","v":45.77},{"$f":"OFFSET(InputPriceData!E$15,CalculationsAndCharts!$A221+$A$11,IF($C$7,7,0),1,1)","v":45},{"$f":"OFFSET(InputPriceData!F$15,CalculationsAndCharts!$A221+$A$11,IF($C$7,7,0),1,1)","v":45.04},{"$error":"#N/A"},{"$error":"#N/A"},{"$error":"#N/A"},45.634877433654729,45.634877433654729,-0.85295637430971272,-0.31398726968772717,2.091681160695011,-0.31398726968772717,0,-3.3422591654815891E-2,null,47.16,44.63,0.16205533596837848,{"$error":"#N/A"},0.2,0.8,{"$error":"#N/A"},{"$error":"#N/A"},{"$error":"#N/A"},{"$error":"#N/A"},false,false,true,false,false,{"$error":"#N/A"},{"$error":"#N/A"},{"$error":"#N/A"},{"$error":"#N/A"},false,false,false,false,false,{"$error":"#N/A"},{"$error":"#N/A"},{"$error":"#N/A"},{"$error":"#N/A"}]
[190,{"$f":"OFFSET(InputPriceData!B$15,CalculationsAndCharts!$A222+$A$11,0,1,1)","v":"2013-02-11"},{"$f":"OFFSET(InputPriceData!G$15,CalculationsAndCharts!$A222+$A$11,0,1,1)","v":2223700},{"$f":"OFFSET(InputPriceData!C$15,CalculationsAndCharts!$A222+$A$11,IF($C$7,7,0),1,1)","v":45.85},{"$f":"OFFSET(InputPriceData!D$15,CalculationsAndCharts!$A222+$A$11,IF($C$7,7,0),1,1)","v":45.93},{"$f":"OFFSET(InputPriceData!E$15,CalculationsAndCharts!$A222+$A$11,IF($C$7,7,0),1,1)","v":45.49},{"$f":"OFFSET(InputPriceData!F$15,CalculationsAndCharts!$A222+$A$11,IF($C$7,7,0),1,1)","v":45.75},{"$error":"#N/A"},{"$error":"#N/A"},{"$error":"#N/A"},45.705341788874868,45.705341788874868,-0.20509667213194338,-0.25575902622971669,2.091681160695011,-0.28237092523071916,1.1209484054190626E-2,-2.8258297193755048E-2,null,47.16,43.02,0.65942028985507273,{"$error":"#N/A"},0.2,0.8,{"$error":"#N/A"},{"$error":"#N/A"},{"$error":"#N/A"},{"$error":"#N/A"},false,false,true,false,false,{"$error":"#N/A"},{"$error":"#N/A"},{"$error":"#N/A"},{"$error":"#N/A"},false,false,false,false,false,{"$error":"#N/A"},{"$error":"#N/A"},{"$error":"#N/A"},{"$error":"#N/A"}]
[191,{"$f":"OFFSET(InputPriceData!B$15,CalculationsAndCharts!$A223+$A$11,0,1,1)","v":"2013-02-08"},{"$f":"OFFSET(InputPriceData!G$15,CalculationsAndCharts!$A223+$A$11,0,1,1)","v":1801700},{"$f":"OFFSET(InputPriceData!C$15,CalculationsAndCharts!$A223+$A$11,IF($C$7,7,0),1,1)","v":45.49},{"$f":"OFFSET(InputPriceData!D$15,CalculationsAndCharts!$A223+$A$11,IF($C$7,7,0),1,1)","v":46.15},{"$f":"OFFSET(InputPriceData!E$15,CalculationsAndCharts!$A223+$A$11,IF($C$7,7,0),1,1)","v":45.42},{"$f":"OFFSET(InputPriceData!F$15,CalculationsAndCharts!$A223+$A$11,IF($C$7,7,0),1,1)","v":46},{"$error":"#N/A"},{"$error":"#N/A"},{"$error":"#N/A"},45.685662373909722,45.685662373909722,7.0877880993496539E-2,-0.28237092523071916,2.091681160695011,-0.28237092523071916,0,5.1390962746273028E-3,null,47.16,43.02,0.71980676328502458,{"$error":"#N/A"},0.2,0.8,45.49,{"$error":"#N/A"},{"$error":"#N/A"},{"$error":"#N/A"},false,true,true,false,false,45.49,{"$error":"#N/A"},45.49,{"$error":"#N/A"},false,false,false,false,true,{"$error":"#N/A"},45.49,{"$error":"#N/A"},45.49]
[192,{"$f":"OFFSET(InputPriceData!B$15,CalculationsAndCharts!$A224+$A$11,0,1,1)","v":"2013-02-07"},{"$f":"OFFSET(InputPriceData!G$15,CalculationsAndCharts!$A224+$A$11,0,1,1)","v":4865100},{"$f":"OFFSET(InputPriceData!C$15,CalculationsAndCharts!$A224+$A$11,IF($C$7,7,0),1,1)","v":46.14},{"$f":"OFFSET(InputPriceData!D$15,CalculationsAndCharts!$A224+$A$11,IF($C$7,7,0),1,1)","v":46.49},{"$f":"OFFSET(InputPriceData!E$15,CalculationsAndCharts!$A224+$A$11,IF($C$7,7,0),1,1)","v":45.22},{"$f":"OFFSET(InputPriceData!F$15,CalculationsAndCharts!$A224+$A$11,IF($C$7,7,0),1,1)","v":45.4},{"$error":"#N/A"},{"$error":"#N/A"},{"$error":"#N/A"},45.754344260195168,45.754344260195168,-0.5321607833182922,-0.21458919827915063,2.091681160695011,-0.21458919827915063,0,8.6626027340997641E-2,null,47.16,43.02,0.57487922705313987,{"$error":"#N/A"},0.2,0.8,{"$error":"#N/A"},{"$error":"#N/A"},8.6626027340997641E-2,{"$error":"#N/A"},true,false,false,false,false,{"$error":"#N/A"},{"$error":"#N/A"},{"$error":"#N/A"},{"$error":"#N/A"},false,false,true,true,false,{"$error":"#N/A"},{"$error":"#N/A"},{"$error":"#N/A"},{"$error":"#N/A"}]
[193,{"$f":"OFFSET(InputPriceData!B$15,CalculationsAndCharts!$A225+$A$11,0,1,1)","v":"2013-02-06"},{"$f":"OFFSET(InputPriceData!G$15,CalculationsAndCharts!$A225+$A$11,0,1,1)","v":4506900},{"$f":"OFFSET(InputPriceData!C$15,CalculationsAndCharts!$A225+$A$11,IF($C$7,7,0),1,1)","v":45.58},{"$f":"OFFSET(InputPriceData!D$15,CalculationsAndCharts!$A225+$A$11,IF($C$7,7,0),1,1)","v":46.16},{"$f":"OFFSET(InputPriceData!E$15,CalculationsAndCharts!$A225+$A$11,IF($C$7,7,0),1,1)","v":45.33},{"$f":"OFFSET(InputPriceData!F$15,CalculationsAndCharts!$A225+$A$11,IF($C$7,7,0),1,1)","v":46.05},{"$f":"IF($A225=$E$25,H$32,NA())","v":{"$error":"#N/A"}},{"$error":"#N/A"},{"$error":"#N/A"},{"$f":"$F$16*(G225+G226)/2+$F$17*K226+$F$18*K227","v":45.88788656584682},45.88788656584682,{"$f":"$D$21*(G225 - 2*G226 + G227) + $D$20*M226 - $F$20*M227","v":0.12134436731649084},-5.9668395073210617E-2,2.091681160695011,-5.9668395073210617E-2,{"$f":"IFERROR(IF($A225>$A$8,0,(N225-P225)/(O225-P225)),1)","v":0},{"$f":"IF($A225>$A$8,0,$F$16*(Q225+Q226)/2+$F$17*R226+$F$18*R227)","v":0.23143367892773192},null,{"$f":"MAX(OFFSET(G225,0,0,$A$22,1))","v":47.16},{"$f":"MIN(OFFSET(G225,0,0,$A$22,1))","v":42.99},{"$f":"IFERROR(IF($A225>$A$8,0,(G225-U225)/(T225-U225)),1)","v":0.73381294964028754},{"$error":"#N/A"},0.2,0.8,{"$f":"IF($S$7,AI225,NA())","v":{"$error":"#N/A"}},{"$f":"IF($S$7,AJ225,NA())","v":{"$error":"#N/A"}},{"$f":"IF($S$7,IF(AD225,R225,NA()),NA())","v":{"$error":"#N/A"}},{"$f":"IF($S$7,IF(AG225,R225,NA()),NA())","v":{"$error":"#N/A"}},{"$f":"IF(AND(R226>$X$32,R225<$X$32),TRUE,FALSE)","v":false},false,false,{"$f":"IF(AND(AF225,R226<$Y$32,R225>$Y$32),TRUE,FALSE)","v":false},false,{"$f":"IF(AE225,D225,NA())","v":{"$error":"#N/A"}},{"$f":"IF(AH225,D225,NA())","v":{"$error":"#N/A"}},{"$f":"IF($S$7,AI225,NA())","v":{"$error":"#N/A"}},{"$f":"IF($S$7,AJ225,NA())","v":{"$error":"#N/A"}},{"$f":"IF(AND(R226<$Y$32,R225>$Y$32),TRUE,FALSE)","v":false},false,true,{"$f":"IF(AND(AO226,R226>$X$32,R225<$X$32),TRUE,FALSE)","v":false},false,{"$f":"IF(AN225,D225,NA())","v":{"$error":"#N/A"}},{"$f":"IF(AQ225,D225,NA())","v":{"$error":"#N/A"}},{"$error":"#N/A"},{"$error":"#N/A"}]
[194,{"$f":"OFFSET(InputPriceData!B$15,CalculationsAndCharts!$A226+$A$11,0,1,1)","v":"2013-02-05"},{"$f":"OFFSET(InputPriceData!G$15,CalculationsAndCharts!$A226+$A$11,0,1,1)","v":9746500},{"$f":"OFFSET(InputPriceData!C$15,CalculationsAndCharts!$A226+$A$11,IF($C$7,7,0),1,1)","v":45.71},{"$f":"OFFSET(InputPriceData!D$15,CalculationsAndCharts!$A226+$A$11,IF($C$7,7,0),1,1)","v":45.99},{"$f":"OFFSET(InputPriceData!E$15,CalculationsAndCharts!$A226+$A$11,IF($C$7,7,0),1,1)","v":44.98},{"$f":"OFFSET(InputPriceData!F$15,CalculationsAndCharts!$A226+$A$11,IF($C$7,7,0),1,1)","v":45.54},{"$error":"#N/A"},{"$error":"#N/A"},{"$error":"#N/A"},46.1123233264654,{"$f":"IF($S$5,K226,NA())","v":46.1123233264654},-0.36859085811928599,{"$f":"$F$16*(M226+M227)/2+$F$17*N227+$F$18*N228","v":0.22729980670848077},{"$f":"MAX(OFFSET(N226,0,0,$A$22,1))","v":2.091681160695011},0.22729980670848077,0,0.44107249164016027,null,47.16,42.99,0.61151079136690656,{"$f":"IF($S$18,V226,NA())","v":{"$error":"#N/A"}},{"$f":"$X$32","v":0.2},{"$f":"$Y$32","v":0.8},{"$error":"#N/A"},{"$error":"#N/A"},{"$error":"#N/A"},{"$error":"#N/A"},false,false,{"$f":"IF(AF227,IF(AH227,FALSE,AF227),IF(AE226,TRUE,AF227))","v":false},false,false,{"$error":"#N/A"},{"$error":"#N/A"},{"$error":"#N/A"},{"$error":"#N/A"},false,false,{"$f":"IF(AO227,IF(AP227,FALSE,AO227),IF(AN226,TRUE,AO227))","v":true},false,false,{"$error":"#N/A"},{"$error":"#N/A"},{"$f":"IF($S$5,AR226,NA())","v":{"$error":"#N/A"}},{"$error":"#N/A"}]
[195,{"$f":"OFFSET(InputPriceData!B$15,CalculationsAndCharts!$A227+$A$11,0,1,1)","v":"2013-02-04"},{"$f":"OFFSET(InputPriceData!G$15,CalculationsAndCharts!$A227+$A$11,0,1,1)","v":4877200},{"$f":"OFFSET(InputPriceData!C$15,CalculationsAndCharts!$A227+$A$11,IF($C$7,7,0),1,1)","v":46.25},{"$f":"OFFSET(InputPriceData!D$15,CalculationsAndCharts!$A227+$A$11,IF($C$7,7,0),1,1)","v":46.51},{"$f":"OFFSET(InputPriceData!E$15,CalculationsAndCharts!$A227+$A$11,IF($C$7,7,0),1,1)","v":45.49},{"$f":"OFFSET(InputPriceData!F$15,CalculationsAndCharts!$A227+$A$11,IF($C$7,7,0),1,1)","v":45.52},{"$error":"#N/A"},{"$error":"#N/A"},{"$error":"#N/A"},46.462706007977658,46.462706007977658,-0.4160859804567773,0.70903835572904383,2.091681160695011,0.59723410073115613,7.4813125197350144E-2,0.6793140563763449,null,47.16,42.99,0.60671462829736322,{"$error":"#N/A"},0.2,0.8,{"$error":"#N/A"},{"$error":"#N/A"},{"$error":"#N/A"},{"$error":"#N/A"},false,false,false,false,false,{"$error":"#N/A"},{"$error":"#N/A"},{"$error":"#N/A"},{"$error":"#N/A"},false,false,true,false,false,{"$error":"#N/A"},{"$error":"#N/A"},{"$error":"#N/A"},{"$error":"#N/A"}]
[196,{"$f":"OFFSET(InputPriceData!B$15,CalculationsAndCharts!$A228+$A$11,0,1,1)","v":"2013-02-01"},{"$f":"OFFSET(InputPriceData!G$15,CalculationsAndCharts!$A228+$A$11,0,1,1)","v":3421100},{"$f":"OFFSET(InputPriceData!C$15,CalculationsAndCharts!$A228+$A$11,IF($C$7,7,0),1,1)","v":46.46},{"$f":"OFFSET(InputPriceData!D$15,CalculationsAndCharts!$A228+$A$11,IF($C$7,7,0),1,1)","v":46.6},{"$f":"OFFSET(InputPriceData!E$15,CalculationsAndCharts!$A228+$A$11,IF($C$7,7,0),1,1)","v":46.15},{"$f":"OFFSET(InputPriceData!F$15,CalculationsAndCharts!$A228+$A$11,IF($C$7,7,0),1,1)","v":46.28},{"$error":"#N/A"},{"$error":"#N/A"},{"$error":"#N/A"},46.740564110973651,46.740564110973651,0.38825420365976426,1.2024573217029704,2.091681160695011,0.29458059079865978,0.50518971843444072,0.86349323967598268,null,47.16,42.99,0.78896882494004883,{"$error":"#N/A"},0.2,0.8,{"$error":"#N/A"},{"$error":"#N/A"},{"$error":"#N/A"},{"$error":"#N/A"},false,false,false,false,false,{"$error":"#N/A"},{"$error":"#N/A"},{"$error":"#N/A"},{"$error":"#N/A"},false,false,true,false,false,{"$error":"#N/A"},{"$error":"#N/A"},{"$error":"#N/A"},{"$error":"#N/A"}]
[197,{"$f":"OFFSET(InputPriceData!B$15,CalculationsAndCharts!$A229+$A$11,0,1,1)","v":"2013-01-31"},{"$f":"OFFSET(InputPriceData!G$15,CalculationsAndCharts!$A229+$A$11,0,1,1)","v":3008800},{"$f":"OFFSET(InputPriceData!C$15,CalculationsAndCharts!$A229+$A$11,IF($C$7,7,0),1,1)","v":46.63},{"$f":"OFFSET(InputPriceData!D$15,CalculationsAndCharts!$A229+$A$11,IF($C$7,7,0),1,1)","v":46.83},{"$f":"OFFSET(InputPriceData!E$15,CalculationsAndCharts!$A229+$A$11,IF($C$7,7,0),1,1)","v":46.19},{"$f":"OFFSET(InputPriceData!F$15,CalculationsAndCharts!$A229+$A$11,IF($C$7,7,0),1,1)","v":46.22},{"$error":"#N/A"},{"$error":"#N/A"},{"$error":"#N/A"},46.898799850480529,46.898799850480529,0.45117286461862349,1.6534999511415229,2.091681160695011,0.12233720312784374,0.77749889354280399,0.9583354256386335,null,47.16,42.33,0.80538302277432749,{"$error":"#N/A"},0.2,0.8,{"$error":"#N/A"},{"$error":"#N/A"},{"$error":"#N/A"},{"$error":"#N/A"},false,false,false,false,false,{"$error":"#N/A"},{"$error":"#N/A"},{"$error":"#N/A"},{"$error":"#N/A"},false,false,true,false,false,{"$error":"#N/A"},{"$error":"#N/A"},{"$error":"#N/A"},{"$error":"#N/A"}]
[198,{"$f":"OFFSET(InputPriceData!B$15,CalculationsAndCharts!$A230+$A$11,0,1,1)","v":"2013-01-30"},{"$f":"OFFSET(InputPriceData!G$15,CalculationsAndCharts!$A230+$A$11,0,1,1)","v":4138800},{"$f":"OFFSET(InputPriceData!C$15,CalculationsAndCharts!$A230+$A$11,IF($C$7,7,0),1,1)","v":47.03},{"$f":"OFFSET(InputPriceData!D$15,CalculationsAndCharts!$A230+$A$11,IF($C$7,7,0),1,1)","v":47.21},{"$f":"OFFSET(InputPriceData!E$15,CalculationsAndCharts!$A230+$A$11,IF($C$7,7,0),1,1)","v":46.54},{"$f":"OFFSET(InputPriceData!F$15,CalculationsAndCharts!$A230+$A$11,IF($C$7,7,0),1,1)","v":46.77},{"$error":"#N/A"},{"$error":"#N/A"},{"$error":"#N/A"},46.884215894421629,46.884215894421629,1.1933247035072523,1.9907943082109787,2.091681160695011,8.829886470572032E-2,0.94964173703341359,0.99383437465339297,null,47.16,42.33,0.91925465838509446,{"$error":"#N/A"},0.2,0.8,{"$error":"#N/A"},{"$error":"#N/A"},{"$error":"#N/A"},{"$error":"#N/A"},false,false,false,false,false,{"$error":"#N/A"},{"$error":"#N/A"},{"$error":"#N/A"},{"$error":"#N/A"},false,false,true,false,false,{"$error":"#N/A"},{"$error":"#N/A"},{"$error":"#N/A"},{"$error":"#N/A"}]
[199,{"$f":"OFFSET(InputPriceData!B$15,CalculationsAndCharts!$A231+$A$11,0,1,1)","v":"2013-01-29"},{"$f":"OFFSET(InputPriceData!G$15,CalculationsAndCharts!$A231+$A$11,0,1,1)","v":2838600},{"$f":"OFFSET(InputPriceData!C$15,CalculationsAndCharts!$A231+$A$11,IF($C$7,7,0),1,1)","v":46.89},{"$f":"OFFSET(InputPriceData!D$15,CalculationsAndCharts!$A231+$A$11,IF($C$7,7,0),1,1)","v":47.24},{"$f":"OFFSET(InputPriceData!E$15,CalculationsAndCharts!$A231+$A$11,IF($C$7,7,0),1,1)","v":46.4},{"$f":"OFFSET(InputPriceData!F$15,CalculationsAndCharts!$A231+$A$11,IF($C$7,7,0),1,1)","v":47.16},{"$error":"#N/A"},{"$error":"#N/A"},{"$error":"#N/A"},46.609211672333046,46.609211672333046,1.8994464229558126,2.091681160695011,2.091681160695011,-0.17646673186812778,1,0.99997236785534405,null,47.16,42.33,1,{"$error":"#N/A"},0.2,0.8,{"$error":"#N/A"},{"$error":"#N/A"},{"$error":"#N/A"},{"$error":"#N/A"},false,false,false,false,false,{"$error":"#N/A"},{"$error":"#N/A"},{"$error":"#N/A"},{"$error":"#N/A"},false,false,true,false,false,{"$error":"#N/A"},{"$error":"#N/A"},{"$error":"#N/A"},{"$error":"#N/A"}]
[200,{"$f":"OFFSET(InputPriceData!B$15,CalculationsAndCharts!$A232+$A$11,0,1,1)","v":"2013-01-28"},{"$f":"OFFSET(InputPriceData!G$15,CalculationsAndCharts!$A232+$A$11,0,1,1)","v":4163600},{"$f":"OFFSET(InputPriceData!C$15,CalculationsAndCharts!$A232+$A$11,IF($C$7,7,0),1,1)","v":46.77},{"$f":"OFFSET(InputPriceData!D$15,CalculationsAndCharts!$A232+$A$11,IF($C$7,7,0),1,1)","v":47.2},{"$f":"OFFSET(InputPriceData!E$15,CalculationsAndCharts!$A232+$A$11,IF($C$7,7,0),1,1)","v":46.6},{"$f":"OFFSET(InputPriceData!F$15,CalculationsAndCharts!$A232+$A$11,IF($C$7,7,0),1,1)","v":47},{"$error":"#N/A"},{"$error":"#N/A"},{"$error":"#N/A"},46.159555968243367,46.159555968243367,2.1267498103952791,2.0013651169706437,2.0013651169706437,{"$f":"MIN(OFFSET(N232,0,0,$A$22,1))","v":-0.38155578732864504},1,0.99941623326505902,null,47,42.33,1,{"$error":"#N/A"},0.2,0.8,{"$error":"#N/A"},{"$error":"#N/A"},{"$error":"#N/A"},{"$error":"#N/A"},false,false,false,false,false,{"$error":"#N/A"},{"$error":"#N/A"},{"$error":"#N/A"},{"$error":"#N/A"},false,false,true,false,false,{"$error":"#N/A"},{"$error":"#N/A"},{"$error":"#N/A"},{"$error":"#N/A"}]
[201,{"$f":"OFFSET(InputPriceData!B$15,CalculationsAndCharts!$A233+$A$11,0,1,1)","v":"2013-01-25"},{"$f":"OFFSET(InputPriceData!G$15,CalculationsAndCharts!$A233+$A$11,0,1,1)","v":3589600},{"$f":"OFFSET(InputPriceData!C$15,CalculationsAndCharts!$A233+$A$11,IF($C$7,7,0),1,1)","v":46.42},{"$f":"OFFSET(InputPriceData!D$15,CalculationsAndCharts!$A233+$A$11,IF($C$7,7,0),1,1)","v":46.85},{"$f":"OFFSET(InputPriceData!E$15,CalculationsAndCharts!$A233+$A$11,IF($C$7,7,0),1,1)","v":46.28},{"$f":"OFFSET(InputPriceData!F$15,CalculationsAndCharts!$A233+$A$11,IF($C$7,7,0),1,1)","v":46.84},{"$error":"#N/A"},{"$f":"IF($A233=$E$25,I$32,NA())","v":{"$error":"#N/A"}},{"$error":"#N/A"},45.632784889525837,45.632784889525837,2.3802875213707928,1.7889974618136499,1.7889974618136499,-0.43743714106675891,1,0.9984233655990854,null,46.84,42.33,1,{"$error":"#N/A"},0.2,0.8,{"$error":"#N/A"},{"$error":"#N/A"},{"$error":"#N/A"},{"$error":"#N/A"},false,false,false,false,false,{"$error":"#N/A"},{"$error":"#N/A"},{"$error":"#N/A"},{"$error":"#N/A"},false,false,true,false,false,{"$error":"#N/A"},{"$error":"#N/A"},{"$error":"#N/A"},{"$error":"#N/A"}]
[202,{"$f":"OFFSET(InputPriceData!B$15,CalculationsAndCharts!$A234+$A$11,0,1,1)","v":"2013-01-24"},{"$f":"OFFSET(InputPriceData!G$15,CalculationsAndCharts!$A234+$A$11,0,1,1)","v":8393700},{"$f":"OFFSET(InputPriceData!C$15,CalculationsAndCharts!$A234+$A$11,IF($C$7,7,0),1,1)","v":45.16},{"$f":"OFFSET(InputPriceData!D$15,CalculationsAndCharts!$A234+$A$11,IF($C$7,7,0),1,1)","v":46.83},{"$f":"OFFSET(InputPriceData!E$15,CalculationsAndCharts!$A234+$A$11,IF($C$7,7,0),1,1)","v":45.1},{"$f":"OFFSET(InputPriceData!F$15,CalculationsAndCharts!$A234+$A$11,IF($C$7,7,0),1,1)","v":46.37},{"$error":"#N/A"},{"$error":"#N/A"},{"$error":"#N/A"},45.144252159577789,45.144252159577789,2.3221766222484757,1.5585528365151291,1.5585528365151291,-0.49884234798192467,1,0.99697971977184563,null,46.37,42.33,1,{"$error":"#N/A"},0.2,0.8,{"$error":"#N/A"},{"$error":"#N/A"},{"$error":"#N/A"},{"$error":"#N/A"},false,false,false,false,false,{"$error":"#N/A"},{"$error":"#N/A"},{"$error":"#N/A"},{"$error":"#N/A"},false,false,true,false,false,{"$error":"#N/A"},{"$error":"#N/A"},{"$error":"#N/A"},{"$error":"#N/A"}]
[203,{"$f":"OFFSET(InputPriceData!B$15,CalculationsAndCharts!$A235+$A$11,0,1,1)","v":"2013-01-23"},{"$f":"OFFSET(InputPriceData!G$15,CalculationsAndCharts!$A235+$A$11,0,1,1)","v":2224300},{"$f":"OFFSET(InputPriceData!C$15,CalculationsAndCharts!$A235+$A$11,IF($C$7,7,0),1,1)","v":44.73},{"$f":"OFFSET(InputPriceData!D$15,CalculationsAndCharts!$A235+$A$11,IF($C$7,7,0),1,1)","v":45.16},{"$f":"OFFSET(InputPriceData!E$15,CalculationsAndCharts!$A235+$A$11,IF($C$7,7,0),1,1)","v":44.67},{"$f":"OFFSET(InputPriceData!F$15,CalculationsAndCharts!$A235+$A$11,IF($C$7,7,0),1,1)","v":45.06},{"$error":"#N/A"},{"$error":"#N/A"},{"$error":"#N/A"},44.855491729696745,44.855491729696745,1.3067812642895829,1.4861241906049585,1.5121139583418985,-0.60597549423751995,0.98772961750728239,0.99532858206972574,null,45.06,42.33,1,{"$error":"#N/A"},0.2,0.8,{"$error":"#N/A"},{"$error":"#N/A"},{"$error":"#N/A"},{"$error":"#N/A"},false,false,false,false,false,{"$error":"#N/A"},{"$error":"#N/A"},{"$error":"#N/A"},{"$error":"#N/A"},false,false,true,false,false,{"$error":"#N/A"},{"$error":"#N/A"},{"$error":"#N/A"},{"$error":"#N/A"}]
[204,{"$f":"OFFSET(InputPriceData!B$15,CalculationsAndCharts!$A236+$A$11,0,1,1)","v":"2013-01-22"},{"$f":"OFFSET(InputPriceData!G$15,CalculationsAndCharts!$A236+$A$11,0,1,1)","v":2552600},{"$f":"OFFSET(InputPriceData!C$15,CalculationsAndCharts!$A236+$A$11,IF($C$7,7,0),1,1)","v":44.83},{"$f":"OFFSET(InputPriceData!D$15,CalculationsAndCharts!$A236+$A$11,IF($C$7,7,0),1,1)","v":45.12},{"$f":"OFFSET(InputPriceData!E$15,CalculationsAndCharts!$A236+$A$11,IF($C$7,7,0),1,1)","v":44.61},{"$f":"OFFSET(InputPriceData!F$15,CalculationsAndCharts!$A236+$A$11,IF($C$7,7,0),1,1)","v":44.97},{"$error":"#N/A"},{"$error":"#N/A"},{"$error":"#N/A"},44.682408068396967,44.682408068396967,1.4136286224234764,1.5121139583418985,1.5121139583418985,-0.80976842060366805,1,0.99041321878996347,null,44.97,42.33,1,{"$error":"#N/A"},0.2,0.8,{"$error":"#N/A"},{"$error":"#N/A"},{"$error":"#N/A"},{"$error":"#N/A"},false,false,false,false,false,{"$error":"#N/A"},{"$error":"#N/A"},{"$error":"#N/A"},{"$error":"#N/A"},false,false,true,false,false,{"$error":"#N/A"},{"$error":"#N/A"},{"$error":"#N/A"},{"$error":"#N/A"}]
[205,{"$f":"OFFSET(InputPriceData!B$15,CalculationsAndCharts!$A237+$A$11,0,1,1)","v":"2013-01-18"},{"$f":"OFFSET(InputPriceData!G$15,CalculationsAndCharts!$A237+$A$11,0,1,1)","v":1766000},{"$f":"OFFSET(InputPriceData!C$15,CalculationsAndCharts!$A237+$A$11,IF($C$7,7,0),1,1)","v":44.74},{"$f":"OFFSET(InputPriceData!D$15,CalculationsAndCharts!$A237+$A$11,IF($C$7,7,0),1,1)","v":44.98},{"$f":"OFFSET(InputPriceData!E$15,CalculationsAndCharts!$A237+$A$11,IF($C$7,7,0),1,1)","v":44.52},{"$f":"OFFSET(InputPriceData!F$15,CalculationsAndCharts!$A237+$A$11,IF($C$7,7,0),1,1)","v":44.65},{"$error":"#N/A"},{"$error":"#N/A"},{"$error":"#N/A"},44.466279291724106,44.466279291724106,1.2760272230987486,1.4818103770930025,1.4818103770930025,-1.0670172514372895,1,0.9805866157731975,null,44.85,42.33,0.92063492063491958,{"$error":"#N/A"},0.2,0.8,{"$error":"#N/A"},{"$error":"#N/A"},{"$error":"#N/A"},{"$error":"#N/A"},false,false,false,false,false,{"$error":"#N/A"},{"$error":"#N/A"},{"$error":"#N/A"},{"$error":"#N/A"},false,false,true,false,false,{"$error":"#N/A"},{"$error":"#N/A"},{"$error":"#N/A"},{"$error":"#N/A"}]
[206,{"$f":"OFFSET(InputPriceData!B$15,CalculationsAndCharts!$A238+$A$11,0,1,1)","v":"2013-01-17"},{"$f":"OFFSET(InputPriceData!G$15,CalculationsAndCharts!$A238+$A$11,0,1,1)","v":3651200},{"$f":"OFFSET(InputPriceData!C$15,CalculationsAndCharts!$A238+$A$11,IF($C$7,7,0),1,1)","v":44.58},{"$f":"OFFSET(InputPriceData!D$15,CalculationsAndCharts!$A238+$A$11,IF($C$7,7,0),1,1)","v":45.24},{"$f":"OFFSET(InputPriceData!E$15,CalculationsAndCharts!$A238+$A$11,IF($C$7,7,0),1,1)","v":44.58},{"$f":"OFFSET(InputPriceData!F$15,CalculationsAndCharts!$A238+$A$11,IF($C$7,7,0),1,1)","v":44.85},{"$error":"#N/A"},{"$error":"#N/A"},{"$error":"#N/A"},44.152342582743799,44.152342582743799,1.6700930149512774,1.3238253052474891,1.3238253052474891,-1.2834122133619816,1,0.96864292992222523,null,44.85,42.33,1,{"$error":"#N/A"},0.2,0.8,{"$error":"#N/A"},{"$error":"#N/A"},{"$error":"#N/A"},{"$error":"#N/A"},false,false,false,false,false,{"$error":"#N/A"},{"$error":"#N/A"},{"$error":"#N/A"},{"$error":"#N/A"},false,false,true,false,false,{"$error":"#N/A"},{"$error":"#N/A"},{"$error":"#N/A"},{"$error":"#N/A"}]
[207,{"$f":"OFFSET(InputPriceData!B$15,CalculationsAndCharts!$A239+$A$11,0,1,1)","v":"2013-01-16"},{"$f":"OFFSET(InputPriceData!G$15,CalculationsAndCharts!$A239+$A$11,0,1,1)","v":2348300},{"$f":"OFFSET(InputPriceData!C$15,CalculationsAndCharts!$A239+$A$11,IF($C$7,7,0),1,1)","v":44.53},{"$f":"OFFSET(InputPriceData!D$15,CalculationsAndCharts!$A239+$A$11,IF($C$7,7,0),1,1)","v":44.86},{"$f":"OFFSET(InputPriceData!E$15,CalculationsAndCharts!$A239+$A$11,IF($C$7,7,0),1,1)","v":44.07},{"$f":"OFFSET(InputPriceData!F$15,CalculationsAndCharts!$A239+$A$11,IF($C$7,7,0),1,1)","v":44.63},{"$error":"#N/A"},{"$error":"#N/A"},{"$error":"#N/A"},43.756888906733359,43.756888906733359,1.6668843848900436,1.0315578544087993,1.0315578544087993,-1.5408878285096201,1,0.95890272713091451,null,44.64,42.33,0.99567099567099648,{"$error":"#N/A"},0.2,0.8,{"$error":"#N/A"},{"$error":"#N/A"},{"$error":"#N/A"},{"$error":"#N/A"},false,false,false,false,false,{"$error":"#N/A"},{"$error":"#N/A"},{"$error":"#N/A"},{"$error":"#N/A"},false,false,true,false,false,{"$error":"#N/A"},{"$error":"#N/A"},{"$error":"#N/A"},{"$error":"#N/A"}]
[208,{"$f":"OFFSET(InputPriceData!B$15,CalculationsAndCharts!$A240+$A$11,0,1,1)","v":"2013-01-15"},{"$f":"OFFSET(InputPriceData!G$15,CalculationsAndCharts!$A240+$A$11,0,1,1)","v":3542700},{"$f":"OFFSET(InputPriceData!C$15,CalculationsAndCharts!$A240+$A$11,IF($C$7,7,0),1,1)","v":43},{"$f":"OFFSET(InputPriceData!D$15,CalculationsAndCharts!$A240+$A$11,IF($C$7,7,0),1,1)","v":44.69},{"$f":"OFFSET(InputPriceData!E$15,CalculationsAndCharts!$A240+$A$11,IF($C$7,7,0),1,1)","v":42.78},{"$f":"OFFSET(InputPriceData!F$15,CalculationsAndCharts!$A240+$A$11,IF($C$7,7,0),1,1)","v":44.64},{"$error":"#N/A"},{"$error":"#N/A"},{"$error":"#N/A"},43.40047015913062,43.40047015913062,1.9001806507763863,0.71296057691619874,0.81280888063817847,-1.867936802562264,0.96275353370977934,0.96051461332762533,null,44.64,42.33,1,{"$error":"#N/A"},0.2,0.8,{"$error":"#N/A"},{"$error":"#N/A"},{"$error":"#N/A"},{"$error":"#N/A"},false,false,false,false,false,{"$error":"#N/A"},{"$error":"#N/A"},{"$error":"#N/A"},{"$error":"#N/A"},false,false,true,false,false,{"$error":"#N/A"},{"$error":"#N/A"},{"$error":"#N/A"},{"$error":"#N/A"}]
[209,{"$f":"OFFSET(InputPriceData!B$15,CalculationsAndCharts!$A241+$A$11,0,1,1)","v":"2013-01-14"},{"$f":"OFFSET(InputPriceData!G$15,CalculationsAndCharts!$A241+$A$11,0,1,1)","v":4359200},{"$f":"OFFSET(InputPriceData!C$15,CalculationsAndCharts!$A241+$A$11,IF($C$7,7,0),1,1)","v":43.24},{"$f":"OFFSET(InputPriceData!D$15,CalculationsAndCharts!$A241+$A$11,IF($C$7,7,0),1,1)","v":43.84},{"$f":"OFFSET(InputPriceData!E$15,CalculationsAndCharts!$A241+$A$11,IF($C$7,7,0),1,1)","v":42.87},{"$f":"OFFSET(InputPriceData!F$15,CalculationsAndCharts!$A241+$A$11,IF($C$7,7,0),1,1)","v":43.02},{"$error":"#N/A"},{"$error":"#N/A"},{"$error":"#N/A"},43.293695970839082,43.293695970839082,0.37093792025669947,0.59723410073115613,0.81280888063817847,-2.1012212298575319,0.92602177337476088,0.97727341438493709,null,44.6,42.33,0.3039647577092528,{"$error":"#N/A"},0.2,0.8,{"$error":"#N/A"},{"$error":"#N/A"},{"$error":"#N/A"},{"$error":"#N/A"},false,false,false,false,false,{"$error":"#N/A"},{"$error":"#N/A"},{"$error":"#N/A"},{"$error":"#N/A"},false,false,true,false,false,{"$error":"#N/A"},{"$error":"#N/A"},{"$error":"#N/A"},{"$error":"#N/A"}]
[210,{"$f":"OFFSET(InputPriceData!B$15,CalculationsAndCharts!$A242+$A$11,0,1,1)","v":"2013-01-11"},{"$f":"OFFSET(InputPriceData!G$15,CalculationsAndCharts!$A242+$A$11,0,1,1)","v":2240200},{"$f":"OFFSET(InputPriceData!C$15,CalculationsAndCharts!$A242+$A$11,IF($C$7,7,0),1,1)","v":43.31},{"$f":"OFFSET(InputPriceData!D$15,CalculationsAndCharts!$A242+$A$11,IF($C$7,7,0),1,1)","v":43.49},{"$f":"OFFSET(InputPriceData!E$15,CalculationsAndCharts!$A242+$A$11,IF($C$7,7,0),1,1)","v":42.99},{"$f":"OFFSET(InputPriceData!F$15,CalculationsAndCharts!$A242+$A$11,IF($C$7,7,0),1,1)","v":43.34},{"$error":"#N/A"},{"$error":"#N/A"},{"$error":"#N/A"},43.364163987475266,43.364163987475266,0.65973490748345787,0.64718001581622886,0.81280888063817847,-2.2959962754169689,0.9467226614381582,0.99777994528573677,null,44.95,42.33,0.38549618320610818,{"$error":"#N/A"},0.2,0.8,{"$error":"#N/A"},{"$error":"#N/A"},{"$error":"#N/A"},{"$error":"#N/A"},false,false,false,false,false,{"$error":"#N/A"},{"$error":"#N/A"},{"$error":"#N/A"},{"$error":"#N/A"},false,false,true,false,false,{"$error":"#N/A"},{"$error":"#N/A"},{"$error":"#N/A"},{"$error":"#N/A"}]
[211,{"$f":"OFFSET(InputPriceData!B$15,CalculationsAndCharts!$A243+$A$11,0,1,1)","v":"2013-01-10"},{"$f":"OFFSET(InputPriceData!G$15,CalculationsAndCharts!$A243+$A$11,0,1,1)","v":2946200},{"$f":"OFFSET(InputPriceData!C$15,CalculationsAndCharts!$A243+$A$11,IF($C$7,7,0),1,1)","v":42.99},{"$f":"OFFSET(InputPriceData!D$15,CalculationsAndCharts!$A243+$A$11,IF($C$7,7,0),1,1)","v":43.38},{"$f":"OFFSET(InputPriceData!E$15,CalculationsAndCharts!$A243+$A$11,IF($C$7,7,0),1,1)","v":42.68},{"$f":"OFFSET(InputPriceData!F$15,CalculationsAndCharts!$A243+$A$11,IF($C$7,7,0),1,1)","v":43.38},{"$error":"#N/A"},{"$error":"#N/A"},{"$error":"#N/A"},43.422150502402715,43.422150502402715,0.6932728186585525,0.68747132336567707,0.81280888063817847,-2.2959962754169689,0.95968304509905478,1.0098444254936185,null,44.95,42.33,0.4007633587786269,{"$error":"#N/A"},0.2,0.8,{"$error":"#N/A"},{"$error":"#N/A"},{"$error":"#N/A"},{"$error":"#N/A"},false,false,false,false,false,{"$error":"#N/A"},{"$error":"#N/A"},{"$error":"#N/A"},{"$error":"#N/A"},false,false,true,false,false,{"$error":"#N/A"},{"$error":"#N/A"},{"$error":"#N/A"},{"$error":"#N/A"}]
[212,{"$f":"OFFSET(InputPriceData!B$15,CalculationsAndCharts!$A244+$A$11,0,1,1)","v":"2013-01-09"},{"$f":"OFFSET(InputPriceData!G$15,CalculationsAndCharts!$A244+$A$11,0,1,1)","v":4621800},{"$f":"OFFSET(InputPriceData!C$15,CalculationsAndCharts!$A244+$A$11,IF($C$7,7,0),1,1)","v":43.18},{"$f":"OFFSET(InputPriceData!D$15,CalculationsAndCharts!$A244+$A$11,IF($C$7,7,0),1,1)","v":43.35},{"$f":"OFFSET(InputPriceData!E$15,CalculationsAndCharts!$A244+$A$11,IF($C$7,7,0),1,1)","v":42.59},{"$f":"OFFSET(InputPriceData!F$15,CalculationsAndCharts!$A244+$A$11,IF($C$7,7,0),1,1)","v":42.99},{"$error":"#N/A"},{"$error":"#N/A"},{"$error":"#N/A"},43.524884339656879,43.524884339656879,0.25433241605945223,0.77868310185832446,0.81280888063817847,-2.2959962754169689,0.98902286342603818,1.0043167930022447,null,44.95,42.33,0.25190839694656586,{"$error":"#N/A"},0.2,0.8,{"$error":"#N/A"},{"$error":"#N/A"},{"$error":"#N/A"},{"$error":"#N/A"},false,false,false,false,false,{"$error":"#N/A"},{"$error":"#N/A"},{"$error":"#N/A"},{"$error":"#N/A"},false,false,true,false,false,{"$error":"#N/A"},{"$error":"#N/A"},{"$error":"#N/A"},{"$error":"#N/A"}]
[213,{"$f":"OFFSET(InputPriceData!B$15,CalculationsAndCharts!$A245+$A$11,0,1,1)","v":"2013-01-08"},{"$f":"OFFSET(InputPriceData!G$15,CalculationsAndCharts!$A245+$A$11,0,1,1)","v":2340000},{"$f":"OFFSET(InputPriceData!C$15,CalculationsAndCharts!$A245+$A$11,IF($C$7,7,0),1,1)","v":43.63},{"$f":"OFFSET(InputPriceData!D$15,CalculationsAndCharts!$A245+$A$11,IF($C$7,7,0),1,1)","v":43.72},{"$f":"OFFSET(InputPriceData!E$15,CalculationsAndCharts!$A245+$A$11,IF($C$7,7,0),1,1)","v":43.34},{"$f":"OFFSET(InputPriceData!F$15,CalculationsAndCharts!$A245+$A$11,IF($C$7,7,0),1,1)","v":43.36},{"$error":"#N/A"},{"$error":"#N/A"},{"$error":"#N/A"},43.565480763450793,43.565480763450793,0.55919879958596619,0.81280888063817847,0.81280888063817847,-2.2959962754169689,1,0.97243579278138959,null,46.57,42.33,0.24292452830188693,{"$error":"#N/A"},0.2,0.8,{"$error":"#N/A"},{"$error":"#N/A"},{"$error":"#N/A"},{"$error":"#N/A"},false,false,false,false,false,{"$error":"#N/A"},{"$error":"#N/A"},{"$error":"#N/A"},{"$error":"#N/A"},false,false,true,false,false,{"$error":"#N/A"},{"$error":"#N/A"},{"$error":"#N/A"},{"$error":"#N/A"}]
[214,{"$f":"OFFSET(InputPriceData!B$15,CalculationsAndCharts!$A246+$A$11,0,1,1)","v":"2013-01-07"},{"$f":"OFFSET(InputPriceData!G$15,CalculationsAndCharts!$A246+$A$11,0,1,1)","v":5862400},{"$f":"OFFSET(InputPriceData!C$15,CalculationsAndCharts!$A246+$A$11,IF($C$7,7,0),1,1)","v":44.44},{"$f":"OFFSET(InputPriceData!D$15,CalculationsAndCharts!$A246+$A$11,IF($C$7,7,0),1,1)","v":44.46},{"$f":"OFFSET(InputPriceData!E$15,CalculationsAndCharts!$A246+$A$11,IF($C$7,7,0),1,1)","v":42.84},{"$f":"OFFSET(InputPriceData!F$15,CalculationsAndCharts!$A246+$A$11,IF($C$7,7,0),1,1)","v":43.72},{"$error":"#N/A"},{"$error":"#N/A"},{"$error":"#N/A"},43.423860213548664,43.423860213548664,0.90988262294969569,0.64587794936940646,0.64587794936940646,-2.2959962754169689,1,0.90850892039855147,null,46.8,42.33,0.31096196868008968,{"$error":"#N/A"},0.2,0.8,{"$error":"#N/A"},44.44,{"$error":"#N/A"},{"$error":"#N/A"},false,false,true,false,true,{"$error":"#N/A"},44.44,{"$error":"#N/A"},44.44,false,true,true,false,false,44.44,{"$error":"#N/A"},44.44,{"$error":"#N/A"}]
[215,{"$f":"OFFSET(InputPriceData!B$15,CalculationsAndCharts!$A247+$A$11,0,1,1)","v":"2013-01-04"},{"$f":"OFFSET(InputPriceData!G$15,CalculationsAndCharts!$A247+$A$11,0,1,1)","v":8772500},{"$f":"OFFSET(InputPriceData!C$15,CalculationsAndCharts!$A247+$A$11,IF($C$7,7,0),1,1)","v":42.41},{"$f":"OFFSET(InputPriceData!D$15,CalculationsAndCharts!$A247+$A$11,IF($C$7,7,0),1,1)","v":44.75},{"$f":"OFFSET(InputPriceData!E$15,CalculationsAndCharts!$A247+$A$11,IF($C$7,7,0),1,1)","v":42.22},{"$f":"OFFSET(InputPriceData!F$15,CalculationsAndCharts!$A247+$A$11,IF($C$7,7,0),1,1)","v":44.6},{"$error":"#N/A"},{"$error":"#N/A"},{"$error":"#N/A"},43.151011873336898,43.151011873336898,1.8951247435333691,0.29458059079865978,0.29458059079865978,-2.2959962754169689,1,0.80938993484619082,null,46.8,42.33,0.50782997762863613,{"$error":"#N/A"},0.2,0.8,{"$error":"#N/A"},{"$error":"#N/A"},{"$error":"#N/A"},0.80938993484619082,false,false,true,true,false,{"$error":"#N/A"},{"$error":"#N/A"},{"$error":"#N/A"},{"$error":"#N/A"},true,false,false,false,false,{"$error":"#N/A"},{"$error":"#N/A"},{"$error":"#N/A"},{"$error":"#N/A"}]
[216,{"$f":"OFFSET(InputPriceData!B$15,CalculationsAndCharts!$A248+$A$11,0,1,1)","v":"2013-01-03"},{"$f":"OFFSET(InputPriceData!G$15,CalculationsAndCharts!$A248+$A$11,0,1,1)","v":18764800},{"$f":"OFFSET(InputPriceData!C$15,CalculationsAndCharts!$A248+$A$11,IF($C$7,7,0),1,1)","v":40.76},{"$f":"OFFSET(InputPriceData!D$15,CalculationsAndCharts!$A248+$A$11,IF($C$7,7,0),1,1)","v":42.87},{"$f":"OFFSET(InputPriceData!E$15,CalculationsAndCharts!$A248+$A$11,IF($C$7,7,0),1,1)","v":39.729999999999997},{"$f":"OFFSET(InputPriceData!F$15,CalculationsAndCharts!$A248+$A$11,IF($C$7,7,0),1,1)","v":42.33},{"$error":"#N/A"},{"$error":"#N/A"},{"$error":"#N/A"},43.108614321224103,43.108614321224103,-0.40018121021716069,0.12233720312784374,0.12233720312784374,-2.2959962754169689,1,0.68571051988878173,null,46.8,42.33,0,{"$error":"#N/A"},0.2,0.8,{"$error":"#N/A"},{"$error":"#N/A"},{"$error":"#N/A"},{"$error":"#N/A"},false,false,true,false,false,{"$error":"#N/A"},{"$error":"#N/A"},{"$error":"#N/A"},{"$error":"#N/A"},false,false,false,false,false,{"$error":"#N/A"},{"$error":"#N/A"},{"$error":"#N/A"},{"$error":"#N/A"}]
[217,{"$f":"OFFSET(InputPriceData!B$15,CalculationsAndCharts!$A249+$A$11,0,1,1)","v":"2013-01-02"},{"$f":"OFFSET(InputPriceData!G$15,CalculationsAndCharts!$A249+$A$11,0,1,1)","v":7058300},{"$f":"OFFSET(InputPriceData!C$15,CalculationsAndCharts!$A249+$A$11,IF($C$7,7,0),1,1)","v":44.41},{"$f":"OFFSET(InputPriceData!D$15,CalculationsAndCharts!$A249+$A$11,IF($C$7,7,0),1,1)","v":44.6},{"$f":"OFFSET(InputPriceData!E$15,CalculationsAndCharts!$A249+$A$11,IF($C$7,7,0),1,1)","v":42.89},{"$f":"OFFSET(InputPriceData!F$15,CalculationsAndCharts!$A249+$A$11,IF($C$7,7,0),1,1)","v":42.92},{"$error":"#N/A"},{"$error":"#N/A"},{"$error":"#N/A"},43.22487165668862,43.22487165668862,-1.4673778603102872E-2,8.829886470572032E-2,0.67605265970663553,-2.2959962754169689,0.80223952975509438,0.57843578186771227,null,47.94,42.7,4.1984732824427308E-2,{"$error":"#N/A"},0.2,0.8,{"$error":"#N/A"},{"$error":"#N/A"},{"$error":"#N/A"},{"$error":"#N/A"},false,false,true,false,false,{"$error":"#N/A"},{"$error":"#N/A"},{"$error":"#N/A"},{"$error":"#N/A"},false,false,false,false,false,{"$error":"#N/A"},{"$error":"#N/A"},{"$error":"#N/A"},{"$error":"#N/A"}]
[218,{"$f":"OFFSET(InputPriceData!B$15,CalculationsAndCharts!$A250+$A$11,0,1,1)","v":"2012-12-31"},{"$f":"OFFSET(InputPriceData!G$15,CalculationsAndCharts!$A250+$A$11,0,1,1)","v":3404100},{"$f":"OFFSET(InputPriceData!C$15,CalculationsAndCharts!$A250+$A$11,IF($C$7,7,0),1,1)","v":42.6},{"$f":"OFFSET(InputPriceData!D$15,CalculationsAndCharts!$A250+$A$11,IF($C$7,7,0),1,1)","v":44.12},{"$f":"OFFSET(InputPriceData!E$15,CalculationsAndCharts!$A250+$A$11,IF($C$7,7,0),1,1)","v":42.6},{"$f":"OFFSET(InputPriceData!F$15,CalculationsAndCharts!$A250+$A$11,IF($C$7,7,0),1,1)","v":44.09},{"$error":"#N/A"},{"$error":"#N/A"},{"$error":"#N/A"},43.138337224777203,43.138337224777203,1.0871703963687733,-0.17646673186812778,1.1882050992937927,-2.2959962754169689,0.60832578706068396,0.5162128121010886,null,48.76,42.7,0.22937293729372965,{"$error":"#N/A"},0.2,0.8,{"$error":"#N/A"},{"$error":"#N/A"},{"$error":"#N/A"},{"$error":"#N/A"},false,false,true,false,false,{"$error":"#N/A"},{"$error":"#N/A"},{"$error":"#N/A"},{"$error":"#N/A"},false,false,false,false,false,{"$error":"#N/A"},{"$error":"#N/A"},{"$error":"#N/A"},{"$error":"#N/A"}]
[219,{"$f":"OFFSET(InputPriceData!B$15,CalculationsAndCharts!$A251+$A$11,0,1,1)","v":"2012-12-28"},{"$f":"OFFSET(InputPriceData!G$15,CalculationsAndCharts!$A251+$A$11,0,1,1)","v":2114300},{"$f":"OFFSET(InputPriceData!C$15,CalculationsAndCharts!$A251+$A$11,IF($C$7,7,0),1,1)","v":43.1},{"$f":"OFFSET(InputPriceData!D$15,CalculationsAndCharts!$A251+$A$11,IF($C$7,7,0),1,1)","v":43.21},{"$f":"OFFSET(InputPriceData!E$15,CalculationsAndCharts!$A251+$A$11,IF($C$7,7,0),1,1)","v":42.69},{"$f":"OFFSET(InputPriceData!F$15,CalculationsAndCharts!$A251+$A$11,IF($C$7,7,0),1,1)","v":42.7},{"$error":"#N/A"},{"$error":"#N/A"},{"$error":"#N/A"},43.153608007119033,43.153608007119033,-0.41148338761367875,-0.38155578732864504,1.4123350873025098,-2.2959962754169689,0.51625388910347603,0.48129213731977682,null,50,42.7,0,{"$error":"#N/A"},0.2,0.8,{"$error":"#N/A"},{"$error":"#N/A"},{"$error":"#N/A"},{"$error":"#N/A"},false,false,true,false,false,{"$error":"#N/A"},{"$error":"#N/A"},{"$error":"#N/A"},{"$error":"#N/A"},false,false,false,false,false,{"$error":"#N/A"},{"$error":"#N/A"},{"$error":"#N/A"},{"$error":"#N/A"}]
[220,{"$f":"OFFSET(InputPriceData!B$15,CalculationsAndCharts!$A252+$A$11,0,1,1)","v":"2012-12-27"},{"$f":"OFFSET(InputPriceData!G$15,CalculationsAndCharts!$A252+$A$11,0,1,1)","v":2227900},{"$f":"OFFSET(InputPriceData!C$15,CalculationsAndCharts!$A252+$A$11,IF($C$7,7,0),1,1)","v":42.96},{"$f":"OFFSET(InputPriceData!D$15,CalculationsAndCharts!$A252+$A$11,IF($C$7,7,0),1,1)","v":43.3},{"$f":"OFFSET(InputPriceData!E$15,CalculationsAndCharts!$A252+$A$11,IF($C$7,7,0),1,1)","v":42.65},{"$f":"OFFSET(InputPriceData!F$15,CalculationsAndCharts!$A252+$A$11,IF($C$7,7,0),1,1)","v":43.12},{"$error":"#N/A"},{"$error":"#N/A"},{"$error":"#N/A"},43.339302861468028,43.339302861468028,-0.22142037080586408,-0.43743714106675891,1.4437403792955537,-2.2959962754169689,0.49697593866888989,0.44623879237328723,null,50,42.94,2.5495750708215248E-2,{"$error":"#N/A"},0.2,0.8,{"$error":"#N/A"},{"$error":"#N/A"},{"$error":"#N/A"},{"$error":"#N/A"},false,false,true,false,false,{"$error":"#N/A"},{"$error":"#N/A"},{"$error":"#N/A"},{"$error":"#N/A"},false,false,false,false,false,{"$error":"#N/A"},{"$error":"#N/A"},{"$error":"#N/A"},{"$error":"#N/A"}]
[221,{"$f":"OFFSET(InputPriceData!B$15,CalculationsAndCharts!$A253+$A$11,0,1,1)","v":"2012-12-26"},{"$f":"OFFSET(InputPriceData!G$15,CalculationsAndCharts!$A253+$A$11,0,1,1)","v":2623500},{"$f":"OFFSET(InputPriceData!C$15,CalculationsAndCharts!$A253+$A$11,IF($C$7,7,0),1,1)","v":43.4},{"$f":"OFFSET(InputPriceData!D$15,CalculationsAndCharts!$A253+$A$11,IF($C$7,7,0),1,1)","v":43.42},{"$f":"OFFSET(InputPriceData!E$15,CalculationsAndCharts!$A253+$A$11,IF($C$7,7,0),1,1)","v":42.6},{"$f":"OFFSET(InputPriceData!F$15,CalculationsAndCharts!$A253+$A$11,IF($C$7,7,0),1,1)","v":42.95},{"$error":"#N/A"},{"$f":"IF($A253=$E$25,I$32,NA())","v":{"$error":"#N/A"}},{"$error":"#N/A"},43.526572277332818,43.526572277332818,-0.63924858866755585,-0.49884234798192467,1.4437403792955537,-2.2959962754169689,0.48055627798562017,0.39817118341649138,null,50,42.94,1.416430594901574E-3,{"$error":"#N/A"},0.2,0.8,{"$error":"#N/A"},{"$error":"#N/A"},{"$error":"#N/A"},{"$error":"#N/A"},false,false,true,false,false,{"$error":"#N/A"},{"$error":"#N/A"},{"$error":"#N/A"},{"$error":"#N/A"},false,false,false,false,false,{"$error":"#N/A"},{"$error":"#N/A"},{"$error":"#N/A"},{"$error":"#N/A"}]
[222,{"$f":"OFFSET(InputPriceData!B$15,CalculationsAndCharts!$A254+$A$11,0,1,1)","v":"2012-12-24"},{"$f":"OFFSET(InputPriceData!G$15,CalculationsAndCharts!$A254+$A$11,0,1,1)","v":1587500},{"$f":"OFFSET(InputPriceData!C$15,CalculationsAndCharts!$A254+$A$11,IF($C$7,7,0),1,1)","v":43.58},{"$f":"OFFSET(InputPriceData!D$15,CalculationsAndCharts!$A254+$A$11,IF($C$7,7,0),1,1)","v":43.89},{"$f":"OFFSET(InputPriceData!E$15,CalculationsAndCharts!$A254+$A$11,IF($C$7,7,0),1,1)","v":43.41},{"$f":"OFFSET(InputPriceData!F$15,CalculationsAndCharts!$A254+$A$11,IF($C$7,7,0),1,1)","v":43.46},{"$error":"#N/A"},{"$error":"#N/A"},{"$error":"#N/A"},43.679345828081594,43.679345828081594,-0.38850128577310994,-0.60597549423751995,1.4437403792955537,-2.2959962754169689,0.45190903457060738,0.33705988014659843,null,50,42.94,7.3654390934844619E-2,{"$error":"#N/A"},0.2,0.8,{"$error":"#N/A"},{"$error":"#N/A"},{"$error":"#N/A"},{"$error":"#N/A"},false,false,true,false,false,{"$error":"#N/A"},{"$error":"#N/A"},{"$error":"#N/A"},{"$error":"#N/A"},false,false,false,false,false,{"$error":"#N/A"},{"$error":"#N/A"},{"$error":"#N/A"},{"$error":"#N/A"}]
[223,{"$f":"OFFSET(InputPriceData!B$15,CalculationsAndCharts!$A255+$A$11,0,1,1)","v":"2012-12-21"},{"$f":"OFFSET(InputPriceData!G$15,CalculationsAndCharts!$A255+$A$11,0,1,1)","v":5483500},{"$f":"OFFSET(InputPriceData!C$15,CalculationsAndCharts!$A255+$A$11,IF($C$7,7,0),1,1)","v":43.71},{"$f":"OFFSET(InputPriceData!D$15,CalculationsAndCharts!$A255+$A$11,IF($C$7,7,0),1,1)","v":44.1},{"$f":"OFFSET(InputPriceData!E$15,CalculationsAndCharts!$A255+$A$11,IF($C$7,7,0),1,1)","v":43.39},{"$f":"OFFSET(InputPriceData!F$15,CalculationsAndCharts!$A255+$A$11,IF($C$7,7,0),1,1)","v":43.63},{"$error":"#N/A"},{"$error":"#N/A"},{"$error":"#N/A"},43.758850418142593,43.758850418142593,-0.45684477069915741,-0.80976842060366805,1.4437403792955537,-2.2959962754169689,0.39741511021651038,0.26797796315328726,null,50,42.94,9.7733711048159297E-2,{"$error":"#N/A"},0.2,0.8,{"$error":"#N/A"},{"$error":"#N/A"},{"$error":"#N/A"},{"$error":"#N/A"},false,false,true,false,false,{"$error":"#N/A"},{"$error":"#N/A"},{"$error":"#N/A"},{"$error":"#N/A"},false,false,false,false,false,{"$error":"#N/A"},{"$error":"#N/A"},{"$error":"#N/A"},{"$error":"#N/A"}]
[224,{"$f":"OFFSET(InputPriceData!B$15,CalculationsAndCharts!$A256+$A$11,0,1,1)","v":"2012-12-20"},{"$f":"OFFSET(InputPriceData!G$15,CalculationsAndCharts!$A256+$A$11,0,1,1)","v":5205100},{"$f":"OFFSET(InputPriceData!C$15,CalculationsAndCharts!$A256+$A$11,IF($C$7,7,0),1,1)","v":43.22},{"$f":"OFFSET(InputPriceData!D$15,CalculationsAndCharts!$A256+$A$11,IF($C$7,7,0),1,1)","v":44},{"$f":"OFFSET(InputPriceData!E$15,CalculationsAndCharts!$A256+$A$11,IF($C$7,7,0),1,1)","v":43.2},{"$f":"OFFSET(InputPriceData!F$15,CalculationsAndCharts!$A256+$A$11,IF($C$7,7,0),1,1)","v":43.97},{"$error":"#N/A"},{"$error":"#N/A"},{"$error":"#N/A"},43.820537170391844,43.820537170391844,-0.34788885875280628,-1.0670172514372895,1.4437403792955537,-2.2959962754169689,0.32862715678950721,0.1964488376774641,null,50,42.94,0.14589235127478764,{"$error":"#N/A"},0.2,0.8,{"$error":"#N/A"},{"$error":"#N/A"},{"$error":"#N/A"},{"$error":"#N/A"},false,false,true,false,false,{"$error":"#N/A"},{"$error":"#N/A"},{"$error":"#N/A"},{"$error":"#N/A"},false,false,false,false,false,{"$error":"#N/A"},{"$error":"#N/A"},{"$error":"#N/A"},{"$error":"#N/A"}]
[225,{"$f":"OFFSET(InputPriceData!B$15,CalculationsAndCharts!$A257+$A$11,0,1,1)","v":"2012-12-19"},{"$f":"OFFSET(InputPriceData!G$15,CalculationsAndCharts!$A257+$A$11,0,1,1)","v":5994500},{"$f":"OFFSET(InputPriceData!C$15,CalculationsAndCharts!$A257+$A$11,IF($C$7,7,0),1,1)","v":44.04},{"$f":"OFFSET(InputPriceData!D$15,CalculationsAndCharts!$A257+$A$11,IF($C$7,7,0),1,1)","v":44.13},{"$f":"OFFSET(InputPriceData!E$15,CalculationsAndCharts!$A257+$A$11,IF($C$7,7,0),1,1)","v":43.24},{"$f":"OFFSET(InputPriceData!F$15,CalculationsAndCharts!$A257+$A$11,IF($C$7,7,0),1,1)","v":43.28},{"$error":"#N/A"},{"$error":"#N/A"},{"$error":"#N/A"},43.957878756582204,43.957878756582204,-1.3459141096957448,-1.2834122133619816,1.4437403792955537,-2.2959962754169689,0.27076346693530101,0.12505547660227315,null,50,42.94,4.8158640226629364E-2,{"$error":"#N/A"},0.2,0.8,{"$error":"#N/A"},{"$error":"#N/A"},{"$error":"#N/A"},{"$error":"#N/A"},false,false,true,false,false,{"$error":"#N/A"},{"$error":"#N/A"},{"$error":"#N/A"},{"$error":"#N/A"},false,false,false,false,false,{"$error":"#N/A"},{"$error":"#N/A"},{"$error":"#N/A"},{"$error":"#N/A"}]
[226,{"$f":"OFFSET(InputPriceData!B$15,CalculationsAndCharts!$A258+$A$11,0,1,1)","v":"2012-12-18"},{"$f":"OFFSET(InputPriceData!G$15,CalculationsAndCharts!$A258+$A$11,0,1,1)","v":5519800},{"$f":"OFFSET(InputPriceData!C$15,CalculationsAndCharts!$A258+$A$11,IF($C$7,7,0),1,1)","v":44.05},{"$f":"OFFSET(InputPriceData!D$15,CalculationsAndCharts!$A258+$A$11,IF($C$7,7,0),1,1)","v":44.34},{"$f":"OFFSET(InputPriceData!E$15,CalculationsAndCharts!$A258+$A$11,IF($C$7,7,0),1,1)","v":43.84},{"$f":"OFFSET(InputPriceData!F$15,CalculationsAndCharts!$A258+$A$11,IF($C$7,7,0),1,1)","v":44.2},{"$error":"#N/A"},{"$error":"#N/A"},{"$error":"#N/A"},44.086929945542522,44.086929945542522,-0.76435203628116377,-1.5408878285096201,1.4437403792955537,-2.2959962754169689,0.20191487172120004,5.895742933146092E-2,null,50,42.94,0.17847025495750776,{"$error":"#N/A"},0.2,0.8,{"$error":"#N/A"},{"$error":"#N/A"},{"$error":"#N/A"},{"$error":"#N/A"},false,false,true,false,false,{"$error":"#N/A"},{"$error":"#N/A"},{"$error":"#N/A"},{"$error":"#N/A"},false,false,false,false,false,{"$error":"#N/A"},{"$error":"#N/A"},{"$error":"#N/A"},{"$error":"#N/A"}]
[227,{"$f":"OFFSET(InputPriceData!B$15,CalculationsAndCharts!$A259+$A$11,0,1,1)","v":"2012-12-17"},{"$f":"OFFSET(InputPriceData!G$15,CalculationsAndCharts!$A259+$A$11,0,1,1)","v":4976200},{"$f":"OFFSET(InputPriceData!C$15,CalculationsAndCharts!$A259+$A$11,IF($C$7,7,0),1,1)","v":43.79},{"$f":"OFFSET(InputPriceData!D$15,CalculationsAndCharts!$A259+$A$11,IF($C$7,7,0),1,1)","v":44.23},{"$f":"OFFSET(InputPriceData!E$15,CalculationsAndCharts!$A259+$A$11,IF($C$7,7,0),1,1)","v":43.33},{"$f":"OFFSET(InputPriceData!F$15,CalculationsAndCharts!$A259+$A$11,IF($C$7,7,0),1,1)","v":44.13},{"$error":"#N/A"},{"$error":"#N/A"},{"$error":"#N/A"},44.187176473658837,44.187176473658837,-1.1456198591745301,-1.867936802562264,1.4437403792955537,-2.2959962754169689,0.11446246417252348,7.421603644784119E-3,null,50,42.94,0.16855524079320178,{"$error":"#N/A"},0.2,0.8,{"$error":"#N/A"},{"$error":"#N/A"},{"$error":"#N/A"},{"$error":"#N/A"},false,false,true,false,false,{"$error":"#N/A"},{"$error":"#N/A"},{"$error":"#N/A"},{"$error":"#N/A"},false,false,false,false,false,{"$error":"#N/A"},{"$error":"#N/A"},{"$error":"#N/A"},{"$error":"#N/A"}]
[228,{"$f":"OFFSET(InputPriceData!B$15,CalculationsAndCharts!$A260+$A$11,0,1,1)","v":"2012-12-14"},{"$f":"OFFSET(InputPriceData!G$15,CalculationsAndCharts!$A260+$A$11,0,1,1)","v":3904200},{"$f":"OFFSET(InputPriceData!C$15,CalculationsAndCharts!$A260+$A$11,IF($C$7,7,0),1,1)","v":44.9},{"$f":"OFFSET(InputPriceData!D$15,CalculationsAndCharts!$A260+$A$11,IF($C$7,7,0),1,1)","v":44.96},{"$f":"OFFSET(InputPriceData!E$15,CalculationsAndCharts!$A260+$A$11,IF($C$7,7,0),1,1)","v":43.82},{"$f":"OFFSET(InputPriceData!F$15,CalculationsAndCharts!$A260+$A$11,IF($C$7,7,0),1,1)","v":43.83},{"$error":"#N/A"},{"$error":"#N/A"},{"$error":"#N/A"},44.417260980633358,44.417260980633358,-1.8466060388117687,-2.1012212298575319,1.4437403792955537,-2.2959962754169689,5.2082556485360219E-2,-2.5088733825731707E-2,null,50,42.94,0.12606232294617567,{"$error":"#N/A"},0.2,0.8,{"$error":"#N/A"},{"$error":"#N/A"},{"$error":"#N/A"},{"$error":"#N/A"},false,false,true,false,false,{"$error":"#N/A"},{"$error":"#N/A"},{"$error":"#N/A"},{"$error":"#N/A"},false,false,false,false,false,{"$error":"#N/A"},{"$error":"#N/A"},{"$error":"#N/A"},{"$error":"#N/A"}]
[229,{"$f":"OFFSET(InputPriceData!B$15,CalculationsAndCharts!$A261+$A$11,0,1,1)","v":"2012-12-13"},{"$f":"OFFSET(InputPriceData!G$15,CalculationsAndCharts!$A261+$A$11,0,1,1)","v":10397300},{"$f":"OFFSET(InputPriceData!C$15,CalculationsAndCharts!$A261+$A$11,IF($C$7,7,0),1,1)","v":44.32},{"$f":"OFFSET(InputPriceData!D$15,CalculationsAndCharts!$A261+$A$11,IF($C$7,7,0),1,1)","v":45.28},{"$f":"OFFSET(InputPriceData!E$15,CalculationsAndCharts!$A261+$A$11,IF($C$7,7,0),1,1)","v":44.28},{"$f":"OFFSET(InputPriceData!F$15,CalculationsAndCharts!$A261+$A$11,IF($C$7,7,0),1,1)","v":44.95},{"$error":"#N/A"},{"$error":"#N/A"},{"$error":"#N/A"},44.707558756863122,44.707558756863122,-1.1116905121609451,-2.2959962754169689,1.4437403792955537,-2.2959962754169689,0,-3.7440646558667995E-2,null,50,42.94,0.28470254957507146,{"$error":"#N/A"},0.2,0.8,{"$error":"#N/A"},{"$error":"#N/A"},{"$error":"#N/A"},{"$error":"#N/A"},false,false,true,false,false,{"$error":"#N/A"},{"$error":"#N/A"},{"$error":"#N/A"},{"$error":"#N/A"},false,false,false,false,false,{"$error":"#N/A"},{"$error":"#N/A"},{"$error":"#N/A"},{"$error":"#N/A"}]
[230,{"$f":"OFFSET(InputPriceData!B$15,CalculationsAndCharts!$A262+$A$11,0,1,1)","v":"2012-12-12"},{"$f":"OFFSET(InputPriceData!G$15,CalculationsAndCharts!$A262+$A$11,0,1,1)","v":17707500},{"$f":"OFFSET(InputPriceData!C$15,CalculationsAndCharts!$A262+$A$11,IF($C$7,7,0),1,1)","v":42.75},{"$f":"OFFSET(InputPriceData!D$15,CalculationsAndCharts!$A262+$A$11,IF($C$7,7,0),1,1)","v":44.51},{"$f":"OFFSET(InputPriceData!E$15,CalculationsAndCharts!$A262+$A$11,IF($C$7,7,0),1,1)","v":42.25},{"$f":"OFFSET(InputPriceData!F$15,CalculationsAndCharts!$A262+$A$11,IF($C$7,7,0),1,1)","v":44.39},{"$error":"#N/A"},{"$error":"#N/A"},{"$error":"#N/A"},45.217926919646466,45.217926919646466,-2.0637311663455091,-2.266825284266373,1.4437403792955537,-2.266825284266373,0,-2.8401915860691129E-2,null,50,42.94,0.20538243626062355,{"$error":"#N/A"},0.2,0.8,{"$error":"#N/A"},{"$error":"#N/A"},{"$error":"#N/A"},{"$error":"#N/A"},false,false,true,false,{"$f":"AND(AG263,AF263)","v":false},{"$error":"#N/A"},{"$error":"#N/A"},{"$error":"#N/A"},{"$error":"#N/A"},false,{"$f":"AND(AM263,NOT(AO263))","v":false},false,false,false,{"$error":"#N/A"},{"$error":"#N/A"},{"$error":"#N/A"},{"$error":"#N/A"}]
[231,{"$f":"OFFSET(InputPriceData!B$15,CalculationsAndCharts!$A263+$A$11,0,1,1)","v":"2012-12-11"},{"$f":"OFFSET(InputPriceData!G$15,CalculationsAndCharts!$A263+$A$11,0,1,1)","v":28375200},{"$f":"OFFSET(InputPriceData!C$15,CalculationsAndCharts!$A263+$A$11,IF($C$7,7,0),1,1)","v":45.65},{"$f":"OFFSET(InputPriceData!D$15,CalculationsAndCharts!$A263+$A$11,IF($C$7,7,0),1,1)","v":45.9},{"$f":"OFFSET(InputPriceData!E$15,CalculationsAndCharts!$A263+$A$11,IF($C$7,7,0),1,1)","v":42.77},{"$f":"OFFSET(InputPriceData!F$15,CalculationsAndCharts!$A263+$A$11,IF($C$7,7,0),1,1)","v":42.94},{"$error":"#N/A"},{"$error":"#N/A"},{"$error":"#N/A"},46.121578809150293,46.121578809150293,-4.1687168684755038,-1.7779349214974949,1.4437403792955537,-1.7779349214974949,0,1.1054453669339048E-2,null,50,42.94,0,{"$error":"#N/A"},0.2,0.8,45.65,{"$error":"#N/A"},{"$error":"#N/A"},{"$error":"#N/A"},false,true,true,false,false,45.65,{"$error":"#N/A"},45.65,{"$error":"#N/A"},false,false,false,false,{"$f":"AND(AP264,AO264)","v":true},{"$error":"#N/A"},45.65,{"$error":"#N/A"},45.65]
[232,{"$f":"OFFSET(InputPriceData!B$15,CalculationsAndCharts!$A264+$A$11,0,1,1)","v":"2012-12-10"},{"$f":"OFFSET(InputPriceData!G$15,CalculationsAndCharts!$A264+$A$11,0,1,1)","v":5670900},{"$f":"OFFSET(InputPriceData!C$15,CalculationsAndCharts!$A264+$A$11,IF($C$7,7,0),1,1)","v":46.8},{"$f":"OFFSET(InputPriceData!D$15,CalculationsAndCharts!$A264+$A$11,IF($C$7,7,0),1,1)","v":46.9},{"$f":"OFFSET(InputPriceData!E$15,CalculationsAndCharts!$A264+$A$11,IF($C$7,7,0),1,1)","v":46.28},{"$f":"OFFSET(InputPriceData!F$15,CalculationsAndCharts!$A264+$A$11,IF($C$7,7,0),1,1)","v":46.57},{"$error":"#N/A"},{"$error":"#N/A"},{"$error":"#N/A"},46.80674288259749,46.80674288259749,-1.0777774606728108,-1.4129368577446557,1.4437403792955537,-1.4129368577446557,0,0.10018267507920625,null,50,46.43,3.9215686274509963E-2,{"$error":"#N/A"},0.2,0.8,{"$error":"#N/A"},{"$error":"#N/A"},0.10018267507920625,{"$error":"#N/A"},true,false,false,false,false,{"$error":"#N/A"},{"$error":"#N/A"},{"$error":"#N/A"},{"$error":"#N/A"},false,false,true,true,false,{"$error":"#N/A"},{"$error":"#N/A"},{"$error":"#N/A"},{"$error":"#N/A"}]
[233,{"$f":"OFFSET(InputPriceData!B$15,CalculationsAndCharts!$A265+$A$11,0,1,1)","v":"2012-12-07"},{"$f":"OFFSET(InputPriceData!G$15,CalculationsAndCharts!$A265+$A$11,0,1,1)","v":3985000},{"$f":"OFFSET(InputPriceData!C$15,CalculationsAndCharts!$A265+$A$11,IF($C$7,7,0),1,1)","v":46.56},{"$f":"OFFSET(InputPriceData!D$15,CalculationsAndCharts!$A265+$A$11,IF($C$7,7,0),1,1)","v":47.01},{"$f":"OFFSET(InputPriceData!E$15,CalculationsAndCharts!$A265+$A$11,IF($C$7,7,0),1,1)","v":46.43},{"$f":"OFFSET(InputPriceData!F$15,CalculationsAndCharts!$A265+$A$11,IF($C$7,7,0),1,1)","v":46.8},{"$error":"#N/A"},{"$error":"#N/A"},{"$error":"#N/A"},47.209848422328406,47.209848422328406,-1.085396803248974,-1.2703973686114189,1.4437403792955537,-1.2703973686114189,0,0.25522534939160063,null,50,46.43,0.10364145658263232,{"$error":"#N/A"},0.2,0.8,{"$error":"#N/A"},{"$error":"#N/A"},{"$error":"#N/A"},{"$error":"#N/A"},false,false,false,false,false,{"$error":"#N/A"},{"$error":"#N/A"},{"$error":"#N/A"},{"$error":"#N/A"},false,false,true,false,false,{"$error":"#N/A"},{"$error":"#N/A"},{"$error":"#N/A"},{"$error":"#N/A"}]
[234,{"$f":"OFFSET(InputPriceData!B$15,CalculationsAndCharts!$A266+$A$11,0,1,1)","v":"2012-12-06"},{"$f":"OFFSET(InputPriceData!G$15,CalculationsAndCharts!$A266+$A$11,0,1,1)","v":5114300},{"$f":"OFFSET(InputPriceData!C$15,CalculationsAndCharts!$A266+$A$11,IF($C$7,7,0),1,1)","v":46.58},{"$f":"OFFSET(InputPriceData!D$15,CalculationsAndCharts!$A266+$A$11,IF($C$7,7,0),1,1)","v":46.6},{"$f":"OFFSET(InputPriceData!E$15,CalculationsAndCharts!$A266+$A$11,IF($C$7,7,0),1,1)","v":45.78},{"$f":"OFFSET(InputPriceData!F$15,CalculationsAndCharts!$A266+$A$11,IF($C$7,7,0),1,1)","v":46.43},{"$error":"#N/A"},{"$error":"#N/A"},{"$error":"#N/A"},47.86691246473498,47.86691246473498,-1.7440122403487337,-0.80763111010857824,1.4437403792955537,-0.80763111010857824,0,0.47510620675267046,null,50,46.43,0,{"$error":"#N/A"},0.2,0.8,{"$error":"#N/A"},{"$error":"#N/A"},{"$error":"#N/A"},{"$error":"#N/A"},false,false,false,false,false,{"$error":"#N/A"},{"$error":"#N/A"},{"$error":"#N/A"},{"$error":"#N/A"},false,false,true,false,false,{"$error":"#N/A"},{"$error":"#N/A"},{"$error":"#N/A"},{"$error":"#N/A"}]
[235,{"$f":"OFFSET(InputPriceData!B$15,CalculationsAndCharts!$A267+$A$11,0,1,1)","v":"2012-12-05"},{"$f":"OFFSET(InputPriceData!G$15,CalculationsAndCharts!$A267+$A$11,0,1,1)","v":5788400},{"$f":"OFFSET(InputPriceData!C$15,CalculationsAndCharts!$A267+$A$11,IF($C$7,7,0),1,1)","v":48.08},{"$f":"OFFSET(InputPriceData!D$15,CalculationsAndCharts!$A267+$A$11,IF($C$7,7,0),1,1)","v":48.24},{"$f":"OFFSET(InputPriceData!E$15,CalculationsAndCharts!$A267+$A$11,IF($C$7,7,0),1,1)","v":46.56},{"$f":"OFFSET(InputPriceData!F$15,CalculationsAndCharts!$A267+$A$11,IF($C$7,7,0),1,1)","v":46.6},{"$error":"#N/A"},{"$error":"#N/A"},{"$error":"#N/A"},48.693958671002179,48.693958671002179,-1.9265952173604937,-5.6117661477803837E-2,1.4437403792955537,-0.22824746355795411,0.10294919476590449,0.71730334938066775,null,50,46.6,0,{"$error":"#N/A"},0.2,0.8,{"$error":"#N/A"},{"$error":"#N/A"},{"$error":"#N/A"},{"$error":"#N/A"},false,false,false,false,false,{"$error":"#N/A"},{"$error":"#N/A"},{"$error":"#N/A"},{"$error":"#N/A"},false,false,true,false,false,{"$error":"#N/A"},{"$error":"#N/A"},{"$error":"#N/A"},{"$error":"#N/A"}]
[236,{"$f":"OFFSET(InputPriceData!B$15,CalculationsAndCharts!$A268+$A$11,0,1,1)","v":"2012-12-04"},{"$f":"OFFSET(InputPriceData!G$15,CalculationsAndCharts!$A268+$A$11,0,1,1)","v":5949500},{"$f":"OFFSET(InputPriceData!C$15,CalculationsAndCharts!$A268+$A$11,IF($C$7,7,0),1,1)","v":48.65},{"$f":"OFFSET(InputPriceData!D$15,CalculationsAndCharts!$A268+$A$11,IF($C$7,7,0),1,1)","v":48.65},{"$f":"OFFSET(InputPriceData!E$15,CalculationsAndCharts!$A268+$A$11,IF($C$7,7,0),1,1)","v":47.4},{"$f":"OFFSET(InputPriceData!F$15,CalculationsAndCharts!$A268+$A$11,IF($C$7,7,0),1,1)","v":47.94},{"$error":"#N/A"},{"$error":"#N/A"},{"$error":"#N/A"},49.363731742993387,49.363731742993387,-0.84181701863801073,0.67605265970663553,1.4437403792955537,-0.22824746355795411,0.54085328857491011,0.89637736986232142,null,50,46.6,0.39411764705882263,{"$error":"#N/A"},0.2,0.8,{"$error":"#N/A"},{"$error":"#N/A"},{"$error":"#N/A"},{"$error":"#N/A"},false,false,false,false,false,{"$error":"#N/A"},{"$error":"#N/A"},{"$error":"#N/A"},{"$error":"#N/A"},false,false,true,false,false,{"$error":"#N/A"},{"$error":"#N/A"},{"$error":"#N/A"},{"$error":"#N/A"}]
[237,{"$f":"OFFSET(InputPriceData!B$15,CalculationsAndCharts!$A269+$A$11,0,1,1)","v":"2012-12-03"},{"$f":"OFFSET(InputPriceData!G$15,CalculationsAndCharts!$A269+$A$11,0,1,1)","v":8317400},{"$f":"OFFSET(InputPriceData!C$15,CalculationsAndCharts!$A269+$A$11,IF($C$7,7,0),1,1)","v":50.04},{"$f":"OFFSET(InputPriceData!D$15,CalculationsAndCharts!$A269+$A$11,IF($C$7,7,0),1,1)","v":50.24},{"$f":"OFFSET(InputPriceData!E$15,CalculationsAndCharts!$A269+$A$11,IF($C$7,7,0),1,1)","v":48.72},{"$f":"OFFSET(InputPriceData!F$15,CalculationsAndCharts!$A269+$A$11,IF($C$7,7,0),1,1)","v":48.76},{"$error":"#N/A"},{"$error":"#N/A"},{"$error":"#N/A"},49.703574215097859,49.703574215097859,-9.9910013666563158E-2,1.1882050992937927,1.4437403792955537,-0.22824746355795411,0.84716678348231877,0.97820137953828734,null,50,46.6,0.63529411764705812,{"$error":"#N/A"},0.2,0.8,{"$error":"#N/A"},{"$error":"#N/A"},{"$error":"#N/A"},{"$error":"#N/A"},false,false,false,false,false,{"$error":"#N/A"},{"$error":"#N/A"},{"$error":"#N/A"},{"$error":"#N/A"},false,false,true,false,false,{"$error":"#N/A"},{"$error":"#N/A"},{"$error":"#N/A"},{"$error":"#N/A"}]
[238,{"$f":"OFFSET(InputPriceData!B$15,CalculationsAndCharts!$A270+$A$11,0,1,1)","v":"2012-11-30"},{"$f":"OFFSET(InputPriceData!G$15,CalculationsAndCharts!$A270+$A$11,0,1,1)","v":66137200},{"$f":"OFFSET(InputPriceData!C$15,CalculationsAndCharts!$A270+$A$11,IF($C$7,7,0),1,1)","v":50.68},{"$f":"OFFSET(InputPriceData!D$15,CalculationsAndCharts!$A270+$A$11,IF($C$7,7,0),1,1)","v":50.8},{"$f":"OFFSET(InputPriceData!E$15,CalculationsAndCharts!$A270+$A$11,IF($C$7,7,0),1,1)","v":49.77},{"$f":"OFFSET(InputPriceData!F$15,CalculationsAndCharts!$A270+$A$11,IF($C$7,7,0),1,1)","v":50},{"$error":"#N/A"},{"$error":"#N/A"},{"$error":"#N/A"},49.696779168611386,49.696779168611386,1.255802951106779,1.4123350873025098,1.4437403792955537,-0.22824746355795411,0.98121679405309203,1.0022356002558792,null,50,46.6,1,{"$error":"#N/A"},0.2,0.8,{"$error":"#N/A"},{"$error":"#N/A"},{"$error":"#N/A"},{"$error":"#N/A"},false,false,false,false,false,{"$error":"#N/A"},{"$error":"#N/A"},{"$error":"#N/A"},{"$error":"#N/A"},false,false,true,false,false,{"$error":"#N/A"},{"$error":"#N/A"},{"$error":"#N/A"},{"$error":"#N/A"}]
[239,{"$f":"OFFSET(InputPriceData!B$15,CalculationsAndCharts!$A271+$A$11,0,1,1)","v":"2012-11-29"},{"$f":"OFFSET(InputPriceData!G$15,CalculationsAndCharts!$A271+$A$11,0,1,1)","v":11412300},{"$f":"OFFSET(InputPriceData!C$15,CalculationsAndCharts!$A271+$A$11,IF($C$7,7,0),1,1)","v":49.71},{"$f":"OFFSET(InputPriceData!D$15,CalculationsAndCharts!$A271+$A$11,IF($C$7,7,0),1,1)","v":50.34},{"$f":"OFFSET(InputPriceData!E$15,CalculationsAndCharts!$A271+$A$11,IF($C$7,7,0),1,1)","v":49.62},{"$f":"OFFSET(InputPriceData!F$15,CalculationsAndCharts!$A271+$A$11,IF($C$7,7,0),1,1)","v":49.86},{"$error":"#N/A"},{"$error":"#N/A"},{"$error":"#N/A"},49.485294116506466,49.485294116506466,1.3584980276654977,1.4437403792955537,1.4437403792955537,-0.22824746355795411,1,1.0064837185358917,null,49.86,46.6,1,{"$error":"#N/A"},0.2,0.8,{"$error":"#N/A"},{"$error":"#N/A"},{"$error":"#N/A"},{"$error":"#N/A"},false,false,false,false,false,{"$error":"#N/A"},{"$error":"#N/A"},{"$error":"#N/A"},{"$error":"#N/A"},false,false,true,false,false,{"$error":"#N/A"},{"$error":"#N/A"},{"$error":"#N/A"},{"$error":"#N/A"}]
[240,{"$f":"OFFSET(InputPriceData!B$15,CalculationsAndCharts!$A272+$A$11,0,1,1)","v":"2012-11-28"},{"$f":"OFFSET(InputPriceData!G$15,CalculationsAndCharts!$A272+$A$11,0,1,1)","v":4484200},{"$f":"OFFSET(InputPriceData!C$15,CalculationsAndCharts!$A272+$A$11,IF($C$7,7,0),1,1)","v":49.51},{"$f":"OFFSET(InputPriceData!D$15,CalculationsAndCharts!$A272+$A$11,IF($C$7,7,0),1,1)","v":49.84},{"$f":"OFFSET(InputPriceData!E$15,CalculationsAndCharts!$A272+$A$11,IF($C$7,7,0),1,1)","v":49.3},{"$f":"OFFSET(InputPriceData!F$15,CalculationsAndCharts!$A272+$A$11,IF($C$7,7,0),1,1)","v":49.58},{"$error":"#N/A"},{"$error":"#N/A"},{"$error":"#N/A"},49.244799917026398,49.244799917026398,1.3153706141940698,1.4360320318060296,1.4360320318060296,-0.42204870055091803,1,1.0070417493607604,null,49.58,46.6,1,{"$error":"#N/A"},0.2,0.8,{"$error":"#N/A"},{"$error":"#N/A"},{"$error":"#N/A"},{"$error":"#N/A"},false,false,false,false,false,{"$error":"#N/A"},{"$error":"#N/A"},{"$error":"#N/A"},{"$error":"#N/A"},false,false,true,false,false,{"$error":"#N/A"},{"$error":"#N/A"},{"$error":"#N/A"},{"$error":"#N/A"}]
[241,{"$f":"OFFSET(InputPriceData!B$15,CalculationsAndCharts!$A273+$A$11,0,1,1)","v":"2012-11-27"},{"$f":"OFFSET(InputPriceData!G$15,CalculationsAndCharts!$A273+$A$11,0,1,1)","v":10802400},{"$f":"OFFSET(InputPriceData!C$15,CalculationsAndCharts!$A273+$A$11,IF($C$7,7,0),1,1)","v":50.36},{"$f":"OFFSET(InputPriceData!D$15,CalculationsAndCharts!$A273+$A$11,IF($C$7,7,0),1,1)","v":50.55},{"$f":"OFFSET(InputPriceData!E$15,CalculationsAndCharts!$A273+$A$11,IF($C$7,7,0),1,1)","v":49.12},{"$f":"OFFSET(InputPriceData!F$15,CalculationsAndCharts!$A273+$A$11,IF($C$7,7,0),1,1)","v":49.51},{"$error":"#N/A"},{"$f":"IF($A273=$E$25,I$32,NA())","v":{"$error":"#N/A"}},{"$error":"#N/A"},48.952542552750693,48.952542552750693,1.4819442124023887,1.3563000420607416,1.3563000420607416,-0.9518851026224604,1,1.0040646159491449,null,49.51,46.6,1,{"$error":"#N/A"},0.2,0.8,{"$error":"#N/A"},{"$error":"#N/A"},{"$error":"#N/A"},{"$error":"#N/A"},false,false,false,false,false,{"$error":"#N/A"},{"$error":"#N/A"},{"$error":"#N/A"},{"$error":"#N/A"},false,false,true,false,false,{"$error":"#N/A"},{"$error":"#N/A"},{"$error":"#N/A"},{"$error":"#N/A"}]
[242,{"$f":"OFFSET(InputPriceData!B$15,CalculationsAndCharts!$A274+$A$11,0,1,1)","v":"2012-11-26"},{"$f":"OFFSET(InputPriceData!G$15,CalculationsAndCharts!$A274+$A$11,0,1,1)","v":4008800},{"$f":"OFFSET(InputPriceData!C$15,CalculationsAndCharts!$A274+$A$11,IF($C$7,7,0),1,1)","v":49.31},{"$f":"OFFSET(InputPriceData!D$15,CalculationsAndCharts!$A274+$A$11,IF($C$7,7,0),1,1)","v":49.45},{"$f":"OFFSET(InputPriceData!E$15,CalculationsAndCharts!$A274+$A$11,IF($C$7,7,0),1,1)","v":48.61},{"$f":"OFFSET(InputPriceData!F$15,CalculationsAndCharts!$A274+$A$11,IF($C$7,7,0),1,1)","v":49.31},{"$error":"#N/A"},{"$error":"#N/A"},{"$error":"#N/A"},48.606598328961695,48.606598328961695,1.5255346031932757,1.1885137855757626,1.1885137855757626,-1.3602777025012491,1,0.99432460199492667,null,49.41,46.6,0.96441281138790236,{"$error":"#N/A"},0.2,0.8,{"$error":"#N/A"},{"$error":"#N/A"},{"$error":"#N/A"},{"$error":"#N/A"},false,false,false,false,false,{"$error":"#N/A"},{"$error":"#N/A"},{"$error":"#N/A"},{"$error":"#N/A"},false,false,true,false,false,{"$error":"#N/A"},{"$error":"#N/A"},{"$error":"#N/A"},{"$error":"#N/A"}]
[243,{"$f":"OFFSET(InputPriceData!B$15,CalculationsAndCharts!$A275+$A$11,0,1,1)","v":"2012-11-23"},{"$f":"OFFSET(InputPriceData!G$15,CalculationsAndCharts!$A275+$A$11,0,1,1)","v":1407100},{"$f":"OFFSET(InputPriceData!C$15,CalculationsAndCharts!$A275+$A$11,IF($C$7,7,0),1,1)","v":48.1},{"$f":"OFFSET(InputPriceData!D$15,CalculationsAndCharts!$A275+$A$11,IF($C$7,7,0),1,1)","v":49.47},{"$f":"OFFSET(InputPriceData!E$15,CalculationsAndCharts!$A275+$A$11,IF($C$7,7,0),1,1)","v":47.94},{"$f":"OFFSET(InputPriceData!F$15,CalculationsAndCharts!$A275+$A$11,IF($C$7,7,0),1,1)","v":49.41},{"$error":"#N/A"},{"$error":"#N/A"},{"$error":"#N/A"},48.259950339773141,48.259950339773141,1.8934560183267077,0.97457657065220604,0.97457657065220604,-1.6944111136996169,1,0.97413630180964161,null,49.41,46.6,1,{"$error":"#N/A"},0.2,0.8,{"$error":"#N/A"},{"$error":"#N/A"},{"$error":"#N/A"},{"$error":"#N/A"},false,false,false,false,false,{"$error":"#N/A"},{"$error":"#N/A"},{"$error":"#N/A"},{"$error":"#N/A"},false,false,true,false,false,{"$error":"#N/A"},{"$error":"#N/A"},{"$error":"#N/A"},{"$error":"#N/A"}]
[244,{"$f":"OFFSET(InputPriceData!B$15,CalculationsAndCharts!$A276+$A$11,0,1,1)","v":"2012-11-21"},{"$f":"OFFSET(InputPriceData!G$15,CalculationsAndCharts!$A276+$A$11,0,1,1)","v":1617000},{"$f":"OFFSET(InputPriceData!C$15,CalculationsAndCharts!$A276+$A$11,IF($C$7,7,0),1,1)","v":47.47},{"$f":"OFFSET(InputPriceData!D$15,CalculationsAndCharts!$A276+$A$11,IF($C$7,7,0),1,1)","v":48.06},{"$f":"OFFSET(InputPriceData!E$15,CalculationsAndCharts!$A276+$A$11,IF($C$7,7,0),1,1)","v":47.42},{"$f":"OFFSET(InputPriceData!F$15,CalculationsAndCharts!$A276+$A$11,IF($C$7,7,0),1,1)","v":48},{"$error":"#N/A"},{"$error":"#N/A"},{"$error":"#N/A"},48.094165379743998,48.094165379743998,0.65825396965717009,0.90673390731238901,0.96896367895661506,-1.9013364711978222,0.97831942013420536,0.9409697214112025,null,48.7,46.6,0.66666666666666552,{"$error":"#N/A"},0.2,0.8,{"$error":"#N/A"},{"$error":"#N/A"},{"$error":"#N/A"},{"$error":"#N/A"},false,false,false,false,false,{"$error":"#N/A"},{"$error":"#N/A"},{"$error":"#N/A"},{"$error":"#N/A"},false,false,true,false,false,{"$error":"#N/A"},{"$error":"#N/A"},{"$error":"#N/A"},{"$error":"#N/A"}]
[245,{"$f":"OFFSET(InputPriceData!B$15,CalculationsAndCharts!$A277+$A$11,0,1,1)","v":"2012-11-20"},{"$f":"OFFSET(InputPriceData!G$15,CalculationsAndCharts!$A277+$A$11,0,1,1)","v":3612400},{"$f":"OFFSET(InputPriceData!C$15,CalculationsAndCharts!$A277+$A$11,IF($C$7,7,0),1,1)","v":48.43},{"$f":"OFFSET(InputPriceData!D$15,CalculationsAndCharts!$A277+$A$11,IF($C$7,7,0),1,1)","v":48.57},{"$f":"OFFSET(InputPriceData!E$15,CalculationsAndCharts!$A277+$A$11,IF($C$7,7,0),1,1)","v":47.35},{"$f":"OFFSET(InputPriceData!F$15,CalculationsAndCharts!$A277+$A$11,IF($C$7,7,0),1,1)","v":47.59},{"$error":"#N/A"},{"$error":"#N/A"},{"$error":"#N/A"},48.067028658677543,48.067028658677543,0.26476452737946121,0.96896367895661506,0.96896367895661506,-1.9047915944894172,1,0.88998943209438175,null,48.7,46.6,0.47142857142857203,{"$error":"#N/A"},0.2,0.8,{"$error":"#N/A"},{"$error":"#N/A"},{"$error":"#N/A"},{"$error":"#N/A"},false,false,false,false,false,{"$error":"#N/A"},{"$error":"#N/A"},{"$error":"#N/A"},{"$error":"#N/A"},false,false,true,false,false,{"$error":"#N/A"},{"$error":"#N/A"},{"$error":"#N/A"},{"$error":"#N/A"}]
[246,{"$f":"OFFSET(InputPriceData!B$15,CalculationsAndCharts!$A278+$A$11,0,1,1)","v":"2012-11-19"},{"$f":"OFFSET(InputPriceData!G$15,CalculationsAndCharts!$A278+$A$11,0,1,1)","v":2406600},{"$f":"OFFSET(InputPriceData!C$15,CalculationsAndCharts!$A278+$A$11,IF($C$7,7,0),1,1)","v":48.7},{"$f":"OFFSET(InputPriceData!D$15,CalculationsAndCharts!$A278+$A$11,IF($C$7,7,0),1,1)","v":48.95},{"$f":"OFFSET(InputPriceData!E$15,CalculationsAndCharts!$A278+$A$11,IF($C$7,7,0),1,1)","v":48.31},{"$f":"OFFSET(InputPriceData!F$15,CalculationsAndCharts!$A278+$A$11,IF($C$7,7,0),1,1)","v":48.47},{"$error":"#N/A"},{"$error":"#N/A"},{"$error":"#N/A"},47.833628144192204,47.833628144192204,1.2069567184410528,0.80794882842354654,0.80794882842354654,-1.9047915944894172,1,0.82707418108699637,null,48.7,46.6,0.89047619047618864,{"$error":"#N/A"},0.2,0.8,{"$error":"#N/A"},{"$error":"#N/A"},{"$error":"#N/A"},{"$error":"#N/A"},false,false,false,false,false,{"$error":"#N/A"},{"$error":"#N/A"},{"$error":"#N/A"},{"$error":"#N/A"},true,false,true,false,false,{"$error":"#N/A"},{"$error":"#N/A"},{"$error":"#N/A"},{"$error":"#N/A"}]
[247,{"$f":"OFFSET(InputPriceData!B$15,CalculationsAndCharts!$A279+$A$11,0,1,1)","v":"2012-11-16"},{"$f":"OFFSET(InputPriceData!G$15,CalculationsAndCharts!$A279+$A$11,0,1,1)","v":4520600},{"$f":"OFFSET(InputPriceData!C$15,CalculationsAndCharts!$A279+$A$11,IF($C$7,7,0),1,1)","v":47.82},{"$f":"OFFSET(InputPriceData!D$15,CalculationsAndCharts!$A279+$A$11,IF($C$7,7,0),1,1)","v":48.81},{"$f":"OFFSET(InputPriceData!E$15,CalculationsAndCharts!$A279+$A$11,IF($C$7,7,0),1,1)","v":47.81},{"$f":"OFFSET(InputPriceData!F$15,CalculationsAndCharts!$A279+$A$11,IF($C$7,7,0),1,1)","v":48.7},{"$error":"#N/A"},{"$error":"#N/A"},{"$error":"#N/A"},47.387011103605964,47.387011103605964,1.6149894884175089,0.37210013138758113,0.4966791645199744,-1.9047915944894172,0.94812386006990901,0.78053437994162234,null,48.7,46.6,1,{"$error":"#N/A"},0.2,0.8,{"$error":"#N/A"},{"$error":"#N/A"},{"$error":"#N/A"},{"$error":"#N/A"},false,false,false,false,false,{"$error":"#N/A"},{"$error":"#N/A"},{"$error":"#N/A"},{"$error":"#N/A"},false,false,true,false,false,{"$error":"#N/A"},{"$error":"#N/A"},{"$error":"#N/A"},{"$error":"#N/A"}]
[248,{"$f":"OFFSET(InputPriceData!B$15,CalculationsAndCharts!$A280+$A$11,0,1,1)","v":"2012-11-15"},{"$f":"OFFSET(InputPriceData!G$15,CalculationsAndCharts!$A280+$A$11,0,1,1)","v":4318300},{"$f":"OFFSET(InputPriceData!C$15,CalculationsAndCharts!$A280+$A$11,IF($C$7,7,0),1,1)","v":47.4},{"$f":"OFFSET(InputPriceData!D$15,CalculationsAndCharts!$A280+$A$11,IF($C$7,7,0),1,1)","v":48.1},{"$f":"OFFSET(InputPriceData!E$15,CalculationsAndCharts!$A280+$A$11,IF($C$7,7,0),1,1)","v":47.25},{"$f":"OFFSET(InputPriceData!F$15,CalculationsAndCharts!$A280+$A$11,IF($C$7,7,0),1,1)","v":47.96},{"$error":"#N/A"},{"$error":"#N/A"},{"$error":"#N/A"},47.038445008759311,47.038445008759311,1.0244052622652748,-4.8213512884278678E-2,0.4966791645199744,-1.9047915944894172,0.773100432158074,0.7864883118654753,null,48.62,46.6,0.67326732673267431,{"$error":"#N/A"},0.2,0.8,{"$error":"#N/A"},{"$error":"#N/A"},{"$error":"#N/A"},{"$error":"#N/A"},false,false,false,false,false,{"$error":"#N/A"},{"$error":"#N/A"},{"$error":"#N/A"},{"$error":"#N/A"},false,false,true,false,false,{"$error":"#N/A"},{"$error":"#N/A"},{"$error":"#N/A"},{"$error":"#N/A"}]
[249,{"$f":"OFFSET(InputPriceData!B$15,CalculationsAndCharts!$A281+$A$11,0,1,1)","v":"2012-11-14"},{"$f":"OFFSET(InputPriceData!G$15,CalculationsAndCharts!$A281+$A$11,0,1,1)","v":3427300},{"$f":"OFFSET(InputPriceData!C$15,CalculationsAndCharts!$A281+$A$11,IF($C$7,7,0),1,1)","v":46.93},{"$f":"OFFSET(InputPriceData!D$15,CalculationsAndCharts!$A281+$A$11,IF($C$7,7,0),1,1)","v":47.73},{"$f":"OFFSET(InputPriceData!E$15,CalculationsAndCharts!$A281+$A$11,IF($C$7,7,0),1,1)","v":46.81},{"$f":"OFFSET(InputPriceData!F$15,CalculationsAndCharts!$A281+$A$11,IF($C$7,7,0),1,1)","v":47.18},{"$error":"#N/A"},{"$error":"#N/A"},{"$error":"#N/A"},46.985859807648097,46.985859807648097,0.25991079102407205,-0.22824746355795411,0.4966791645199744,-1.9047915944894172,0.69813222777821315,0.84658437420082366,null,50.29,46.6,0.15718157181571779,{"$error":"#N/A"},0.2,0.8,{"$error":"#N/A"},{"$error":"#N/A"},{"$error":"#N/A"},{"$error":"#N/A"},false,false,false,false,false,{"$error":"#N/A"},{"$error":"#N/A"},{"$error":"#N/A"},{"$error":"#N/A"},false,false,true,false,false,{"$error":"#N/A"},{"$error":"#N/A"},{"$error":"#N/A"},{"$error":"#N/A"}]
[250,{"$f":"OFFSET(InputPriceData!B$15,CalculationsAndCharts!$A282+$A$11,0,1,1)","v":"2012-11-13"},{"$f":"OFFSET(InputPriceData!G$15,CalculationsAndCharts!$A282+$A$11,0,1,1)","v":3472400},{"$f":"OFFSET(InputPriceData!C$15,CalculationsAndCharts!$A282+$A$11,IF($C$7,7,0),1,1)","v":46.73},{"$f":"OFFSET(InputPriceData!D$15,CalculationsAndCharts!$A282+$A$11,IF($C$7,7,0),1,1)","v":47.47},{"$f":"OFFSET(InputPriceData!E$15,CalculationsAndCharts!$A282+$A$11,IF($C$7,7,0),1,1)","v":46.45},{"$f":"OFFSET(InputPriceData!F$15,CalculationsAndCharts!$A282+$A$11,IF($C$7,7,0),1,1)","v":46.6},{"$error":"#N/A"},{"$error":"#N/A"},{"$error":"#N/A"},47.217520666426012,47.217520666426012,-0.44282915464086048,-0.13027355144613714,0.4966791645199744,-1.9047915944894172,0.73892968981028528,0.92440212958699131,null,50.29,46.6,0,{"$error":"#N/A"},0.2,0.8,{"$error":"#N/A"},{"$error":"#N/A"},{"$error":"#N/A"},{"$error":"#N/A"},false,false,false,false,false,{"$error":"#N/A"},{"$error":"#N/A"},{"$error":"#N/A"},{"$error":"#N/A"},false,false,true,false,false,{"$error":"#N/A"},{"$error":"#N/A"},{"$error":"#N/A"},{"$error":"#N/A"}]
[251,{"$f":"OFFSET(InputPriceData!B$15,CalculationsAndCharts!$A283+$A$11,0,1,1)","v":"2012-11-12"},{"$f":"OFFSET(InputPriceData!G$15,CalculationsAndCharts!$A283+$A$11,0,1,1)","v":1644600},{"$f":"OFFSET(InputPriceData!C$15,CalculationsAndCharts!$A283+$A$11,IF($C$7,7,0),1,1)","v":46.83},{"$f":"OFFSET(InputPriceData!D$15,CalculationsAndCharts!$A283+$A$11,IF($C$7,7,0),1,1)","v":46.96},{"$f":"OFFSET(InputPriceData!E$15,CalculationsAndCharts!$A283+$A$11,IF($C$7,7,0),1,1)","v":46.46},{"$f":"OFFSET(InputPriceData!F$15,CalculationsAndCharts!$A283+$A$11,IF($C$7,7,0),1,1)","v":46.71},{"$error":"#N/A"},{"$error":"#N/A"},{"$error":"#N/A"},47.579191545455259,47.579191545455259,-0.52587288240632946,0.13182270775489943,0.4966791645199744,-1.9047915944894172,0.84806958177763581,0.98689850157152725,null,50.29,46.71,0,{"$error":"#N/A"},0.2,0.8,{"$error":"#N/A"},{"$error":"#N/A"},{"$error":"#N/A"},{"$error":"#N/A"},false,false,false,false,false,{"$error":"#N/A"},{"$error":"#N/A"},{"$error":"#N/A"},{"$error":"#N/A"},false,false,true,false,false,{"$error":"#N/A"},{"$error":"#N/A"},{"$error":"#N/A"},{"$error":"#N/A"}]
[252,{"$f":"OFFSET(InputPriceData!B$15,CalculationsAndCharts!$A284+$A$11,0,1,1)","v":"2012-11-09"},{"$f":"OFFSET(InputPriceData!G$15,CalculationsAndCharts!$A284+$A$11,0,1,1)","v":4125300},{"$f":"OFFSET(InputPriceData!C$15,CalculationsAndCharts!$A284+$A$11,IF($C$7,7,0),1,1)","v":47.87},{"$f":"OFFSET(InputPriceData!D$15,CalculationsAndCharts!$A284+$A$11,IF($C$7,7,0),1,1)","v":48.06},{"$f":"OFFSET(InputPriceData!E$15,CalculationsAndCharts!$A284+$A$11,IF($C$7,7,0),1,1)","v":46.87},{"$f":"OFFSET(InputPriceData!F$15,CalculationsAndCharts!$A284+$A$11,IF($C$7,7,0),1,1)","v":46.99},{"$error":"#N/A"},{"$error":"#N/A"},{"$error":"#N/A"},47.889735356757733,47.889735356757733,-0.43395994333842142,0.38983874279835784,0.4966791645199744,-1.9047915944894172,0.95551042155279542,1.0198195836000437,null,50.29,46.95,1.1976047904191375E-2,{"$error":"#N/A"},0.2,0.8,{"$error":"#N/A"},{"$error":"#N/A"},{"$error":"#N/A"},{"$error":"#N/A"},false,{"$f":"AND(AD285,NOT(AF285))","v":false},false,false,false,{"$error":"#N/A"},{"$error":"#N/A"},{"$error":"#N/A"},{"$error":"#N/A"},false,false,true,false,false,{"$error":"#N/A"},{"$error":"#N/A"},{"$error":"#N/A"},{"$error":"#N/A"}]
[253,{"$f":"OFFSET(InputPriceData!B$15,CalculationsAndCharts!$A285+$A$11,0,1,1)","v":"2012-11-08"},{"$f":"OFFSET(InputPriceData!G$15,CalculationsAndCharts!$A285+$A$11,0,1,1)","v":2261800},{"$f":"OFFSET(InputPriceData!C$15,CalculationsAndCharts!$A285+$A$11,IF($C$7,7,0),1,1)","v":47.68},{"$f":"OFFSET(InputPriceData!D$15,CalculationsAndCharts!$A285+$A$11,IF($C$7,7,0),1,1)","v":48.18},{"$f":"OFFSET(InputPriceData!E$15,CalculationsAndCharts!$A285+$A$11,IF($C$7,7,0),1,1)","v":47.68},{"$f":"OFFSET(InputPriceData!F$15,CalculationsAndCharts!$A285+$A$11,IF($C$7,7,0),1,1)","v":48.12},{"$error":"#N/A"},{"$error":"#N/A"},{"$error":"#N/A"},48.004859731598174,48.004859731598174,0.61530968184520352,0.48186587527868757,0.4966791645199744,-1.9047915944894172,0.9938315762597929,1.0272197076741452,null,50.46,46.95,0.33333333333333198,{"$error":"#N/A"},0.2,0.8,{"$error":"#N/A"},{"$error":"#N/A"},{"$error":"#N/A"},{"$error":"#N/A"},false,false,false,false,false,{"$error":"#N/A"},{"$error":"#N/A"},{"$error":"#N/A"},{"$error":"#N/A"},false,false,true,false,false,{"$error":"#N/A"},{"$error":"#N/A"},{"$error":"#N/A"},{"$error":"#N/A"}]
[254,{"$f":"OFFSET(InputPriceData!B$15,CalculationsAndCharts!$A286+$A$11,0,1,1)","v":"2012-11-07"},{"$f":"OFFSET(InputPriceData!G$15,CalculationsAndCharts!$A286+$A$11,0,1,1)","v":2211300},{"$f":"OFFSET(InputPriceData!C$15,CalculationsAndCharts!$A286+$A$11,IF($C$7,7,0),1,1)","v":48.01},{"$f":"OFFSET(InputPriceData!D$15,CalculationsAndCharts!$A286+$A$11,IF($C$7,7,0),1,1)","v":48.28},{"$f":"OFFSET(InputPriceData!E$15,CalculationsAndCharts!$A286+$A$11,IF($C$7,7,0),1,1)","v":47.4},{"$f":"OFFSET(InputPriceData!F$15,CalculationsAndCharts!$A286+$A$11,IF($C$7,7,0),1,1)","v":47.98},{"$error":"#N/A"},{"$error":"#N/A"},{"$error":"#N/A"},48.007896598825127,48.007896598825127,0.47613610005498852,0.46485362902393301,0.4966791645199744,-1.9047915944894172,0.98674748156868275,1.0128704316799455,null,50.46,46.95,0.29344729344729192,{"$error":"#N/A"},0.2,0.8,{"$error":"#N/A"},{"$error":"#N/A"},{"$error":"#N/A"},{"$error":"#N/A"},false,false,false,false,false,{"$error":"#N/A"},{"$error":"#N/A"},{"$error":"#N/A"},{"$error":"#N/A"},false,false,true,false,false,{"$error":"#N/A"},{"$error":"#N/A"},{"$error":"#N/A"},{"$error":"#N/A"}]
[255,{"$f":"OFFSET(InputPriceData!B$15,CalculationsAndCharts!$A287+$A$11,0,1,1)","v":"2012-11-06"},{"$f":"OFFSET(InputPriceData!G$15,CalculationsAndCharts!$A287+$A$11,0,1,1)","v":2254500},{"$f":"OFFSET(InputPriceData!C$15,CalculationsAndCharts!$A287+$A$11,IF($C$7,7,0),1,1)","v":47.89},{"$f":"OFFSET(InputPriceData!D$15,CalculationsAndCharts!$A287+$A$11,IF($C$7,7,0),1,1)","v":48.31},{"$f":"OFFSET(InputPriceData!E$15,CalculationsAndCharts!$A287+$A$11,IF($C$7,7,0),1,1)","v":47.49},{"$f":"OFFSET(InputPriceData!F$15,CalculationsAndCharts!$A287+$A$11,IF($C$7,7,0),1,1)","v":48},{"$error":"#N/A"},{"$error":"#N/A"},{"$error":"#N/A"},48.041193087518423,48.041193087518423,0.48004469883199685,0.47326267518073817,0.4966791645199744,-1.9047915944894172,0.99024910494896234,0.96408491651247574,null,51.05,46.95,0.25609756097560943,{"$error":"#N/A"},0.2,0.8,{"$error":"#N/A"},47.89,{"$error":"#N/A"},{"$error":"#N/A"},false,false,true,false,true,{"$error":"#N/A"},47.89,{"$error":"#N/A"},47.89,false,true,true,false,false,47.89,{"$error":"#N/A"},47.89,{"$error":"#N/A"}]
[256,{"$f":"OFFSET(InputPriceData!B$15,CalculationsAndCharts!$A288+$A$11,0,1,1)","v":"2012-11-05"},{"$f":"OFFSET(InputPriceData!G$15,CalculationsAndCharts!$A288+$A$11,0,1,1)","v":1853400},{"$f":"OFFSET(InputPriceData!C$15,CalculationsAndCharts!$A288+$A$11,IF($C$7,7,0),1,1)","v":47.5},{"$f":"OFFSET(InputPriceData!D$15,CalculationsAndCharts!$A288+$A$11,IF($C$7,7,0),1,1)","v":47.86},{"$f":"OFFSET(InputPriceData!E$15,CalculationsAndCharts!$A288+$A$11,IF($C$7,7,0),1,1)","v":47.38},{"$f":"OFFSET(InputPriceData!F$15,CalculationsAndCharts!$A288+$A$11,IF($C$7,7,0),1,1)","v":47.73},{"$error":"#N/A"},{"$error":"#N/A"},{"$error":"#N/A"},48.090640949173952,48.090640949173952,0.16137711052177106,0.4966791645199744,0.4966791645199744,-1.9047915944894172,1,0.86049623490119109,null,51.69,46.95,0.16455696202531536,{"$error":"#N/A"},0.2,0.8,{"$error":"#N/A"},{"$error":"#N/A"},{"$error":"#N/A"},0.86049623490119109,false,false,true,true,false,{"$error":"#N/A"},{"$error":"#N/A"},{"$error":"#N/A"},{"$error":"#N/A"},true,false,false,false,false,{"$error":"#N/A"},{"$error":"#N/A"},{"$error":"#N/A"},{"$error":"#N/A"}]
[257,{"$f":"OFFSET(InputPriceData!B$15,CalculationsAndCharts!$A289+$A$11,0,1,1)","v":"2012-11-02"},{"$f":"OFFSET(InputPriceData!G$15,CalculationsAndCharts!$A289+$A$11,0,1,1)","v":1885100},{"$f":"OFFSET(InputPriceData!C$15,CalculationsAndCharts!$A289+$A$11,IF($C$7,7,0),1,1)","v":48.46},{"$f":"OFFSET(InputPriceData!D$15,CalculationsAndCharts!$A289+$A$11,IF($C$7,7,0),1,1)","v":48.65},{"$f":"OFFSET(InputPriceData!E$15,CalculationsAndCharts!$A289+$A$11,IF($C$7,7,0),1,1)","v":47.67},{"$f":"OFFSET(InputPriceData!F$15,CalculationsAndCharts!$A289+$A$11,IF($C$7,7,0),1,1)","v":47.77},{"$f":"IF($A289=$E$25,H$32,NA())","v":{"$error":"#N/A"}},{"$error":"#N/A"},{"$error":"#N/A"},{"$f":"$F$16*(G289+G290)/2+$F$17*K290+$F$18*K291","v":48.071993074279696},48.071993074279696,{"$f":"$D$21*(G289 - 2*G290 + G291) + $D$20*M290 - $F$20*M291","v":0.11712629939559094},0.44531164032826298,0.44531164032826298,-1.9047915944894172,{"$f":"IFERROR(IF($A289>$A$8,0,(N289-P289)/(O289-P289)),1)","v":1},{"$f":"IF($A289>$A$8,0,$F$16*(Q289+Q290)/2+$F$17*R290+$F$18*R291)","v":0.69149511303777866},null,{"$f":"MAX(OFFSET(G289,0,0,$A$22,1))","v":52.07},{"$f":"MIN(OFFSET(G289,0,0,$A$22,1))","v":46.95},{"$f":"IFERROR(IF($A289>$A$8,0,(G289-U289)/(T289-U289)),1)","v":0.16015625000000014},{"$error":"#N/A"},0.2,0.8,{"$f":"IF($S$7,AI289,NA())","v":{"$error":"#N/A"}},{"$f":"IF($S$7,AJ289,NA())","v":{"$error":"#N/A"}},{"$f":"IF($S$7,IF(AD289,R289,NA()),NA())","v":{"$error":"#N/A"}},{"$f":"IF($S$7,IF(AG289,R289,NA()),NA())","v":{"$error":"#N/A"}},{"$f":"IF(AND(R290>$X$32,R289<$X$32),TRUE,FALSE)","v":false},false,true,{"$f":"IF(AND(AF289,R290<$Y$32,R289>$Y$32),TRUE,FALSE)","v":false},false,{"$f":"IF(AE289,D289,NA())","v":{"$error":"#N/A"}},{"$f":"IF(AH289,D289,NA())","v":{"$error":"#N/A"}},{"$f":"IF($S$7,AI289,NA())","v":{"$error":"#N/A"}},{"$f":"IF($S$7,AJ289,NA())","v":{"$error":"#N/A"}},{"$f":"IF(AND(R290<$Y$32,R289>$Y$32),TRUE,FALSE)","v":false},false,false,{"$f":"IF(AND(AO290,R290>$X$32,R289<$X$32),TRUE,FALSE)","v":false},false,{"$f":"IF(AN289,D289,NA())","v":{"$error":"#N/A"}},{"$f":"IF(AQ289,D289,NA())","v":{"$error":"#N/A"}},{"$error":"#N/A"},{"$error":"#N/A"}]
[258,{"$f":"OFFSET(InputPriceData!B$15,CalculationsAndCharts!$A290+$A$11,0,1,1)","v":"2012-11-01"},{"$f":"OFFSET(InputPriceData!G$15,CalculationsAndCharts!$A290+$A$11,0,1,1)","v":3580500},{"$f":"OFFSET(InputPriceData!C$15,CalculationsAndCharts!$A290+$A$11,IF($C$7,7,0),1,1)","v":48.4},{"$f":"OFFSET(InputPriceData!D$15,CalculationsAndCharts!$A290+$A$11,IF($C$7,7,0),1,1)","v":48.75},{"$f":"OFFSET(InputPriceData!E$15,CalculationsAndCharts!$A290+$A$11,IF($C$7,7,0),1,1)","v":48.03},{"$f":"OFFSET(InputPriceData!F$15,CalculationsAndCharts!$A290+$A$11,IF($C$7,7,0),1,1)","v":48.5},{"$error":"#N/A"},{"$error":"#N/A"},{"$error":"#N/A"},47.828480856680144,{"$f":"IF($S$5,K290,NA())","v":47.828480856680144},0.82139124179519529,{"$f":"$F$16*(M290+M291)/2+$F$17*N291+$F$18*N292","v":0.13205306567658426},{"$f":"MAX(OFFSET(N290,0,0,$A$22,1))","v":0.13205306567658426},-1.9047915944894172,1,0.47046782551778171,null,52.07,46.95,0.30273437499999961,{"$f":"IF($S$18,V290,NA())","v":{"$error":"#N/A"}},{"$f":"$X$32","v":0.2},{"$f":"$Y$32","v":0.8},{"$error":"#N/A"},{"$error":"#N/A"},{"$error":"#N/A"},{"$error":"#N/A"},false,false,{"$f":"IF(AF291,IF(AH291,FALSE,AF291),IF(AE290,TRUE,AF291))","v":true},false,false,{"$error":"#N/A"},{"$error":"#N/A"},{"$error":"#N/A"},{"$error":"#N/A"},false,false,{"$f":"IF(AO291,IF(AP291,FALSE,AO291),IF(AN290,TRUE,AO291))","v":false},false,false,{"$error":"#N/A"},{"$error":"#N/A"},{"$f":"IF($S$5,AR290,NA())","v":{"$error":"#N/A"}},{"$error":"#N/A"}]
[259,{"$f":"OFFSET(InputPriceData!B$15,CalculationsAndCharts!$A291+$A$11,0,1,1)","v":"2012-10-31"},{"$f":"OFFSET(InputPriceData!G$15,CalculationsAndCharts!$A291+$A$11,0,1,1)","v":4080400},{"$f":"OFFSET(InputPriceData!C$15,CalculationsAndCharts!$A291+$A$11,IF($C$7,7,0),1,1)","v":48.4},{"$f":"OFFSET(InputPriceData!D$15,CalculationsAndCharts!$A291+$A$11,IF($C$7,7,0),1,1)","v":49},{"$f":"OFFSET(InputPriceData!E$15,CalculationsAndCharts!$A291+$A$11,IF($C$7,7,0),1,1)","v":47.92},{"$f":"OFFSET(InputPriceData!F$15,CalculationsAndCharts!$A291+$A$11,IF($C$7,7,0),1,1)","v":48.62},{"$error":"#N/A"},{"$error":"#N/A"},{"$error":"#N/A"},47.425069783469539,47.425069783469539,0.99065795100176679,-0.42204870055091803,0.13937841442234677,-1.9047915944894172,0.7253520438487665,0.25898017387553363,null,52.07,46.95,0.32617187499999911,{"$error":"#N/A"},0.2,0.8,{"$error":"#N/A"},{"$error":"#N/A"},{"$error":"#N/A"},{"$error":"#N/A"},false,false,true,false,false,{"$error":"#N/A"},{"$error":"#N/A"},{"$error":"#N/A"},{"$error":"#N/A"},false,false,false,false,false,{"$error":"#N/A"},{"$error":"#N/A"},{"$error":"#N/A"},{"$error":"#N/A"}]
[260,{"$f":"OFFSET(InputPriceData!B$15,CalculationsAndCharts!$A292+$A$11,0,1,1)","v":"2012-10-26"},{"$f":"OFFSET(InputPriceData!G$15,CalculationsAndCharts!$A292+$A$11,0,1,1)","v":2281600},{"$f":"OFFSET(InputPriceData!C$15,CalculationsAndCharts!$A292+$A$11,IF($C$7,7,0),1,1)","v":47.3},{"$f":"OFFSET(InputPriceData!D$15,CalculationsAndCharts!$A292+$A$11,IF($C$7,7,0),1,1)","v":47.96},{"$f":"OFFSET(InputPriceData!E$15,CalculationsAndCharts!$A292+$A$11,IF($C$7,7,0),1,1)","v":47.28},{"$f":"OFFSET(InputPriceData!F$15,CalculationsAndCharts!$A292+$A$11,IF($C$7,7,0),1,1)","v":47.63},{"$error":"#N/A"},{"$error":"#N/A"},{"$error":"#N/A"},47.142742077213384,47.142742077213384,-3.5354335741302756E-2,-0.9518851026224604,0.52284242819337456,-1.9047915944894172,0.392524772252901,0.11633116162107873,null,52.07,46.95,0.1328125,{"$error":"#N/A"},0.2,0.8,{"$error":"#N/A"},{"$error":"#N/A"},{"$error":"#N/A"},{"$error":"#N/A"},false,false,true,false,false,{"$error":"#N/A"},{"$error":"#N/A"},{"$error":"#N/A"},{"$error":"#N/A"},false,false,false,false,false,{"$error":"#N/A"},{"$error":"#N/A"},{"$error":"#N/A"},{"$error":"#N/A"}]
[261,{"$f":"OFFSET(InputPriceData!B$15,CalculationsAndCharts!$A293+$A$11,0,1,1)","v":"2012-10-25"},{"$f":"OFFSET(InputPriceData!G$15,CalculationsAndCharts!$A293+$A$11,0,1,1)","v":2708200},{"$f":"OFFSET(InputPriceData!C$15,CalculationsAndCharts!$A293+$A$11,IF($C$7,7,0),1,1)","v":47.42},{"$f":"OFFSET(InputPriceData!D$15,CalculationsAndCharts!$A293+$A$11,IF($C$7,7,0),1,1)","v":47.65},{"$f":"OFFSET(InputPriceData!E$15,CalculationsAndCharts!$A293+$A$11,IF($C$7,7,0),1,1)","v":47.05},{"$f":"OFFSET(InputPriceData!F$15,CalculationsAndCharts!$A293+$A$11,IF($C$7,7,0),1,1)","v":47.3},{"$error":"#N/A"},{"$f":"IF($A293=$E$25,I$32,NA())","v":{"$error":"#N/A"}},{"$error":"#N/A"},47.060845689247955,47.060845689247955,-0.54433071093493446,-1.3602777025012491,1.0263852237396422,-1.9047915944894172,0.18576630676178352,4.1909008550907068E-2,null,52.07,46.95,6.8359374999998918E-2,{"$error":"#N/A"},0.2,0.8,{"$error":"#N/A"},{"$error":"#N/A"},{"$error":"#N/A"},{"$error":"#N/A"},false,false,true,false,false,{"$error":"#N/A"},{"$error":"#N/A"},{"$error":"#N/A"},{"$error":"#N/A"},false,false,false,false,false,{"$error":"#N/A"},{"$error":"#N/A"},{"$error":"#N/A"},{"$error":"#N/A"}]
[262,{"$f":"OFFSET(InputPriceData!B$15,CalculationsAndCharts!$A294+$A$11,0,1,1)","v":"2012-10-24"},{"$f":"OFFSET(InputPriceData!G$15,CalculationsAndCharts!$A294+$A$11,0,1,1)","v":4638900},{"$f":"OFFSET(InputPriceData!C$15,CalculationsAndCharts!$A294+$A$11,IF($C$7,7,0),1,1)","v":47.36},{"$f":"OFFSET(InputPriceData!D$15,CalculationsAndCharts!$A294+$A$11,IF($C$7,7,0),1,1)","v":47.53},{"$f":"OFFSET(InputPriceData!E$15,CalculationsAndCharts!$A294+$A$11,IF($C$7,7,0),1,1)","v":46.85},{"$f":"OFFSET(InputPriceData!F$15,CalculationsAndCharts!$A294+$A$11,IF($C$7,7,0),1,1)","v":47.22},{"$error":"#N/A"},{"$error":"#N/A"},{"$error":"#N/A"},47.110467556205244,47.110467556205244,-0.87695937452819206,-1.6944111136996169,1.5129378784841701,-1.9047915944894172,6.155562704814059E-2,1.3127098847660647E-2,null,52.07,46.95,5.2734374999999251E-2,{"$error":"#N/A"},0.2,0.8,{"$error":"#N/A"},{"$error":"#N/A"},{"$error":"#N/A"},{"$error":"#N/A"},false,false,true,false,false,{"$error":"#N/A"},{"$error":"#N/A"},{"$error":"#N/A"},{"$error":"#N/A"},false,false,false,false,false,{"$error":"#N/A"},{"$error":"#N/A"},{"$error":"#N/A"},{"$error":"#N/A"}]
[263,{"$f":"OFFSET(InputPriceData!B$15,CalculationsAndCharts!$A295+$A$11,0,1,1)","v":"2012-10-23"},{"$f":"OFFSET(InputPriceData!G$15,CalculationsAndCharts!$A295+$A$11,0,1,1)","v":3349200},{"$f":"OFFSET(InputPriceData!C$15,CalculationsAndCharts!$A295+$A$11,IF($C$7,7,0),1,1)","v":46.76},{"$f":"OFFSET(InputPriceData!D$15,CalculationsAndCharts!$A295+$A$11,IF($C$7,7,0),1,1)","v":47.38},{"$f":"OFFSET(InputPriceData!E$15,CalculationsAndCharts!$A295+$A$11,IF($C$7,7,0),1,1)","v":46.52},{"$f":"OFFSET(InputPriceData!F$15,CalculationsAndCharts!$A295+$A$11,IF($C$7,7,0),1,1)","v":47.11},{"$error":"#N/A"},{"$error":"#N/A"},{"$error":"#N/A"},47.32314588736844,47.32314588736844,-1.3020413414078922,-1.9013364711978222,1.7962279322941774,-1.9047915944894172,9.3355986548863913E-4,1.1177410456706938E-2,null,52.86,46.95,2.7072758037224479E-2,{"$error":"#N/A"},0.2,0.8,{"$error":"#N/A"},{"$error":"#N/A"},{"$error":"#N/A"},{"$error":"#N/A"},false,false,true,false,false,{"$error":"#N/A"},{"$error":"#N/A"},{"$error":"#N/A"},{"$error":"#N/A"},false,false,false,false,false,{"$error":"#N/A"},{"$error":"#N/A"},{"$error":"#N/A"},{"$error":"#N/A"}]
[264,{"$f":"OFFSET(InputPriceData!B$15,CalculationsAndCharts!$A296+$A$11,0,1,1)","v":"2012-10-22"},{"$f":"OFFSET(InputPriceData!G$15,CalculationsAndCharts!$A296+$A$11,0,1,1)","v":2506600},{"$f":"OFFSET(InputPriceData!C$15,CalculationsAndCharts!$A296+$A$11,IF($C$7,7,0),1,1)","v":47.2},{"$f":"OFFSET(InputPriceData!D$15,CalculationsAndCharts!$A296+$A$11,IF($C$7,7,0),1,1)","v":47.66},{"$f":"OFFSET(InputPriceData!E$15,CalculationsAndCharts!$A296+$A$11,IF($C$7,7,0),1,1)","v":46.56},{"$f":"OFFSET(InputPriceData!F$15,CalculationsAndCharts!$A296+$A$11,IF($C$7,7,0),1,1)","v":46.95},{"$error":"#N/A"},{"$error":"#N/A"},{"$error":"#N/A"},47.742906744681008,47.742906744681008,-1.8563852871343189,-1.9047915944894172,1.8908217293906753,{"$f":"MIN(OFFSET(N296,0,0,$A$22,1))","v":-1.9047915944894172},0,1.8787550214345174E-2,null,52.86,46.95,0,{"$error":"#N/A"},0.2,0.8,{"$error":"#N/A"},{"$error":"#N/A"},{"$error":"#N/A"},{"$error":"#N/A"},false,false,true,false,false,{"$error":"#N/A"},{"$error":"#N/A"},{"$error":"#N/A"},{"$error":"#N/A"},false,false,false,false,false,{"$error":"#N/A"},{"$error":"#N/A"},{"$error":"#N/A"},{"$error":"#N/A"}]
[265,{"$f":"OFFSET(InputPriceData!B$15,CalculationsAndCharts!$A297+$A$11,0,1,1)","v":"2012-10-19"},{"$f":"OFFSET(InputPriceData!G$15,CalculationsAndCharts!$A297+$A$11,0,1,1)","v":4034100},{"$f":"OFFSET(InputPriceData!C$15,CalculationsAndCharts!$A297+$A$11,IF($C$7,7,0),1,1)","v":47.33},{"$f":"OFFSET(InputPriceData!D$15,CalculationsAndCharts!$A297+$A$11,IF($C$7,7,0),1,1)","v":48.4},{"$f":"OFFSET(InputPriceData!E$15,CalculationsAndCharts!$A297+$A$11,IF($C$7,7,0),1,1)","v":47.08},{"$f":"OFFSET(InputPriceData!F$15,CalculationsAndCharts!$A297+$A$11,IF($C$7,7,0),1,1)","v":47.17},{"$error":"#N/A"},{"$error":"#N/A"},{"$error":"#N/A"},48.324723655049908,48.324723655049908,-2.0883170322850533,-1.7128126919079334,1.8908217293906753,-1.7128126919079334,0,2.6014722145904032E-2,null,52.86,47.17,0,{"$error":"#N/A"},0.2,0.8,{"$error":"#N/A"},{"$error":"#N/A"},{"$error":"#N/A"},{"$error":"#N/A"},false,false,true,false,false,{"$error":"#N/A"},{"$error":"#N/A"},{"$error":"#N/A"},{"$error":"#N/A"},false,false,false,false,false,{"$error":"#N/A"},{"$error":"#N/A"},{"$error":"#N/A"},{"$error":"#N/A"}]
[266,{"$f":"OFFSET(InputPriceData!B$15,CalculationsAndCharts!$A298+$A$11,0,1,1)","v":"2012-10-18"},{"$f":"OFFSET(InputPriceData!G$15,CalculationsAndCharts!$A298+$A$11,0,1,1)","v":10520600},{"$f":"OFFSET(InputPriceData!C$15,CalculationsAndCharts!$A298+$A$11,IF($C$7,7,0),1,1)","v":48.58},{"$f":"OFFSET(InputPriceData!D$15,CalculationsAndCharts!$A298+$A$11,IF($C$7,7,0),1,1)","v":48.9},{"$f":"OFFSET(InputPriceData!E$15,CalculationsAndCharts!$A298+$A$11,IF($C$7,7,0),1,1)","v":46.06},{"$f":"OFFSET(InputPriceData!F$15,CalculationsAndCharts!$A298+$A$11,IF($C$7,7,0),1,1)","v":47.29},{"$error":"#N/A"},{"$error":"#N/A"},{"$error":"#N/A"},48.960933924364213,48.960933924364213,-2.4577347298732755,-1.4057819250509247,1.8908217293906753,-1.4191159430762372,4.0284800938183906E-3,2.7575472368302788E-2,null,52.94,47.29,0,{"$error":"#N/A"},0.2,0.8,{"$error":"#N/A"},{"$error":"#N/A"},{"$error":"#N/A"},{"$error":"#N/A"},false,false,true,false,false,{"$error":"#N/A"},{"$error":"#N/A"},{"$error":"#N/A"},{"$error":"#N/A"},false,false,false,false,false,{"$error":"#N/A"},{"$error":"#N/A"},{"$error":"#N/A"},{"$error":"#N/A"}]
[267,{"$f":"OFFSET(InputPriceData!B$15,CalculationsAndCharts!$A299+$A$11,0,1,1)","v":"2012-10-17"},{"$f":"OFFSET(InputPriceData!G$15,CalculationsAndCharts!$A299+$A$11,0,1,1)","v":16966500},{"$f":"OFFSET(InputPriceData!C$15,CalculationsAndCharts!$A299+$A$11,IF($C$7,7,0),1,1)","v":50.34},{"$f":"OFFSET(InputPriceData!D$15,CalculationsAndCharts!$A299+$A$11,IF($C$7,7,0),1,1)","v":50.82},{"$f":"OFFSET(InputPriceData!E$15,CalculationsAndCharts!$A299+$A$11,IF($C$7,7,0),1,1)","v":45.58},{"$f":"OFFSET(InputPriceData!F$15,CalculationsAndCharts!$A299+$A$11,IF($C$7,7,0),1,1)","v":48.24},{"$error":"#N/A"},{"$error":"#N/A"},{"$error":"#N/A"},49.442460389633055,49.442460389633055,-1.9666496450649551,-1.193037885296377,1.8908217293906753,-1.4191159430762372,6.8302814176970039E-2,1.563834069149049E-2,null,52.94,48.24,0,{"$error":"#N/A"},0.2,0.8,{"$error":"#N/A"},{"$error":"#N/A"},{"$error":"#N/A"},{"$error":"#N/A"},false,false,true,false,false,{"$error":"#N/A"},{"$error":"#N/A"},{"$error":"#N/A"},{"$error":"#N/A"},false,false,false,false,false,{"$error":"#N/A"},{"$error":"#N/A"},{"$error":"#N/A"},{"$error":"#N/A"}]
[268,{"$f":"OFFSET(InputPriceData!B$15,CalculationsAndCharts!$A300+$A$11,0,1,1)","v":"2012-10-16"},{"$f":"OFFSET(InputPriceData!G$15,CalculationsAndCharts!$A300+$A$11,0,1,1)","v":3814700},{"$f":"OFFSET(InputPriceData!C$15,CalculationsAndCharts!$A300+$A$11,IF($C$7,7,0),1,1)","v":49.41},{"$f":"OFFSET(InputPriceData!D$15,CalculationsAndCharts!$A300+$A$11,IF($C$7,7,0),1,1)","v":50.42},{"$f":"OFFSET(InputPriceData!E$15,CalculationsAndCharts!$A300+$A$11,IF($C$7,7,0),1,1)","v":49.24},{"$f":"OFFSET(InputPriceData!F$15,CalculationsAndCharts!$A300+$A$11,IF($C$7,7,0),1,1)","v":50.29},{"$error":"#N/A"},{"$error":"#N/A"},{"$error":"#N/A"},49.580808939198192,49.580808939198192,-0.1475971636149469,-1.3030310376792915,1.8908217293906753,-1.4191159430762372,3.50716287991088E-2,-7.5118195303852057E-4,null,52.94,49.25,0.28184281842818421,{"$error":"#N/A"},0.2,0.8,{"$error":"#N/A"},{"$error":"#N/A"},{"$error":"#N/A"},{"$error":"#N/A"},false,false,true,false,false,{"$error":"#N/A"},{"$error":"#N/A"},{"$error":"#N/A"},{"$error":"#N/A"},false,false,false,false,false,{"$error":"#N/A"},{"$error":"#N/A"},{"$error":"#N/A"},{"$error":"#N/A"}]
[269,{"$f":"OFFSET(InputPriceData!B$15,CalculationsAndCharts!$A301+$A$11,0,1,1)","v":"2012-10-15"},{"$f":"OFFSET(InputPriceData!G$15,CalculationsAndCharts!$A301+$A$11,0,1,1)","v":4158400},{"$f":"OFFSET(InputPriceData!C$15,CalculationsAndCharts!$A301+$A$11,IF($C$7,7,0),1,1)","v":49.56},{"$f":"OFFSET(InputPriceData!D$15,CalculationsAndCharts!$A301+$A$11,IF($C$7,7,0),1,1)","v":49.72},{"$f":"OFFSET(InputPriceData!E$15,CalculationsAndCharts!$A301+$A$11,IF($C$7,7,0),1,1)","v":49.05},{"$f":"OFFSET(InputPriceData!F$15,CalculationsAndCharts!$A301+$A$11,IF($C$7,7,0),1,1)","v":49.33},{"$error":"#N/A"},{"$error":"#N/A"},{"$error":"#N/A"},49.722814137150564,49.722814137150564,-1.2661004760784025,-1.4191159430762372,1.8908217293906753,-1.4191159430762372,0,-8.3260589462774565E-3,null,52.94,49.25,2.1680216802167574E-2,{"$error":"#N/A"},0.2,0.8,{"$error":"#N/A"},{"$error":"#N/A"},{"$error":"#N/A"},{"$error":"#N/A"},false,false,true,false,false,{"$error":"#N/A"},{"$error":"#N/A"},{"$error":"#N/A"},{"$error":"#N/A"},false,false,false,false,false,{"$error":"#N/A"},{"$error":"#N/A"},{"$error":"#N/A"},{"$error":"#N/A"}]
[270,{"$f":"OFFSET(InputPriceData!B$15,CalculationsAndCharts!$A302+$A$11,0,1,1)","v":"2012-10-12"},{"$f":"OFFSET(InputPriceData!G$15,CalculationsAndCharts!$A302+$A$11,0,1,1)","v":5537000},{"$f":"OFFSET(InputPriceData!C$15,CalculationsAndCharts!$A302+$A$11,IF($C$7,7,0),1,1)","v":49.44},{"$f":"OFFSET(InputPriceData!D$15,CalculationsAndCharts!$A302+$A$11,IF($C$7,7,0),1,1)","v":49.81},{"$f":"OFFSET(InputPriceData!E$15,CalculationsAndCharts!$A302+$A$11,IF($C$7,7,0),1,1)","v":48.9},{"$f":"OFFSET(InputPriceData!F$15,CalculationsAndCharts!$A302+$A$11,IF($C$7,7,0),1,1)","v":49.25},{"$error":"#N/A"},{"$error":"#N/A"},{"$error":"#N/A"},50.121735907668423,50.121735907668423,-1.6329147539241309,-1.2629876839481118,1.8908217293906753,-1.2629876839481118,0,-1.0826269521922264E-2,null,52.94,49.25,0,{"$error":"#N/A"},0.2,0.8,{"$error":"#N/A"},{"$error":"#N/A"},{"$error":"#N/A"},{"$error":"#N/A"},false,false,true,false,false,{"$error":"#N/A"},{"$error":"#N/A"},{"$error":"#N/A"},{"$error":"#N/A"},false,false,false,false,false,{"$error":"#N/A"},{"$error":"#N/A"},{"$error":"#N/A"},{"$error":"#N/A"}]
[271,{"$f":"OFFSET(InputPriceData!B$15,CalculationsAndCharts!$A303+$A$11,0,1,1)","v":"2012-10-11"},{"$f":"OFFSET(InputPriceData!G$15,CalculationsAndCharts!$A303+$A$11,0,1,1)","v":9612000},{"$f":"OFFSET(InputPriceData!C$15,CalculationsAndCharts!$A303+$A$11,IF($C$7,7,0),1,1)","v":50.76},{"$f":"OFFSET(InputPriceData!D$15,CalculationsAndCharts!$A303+$A$11,IF($C$7,7,0),1,1)","v":51.17},{"$f":"OFFSET(InputPriceData!E$15,CalculationsAndCharts!$A303+$A$11,IF($C$7,7,0),1,1)","v":49.02},{"$f":"OFFSET(InputPriceData!F$15,CalculationsAndCharts!$A303+$A$11,IF($C$7,7,0),1,1)","v":49.57},{"$error":"#N/A"},{"$error":"#N/A"},{"$error":"#N/A"},50.579751702197512,50.579751702197512,-1.6192448191432438,-0.99818216344646438,1.8908217293906753,-0.99818216344646438,0,-1.0242021281607746E-2,null,52.94,49.57,0,{"$error":"#N/A"},0.2,0.8,{"$error":"#N/A"},{"$error":"#N/A"},{"$error":"#N/A"},{"$error":"#N/A"},false,false,true,false,false,{"$error":"#N/A"},{"$error":"#N/A"},{"$error":"#N/A"},{"$error":"#N/A"},false,false,false,false,false,{"$error":"#N/A"},{"$error":"#N/A"},{"$error":"#N/A"},{"$error":"#N/A"}]
[272,{"$f":"OFFSET(InputPriceData!B$15,CalculationsAndCharts!$A304+$A$11,0,1,1)","v":"2012-10-10"},{"$f":"OFFSET(InputPriceData!G$15,CalculationsAndCharts!$A304+$A$11,0,1,1)","v":2586000},{"$f":"OFFSET(InputPriceData!C$15,CalculationsAndCharts!$A304+$A$11,IF($C$7,7,0),1,1)","v":50.55},{"$f":"OFFSET(InputPriceData!D$15,CalculationsAndCharts!$A304+$A$11,IF($C$7,7,0),1,1)","v":51.15},{"$f":"OFFSET(InputPriceData!E$15,CalculationsAndCharts!$A304+$A$11,IF($C$7,7,0),1,1)","v":50.28},{"$f":"OFFSET(InputPriceData!F$15,CalculationsAndCharts!$A304+$A$11,IF($C$7,7,0),1,1)","v":50.46},{"$error":"#N/A"},{"$error":"#N/A"},{"$error":"#N/A"},50.973410801239368,50.973410801239368,-0.96082543271411691,-0.74079455482333578,1.8908217293906753,-0.74079455482333578,0,-2.5179913921142341E-3,null,52.94,50.11,0.12367491166077796,{"$error":"#N/A"},0.2,0.8,{"$error":"#N/A"},{"$error":"#N/A"},{"$error":"#N/A"},{"$error":"#N/A"},false,false,true,false,false,{"$error":"#N/A"},{"$error":"#N/A"},{"$error":"#N/A"},{"$error":"#N/A"},false,false,false,false,false,{"$error":"#N/A"},{"$error":"#N/A"},{"$error":"#N/A"},{"$error":"#N/A"}]
[273,{"$f":"OFFSET(InputPriceData!B$15,CalculationsAndCharts!$A305+$A$11,0,1,1)","v":"2012-10-09"},{"$f":"OFFSET(InputPriceData!G$15,CalculationsAndCharts!$A305+$A$11,0,1,1)","v":3202700},{"$f":"OFFSET(InputPriceData!C$15,CalculationsAndCharts!$A305+$A$11,IF($C$7,7,0),1,1)","v":51.05},{"$f":"OFFSET(InputPriceData!D$15,CalculationsAndCharts!$A305+$A$11,IF($C$7,7,0),1,1)","v":51.18},{"$f":"OFFSET(InputPriceData!E$15,CalculationsAndCharts!$A305+$A$11,IF($C$7,7,0),1,1)","v":50.19},{"$f":"OFFSET(InputPriceData!F$15,CalculationsAndCharts!$A305+$A$11,IF($C$7,7,0),1,1)","v":50.21},{"$error":"#N/A"},{"$error":"#N/A"},{"$error":"#N/A"},51.340668296861786,51.340668296861786,-1.4126513016813298,-0.45303235233573513,1.8908217293906753,-0.45303235233573513,0,1.7811450416293104E-2,null,52.94,49.72,0.15217391304347894,{"$error":"#N/A"},0.2,0.8,{"$error":"#N/A"},{"$error":"#N/A"},{"$error":"#N/A"},{"$error":"#N/A"},false,false,true,false,false,{"$error":"#N/A"},{"$error":"#N/A"},{"$error":"#N/A"},{"$error":"#N/A"},false,false,false,false,false,{"$error":"#N/A"},{"$error":"#N/A"},{"$error":"#N/A"},{"$error":"#N/A"}]
[274,{"$f":"OFFSET(InputPriceData!B$15,CalculationsAndCharts!$A306+$A$11,0,1,1)","v":"2012-10-08"},{"$f":"OFFSET(InputPriceData!G$15,CalculationsAndCharts!$A306+$A$11,0,1,1)","v":2919000},{"$f":"OFFSET(InputPriceData!C$15,CalculationsAndCharts!$A306+$A$11,IF($C$7,7,0),1,1)","v":51.78},{"$f":"OFFSET(InputPriceData!D$15,CalculationsAndCharts!$A306+$A$11,IF($C$7,7,0),1,1)","v":51.8},{"$f":"OFFSET(InputPriceData!E$15,CalculationsAndCharts!$A306+$A$11,IF($C$7,7,0),1,1)","v":51.04},{"$f":"OFFSET(InputPriceData!F$15,CalculationsAndCharts!$A306+$A$11,IF($C$7,7,0),1,1)","v":51.05},{"$error":"#N/A"},{"$error":"#N/A"},{"$error":"#N/A"},51.614649612679287,51.614649612679287,-0.74475065408522201,-0.20494982374282897,1.8908217293906753,-0.27051291925928334,3.0334541463723469E-2,5.6277007102030263E-2,null,52.94,48.83,0.54014598540145964,{"$error":"#N/A"},0.2,0.8,51.78,{"$error":"#N/A"},{"$error":"#N/A"},{"$error":"#N/A"},false,true,true,false,false,51.78,{"$error":"#N/A"},51.78,{"$error":"#N/A"},false,false,false,false,true,{"$error":"#N/A"},51.78,{"$error":"#N/A"},51.78]
[275,{"$f":"OFFSET(InputPriceData!B$15,CalculationsAndCharts!$A307+$A$11,0,1,1)","v":"2012-10-05"},{"$f":"OFFSET(InputPriceData!G$15,CalculationsAndCharts!$A307+$A$11,0,1,1)","v":3202900},{"$f":"OFFSET(InputPriceData!C$15,CalculationsAndCharts!$A307+$A$11,IF($C$7,7,0),1,1)","v":52.29},{"$f":"OFFSET(InputPriceData!D$15,CalculationsAndCharts!$A307+$A$11,IF($C$7,7,0),1,1)","v":52.46},{"$f":"OFFSET(InputPriceData!E$15,CalculationsAndCharts!$A307+$A$11,IF($C$7,7,0),1,1)","v":51.53},{"$f":"OFFSET(InputPriceData!F$15,CalculationsAndCharts!$A307+$A$11,IF($C$7,7,0),1,1)","v":51.69},{"$error":"#N/A"},{"$error":"#N/A"},{"$error":"#N/A"},51.674781123249595,51.674781123249595,-0.1537035614593906,-0.13953376700879933,1.8908217293906753,-0.27051291925928334,6.0601051453229575E-2,0.12449848967579599,null,52.94,48.83,0.6958637469586374,{"$error":"#N/A"},0.2,0.8,{"$error":"#N/A"},{"$error":"#N/A"},0.12449848967579599,{"$error":"#N/A"},true,false,false,false,false,{"$error":"#N/A"},{"$error":"#N/A"},{"$error":"#N/A"},{"$error":"#N/A"},false,false,true,true,false,{"$error":"#N/A"},{"$error":"#N/A"},{"$error":"#N/A"},{"$error":"#N/A"}]
[276,{"$f":"OFFSET(InputPriceData!B$15,CalculationsAndCharts!$A308+$A$11,0,1,1)","v":"2012-10-04"},{"$f":"OFFSET(InputPriceData!G$15,CalculationsAndCharts!$A308+$A$11,0,1,1)","v":6312800},{"$f":"OFFSET(InputPriceData!C$15,CalculationsAndCharts!$A308+$A$11,IF($C$7,7,0),1,1)","v":51.75},{"$f":"OFFSET(InputPriceData!D$15,CalculationsAndCharts!$A308+$A$11,IF($C$7,7,0),1,1)","v":52.32},{"$f":"OFFSET(InputPriceData!E$15,CalculationsAndCharts!$A308+$A$11,IF($C$7,7,0),1,1)","v":51.61},{"$f":"OFFSET(InputPriceData!F$15,CalculationsAndCharts!$A308+$A$11,IF($C$7,7,0),1,1)","v":52.07},{"$error":"#N/A"},{"$error":"#N/A"},{"$error":"#N/A"},51.633401423542438,51.633401423542438,0.27329725622811984,-0.17108820903108463,1.8908217293906753,-0.27051291925928334,4.6001534417774076E-2,0.24172795710391226,null,52.94,48.83,0.78832116788321227,{"$error":"#N/A"},0.2,0.8,{"$error":"#N/A"},{"$error":"#N/A"},{"$error":"#N/A"},{"$error":"#N/A"},false,false,false,false,false,{"$error":"#N/A"},{"$error":"#N/A"},{"$error":"#N/A"},{"$error":"#N/A"},false,false,true,false,false,{"$error":"#N/A"},{"$error":"#N/A"},{"$error":"#N/A"},{"$error":"#N/A"}]
[277,{"$f":"OFFSET(InputPriceData!B$15,CalculationsAndCharts!$A309+$A$11,0,1,1)","v":"2012-10-03"},{"$f":"OFFSET(InputPriceData!G$15,CalculationsAndCharts!$A309+$A$11,0,1,1)","v":3202100},{"$f":"OFFSET(InputPriceData!C$15,CalculationsAndCharts!$A309+$A$11,IF($C$7,7,0),1,1)","v":51.8},{"$f":"OFFSET(InputPriceData!D$15,CalculationsAndCharts!$A309+$A$11,IF($C$7,7,0),1,1)","v":51.85},{"$f":"OFFSET(InputPriceData!E$15,CalculationsAndCharts!$A309+$A$11,IF($C$7,7,0),1,1)","v":51.46},{"$f":"OFFSET(InputPriceData!F$15,CalculationsAndCharts!$A309+$A$11,IF($C$7,7,0),1,1)","v":51.55},{"$error":"#N/A"},{"$error":"#N/A"},{"$error":"#N/A"},51.684564246955603,51.684564246955603,-0.20484111367936653,-0.10570786292389829,1.8908217293906753,-0.27051291925928334,7.6251521918795764E-2,0.41078386142149442,null,52.94,48.83,0.66180048661800472,{"$error":"#N/A"},0.2,0.8,{"$error":"#N/A"},{"$error":"#N/A"},{"$error":"#N/A"},{"$error":"#N/A"},false,false,false,false,false,{"$error":"#N/A"},{"$error":"#N/A"},{"$error":"#N/A"},{"$error":"#N/A"},false,false,true,false,false,{"$error":"#N/A"},{"$error":"#N/A"},{"$error":"#N/A"},{"$error":"#N/A"}]
[278,{"$f":"OFFSET(InputPriceData!B$15,CalculationsAndCharts!$A310+$A$11,0,1,1)","v":"2012-10-02"},{"$f":"OFFSET(InputPriceData!G$15,CalculationsAndCharts!$A310+$A$11,0,1,1)","v":5244400},{"$f":"OFFSET(InputPriceData!C$15,CalculationsAndCharts!$A310+$A$11,IF($C$7,7,0),1,1)","v":51.75},{"$f":"OFFSET(InputPriceData!D$15,CalculationsAndCharts!$A310+$A$11,IF($C$7,7,0),1,1)","v":51.75},{"$f":"OFFSET(InputPriceData!E$15,CalculationsAndCharts!$A310+$A$11,IF($C$7,7,0),1,1)","v":51.2},{"$f":"OFFSET(InputPriceData!F$15,CalculationsAndCharts!$A310+$A$11,IF($C$7,7,0),1,1)","v":51.55},{"$error":"#N/A"},{"$error":"#N/A"},{"$error":"#N/A"},51.886158683663496,51.886158683663496,-0.20669716417134254,0.13937841442234677,1.8908217293906753,-0.27051291925928334,0.18964732459994654,0.60661677703147321,null,52.94,48.83,0.66180048661800472,{"$error":"#N/A"},0.2,0.8,{"$error":"#N/A"},{"$error":"#N/A"},{"$error":"#N/A"},{"$error":"#N/A"},false,false,false,false,false,{"$error":"#N/A"},{"$error":"#N/A"},{"$error":"#N/A"},{"$error":"#N/A"},false,false,true,false,false,{"$error":"#N/A"},{"$error":"#N/A"},{"$error":"#N/A"},{"$error":"#N/A"}]
[279,{"$f":"OFFSET(InputPriceData!B$15,CalculationsAndCharts!$A311+$A$11,0,1,1)","v":"2012-10-01"},{"$f":"OFFSET(InputPriceData!G$15,CalculationsAndCharts!$A311+$A$11,0,1,1)","v":5812800},{"$f":"OFFSET(InputPriceData!C$15,CalculationsAndCharts!$A311+$A$11,IF($C$7,7,0),1,1)","v":52},{"$f":"OFFSET(InputPriceData!D$15,CalculationsAndCharts!$A311+$A$11,IF($C$7,7,0),1,1)","v":52.15},{"$f":"OFFSET(InputPriceData!E$15,CalculationsAndCharts!$A311+$A$11,IF($C$7,7,0),1,1)","v":51.49},{"$f":"OFFSET(InputPriceData!F$15,CalculationsAndCharts!$A311+$A$11,IF($C$7,7,0),1,1)","v":51.61},{"$error":"#N/A"},{"$error":"#N/A"},{"$error":"#N/A"},52.169411604073602,52.169411604073602,-0.14101402372497829,0.52284242819337456,1.8908217293906753,-0.27051291925928334,0.36706733404205311,0.79123080154409819,null,52.94,48.83,0.67639902676399066,{"$error":"#N/A"},0.2,0.8,{"$error":"#N/A"},{"$error":"#N/A"},{"$error":"#N/A"},{"$error":"#N/A"},false,false,false,false,false,{"$error":"#N/A"},{"$error":"#N/A"},{"$error":"#N/A"},{"$error":"#N/A"},false,false,true,false,false,{"$error":"#N/A"},{"$error":"#N/A"},{"$error":"#N/A"},{"$error":"#N/A"}]
[280,{"$f":"OFFSET(InputPriceData!B$15,CalculationsAndCharts!$A312+$A$11,0,1,1)","v":"2012-09-28"},{"$f":"OFFSET(InputPriceData!G$15,CalculationsAndCharts!$A312+$A$11,0,1,1)","v":26313000},{"$f":"OFFSET(InputPriceData!C$15,CalculationsAndCharts!$A312+$A$11,IF($C$7,7,0),1,1)","v":51.83},{"$f":"OFFSET(InputPriceData!D$15,CalculationsAndCharts!$A312+$A$11,IF($C$7,7,0),1,1)","v":51.99},{"$f":"OFFSET(InputPriceData!E$15,CalculationsAndCharts!$A312+$A$11,IF($C$7,7,0),1,1)","v":51.5},{"$f":"OFFSET(InputPriceData!F$15,CalculationsAndCharts!$A312+$A$11,IF($C$7,7,0),1,1)","v":51.54},{"$error":"#N/A"},{"$error":"#N/A"},{"$error":"#N/A"},52.495337568784947,52.495337568784947,-0.20355550085661067,1.0263852237396422,1.8908217293906753,-0.51230226405532864,0.64028634893222536,0.92443822654026664,null,52.94,48.83,0.65936739659367427,{"$error":"#N/A"},0.2,0.8,{"$error":"#N/A"},{"$error":"#N/A"},{"$error":"#N/A"},{"$error":"#N/A"},false,false,false,false,false,{"$error":"#N/A"},{"$error":"#N/A"},{"$error":"#N/A"},{"$error":"#N/A"},false,false,true,false,false,{"$error":"#N/A"},{"$error":"#N/A"},{"$error":"#N/A"},{"$error":"#N/A"}]
[281,{"$f":"OFFSET(InputPriceData!B$15,CalculationsAndCharts!$A313+$A$11,0,1,1)","v":"2012-09-27"},{"$f":"OFFSET(InputPriceData!G$15,CalculationsAndCharts!$A313+$A$11,0,1,1)","v":7688600},{"$f":"OFFSET(InputPriceData!C$15,CalculationsAndCharts!$A313+$A$11,IF($C$7,7,0),1,1)","v":51.01},{"$f":"OFFSET(InputPriceData!D$15,CalculationsAndCharts!$A313+$A$11,IF($C$7,7,0),1,1)","v":52.49},{"$f":"OFFSET(InputPriceData!E$15,CalculationsAndCharts!$A313+$A$11,IF($C$7,7,0),1,1)","v":51.01},{"$f":"OFFSET(InputPriceData!F$15,CalculationsAndCharts!$A313+$A$11,IF($C$7,7,0),1,1)","v":52},{"$error":"#N/A"},{"$f":"IF($A313=$E$25,I$32,NA())","v":{"$error":"#N/A"}},{"$error":"#N/A"},52.721345375206688,52.721345375206688,0.30580335917301404,1.5129378784841701,1.8908217293906753,-1.1163354208754002,0.87433850908886834,0.98934988254703349,null,52.94,48.83,0.77128953771289588,{"$error":"#N/A"},0.2,0.8,{"$error":"#N/A"},{"$error":"#N/A"},{"$error":"#N/A"},{"$error":"#N/A"},false,false,false,false,false,{"$error":"#N/A"},{"$error":"#N/A"},{"$error":"#N/A"},{"$error":"#N/A"},false,false,true,false,false,{"$error":"#N/A"},{"$error":"#N/A"},{"$error":"#N/A"},{"$error":"#N/A"}]
[282,{"$f":"OFFSET(InputPriceData!B$15,CalculationsAndCharts!$A314+$A$11,0,1,1)","v":"2012-09-26"},{"$f":"OFFSET(InputPriceData!G$15,CalculationsAndCharts!$A314+$A$11,0,1,1)","v":3029400},{"$f":"OFFSET(InputPriceData!C$15,CalculationsAndCharts!$A314+$A$11,IF($C$7,7,0),1,1)","v":52.5},{"$f":"OFFSET(InputPriceData!D$15,CalculationsAndCharts!$A314+$A$11,IF($C$7,7,0),1,1)","v":53.36},{"$f":"OFFSET(InputPriceData!E$15,CalculationsAndCharts!$A314+$A$11,IF($C$7,7,0),1,1)","v":52.46},{"$f":"OFFSET(InputPriceData!F$15,CalculationsAndCharts!$A314+$A$11,IF($C$7,7,0),1,1)","v":52.86},{"$error":"#N/A"},{"$error":"#N/A"},{"$error":"#N/A"},52.685334408156649,52.685334408156649,1.3557949492157835,1.7962279322941774,1.8908217293906753,-1.331313444906538,0.9706425112605247,1.004362941580988,null,52.94,48.54,0.98181818181818215,{"$error":"#N/A"},0.2,0.8,{"$error":"#N/A"},{"$error":"#N/A"},{"$error":"#N/A"},{"$error":"#N/A"},false,false,false,false,false,{"$error":"#N/A"},{"$error":"#N/A"},{"$error":"#N/A"},{"$error":"#N/A"},false,false,true,false,false,{"$error":"#N/A"},{"$error":"#N/A"},{"$error":"#N/A"},{"$error":"#N/A"}]
[283,{"$f":"OFFSET(InputPriceData!B$15,CalculationsAndCharts!$A315+$A$11,0,1,1)","v":"2012-09-25"},{"$f":"OFFSET(InputPriceData!G$15,CalculationsAndCharts!$A315+$A$11,0,1,1)","v":2423000},{"$f":"OFFSET(InputPriceData!C$15,CalculationsAndCharts!$A315+$A$11,IF($C$7,7,0),1,1)","v":52.52},{"$f":"OFFSET(InputPriceData!D$15,CalculationsAndCharts!$A315+$A$11,IF($C$7,7,0),1,1)","v":52.9},{"$f":"OFFSET(InputPriceData!E$15,CalculationsAndCharts!$A315+$A$11,IF($C$7,7,0),1,1)","v":52.43},{"$f":"OFFSET(InputPriceData!F$15,CalculationsAndCharts!$A315+$A$11,IF($C$7,7,0),1,1)","v":52.7},{"$error":"#N/A"},{"$error":"#N/A"},{"$error":"#N/A"},52.440632199268293,52.440632199268293,1.4853740924362686,1.8908217293906753,1.8908217293906753,-1.331313444906538,1,0.9904757880997398,null,52.94,48.54,0.94545454545454655,{"$error":"#N/A"},0.2,0.8,{"$error":"#N/A"},{"$error":"#N/A"},{"$error":"#N/A"},{"$error":"#N/A"},false,false,false,false,false,{"$error":"#N/A"},{"$error":"#N/A"},{"$error":"#N/A"},{"$error":"#N/A"},false,false,true,false,false,{"$error":"#N/A"},{"$error":"#N/A"},{"$error":"#N/A"},{"$error":"#N/A"}]
[284,{"$f":"OFFSET(InputPriceData!B$15,CalculationsAndCharts!$A316+$A$11,0,1,1)","v":"2012-09-24"},{"$f":"OFFSET(InputPriceData!G$15,CalculationsAndCharts!$A316+$A$11,0,1,1)","v":2403500},{"$f":"OFFSET(InputPriceData!C$15,CalculationsAndCharts!$A316+$A$11,IF($C$7,7,0),1,1)","v":52.4},{"$f":"OFFSET(InputPriceData!D$15,CalculationsAndCharts!$A316+$A$11,IF($C$7,7,0),1,1)","v":52.72},{"$f":"OFFSET(InputPriceData!E$15,CalculationsAndCharts!$A316+$A$11,IF($C$7,7,0),1,1)","v":52.35},{"$f":"OFFSET(InputPriceData!F$15,CalculationsAndCharts!$A316+$A$11,IF($C$7,7,0),1,1)","v":52.51},{"$error":"#N/A"},{"$error":"#N/A"},{"$error":"#N/A"},52.054544795699258,52.054544795699258,1.5943504836249449,1.8314003628077906,1.8314003628077906,-1.331313444906538,1,0.95353903275995111,null,52.94,48.54,0.90227272727272734,{"$error":"#N/A"},0.2,0.8,{"$error":"#N/A"},{"$error":"#N/A"},{"$error":"#N/A"},{"$error":"#N/A"},false,false,false,false,false,{"$error":"#N/A"},{"$error":"#N/A"},{"$error":"#N/A"},{"$error":"#N/A"},false,false,true,false,false,{"$error":"#N/A"},{"$error":"#N/A"},{"$error":"#N/A"},{"$error":"#N/A"}]
[285,{"$f":"OFFSET(InputPriceData!B$15,CalculationsAndCharts!$A317+$A$11,0,1,1)","v":"2012-09-21"},{"$f":"OFFSET(InputPriceData!G$15,CalculationsAndCharts!$A317+$A$11,0,1,1)","v":3464100},{"$f":"OFFSET(InputPriceData!C$15,CalculationsAndCharts!$A317+$A$11,IF($C$7,7,0),1,1)","v":52.77},{"$f":"OFFSET(InputPriceData!D$15,CalculationsAndCharts!$A317+$A$11,IF($C$7,7,0),1,1)","v":52.94},{"$f":"OFFSET(InputPriceData!E$15,CalculationsAndCharts!$A317+$A$11,IF($C$7,7,0),1,1)","v":52.55},{"$f":"OFFSET(InputPriceData!F$15,CalculationsAndCharts!$A317+$A$11,IF($C$7,7,0),1,1)","v":52.94},{"$error":"#N/A"},{"$error":"#N/A"},{"$error":"#N/A"},51.454617468078979,51.454617468078979,2.3921539524998456,1.5074977591661476,1.5074977591661476,-1.331313444906538,1,0.89232803593182641,null,52.94,48.54,1,{"$error":"#N/A"},0.2,0.8,{"$error":"#N/A"},{"$error":"#N/A"},{"$error":"#N/A"},{"$error":"#N/A"},false,false,false,false,false,{"$error":"#N/A"},{"$error":"#N/A"},{"$error":"#N/A"},{"$error":"#N/A"},false,false,true,false,false,{"$error":"#N/A"},{"$error":"#N/A"},{"$error":"#N/A"},{"$error":"#N/A"}]
[286,{"$f":"OFFSET(InputPriceData!B$15,CalculationsAndCharts!$A318+$A$11,0,1,1)","v":"2012-09-20"},{"$f":"OFFSET(InputPriceData!G$15,CalculationsAndCharts!$A318+$A$11,0,1,1)","v":5283600},{"$f":"OFFSET(InputPriceData!C$15,CalculationsAndCharts!$A318+$A$11,IF($C$7,7,0),1,1)","v":51.32},{"$f":"OFFSET(InputPriceData!D$15,CalculationsAndCharts!$A318+$A$11,IF($C$7,7,0),1,1)","v":52.79},{"$f":"OFFSET(InputPriceData!E$15,CalculationsAndCharts!$A318+$A$11,IF($C$7,7,0),1,1)","v":51.16},{"$f":"OFFSET(InputPriceData!F$15,CalculationsAndCharts!$A318+$A$11,IF($C$7,7,0),1,1)","v":52.45},{"$error":"#N/A"},{"$error":"#N/A"},{"$error":"#N/A"},50.777857452364927,50.777857452364927,2.3183609994931715,1.0189421526860332,1.0189421526860332,-1.331313444906538,1,0.80977090209418989,null,52.45,48.54,1,{"$error":"#N/A"},0.2,0.8,{"$error":"#N/A"},{"$error":"#N/A"},{"$error":"#N/A"},{"$error":"#N/A"},false,false,false,false,false,{"$error":"#N/A"},{"$error":"#N/A"},{"$error":"#N/A"},{"$error":"#N/A"},true,false,true,false,false,{"$error":"#N/A"},{"$error":"#N/A"},{"$error":"#N/A"},{"$error":"#N/A"}]
[287,{"$f":"OFFSET(InputPriceData!B$15,CalculationsAndCharts!$A319+$A$11,0,1,1)","v":"2012-09-19"},{"$f":"OFFSET(InputPriceData!G$15,CalculationsAndCharts!$A319+$A$11,0,1,1)","v":2603000},{"$f":"OFFSET(InputPriceData!C$15,CalculationsAndCharts!$A319+$A$11,IF($C$7,7,0),1,1)","v":50.24},{"$f":"OFFSET(InputPriceData!D$15,CalculationsAndCharts!$A319+$A$11,IF($C$7,7,0),1,1)","v":51.44},{"$f":"OFFSET(InputPriceData!E$15,CalculationsAndCharts!$A319+$A$11,IF($C$7,7,0),1,1)","v":50.24},{"$f":"OFFSET(InputPriceData!F$15,CalculationsAndCharts!$A319+$A$11,IF($C$7,7,0),1,1)","v":51.18},{"$error":"#N/A"},{"$error":"#N/A"},{"$error":"#N/A"},50.31234427999911,50.31234427999911,1.3500939384725466,0.65354322213604066,0.89779988761131657,-1.331313444906538,0.89042429475787122,0.72612447468825991,null,51.18,48.54,1,{"$error":"#N/A"},0.2,0.8,{"$error":"#N/A"},{"$error":"#N/A"},{"$error":"#N/A"},{"$error":"#N/A"},false,false,false,false,false,{"$error":"#N/A"},{"$error":"#N/A"},{"$error":"#N/A"},{"$error":"#N/A"},false,false,true,false,false,{"$error":"#N/A"},{"$error":"#N/A"},{"$error":"#N/A"},{"$error":"#N/A"}]
[288,{"$f":"OFFSET(InputPriceData!B$15,CalculationsAndCharts!$A320+$A$11,0,1,1)","v":"2012-09-18"},{"$f":"OFFSET(InputPriceData!G$15,CalculationsAndCharts!$A320+$A$11,0,1,1)","v":2030800},{"$f":"OFFSET(InputPriceData!C$15,CalculationsAndCharts!$A320+$A$11,IF($C$7,7,0),1,1)","v":50.04},{"$f":"OFFSET(InputPriceData!D$15,CalculationsAndCharts!$A320+$A$11,IF($C$7,7,0),1,1)","v":50.26},{"$f":"OFFSET(InputPriceData!E$15,CalculationsAndCharts!$A320+$A$11,IF($C$7,7,0),1,1)","v":49.93},{"$f":"OFFSET(InputPriceData!F$15,CalculationsAndCharts!$A320+$A$11,IF($C$7,7,0),1,1)","v":50.25},{"$error":"#N/A"},{"$error":"#N/A"},{"$error":"#N/A"},50.10534467459911,50.10534467459911,0.54572824333044567,0.49179552049011505,0.89779988761131657,-1.331313444906538,0.81786284205540749,0.65759082229143406,null,51.07,48.54,0.67588932806324109,{"$error":"#N/A"},0.2,0.8,{"$error":"#N/A"},{"$error":"#N/A"},{"$error":"#N/A"},{"$error":"#N/A"},false,false,false,false,false,{"$error":"#N/A"},{"$error":"#N/A"},{"$error":"#N/A"},{"$error":"#N/A"},false,false,true,false,false,{"$error":"#N/A"},{"$error":"#N/A"},{"$error":"#N/A"},{"$error":"#N/A"}]
[289,{"$f":"OFFSET(InputPriceData!B$15,CalculationsAndCharts!$A321+$A$11,0,1,1)","v":"2012-09-17"},{"$f":"OFFSET(InputPriceData!G$15,CalculationsAndCharts!$A321+$A$11,0,1,1)","v":2001800},{"$f":"OFFSET(InputPriceData!C$15,CalculationsAndCharts!$A321+$A$11,IF($C$7,7,0),1,1)","v":49.97},{"$f":"OFFSET(InputPriceData!D$15,CalculationsAndCharts!$A321+$A$11,IF($C$7,7,0),1,1)","v":50.26},{"$f":"OFFSET(InputPriceData!E$15,CalculationsAndCharts!$A321+$A$11,IF($C$7,7,0),1,1)","v":49.78},{"$f":"OFFSET(InputPriceData!F$15,CalculationsAndCharts!$A321+$A$11,IF($C$7,7,0),1,1)","v":50.11},{"$error":"#N/A"},{"$error":"#N/A"},{"$error":"#N/A"},49.977275421781776,49.977275421781776,0.44098729313642504,0.37925179578783796,0.89779988761131657,-1.331313444906538,0.76737472955771069,0.61193215017036895,null,51.07,48.54,0.62055335968379433,{"$error":"#N/A"},0.2,0.8,{"$error":"#N/A"},{"$error":"#N/A"},{"$error":"#N/A"},{"$error":"#N/A"},false,false,false,false,false,{"$error":"#N/A"},{"$error":"#N/A"},{"$error":"#N/A"},{"$error":"#N/A"},false,false,true,false,false,{"$error":"#N/A"},{"$error":"#N/A"},{"$error":"#N/A"},{"$error":"#N/A"}]
[290,{"$f":"OFFSET(InputPriceData!B$15,CalculationsAndCharts!$A322+$A$11,0,1,1)","v":"2012-09-14"},{"$f":"OFFSET(InputPriceData!G$15,CalculationsAndCharts!$A322+$A$11,0,1,1)","v":2710700},{"$f":"OFFSET(InputPriceData!C$15,CalculationsAndCharts!$A322+$A$11,IF($C$7,7,0),1,1)","v":50.92},{"$f":"OFFSET(InputPriceData!D$15,CalculationsAndCharts!$A322+$A$11,IF($C$7,7,0),1,1)","v":51.02},{"$f":"OFFSET(InputPriceData!E$15,CalculationsAndCharts!$A322+$A$11,IF($C$7,7,0),1,1)","v":50.05},{"$f":"OFFSET(InputPriceData!F$15,CalculationsAndCharts!$A322+$A$11,IF($C$7,7,0),1,1)","v":50.16},{"$error":"#N/A"},{"$error":"#N/A"},{"$error":"#N/A"},49.790664090382066,49.790664090382066,0.51965611237100229,0.17584731524250441,0.89779988761131657,-1.331313444906538,0.6761256765920719,0.61212537203940398,null,51.35,48.54,0.57651245551601282,{"$error":"#N/A"},0.2,0.8,{"$error":"#N/A"},{"$error":"#N/A"},{"$error":"#N/A"},{"$error":"#N/A"},false,false,false,false,false,{"$error":"#N/A"},{"$error":"#N/A"},{"$error":"#N/A"},{"$error":"#N/A"},false,false,true,false,false,{"$error":"#N/A"},{"$error":"#N/A"},{"$error":"#N/A"},{"$error":"#N/A"}]
[291,{"$f":"OFFSET(InputPriceData!B$15,CalculationsAndCharts!$A323+$A$11,0,1,1)","v":"2012-09-13"},{"$f":"OFFSET(InputPriceData!G$15,CalculationsAndCharts!$A323+$A$11,0,1,1)","v":2842000},{"$f":"OFFSET(InputPriceData!C$15,CalculationsAndCharts!$A323+$A$11,IF($C$7,7,0),1,1)","v":49.62},{"$f":"OFFSET(InputPriceData!D$15,CalculationsAndCharts!$A323+$A$11,IF($C$7,7,0),1,1)","v":50.81},{"$f":"OFFSET(InputPriceData!E$15,CalculationsAndCharts!$A323+$A$11,IF($C$7,7,0),1,1)","v":49.59},{"$f":"OFFSET(InputPriceData!F$15,CalculationsAndCharts!$A323+$A$11,IF($C$7,7,0),1,1)","v":50.74},{"$error":"#N/A"},{"$error":"#N/A"},{"$error":"#N/A"},49.54887289270799,49.54887289270799,1.1921624737238212,-0.13130675925310414,0.89779988761131657,-1.331313444906538,0.53833363613593754,0.68006454376790049,null,51.35,48.54,0.78291814946619254,{"$error":"#N/A"},0.2,0.8,{"$error":"#N/A"},{"$error":"#N/A"},{"$error":"#N/A"},{"$error":"#N/A"},false,false,false,false,false,{"$error":"#N/A"},{"$error":"#N/A"},{"$error":"#N/A"},{"$error":"#N/A"},false,false,true,false,false,{"$error":"#N/A"},{"$error":"#N/A"},{"$error":"#N/A"},{"$error":"#N/A"}]
[292,{"$f":"OFFSET(InputPriceData!B$15,CalculationsAndCharts!$A324+$A$11,0,1,1)","v":"2012-09-12"},{"$f":"OFFSET(InputPriceData!G$15,CalculationsAndCharts!$A324+$A$11,0,1,1)","v":3496500},{"$f":"OFFSET(InputPriceData!C$15,CalculationsAndCharts!$A324+$A$11,IF($C$7,7,0),1,1)","v":49.41},{"$f":"OFFSET(InputPriceData!D$15,CalculationsAndCharts!$A324+$A$11,IF($C$7,7,0),1,1)","v":50.1},{"$f":"OFFSET(InputPriceData!E$15,CalculationsAndCharts!$A324+$A$11,IF($C$7,7,0),1,1)","v":49.08},{"$f":"OFFSET(InputPriceData!F$15,CalculationsAndCharts!$A324+$A$11,IF($C$7,7,0),1,1)","v":49.72},{"$error":"#N/A"},{"$error":"#N/A"},{"$error":"#N/A"},49.515601912428352,49.515601912428352,0.23123480414709119,-0.27051291925928334,0.89779988761131657,-1.331313444906538,0.47588451882302757,0.80042087103437165,null,51.76,48.54,0.36645962732919257,{"$error":"#N/A"},0.2,0.8,{"$error":"#N/A"},{"$error":"#N/A"},{"$error":"#N/A"},{"$error":"#N/A"},false,false,false,false,false,{"$error":"#N/A"},{"$error":"#N/A"},{"$error":"#N/A"},{"$error":"#N/A"},false,false,true,false,false,{"$error":"#N/A"},{"$error":"#N/A"},{"$error":"#N/A"},{"$error":"#N/A"}]
[293,{"$f":"OFFSET(InputPriceData!B$15,CalculationsAndCharts!$A325+$A$11,0,1,1)","v":"2012-09-11"},{"$f":"OFFSET(InputPriceData!G$15,CalculationsAndCharts!$A325+$A$11,0,1,1)","v":2344100},{"$f":"OFFSET(InputPriceData!C$15,CalculationsAndCharts!$A325+$A$11,IF($C$7,7,0),1,1)","v":48.81},{"$f":"OFFSET(InputPriceData!D$15,CalculationsAndCharts!$A325+$A$11,IF($C$7,7,0),1,1)","v":49.25},{"$f":"OFFSET(InputPriceData!E$15,CalculationsAndCharts!$A325+$A$11,IF($C$7,7,0),1,1)","v":48.51},{"$f":"OFFSET(InputPriceData!F$15,CalculationsAndCharts!$A325+$A$11,IF($C$7,7,0),1,1)","v":48.83},{"$error":"#N/A"},{"$error":"#N/A"},{"$error":"#N/A"},49.874390317509061,49.874390317509061,-0.78463380195099863,-4.4610133690868303E-3,0.89779988761131657,-1.331313444906538,0.59523776210998169,0.91252692705053517,null,52.31,48.54,7.6923076923076636E-2,{"$error":"#N/A"},0.2,0.8,{"$error":"#N/A"},{"$error":"#N/A"},{"$error":"#N/A"},{"$error":"#N/A"},false,false,false,false,false,{"$error":"#N/A"},{"$error":"#N/A"},{"$error":"#N/A"},{"$error":"#N/A"},false,false,true,false,false,{"$error":"#N/A"},{"$error":"#N/A"},{"$error":"#N/A"},{"$error":"#N/A"}]
[294,{"$f":"OFFSET(InputPriceData!B$15,CalculationsAndCharts!$A326+$A$11,0,1,1)","v":"2012-09-10"},{"$f":"OFFSET(InputPriceData!G$15,CalculationsAndCharts!$A326+$A$11,0,1,1)","v":2609500},{"$f":"OFFSET(InputPriceData!C$15,CalculationsAndCharts!$A326+$A$11,IF($C$7,7,0),1,1)","v":49.53},{"$f":"OFFSET(InputPriceData!D$15,CalculationsAndCharts!$A326+$A$11,IF($C$7,7,0),1,1)","v":49.94},{"$f":"OFFSET(InputPriceData!E$15,CalculationsAndCharts!$A326+$A$11,IF($C$7,7,0),1,1)","v":48.92},{"$f":"OFFSET(InputPriceData!F$15,CalculationsAndCharts!$A326+$A$11,IF($C$7,7,0),1,1)","v":48.97},{"$error":"#N/A"},{"$error":"#N/A"},{"$error":"#N/A"},50.377827093039798,50.377827093039798,-0.86753235098127146,0.47484993191392871,0.89779988761131657,-1.331313444906538,0.81026090081312629,0.95308833987376951,null,52.54,48.54,0.10749999999999993,{"$error":"#N/A"},0.2,0.8,{"$error":"#N/A"},{"$error":"#N/A"},{"$error":"#N/A"},{"$error":"#N/A"},false,false,false,false,{"$f":"AND(AG327,AF327)","v":false},{"$error":"#N/A"},{"$error":"#N/A"},{"$error":"#N/A"},{"$error":"#N/A"},false,{"$f":"AND(AM327,NOT(AO327))","v":false},true,false,false,{"$error":"#N/A"},{"$error":"#N/A"},{"$error":"#N/A"},{"$error":"#N/A"}]
[295,{"$f":"OFFSET(InputPriceData!B$15,CalculationsAndCharts!$A327+$A$11,0,1,1)","v":"2012-09-07"},{"$f":"OFFSET(InputPriceData!G$15,CalculationsAndCharts!$A327+$A$11,0,1,1)","v":3055200},{"$f":"OFFSET(InputPriceData!C$15,CalculationsAndCharts!$A327+$A$11,IF($C$7,7,0),1,1)","v":50.57},{"$f":"OFFSET(InputPriceData!D$15,CalculationsAndCharts!$A327+$A$11,IF($C$7,7,0),1,1)","v":50.67},{"$f":"OFFSET(InputPriceData!E$15,CalculationsAndCharts!$A327+$A$11,IF($C$7,7,0),1,1)","v":49.8},{"$f":"OFFSET(InputPriceData!F$15,CalculationsAndCharts!$A327+$A$11,IF($C$7,7,0),1,1)","v":49.85},{"$error":"#N/A"},{"$error":"#N/A"},{"$error":"#N/A"},50.692312744892973,50.692312744892973,-0.14552688493826904,0.83954826606194088,0.89779988761131657,-1.331313444906538,0.97386780622608438,0.89763390908356067,null,52.54,48.54,0.32750000000000057,{"$error":"#N/A"},0.2,0.8,{"$error":"#N/A"},{"$error":"#N/A"},{"$error":"#N/A"},{"$error":"#N/A"},false,false,false,false,false,{"$error":"#N/A"},{"$error":"#N/A"},{"$error":"#N/A"},{"$error":"#N/A"},true,false,true,false,{"$f":"AND(AP328,AO328)","v":false},{"$error":"#N/A"},{"$error":"#N/A"},{"$error":"#N/A"},{"$error":"#N/A"}]
[296,{"$f":"OFFSET(InputPriceData!B$15,CalculationsAndCharts!$A328+$A$11,0,1,1)","v":"2012-09-06"},{"$f":"OFFSET(InputPriceData!G$15,CalculationsAndCharts!$A328+$A$11,0,1,1)","v":4509200},{"$f":"OFFSET(InputPriceData!C$15,CalculationsAndCharts!$A328+$A$11,IF($C$7,7,0),1,1)","v":51.59},{"$f":"OFFSET(InputPriceData!D$15,CalculationsAndCharts!$A328+$A$11,IF($C$7,7,0),1,1)","v":51.63},{"$f":"OFFSET(InputPriceData!E$15,CalculationsAndCharts!$A328+$A$11,IF($C$7,7,0),1,1)","v":50.22},{"$f":"OFFSET(InputPriceData!F$15,CalculationsAndCharts!$A328+$A$11,IF($C$7,7,0),1,1)","v":50.64},{"$error":"#N/A"},{"$error":"#N/A"},{"$error":"#N/A"},50.667725082218006,50.667725082218006,0.62593390894540046,0.89779988761131657,0.89779988761131657,-1.331313444906538,1,0.75937763112847079,null,52.54,48.54,0.52500000000000036,{"$error":"#N/A"},0.2,0.8,{"$error":"#N/A"},{"$error":"#N/A"},{"$error":"#N/A"},{"$error":"#N/A"},false,false,false,false,false,{"$error":"#N/A"},{"$error":"#N/A"},{"$error":"#N/A"},{"$error":"#N/A"},false,false,true,false,false,{"$error":"#N/A"},{"$error":"#N/A"},{"$error":"#N/A"},{"$error":"#N/A"}]
[297,{"$f":"OFFSET(InputPriceData!B$15,CalculationsAndCharts!$A329+$A$11,0,1,1)","v":"2012-09-05"},{"$f":"OFFSET(InputPriceData!G$15,CalculationsAndCharts!$A329+$A$11,0,1,1)","v":5587800},{"$f":"OFFSET(InputPriceData!C$15,CalculationsAndCharts!$A329+$A$11,IF($C$7,7,0),1,1)","v":51.92},{"$f":"OFFSET(InputPriceData!D$15,CalculationsAndCharts!$A329+$A$11,IF($C$7,7,0),1,1)","v":52},{"$f":"OFFSET(InputPriceData!E$15,CalculationsAndCharts!$A329+$A$11,IF($C$7,7,0),1,1)","v":50.76},{"$f":"OFFSET(InputPriceData!F$15,CalculationsAndCharts!$A329+$A$11,IF($C$7,7,0),1,1)","v":51.06},{"$error":"#N/A"},{"$error":"#N/A"},{"$error":"#N/A"},50.347775001210309,50.347775001210309,1.1417959128251174,0.63470687932540359,0.63470687932540359,-1.331313444906538,1,0.56328104319002104,null,52.54,48.54,0.63000000000000078,{"$error":"#N/A"},0.2,0.8,{"$error":"#N/A"},{"$error":"#N/A"},{"$error":"#N/A"},{"$error":"#N/A"},false,false,false,false,false,{"$error":"#N/A"},{"$error":"#N/A"},{"$error":"#N/A"},{"$error":"#N/A"},false,false,true,false,false,{"$error":"#N/A"},{"$error":"#N/A"},{"$error":"#N/A"},{"$error":"#N/A"}]
[298,{"$f":"OFFSET(InputPriceData!B$15,CalculationsAndCharts!$A330+$A$11,0,1,1)","v":"2012-09-04"},{"$f":"OFFSET(InputPriceData!G$15,CalculationsAndCharts!$A330+$A$11,0,1,1)","v":3946200},{"$f":"OFFSET(InputPriceData!C$15,CalculationsAndCharts!$A330+$A$11,IF($C$7,7,0),1,1)","v":51.32},{"$f":"OFFSET(InputPriceData!D$15,CalculationsAndCharts!$A330+$A$11,IF($C$7,7,0),1,1)","v":51.33},{"$f":"OFFSET(InputPriceData!E$15,CalculationsAndCharts!$A330+$A$11,IF($C$7,7,0),1,1)","v":49.89},{"$f":"OFFSET(InputPriceData!F$15,CalculationsAndCharts!$A330+$A$11,IF($C$7,7,0),1,1)","v":50.66},{"$error":"#N/A"},{"$error":"#N/A"},{"$error":"#N/A"},49.878966223765623,49.878966223765623,0.85038238183477999,0.14838498371011499,0.19860587329495616,-1.331313444906538,0.96717415814849728,0.3552857877502385,null,52.72,48.54,0.50717703349282239,{"$error":"#N/A"},0.2,0.8,{"$error":"#N/A"},{"$error":"#N/A"},{"$error":"#N/A"},{"$error":"#N/A"},false,false,false,false,false,{"$error":"#N/A"},{"$error":"#N/A"},{"$error":"#N/A"},{"$error":"#N/A"},false,false,true,false,false,{"$error":"#N/A"},{"$error":"#N/A"},{"$error":"#N/A"},{"$error":"#N/A"}]
[299,{"$f":"OFFSET(InputPriceData!B$15,CalculationsAndCharts!$A331+$A$11,0,1,1)","v":"2012-08-31"},{"$f":"OFFSET(InputPriceData!G$15,CalculationsAndCharts!$A331+$A$11,0,1,1)","v":4392300},{"$f":"OFFSET(InputPriceData!C$15,CalculationsAndCharts!$A331+$A$11,IF($C$7,7,0),1,1)","v":50.3},{"$f":"OFFSET(InputPriceData!D$15,CalculationsAndCharts!$A331+$A$11,IF($C$7,7,0),1,1)","v":51.42},{"$f":"OFFSET(InputPriceData!E$15,CalculationsAndCharts!$A331+$A$11,IF($C$7,7,0),1,1)","v":50.29},{"$f":"OFFSET(InputPriceData!F$15,CalculationsAndCharts!$A331+$A$11,IF($C$7,7,0),1,1)","v":51.07},{"$error":"#N/A"},{"$error":"#N/A"},{"$error":"#N/A"},49.342917943650519,49.342917943650519,1.3821716757372045,-0.51230226405532864,0.19860587329495616,-1.331313444906538,0.53532965503958929,0.23627156603632257,null,52.72,48.54,0.60526315789473717,{"$error":"#N/A"},0.2,0.8,{"$error":"#N/A"},{"$error":"#N/A"},{"$error":"#N/A"},{"$error":"#N/A"},false,false,false,false,false,{"$error":"#N/A"},{"$error":"#N/A"},{"$error":"#N/A"},{"$error":"#N/A"},false,false,true,false,false,{"$error":"#N/A"},{"$error":"#N/A"},{"$error":"#N/A"},{"$error":"#N/A"}]
[300,{"$f":"OFFSET(InputPriceData!B$15,CalculationsAndCharts!$A332+$A$11,0,1,1)","v":"2012-08-30"},{"$f":"OFFSET(InputPriceData!G$15,CalculationsAndCharts!$A332+$A$11,0,1,1)","v":8407500},{"$f":"OFFSET(InputPriceData!C$15,CalculationsAndCharts!$A332+$A$11,IF($C$7,7,0),1,1)","v":48.33},{"$f":"OFFSET(InputPriceData!D$15,CalculationsAndCharts!$A332+$A$11,IF($C$7,7,0),1,1)","v":50.53},{"$f":"OFFSET(InputPriceData!E$15,CalculationsAndCharts!$A332+$A$11,IF($C$7,7,0),1,1)","v":48.22},{"$f":"OFFSET(InputPriceData!F$15,CalculationsAndCharts!$A332+$A$11,IF($C$7,7,0),1,1)","v":50.07},{"$error":"#N/A"},{"$error":"#N/A"},{"$error":"#N/A"},48.976379739890838,48.976379739890838,0.45897700330867552,-1.1163354208754002,0.19860587329495616,-1.331313444906538,0.1405159222931158,0.26385611017909932,null,52.72,48.54,0.36602870813397159,{"$error":"#N/A"},0.2,0.8,{"$error":"#N/A"},{"$error":"#N/A"},{"$error":"#N/A"},{"$error":"#N/A"},false,false,false,false,false,{"$error":"#N/A"},{"$error":"#N/A"},{"$error":"#N/A"},{"$error":"#N/A"},false,false,true,false,false,{"$error":"#N/A"},{"$error":"#N/A"},{"$error":"#N/A"},{"$error":"#N/A"}]
[301,{"$f":"OFFSET(InputPriceData!B$15,CalculationsAndCharts!$A333+$A$11,0,1,1)","v":"2012-08-29"},{"$f":"OFFSET(InputPriceData!G$15,CalculationsAndCharts!$A333+$A$11,0,1,1)","v":2483600},{"$f":"OFFSET(InputPriceData!C$15,CalculationsAndCharts!$A333+$A$11,IF($C$7,7,0),1,1)","v":48.75},{"$f":"OFFSET(InputPriceData!D$15,CalculationsAndCharts!$A333+$A$11,IF($C$7,7,0),1,1)","v":48.91},{"$f":"OFFSET(InputPriceData!E$15,CalculationsAndCharts!$A333+$A$11,IF($C$7,7,0),1,1)","v":48.37},{"$f":"OFFSET(InputPriceData!F$15,CalculationsAndCharts!$A333+$A$11,IF($C$7,7,0),1,1)","v":48.54},{"$error":"#N/A"},{"$f":"IF($A333=$E$25,I$32,NA())","v":{"$error":"#N/A"}},{"$error":"#N/A"},49.066006494557186,49.066006494557186,-1.239269864629863,-1.331313444906538,0.19860587329495616,-1.4917024057050154,9.48874017781937E-2,0.3765083213053193,null,52.72,48.54,0,{"$error":"#N/A"},0.2,0.8,{"$error":"#N/A"},{"$error":"#N/A"},{"$error":"#N/A"},{"$error":"#N/A"},false,false,false,false,false,{"$error":"#N/A"},{"$error":"#N/A"},{"$error":"#N/A"},{"$error":"#N/A"},false,false,true,false,false,{"$error":"#N/A"},{"$error":"#N/A"},{"$error":"#N/A"},{"$error":"#N/A"}]
[302,{"$f":"OFFSET(InputPriceData!B$15,CalculationsAndCharts!$A334+$A$11,0,1,1)","v":"2012-08-28"},{"$f":"OFFSET(InputPriceData!G$15,CalculationsAndCharts!$A334+$A$11,0,1,1)","v":2428600},{"$f":"OFFSET(InputPriceData!C$15,CalculationsAndCharts!$A334+$A$11,IF($C$7,7,0),1,1)","v":48.78},{"$f":"OFFSET(InputPriceData!D$15,CalculationsAndCharts!$A334+$A$11,IF($C$7,7,0),1,1)","v":48.93},{"$f":"OFFSET(InputPriceData!E$15,CalculationsAndCharts!$A334+$A$11,IF($C$7,7,0),1,1)","v":48.61},{"$f":"OFFSET(InputPriceData!F$15,CalculationsAndCharts!$A334+$A$11,IF($C$7,7,0),1,1)","v":48.82},{"$error":"#N/A"},{"$error":"#N/A"},{"$error":"#N/A"},49.431009670892045,49.431009670892045,-1.2816405187177584,-1.274749695549144,0.19860587329495616,-1.8280651999785933,0.27301692500881009,0.49111949930660231,null,52.72,48.82,0,{"$error":"#N/A"},0.2,0.8,{"$error":"#N/A"},{"$error":"#N/A"},{"$error":"#N/A"},{"$error":"#N/A"},false,false,false,false,false,{"$error":"#N/A"},{"$error":"#N/A"},{"$error":"#N/A"},{"$error":"#N/A"},false,false,true,false,false,{"$error":"#N/A"},{"$error":"#N/A"},{"$error":"#N/A"},{"$error":"#N/A"}]
[303,{"$f":"OFFSET(InputPriceData!B$15,CalculationsAndCharts!$A335+$A$11,0,1,1)","v":"2012-08-27"},{"$f":"OFFSET(InputPriceData!G$15,CalculationsAndCharts!$A335+$A$11,0,1,1)","v":4675100},{"$f":"OFFSET(InputPriceData!C$15,CalculationsAndCharts!$A335+$A$11,IF($C$7,7,0),1,1)","v":49.41},{"$f":"OFFSET(InputPriceData!D$15,CalculationsAndCharts!$A335+$A$11,IF($C$7,7,0),1,1)","v":49.72},{"$f":"OFFSET(InputPriceData!E$15,CalculationsAndCharts!$A335+$A$11,IF($C$7,7,0),1,1)","v":48.57},{"$f":"OFFSET(InputPriceData!F$15,CalculationsAndCharts!$A335+$A$11,IF($C$7,7,0),1,1)","v":48.85},{"$error":"#N/A"},{"$error":"#N/A"},{"$error":"#N/A"},49.856241442492973,49.856241442492973,-1.5954204333164439,-1.1284264577360115,0.19860587329495616,-2.0829613376264637,0.41836807406824522,0.58072966423173611,null,52.72,48.85,0,{"$error":"#N/A"},0.2,0.8,{"$error":"#N/A"},{"$error":"#N/A"},{"$error":"#N/A"},{"$error":"#N/A"},false,false,false,false,false,{"$error":"#N/A"},{"$error":"#N/A"},{"$error":"#N/A"},{"$error":"#N/A"},false,false,true,false,false,{"$error":"#N/A"},{"$error":"#N/A"},{"$error":"#N/A"},{"$error":"#N/A"}]
[304,{"$f":"OFFSET(InputPriceData!B$15,CalculationsAndCharts!$A336+$A$11,0,1,1)","v":"2012-08-24"},{"$f":"OFFSET(InputPriceData!G$15,CalculationsAndCharts!$A336+$A$11,0,1,1)","v":2419700},{"$f":"OFFSET(InputPriceData!C$15,CalculationsAndCharts!$A336+$A$11,IF($C$7,7,0),1,1)","v":49.46},{"$f":"OFFSET(InputPriceData!D$15,CalculationsAndCharts!$A336+$A$11,IF($C$7,7,0),1,1)","v":50.21},{"$f":"OFFSET(InputPriceData!E$15,CalculationsAndCharts!$A336+$A$11,IF($C$7,7,0),1,1)","v":49.46},{"$f":"OFFSET(InputPriceData!F$15,CalculationsAndCharts!$A336+$A$11,IF($C$7,7,0),1,1)","v":49.66},{"$error":"#N/A"},{"$error":"#N/A"},{"$error":"#N/A"},50.261593204953115,50.261593204953115,-1.1004721134621804,-0.96352096432161316,0.19860587329495616,-2.2589223337780311,0.52711556503324619,0.65394694864761771,null,52.72,49.66,0,{"$error":"#N/A"},0.2,0.8,{"$error":"#N/A"},{"$error":"#N/A"},{"$error":"#N/A"},{"$error":"#N/A"},false,false,false,false,false,{"$error":"#N/A"},{"$error":"#N/A"},{"$error":"#N/A"},{"$error":"#N/A"},false,false,true,false,false,{"$error":"#N/A"},{"$error":"#N/A"},{"$error":"#N/A"},{"$error":"#N/A"}]
[305,{"$f":"OFFSET(InputPriceData!B$15,CalculationsAndCharts!$A337+$A$11,0,1,1)","v":"2012-08-23"},{"$f":"OFFSET(InputPriceData!G$15,CalculationsAndCharts!$A337+$A$11,0,1,1)","v":4561100},{"$f":"OFFSET(InputPriceData!C$15,CalculationsAndCharts!$A337+$A$11,IF($C$7,7,0),1,1)","v":49.77},{"$f":"OFFSET(InputPriceData!D$15,CalculationsAndCharts!$A337+$A$11,IF($C$7,7,0),1,1)","v":50.03},{"$f":"OFFSET(InputPriceData!E$15,CalculationsAndCharts!$A337+$A$11,IF($C$7,7,0),1,1)","v":48.19},{"$f":"OFFSET(InputPriceData!F$15,CalculationsAndCharts!$A337+$A$11,IF($C$7,7,0),1,1)","v":49.71},{"$error":"#N/A"},{"$error":"#N/A"},{"$error":"#N/A"},50.627625311448703,50.627625311448703,-1.3299454601022118,-0.79917729841388141,0.19860587329495616,-2.3405720107305616,0.60704479273150047,0.72043891281587791,null,52.72,49.71,0,{"$error":"#N/A"},0.2,0.8,{"$error":"#N/A"},{"$error":"#N/A"},{"$error":"#N/A"},{"$error":"#N/A"},false,false,false,false,false,{"$error":"#N/A"},{"$error":"#N/A"},{"$error":"#N/A"},{"$error":"#N/A"},false,false,true,false,false,{"$error":"#N/A"},{"$error":"#N/A"},{"$error":"#N/A"},{"$error":"#N/A"}]
[306,{"$f":"OFFSET(InputPriceData!B$15,CalculationsAndCharts!$A338+$A$11,0,1,1)","v":"2012-08-22"},{"$f":"OFFSET(InputPriceData!G$15,CalculationsAndCharts!$A338+$A$11,0,1,1)","v":1859000},{"$f":"OFFSET(InputPriceData!C$15,CalculationsAndCharts!$A338+$A$11,IF($C$7,7,0),1,1)","v":50.64},{"$f":"OFFSET(InputPriceData!D$15,CalculationsAndCharts!$A338+$A$11,IF($C$7,7,0),1,1)","v":50.67},{"$f":"OFFSET(InputPriceData!E$15,CalculationsAndCharts!$A338+$A$11,IF($C$7,7,0),1,1)","v":50.18},{"$f":"OFFSET(InputPriceData!F$15,CalculationsAndCharts!$A338+$A$11,IF($C$7,7,0),1,1)","v":50.54},{"$error":"#N/A"},{"$error":"#N/A"},{"$error":"#N/A"},50.937427547315195,50.937427547315195,-0.73602517545187618,-0.65565187343670706,0.19860587329495616,-2.3502056655743528,0.66484075668041553,0.78771761396632956,null,52.72,50.54,0,{"$error":"#N/A"},0.2,0.8,{"$error":"#N/A"},{"$error":"#N/A"},{"$error":"#N/A"},{"$error":"#N/A"},false,false,false,false,false,{"$error":"#N/A"},{"$error":"#N/A"},{"$error":"#N/A"},{"$error":"#N/A"},false,false,true,false,false,{"$error":"#N/A"},{"$error":"#N/A"},{"$error":"#N/A"},{"$error":"#N/A"}]
[307,{"$f":"OFFSET(InputPriceData!B$15,CalculationsAndCharts!$A339+$A$11,0,1,1)","v":"2012-08-21"},{"$f":"OFFSET(InputPriceData!G$15,CalculationsAndCharts!$A339+$A$11,0,1,1)","v":2172700},{"$f":"OFFSET(InputPriceData!C$15,CalculationsAndCharts!$A339+$A$11,IF($C$7,7,0),1,1)","v":50.84},{"$f":"OFFSET(InputPriceData!D$15,CalculationsAndCharts!$A339+$A$11,IF($C$7,7,0),1,1)","v":51.15},{"$f":"OFFSET(InputPriceData!E$15,CalculationsAndCharts!$A339+$A$11,IF($C$7,7,0),1,1)","v":50.55},{"$f":"OFFSET(InputPriceData!F$15,CalculationsAndCharts!$A339+$A$11,IF($C$7,7,0),1,1)","v":50.77},{"$error":"#N/A"},{"$error":"#N/A"},{"$error":"#N/A"},51.190647114194377,51.190647114194377,-0.67389326723277876,-0.53892563794233317,0.19860587329495616,-2.3502056655743528,0.71063709497938432,0.85788395777427029,null,52.72,50.77,0,{"$error":"#N/A"},0.2,0.8,{"$error":"#N/A"},{"$error":"#N/A"},{"$error":"#N/A"},{"$error":"#N/A"},false,false,false,false,false,{"$error":"#N/A"},{"$error":"#N/A"},{"$error":"#N/A"},{"$error":"#N/A"},false,false,true,false,false,{"$error":"#N/A"},{"$error":"#N/A"},{"$error":"#N/A"},{"$error":"#N/A"}]
[308,{"$f":"OFFSET(InputPriceData!B$15,CalculationsAndCharts!$A340+$A$11,0,1,1)","v":"2012-08-20"},{"$f":"OFFSET(InputPriceData!G$15,CalculationsAndCharts!$A340+$A$11,0,1,1)","v":1737600},{"$f":"OFFSET(InputPriceData!C$15,CalculationsAndCharts!$A340+$A$11,IF($C$7,7,0),1,1)","v":51.59},{"$f":"OFFSET(InputPriceData!D$15,CalculationsAndCharts!$A340+$A$11,IF($C$7,7,0),1,1)","v":51.59},{"$f":"OFFSET(InputPriceData!E$15,CalculationsAndCharts!$A340+$A$11,IF($C$7,7,0),1,1)","v":50.65},{"$f":"OFFSET(InputPriceData!F$15,CalculationsAndCharts!$A340+$A$11,IF($C$7,7,0),1,1)","v":50.79},{"$error":"#N/A"},{"$error":"#N/A"},{"$error":"#N/A"},51.476641589127311,51.476641589127311,-0.82364136709548086,-0.35731127919793076,0.19860587329495616,-2.3502056655743528,0.78189162124575917,0.92376507030565436,null,52.72,50.79,0,{"$error":"#N/A"},0.2,0.8,{"$error":"#N/A"},{"$error":"#N/A"},{"$error":"#N/A"},{"$error":"#N/A"},false,false,false,false,false,{"$error":"#N/A"},{"$error":"#N/A"},{"$error":"#N/A"},{"$error":"#N/A"},false,false,true,false,false,{"$error":"#N/A"},{"$error":"#N/A"},{"$error":"#N/A"},{"$error":"#N/A"}]
[309,{"$f":"OFFSET(InputPriceData!B$15,CalculationsAndCharts!$A341+$A$11,0,1,1)","v":"2012-08-17"},{"$f":"OFFSET(InputPriceData!G$15,CalculationsAndCharts!$A341+$A$11,0,1,1)","v":1999600},{"$f":"OFFSET(InputPriceData!C$15,CalculationsAndCharts!$A341+$A$11,IF($C$7,7,0),1,1)","v":51.11},{"$f":"OFFSET(InputPriceData!D$15,CalculationsAndCharts!$A341+$A$11,IF($C$7,7,0),1,1)","v":51.76},{"$f":"OFFSET(InputPriceData!E$15,CalculationsAndCharts!$A341+$A$11,IF($C$7,7,0),1,1)","v":51.04},{"$f":"OFFSET(InputPriceData!F$15,CalculationsAndCharts!$A341+$A$11,IF($C$7,7,0),1,1)","v":51.35},{"$error":"#N/A"},{"$error":"#N/A"},{"$error":"#N/A"},51.743237740005071,51.743237740005071,-0.40240642054895015,-0.15666982920772976,0.19860587329495616,-2.3502056655743528,0.86061123112292104,0.97470023206764056,null,52.72,50.95,0.22598870056497145,{"$error":"#N/A"},0.2,0.8,{"$error":"#N/A"},{"$error":"#N/A"},{"$error":"#N/A"},{"$error":"#N/A"},false,false,false,false,false,{"$error":"#N/A"},{"$error":"#N/A"},{"$error":"#N/A"},{"$error":"#N/A"},false,false,true,false,false,{"$error":"#N/A"},{"$error":"#N/A"},{"$error":"#N/A"},{"$error":"#N/A"}]
[310,{"$f":"OFFSET(InputPriceData!B$15,CalculationsAndCharts!$A342+$A$11,0,1,1)","v":"2012-08-16"},{"$f":"OFFSET(InputPriceData!G$15,CalculationsAndCharts!$A342+$A$11,0,1,1)","v":3888900},{"$f":"OFFSET(InputPriceData!C$15,CalculationsAndCharts!$A342+$A$11,IF($C$7,7,0),1,1)","v":50.75},{"$f":"OFFSET(InputPriceData!D$15,CalculationsAndCharts!$A342+$A$11,IF($C$7,7,0),1,1)","v":51.55},{"$f":"OFFSET(InputPriceData!E$15,CalculationsAndCharts!$A342+$A$11,IF($C$7,7,0),1,1)","v":50.3},{"$f":"OFFSET(InputPriceData!F$15,CalculationsAndCharts!$A342+$A$11,IF($C$7,7,0),1,1)","v":51.22},{"$error":"#N/A"},{"$error":"#N/A"},{"$error":"#N/A"},51.977074077679788,51.977074077679788,-0.6502249291483122,5.0290954124504003E-2,0.19860587329495616,-2.3502056655743528,0.94181016646046456,1.0040996556347079,null,52.72,50.95,0.15254237288135403,{"$error":"#N/A"},0.2,0.8,{"$error":"#N/A"},{"$error":"#N/A"},{"$error":"#N/A"},{"$error":"#N/A"},false,false,false,false,false,{"$error":"#N/A"},{"$error":"#N/A"},{"$error":"#N/A"},{"$error":"#N/A"},false,false,true,false,false,{"$error":"#N/A"},{"$error":"#N/A"},{"$error":"#N/A"},{"$error":"#N/A"}]
[311,{"$f":"OFFSET(InputPriceData!B$15,CalculationsAndCharts!$A343+$A$11,0,1,1)","v":"2012-08-15"},{"$f":"OFFSET(InputPriceData!G$15,CalculationsAndCharts!$A343+$A$11,0,1,1)","v":1335800},{"$f":"OFFSET(InputPriceData!C$15,CalculationsAndCharts!$A343+$A$11,IF($C$7,7,0),1,1)","v":52.41},{"$f":"OFFSET(InputPriceData!D$15,CalculationsAndCharts!$A343+$A$11,IF($C$7,7,0),1,1)","v":52.65},{"$f":"OFFSET(InputPriceData!E$15,CalculationsAndCharts!$A343+$A$11,IF($C$7,7,0),1,1)","v":51.69},{"$f":"OFFSET(InputPriceData!F$15,CalculationsAndCharts!$A343+$A$11,IF($C$7,7,0),1,1)","v":51.76},{"$error":"#N/A"},{"$error":"#N/A"},{"$error":"#N/A"},52.119667283944395,52.119667283944395,-0.2057369356525498,0.19860587329495616,0.19860587329495616,-2.3502056655743528,1,1.0122558439707821,null,52.72,50.95,0.45762711864406608,{"$error":"#N/A"},0.2,0.8,{"$error":"#N/A"},{"$error":"#N/A"},{"$error":"#N/A"},{"$error":"#N/A"},false,false,false,false,false,{"$error":"#N/A"},{"$error":"#N/A"},{"$error":"#N/A"},{"$error":"#N/A"},false,false,true,false,false,{"$error":"#N/A"},{"$error":"#N/A"},{"$error":"#N/A"},{"$error":"#N/A"}]
[312,{"$f":"OFFSET(InputPriceData!B$15,CalculationsAndCharts!$A344+$A$11,0,1,1)","v":"2012-08-14"},{"$f":"OFFSET(InputPriceData!G$15,CalculationsAndCharts!$A344+$A$11,0,1,1)","v":1113800},{"$f":"OFFSET(InputPriceData!C$15,CalculationsAndCharts!$A344+$A$11,IF($C$7,7,0),1,1)","v":52.62},{"$f":"OFFSET(InputPriceData!D$15,CalculationsAndCharts!$A344+$A$11,IF($C$7,7,0),1,1)","v":52.9},{"$f":"OFFSET(InputPriceData!E$15,CalculationsAndCharts!$A344+$A$11,IF($C$7,7,0),1,1)","v":52.18},{"$f":"OFFSET(InputPriceData!F$15,CalculationsAndCharts!$A344+$A$11,IF($C$7,7,0),1,1)","v":52.31},{"$error":"#N/A"},{"$error":"#N/A"},{"$error":"#N/A"},52.07882631962687,52.07882631962687,0.34220494295971038,0.17357222830923802,0.17357222830923802,-2.3502056655743528,1,1.0066366725920077,null,53.74,50.95,0.48745519713261642,{"$error":"#N/A"},0.2,0.8,{"$error":"#N/A"},{"$error":"#N/A"},{"$error":"#N/A"},{"$error":"#N/A"},false,false,false,false,false,{"$error":"#N/A"},{"$error":"#N/A"},{"$error":"#N/A"},{"$error":"#N/A"},false,false,true,false,false,{"$error":"#N/A"},{"$error":"#N/A"},{"$error":"#N/A"},{"$error":"#N/A"}]
[313,{"$f":"OFFSET(InputPriceData!B$15,CalculationsAndCharts!$A345+$A$11,0,1,1)","v":"2012-08-13"},{"$f":"OFFSET(InputPriceData!G$15,CalculationsAndCharts!$A345+$A$11,0,1,1)","v":2458400},{"$f":"OFFSET(InputPriceData!C$15,CalculationsAndCharts!$A345+$A$11,IF($C$7,7,0),1,1)","v":51.79},{"$f":"OFFSET(InputPriceData!D$15,CalculationsAndCharts!$A345+$A$11,IF($C$7,7,0),1,1)","v":52.59},{"$f":"OFFSET(InputPriceData!E$15,CalculationsAndCharts!$A345+$A$11,IF($C$7,7,0),1,1)","v":51.52},{"$f":"OFFSET(InputPriceData!F$15,CalculationsAndCharts!$A345+$A$11,IF($C$7,7,0),1,1)","v":52.54},{"$error":"#N/A"},{"$error":"#N/A"},{"$error":"#N/A"},51.952554917208005,51.952554917208005,0.64667777944273608,4.7875818683254731E-2,0.10233430406793748,-2.3502056655743528,0.97779506713090369,0.98888998118314519,null,55.06,50.95,0.38686131386861228,{"$error":"#N/A"},0.2,0.8,{"$error":"#N/A"},{"$error":"#N/A"},{"$error":"#N/A"},{"$error":"#N/A"},false,false,false,false,false,{"$error":"#N/A"},{"$error":"#N/A"},{"$error":"#N/A"},{"$error":"#N/A"},false,false,true,false,false,{"$error":"#N/A"},{"$error":"#N/A"},{"$error":"#N/A"},{"$error":"#N/A"}]
[314,{"$f":"OFFSET(InputPriceData!B$15,CalculationsAndCharts!$A346+$A$11,0,1,1)","v":"2012-08-10"},{"$f":"OFFSET(InputPriceData!G$15,CalculationsAndCharts!$A346+$A$11,0,1,1)","v":1971900},{"$f":"OFFSET(InputPriceData!C$15,CalculationsAndCharts!$A346+$A$11,IF($C$7,7,0),1,1)","v":51.16},{"$f":"OFFSET(InputPriceData!D$15,CalculationsAndCharts!$A346+$A$11,IF($C$7,7,0),1,1)","v":51.96},{"$f":"OFFSET(InputPriceData!E$15,CalculationsAndCharts!$A346+$A$11,IF($C$7,7,0),1,1)","v":51.1},{"$f":"OFFSET(InputPriceData!F$15,CalculationsAndCharts!$A346+$A$11,IF($C$7,7,0),1,1)","v":51.77},{"$error":"#N/A"},{"$error":"#N/A"},{"$error":"#N/A"},51.936316175637302,51.936316175637302,-9.2408828743713034E-2,1.71073312094134E-2,0.10233430406793748,-2.3502056655743528,0.96524950707696133,0.94574642722199531,null,55.06,50.95,0.19951338199513391,{"$error":"#N/A"},0.2,0.8,{"$error":"#N/A"},51.16,{"$error":"#N/A"},{"$error":"#N/A"},false,false,true,false,true,{"$error":"#N/A"},51.16,{"$error":"#N/A"},51.16,false,true,true,false,false,51.16,{"$error":"#N/A"},51.16,{"$error":"#N/A"}]
[315,{"$f":"OFFSET(InputPriceData!B$15,CalculationsAndCharts!$A347+$A$11,0,1,1)","v":"2012-08-09"},{"$f":"OFFSET(InputPriceData!G$15,CalculationsAndCharts!$A347+$A$11,0,1,1)","v":1426300},{"$f":"OFFSET(InputPriceData!C$15,CalculationsAndCharts!$A347+$A$11,IF($C$7,7,0),1,1)","v":52.15},{"$f":"OFFSET(InputPriceData!D$15,CalculationsAndCharts!$A347+$A$11,IF($C$7,7,0),1,1)","v":52.46},{"$f":"OFFSET(InputPriceData!E$15,CalculationsAndCharts!$A347+$A$11,IF($C$7,7,0),1,1)","v":51.29},{"$f":"OFFSET(InputPriceData!F$15,CalculationsAndCharts!$A347+$A$11,IF($C$7,7,0),1,1)","v":51.35},{"$error":"#N/A"},{"$error":"#N/A"},{"$error":"#N/A"},52.031424828317029,52.031424828317029,-0.5963242563566008,0.10233430406793748,0.10233430406793748,-2.3502056655743528,1,0.85671380927364671,null,55.06,50.95,9.7323600973235683E-2,{"$error":"#N/A"},0.2,0.8,{"$error":"#N/A"},{"$error":"#N/A"},{"$error":"#N/A"},0.85671380927364671,false,false,true,true,false,{"$error":"#N/A"},{"$error":"#N/A"},{"$error":"#N/A"},{"$error":"#N/A"},true,false,false,false,false,{"$error":"#N/A"},{"$error":"#N/A"},{"$error":"#N/A"},{"$error":"#N/A"}]
[316,{"$f":"OFFSET(InputPriceData!B$15,CalculationsAndCharts!$A348+$A$11,0,1,1)","v":"2012-08-08"},{"$f":"OFFSET(InputPriceData!G$15,CalculationsAndCharts!$A348+$A$11,0,1,1)","v":1810100},{"$f":"OFFSET(InputPriceData!C$15,CalculationsAndCharts!$A348+$A$11,IF($C$7,7,0),1,1)","v":52.54},{"$f":"OFFSET(InputPriceData!D$15,CalculationsAndCharts!$A348+$A$11,IF($C$7,7,0),1,1)","v":52.63},{"$f":"OFFSET(InputPriceData!E$15,CalculationsAndCharts!$A348+$A$11,IF($C$7,7,0),1,1)","v":51.96},{"$f":"OFFSET(InputPriceData!F$15,CalculationsAndCharts!$A348+$A$11,IF($C$7,7,0),1,1)","v":52.1},{"$error":"#N/A"},{"$error":"#N/A"},{"$error":"#N/A"},51.972524320542618,51.972524320542618,8.9138133641710082E-2,3.4624645213171545E-2,3.4624645213171545E-2,-2.3502056655743528,1,0.71773822603424853,null,55.06,50.95,0.27980535279805324,{"$error":"#N/A"},0.2,0.8,{"$error":"#N/A"},{"$error":"#N/A"},{"$error":"#N/A"},{"$error":"#N/A"},false,{"$f":"AND(AD349,NOT(AF349))","v":false},true,false,false,{"$error":"#N/A"},{"$error":"#N/A"},{"$error":"#N/A"},{"$error":"#N/A"},false,false,false,false,false,{"$error":"#N/A"},{"$error":"#N/A"},{"$error":"#N/A"},{"$error":"#N/A"}]
[317,{"$f":"OFFSET(InputPriceData!B$15,CalculationsAndCharts!$A349+$A$11,0,1,1)","v":"2012-08-07"},{"$f":"OFFSET(InputPriceData!G$15,CalculationsAndCharts!$A349+$A$11,0,1,1)","v":2164800},{"$f":"OFFSET(InputPriceData!C$15,CalculationsAndCharts!$A349+$A$11,IF($C$7,7,0),1,1)","v":51.7},{"$f":"OFFSET(InputPriceData!D$15,CalculationsAndCharts!$A349+$A$11,IF($C$7,7,0),1,1)","v":52.97},{"$f":"OFFSET(InputPriceData!E$15,CalculationsAndCharts!$A349+$A$11,IF($C$7,7,0),1,1)","v":51.61},{"$f":"OFFSET(InputPriceData!F$15,CalculationsAndCharts!$A349+$A$11,IF($C$7,7,0),1,1)","v":52.72},{"$error":"#N/A"},{"$error":"#N/A"},{"$error":"#N/A"},51.676976679568007,51.676976679568007,0.77042234356538519,-0.30738605265825503,-2.3919322369354457E-2,-2.3502056655743528,0.87814624320995704,0.55356165529488011,null,55.06,50.95,0.43065693430656843,{"$error":"#N/A"},0.2,0.8,{"$error":"#N/A"},{"$error":"#N/A"},{"$error":"#N/A"},{"$error":"#N/A"},false,false,true,false,false,{"$error":"#N/A"},{"$error":"#N/A"},{"$error":"#N/A"},{"$error":"#N/A"},false,false,false,false,false,{"$error":"#N/A"},{"$error":"#N/A"},{"$error":"#N/A"},{"$error":"#N/A"}]
[318,{"$f":"OFFSET(InputPriceData!B$15,CalculationsAndCharts!$A350+$A$11,0,1,1)","v":"2012-08-06"},{"$f":"OFFSET(InputPriceData!G$15,CalculationsAndCharts!$A350+$A$11,0,1,1)","v":1208000},{"$f":"OFFSET(InputPriceData!C$15,CalculationsAndCharts!$A350+$A$11,IF($C$7,7,0),1,1)","v":51.96},{"$f":"OFFSET(InputPriceData!D$15,CalculationsAndCharts!$A350+$A$11,IF($C$7,7,0),1,1)","v":52.46},{"$f":"OFFSET(InputPriceData!E$15,CalculationsAndCharts!$A350+$A$11,IF($C$7,7,0),1,1)","v":51.49},{"$f":"OFFSET(InputPriceData!F$15,CalculationsAndCharts!$A350+$A$11,IF($C$7,7,0),1,1)","v":51.54},{"$error":"#N/A"},{"$error":"#N/A"},{"$error":"#N/A"},51.409544950725035,51.409544950725035,-0.39585610889145606,-0.68523534835407962,-2.3919322369354457E-2,-2.3502056655743528,0.71572028184904823,0.39165872988115036,null,55.6,50.95,0.12688172043010676,{"$error":"#N/A"},0.2,0.8,{"$error":"#N/A"},{"$error":"#N/A"},{"$error":"#N/A"},{"$error":"#N/A"},false,false,true,false,false,{"$error":"#N/A"},{"$error":"#N/A"},{"$error":"#N/A"},{"$error":"#N/A"},false,false,false,false,false,{"$error":"#N/A"},{"$error":"#N/A"},{"$error":"#N/A"},{"$error":"#N/A"}]
[319,{"$f":"OFFSET(InputPriceData!B$15,CalculationsAndCharts!$A351+$A$11,0,1,1)","v":"2012-08-03"},{"$f":"OFFSET(InputPriceData!G$15,CalculationsAndCharts!$A351+$A$11,0,1,1)","v":2083000},{"$f":"OFFSET(InputPriceData!C$15,CalculationsAndCharts!$A351+$A$11,IF($C$7,7,0),1,1)","v":52.25},{"$f":"OFFSET(InputPriceData!D$15,CalculationsAndCharts!$A351+$A$11,IF($C$7,7,0),1,1)","v":52.25},{"$f":"OFFSET(InputPriceData!E$15,CalculationsAndCharts!$A351+$A$11,IF($C$7,7,0),1,1)","v":51.65},{"$f":"OFFSET(InputPriceData!F$15,CalculationsAndCharts!$A351+$A$11,IF($C$7,7,0),1,1)","v":51.9},{"$error":"#N/A"},{"$error":"#N/A"},{"$error":"#N/A"},51.202737270473214,51.202737270473214,-0.10273350152896521,-1.0669169215468519,-2.3919322369354457E-2,-2.3502056655743528,0.55164694053074892,0.24744712447833325,null,55.6,50.95,0.20430107526881636,{"$error":"#N/A"},0.2,0.8,{"$error":"#N/A"},{"$error":"#N/A"},{"$error":"#N/A"},{"$error":"#N/A"},false,false,true,false,false,{"$error":"#N/A"},{"$error":"#N/A"},{"$error":"#N/A"},{"$error":"#N/A"},false,false,false,false,false,{"$error":"#N/A"},{"$error":"#N/A"},{"$error":"#N/A"},{"$error":"#N/A"}]
[320,{"$f":"OFFSET(InputPriceData!B$15,CalculationsAndCharts!$A352+$A$11,0,1,1)","v":"2012-08-02"},{"$f":"OFFSET(InputPriceData!G$15,CalculationsAndCharts!$A352+$A$11,0,1,1)","v":2333900},{"$f":"OFFSET(InputPriceData!C$15,CalculationsAndCharts!$A352+$A$11,IF($C$7,7,0),1,1)","v":50.92},{"$f":"OFFSET(InputPriceData!D$15,CalculationsAndCharts!$A352+$A$11,IF($C$7,7,0),1,1)","v":51.57},{"$f":"OFFSET(InputPriceData!E$15,CalculationsAndCharts!$A352+$A$11,IF($C$7,7,0),1,1)","v":50.88},{"$f":"OFFSET(InputPriceData!F$15,CalculationsAndCharts!$A352+$A$11,IF($C$7,7,0),1,1)","v":51.47},{"$error":"#N/A"},{"$error":"#N/A"},{"$error":"#N/A"},51.018270970467213,51.018270970467213,-0.6175267764047816,-1.4917024057050154,-2.3919322369354457E-2,-2.3502056655743528,0.36904453416794353,0.13453199348144795,null,55.6,50.95,0.1118279569892465,{"$error":"#N/A"},0.2,0.8,{"$error":"#N/A"},{"$error":"#N/A"},{"$error":"#N/A"},{"$error":"#N/A"},false,false,true,false,false,{"$error":"#N/A"},{"$error":"#N/A"},{"$error":"#N/A"},{"$error":"#N/A"},false,false,false,false,false,{"$error":"#N/A"},{"$error":"#N/A"},{"$error":"#N/A"},{"$error":"#N/A"}]
[321,{"$f":"OFFSET(InputPriceData!B$15,CalculationsAndCharts!$A353+$A$11,0,1,1)","v":"2012-08-01"},{"$f":"OFFSET(InputPriceData!G$15,CalculationsAndCharts!$A353+$A$11,0,1,1)","v":2632600},{"$f":"OFFSET(InputPriceData!C$15,CalculationsAndCharts!$A353+$A$11,IF($C$7,7,0),1,1)","v":51.38},{"$f":"OFFSET(InputPriceData!D$15,CalculationsAndCharts!$A353+$A$11,IF($C$7,7,0),1,1)","v":51.5},{"$f":"OFFSET(InputPriceData!E$15,CalculationsAndCharts!$A353+$A$11,IF($C$7,7,0),1,1)","v":50.91},{"$f":"OFFSET(InputPriceData!F$15,CalculationsAndCharts!$A353+$A$11,IF($C$7,7,0),1,1)","v":51.06},{"$f":"IF($A353=$E$25,H$32,NA())","v":{"$error":"#N/A"}},{"$f":"IF($A353=$E$25,I$32,NA())","v":{"$error":"#N/A"}},{"$error":"#N/A"},{"$f":"$F$16*(G353+G354)/2+$F$17*K354+$F$18*K355","v":50.980114213673914},50.980114213673914,{"$f":"$D$21*(G353 - 2*G354 + G355) + $D$20*M354 - $F$20*M355","v":-1.2093439771171475},-1.8280651999785933,0.16183104723194436,-2.3502056655743528,{"$f":"IFERROR(IF($A353>$A$8,0,(N353-P353)/(O353-P353)),1)","v":0.20785542780242866},{"$f":"IF($A353>$A$8,0,$F$16*(Q353+Q354)/2+$F$17*R354+$F$18*R355)","v":6.0521556553964649E-2},null,{"$f":"MAX(OFFSET(G353,0,0,$A$22,1))","v":55.6},{"$f":"MIN(OFFSET(G353,0,0,$A$22,1))","v":50.95},{"$f":"IFERROR(IF($A353>$A$8,0,(G353-U353)/(T353-U353)),1)","v":2.3655913978494508E-2},{"$error":"#N/A"},0.2,0.8,{"$f":"IF($S$7,AI353,NA())","v":{"$error":"#N/A"}},{"$f":"IF($S$7,AJ353,NA())","v":{"$error":"#N/A"}},{"$f":"IF($S$7,IF(AD353,R353,NA()),NA())","v":{"$error":"#N/A"}},{"$f":"IF($S$7,IF(AG353,R353,NA()),NA())","v":{"$error":"#N/A"}},{"$f":"IF(AND(R354>$X$32,R353<$X$32),TRUE,FALSE)","v":false},false,true,{"$f":"IF(AND(AF353,R354<$Y$32,R353>$Y$32),TRUE,FALSE)","v":false},false,{"$f":"IF(AE353,D353,NA())","v":{"$error":"#N/A"}},{"$f":"IF(AH353,D353,NA())","v":{"$error":"#N/A"}},{"$f":"IF($S$7,AI353,NA())","v":{"$error":"#N/A"}},{"$f":"IF($S$7,AJ353,NA())","v":{"$error":"#N/A"}},{"$f":"IF(AND(R354<$Y$32,R353>$Y$32),TRUE,FALSE)","v":false},false,false,{"$f":"IF(AND(AO354,R354>$X$32,R353<$X$32),TRUE,FALSE)","v":false},false,{"$f":"IF(AN353,D353,NA())","v":{"$error":"#N/A"}},{"$f":"IF(AQ353,D353,NA())","v":{"$error":"#N/A"}},{"$error":"#N/A"},{"$error":"#N/A"}]
[322,{"$f":"OFFSET(InputPriceData!B$15,CalculationsAndCharts!$A354+$A$11,0,1,1)","v":"2012-07-31"},{"$f":"OFFSET(InputPriceData!G$15,CalculationsAndCharts!$A354+$A$11,0,1,1)","v":2716100},{"$f":"OFFSET(InputPriceData!C$15,CalculationsAndCharts!$A354+$A$11,IF($C$7,7,0),1,1)","v":51},{"$f":"OFFSET(InputPriceData!D$15,CalculationsAndCharts!$A354+$A$11,IF($C$7,7,0),1,1)","v":51.26},{"$f":"OFFSET(InputPriceData!E$15,CalculationsAndCharts!$A354+$A$11,IF($C$7,7,0),1,1)","v":50.32},{"$f":"OFFSET(InputPriceData!F$15,CalculationsAndCharts!$A354+$A$11,IF($C$7,7,0),1,1)","v":51.01},{"$error":"#N/A"},{"$error":"#N/A"},{"$error":"#N/A"},51.06267723648066,{"$f":"IF($S$5,K354,NA())","v":51.06267723648066},-1.5144713527812836,{"$f":"$F$16*(M354+M355)/2+$F$17*N355+$F$18*N356","v":-2.0829613376264637},{"$f":"MAX(OFFSET(N354,0,0,$A$22,1))","v":0.48070196533419457},-2.3502056655743528,9.4402348218659504E-2,2.0857356018899684E-2,null,55.6,50.95,1.2903225806450577E-2,{"$f":"IF($S$18,V354,NA())","v":{"$error":"#N/A"}},{"$f":"$X$32","v":0.2},{"$f":"$Y$32","v":0.8},{"$error":"#N/A"},{"$error":"#N/A"},{"$error":"#N/A"},{"$error":"#N/A"},false,false,{"$f":"IF(AF355,IF(AH355,FALSE,AF355),IF(AE354,TRUE,AF355))","v":true},false,false,{"$error":"#N/A"},{"$error":"#N/A"},{"$error":"#N/A"},{"$error":"#N/A"},false,false,{"$f":"IF(AO355,IF(AP355,FALSE,AO355),IF(AN354,TRUE,AO355))","v":false},false,false,{"$error":"#N/A"},{"$error":"#N/A"},{"$f":"IF($S$5,AR354,NA())","v":{"$error":"#N/A"}},{"$error":"#N/A"}]
[323,{"$f":"OFFSET(InputPriceData!B$15,CalculationsAndCharts!$A355+$A$11,0,1,1)","v":"2012-07-30"},{"$f":"OFFSET(InputPriceData!G$15,CalculationsAndCharts!$A355+$A$11,0,1,1)","v":3375900},{"$f":"OFFSET(InputPriceData!C$15,CalculationsAndCharts!$A355+$A$11,IF($C$7,7,0),1,1)","v":51.47},{"$f":"OFFSET(InputPriceData!D$15,CalculationsAndCharts!$A355+$A$11,IF($C$7,7,0),1,1)","v":51.64},{"$f":"OFFSET(InputPriceData!E$15,CalculationsAndCharts!$A355+$A$11,IF($C$7,7,0),1,1)","v":50.37},{"$f":"OFFSET(InputPriceData!F$15,CalculationsAndCharts!$A355+$A$11,IF($C$7,7,0),1,1)","v":50.95},{"$error":"#N/A"},{"$error":"#N/A"},{"$error":"#N/A"},51.24638168437049,51.24638168437049,-1.8784502903368721,-2.2589223337780311,0.72539396366213882,-2.3502056655743528,2.9679848745131552E-2,4.5968283173223514E-3,null,55.6,50.95,0,{"$error":"#N/A"},0.2,0.8,{"$error":"#N/A"},{"$error":"#N/A"},{"$error":"#N/A"},{"$error":"#N/A"},false,false,true,false,false,{"$error":"#N/A"},{"$error":"#N/A"},{"$error":"#N/A"},{"$error":"#N/A"},false,false,false,false,false,{"$error":"#N/A"},{"$error":"#N/A"},{"$error":"#N/A"},{"$error":"#N/A"}]
[324,{"$f":"OFFSET(InputPriceData!B$15,CalculationsAndCharts!$A356+$A$11,0,1,1)","v":"2012-07-27"},{"$f":"OFFSET(InputPriceData!G$15,CalculationsAndCharts!$A356+$A$11,0,1,1)","v":3411400},{"$f":"OFFSET(InputPriceData!C$15,CalculationsAndCharts!$A356+$A$11,IF($C$7,7,0),1,1)","v":51.45},{"$f":"OFFSET(InputPriceData!D$15,CalculationsAndCharts!$A356+$A$11,IF($C$7,7,0),1,1)","v":51.58},{"$f":"OFFSET(InputPriceData!E$15,CalculationsAndCharts!$A356+$A$11,IF($C$7,7,0),1,1)","v":50.77},{"$f":"OFFSET(InputPriceData!F$15,CalculationsAndCharts!$A356+$A$11,IF($C$7,7,0),1,1)","v":50.99},{"$error":"#N/A"},{"$error":"#N/A"},{"$error":"#N/A"},51.529082750094766,51.529082750094766,-2.1888921078203918,-2.3405720107305616,0.88656130824454826,-2.3502056655743528,2.9763201743327606E-3,4.1647798448485454E-4,null,55.6,50.99,0,{"$error":"#N/A"},0.2,0.8,{"$error":"#N/A"},{"$error":"#N/A"},{"$error":"#N/A"},{"$error":"#N/A"},false,false,true,false,false,{"$error":"#N/A"},{"$error":"#N/A"},{"$error":"#N/A"},{"$error":"#N/A"},false,false,false,false,false,{"$error":"#N/A"},{"$error":"#N/A"},{"$error":"#N/A"},{"$error":"#N/A"}]
[325,{"$f":"OFFSET(InputPriceData!B$15,CalculationsAndCharts!$A357+$A$11,0,1,1)","v":"2012-07-26"},{"$f":"OFFSET(InputPriceData!G$15,CalculationsAndCharts!$A357+$A$11,0,1,1)","v":4110600},{"$f":"OFFSET(InputPriceData!C$15,CalculationsAndCharts!$A357+$A$11,IF($C$7,7,0),1,1)","v":51.57},{"$f":"OFFSET(InputPriceData!D$15,CalculationsAndCharts!$A357+$A$11,IF($C$7,7,0),1,1)","v":51.97},{"$f":"OFFSET(InputPriceData!E$15,CalculationsAndCharts!$A357+$A$11,IF($C$7,7,0),1,1)","v":50.58},{"$f":"OFFSET(InputPriceData!F$15,CalculationsAndCharts!$A357+$A$11,IF($C$7,7,0),1,1)","v":51.28},{"$error":"#N/A"},{"$error":"#N/A"},{"$error":"#N/A"},51.872333079115684,51.872333079115684,-2.2670465969686644,-2.3502056655743528,1.1074396108030595,-2.3502056655743528,0,4.5545774092159051E-5,null,55.6,51.28,0,{"$error":"#N/A"},0.2,0.8,{"$error":"#N/A"},{"$error":"#N/A"},{"$error":"#N/A"},{"$error":"#N/A"},false,false,true,false,false,{"$error":"#N/A"},{"$error":"#N/A"},{"$error":"#N/A"},{"$error":"#N/A"},false,false,false,false,false,{"$error":"#N/A"},{"$error":"#N/A"},{"$error":"#N/A"},{"$error":"#N/A"}]
[326,{"$f":"OFFSET(InputPriceData!B$15,CalculationsAndCharts!$A358+$A$11,0,1,1)","v":"2012-07-25"},{"$f":"OFFSET(InputPriceData!G$15,CalculationsAndCharts!$A358+$A$11,0,1,1)","v":5258600},{"$f":"OFFSET(InputPriceData!C$15,CalculationsAndCharts!$A358+$A$11,IF($C$7,7,0),1,1)","v":50.98},{"$f":"OFFSET(InputPriceData!D$15,CalculationsAndCharts!$A358+$A$11,IF($C$7,7,0),1,1)","v":51.43},{"$f":"OFFSET(InputPriceData!E$15,CalculationsAndCharts!$A358+$A$11,IF($C$7,7,0),1,1)","v":49.42},{"$f":"OFFSET(InputPriceData!F$15,CalculationsAndCharts!$A358+$A$11,IF($C$7,7,0),1,1)","v":51.29},{"$error":"#N/A"},{"$error":"#N/A"},{"$error":"#N/A"},52.25309368614279,52.25309368614279,-2.6475891258137416,-2.2983971242912502,1.218226979998821,-2.2983971242912502,0,3.1551527163725301E-5,null,55.6,51.29,0,{"$error":"#N/A"},0.2,0.8,{"$error":"#N/A"},{"$error":"#N/A"},{"$error":"#N/A"},{"$error":"#N/A"},false,false,true,false,false,{"$error":"#N/A"},{"$error":"#N/A"},{"$error":"#N/A"},{"$error":"#N/A"},false,false,false,false,false,{"$error":"#N/A"},{"$error":"#N/A"},{"$error":"#N/A"},{"$error":"#N/A"}]
[327,{"$f":"OFFSET(InputPriceData!B$15,CalculationsAndCharts!$A359+$A$11,0,1,1)","v":"2012-07-24"},{"$f":"OFFSET(InputPriceData!G$15,CalculationsAndCharts!$A359+$A$11,0,1,1)","v":3725700},{"$f":"OFFSET(InputPriceData!C$15,CalculationsAndCharts!$A359+$A$11,IF($C$7,7,0),1,1)","v":52.61},{"$f":"OFFSET(InputPriceData!D$15,CalculationsAndCharts!$A359+$A$11,IF($C$7,7,0),1,1)","v":52.94},{"$f":"OFFSET(InputPriceData!E$15,CalculationsAndCharts!$A359+$A$11,IF($C$7,7,0),1,1)","v":52.09},{"$f":"OFFSET(InputPriceData!F$15,CalculationsAndCharts!$A359+$A$11,IF($C$7,7,0),1,1)","v":52.48},{"$error":"#N/A"},{"$error":"#N/A"},{"$error":"#N/A"},52.583031189646121,52.583031189646121,-1.7832908049682481,-2.2702419591493683,1.218226979998821,-2.2702419591493683,0,-2.1891827169378739E-5,null,55.6,52.29,5.7401812688821024E-2,{"$error":"#N/A"},0.2,0.8,{"$error":"#N/A"},{"$error":"#N/A"},{"$error":"#N/A"},{"$error":"#N/A"},false,false,true,false,false,{"$error":"#N/A"},{"$error":"#N/A"},{"$error":"#N/A"},{"$error":"#N/A"},false,false,false,false,false,{"$error":"#N/A"},{"$error":"#N/A"},{"$error":"#N/A"},{"$error":"#N/A"}]
[328,{"$f":"OFFSET(InputPriceData!B$15,CalculationsAndCharts!$A360+$A$11,0,1,1)","v":"2012-07-23"},{"$f":"OFFSET(InputPriceData!G$15,CalculationsAndCharts!$A360+$A$11,0,1,1)","v":2947700},{"$f":"OFFSET(InputPriceData!C$15,CalculationsAndCharts!$A360+$A$11,IF($C$7,7,0),1,1)","v":51.65},{"$f":"OFFSET(InputPriceData!D$15,CalculationsAndCharts!$A360+$A$11,IF($C$7,7,0),1,1)","v":52.52},{"$f":"OFFSET(InputPriceData!E$15,CalculationsAndCharts!$A360+$A$11,IF($C$7,7,0),1,1)","v":50.86},{"$f":"OFFSET(InputPriceData!F$15,CalculationsAndCharts!$A360+$A$11,IF($C$7,7,0),1,1)","v":52.32},{"$error":"#N/A"},{"$error":"#N/A"},{"$error":"#N/A"},52.955612448575813,52.955612448575813,-2.2104428966552443,-2.1680589632124154,1.218226979998821,{"$f":"MIN(OFFSET(N360,0,0,$A$22,1))","v":-2.1680589632124154},0,-1.383571950072137E-4,null,55.6,52.29,9.0634441087616667E-3,{"$error":"#N/A"},0.2,0.8,{"$error":"#N/A"},{"$error":"#N/A"},{"$error":"#N/A"},{"$error":"#N/A"},false,false,true,false,false,{"$error":"#N/A"},{"$error":"#N/A"},{"$error":"#N/A"},{"$error":"#N/A"},false,false,false,false,false,{"$error":"#N/A"},{"$error":"#N/A"},{"$error":"#N/A"},{"$error":"#N/A"}]
[329,{"$f":"OFFSET(InputPriceData!B$15,CalculationsAndCharts!$A361+$A$11,0,1,1)","v":"2012-07-20"},{"$f":"OFFSET(InputPriceData!G$15,CalculationsAndCharts!$A361+$A$11,0,1,1)","v":3240000},{"$f":"OFFSET(InputPriceData!C$15,CalculationsAndCharts!$A361+$A$11,IF($C$7,7,0),1,1)","v":52.25},{"$f":"OFFSET(InputPriceData!D$15,CalculationsAndCharts!$A361+$A$11,IF($C$7,7,0),1,1)","v":53.02},{"$f":"OFFSET(InputPriceData!E$15,CalculationsAndCharts!$A361+$A$11,IF($C$7,7,0),1,1)","v":51.41},{"$f":"OFFSET(InputPriceData!F$15,CalculationsAndCharts!$A361+$A$11,IF($C$7,7,0),1,1)","v":52.34},{"$error":"#N/A"},{"$error":"#N/A"},{"$error":"#N/A"},53.519527713065997,53.519527713065997,-2.5058348995810684,-1.8142561734073588,1.218226979998821,-1.8142561734073588,0,-3.3637092697074843E-4,null,55.6,52.29,1.510574018127016E-2,{"$error":"#N/A"},0.2,0.8,{"$error":"#N/A"},{"$error":"#N/A"},{"$error":"#N/A"},{"$error":"#N/A"},false,false,true,false,false,{"$error":"#N/A"},{"$error":"#N/A"},{"$error":"#N/A"},{"$error":"#N/A"},false,false,false,false,false,{"$error":"#N/A"},{"$error":"#N/A"},{"$error":"#N/A"},{"$error":"#N/A"}]
[330,{"$f":"OFFSET(InputPriceData!B$15,CalculationsAndCharts!$A362+$A$11,0,1,1)","v":"2012-07-19"},{"$f":"OFFSET(InputPriceData!G$15,CalculationsAndCharts!$A362+$A$11,0,1,1)","v":5059500},{"$f":"OFFSET(InputPriceData!C$15,CalculationsAndCharts!$A362+$A$11,IF($C$7,7,0),1,1)","v":53.87},{"$f":"OFFSET(InputPriceData!D$15,CalculationsAndCharts!$A362+$A$11,IF($C$7,7,0),1,1)","v":54.24},{"$f":"OFFSET(InputPriceData!E$15,CalculationsAndCharts!$A362+$A$11,IF($C$7,7,0),1,1)","v":52.24},{"$f":"OFFSET(InputPriceData!F$15,CalculationsAndCharts!$A362+$A$11,IF($C$7,7,0),1,1)","v":52.29},{"$error":"#N/A"},{"$error":"#N/A"},{"$error":"#N/A"},54.158492912368189,54.158492912368189,-2.9147151620443279,-1.2887785690279983,1.2794631921091955,-1.2887785690279983,0,-6.1078731783100772E-4,null,55.6,52.29,0,{"$error":"#N/A"},0.2,0.8,{"$error":"#N/A"},{"$error":"#N/A"},{"$error":"#N/A"},{"$error":"#N/A"},false,false,true,false,false,{"$error":"#N/A"},{"$error":"#N/A"},{"$error":"#N/A"},{"$error":"#N/A"},false,false,false,false,false,{"$error":"#N/A"},{"$error":"#N/A"},{"$error":"#N/A"},{"$error":"#N/A"}]
[331,{"$f":"OFFSET(InputPriceData!B$15,CalculationsAndCharts!$A363+$A$11,0,1,1)","v":"2012-07-18"},{"$f":"OFFSET(InputPriceData!G$15,CalculationsAndCharts!$A363+$A$11,0,1,1)","v":4311500},{"$f":"OFFSET(InputPriceData!C$15,CalculationsAndCharts!$A363+$A$11,IF($C$7,7,0),1,1)","v":55},{"$f":"OFFSET(InputPriceData!D$15,CalculationsAndCharts!$A363+$A$11,IF($C$7,7,0),1,1)","v":55.33},{"$f":"OFFSET(InputPriceData!E$15,CalculationsAndCharts!$A363+$A$11,IF($C$7,7,0),1,1)","v":53.3},{"$f":"OFFSET(InputPriceData!F$15,CalculationsAndCharts!$A363+$A$11,IF($C$7,7,0),1,1)","v":53.74},{"$error":"#N/A"},{"$error":"#N/A"},{"$error":"#N/A"},54.577442311206099,54.577442311206099,-1.7301771919311806,-0.88603512750605695,1.3525026449926867,-0.88603512750605695,0,-9.020728585068037E-4,null,55.6,52.38,0.42236024844720493,{"$error":"#N/A"},0.2,0.8,{"$error":"#N/A"},{"$error":"#N/A"},{"$error":"#N/A"},{"$error":"#N/A"},false,false,true,false,false,{"$error":"#N/A"},{"$error":"#N/A"},{"$error":"#N/A"},{"$error":"#N/A"},false,false,false,false,false,{"$error":"#N/A"},{"$error":"#N/A"},{"$error":"#N/A"},{"$error":"#N/A"}]
[332,{"$f":"OFFSET(InputPriceData!B$15,CalculationsAndCharts!$A364+$A$11,0,1,1)","v":"2012-07-17"},{"$f":"OFFSET(InputPriceData!G$15,CalculationsAndCharts!$A364+$A$11,0,1,1)","v":1378800},{"$f":"OFFSET(InputPriceData!C$15,CalculationsAndCharts!$A364+$A$11,IF($C$7,7,0),1,1)","v":54.81},{"$f":"OFFSET(InputPriceData!D$15,CalculationsAndCharts!$A364+$A$11,IF($C$7,7,0),1,1)","v":55.23},{"$f":"OFFSET(InputPriceData!E$15,CalculationsAndCharts!$A364+$A$11,IF($C$7,7,0),1,1)","v":54.42},{"$f":"OFFSET(InputPriceData!F$15,CalculationsAndCharts!$A364+$A$11,IF($C$7,7,0),1,1)","v":55.06},{"$error":"#N/A"},{"$error":"#N/A"},{"$error":"#N/A"},54.634433568707365,54.634433568707365,-0.4310252518806521,-0.79087918818683223,1.3525026449926867,-0.79087918818683223,0,-1.0550992378251661E-3,null,55.6,52.2,0.84117647058823553,{"$error":"#N/A"},0.2,0.8,{"$error":"#N/A"},{"$error":"#N/A"},{"$error":"#N/A"},{"$error":"#N/A"},false,false,true,false,false,{"$error":"#N/A"},{"$error":"#N/A"},{"$error":"#N/A"},{"$error":"#N/A"},false,false,false,false,false,{"$error":"#N/A"},{"$error":"#N/A"},{"$error":"#N/A"},{"$error":"#N/A"}]
[333,{"$f":"OFFSET(InputPriceData!B$15,CalculationsAndCharts!$A365+$A$11,0,1,1)","v":"2012-07-16"},{"$f":"OFFSET(InputPriceData!G$15,CalculationsAndCharts!$A365+$A$11,0,1,1)","v":2001000},{"$f":"OFFSET(InputPriceData!C$15,CalculationsAndCharts!$A365+$A$11,IF($C$7,7,0),1,1)","v":54.5},{"$f":"OFFSET(InputPriceData!D$15,CalculationsAndCharts!$A365+$A$11,IF($C$7,7,0),1,1)","v":54.92},{"$f":"OFFSET(InputPriceData!E$15,CalculationsAndCharts!$A365+$A$11,IF($C$7,7,0),1,1)","v":54.03},{"$f":"OFFSET(InputPriceData!F$15,CalculationsAndCharts!$A365+$A$11,IF($C$7,7,0),1,1)","v":54.61},{"$error":"#N/A"},{"$error":"#N/A"},{"$error":"#N/A"},54.628714757078342,54.628714757078342,-0.80929462801061858,-0.737834445352468,1.3525026449926867,-0.737834445352468,0,-7.7778971167489011E-4,null,55.6,51.63,0.75062972292191377,{"$error":"#N/A"},0.2,0.8,{"$error":"#N/A"},{"$error":"#N/A"},{"$error":"#N/A"},{"$error":"#N/A"},false,false,true,false,false,{"$error":"#N/A"},{"$error":"#N/A"},{"$error":"#N/A"},{"$error":"#N/A"},false,false,false,false,false,{"$error":"#N/A"},{"$error":"#N/A"},{"$error":"#N/A"},{"$error":"#N/A"}]
[334,{"$f":"OFFSET(InputPriceData!B$15,CalculationsAndCharts!$A366+$A$11,0,1,1)","v":"2012-07-13"},{"$f":"OFFSET(InputPriceData!G$15,CalculationsAndCharts!$A366+$A$11,0,1,1)","v":1551500},{"$f":"OFFSET(InputPriceData!C$15,CalculationsAndCharts!$A366+$A$11,IF($C$7,7,0),1,1)","v":54.5},{"$f":"OFFSET(InputPriceData!D$15,CalculationsAndCharts!$A366+$A$11,IF($C$7,7,0),1,1)","v":54.64},{"$f":"OFFSET(InputPriceData!E$15,CalculationsAndCharts!$A366+$A$11,IF($C$7,7,0),1,1)","v":54.06},{"$f":"OFFSET(InputPriceData!F$15,CalculationsAndCharts!$A366+$A$11,IF($C$7,7,0),1,1)","v":54.53},{"$error":"#N/A"},{"$error":"#N/A"},{"$error":"#N/A"},54.741770117991251,54.741770117991251,-0.85016344974239055,-0.5364411419788514,1.3525026449926867,-0.5364411419788514,0,3.7513965421113711E-4,null,55.6,51.63,0.7304785894206548,{"$error":"#N/A"},0.2,0.8,{"$error":"#N/A"},{"$error":"#N/A"},{"$error":"#N/A"},{"$error":"#N/A"},false,false,true,false,false,{"$error":"#N/A"},{"$error":"#N/A"},{"$error":"#N/A"},{"$error":"#N/A"},false,false,false,false,false,{"$error":"#N/A"},{"$error":"#N/A"},{"$error":"#N/A"},{"$error":"#N/A"}]
[335,{"$f":"OFFSET(InputPriceData!B$15,CalculationsAndCharts!$A367+$A$11,0,1,1)","v":"2012-07-12"},{"$f":"OFFSET(InputPriceData!G$15,CalculationsAndCharts!$A367+$A$11,0,1,1)","v":3073200},{"$f":"OFFSET(InputPriceData!C$15,CalculationsAndCharts!$A367+$A$11,IF($C$7,7,0),1,1)","v":54.75},{"$f":"OFFSET(InputPriceData!D$15,CalculationsAndCharts!$A367+$A$11,IF($C$7,7,0),1,1)","v":54.96},{"$f":"OFFSET(InputPriceData!E$15,CalculationsAndCharts!$A367+$A$11,IF($C$7,7,0),1,1)","v":53.95},{"$f":"OFFSET(InputPriceData!F$15,CalculationsAndCharts!$A367+$A$11,IF($C$7,7,0),1,1)","v":54},{"$error":"#N/A"},{"$error":"#N/A"},{"$error":"#N/A"},54.910928749380794,54.910928749380794,-1.3860978706753739,-0.22729211318933915,1.3525026449926867,-0.22729211318933915,0,2.9474180578682764E-3,null,55.6,50.55,0.68316831683168311,{"$error":"#N/A"},0.2,0.8,{"$error":"#N/A"},{"$error":"#N/A"},{"$error":"#N/A"},{"$error":"#N/A"},false,false,true,false,false,{"$error":"#N/A"},{"$error":"#N/A"},{"$error":"#N/A"},{"$error":"#N/A"},false,false,false,false,false,{"$error":"#N/A"},{"$error":"#N/A"},{"$error":"#N/A"},{"$error":"#N/A"}]
[336,{"$f":"OFFSET(InputPriceData!B$15,CalculationsAndCharts!$A368+$A$11,0,1,1)","v":"2012-07-11"},{"$f":"OFFSET(InputPriceData!G$15,CalculationsAndCharts!$A368+$A$11,0,1,1)","v":1896100},{"$f":"OFFSET(InputPriceData!C$15,CalculationsAndCharts!$A368+$A$11,IF($C$7,7,0),1,1)","v":55.51},{"$f":"OFFSET(InputPriceData!D$15,CalculationsAndCharts!$A368+$A$11,IF($C$7,7,0),1,1)","v":55.56},{"$f":"OFFSET(InputPriceData!E$15,CalculationsAndCharts!$A368+$A$11,IF($C$7,7,0),1,1)","v":54.44},{"$f":"OFFSET(InputPriceData!F$15,CalculationsAndCharts!$A368+$A$11,IF($C$7,7,0),1,1)","v":54.92},{"$error":"#N/A"},{"$error":"#N/A"},{"$error":"#N/A"},54.924669073185939,54.924669073185939,-0.42387678894086933,-2.3919322369354457E-2,1.3525026449926867,-0.12821872306536622,7.0438235677519195E-2,7.3874863783039216E-3,null,55.6,50.18,0.87453874538745402,{"$error":"#N/A"},0.2,0.8,{"$error":"#N/A"},{"$error":"#N/A"},{"$error":"#N/A"},{"$error":"#N/A"},false,false,true,false,false,{"$error":"#N/A"},{"$error":"#N/A"},{"$error":"#N/A"},{"$error":"#N/A"},false,false,false,false,false,{"$error":"#N/A"},{"$error":"#N/A"},{"$error":"#N/A"},{"$error":"#N/A"}]
[337,{"$f":"OFFSET(InputPriceData!B$15,CalculationsAndCharts!$A369+$A$11,0,1,1)","v":"2012-07-10"},{"$f":"OFFSET(InputPriceData!G$15,CalculationsAndCharts!$A369+$A$11,0,1,1)","v":3324300},{"$f":"OFFSET(InputPriceData!C$15,CalculationsAndCharts!$A369+$A$11,IF($C$7,7,0),1,1)","v":55.04},{"$f":"OFFSET(InputPriceData!D$15,CalculationsAndCharts!$A369+$A$11,IF($C$7,7,0),1,1)","v":56.04},{"$f":"OFFSET(InputPriceData!E$15,CalculationsAndCharts!$A369+$A$11,IF($C$7,7,0),1,1)","v":54.88},{"$f":"OFFSET(InputPriceData!F$15,CalculationsAndCharts!$A369+$A$11,IF($C$7,7,0),1,1)","v":55.6},{"$error":"#N/A"},{"$error":"#N/A"},{"$error":"#N/A"},54.672092547165192,54.672092547165192,0.47442396066173803,-7.1710951868716247E-2,1.3525026449926867,-0.12821872306536622,3.8162325752588544E-2,3.5311968514324971E-2,null,55.6,50.18,1,{"$error":"#N/A"},0.2,0.8,55.04,{"$error":"#N/A"},{"$error":"#N/A"},{"$error":"#N/A"},false,true,true,false,false,55.04,{"$error":"#N/A"},55.04,{"$error":"#N/A"},false,false,false,false,true,{"$error":"#N/A"},55.04,{"$error":"#N/A"},55.04]
[338,{"$f":"OFFSET(InputPriceData!B$15,CalculationsAndCharts!$A370+$A$11,0,1,1)","v":"2012-07-09"},{"$f":"OFFSET(InputPriceData!G$15,CalculationsAndCharts!$A370+$A$11,0,1,1)","v":1496300},{"$f":"OFFSET(InputPriceData!C$15,CalculationsAndCharts!$A370+$A$11,IF($C$7,7,0),1,1)","v":54.48},{"$f":"OFFSET(InputPriceData!D$15,CalculationsAndCharts!$A370+$A$11,IF($C$7,7,0),1,1)","v":55.07},{"$f":"OFFSET(InputPriceData!E$15,CalculationsAndCharts!$A370+$A$11,IF($C$7,7,0),1,1)","v":54.4},{"$f":"OFFSET(InputPriceData!F$15,CalculationsAndCharts!$A370+$A$11,IF($C$7,7,0),1,1)","v":54.86},{"$error":"#N/A"},{"$error":"#N/A"},{"$error":"#N/A"},54.419825519925226,54.419825519925226,-1.0054403561998299E-2,-0.12821872306536622,1.3525026449926867,-0.12821872306536622,0,0.11489231040038692,null,54.95,50.18,0.98113207547169745,{"$error":"#N/A"},0.2,0.8,{"$error":"#N/A"},{"$error":"#N/A"},0.11489231040038692,{"$error":"#N/A"},true,false,false,false,false,{"$error":"#N/A"},{"$error":"#N/A"},{"$error":"#N/A"},{"$error":"#N/A"},false,false,true,true,false,{"$error":"#N/A"},{"$error":"#N/A"},{"$error":"#N/A"},{"$error":"#N/A"}]
[339,{"$f":"OFFSET(InputPriceData!B$15,CalculationsAndCharts!$A371+$A$11,0,1,1)","v":"2012-07-06"},{"$f":"OFFSET(InputPriceData!G$15,CalculationsAndCharts!$A371+$A$11,0,1,1)","v":1917000},{"$f":"OFFSET(InputPriceData!C$15,CalculationsAndCharts!$A371+$A$11,IF($C$7,7,0),1,1)","v":53.99},{"$f":"OFFSET(InputPriceData!D$15,CalculationsAndCharts!$A371+$A$11,IF($C$7,7,0),1,1)","v":55.05},{"$f":"OFFSET(InputPriceData!E$15,CalculationsAndCharts!$A371+$A$11,IF($C$7,7,0),1,1)","v":53.9},{"$f":"OFFSET(InputPriceData!F$15,CalculationsAndCharts!$A371+$A$11,IF($C$7,7,0),1,1)","v":54.59},{"$error":"#N/A"},{"$error":"#N/A"},{"$error":"#N/A"},54.305106815869635,54.305106815869635,-7.6351765509081404E-2,-4.3795299287454348E-2,1.3525026449926867,-4.3795299287454348E-2,0,0.24941135186860888,null,54.95,50.18,0.92452830188679258,{"$error":"#N/A"},0.2,0.8,{"$error":"#N/A"},{"$error":"#N/A"},{"$error":"#N/A"},{"$error":"#N/A"},false,false,false,false,false,{"$error":"#N/A"},{"$error":"#N/A"},{"$error":"#N/A"},{"$error":"#N/A"},false,false,true,false,false,{"$error":"#N/A"},{"$error":"#N/A"},{"$error":"#N/A"},{"$error":"#N/A"}]
[340,{"$f":"OFFSET(InputPriceData!B$15,CalculationsAndCharts!$A372+$A$11,0,1,1)","v":"2012-07-05"},{"$f":"OFFSET(InputPriceData!G$15,CalculationsAndCharts!$A372+$A$11,0,1,1)","v":4047600},{"$f":"OFFSET(InputPriceData!C$15,CalculationsAndCharts!$A372+$A$11,IF($C$7,7,0),1,1)","v":53.75},{"$f":"OFFSET(InputPriceData!D$15,CalculationsAndCharts!$A372+$A$11,IF($C$7,7,0),1,1)","v":54.57},{"$f":"OFFSET(InputPriceData!E$15,CalculationsAndCharts!$A372+$A$11,IF($C$7,7,0),1,1)","v":53.02},{"$f":"OFFSET(InputPriceData!F$15,CalculationsAndCharts!$A372+$A$11,IF($C$7,7,0),1,1)","v":54.29},{"$error":"#N/A"},{"$error":"#N/A"},{"$error":"#N/A"},54.284613146011061,54.284613146011061,-0.18841443851178619,0.16183104723194436,1.3525026449926867,0.16183104723194436,0,0.42297059058571013,null,54.95,48.98,0.88944723618090404,{"$error":"#N/A"},0.2,0.8,{"$error":"#N/A"},{"$error":"#N/A"},{"$error":"#N/A"},{"$error":"#N/A"},false,false,false,false,false,{"$error":"#N/A"},{"$error":"#N/A"},{"$error":"#N/A"},{"$error":"#N/A"},false,false,true,false,false,{"$error":"#N/A"},{"$error":"#N/A"},{"$error":"#N/A"},{"$error":"#N/A"}]
[341,{"$f":"OFFSET(InputPriceData!B$15,CalculationsAndCharts!$A373+$A$11,0,1,1)","v":"2012-07-03"},{"$f":"OFFSET(InputPriceData!G$15,CalculationsAndCharts!$A373+$A$11,0,1,1)","v":2343200},{"$f":"OFFSET(InputPriceData!C$15,CalculationsAndCharts!$A373+$A$11,IF($C$7,7,0),1,1)","v":54.73},{"$f":"OFFSET(InputPriceData!D$15,CalculationsAndCharts!$A373+$A$11,IF($C$7,7,0),1,1)","v":54.83},{"$f":"OFFSET(InputPriceData!E$15,CalculationsAndCharts!$A373+$A$11,IF($C$7,7,0),1,1)","v":53.23},{"$f":"OFFSET(InputPriceData!F$15,CalculationsAndCharts!$A373+$A$11,IF($C$7,7,0),1,1)","v":53.76},{"$error":"#N/A"},{"$f":"IF($A373=$E$25,I$32,NA())","v":{"$error":"#N/A"}},{"$error":"#N/A"},54.330420058751429,54.330420058751429,-0.57439896249513089,0.48070196533419457,1.3525026449926867,0.17636046753334164,0.25876250646693005,0.58463146638456742,null,54.95,48.7,0.80959999999999921,{"$error":"#N/A"},0.2,0.8,{"$error":"#N/A"},{"$error":"#N/A"},{"$error":"#N/A"},{"$error":"#N/A"},false,false,false,false,false,{"$error":"#N/A"},{"$error":"#N/A"},{"$error":"#N/A"},{"$error":"#N/A"},false,false,true,false,false,{"$error":"#N/A"},{"$error":"#N/A"},{"$error":"#N/A"},{"$error":"#N/A"}]
[342,{"$f":"OFFSET(InputPriceData!B$15,CalculationsAndCharts!$A374+$A$11,0,1,1)","v":"2012-07-02"},{"$f":"OFFSET(InputPriceData!G$15,CalculationsAndCharts!$A374+$A$11,0,1,1)","v":2317200},{"$f":"OFFSET(InputPriceData!C$15,CalculationsAndCharts!$A374+$A$11,IF($C$7,7,0),1,1)","v":54.61},{"$f":"OFFSET(InputPriceData!D$15,CalculationsAndCharts!$A374+$A$11,IF($C$7,7,0),1,1)","v":55.02},{"$f":"OFFSET(InputPriceData!E$15,CalculationsAndCharts!$A374+$A$11,IF($C$7,7,0),1,1)","v":54.28},{"$f":"OFFSET(InputPriceData!F$15,CalculationsAndCharts!$A374+$A$11,IF($C$7,7,0),1,1)","v":54.73},{"$error":"#N/A"},{"$error":"#N/A"},{"$error":"#N/A"},54.253819185070554,54.253819185070554,0.61562789863685285,0.72539396366213882,1.3525026449926867,0.17636046753334164,0.4668087809883642,0.69749667841793661,null,54.95,46.76,0.97313797313797246,{"$error":"#N/A"},0.2,0.8,{"$error":"#N/A"},{"$error":"#N/A"},{"$error":"#N/A"},{"$error":"#N/A"},false,false,false,false,false,{"$error":"#N/A"},{"$error":"#N/A"},{"$error":"#N/A"},{"$error":"#N/A"},false,false,true,false,false,{"$error":"#N/A"},{"$error":"#N/A"},{"$error":"#N/A"},{"$error":"#N/A"}]
[343,{"$f":"OFFSET(InputPriceData!B$15,CalculationsAndCharts!$A375+$A$11,0,1,1)","v":"2012-06-29"},{"$f":"OFFSET(InputPriceData!G$15,CalculationsAndCharts!$A375+$A$11,0,1,1)","v":3181100},{"$f":"OFFSET(InputPriceData!C$15,CalculationsAndCharts!$A375+$A$11,IF($C$7,7,0),1,1)","v":54.34},{"$f":"OFFSET(InputPriceData!D$15,CalculationsAndCharts!$A375+$A$11,IF($C$7,7,0),1,1)","v":54.69},{"$f":"OFFSET(InputPriceData!E$15,CalculationsAndCharts!$A375+$A$11,IF($C$7,7,0),1,1)","v":53.72},{"$f":"OFFSET(InputPriceData!F$15,CalculationsAndCharts!$A375+$A$11,IF($C$7,7,0),1,1)","v":54.39},{"$error":"#N/A"},{"$error":"#N/A"},{"$error":"#N/A"},54.062148752950499,54.062148752950499,0.60189482316379406,0.88656130824454826,1.3525026449926867,0.17636046753334164,0.60383927583088115,0.76590984439029608,null,54.95,46.76,0.93162393162393142,{"$error":"#N/A"},0.2,0.8,{"$error":"#N/A"},{"$error":"#N/A"},{"$error":"#N/A"},{"$error":"#N/A"},false,false,false,false,false,{"$error":"#N/A"},{"$error":"#N/A"},{"$error":"#N/A"},{"$error":"#N/A"},false,false,true,false,false,{"$error":"#N/A"},{"$error":"#N/A"},{"$error":"#N/A"},{"$error":"#N/A"}]
[344,{"$f":"OFFSET(InputPriceData!B$15,CalculationsAndCharts!$A376+$A$11,0,1,1)","v":"2012-06-28"},{"$f":"OFFSET(InputPriceData!G$15,CalculationsAndCharts!$A376+$A$11,0,1,1)","v":3299100},{"$f":"OFFSET(InputPriceData!C$15,CalculationsAndCharts!$A376+$A$11,IF($C$7,7,0),1,1)","v":52.75},{"$f":"OFFSET(InputPriceData!D$15,CalculationsAndCharts!$A376+$A$11,IF($C$7,7,0),1,1)","v":53.75},{"$f":"OFFSET(InputPriceData!E$15,CalculationsAndCharts!$A376+$A$11,IF($C$7,7,0),1,1)","v":52.61},{"$f":"OFFSET(InputPriceData!F$15,CalculationsAndCharts!$A376+$A$11,IF($C$7,7,0),1,1)","v":53.73},{"$error":"#N/A"},{"$error":"#N/A"},{"$error":"#N/A"},53.902539281595338,53.902539281595338,0.22785981073666517,1.1074396108030595,1.3525026449926867,0.17636046753334164,0.7916382569333561,0.79032967774225005,null,54.95,46.76,0.85103785103785035,{"$error":"#N/A"},0.2,0.8,{"$error":"#N/A"},{"$error":"#N/A"},{"$error":"#N/A"},{"$error":"#N/A"},false,false,false,false,false,{"$error":"#N/A"},{"$error":"#N/A"},{"$error":"#N/A"},{"$error":"#N/A"},false,false,true,false,false,{"$error":"#N/A"},{"$error":"#N/A"},{"$error":"#N/A"},{"$error":"#N/A"}]
[345,{"$f":"OFFSET(InputPriceData!B$15,CalculationsAndCharts!$A377+$A$11,0,1,1)","v":"2012-06-27"},{"$f":"OFFSET(InputPriceData!G$15,CalculationsAndCharts!$A377+$A$11,0,1,1)","v":4864500},{"$f":"OFFSET(InputPriceData!C$15,CalculationsAndCharts!$A377+$A$11,IF($C$7,7,0),1,1)","v":55.23},{"$f":"OFFSET(InputPriceData!D$15,CalculationsAndCharts!$A377+$A$11,IF($C$7,7,0),1,1)","v":55.3},{"$f":"OFFSET(InputPriceData!E$15,CalculationsAndCharts!$A377+$A$11,IF($C$7,7,0),1,1)","v":53.28},{"$f":"OFFSET(InputPriceData!F$15,CalculationsAndCharts!$A377+$A$11,IF($C$7,7,0),1,1)","v":54.02},{"$error":"#N/A"},{"$error":"#N/A"},{"$error":"#N/A"},53.611385058451219,53.611385058451219,0.81999770620054291,1.218226979998821,1.3525026449926867,0.17636046753334164,0.88583381536072237,0.7927168055613476,null,54.95,46.76,0.88644688644688652,{"$error":"#N/A"},0.2,0.8,{"$error":"#N/A"},{"$error":"#N/A"},{"$error":"#N/A"},{"$error":"#N/A"},false,false,false,false,false,{"$error":"#N/A"},{"$error":"#N/A"},{"$error":"#N/A"},{"$error":"#N/A"},false,false,true,false,false,{"$error":"#N/A"},{"$error":"#N/A"},{"$error":"#N/A"},{"$error":"#N/A"}]
[346,{"$f":"OFFSET(InputPriceData!B$15,CalculationsAndCharts!$A378+$A$11,0,1,1)","v":"2012-06-26"},{"$f":"OFFSET(InputPriceData!G$15,CalculationsAndCharts!$A378+$A$11,0,1,1)","v":4639000},{"$f":"OFFSET(InputPriceData!C$15,CalculationsAndCharts!$A378+$A$11,IF($C$7,7,0),1,1)","v":53.92},{"$f":"OFFSET(InputPriceData!D$15,CalculationsAndCharts!$A378+$A$11,IF($C$7,7,0),1,1)","v":55.18},{"$f":"OFFSET(InputPriceData!E$15,CalculationsAndCharts!$A378+$A$11,IF($C$7,7,0),1,1)","v":53.25},{"$f":"OFFSET(InputPriceData!F$15,CalculationsAndCharts!$A378+$A$11,IF($C$7,7,0),1,1)","v":54.95},{"$error":"#N/A"},{"$error":"#N/A"},{"$error":"#N/A"},53.065734478033363,53.065734478033363,2.2286491415796994,1.0602777094166653,1.3525026449926867,0.17636046753334164,0.75153944720588639,0.82684358339258768,null,54.95,46.76,1,{"$error":"#N/A"},0.2,0.8,{"$error":"#N/A"},{"$error":"#N/A"},{"$error":"#N/A"},{"$error":"#N/A"},false,false,false,false,false,{"$error":"#N/A"},{"$error":"#N/A"},{"$error":"#N/A"},{"$error":"#N/A"},false,false,true,false,false,{"$error":"#N/A"},{"$error":"#N/A"},{"$error":"#N/A"},{"$error":"#N/A"}]
[347,{"$f":"OFFSET(InputPriceData!B$15,CalculationsAndCharts!$A379+$A$11,0,1,1)","v":"2012-06-25"},{"$f":"OFFSET(InputPriceData!G$15,CalculationsAndCharts!$A379+$A$11,0,1,1)","v":3847300},{"$f":"OFFSET(InputPriceData!C$15,CalculationsAndCharts!$A379+$A$11,IF($C$7,7,0),1,1)","v":52.5},{"$f":"OFFSET(InputPriceData!D$15,CalculationsAndCharts!$A379+$A$11,IF($C$7,7,0),1,1)","v":53.45},{"$f":"OFFSET(InputPriceData!E$15,CalculationsAndCharts!$A379+$A$11,IF($C$7,7,0),1,1)","v":52.29},{"$f":"OFFSET(InputPriceData!F$15,CalculationsAndCharts!$A379+$A$11,IF($C$7,7,0),1,1)","v":53.19},{"$error":"#N/A"},{"$error":"#N/A"},{"$error":"#N/A"},52.612570668961546,52.612570668961546,0.94558835402035635,0.96184991756311156,1.3525026449926867,0.17636046753334164,0.66785246297905287,0.904797054901748,null,53.19,46.76,1,{"$error":"#N/A"},0.2,0.8,{"$error":"#N/A"},{"$error":"#N/A"},{"$error":"#N/A"},{"$error":"#N/A"},false,false,false,false,false,{"$error":"#N/A"},{"$error":"#N/A"},{"$error":"#N/A"},{"$error":"#N/A"},false,false,true,false,false,{"$error":"#N/A"},{"$error":"#N/A"},{"$error":"#N/A"},{"$error":"#N/A"}]
[348,{"$f":"OFFSET(InputPriceData!B$15,CalculationsAndCharts!$A380+$A$11,0,1,1)","v":"2012-06-22"},{"$f":"OFFSET(InputPriceData!G$15,CalculationsAndCharts!$A380+$A$11,0,1,1)","v":8631500},{"$f":"OFFSET(InputPriceData!C$15,CalculationsAndCharts!$A380+$A$11,IF($C$7,7,0),1,1)","v":52.45},{"$f":"OFFSET(InputPriceData!D$15,CalculationsAndCharts!$A380+$A$11,IF($C$7,7,0),1,1)","v":52.83},{"$f":"OFFSET(InputPriceData!E$15,CalculationsAndCharts!$A380+$A$11,IF($C$7,7,0),1,1)","v":52.17},{"$f":"OFFSET(InputPriceData!F$15,CalculationsAndCharts!$A380+$A$11,IF($C$7,7,0),1,1)","v":52.6},{"$error":"#N/A"},{"$error":"#N/A"},{"$error":"#N/A"},52.407761634044149,52.407761634044149,0.6786935306969315,1.1073648648855388,1.3525026449926867,-7.9175266644495812E-2,0.82877588728960494,0.97425191562723323,null,52.6,46.76,1,{"$error":"#N/A"},0.2,0.8,{"$error":"#N/A"},{"$error":"#N/A"},{"$error":"#N/A"},{"$error":"#N/A"},false,false,false,false,false,{"$error":"#N/A"},{"$error":"#N/A"},{"$error":"#N/A"},{"$error":"#N/A"},false,false,true,false,false,{"$error":"#N/A"},{"$error":"#N/A"},{"$error":"#N/A"},{"$error":"#N/A"}]
[349,{"$f":"OFFSET(InputPriceData!B$15,CalculationsAndCharts!$A381+$A$11,0,1,1)","v":"2012-06-21"},{"$f":"OFFSET(InputPriceData!G$15,CalculationsAndCharts!$A381+$A$11,0,1,1)","v":3868900},{"$f":"OFFSET(InputPriceData!C$15,CalculationsAndCharts!$A381+$A$11,IF($C$7,7,0),1,1)","v":52.82},{"$f":"OFFSET(InputPriceData!D$15,CalculationsAndCharts!$A381+$A$11,IF($C$7,7,0),1,1)","v":53.06},{"$f":"OFFSET(InputPriceData!E$15,CalculationsAndCharts!$A381+$A$11,IF($C$7,7,0),1,1)","v":52.14},{"$f":"OFFSET(InputPriceData!F$15,CalculationsAndCharts!$A381+$A$11,IF($C$7,7,0),1,1)","v":52.38},{"$error":"#N/A"},{"$error":"#N/A"},{"$error":"#N/A"},52.209676007353593,52.209676007353593,0.75784852420501014,1.2794631921091955,1.3525026449926867,-0.52939201378494816,0.9611883414712844,1.0040651520451327,null,52.6,46.76,0.96232876712328785,{"$error":"#N/A"},0.2,0.8,{"$error":"#N/A"},{"$error":"#N/A"},{"$error":"#N/A"},{"$error":"#N/A"},false,false,false,false,false,{"$error":"#N/A"},{"$error":"#N/A"},{"$error":"#N/A"},{"$error":"#N/A"},false,false,true,false,false,{"$error":"#N/A"},{"$error":"#N/A"},{"$error":"#N/A"},{"$error":"#N/A"}]
[350,{"$f":"OFFSET(InputPriceData!B$15,CalculationsAndCharts!$A382+$A$11,0,1,1)","v":"2012-06-20"},{"$f":"OFFSET(InputPriceData!G$15,CalculationsAndCharts!$A382+$A$11,0,1,1)","v":3232000},{"$f":"OFFSET(InputPriceData!C$15,CalculationsAndCharts!$A382+$A$11,IF($C$7,7,0),1,1)","v":52.33},{"$f":"OFFSET(InputPriceData!D$15,CalculationsAndCharts!$A382+$A$11,IF($C$7,7,0),1,1)","v":52.62},{"$f":"OFFSET(InputPriceData!E$15,CalculationsAndCharts!$A382+$A$11,IF($C$7,7,0),1,1)","v":52.02},{"$f":"OFFSET(InputPriceData!F$15,CalculationsAndCharts!$A382+$A$11,IF($C$7,7,0),1,1)","v":52.6},{"$error":"#N/A"},{"$error":"#N/A"},{"$error":"#N/A"},51.900590330675371,51.900590330675371,1.3297418976759348,1.3525026449926867,1.3525026449926867,-0.9139297225541354,1,1.0094152680017952,null,52.6,46.76,1,{"$error":"#N/A"},0.2,0.8,{"$error":"#N/A"},{"$error":"#N/A"},{"$error":"#N/A"},{"$error":"#N/A"},false,false,false,false,false,{"$error":"#N/A"},{"$error":"#N/A"},{"$error":"#N/A"},{"$error":"#N/A"},false,false,true,false,false,{"$error":"#N/A"},{"$error":"#N/A"},{"$error":"#N/A"},{"$error":"#N/A"}]
[351,{"$f":"OFFSET(InputPriceData!B$15,CalculationsAndCharts!$A383+$A$11,0,1,1)","v":"2012-06-19"},{"$f":"OFFSET(InputPriceData!G$15,CalculationsAndCharts!$A383+$A$11,0,1,1)","v":3117000},{"$f":"OFFSET(InputPriceData!C$15,CalculationsAndCharts!$A383+$A$11,IF($C$7,7,0),1,1)","v":51.67},{"$f":"OFFSET(InputPriceData!D$15,CalculationsAndCharts!$A383+$A$11,IF($C$7,7,0),1,1)","v":52.31},{"$f":"OFFSET(InputPriceData!E$15,CalculationsAndCharts!$A383+$A$11,IF($C$7,7,0),1,1)","v":51.55},{"$f":"OFFSET(InputPriceData!F$15,CalculationsAndCharts!$A383+$A$11,IF($C$7,7,0),1,1)","v":52.2},{"$error":"#N/A"},{"$error":"#N/A"},{"$error":"#N/A"},51.511855017715348,51.511855017715348,1.3238913479447418,1.3400900377165652,1.3400900377165652,-1.0447737896883469,1,1.004685057446375,null,52.2,45.9,1,{"$error":"#N/A"},0.2,0.8,{"$error":"#N/A"},{"$error":"#N/A"},{"$error":"#N/A"},{"$error":"#N/A"},false,false,false,false,false,{"$error":"#N/A"},{"$error":"#N/A"},{"$error":"#N/A"},{"$error":"#N/A"},false,false,true,false,false,{"$error":"#N/A"},{"$error":"#N/A"},{"$error":"#N/A"},{"$error":"#N/A"}]
[352,{"$f":"OFFSET(InputPriceData!B$15,CalculationsAndCharts!$A384+$A$11,0,1,1)","v":"2012-06-18"},{"$f":"OFFSET(InputPriceData!G$15,CalculationsAndCharts!$A384+$A$11,0,1,1)","v":3943300},{"$f":"OFFSET(InputPriceData!C$15,CalculationsAndCharts!$A384+$A$11,IF($C$7,7,0),1,1)","v":52.03},{"$f":"OFFSET(InputPriceData!D$15,CalculationsAndCharts!$A384+$A$11,IF($C$7,7,0),1,1)","v":52.25},{"$f":"OFFSET(InputPriceData!E$15,CalculationsAndCharts!$A384+$A$11,IF($C$7,7,0),1,1)","v":51.54},{"$f":"OFFSET(InputPriceData!F$15,CalculationsAndCharts!$A384+$A$11,IF($C$7,7,0),1,1)","v":51.63},{"$error":"#N/A"},{"$error":"#N/A"},{"$error":"#N/A"},51.113323310044976,51.113323310044976,1.117455560359002,1.3017415782447506,1.3017415782447506,-1.0447737896883469,1,0.99030086557418473,null,52.19,45.9,0.91096979332273531,{"$error":"#N/A"},0.2,0.8,{"$error":"#N/A"},{"$error":"#N/A"},{"$error":"#N/A"},{"$error":"#N/A"},false,false,false,false,false,{"$error":"#N/A"},{"$error":"#N/A"},{"$error":"#N/A"},{"$error":"#N/A"},false,false,true,false,false,{"$error":"#N/A"},{"$error":"#N/A"},{"$error":"#N/A"},{"$error":"#N/A"}]
[353,{"$f":"OFFSET(InputPriceData!B$15,CalculationsAndCharts!$A385+$A$11,0,1,1)","v":"2012-06-15"},{"$f":"OFFSET(InputPriceData!G$15,CalculationsAndCharts!$A385+$A$11,0,1,1)","v":7469500},{"$f":"OFFSET(InputPriceData!C$15,CalculationsAndCharts!$A385+$A$11,IF($C$7,7,0),1,1)","v":50.75},{"$f":"OFFSET(InputPriceData!D$15,CalculationsAndCharts!$A385+$A$11,IF($C$7,7,0),1,1)","v":52.19},{"$f":"OFFSET(InputPriceData!E$15,CalculationsAndCharts!$A385+$A$11,IF($C$7,7,0),1,1)","v":50.53},{"$f":"OFFSET(InputPriceData!F$15,CalculationsAndCharts!$A385+$A$11,IF($C$7,7,0),1,1)","v":52.19},{"$error":"#N/A"},{"$error":"#N/A"},{"$error":"#N/A"},50.637755730152207,50.637755730152207,2.1008388754409304,1.1586095629797744,1.1586095629797744,-1.0447737896883469,1,0.96129743721788419,null,52.19,45.65,1,{"$error":"#N/A"},0.2,0.8,{"$error":"#N/A"},{"$error":"#N/A"},{"$error":"#N/A"},{"$error":"#N/A"},false,false,false,false,false,{"$error":"#N/A"},{"$error":"#N/A"},{"$error":"#N/A"},{"$error":"#N/A"},false,false,true,false,false,{"$error":"#N/A"},{"$error":"#N/A"},{"$error":"#N/A"},{"$error":"#N/A"}]
[354,{"$f":"OFFSET(InputPriceData!B$15,CalculationsAndCharts!$A386+$A$11,0,1,1)","v":"2012-06-14"},{"$f":"OFFSET(InputPriceData!G$15,CalculationsAndCharts!$A386+$A$11,0,1,1)","v":4621500},{"$f":"OFFSET(InputPriceData!C$15,CalculationsAndCharts!$A386+$A$11,IF($C$7,7,0),1,1)","v":50.5},{"$f":"OFFSET(InputPriceData!D$15,CalculationsAndCharts!$A386+$A$11,IF($C$7,7,0),1,1)","v":50.85},{"$f":"OFFSET(InputPriceData!E$15,CalculationsAndCharts!$A386+$A$11,IF($C$7,7,0),1,1)","v":50.15},{"$f":"OFFSET(InputPriceData!F$15,CalculationsAndCharts!$A386+$A$11,IF($C$7,7,0),1,1)","v":50.55},{"$error":"#N/A"},{"$error":"#N/A"},{"$error":"#N/A"},50.264502093144628,50.264502093144628,0.8458488017395015,1.0878938928834763,1.1531881272664337,-1.0447737896883469,0.97029328220871947,0.91460007302421809,null,50.55,45.65,1,{"$error":"#N/A"},0.2,0.8,{"$error":"#N/A"},{"$error":"#N/A"},{"$error":"#N/A"},{"$error":"#N/A"},false,false,false,false,false,{"$error":"#N/A"},{"$error":"#N/A"},{"$error":"#N/A"},{"$error":"#N/A"},false,false,true,false,false,{"$error":"#N/A"},{"$error":"#N/A"},{"$error":"#N/A"},{"$error":"#N/A"}]
[355,{"$f":"OFFSET(InputPriceData!B$15,CalculationsAndCharts!$A387+$A$11,0,1,1)","v":"2012-06-13"},{"$f":"OFFSET(InputPriceData!G$15,CalculationsAndCharts!$A387+$A$11,0,1,1)","v":4276100},{"$f":"OFFSET(InputPriceData!C$15,CalculationsAndCharts!$A387+$A$11,IF($C$7,7,0),1,1)","v":50.42},{"$f":"OFFSET(InputPriceData!D$15,CalculationsAndCharts!$A387+$A$11,IF($C$7,7,0),1,1)","v":50.7},{"$f":"OFFSET(InputPriceData!E$15,CalculationsAndCharts!$A387+$A$11,IF($C$7,7,0),1,1)","v":50.01},{"$f":"OFFSET(InputPriceData!F$15,CalculationsAndCharts!$A387+$A$11,IF($C$7,7,0),1,1)","v":50.18},{"$error":"#N/A"},{"$error":"#N/A"},{"$error":"#N/A"},50.037382977401535,50.037382977401535,0.72362844186401842,1.1531881272664337,1.1531881272664337,-1.0447737896883469,1,0.84448139348594609,null,50.33,45.65,0.96794871794871828,{"$error":"#N/A"},0.2,0.8,{"$error":"#N/A"},{"$error":"#N/A"},{"$error":"#N/A"},{"$error":"#N/A"},false,false,false,false,false,{"$error":"#N/A"},{"$error":"#N/A"},{"$error":"#N/A"},{"$error":"#N/A"},true,false,true,false,false,{"$error":"#N/A"},{"$error":"#N/A"},{"$error":"#N/A"},{"$error":"#N/A"}]
[356,{"$f":"OFFSET(InputPriceData!B$15,CalculationsAndCharts!$A388+$A$11,0,1,1)","v":"2012-06-12"},{"$f":"OFFSET(InputPriceData!G$15,CalculationsAndCharts!$A388+$A$11,0,1,1)","v":3631500},{"$f":"OFFSET(InputPriceData!C$15,CalculationsAndCharts!$A388+$A$11,IF($C$7,7,0),1,1)","v":50.37},{"$f":"OFFSET(InputPriceData!D$15,CalculationsAndCharts!$A388+$A$11,IF($C$7,7,0),1,1)","v":50.5},{"$f":"OFFSET(InputPriceData!E$15,CalculationsAndCharts!$A388+$A$11,IF($C$7,7,0),1,1)","v":49.63},{"$f":"OFFSET(InputPriceData!F$15,CalculationsAndCharts!$A388+$A$11,IF($C$7,7,0),1,1)","v":50.33},{"$error":"#N/A"},{"$error":"#N/A"},{"$error":"#N/A"},49.6868139131075,49.6868139131075,1.1414167911799842,1.0851755933479674,1.0851755933479674,-1.0447737896883469,1,0.76057262538742743,null,50.33,45.65,1,{"$error":"#N/A"},0.2,0.8,{"$error":"#N/A"},{"$error":"#N/A"},{"$error":"#N/A"},{"$error":"#N/A"},false,false,false,false,false,{"$error":"#N/A"},{"$error":"#N/A"},{"$error":"#N/A"},{"$error":"#N/A"},false,false,true,false,false,{"$error":"#N/A"},{"$error":"#N/A"},{"$error":"#N/A"},{"$error":"#N/A"}]
[357,{"$f":"OFFSET(InputPriceData!B$15,CalculationsAndCharts!$A389+$A$11,0,1,1)","v":"2012-06-11"},{"$f":"OFFSET(InputPriceData!G$15,CalculationsAndCharts!$A389+$A$11,0,1,1)","v":3886200},{"$f":"OFFSET(InputPriceData!C$15,CalculationsAndCharts!$A389+$A$11,IF($C$7,7,0),1,1)","v":50.75},{"$f":"OFFSET(InputPriceData!D$15,CalculationsAndCharts!$A389+$A$11,IF($C$7,7,0),1,1)","v":50.75},{"$f":"OFFSET(InputPriceData!E$15,CalculationsAndCharts!$A389+$A$11,IF($C$7,7,0),1,1)","v":49.95},{"$f":"OFFSET(InputPriceData!F$15,CalculationsAndCharts!$A389+$A$11,IF($C$7,7,0),1,1)","v":50.18},{"$error":"#N/A"},{"$error":"#N/A"},{"$error":"#N/A"},49.184156265468438,49.184156265468438,1.3036832386997408,0.82586278362672927,1.0396145926275069,-1.0447737896883469,0.89745106487146631,0.7039193487487696,null,50.29,45.65,0.97629310344827602,{"$error":"#N/A"},0.2,0.8,{"$error":"#N/A"},{"$error":"#N/A"},{"$error":"#N/A"},{"$error":"#N/A"},false,false,false,false,false,{"$error":"#N/A"},{"$error":"#N/A"},{"$error":"#N/A"},{"$error":"#N/A"},false,false,true,false,false,{"$error":"#N/A"},{"$error":"#N/A"},{"$error":"#N/A"},{"$error":"#N/A"}]
[358,{"$f":"OFFSET(InputPriceData!B$15,CalculationsAndCharts!$A390+$A$11,0,1,1)","v":"2012-06-08"},{"$f":"OFFSET(InputPriceData!G$15,CalculationsAndCharts!$A390+$A$11,0,1,1)","v":4517800},{"$f":"OFFSET(InputPriceData!C$15,CalculationsAndCharts!$A390+$A$11,IF($C$7,7,0),1,1)","v":48.98},{"$f":"OFFSET(InputPriceData!D$15,CalculationsAndCharts!$A390+$A$11,IF($C$7,7,0),1,1)","v":50.75},{"$f":"OFFSET(InputPriceData!E$15,CalculationsAndCharts!$A390+$A$11,IF($C$7,7,0),1,1)","v":48.95},{"$f":"OFFSET(InputPriceData!F$15,CalculationsAndCharts!$A390+$A$11,IF($C$7,7,0),1,1)","v":50.29},{"$error":"#N/A"},{"$error":"#N/A"},{"$error":"#N/A"},48.621084126189913,48.621084126189913,1.7725622840648536,0.43952972592092387,1.0396145926275069,-1.0447737896883469,0.71210506074695135,0.7168438058991109,null,50.29,45.65,1,{"$error":"#N/A"},0.2,0.8,{"$error":"#N/A"},{"$error":"#N/A"},{"$error":"#N/A"},{"$error":"#N/A"},false,false,false,false,{"$f":"AND(AG391,AF391)","v":false},{"$error":"#N/A"},{"$error":"#N/A"},{"$error":"#N/A"},{"$error":"#N/A"},false,{"$f":"AND(AM391,NOT(AO391))","v":false},true,false,false,{"$error":"#N/A"},{"$error":"#N/A"},{"$error":"#N/A"},{"$error":"#N/A"}]
[359,{"$f":"OFFSET(InputPriceData!B$15,CalculationsAndCharts!$A391+$A$11,0,1,1)","v":"2012-06-07"},{"$f":"OFFSET(InputPriceData!G$15,CalculationsAndCharts!$A391+$A$11,0,1,1)","v":4736800},{"$f":"OFFSET(InputPriceData!C$15,CalculationsAndCharts!$A391+$A$11,IF($C$7,7,0),1,1)","v":49.27},{"$f":"OFFSET(InputPriceData!D$15,CalculationsAndCharts!$A391+$A$11,IF($C$7,7,0),1,1)","v":49.49},{"$f":"OFFSET(InputPriceData!E$15,CalculationsAndCharts!$A391+$A$11,IF($C$7,7,0),1,1)","v":48.6},{"$f":"OFFSET(InputPriceData!F$15,CalculationsAndCharts!$A391+$A$11,IF($C$7,7,0),1,1)","v":48.98},{"$error":"#N/A"},{"$error":"#N/A"},{"$error":"#N/A"},48.245361569312941,48.245361569312941,0.75896971240258693,0.17636046753334164,1.0396145926275069,-1.0447737896883469,0.58584775638835163,0.80238729301357226,null,48.98,45.65,1,{"$error":"#N/A"},0.2,0.8,{"$error":"#N/A"},{"$error":"#N/A"},{"$error":"#N/A"},{"$error":"#N/A"},false,false,false,false,false,{"$error":"#N/A"},{"$error":"#N/A"},{"$error":"#N/A"},{"$error":"#N/A"},false,false,true,false,{"$f":"AND(AP392,AO392)","v":false},{"$error":"#N/A"},{"$error":"#N/A"},{"$error":"#N/A"},{"$error":"#N/A"}]
[360,{"$f":"OFFSET(InputPriceData!B$15,CalculationsAndCharts!$A392+$A$11,0,1,1)","v":"2012-06-06"},{"$f":"OFFSET(InputPriceData!G$15,CalculationsAndCharts!$A392+$A$11,0,1,1)","v":22697400},{"$f":"OFFSET(InputPriceData!C$15,CalculationsAndCharts!$A392+$A$11,IF($C$7,7,0),1,1)","v":47.66},{"$f":"OFFSET(InputPriceData!D$15,CalculationsAndCharts!$A392+$A$11,IF($C$7,7,0),1,1)","v":48.98},{"$f":"OFFSET(InputPriceData!E$15,CalculationsAndCharts!$A392+$A$11,IF($C$7,7,0),1,1)","v":47.46},{"$f":"OFFSET(InputPriceData!F$15,CalculationsAndCharts!$A392+$A$11,IF($C$7,7,0),1,1)","v":48.7},{"$error":"#N/A"},{"$error":"#N/A"},{"$error":"#N/A"},48.1871159871407,48.1871159871407,0.66425430420252451,0.2069894980316217,1.0396145926275069,-1.0447737896883469,0.60054224939077849,0.91595458616268899,null,48.91,45.65,0.9355828220858915,{"$error":"#N/A"},0.2,0.8,{"$error":"#N/A"},{"$error":"#N/A"},{"$error":"#N/A"},{"$error":"#N/A"},false,false,false,false,false,{"$error":"#N/A"},{"$error":"#N/A"},{"$error":"#N/A"},{"$error":"#N/A"},false,false,true,false,false,{"$error":"#N/A"},{"$error":"#N/A"},{"$error":"#N/A"},{"$error":"#N/A"}]
[361,{"$f":"OFFSET(InputPriceData!B$15,CalculationsAndCharts!$A393+$A$11,0,1,1)","v":"2012-06-05"},{"$f":"OFFSET(InputPriceData!G$15,CalculationsAndCharts!$A393+$A$11,0,1,1)","v":8569900},{"$f":"OFFSET(InputPriceData!C$15,CalculationsAndCharts!$A393+$A$11,IF($C$7,7,0),1,1)","v":46.6},{"$f":"OFFSET(InputPriceData!D$15,CalculationsAndCharts!$A393+$A$11,IF($C$7,7,0),1,1)","v":47.58},{"$f":"OFFSET(InputPriceData!E$15,CalculationsAndCharts!$A393+$A$11,IF($C$7,7,0),1,1)","v":46.45},{"$f":"OFFSET(InputPriceData!F$15,CalculationsAndCharts!$A393+$A$11,IF($C$7,7,0),1,1)","v":46.76},{"$error":"#N/A"},{"$f":"IF($A393=$E$25,I$32,NA())","v":{"$error":"#N/A"}},{"$error":"#N/A"},48.447323421931252,48.447323421931252,-1.2811280527549949,0.59203254133154171,1.0396145926275069,-1.0447737896883469,0.78526936002268422,0.99343035452019945,null,48.91,45.65,0.3404907975460123,{"$error":"#N/A"},0.2,0.8,{"$error":"#N/A"},{"$error":"#N/A"},{"$error":"#N/A"},{"$error":"#N/A"},false,false,false,false,false,{"$error":"#N/A"},{"$error":"#N/A"},{"$error":"#N/A"},{"$error":"#N/A"},false,false,true,false,false,{"$error":"#N/A"},{"$error":"#N/A"},{"$error":"#N/A"},{"$error":"#N/A"}]
[362,{"$f":"OFFSET(InputPriceData!B$15,CalculationsAndCharts!$A394+$A$11,0,1,1)","v":"2012-06-04"},{"$f":"OFFSET(InputPriceData!G$15,CalculationsAndCharts!$A394+$A$11,0,1,1)","v":5194600},{"$f":"OFFSET(InputPriceData!C$15,CalculationsAndCharts!$A394+$A$11,IF($C$7,7,0),1,1)","v":48.87},{"$f":"OFFSET(InputPriceData!D$15,CalculationsAndCharts!$A394+$A$11,IF($C$7,7,0),1,1)","v":48.97},{"$f":"OFFSET(InputPriceData!E$15,CalculationsAndCharts!$A394+$A$11,IF($C$7,7,0),1,1)","v":47.63},{"$f":"OFFSET(InputPriceData!F$15,CalculationsAndCharts!$A394+$A$11,IF($C$7,7,0),1,1)","v":48.49},{"$error":"#N/A"},{"$error":"#N/A"},{"$error":"#N/A"},48.638493785162154,48.638493785162154,0.42443950881216108,0.97400193372455079,1.0396145926275069,-1.0447737896883469,0.96852186499424964,0.9968401433330133,null,48.91,45.65,0.87116564417178077,{"$error":"#N/A"},0.2,0.8,{"$error":"#N/A"},{"$error":"#N/A"},{"$error":"#N/A"},{"$error":"#N/A"},false,false,false,false,false,{"$error":"#N/A"},{"$error":"#N/A"},{"$error":"#N/A"},{"$error":"#N/A"},false,false,true,false,false,{"$error":"#N/A"},{"$error":"#N/A"},{"$error":"#N/A"},{"$error":"#N/A"}]
[363,{"$f":"OFFSET(InputPriceData!B$15,CalculationsAndCharts!$A395+$A$11,0,1,1)","v":"2012-06-01"},{"$f":"OFFSET(InputPriceData!G$15,CalculationsAndCharts!$A395+$A$11,0,1,1)","v":5251700},{"$f":"OFFSET(InputPriceData!C$15,CalculationsAndCharts!$A395+$A$11,IF($C$7,7,0),1,1)","v":48.42},{"$f":"OFFSET(InputPriceData!D$15,CalculationsAndCharts!$A395+$A$11,IF($C$7,7,0),1,1)","v":48.96},{"$f":"OFFSET(InputPriceData!E$15,CalculationsAndCharts!$A395+$A$11,IF($C$7,7,0),1,1)","v":48.22},{"$f":"OFFSET(InputPriceData!F$15,CalculationsAndCharts!$A395+$A$11,IF($C$7,7,0),1,1)","v":48.62},{"$error":"#N/A"},{"$error":"#N/A"},{"$error":"#N/A"},48.47953154254126,48.47953154254126,0.71419362636077166,1.0396145926275069,1.0396145926275069,-1.0447737896883469,1,0.9313097749330479,null,48.91,45.65,0.91104294478527625,{"$error":"#N/A"},0.2,0.8,{"$error":"#N/A"},48.42,{"$error":"#N/A"},{"$error":"#N/A"},false,false,true,false,true,{"$error":"#N/A"},48.42,{"$error":"#N/A"},48.42,false,true,true,false,false,48.42,{"$error":"#N/A"},48.42,{"$error":"#N/A"}]
[364,{"$f":"OFFSET(InputPriceData!B$15,CalculationsAndCharts!$A396+$A$11,0,1,1)","v":"2012-05-31"},{"$f":"OFFSET(InputPriceData!G$15,CalculationsAndCharts!$A396+$A$11,0,1,1)","v":4625400},{"$f":"OFFSET(InputPriceData!C$15,CalculationsAndCharts!$A396+$A$11,IF($C$7,7,0),1,1)","v":48.46},{"$f":"OFFSET(InputPriceData!D$15,CalculationsAndCharts!$A396+$A$11,IF($C$7,7,0),1,1)","v":49.5},{"$f":"OFFSET(InputPriceData!E$15,CalculationsAndCharts!$A396+$A$11,IF($C$7,7,0),1,1)","v":48.46},{"$f":"OFFSET(InputPriceData!F$15,CalculationsAndCharts!$A396+$A$11,IF($C$7,7,0),1,1)","v":48.91},{"$error":"#N/A"},{"$error":"#N/A"},{"$error":"#N/A"},48.139488229345417,48.139488229345417,1.2321352764422242,0.90969285854736215,0.90969285854736215,-1.0447737896883469,1,0.80457247897953033,null,48.91,45.65,1,{"$error":"#N/A"},0.2,0.8,{"$error":"#N/A"},{"$error":"#N/A"},{"$error":"#N/A"},0.80457247897953033,false,false,true,true,false,{"$error":"#N/A"},{"$error":"#N/A"},{"$error":"#N/A"},{"$error":"#N/A"},true,false,false,false,false,{"$error":"#N/A"},{"$error":"#N/A"},{"$error":"#N/A"},{"$error":"#N/A"}]
[365,{"$f":"OFFSET(InputPriceData!B$15,CalculationsAndCharts!$A397+$A$11,0,1,1)","v":"2012-05-30"},{"$f":"OFFSET(InputPriceData!G$15,CalculationsAndCharts!$A397+$A$11,0,1,1)","v":3013800},{"$f":"OFFSET(InputPriceData!C$15,CalculationsAndCharts!$A397+$A$11,IF($C$7,7,0),1,1)","v":47.97},{"$f":"OFFSET(InputPriceData!D$15,CalculationsAndCharts!$A397+$A$11,IF($C$7,7,0),1,1)","v":48.59},{"$f":"OFFSET(InputPriceData!E$15,CalculationsAndCharts!$A397+$A$11,IF($C$7,7,0),1,1)","v":47.31},{"$f":"OFFSET(InputPriceData!F$15,CalculationsAndCharts!$A397+$A$11,IF($C$7,7,0),1,1)","v":48.56},{"$error":"#N/A"},{"$error":"#N/A"},{"$error":"#N/A"},47.697703739420191,47.697703739420191,1.140276957882467,0.63287327640480362,0.63287327640480362,-1.0447737896883469,1,0.61670855879301223,null,48.56,45.65,1,{"$error":"#N/A"},0.2,0.8,{"$error":"#N/A"},{"$error":"#N/A"},{"$error":"#N/A"},{"$error":"#N/A"},false,false,true,false,false,{"$error":"#N/A"},{"$error":"#N/A"},{"$error":"#N/A"},{"$error":"#N/A"},false,false,false,false,false,{"$error":"#N/A"},{"$error":"#N/A"},{"$error":"#N/A"},{"$error":"#N/A"}]
[366,{"$f":"OFFSET(InputPriceData!B$15,CalculationsAndCharts!$A398+$A$11,0,1,1)","v":"2012-05-29"},{"$f":"OFFSET(InputPriceData!G$15,CalculationsAndCharts!$A398+$A$11,0,1,1)","v":2433200},{"$f":"OFFSET(InputPriceData!C$15,CalculationsAndCharts!$A398+$A$11,IF($C$7,7,0),1,1)","v":47.95},{"$f":"OFFSET(InputPriceData!D$15,CalculationsAndCharts!$A398+$A$11,IF($C$7,7,0),1,1)","v":48.28},{"$f":"OFFSET(InputPriceData!E$15,CalculationsAndCharts!$A398+$A$11,IF($C$7,7,0),1,1)","v":47.29},{"$f":"OFFSET(InputPriceData!F$15,CalculationsAndCharts!$A398+$A$11,IF($C$7,7,0),1,1)","v":48.06},{"$error":"#N/A"},{"$error":"#N/A"},{"$error":"#N/A"},47.261987779048582,47.261987779048582,0.85403893067793879,0.3003839981866202,0.45583997945551591,-1.0447737896883469,0.89640506806918929,0.39584735436146196,null,48.21,45.65,0.94140625000000056,{"$error":"#N/A"},0.2,0.8,{"$error":"#N/A"},{"$error":"#N/A"},{"$error":"#N/A"},{"$error":"#N/A"},false,false,true,false,false,{"$error":"#N/A"},{"$error":"#N/A"},{"$error":"#N/A"},{"$error":"#N/A"},false,false,false,false,false,{"$error":"#N/A"},{"$error":"#N/A"},{"$error":"#N/A"},{"$error":"#N/A"}]
[367,{"$f":"OFFSET(InputPriceData!B$15,CalculationsAndCharts!$A399+$A$11,0,1,1)","v":"2012-05-25"},{"$f":"OFFSET(InputPriceData!G$15,CalculationsAndCharts!$A399+$A$11,0,1,1)","v":1072200},{"$f":"OFFSET(InputPriceData!C$15,CalculationsAndCharts!$A399+$A$11,IF($C$7,7,0),1,1)","v":47.7},{"$f":"OFFSET(InputPriceData!D$15,CalculationsAndCharts!$A399+$A$11,IF($C$7,7,0),1,1)","v":47.92},{"$f":"OFFSET(InputPriceData!E$15,CalculationsAndCharts!$A399+$A$11,IF($C$7,7,0),1,1)","v":47.49},{"$f":"OFFSET(InputPriceData!F$15,CalculationsAndCharts!$A399+$A$11,IF($C$7,7,0),1,1)","v":47.58},{"$error":"#N/A"},{"$error":"#N/A"},{"$error":"#N/A"},46.847621678371141,46.847621678371141,0.52344472046931334,-7.9175266644495812E-2,0.45583997945551591,-1.0447737896883469,0.6434690543954884,0.19881008812973128,null,48.21,45.65,0.75390624999999922,{"$error":"#N/A"},0.2,0.8,{"$error":"#N/A"},{"$error":"#N/A"},{"$error":"#N/A"},{"$error":"#N/A"},false,false,true,false,false,{"$error":"#N/A"},{"$error":"#N/A"},{"$error":"#N/A"},{"$error":"#N/A"},false,false,false,false,false,{"$error":"#N/A"},{"$error":"#N/A"},{"$error":"#N/A"},{"$error":"#N/A"}]
[368,{"$f":"OFFSET(InputPriceData!B$15,CalculationsAndCharts!$A400+$A$11,0,1,1)","v":"2012-05-24"},{"$f":"OFFSET(InputPriceData!G$15,CalculationsAndCharts!$A400+$A$11,0,1,1)","v":2806400},{"$f":"OFFSET(InputPriceData!C$15,CalculationsAndCharts!$A400+$A$11,IF($C$7,7,0),1,1)","v":47.07},{"$f":"OFFSET(InputPriceData!D$15,CalculationsAndCharts!$A400+$A$11,IF($C$7,7,0),1,1)","v":48.09},{"$f":"OFFSET(InputPriceData!E$15,CalculationsAndCharts!$A400+$A$11,IF($C$7,7,0),1,1)","v":46.99},{"$f":"OFFSET(InputPriceData!F$15,CalculationsAndCharts!$A400+$A$11,IF($C$7,7,0),1,1)","v":47.65},{"$error":"#N/A"},{"$error":"#N/A"},{"$error":"#N/A"},46.438614876423792,46.438614876423792,0.72529605654918872,-0.52939201378494816,0.45583997945551591,-1.0447737896883469,0.34344731902429282,7.1250098178233925E-2,null,48.21,45.65,0.78124999999999933,{"$error":"#N/A"},0.2,0.8,{"$error":"#N/A"},{"$error":"#N/A"},{"$error":"#N/A"},{"$error":"#N/A"},false,false,true,false,false,{"$error":"#N/A"},{"$error":"#N/A"},{"$error":"#N/A"},{"$error":"#N/A"},false,false,false,false,false,{"$error":"#N/A"},{"$error":"#N/A"},{"$error":"#N/A"},{"$error":"#N/A"}]
[369,{"$f":"OFFSET(InputPriceData!B$15,CalculationsAndCharts!$A401+$A$11,0,1,1)","v":"2012-05-23"},{"$f":"OFFSET(InputPriceData!G$15,CalculationsAndCharts!$A401+$A$11,0,1,1)","v":2000000},{"$f":"OFFSET(InputPriceData!C$15,CalculationsAndCharts!$A401+$A$11,IF($C$7,7,0),1,1)","v":45.71},{"$f":"OFFSET(InputPriceData!D$15,CalculationsAndCharts!$A401+$A$11,IF($C$7,7,0),1,1)","v":47.1},{"$f":"OFFSET(InputPriceData!E$15,CalculationsAndCharts!$A401+$A$11,IF($C$7,7,0),1,1)","v":45.71},{"$f":"OFFSET(InputPriceData!F$15,CalculationsAndCharts!$A401+$A$11,IF($C$7,7,0),1,1)","v":46.9},{"$error":"#N/A"},{"$error":"#N/A"},{"$error":"#N/A"},46.168195781411391,46.168195781411391,5.9851866469296633E-2,-0.9139297225541354,0.45583997945551591,-1.0447737896883469,8.719370022098441E-2,2.0959648595355665E-2,null,48.21,45.65,0.48828124999999956,{"$error":"#N/A"},0.2,0.8,{"$error":"#N/A"},{"$error":"#N/A"},{"$error":"#N/A"},{"$error":"#N/A"},false,false,true,false,false,{"$error":"#N/A"},{"$error":"#N/A"},{"$error":"#N/A"},{"$error":"#N/A"},false,false,false,false,false,{"$error":"#N/A"},{"$error":"#N/A"},{"$error":"#N/A"},{"$error":"#N/A"}]
[370,{"$f":"OFFSET(InputPriceData!B$15,CalculationsAndCharts!$A402+$A$11,0,1,1)","v":"2012-05-22"},{"$f":"OFFSET(InputPriceData!G$15,CalculationsAndCharts!$A402+$A$11,0,1,1)","v":2129400},{"$f":"OFFSET(InputPriceData!C$15,CalculationsAndCharts!$A402+$A$11,IF($C$7,7,0),1,1)","v":46.4},{"$f":"OFFSET(InputPriceData!D$15,CalculationsAndCharts!$A402+$A$11,IF($C$7,7,0),1,1)","v":46.73},{"$f":"OFFSET(InputPriceData!E$15,CalculationsAndCharts!$A402+$A$11,IF($C$7,7,0),1,1)","v":45.79},{"$f":"OFFSET(InputPriceData!F$15,CalculationsAndCharts!$A402+$A$11,IF($C$7,7,0),1,1)","v":45.9},{"$error":"#N/A"},{"$error":"#N/A"},{"$error":"#N/A"},46.191906156429035,46.191906156429035,-1.0165397308787927,-1.0447737896883469,0.45583997945551591,-1.0447737896883469,0,1.8307354254206251E-2,null,48.21,45.65,9.7656249999999917E-2,{"$error":"#N/A"},0.2,0.8,{"$error":"#N/A"},{"$error":"#N/A"},{"$error":"#N/A"},{"$error":"#N/A"},false,false,true,false,false,{"$error":"#N/A"},{"$error":"#N/A"},{"$error":"#N/A"},{"$error":"#N/A"},false,false,false,false,false,{"$error":"#N/A"},{"$error":"#N/A"},{"$error":"#N/A"},{"$error":"#N/A"}]
[371,{"$f":"OFFSET(InputPriceData!B$15,CalculationsAndCharts!$A403+$A$11,0,1,1)","v":"2012-05-21"},{"$f":"OFFSET(InputPriceData!G$15,CalculationsAndCharts!$A403+$A$11,0,1,1)","v":2603300},{"$f":"OFFSET(InputPriceData!C$15,CalculationsAndCharts!$A403+$A$11,IF($C$7,7,0),1,1)","v":45.61},{"$f":"OFFSET(InputPriceData!D$15,CalculationsAndCharts!$A403+$A$11,IF($C$7,7,0),1,1)","v":46.5},{"$f":"OFFSET(InputPriceData!E$15,CalculationsAndCharts!$A403+$A$11,IF($C$7,7,0),1,1)","v":45.58},{"$f":"OFFSET(InputPriceData!F$15,CalculationsAndCharts!$A403+$A$11,IF($C$7,7,0),1,1)","v":46.35},{"$error":"#N/A"},{"$error":"#N/A"},{"$error":"#N/A"},46.377626928225816,46.377626928225816,-0.70832383587955627,-1.0142866240824198,0.45583997945551591,-1.0142866240824198,0,2.7423331279687144E-2,null,48.21,45.65,0.27343750000000089,{"$error":"#N/A"},0.2,0.8,{"$error":"#N/A"},{"$error":"#N/A"},{"$error":"#N/A"},{"$error":"#N/A"},false,false,true,false,false,{"$error":"#N/A"},{"$error":"#N/A"},{"$error":"#N/A"},{"$error":"#N/A"},false,false,false,false,false,{"$error":"#N/A"},{"$error":"#N/A"},{"$error":"#N/A"},{"$error":"#N/A"}]
[372,{"$f":"OFFSET(InputPriceData!B$15,CalculationsAndCharts!$A404+$A$11,0,1,1)","v":"2012-05-18"},{"$f":"OFFSET(InputPriceData!G$15,CalculationsAndCharts!$A404+$A$11,0,1,1)","v":2468100},{"$f":"OFFSET(InputPriceData!C$15,CalculationsAndCharts!$A404+$A$11,IF($C$7,7,0),1,1)","v":46.09},{"$f":"OFFSET(InputPriceData!D$15,CalculationsAndCharts!$A404+$A$11,IF($C$7,7,0),1,1)","v":46.45},{"$f":"OFFSET(InputPriceData!E$15,CalculationsAndCharts!$A404+$A$11,IF($C$7,7,0),1,1)","v":45.37},{"$f":"OFFSET(InputPriceData!F$15,CalculationsAndCharts!$A404+$A$11,IF($C$7,7,0),1,1)","v":45.65},{"$error":"#N/A"},{"$error":"#N/A"},{"$error":"#N/A"},46.673695821302985,46.673695821302985,-1.5950472284725516,-0.8467018803852211,0.45583997945551591,-0.8467018803852211,0,3.2709466237623087E-2,null,48.21,45.65,0,{"$error":"#N/A"},0.2,0.8,{"$error":"#N/A"},{"$error":"#N/A"},{"$error":"#N/A"},{"$error":"#N/A"},false,false,true,false,false,{"$error":"#N/A"},{"$error":"#N/A"},{"$error":"#N/A"},{"$error":"#N/A"},false,false,false,false,false,{"$error":"#N/A"},{"$error":"#N/A"},{"$error":"#N/A"},{"$error":"#N/A"}]
[373,{"$f":"OFFSET(InputPriceData!B$15,CalculationsAndCharts!$A405+$A$11,0,1,1)","v":"2012-05-17"},{"$f":"OFFSET(InputPriceData!G$15,CalculationsAndCharts!$A405+$A$11,0,1,1)","v":3805900},{"$f":"OFFSET(InputPriceData!C$15,CalculationsAndCharts!$A405+$A$11,IF($C$7,7,0),1,1)","v":47},{"$f":"OFFSET(InputPriceData!D$15,CalculationsAndCharts!$A405+$A$11,IF($C$7,7,0),1,1)","v":47.11},{"$f":"OFFSET(InputPriceData!E$15,CalculationsAndCharts!$A405+$A$11,IF($C$7,7,0),1,1)","v":45.68},{"$f":"OFFSET(InputPriceData!F$15,CalculationsAndCharts!$A405+$A$11,IF($C$7,7,0),1,1)","v":45.99},{"$error":"#N/A"},{"$error":"#N/A"},{"$error":"#N/A"},46.978908422554483,46.978908422554483,-1.5038634193884985,-0.62695111737908293,0.45583997945551591,-0.78970032916753885,0.13066555185867507,2.5430571845003566E-2,null,48.21,45.69,0.1190476190476206,{"$error":"#N/A"},0.2,0.8,{"$error":"#N/A"},{"$error":"#N/A"},{"$error":"#N/A"},{"$error":"#N/A"},false,false,true,false,false,{"$error":"#N/A"},{"$error":"#N/A"},{"$error":"#N/A"},{"$error":"#N/A"},false,false,false,false,false,{"$error":"#N/A"},{"$error":"#N/A"},{"$error":"#N/A"},{"$error":"#N/A"}]
[374,{"$f":"OFFSET(InputPriceData!B$15,CalculationsAndCharts!$A406+$A$11,0,1,1)","v":"2012-05-16"},{"$f":"OFFSET(InputPriceData!G$15,CalculationsAndCharts!$A406+$A$11,0,1,1)","v":2330100},{"$f":"OFFSET(InputPriceData!C$15,CalculationsAndCharts!$A406+$A$11,IF($C$7,7,0),1,1)","v":47},{"$f":"OFFSET(InputPriceData!D$15,CalculationsAndCharts!$A406+$A$11,IF($C$7,7,0),1,1)","v":47.73},{"$f":"OFFSET(InputPriceData!E$15,CalculationsAndCharts!$A406+$A$11,IF($C$7,7,0),1,1)","v":46.89},{"$f":"OFFSET(InputPriceData!F$15,CalculationsAndCharts!$A406+$A$11,IF($C$7,7,0),1,1)","v":47.61},{"$error":"#N/A"},{"$error":"#N/A"},{"$error":"#N/A"},47.007724911463853,47.007724911463853,2.7388513650607904E-2,-0.66042456783152392,0.45583997945551591,-0.78970032916753885,0.10379090940776484,3.2291216649042012E-2,null,48.21,45.69,0.76190476190476164,{"$error":"#N/A"},0.2,0.8,47,{"$error":"#N/A"},{"$error":"#N/A"},{"$error":"#N/A"},false,true,true,false,false,47,{"$error":"#N/A"},47,{"$error":"#N/A"},false,false,false,false,true,{"$error":"#N/A"},47,{"$error":"#N/A"},47]
[375,{"$f":"OFFSET(InputPriceData!B$15,CalculationsAndCharts!$A407+$A$11,0,1,1)","v":"2012-05-15"},{"$f":"OFFSET(InputPriceData!G$15,CalculationsAndCharts!$A407+$A$11,0,1,1)","v":1401400},{"$f":"OFFSET(InputPriceData!C$15,CalculationsAndCharts!$A407+$A$11,IF($C$7,7,0),1,1)","v":46.83},{"$f":"OFFSET(InputPriceData!D$15,CalculationsAndCharts!$A407+$A$11,IF($C$7,7,0),1,1)","v":47.38},{"$f":"OFFSET(InputPriceData!E$15,CalculationsAndCharts!$A407+$A$11,IF($C$7,7,0),1,1)","v":46.75},{"$f":"OFFSET(InputPriceData!F$15,CalculationsAndCharts!$A407+$A$11,IF($C$7,7,0),1,1)","v":47},{"$error":"#N/A"},{"$error":"#N/A"},{"$error":"#N/A"},46.949941752769611,46.949941752769611,-0.58159165138739422,-0.78970032916753885,0.45583997945551591,-0.78970032916753885,0,0.10124685289468013,null,48.21,45.69,0.5198412698412701,{"$error":"#N/A"},0.2,0.8,{"$error":"#N/A"},{"$error":"#N/A"},0.10124685289468013,{"$error":"#N/A"},true,false,false,false,false,{"$error":"#N/A"},{"$error":"#N/A"},{"$error":"#N/A"},{"$error":"#N/A"},false,false,true,true,false,{"$error":"#N/A"},{"$error":"#N/A"},{"$error":"#N/A"},{"$error":"#N/A"}]
[376,{"$f":"OFFSET(InputPriceData!B$15,CalculationsAndCharts!$A408+$A$11,0,1,1)","v":"2012-05-14"},{"$f":"OFFSET(InputPriceData!G$15,CalculationsAndCharts!$A408+$A$11,0,1,1)","v":1953500},{"$f":"OFFSET(InputPriceData!C$15,CalculationsAndCharts!$A408+$A$11,IF($C$7,7,0),1,1)","v":47.05},{"$f":"OFFSET(InputPriceData!D$15,CalculationsAndCharts!$A408+$A$11,IF($C$7,7,0),1,1)","v":47.61},{"$f":"OFFSET(InputPriceData!E$15,CalculationsAndCharts!$A408+$A$11,IF($C$7,7,0),1,1)","v":46.77},{"$f":"OFFSET(InputPriceData!F$15,CalculationsAndCharts!$A408+$A$11,IF($C$7,7,0),1,1)","v":46.82},{"$error":"#N/A"},{"$error":"#N/A"},{"$error":"#N/A"},47.027974503747643,47.027974503747643,-0.83633433707973581,-0.7885308150277528,0.45583997945551591,-0.7885308150277528,0,0.23852762970867014,null,48.21,45.69,0.44841269841269887,{"$error":"#N/A"},0.2,0.8,{"$error":"#N/A"},{"$error":"#N/A"},{"$error":"#N/A"},{"$error":"#N/A"},false,false,false,false,false,{"$error":"#N/A"},{"$error":"#N/A"},{"$error":"#N/A"},{"$error":"#N/A"},false,false,true,false,false,{"$error":"#N/A"},{"$error":"#N/A"},{"$error":"#N/A"},{"$error":"#N/A"}]
[377,{"$f":"OFFSET(InputPriceData!B$15,CalculationsAndCharts!$A409+$A$11,0,1,1)","v":"2012-05-11"},{"$f":"OFFSET(InputPriceData!G$15,CalculationsAndCharts!$A409+$A$11,0,1,1)","v":2363100},{"$f":"OFFSET(InputPriceData!C$15,CalculationsAndCharts!$A409+$A$11,IF($C$7,7,0),1,1)","v":46.8},{"$f":"OFFSET(InputPriceData!D$15,CalculationsAndCharts!$A409+$A$11,IF($C$7,7,0),1,1)","v":47.77},{"$f":"OFFSET(InputPriceData!E$15,CalculationsAndCharts!$A409+$A$11,IF($C$7,7,0),1,1)","v":46.73},{"$f":"OFFSET(InputPriceData!F$15,CalculationsAndCharts!$A409+$A$11,IF($C$7,7,0),1,1)","v":47.17},{"$error":"#N/A"},{"$error":"#N/A"},{"$error":"#N/A"},47.145090233246606,47.145090233246606,-0.55235088203953608,-0.73671674828632117,0.45583997945551591,-0.79380241667676466,4.5681603446815759E-2,0.42550004446492051,null,48.21,45.69,0.5873015873015881,{"$error":"#N/A"},0.2,0.8,{"$error":"#N/A"},{"$error":"#N/A"},{"$error":"#N/A"},{"$error":"#N/A"},false,false,false,false,false,{"$error":"#N/A"},{"$error":"#N/A"},{"$error":"#N/A"},{"$error":"#N/A"},false,false,true,false,false,{"$error":"#N/A"},{"$error":"#N/A"},{"$error":"#N/A"},{"$error":"#N/A"}]
[378,{"$f":"OFFSET(InputPriceData!B$15,CalculationsAndCharts!$A410+$A$11,0,1,1)","v":"2012-05-10"},{"$f":"OFFSET(InputPriceData!G$15,CalculationsAndCharts!$A410+$A$11,0,1,1)","v":2337800},{"$f":"OFFSET(InputPriceData!C$15,CalculationsAndCharts!$A410+$A$11,IF($C$7,7,0),1,1)","v":47.16},{"$f":"OFFSET(InputPriceData!D$15,CalculationsAndCharts!$A410+$A$11,IF($C$7,7,0),1,1)","v":47.4},{"$f":"OFFSET(InputPriceData!E$15,CalculationsAndCharts!$A410+$A$11,IF($C$7,7,0),1,1)","v":46.72},{"$f":"OFFSET(InputPriceData!F$15,CalculationsAndCharts!$A410+$A$11,IF($C$7,7,0),1,1)","v":46.95},{"$error":"#N/A"},{"$error":"#N/A"},{"$error":"#N/A"},47.337464032055379,47.337464032055379,-0.83202190044991553,-0.58465978195504908,0.45583997945551591,-0.79612704728348405,0.16890801499720323,0.63227364643798023,null,48.21,45.69,0.50000000000000144,{"$error":"#N/A"},0.2,0.8,{"$error":"#N/A"},{"$error":"#N/A"},{"$error":"#N/A"},{"$error":"#N/A"},false,false,false,false,false,{"$error":"#N/A"},{"$error":"#N/A"},{"$error":"#N/A"},{"$error":"#N/A"},false,false,true,false,false,{"$error":"#N/A"},{"$error":"#N/A"},{"$error":"#N/A"},{"$error":"#N/A"}]
[379,{"$f":"OFFSET(InputPriceData!B$15,CalculationsAndCharts!$A411+$A$11,0,1,1)","v":"2012-05-09"},{"$f":"OFFSET(InputPriceData!G$15,CalculationsAndCharts!$A411+$A$11,0,1,1)","v":2939800},{"$f":"OFFSET(InputPriceData!C$15,CalculationsAndCharts!$A411+$A$11,IF($C$7,7,0),1,1)","v":46.6},{"$f":"OFFSET(InputPriceData!D$15,CalculationsAndCharts!$A411+$A$11,IF($C$7,7,0),1,1)","v":47.34},{"$f":"OFFSET(InputPriceData!E$15,CalculationsAndCharts!$A411+$A$11,IF($C$7,7,0),1,1)","v":46.6},{"$f":"OFFSET(InputPriceData!F$15,CalculationsAndCharts!$A411+$A$11,IF($C$7,7,0),1,1)","v":46.84},{"$error":"#N/A"},{"$error":"#N/A"},{"$error":"#N/A"},47.634422508685134,47.634422508685134,-1.0398599653393223,-0.28113594638738149,0.45583997945551591,-0.81741303082863015,0.42118658279988691,0.81190815712825515,null,48.21,45.69,0.45634920634920806,{"$error":"#N/A"},0.2,0.8,{"$error":"#N/A"},{"$error":"#N/A"},{"$error":"#N/A"},{"$error":"#N/A"},false,false,false,false,false,{"$error":"#N/A"},{"$error":"#N/A"},{"$error":"#N/A"},{"$error":"#N/A"},false,false,true,false,false,{"$error":"#N/A"},{"$error":"#N/A"},{"$error":"#N/A"},{"$error":"#N/A"}]
[380,{"$f":"OFFSET(InputPriceData!B$15,CalculationsAndCharts!$A412+$A$11,0,1,1)","v":"2012-05-08"},{"$f":"OFFSET(InputPriceData!G$15,CalculationsAndCharts!$A412+$A$11,0,1,1)","v":3066500},{"$f":"OFFSET(InputPriceData!C$15,CalculationsAndCharts!$A412+$A$11,IF($C$7,7,0),1,1)","v":47.97},{"$f":"OFFSET(InputPriceData!D$15,CalculationsAndCharts!$A412+$A$11,IF($C$7,7,0),1,1)","v":48.11},{"$f":"OFFSET(InputPriceData!E$15,CalculationsAndCharts!$A412+$A$11,IF($C$7,7,0),1,1)","v":46.5},{"$f":"OFFSET(InputPriceData!F$15,CalculationsAndCharts!$A412+$A$11,IF($C$7,7,0),1,1)","v":47.1},{"$error":"#N/A"},{"$error":"#N/A"},{"$error":"#N/A"},47.901346029575819,47.901346029575819,-0.87341521557599133,5.3828637542067098E-2,0.45583997945551591,-0.81741303082863015,0.6842643695586208,0.93055463665221427,null,48.21,45.69,0.55952380952381031,{"$error":"#N/A"},0.2,0.8,{"$error":"#N/A"},{"$error":"#N/A"},{"$error":"#N/A"},{"$error":"#N/A"},false,{"$f":"AND(AD413,NOT(AF413))","v":false},false,false,false,{"$error":"#N/A"},{"$error":"#N/A"},{"$error":"#N/A"},{"$error":"#N/A"},false,false,true,false,false,{"$error":"#N/A"},{"$error":"#N/A"},{"$error":"#N/A"},{"$error":"#N/A"}]
[381,{"$f":"OFFSET(InputPriceData!B$15,CalculationsAndCharts!$A413+$A$11,0,1,1)","v":"2012-05-07"},{"$f":"OFFSET(InputPriceData!G$15,CalculationsAndCharts!$A413+$A$11,0,1,1)","v":3987300},{"$f":"OFFSET(InputPriceData!C$15,CalculationsAndCharts!$A413+$A$11,IF($C$7,7,0),1,1)","v":47.41},{"$f":"OFFSET(InputPriceData!D$15,CalculationsAndCharts!$A413+$A$11,IF($C$7,7,0),1,1)","v":48.6},{"$f":"OFFSET(InputPriceData!E$15,CalculationsAndCharts!$A413+$A$11,IF($C$7,7,0),1,1)","v":47.3},{"$f":"OFFSET(InputPriceData!F$15,CalculationsAndCharts!$A413+$A$11,IF($C$7,7,0),1,1)","v":48.21},{"$error":"#N/A"},{"$f":"IF($A413=$E$25,I$32,NA())","v":{"$error":"#N/A"}},{"$error":"#N/A"},47.977123726738981,47.977123726738981,0.26970860110697742,0.24634205467541243,0.45583997945551591,-0.81741303082863015,0.83546245476117054,0.98648665893797738,null,48.21,45.5,1,{"$error":"#N/A"},0.2,0.8,{"$error":"#N/A"},{"$error":"#N/A"},{"$error":"#N/A"},{"$error":"#N/A"},false,false,false,false,false,{"$error":"#N/A"},{"$error":"#N/A"},{"$error":"#N/A"},{"$error":"#N/A"},false,false,true,false,false,{"$error":"#N/A"},{"$error":"#N/A"},{"$error":"#N/A"},{"$error":"#N/A"}]
[382,{"$f":"OFFSET(InputPriceData!B$15,CalculationsAndCharts!$A414+$A$11,0,1,1)","v":"2012-05-04"},{"$f":"OFFSET(InputPriceData!G$15,CalculationsAndCharts!$A414+$A$11,0,1,1)","v":1952400},{"$f":"OFFSET(InputPriceData!C$15,CalculationsAndCharts!$A414+$A$11,IF($C$7,7,0),1,1)","v":48},{"$f":"OFFSET(InputPriceData!D$15,CalculationsAndCharts!$A414+$A$11,IF($C$7,7,0),1,1)","v":48.4},{"$f":"OFFSET(InputPriceData!E$15,CalculationsAndCharts!$A414+$A$11,IF($C$7,7,0),1,1)","v":47.47},{"$f":"OFFSET(InputPriceData!F$15,CalculationsAndCharts!$A414+$A$11,IF($C$7,7,0),1,1)","v":47.56},{"$error":"#N/A"},{"$error":"#N/A"},{"$error":"#N/A"},47.9631115633428,47.9631115633428,-0.29197707039581988,0.37701646284327994,0.45583997945551591,-0.81741303082863015,0.93809280953936613,0.9829994069951199,null,48.19,45.5,0.76579925650557767,{"$error":"#N/A"},0.2,0.8,{"$error":"#N/A"},48,{"$error":"#N/A"},{"$error":"#N/A"},false,false,true,false,true,{"$error":"#N/A"},48,{"$error":"#N/A"},48,false,true,true,false,false,48,{"$error":"#N/A"},48,{"$error":"#N/A"}]
[383,{"$f":"OFFSET(InputPriceData!B$15,CalculationsAndCharts!$A415+$A$11,0,1,1)","v":"2012-05-03"},{"$f":"OFFSET(InputPriceData!G$15,CalculationsAndCharts!$A415+$A$11,0,1,1)","v":2200000},{"$f":"OFFSET(InputPriceData!C$15,CalculationsAndCharts!$A415+$A$11,IF($C$7,7,0),1,1)","v":48.27},{"$f":"OFFSET(InputPriceData!D$15,CalculationsAndCharts!$A415+$A$11,IF($C$7,7,0),1,1)","v":48.76},{"$f":"OFFSET(InputPriceData!E$15,CalculationsAndCharts!$A415+$A$11,IF($C$7,7,0),1,1)","v":47.94},{"$f":"OFFSET(InputPriceData!F$15,CalculationsAndCharts!$A415+$A$11,IF($C$7,7,0),1,1)","v":48.08},{"$error":"#N/A"},{"$error":"#N/A"},{"$error":"#N/A"},47.880968941698029,47.880968941698029,0.32108024320294215,0.45583997945551591,0.45583997945551591,-0.81741303082863015,1,0.91530034186563913,null,48.19,45.5,0.95910780669145002,{"$error":"#N/A"},0.2,0.8,{"$error":"#N/A"},{"$error":"#N/A"},{"$error":"#N/A"},0.91530034186563913,false,false,true,true,false,{"$error":"#N/A"},{"$error":"#N/A"},{"$error":"#N/A"},{"$error":"#N/A"},true,false,false,false,false,{"$error":"#N/A"},{"$error":"#N/A"},{"$error":"#N/A"},{"$error":"#N/A"}]
[384,{"$f":"OFFSET(InputPriceData!B$15,CalculationsAndCharts!$A416+$A$11,0,1,1)","v":"2012-05-02"},{"$f":"OFFSET(InputPriceData!G$15,CalculationsAndCharts!$A416+$A$11,0,1,1)","v":1875000},{"$f":"OFFSET(InputPriceData!C$15,CalculationsAndCharts!$A416+$A$11,IF($C$7,7,0),1,1)","v":47.65},{"$f":"OFFSET(InputPriceData!D$15,CalculationsAndCharts!$A416+$A$11,IF($C$7,7,0),1,1)","v":48.41},{"$f":"OFFSET(InputPriceData!E$15,CalculationsAndCharts!$A416+$A$11,IF($C$7,7,0),1,1)","v":47.6},{"$f":"OFFSET(InputPriceData!F$15,CalculationsAndCharts!$A416+$A$11,IF($C$7,7,0),1,1)","v":48.19},{"$error":"#N/A"},{"$error":"#N/A"},{"$error":"#N/A"},47.643728708484019,47.643728708484019,0.60517637000739088,0.37589248835292161,0.37589248835292161,-0.81741303082863015,1,0.7837794416787196,null,48.19,45.5,1,{"$error":"#N/A"},0.2,0.8,{"$error":"#N/A"},{"$error":"#N/A"},{"$error":"#N/A"},{"$error":"#N/A"},false,false,true,false,false,{"$error":"#N/A"},{"$error":"#N/A"},{"$error":"#N/A"},{"$error":"#N/A"},false,false,false,false,false,{"$error":"#N/A"},{"$error":"#N/A"},{"$error":"#N/A"},{"$error":"#N/A"}]
[385,{"$f":"OFFSET(InputPriceData!B$15,CalculationsAndCharts!$A417+$A$11,0,1,1)","v":"2012-05-01"},{"$f":"OFFSET(InputPriceData!G$15,CalculationsAndCharts!$A417+$A$11,0,1,1)","v":1969000},{"$f":"OFFSET(InputPriceData!C$15,CalculationsAndCharts!$A417+$A$11,IF($C$7,7,0),1,1)","v":47.51},{"$f":"OFFSET(InputPriceData!D$15,CalculationsAndCharts!$A417+$A$11,IF($C$7,7,0),1,1)","v":48.57},{"$f":"OFFSET(InputPriceData!E$15,CalculationsAndCharts!$A417+$A$11,IF($C$7,7,0),1,1)","v":47.41},{"$f":"OFFSET(InputPriceData!F$15,CalculationsAndCharts!$A417+$A$11,IF($C$7,7,0),1,1)","v":47.8},{"$f":"IF($A417=$E$25,H$32,NA())","v":{"$error":"#N/A"}},{"$error":"#N/A"},{"$error":"#N/A"},{"$f":"$F$16*(G417+G418)/2+$F$17*K418+$F$18*K419","v":47.36927397539413},47.36927397539413,{"$f":"$D$21*(G417 - 2*G418 + G419) + $D$20*M418 - $F$20*M419","v":0.39168797256170085},0.23520303554797389,0.23520303554797389,-0.81741303082863015,{"$f":"IFERROR(IF($A417>$A$8,0,(N417-P417)/(O417-P417)),1)","v":1},{"$f":"IF($A417>$A$8,0,$F$16*(Q417+Q418)/2+$F$17*R418+$F$18*R419)","v":0.59708218666925905},null,{"$f":"MAX(OFFSET(G417,0,0,$A$22,1))","v":47.8},{"$f":"MIN(OFFSET(G417,0,0,$A$22,1))","v":45.5},{"$f":"IFERROR(IF($A417>$A$8,0,(G417-U417)/(T417-U417)),1)","v":1},{"$error":"#N/A"},0.2,0.8,{"$f":"IF($S$7,AI417,NA())","v":{"$error":"#N/A"}},{"$f":"IF($S$7,AJ417,NA())","v":{"$error":"#N/A"}},{"$f":"IF($S$7,IF(AD417,R417,NA()),NA())","v":{"$error":"#N/A"}},{"$f":"IF($S$7,IF(AG417,R417,NA()),NA())","v":{"$error":"#N/A"}},{"$f":"IF(AND(R418>$X$32,R417<$X$32),TRUE,FALSE)","v":false},false,true,{"$f":"IF(AND(AF417,R418<$Y$32,R417>$Y$32),TRUE,FALSE)","v":false},false,{"$f":"IF(AE417,D417,NA())","v":{"$error":"#N/A"}},{"$f":"IF(AH417,D417,NA())","v":{"$error":"#N/A"}},{"$f":"IF($S$7,AI417,NA())","v":{"$error":"#N/A"}},{"$f":"IF($S$7,AJ417,NA())","v":{"$error":"#N/A"}},{"$f":"IF(AND(R418<$Y$32,R417>$Y$32),TRUE,FALSE)","v":false},false,false,{"$f":"IF(AND(AO418,R418>$X$32,R417<$X$32),TRUE,FALSE)","v":false},false,{"$f":"IF(AN417,D417,NA())","v":{"$error":"#N/A"}},{"$f":"IF(AQ417,D417,NA())","v":{"$error":"#N/A"}},{"$error":"#N/A"},{"$error":"#N/A"}]
[386,{"$f":"OFFSET(InputPriceData!B$15,CalculationsAndCharts!$A418+$A$11,0,1,1)","v":"2012-04-30"},{"$f":"OFFSET(InputPriceData!G$15,CalculationsAndCharts!$A418+$A$11,0,1,1)","v":2027200},{"$f":"OFFSET(InputPriceData!C$15,CalculationsAndCharts!$A418+$A$11,IF($C$7,7,0),1,1)","v":48.69},{"$f":"OFFSET(InputPriceData!D$15,CalculationsAndCharts!$A418+$A$11,IF($C$7,7,0),1,1)","v":48.74},{"$f":"OFFSET(InputPriceData!E$15,CalculationsAndCharts!$A418+$A$11,IF($C$7,7,0),1,1)","v":47.4},{"$f":"OFFSET(InputPriceData!F$15,CalculationsAndCharts!$A418+$A$11,IF($C$7,7,0),1,1)","v":47.46},{"$error":"#N/A"},{"$error":"#N/A"},{"$error":"#N/A"},47.087089345430364,{"$f":"IF($S$5,K418,NA())","v":47.087089345430364},0.18600273888663227,{"$f":"$F$16*(M418+M419)/2+$F$17*N419+$F$18*N420","v":5.5145695966943742E-2},{"$f":"MAX(OFFSET(N418,0,0,$A$22,1))","v":0.10704312436594776},-0.81741303082863015,0.94386166601045485,0.39113673011030059,null,47.78,45.5,0.85964912280701744,{"$f":"IF($S$18,V418,NA())","v":{"$error":"#N/A"}},{"$f":"$X$32","v":0.2},{"$f":"$Y$32","v":0.8},{"$error":"#N/A"},{"$error":"#N/A"},{"$error":"#N/A"},{"$error":"#N/A"},false,false,{"$f":"IF(AF419,IF(AH419,FALSE,AF419),IF(AE418,TRUE,AF419))","v":true},false,false,{"$error":"#N/A"},{"$error":"#N/A"},{"$error":"#N/A"},{"$error":"#N/A"},false,false,{"$f":"IF(AO419,IF(AP419,FALSE,AO419),IF(AN418,TRUE,AO419))","v":false},false,false,{"$error":"#N/A"},{"$error":"#N/A"},{"$f":"IF($S$5,AR418,NA())","v":{"$error":"#N/A"}},{"$error":"#N/A"}]
[387,{"$f":"OFFSET(InputPriceData!B$15,CalculationsAndCharts!$A419+$A$11,0,1,1)","v":"2012-04-27"},{"$f":"OFFSET(InputPriceData!G$15,CalculationsAndCharts!$A419+$A$11,0,1,1)","v":3735900},{"$f":"OFFSET(InputPriceData!C$15,CalculationsAndCharts!$A419+$A$11,IF($C$7,7,0),1,1)","v":47.45},{"$f":"OFFSET(InputPriceData!D$15,CalculationsAndCharts!$A419+$A$11,IF($C$7,7,0),1,1)","v":48.02},{"$f":"OFFSET(InputPriceData!E$15,CalculationsAndCharts!$A419+$A$11,IF($C$7,7,0),1,1)","v":46.98},{"$f":"OFFSET(InputPriceData!F$15,CalculationsAndCharts!$A419+$A$11,IF($C$7,7,0),1,1)","v":47.78},{"$error":"#N/A"},{"$error":"#N/A"},{"$error":"#N/A"},46.735141414681266,46.735141414681266,0.66232395253785681,-0.23880240249825363,0.2182483213488306,-0.81741303082863015,0.55868709121360693,0.24786762402023393,null,47.78,45.5,1,{"$error":"#N/A"},0.2,0.8,{"$error":"#N/A"},{"$error":"#N/A"},{"$error":"#N/A"},{"$error":"#N/A"},false,false,true,false,false,{"$error":"#N/A"},{"$error":"#N/A"},{"$error":"#N/A"},{"$error":"#N/A"},false,false,false,false,false,{"$error":"#N/A"},{"$error":"#N/A"},{"$error":"#N/A"},{"$error":"#N/A"}]
[388,{"$f":"OFFSET(InputPriceData!B$15,CalculationsAndCharts!$A420+$A$11,0,1,1)","v":"2012-04-26"},{"$f":"OFFSET(InputPriceData!G$15,CalculationsAndCharts!$A420+$A$11,0,1,1)","v":4376900},{"$f":"OFFSET(InputPriceData!C$15,CalculationsAndCharts!$A420+$A$11,IF($C$7,7,0),1,1)","v":46.29},{"$f":"OFFSET(InputPriceData!D$15,CalculationsAndCharts!$A420+$A$11,IF($C$7,7,0),1,1)","v":47.62},{"$f":"OFFSET(InputPriceData!E$15,CalculationsAndCharts!$A420+$A$11,IF($C$7,7,0),1,1)","v":46.23},{"$f":"OFFSET(InputPriceData!F$15,CalculationsAndCharts!$A420+$A$11,IF($C$7,7,0),1,1)","v":47.41},{"$error":"#N/A"},{"$error":"#N/A"},{"$error":"#N/A"},46.424029624490487,46.424029624490487,0.47076935847095358,-0.54546253559620261,0.49367308537945692,-0.81741303082863015,0.20742382355398636,0.20935730426282845,null,47.41,45.5,1,{"$error":"#N/A"},0.2,0.8,{"$error":"#N/A"},{"$error":"#N/A"},{"$error":"#N/A"},{"$error":"#N/A"},false,false,true,false,false,{"$error":"#N/A"},{"$error":"#N/A"},{"$error":"#N/A"},{"$error":"#N/A"},false,false,false,false,false,{"$error":"#N/A"},{"$error":"#N/A"},{"$error":"#N/A"},{"$error":"#N/A"}]
[389,{"$f":"OFFSET(InputPriceData!B$15,CalculationsAndCharts!$A421+$A$11,0,1,1)","v":"2012-04-25"},{"$f":"OFFSET(InputPriceData!G$15,CalculationsAndCharts!$A421+$A$11,0,1,1)","v":2382200},{"$f":"OFFSET(InputPriceData!C$15,CalculationsAndCharts!$A421+$A$11,IF($C$7,7,0),1,1)","v":45.99},{"$f":"OFFSET(InputPriceData!D$15,CalculationsAndCharts!$A421+$A$11,IF($C$7,7,0),1,1)","v":46.38},{"$f":"OFFSET(InputPriceData!E$15,CalculationsAndCharts!$A421+$A$11,IF($C$7,7,0),1,1)","v":45.8},{"$f":"OFFSET(InputPriceData!F$15,CalculationsAndCharts!$A421+$A$11,IF($C$7,7,0),1,1)","v":46.3},{"$error":"#N/A"},{"$error":"#N/A"},{"$error":"#N/A"},46.388293829333954,46.388293829333954,-0.57783955257993047,-0.6066629299166747,0.84159234070800681,-0.81741303082863015,0.1270340075612596,0.2226294742304129,null,47.22,45.5,0.4651162790697661,{"$error":"#N/A"},0.2,0.8,{"$error":"#N/A"},{"$error":"#N/A"},{"$error":"#N/A"},{"$error":"#N/A"},false,false,true,false,false,{"$error":"#N/A"},{"$error":"#N/A"},{"$error":"#N/A"},{"$error":"#N/A"},false,false,false,false,false,{"$error":"#N/A"},{"$error":"#N/A"},{"$error":"#N/A"},{"$error":"#N/A"}]
[390,{"$f":"OFFSET(InputPriceData!B$15,CalculationsAndCharts!$A422+$A$11,0,1,1)","v":"2012-04-24"},{"$f":"OFFSET(InputPriceData!G$15,CalculationsAndCharts!$A422+$A$11,0,1,1)","v":2708200},{"$f":"OFFSET(InputPriceData!C$15,CalculationsAndCharts!$A422+$A$11,IF($C$7,7,0),1,1)","v":46.35},{"$f":"OFFSET(InputPriceData!D$15,CalculationsAndCharts!$A422+$A$11,IF($C$7,7,0),1,1)","v":46.57},{"$f":"OFFSET(InputPriceData!E$15,CalculationsAndCharts!$A422+$A$11,IF($C$7,7,0),1,1)","v":45.44},{"$f":"OFFSET(InputPriceData!F$15,CalculationsAndCharts!$A422+$A$11,IF($C$7,7,0),1,1)","v":45.69},{"$error":"#N/A"},{"$error":"#N/A"},{"$error":"#N/A"},46.588645680004987,46.588645680004987,-1.2848132300830621,-0.41503529410007334,1.1712058556496703,-0.81741303082863015,0.20234029731113465,0.2208019341766822,null,47.22,45.5,0.11046511627906852,{"$error":"#N/A"},0.2,0.8,{"$error":"#N/A"},{"$error":"#N/A"},{"$error":"#N/A"},{"$error":"#N/A"},false,false,true,false,false,{"$error":"#N/A"},{"$error":"#N/A"},{"$error":"#N/A"},{"$error":"#N/A"},false,false,false,false,false,{"$error":"#N/A"},{"$error":"#N/A"},{"$error":"#N/A"},{"$error":"#N/A"}]
[391,{"$f":"OFFSET(InputPriceData!B$15,CalculationsAndCharts!$A423+$A$11,0,1,1)","v":"2012-04-23"},{"$f":"OFFSET(InputPriceData!G$15,CalculationsAndCharts!$A423+$A$11,0,1,1)","v":1285700},{"$f":"OFFSET(InputPriceData!C$15,CalculationsAndCharts!$A423+$A$11,IF($C$7,7,0),1,1)","v":46.7},{"$f":"OFFSET(InputPriceData!D$15,CalculationsAndCharts!$A423+$A$11,IF($C$7,7,0),1,1)","v":46.89},{"$f":"OFFSET(InputPriceData!E$15,CalculationsAndCharts!$A423+$A$11,IF($C$7,7,0),1,1)","v":46.04},{"$f":"OFFSET(InputPriceData!F$15,CalculationsAndCharts!$A423+$A$11,IF($C$7,7,0),1,1)","v":46.5},{"$error":"#N/A"},{"$error":"#N/A"},{"$error":"#N/A"},46.710405245721702,46.710405245721702,-0.56240233037489018,-0.26687881232116972,1.1712058556496703,-0.81741303082863015,0.27684249719784998,0.1818223242887424,null,47.26,45.5,0.56818181818181879,{"$error":"#N/A"},0.2,0.8,{"$error":"#N/A"},{"$error":"#N/A"},{"$error":"#N/A"},{"$error":"#N/A"},false,false,true,false,false,{"$error":"#N/A"},{"$error":"#N/A"},{"$error":"#N/A"},{"$error":"#N/A"},false,false,false,false,false,{"$error":"#N/A"},{"$error":"#N/A"},{"$error":"#N/A"},{"$error":"#N/A"}]
[392,{"$f":"OFFSET(InputPriceData!B$15,CalculationsAndCharts!$A424+$A$11,0,1,1)","v":"2012-04-20"},{"$f":"OFFSET(InputPriceData!G$15,CalculationsAndCharts!$A424+$A$11,0,1,1)","v":976000},{"$f":"OFFSET(InputPriceData!C$15,CalculationsAndCharts!$A424+$A$11,IF($C$7,7,0),1,1)","v":46.88},{"$f":"OFFSET(InputPriceData!D$15,CalculationsAndCharts!$A424+$A$11,IF($C$7,7,0),1,1)","v":47.17},{"$f":"OFFSET(InputPriceData!E$15,CalculationsAndCharts!$A424+$A$11,IF($C$7,7,0),1,1)","v":46.59},{"$f":"OFFSET(InputPriceData!F$15,CalculationsAndCharts!$A424+$A$11,IF($C$7,7,0),1,1)","v":46.93},{"$error":"#N/A"},{"$error":"#N/A"},{"$error":"#N/A"},46.627688336202297,46.627688336202297,-0.10536761634073484,-0.31084888083338058,1.1712058556496703,{"$f":"MIN(OFFSET(N424,0,0,$A$22,1))","v":-0.81741303082863015},0.25473163985299258,0.12260411223904383,null,47.26,45.5,0.81250000000000078,{"$error":"#N/A"},0.2,0.8,{"$error":"#N/A"},{"$error":"#N/A"},{"$error":"#N/A"},{"$error":"#N/A"},false,false,true,false,false,{"$error":"#N/A"},{"$error":"#N/A"},{"$error":"#N/A"},{"$error":"#N/A"},false,false,false,false,false,{"$error":"#N/A"},{"$error":"#N/A"},{"$error":"#N/A"},{"$error":"#N/A"}]
[393,{"$f":"OFFSET(InputPriceData!B$15,CalculationsAndCharts!$A425+$A$11,0,1,1)","v":"2012-04-19"},{"$f":"OFFSET(InputPriceData!G$15,CalculationsAndCharts!$A425+$A$11,0,1,1)","v":1291300},{"$f":"OFFSET(InputPriceData!C$15,CalculationsAndCharts!$A425+$A$11,IF($C$7,7,0),1,1)","v":46.92},{"$f":"OFFSET(InputPriceData!D$15,CalculationsAndCharts!$A425+$A$11,IF($C$7,7,0),1,1)","v":47.08},{"$f":"OFFSET(InputPriceData!E$15,CalculationsAndCharts!$A425+$A$11,IF($C$7,7,0),1,1)","v":46.46},{"$f":"OFFSET(InputPriceData!F$15,CalculationsAndCharts!$A425+$A$11,IF($C$7,7,0),1,1)","v":46.64},{"$error":"#N/A"},{"$error":"#N/A"},{"$error":"#N/A"},46.48031217132332,46.48031217132332,-0.34588091900020257,-0.4319326991027026,1.1712058556496703,-0.81741303082863015,0.19384324183332344,6.6747604834486912E-2,null,47.26,45.5,0.64772727272727382,{"$error":"#N/A"},0.2,0.8,{"$error":"#N/A"},{"$error":"#N/A"},{"$error":"#N/A"},{"$error":"#N/A"},false,false,true,false,false,{"$error":"#N/A"},{"$error":"#N/A"},{"$error":"#N/A"},{"$error":"#N/A"},false,false,false,false,false,{"$error":"#N/A"},{"$error":"#N/A"},{"$error":"#N/A"},{"$error":"#N/A"}]
[394,{"$f":"OFFSET(InputPriceData!B$15,CalculationsAndCharts!$A426+$A$11,0,1,1)","v":"2012-04-18"},{"$f":"OFFSET(InputPriceData!G$15,CalculationsAndCharts!$A426+$A$11,0,1,1)","v":1723900},{"$f":"OFFSET(InputPriceData!C$15,CalculationsAndCharts!$A426+$A$11,IF($C$7,7,0),1,1)","v":46.51},{"$f":"OFFSET(InputPriceData!D$15,CalculationsAndCharts!$A426+$A$11,IF($C$7,7,0),1,1)","v":47.18},{"$f":"OFFSET(InputPriceData!E$15,CalculationsAndCharts!$A426+$A$11,IF($C$7,7,0),1,1)","v":46.37},{"$f":"OFFSET(InputPriceData!F$15,CalculationsAndCharts!$A426+$A$11,IF($C$7,7,0),1,1)","v":46.88},{"$error":"#N/A"},{"$error":"#N/A"},{"$error":"#N/A"},46.309513223985007,46.309513223985007,-4.9395341884748367E-2,-0.59935437122681723,1.1712058556496703,-0.81741303082863015,0.10965331823232302,2.7900581113570997E-2,null,47.26,44.75,0.84860557768924472,{"$error":"#N/A"},0.2,0.8,{"$error":"#N/A"},{"$error":"#N/A"},{"$error":"#N/A"},{"$error":"#N/A"},false,false,true,false,false,{"$error":"#N/A"},{"$error":"#N/A"},{"$error":"#N/A"},{"$error":"#N/A"},false,false,false,false,false,{"$error":"#N/A"},{"$error":"#N/A"},{"$error":"#N/A"},{"$error":"#N/A"}]
[395,{"$f":"OFFSET(InputPriceData!B$15,CalculationsAndCharts!$A427+$A$11,0,1,1)","v":"2012-04-17"},{"$f":"OFFSET(InputPriceData!G$15,CalculationsAndCharts!$A427+$A$11,0,1,1)","v":2487500},{"$f":"OFFSET(InputPriceData!C$15,CalculationsAndCharts!$A427+$A$11,IF($C$7,7,0),1,1)","v":46.22},{"$f":"OFFSET(InputPriceData!D$15,CalculationsAndCharts!$A427+$A$11,IF($C$7,7,0),1,1)","v":46.57},{"$f":"OFFSET(InputPriceData!E$15,CalculationsAndCharts!$A427+$A$11,IF($C$7,7,0),1,1)","v":45.86},{"$f":"OFFSET(InputPriceData!F$15,CalculationsAndCharts!$A427+$A$11,IF($C$7,7,0),1,1)","v":46.55},{"$error":"#N/A"},{"$error":"#N/A"},{"$error":"#N/A"},46.171498581593184,46.171498581593184,-0.31876114923134502,-0.75917389036985128,1.1712058556496703,-0.81741303082863015,2.9286225155950401E-2,9.6732924334294937E-3,null,47.26,44.75,0.71713147410358513,{"$error":"#N/A"},0.2,0.8,{"$error":"#N/A"},{"$error":"#N/A"},{"$error":"#N/A"},{"$error":"#N/A"},false,false,true,false,false,{"$error":"#N/A"},{"$error":"#N/A"},{"$error":"#N/A"},{"$error":"#N/A"},false,false,false,false,false,{"$error":"#N/A"},{"$error":"#N/A"},{"$error":"#N/A"},{"$error":"#N/A"}]
[396,{"$f":"OFFSET(InputPriceData!B$15,CalculationsAndCharts!$A428+$A$11,0,1,1)","v":"2012-04-16"},{"$f":"OFFSET(InputPriceData!G$15,CalculationsAndCharts!$A428+$A$11,0,1,1)","v":1988100},{"$f":"OFFSET(InputPriceData!C$15,CalculationsAndCharts!$A428+$A$11,IF($C$7,7,0),1,1)","v":46.32},{"$f":"OFFSET(InputPriceData!D$15,CalculationsAndCharts!$A428+$A$11,IF($C$7,7,0),1,1)","v":46.44},{"$f":"OFFSET(InputPriceData!E$15,CalculationsAndCharts!$A428+$A$11,IF($C$7,7,0),1,1)","v":45.71},{"$f":"OFFSET(InputPriceData!F$15,CalculationsAndCharts!$A428+$A$11,IF($C$7,7,0),1,1)","v":45.89},{"$error":"#N/A"},{"$error":"#N/A"},{"$error":"#N/A"},46.170440184980897,46.170440184980897,-1.0028007347000358,-0.79380241667676466,1.1712058556496703,-0.81741303082863015,1.1872870318393776E-2,2.1587656003250913E-3,null,47.26,44.75,0.45418326693227151,{"$error":"#N/A"},0.2,0.8,{"$error":"#N/A"},{"$error":"#N/A"},{"$error":"#N/A"},{"$error":"#N/A"},false,false,true,false,false,{"$error":"#N/A"},{"$error":"#N/A"},{"$error":"#N/A"},{"$error":"#N/A"},false,false,false,false,false,{"$error":"#N/A"},{"$error":"#N/A"},{"$error":"#N/A"},{"$error":"#N/A"}]
[397,{"$f":"OFFSET(InputPriceData!B$15,CalculationsAndCharts!$A429+$A$11,0,1,1)","v":"2012-04-13"},{"$f":"OFFSET(InputPriceData!G$15,CalculationsAndCharts!$A429+$A$11,0,1,1)","v":1887100},{"$f":"OFFSET(InputPriceData!C$15,CalculationsAndCharts!$A429+$A$11,IF($C$7,7,0),1,1)","v":46.52},{"$f":"OFFSET(InputPriceData!D$15,CalculationsAndCharts!$A429+$A$11,IF($C$7,7,0),1,1)","v":46.75},{"$f":"OFFSET(InputPriceData!E$15,CalculationsAndCharts!$A429+$A$11,IF($C$7,7,0),1,1)","v":46.15},{"$f":"OFFSET(InputPriceData!F$15,CalculationsAndCharts!$A429+$A$11,IF($C$7,7,0),1,1)","v":46.3},{"$error":"#N/A"},{"$error":"#N/A"},{"$error":"#N/A"},46.198368806868324,46.198368806868324,-0.64025794204730702,-0.79612704728348405,1.1712058556496703,-0.81741303082863015,1.0703902939814694E-2,-4.7743860014711247E-3,null,47.26,44.69,0.62645914396887126,{"$error":"#N/A"},0.2,0.8,{"$error":"#N/A"},{"$error":"#N/A"},{"$error":"#N/A"},{"$error":"#N/A"},false,false,true,false,false,{"$error":"#N/A"},{"$error":"#N/A"},{"$error":"#N/A"},{"$error":"#N/A"},false,false,false,false,false,{"$error":"#N/A"},{"$error":"#N/A"},{"$error":"#N/A"},{"$error":"#N/A"}]
[398,{"$f":"OFFSET(InputPriceData!B$15,CalculationsAndCharts!$A430+$A$11,0,1,1)","v":"2012-04-12"},{"$f":"OFFSET(InputPriceData!G$15,CalculationsAndCharts!$A430+$A$11,0,1,1)","v":1479200},{"$f":"OFFSET(InputPriceData!C$15,CalculationsAndCharts!$A430+$A$11,IF($C$7,7,0),1,1)","v":45.84},{"$f":"OFFSET(InputPriceData!D$15,CalculationsAndCharts!$A430+$A$11,IF($C$7,7,0),1,1)","v":46.66},{"$f":"OFFSET(InputPriceData!E$15,CalculationsAndCharts!$A430+$A$11,IF($C$7,7,0),1,1)","v":45.68},{"$f":"OFFSET(InputPriceData!F$15,CalculationsAndCharts!$A430+$A$11,IF($C$7,7,0),1,1)","v":46.63},{"$error":"#N/A"},{"$error":"#N/A"},{"$error":"#N/A"},46.202653652324187,46.202653652324187,-0.28580362680417415,-0.81741303082863015,1.1712058556496703,-0.81741303082863015,0,-1.1745271779252275E-2,null,47.26,44.69,0.75486381322957374,{"$error":"#N/A"},0.2,0.8,{"$error":"#N/A"},{"$error":"#N/A"},{"$error":"#N/A"},{"$error":"#N/A"},false,false,true,false,false,{"$error":"#N/A"},{"$error":"#N/A"},{"$error":"#N/A"},{"$error":"#N/A"},false,false,false,false,false,{"$error":"#N/A"},{"$error":"#N/A"},{"$error":"#N/A"},{"$error":"#N/A"}]
[399,{"$f":"OFFSET(InputPriceData!B$15,CalculationsAndCharts!$A431+$A$11,0,1,1)","v":"2012-04-11"},{"$f":"OFFSET(InputPriceData!G$15,CalculationsAndCharts!$A431+$A$11,0,1,1)","v":1947300},{"$f":"OFFSET(InputPriceData!C$15,CalculationsAndCharts!$A431+$A$11,IF($C$7,7,0),1,1)","v":45.69},{"$f":"OFFSET(InputPriceData!D$15,CalculationsAndCharts!$A431+$A$11,IF($C$7,7,0),1,1)","v":46.16},{"$f":"OFFSET(InputPriceData!E$15,CalculationsAndCharts!$A431+$A$11,IF($C$7,7,0),1,1)","v":45.47},{"$f":"OFFSET(InputPriceData!F$15,CalculationsAndCharts!$A431+$A$11,IF($C$7,7,0),1,1)","v":45.86},{"$error":"#N/A"},{"$error":"#N/A"},{"$error":"#N/A"},46.374534489857837,46.374534489857837,-1.065883340474532,-0.65105936685777333,1.1712058556496703,-0.65105936685777333,0,-1.8171242075720649E-2,null,47.26,44.46,0.5,{"$error":"#N/A"},0.2,0.8,{"$error":"#N/A"},{"$error":"#N/A"},{"$error":"#N/A"},{"$error":"#N/A"},false,false,true,false,false,{"$error":"#N/A"},{"$error":"#N/A"},{"$error":"#N/A"},{"$error":"#N/A"},false,false,false,false,false,{"$error":"#N/A"},{"$error":"#N/A"},{"$error":"#N/A"},{"$error":"#N/A"}]
[400,{"$f":"OFFSET(InputPriceData!B$15,CalculationsAndCharts!$A432+$A$11,0,1,1)","v":"2012-04-10"},{"$f":"OFFSET(InputPriceData!G$15,CalculationsAndCharts!$A432+$A$11,0,1,1)","v":2405700},{"$f":"OFFSET(InputPriceData!C$15,CalculationsAndCharts!$A432+$A$11,IF($C$7,7,0),1,1)","v":46.6},{"$f":"OFFSET(InputPriceData!D$15,CalculationsAndCharts!$A432+$A$11,IF($C$7,7,0),1,1)","v":46.71},{"$f":"OFFSET(InputPriceData!E$15,CalculationsAndCharts!$A432+$A$11,IF($C$7,7,0),1,1)","v":45.34},{"$f":"OFFSET(InputPriceData!F$15,CalculationsAndCharts!$A432+$A$11,IF($C$7,7,0),1,1)","v":45.5},{"$error":"#N/A"},{"$error":"#N/A"},{"$error":"#N/A"},46.712711946307223,46.712711946307223,-1.5439920448353428,-0.26185097239435962,1.1712058556496703,-0.26185097239435962,0,-2.2611326203332154E-2,null,47.26,43.86,0.48235294117647098,{"$error":"#N/A"},0.2,0.8,{"$error":"#N/A"},{"$error":"#N/A"},{"$error":"#N/A"},{"$error":"#N/A"},false,false,true,false,false,{"$error":"#N/A"},{"$error":"#N/A"},{"$error":"#N/A"},{"$error":"#N/A"},false,false,false,false,false,{"$error":"#N/A"},{"$error":"#N/A"},{"$error":"#N/A"},{"$error":"#N/A"}]
[401,{"$f":"OFFSET(InputPriceData!B$15,CalculationsAndCharts!$A433+$A$11,0,1,1)","v":"2012-04-09"},{"$f":"OFFSET(InputPriceData!G$15,CalculationsAndCharts!$A433+$A$11,0,1,1)","v":1859300},{"$f":"OFFSET(InputPriceData!C$15,CalculationsAndCharts!$A433+$A$11,IF($C$7,7,0),1,1)","v":46.66},{"$f":"OFFSET(InputPriceData!D$15,CalculationsAndCharts!$A433+$A$11,IF($C$7,7,0),1,1)","v":46.86},{"$f":"OFFSET(InputPriceData!E$15,CalculationsAndCharts!$A433+$A$11,IF($C$7,7,0),1,1)","v":46.43},{"$f":"OFFSET(InputPriceData!F$15,CalculationsAndCharts!$A433+$A$11,IF($C$7,7,0),1,1)","v":46.54},{"$error":"#N/A"},{"$f":"IF($A433=$E$25,I$32,NA())","v":{"$error":"#N/A"}},{"$error":"#N/A"},46.899345655946412,46.899345655946412,-0.5656535133487085,4.2470958571090532E-2,1.1712058556496703,4.2470958571090532E-2,0,-1.9490368725856758E-2,null,47.26,43.61,0.80273972602739752,{"$error":"#N/A"},0.2,0.8,{"$error":"#N/A"},{"$error":"#N/A"},{"$error":"#N/A"},{"$error":"#N/A"},false,false,true,false,false,{"$error":"#N/A"},{"$error":"#N/A"},{"$error":"#N/A"},{"$error":"#N/A"},false,false,false,false,false,{"$error":"#N/A"},{"$error":"#N/A"},{"$error":"#N/A"},{"$error":"#N/A"}]
[402,{"$f":"OFFSET(InputPriceData!B$15,CalculationsAndCharts!$A434+$A$11,0,1,1)","v":"2012-04-05"},{"$f":"OFFSET(InputPriceData!G$15,CalculationsAndCharts!$A434+$A$11,0,1,1)","v":2272900},{"$f":"OFFSET(InputPriceData!C$15,CalculationsAndCharts!$A434+$A$11,IF($C$7,7,0),1,1)","v":46.69},{"$f":"OFFSET(InputPriceData!D$15,CalculationsAndCharts!$A434+$A$11,IF($C$7,7,0),1,1)","v":47.4},{"$f":"OFFSET(InputPriceData!E$15,CalculationsAndCharts!$A434+$A$11,IF($C$7,7,0),1,1)","v":46.6},{"$f":"OFFSET(InputPriceData!F$15,CalculationsAndCharts!$A434+$A$11,IF($C$7,7,0),1,1)","v":47.22},{"$error":"#N/A"},{"$error":"#N/A"},{"$error":"#N/A"},46.811915698690399,46.811915698690399,0.22144797160318502,0.10704312436594776,1.1712058556496703,6.8023479722313637E-2,3.5370076149769385E-2,9.321968081035803E-5,null,47.26,43.61,0.98904109589041123,{"$error":"#N/A"},0.2,0.8,{"$error":"#N/A"},{"$error":"#N/A"},{"$error":"#N/A"},{"$error":"#N/A"},false,false,true,false,false,{"$error":"#N/A"},{"$error":"#N/A"},{"$error":"#N/A"},{"$error":"#N/A"},false,false,false,false,false,{"$error":"#N/A"},{"$error":"#N/A"},{"$error":"#N/A"},{"$error":"#N/A"}]
[403,{"$f":"OFFSET(InputPriceData!B$15,CalculationsAndCharts!$A435+$A$11,0,1,1)","v":"2012-04-04"},{"$f":"OFFSET(InputPriceData!G$15,CalculationsAndCharts!$A435+$A$11,0,1,1)","v":2334400},{"$f":"OFFSET(InputPriceData!C$15,CalculationsAndCharts!$A435+$A$11,IF($C$7,7,0),1,1)","v":46.81},{"$f":"OFFSET(InputPriceData!D$15,CalculationsAndCharts!$A435+$A$11,IF($C$7,7,0),1,1)","v":46.91},{"$f":"OFFSET(InputPriceData!E$15,CalculationsAndCharts!$A435+$A$11,IF($C$7,7,0),1,1)","v":46.42},{"$f":"OFFSET(InputPriceData!F$15,CalculationsAndCharts!$A435+$A$11,IF($C$7,7,0),1,1)","v":46.84},{"$error":"#N/A"},{"$error":"#N/A"},{"$error":"#N/A"},46.64124690519823,46.64124690519823,1.3183620299700161E-3,9.2237541589498248E-2,1.1712058556496703,6.8023479722313637E-2,2.1949282725650686E-2,5.8534549057756263E-2,null,47.26,43.38,0.8917525773195889,{"$error":"#N/A"},0.2,0.8,46.81,{"$error":"#N/A"},{"$error":"#N/A"},{"$error":"#N/A"},false,true,true,false,false,46.81,{"$error":"#N/A"},46.81,{"$error":"#N/A"},false,false,false,false,true,{"$error":"#N/A"},46.81,{"$error":"#N/A"},46.81]
[404,{"$f":"OFFSET(InputPriceData!B$15,CalculationsAndCharts!$A436+$A$11,0,1,1)","v":"2012-04-03"},{"$f":"OFFSET(InputPriceData!G$15,CalculationsAndCharts!$A436+$A$11,0,1,1)","v":1700900},{"$f":"OFFSET(InputPriceData!C$15,CalculationsAndCharts!$A436+$A$11,IF($C$7,7,0),1,1)","v":46.77},{"$f":"OFFSET(InputPriceData!D$15,CalculationsAndCharts!$A436+$A$11,IF($C$7,7,0),1,1)","v":47.5},{"$f":"OFFSET(InputPriceData!E$15,CalculationsAndCharts!$A436+$A$11,IF($C$7,7,0),1,1)","v":46.77},{"$f":"OFFSET(InputPriceData!F$15,CalculationsAndCharts!$A436+$A$11,IF($C$7,7,0),1,1)","v":47},{"$error":"#N/A"},{"$error":"#N/A"},{"$error":"#N/A"},46.465554276397498,46.465554276397498,0.33005925600927377,6.8023479722313637E-2,1.1712058556496703,6.8023479722313637E-2,0,0.18223846226854534,null,47.26,42.55,0.94479830148620003,{"$error":"#N/A"},0.2,0.8,{"$error":"#N/A"},{"$error":"#N/A"},0.18223846226854534,{"$error":"#N/A"},true,false,false,false,false,{"$error":"#N/A"},{"$error":"#N/A"},{"$error":"#N/A"},{"$error":"#N/A"},false,false,true,true,false,{"$error":"#N/A"},{"$error":"#N/A"},{"$error":"#N/A"},{"$error":"#N/A"}]
[405,{"$f":"OFFSET(InputPriceData!B$15,CalculationsAndCharts!$A437+$A$11,0,1,1)","v":"2012-04-02"},{"$f":"OFFSET(InputPriceData!G$15,CalculationsAndCharts!$A437+$A$11,0,1,1)","v":3174400},{"$f":"OFFSET(InputPriceData!C$15,CalculationsAndCharts!$A437+$A$11,IF($C$7,7,0),1,1)","v":46.38},{"$f":"OFFSET(InputPriceData!D$15,CalculationsAndCharts!$A437+$A$11,IF($C$7,7,0),1,1)","v":47.12},{"$f":"OFFSET(InputPriceData!E$15,CalculationsAndCharts!$A437+$A$11,IF($C$7,7,0),1,1)","v":46.19},{"$f":"OFFSET(InputPriceData!F$15,CalculationsAndCharts!$A437+$A$11,IF($C$7,7,0),1,1)","v":46.76},{"$error":"#N/A"},{"$error":"#N/A"},{"$error":"#N/A"},46.318078003679602,46.318078003679602,0.28284848382909011,6.9259738607332338E-2,1.1712058556496703,6.9259738607332338E-2,0,0.37759892581616455,null,47.26,42.55,0.89384288747346075,{"$error":"#N/A"},0.2,0.8,{"$error":"#N/A"},{"$error":"#N/A"},{"$error":"#N/A"},{"$error":"#N/A"},false,false,false,false,false,{"$error":"#N/A"},{"$error":"#N/A"},{"$error":"#N/A"},{"$error":"#N/A"},false,false,true,false,false,{"$error":"#N/A"},{"$error":"#N/A"},{"$error":"#N/A"},{"$error":"#N/A"}]
[406,{"$f":"OFFSET(InputPriceData!B$15,CalculationsAndCharts!$A438+$A$11,0,1,1)","v":"2012-03-30"},{"$f":"OFFSET(InputPriceData!G$15,CalculationsAndCharts!$A438+$A$11,0,1,1)","v":3562500},{"$f":"OFFSET(InputPriceData!C$15,CalculationsAndCharts!$A438+$A$11,IF($C$7,7,0),1,1)","v":46.5},{"$f":"OFFSET(InputPriceData!D$15,CalculationsAndCharts!$A438+$A$11,IF($C$7,7,0),1,1)","v":46.64},{"$f":"OFFSET(InputPriceData!E$15,CalculationsAndCharts!$A438+$A$11,IF($C$7,7,0),1,1)","v":44.44},{"$f":"OFFSET(InputPriceData!F$15,CalculationsAndCharts!$A438+$A$11,IF($C$7,7,0),1,1)","v":46.2},{"$error":"#N/A"},{"$error":"#N/A"},{"$error":"#N/A"},46.305352263399072,46.305352263399072,-0.12847323839889541,0.2182483213488306,1.1712058556496703,0.2182483213488306,0,0.620190258889733,null,47.26,42.55,0.77494692144373778,{"$error":"#N/A"},0.2,0.8,{"$error":"#N/A"},{"$error":"#N/A"},{"$error":"#N/A"},{"$error":"#N/A"},false,false,false,false,false,{"$error":"#N/A"},{"$error":"#N/A"},{"$error":"#N/A"},{"$error":"#N/A"},false,false,true,false,false,{"$error":"#N/A"},{"$error":"#N/A"},{"$error":"#N/A"},{"$error":"#N/A"}]
[407,{"$f":"OFFSET(InputPriceData!B$15,CalculationsAndCharts!$A439+$A$11,0,1,1)","v":"2012-03-29"},{"$f":"OFFSET(InputPriceData!G$15,CalculationsAndCharts!$A439+$A$11,0,1,1)","v":4193400},{"$f":"OFFSET(InputPriceData!C$15,CalculationsAndCharts!$A439+$A$11,IF($C$7,7,0),1,1)","v":46.21},{"$f":"OFFSET(InputPriceData!D$15,CalculationsAndCharts!$A439+$A$11,IF($C$7,7,0),1,1)","v":46.45},{"$f":"OFFSET(InputPriceData!E$15,CalculationsAndCharts!$A439+$A$11,IF($C$7,7,0),1,1)","v":45.87},{"$f":"OFFSET(InputPriceData!F$15,CalculationsAndCharts!$A439+$A$11,IF($C$7,7,0),1,1)","v":46.27},{"$error":"#N/A"},{"$error":"#N/A"},{"$error":"#N/A"},46.381899884730366,46.381899884730366,7.0315586604744712E-2,0.49367308537945692,1.1712058556496703,0.15332968338578512,0.33436621395381039,0.82831122558325743,null,47.26,42.55,0.78980891719745339,{"$error":"#N/A"},0.2,0.8,{"$error":"#N/A"},{"$error":"#N/A"},{"$error":"#N/A"},{"$error":"#N/A"},false,false,false,false,false,{"$error":"#N/A"},{"$error":"#N/A"},{"$error":"#N/A"},{"$error":"#N/A"},false,false,true,false,false,{"$error":"#N/A"},{"$error":"#N/A"},{"$error":"#N/A"},{"$error":"#N/A"}]
[408,{"$f":"OFFSET(InputPriceData!B$15,CalculationsAndCharts!$A440+$A$11,0,1,1)","v":"2012-03-28"},{"$f":"OFFSET(InputPriceData!G$15,CalculationsAndCharts!$A440+$A$11,0,1,1)","v":17001000},{"$f":"OFFSET(InputPriceData!C$15,CalculationsAndCharts!$A440+$A$11,IF($C$7,7,0),1,1)","v":45.29},{"$f":"OFFSET(InputPriceData!D$15,CalculationsAndCharts!$A440+$A$11,IF($C$7,7,0),1,1)","v":46.28},{"$f":"OFFSET(InputPriceData!E$15,CalculationsAndCharts!$A440+$A$11,IF($C$7,7,0),1,1)","v":44.85},{"$f":"OFFSET(InputPriceData!F$15,CalculationsAndCharts!$A440+$A$11,IF($C$7,7,0),1,1)","v":46},{"$error":"#N/A"},{"$error":"#N/A"},{"$error":"#N/A"},46.477602430323586,46.477602430323586,-6.4894325582863566E-2,0.84159234070800681,1.1712058556496703,-0.10330096377250966,0.74137955959223534,0.92742758885657439,null,47.26,42.55,0.73248407643312152,{"$error":"#N/A"},0.2,0.8,{"$error":"#N/A"},{"$error":"#N/A"},{"$error":"#N/A"},{"$error":"#N/A"},false,false,false,false,false,{"$error":"#N/A"},{"$error":"#N/A"},{"$error":"#N/A"},{"$error":"#N/A"},false,false,true,false,false,{"$error":"#N/A"},{"$error":"#N/A"},{"$error":"#N/A"},{"$error":"#N/A"}]
[409,{"$f":"OFFSET(InputPriceData!B$15,CalculationsAndCharts!$A441+$A$11,0,1,1)","v":"2012-03-27"},{"$f":"OFFSET(InputPriceData!G$15,CalculationsAndCharts!$A441+$A$11,0,1,1)","v":6228600},{"$f":"OFFSET(InputPriceData!C$15,CalculationsAndCharts!$A441+$A$11,IF($C$7,7,0),1,1)","v":46.48},{"$f":"OFFSET(InputPriceData!D$15,CalculationsAndCharts!$A441+$A$11,IF($C$7,7,0),1,1)","v":46.69},{"$f":"OFFSET(InputPriceData!E$15,CalculationsAndCharts!$A441+$A$11,IF($C$7,7,0),1,1)","v":45.7},{"$f":"OFFSET(InputPriceData!F$15,CalculationsAndCharts!$A441+$A$11,IF($C$7,7,0),1,1)","v":45.75},{"$error":"#N/A"},{"$error":"#N/A"},{"$error":"#N/A"},46.499430540442845,46.499430540442845,-0.20503817402925417,1.1712058556496703,1.1712058556496703,-0.32112119337569811,1,0.9286587325248683,null,47.26,42.06,0.70961538461538476,{"$error":"#N/A"},0.2,0.8,{"$error":"#N/A"},{"$error":"#N/A"},{"$error":"#N/A"},{"$error":"#N/A"},false,false,false,false,false,{"$error":"#N/A"},{"$error":"#N/A"},{"$error":"#N/A"},{"$error":"#N/A"},false,false,true,false,false,{"$error":"#N/A"},{"$error":"#N/A"},{"$error":"#N/A"},{"$error":"#N/A"}]
[410,{"$f":"OFFSET(InputPriceData!B$15,CalculationsAndCharts!$A442+$A$11,0,1,1)","v":"2012-03-26"},{"$f":"OFFSET(InputPriceData!G$15,CalculationsAndCharts!$A442+$A$11,0,1,1)","v":1723500},{"$f":"OFFSET(InputPriceData!C$15,CalculationsAndCharts!$A442+$A$11,IF($C$7,7,0),1,1)","v":47.36},{"$f":"OFFSET(InputPriceData!D$15,CalculationsAndCharts!$A442+$A$11,IF($C$7,7,0),1,1)","v":47.45},{"$f":"OFFSET(InputPriceData!E$15,CalculationsAndCharts!$A442+$A$11,IF($C$7,7,0),1,1)","v":46.88},{"$f":"OFFSET(InputPriceData!F$15,CalculationsAndCharts!$A442+$A$11,IF($C$7,7,0),1,1)","v":47.26},{"$error":"#N/A"},{"$error":"#N/A"},{"$error":"#N/A"},46.168191820806328,46.168191820806328,1.5632724802701299,1.1687147251254602,1.1687147251254602,-0.46641397438241466,1,0.89597465331309378,null,47.26,42.06,1,{"$error":"#N/A"},0.2,0.8,{"$error":"#N/A"},{"$error":"#N/A"},{"$error":"#N/A"},{"$error":"#N/A"},false,false,false,false,false,{"$error":"#N/A"},{"$error":"#N/A"},{"$error":"#N/A"},{"$error":"#N/A"},false,false,true,false,false,{"$error":"#N/A"},{"$error":"#N/A"},{"$error":"#N/A"},{"$error":"#N/A"}]
[411,{"$f":"OFFSET(InputPriceData!B$15,CalculationsAndCharts!$A443+$A$11,0,1,1)","v":"2012-03-23"},{"$f":"OFFSET(InputPriceData!G$15,CalculationsAndCharts!$A443+$A$11,0,1,1)","v":2646500},{"$f":"OFFSET(InputPriceData!C$15,CalculationsAndCharts!$A443+$A$11,IF($C$7,7,0),1,1)","v":47.42},{"$f":"OFFSET(InputPriceData!D$15,CalculationsAndCharts!$A443+$A$11,IF($C$7,7,0),1,1)","v":47.59},{"$f":"OFFSET(InputPriceData!E$15,CalculationsAndCharts!$A443+$A$11,IF($C$7,7,0),1,1)","v":46.7},{"$f":"OFFSET(InputPriceData!F$15,CalculationsAndCharts!$A443+$A$11,IF($C$7,7,0),1,1)","v":47.13},{"$error":"#N/A"},{"$error":"#N/A"},{"$error":"#N/A"},45.570129587897334,45.570129587897334,1.8738291784510339,0.86133162781983896,0.92004057746746648,-0.53873026125487433,0.95975450832356413,0.88053175669295158,null,47.13,41.64,1,{"$error":"#N/A"},0.2,0.8,{"$error":"#N/A"},{"$error":"#N/A"},{"$error":"#N/A"},{"$error":"#N/A"},false,false,false,false,false,{"$error":"#N/A"},{"$error":"#N/A"},{"$error":"#N/A"},{"$error":"#N/A"},false,false,true,false,false,{"$error":"#N/A"},{"$error":"#N/A"},{"$error":"#N/A"},{"$error":"#N/A"}]
[412,{"$f":"OFFSET(InputPriceData!B$15,CalculationsAndCharts!$A444+$A$11,0,1,1)","v":"2012-03-22"},{"$f":"OFFSET(InputPriceData!G$15,CalculationsAndCharts!$A444+$A$11,0,1,1)","v":3521200},{"$f":"OFFSET(InputPriceData!C$15,CalculationsAndCharts!$A444+$A$11,IF($C$7,7,0),1,1)","v":45.88},{"$f":"OFFSET(InputPriceData!D$15,CalculationsAndCharts!$A444+$A$11,IF($C$7,7,0),1,1)","v":46.95},{"$f":"OFFSET(InputPriceData!E$15,CalculationsAndCharts!$A444+$A$11,IF($C$7,7,0),1,1)","v":45.44},{"$f":"OFFSET(InputPriceData!F$15,CalculationsAndCharts!$A444+$A$11,IF($C$7,7,0),1,1)","v":46.14},{"$error":"#N/A"},{"$error":"#N/A"},{"$error":"#N/A"},45.116076341520284,45.116076341520284,1.2844184888543628,0.64156114707349854,0.92004057746746648,-0.53873026125487433,0.80909994702260901,0.90412775291495939,null,46.14,41.64,1,{"$error":"#N/A"},0.2,0.8,{"$error":"#N/A"},{"$error":"#N/A"},{"$error":"#N/A"},{"$error":"#N/A"},false,false,false,false,false,{"$error":"#N/A"},{"$error":"#N/A"},{"$error":"#N/A"},{"$error":"#N/A"},false,false,true,false,false,{"$error":"#N/A"},{"$error":"#N/A"},{"$error":"#N/A"},{"$error":"#N/A"}]
[413,{"$f":"OFFSET(InputPriceData!B$15,CalculationsAndCharts!$A445+$A$11,0,1,1)","v":"2012-03-21"},{"$f":"OFFSET(InputPriceData!G$15,CalculationsAndCharts!$A445+$A$11,0,1,1)","v":2026100},{"$f":"OFFSET(InputPriceData!C$15,CalculationsAndCharts!$A445+$A$11,IF($C$7,7,0),1,1)","v":45.41},{"$f":"OFFSET(InputPriceData!D$15,CalculationsAndCharts!$A445+$A$11,IF($C$7,7,0),1,1)","v":45.78},{"$f":"OFFSET(InputPriceData!E$15,CalculationsAndCharts!$A445+$A$11,IF($C$7,7,0),1,1)","v":44.68},{"$f":"OFFSET(InputPriceData!F$15,CalculationsAndCharts!$A445+$A$11,IF($C$7,7,0),1,1)","v":44.75},{"$error":"#N/A"},{"$error":"#N/A"},{"$error":"#N/A"},44.946951906430215,44.946951906430215,0.1230766530719386,0.68425450596631288,0.92004057746746648,-0.53873026125487433,0.8383666130125923,0.94937276233683709,null,45.25,41.64,0.86149584487534625,{"$error":"#N/A"},0.2,0.8,{"$error":"#N/A"},{"$error":"#N/A"},{"$error":"#N/A"},{"$error":"#N/A"},false,false,false,false,false,{"$error":"#N/A"},{"$error":"#N/A"},{"$error":"#N/A"},{"$error":"#N/A"},false,false,true,false,false,{"$error":"#N/A"},{"$error":"#N/A"},{"$error":"#N/A"},{"$error":"#N/A"}]
[414,{"$f":"OFFSET(InputPriceData!B$15,CalculationsAndCharts!$A446+$A$11,0,1,1)","v":"2012-03-20"},{"$f":"OFFSET(InputPriceData!G$15,CalculationsAndCharts!$A446+$A$11,0,1,1)","v":2616900},{"$f":"OFFSET(InputPriceData!C$15,CalculationsAndCharts!$A446+$A$11,IF($C$7,7,0),1,1)","v":44.5},{"$f":"OFFSET(InputPriceData!D$15,CalculationsAndCharts!$A446+$A$11,IF($C$7,7,0),1,1)","v":45.27},{"$f":"OFFSET(InputPriceData!E$15,CalculationsAndCharts!$A446+$A$11,IF($C$7,7,0),1,1)","v":44.41},{"$f":"OFFSET(InputPriceData!F$15,CalculationsAndCharts!$A446+$A$11,IF($C$7,7,0),1,1)","v":45.25},{"$error":"#N/A"},{"$error":"#N/A"},{"$error":"#N/A"},44.842280521099106,44.842280521099106,0.80206086118657516,0.80005363028352072,0.92004057746746648,-0.53873026125487433,0.91774791214702645,0.9820529497968784,null,45.25,41.38,1,{"$error":"#N/A"},0.2,0.8,{"$error":"#N/A"},{"$error":"#N/A"},{"$error":"#N/A"},{"$error":"#N/A"},false,false,false,false,false,{"$error":"#N/A"},{"$error":"#N/A"},{"$error":"#N/A"},{"$error":"#N/A"},false,false,true,false,false,{"$error":"#N/A"},{"$error":"#N/A"},{"$error":"#N/A"},{"$error":"#N/A"}]
[415,{"$f":"OFFSET(InputPriceData!B$15,CalculationsAndCharts!$A447+$A$11,0,1,1)","v":"2012-03-19"},{"$f":"OFFSET(InputPriceData!G$15,CalculationsAndCharts!$A447+$A$11,0,1,1)","v":1607100},{"$f":"OFFSET(InputPriceData!C$15,CalculationsAndCharts!$A447+$A$11,IF($C$7,7,0),1,1)","v":44.71},{"$f":"OFFSET(InputPriceData!D$15,CalculationsAndCharts!$A447+$A$11,IF($C$7,7,0),1,1)","v":45.04},{"$f":"OFFSET(InputPriceData!E$15,CalculationsAndCharts!$A447+$A$11,IF($C$7,7,0),1,1)","v":44.29},{"$f":"OFFSET(InputPriceData!F$15,CalculationsAndCharts!$A447+$A$11,IF($C$7,7,0),1,1)","v":44.75},{"$error":"#N/A"},{"$error":"#N/A"},{"$error":"#N/A"},44.684858600648028,44.684858600648028,0.51228883213485221,0.87389294950777829,0.92004057746746648,-0.53873026125487433,0.96836540275228811,0.99750463838605619,null,45.13,41.38,0.89866666666666595,{"$error":"#N/A"},0.2,0.8,{"$error":"#N/A"},{"$error":"#N/A"},{"$error":"#N/A"},{"$error":"#N/A"},false,false,false,false,false,{"$error":"#N/A"},{"$error":"#N/A"},{"$error":"#N/A"},{"$error":"#N/A"},false,false,true,false,false,{"$error":"#N/A"},{"$error":"#N/A"},{"$error":"#N/A"},{"$error":"#N/A"}]
[416,{"$f":"OFFSET(InputPriceData!B$15,CalculationsAndCharts!$A448+$A$11,0,1,1)","v":"2012-03-16"},{"$f":"OFFSET(InputPriceData!G$15,CalculationsAndCharts!$A448+$A$11,0,1,1)","v":1196400},{"$f":"OFFSET(InputPriceData!C$15,CalculationsAndCharts!$A448+$A$11,IF($C$7,7,0),1,1)","v":45.13},{"$f":"OFFSET(InputPriceData!D$15,CalculationsAndCharts!$A448+$A$11,IF($C$7,7,0),1,1)","v":45.33},{"$f":"OFFSET(InputPriceData!E$15,CalculationsAndCharts!$A448+$A$11,IF($C$7,7,0),1,1)","v":44.64},{"$f":"OFFSET(InputPriceData!F$15,CalculationsAndCharts!$A448+$A$11,IF($C$7,7,0),1,1)","v":44.69},{"$error":"#N/A"},{"$error":"#N/A"},{"$error":"#N/A"},44.496068752410679,44.496068752410679,0.64243959549434582,0.92004057746746648,0.92004057746746648,-0.53873026125487433,1,1.0015625151634402,null,45.13,41.38,0.88266666666666538,{"$error":"#N/A"},0.2,0.8,{"$error":"#N/A"},{"$error":"#N/A"},{"$error":"#N/A"},{"$error":"#N/A"},false,false,false,false,false,{"$error":"#N/A"},{"$error":"#N/A"},{"$error":"#N/A"},{"$error":"#N/A"},false,false,true,false,false,{"$error":"#N/A"},{"$error":"#N/A"},{"$error":"#N/A"},{"$error":"#N/A"}]
[417,{"$f":"OFFSET(InputPriceData!B$15,CalculationsAndCharts!$A449+$A$11,0,1,1)","v":"2012-03-15"},{"$f":"OFFSET(InputPriceData!G$15,CalculationsAndCharts!$A449+$A$11,0,1,1)","v":2422700},{"$f":"OFFSET(InputPriceData!C$15,CalculationsAndCharts!$A449+$A$11,IF($C$7,7,0),1,1)","v":44.55},{"$f":"OFFSET(InputPriceData!D$15,CalculationsAndCharts!$A449+$A$11,IF($C$7,7,0),1,1)","v":45.75},{"$f":"OFFSET(InputPriceData!E$15,CalculationsAndCharts!$A449+$A$11,IF($C$7,7,0),1,1)","v":44.28},{"$f":"OFFSET(InputPriceData!F$15,CalculationsAndCharts!$A449+$A$11,IF($C$7,7,0),1,1)","v":45.13},{"$error":"#N/A"},{"$error":"#N/A"},{"$error":"#N/A"},44.174876936388017,44.174876936388017,1.3427702361308269,0.82133843902941583,0.82133843902941583,-0.53873026125487433,1,1.0007320541243925,null,45.13,41.38,1,{"$error":"#N/A"},0.2,0.8,{"$error":"#N/A"},{"$error":"#N/A"},{"$error":"#N/A"},{"$error":"#N/A"},false,false,false,false,false,{"$error":"#N/A"},{"$error":"#N/A"},{"$error":"#N/A"},{"$error":"#N/A"},false,false,true,false,false,{"$error":"#N/A"},{"$error":"#N/A"},{"$error":"#N/A"},{"$error":"#N/A"}]
[418,{"$f":"OFFSET(InputPriceData!B$15,CalculationsAndCharts!$A450+$A$11,0,1,1)","v":"2012-03-14"},{"$f":"OFFSET(InputPriceData!G$15,CalculationsAndCharts!$A450+$A$11,0,1,1)","v":1199900},{"$f":"OFFSET(InputPriceData!C$15,CalculationsAndCharts!$A450+$A$11,IF($C$7,7,0),1,1)","v":43.67},{"$f":"OFFSET(InputPriceData!D$15,CalculationsAndCharts!$A450+$A$11,IF($C$7,7,0),1,1)","v":44.46},{"$f":"OFFSET(InputPriceData!E$15,CalculationsAndCharts!$A450+$A$11,IF($C$7,7,0),1,1)","v":43.67},{"$f":"OFFSET(InputPriceData!F$15,CalculationsAndCharts!$A450+$A$11,IF($C$7,7,0),1,1)","v":44.46},{"$error":"#N/A"},{"$error":"#N/A"},{"$error":"#N/A"},43.846387856620481,43.846387856620481,0.95265151951852078,0.68676737081076322,0.68676737081076322,-0.53873026125487433,1,0.99826237485443947,null,44.46,41.38,1,{"$error":"#N/A"},0.2,0.8,{"$error":"#N/A"},{"$error":"#N/A"},{"$error":"#N/A"},{"$error":"#N/A"},false,false,false,false,false,{"$error":"#N/A"},{"$error":"#N/A"},{"$error":"#N/A"},{"$error":"#N/A"},false,false,true,false,false,{"$error":"#N/A"},{"$error":"#N/A"},{"$error":"#N/A"},{"$error":"#N/A"}]
[419,{"$f":"OFFSET(InputPriceData!B$15,CalculationsAndCharts!$A451+$A$11,0,1,1)","v":"2012-03-13"},{"$f":"OFFSET(InputPriceData!G$15,CalculationsAndCharts!$A451+$A$11,0,1,1)","v":1015900},{"$f":"OFFSET(InputPriceData!C$15,CalculationsAndCharts!$A451+$A$11,IF($C$7,7,0),1,1)","v":43.82},{"$f":"OFFSET(InputPriceData!D$15,CalculationsAndCharts!$A451+$A$11,IF($C$7,7,0),1,1)","v":44.08},{"$f":"OFFSET(InputPriceData!E$15,CalculationsAndCharts!$A451+$A$11,IF($C$7,7,0),1,1)","v":43.42},{"$f":"OFFSET(InputPriceData!F$15,CalculationsAndCharts!$A451+$A$11,IF($C$7,7,0),1,1)","v":43.86},{"$error":"#N/A"},{"$error":"#N/A"},{"$error":"#N/A"},43.631550040191797,43.631550040191797,0.55106491743649189,0.64327061098833238,0.64327061098833238,-0.53873026125487433,1,0.9933271840128608,null,44.21,41.38,0.87632508833922207,{"$error":"#N/A"},0.2,0.8,{"$error":"#N/A"},{"$error":"#N/A"},{"$error":"#N/A"},{"$error":"#N/A"},false,false,false,false,false,{"$error":"#N/A"},{"$error":"#N/A"},{"$error":"#N/A"},{"$error":"#N/A"},false,false,true,false,false,{"$error":"#N/A"},{"$error":"#N/A"},{"$error":"#N/A"},{"$error":"#N/A"}]
[420,{"$f":"OFFSET(InputPriceData!B$15,CalculationsAndCharts!$A452+$A$11,0,1,1)","v":"2012-03-12"},{"$f":"OFFSET(InputPriceData!G$15,CalculationsAndCharts!$A452+$A$11,0,1,1)","v":1049700},{"$f":"OFFSET(InputPriceData!C$15,CalculationsAndCharts!$A452+$A$11,IF($C$7,7,0),1,1)","v":44.18},{"$f":"OFFSET(InputPriceData!D$15,CalculationsAndCharts!$A452+$A$11,IF($C$7,7,0),1,1)","v":44.32},{"$f":"OFFSET(InputPriceData!E$15,CalculationsAndCharts!$A452+$A$11,IF($C$7,7,0),1,1)","v":43.53},{"$f":"OFFSET(InputPriceData!F$15,CalculationsAndCharts!$A452+$A$11,IF($C$7,7,0),1,1)","v":43.61},{"$error":"#N/A"},{"$error":"#N/A"},{"$error":"#N/A"},43.434445027004443,43.434445027004443,0.44731264754485944,0.60434631093500923,0.60434631093500923,-0.53873026125487433,1,0.98543490002449008,null,44.21,41.38,0.78798586572438101,{"$error":"#N/A"},0.2,0.8,{"$error":"#N/A"},{"$error":"#N/A"},{"$error":"#N/A"},{"$error":"#N/A"},false,false,false,false,false,{"$error":"#N/A"},{"$error":"#N/A"},{"$error":"#N/A"},{"$error":"#N/A"},false,false,true,false,false,{"$error":"#N/A"},{"$error":"#N/A"},{"$error":"#N/A"},{"$error":"#N/A"}]
[421,{"$f":"OFFSET(InputPriceData!B$15,CalculationsAndCharts!$A453+$A$11,0,1,1)","v":"2012-03-09"},{"$f":"OFFSET(InputPriceData!G$15,CalculationsAndCharts!$A453+$A$11,0,1,1)","v":1689500},{"$f":"OFFSET(InputPriceData!C$15,CalculationsAndCharts!$A453+$A$11,IF($C$7,7,0),1,1)","v":43.41},{"$f":"OFFSET(InputPriceData!D$15,CalculationsAndCharts!$A453+$A$11,IF($C$7,7,0),1,1)","v":44.41},{"$f":"OFFSET(InputPriceData!E$15,CalculationsAndCharts!$A453+$A$11,IF($C$7,7,0),1,1)","v":43.25},{"$f":"OFFSET(InputPriceData!F$15,CalculationsAndCharts!$A453+$A$11,IF($C$7,7,0),1,1)","v":44.21},{"$error":"#N/A"},{"$f":"IF($A453=$E$25,I$32,NA())","v":{"$error":"#N/A"}},{"$error":"#N/A"},43.140194854170687,43.140194854170687,1.2527597075516268,0.44498823697155443,0.44498823697155443,-0.53873026125487433,1,0.97521028607726312,null,44.21,41.38,1,{"$error":"#N/A"},0.2,0.8,{"$error":"#N/A"},{"$error":"#N/A"},{"$error":"#N/A"},{"$error":"#N/A"},false,false,false,false,false,{"$error":"#N/A"},{"$error":"#N/A"},{"$error":"#N/A"},{"$error":"#N/A"},false,false,true,false,false,{"$error":"#N/A"},{"$error":"#N/A"},{"$error":"#N/A"},{"$error":"#N/A"}]
[422,{"$f":"OFFSET(InputPriceData!B$15,CalculationsAndCharts!$A454+$A$11,0,1,1)","v":"2012-03-08"},{"$f":"OFFSET(InputPriceData!G$15,CalculationsAndCharts!$A454+$A$11,0,1,1)","v":1240800},{"$f":"OFFSET(InputPriceData!C$15,CalculationsAndCharts!$A454+$A$11,IF($C$7,7,0),1,1)","v":42.6},{"$f":"OFFSET(InputPriceData!D$15,CalculationsAndCharts!$A454+$A$11,IF($C$7,7,0),1,1)","v":43.38},{"$f":"OFFSET(InputPriceData!E$15,CalculationsAndCharts!$A454+$A$11,IF($C$7,7,0),1,1)","v":42.48},{"$f":"OFFSET(InputPriceData!F$15,CalculationsAndCharts!$A454+$A$11,IF($C$7,7,0),1,1)","v":43.38},{"$error":"#N/A"},{"$error":"#N/A"},{"$error":"#N/A"},42.898555345461531,42.898555345461531,0.6381837025748216,0.30682456745768044,0.44216496270292099,-0.53873026125487433,0.86202359646613613,0.96560780165002313,null,43.38,41.38,1,{"$error":"#N/A"},0.2,0.8,{"$error":"#N/A"},42.6,{"$error":"#N/A"},{"$error":"#N/A"},false,false,true,false,{"$f":"AND(AG455,AF455)","v":true},{"$error":"#N/A"},42.6,{"$error":"#N/A"},42.6,false,{"$f":"AND(AM455,NOT(AO455))","v":true},true,false,false,42.6,{"$error":"#N/A"},42.6,{"$error":"#N/A"}]
[423,{"$f":"OFFSET(InputPriceData!B$15,CalculationsAndCharts!$A455+$A$11,0,1,1)","v":"2012-03-07"},{"$f":"OFFSET(InputPriceData!G$15,CalculationsAndCharts!$A455+$A$11,0,1,1)","v":1037600},{"$f":"OFFSET(InputPriceData!C$15,CalculationsAndCharts!$A455+$A$11,IF($C$7,7,0),1,1)","v":42.82},{"$f":"OFFSET(InputPriceData!D$15,CalculationsAndCharts!$A455+$A$11,IF($C$7,7,0),1,1)","v":42.86},{"$f":"OFFSET(InputPriceData!E$15,CalculationsAndCharts!$A455+$A$11,IF($C$7,7,0),1,1)","v":42.26},{"$f":"OFFSET(InputPriceData!F$15,CalculationsAndCharts!$A455+$A$11,IF($C$7,7,0),1,1)","v":42.55},{"$error":"#N/A"},{"$error":"#N/A"},{"$error":"#N/A"},42.862771323358523,42.862771323358523,-0.10756764177465267,0.36396194701269347,0.44216496270292099,-0.53873026125487433,0.92027383375903526,0.9209685609910101,null,43.2,41.38,0.6428571428571398,{"$error":"#N/A"},0.2,0.8,{"$error":"#N/A"},{"$error":"#N/A"},{"$error":"#N/A"},0.9209685609910101,false,false,true,true,false,{"$error":"#N/A"},{"$error":"#N/A"},{"$error":"#N/A"},{"$error":"#N/A"},true,false,false,false,{"$f":"AND(AP456,AO456)","v":false},{"$error":"#N/A"},{"$error":"#N/A"},{"$error":"#N/A"},{"$error":"#N/A"}]
[424,{"$f":"OFFSET(InputPriceData!B$15,CalculationsAndCharts!$A456+$A$11,0,1,1)","v":"2012-03-06"},{"$f":"OFFSET(InputPriceData!G$15,CalculationsAndCharts!$A456+$A$11,0,1,1)","v":1435800},{"$f":"OFFSET(InputPriceData!C$15,CalculationsAndCharts!$A456+$A$11,IF($C$7,7,0),1,1)","v":43.04},{"$f":"OFFSET(InputPriceData!D$15,CalculationsAndCharts!$A456+$A$11,IF($C$7,7,0),1,1)","v":43.07},{"$f":"OFFSET(InputPriceData!E$15,CalculationsAndCharts!$A456+$A$11,IF($C$7,7,0),1,1)","v":42.46},{"$f":"OFFSET(InputPriceData!F$15,CalculationsAndCharts!$A456+$A$11,IF($C$7,7,0),1,1)","v":42.71},{"$error":"#N/A"},{"$error":"#N/A"},{"$error":"#N/A"},42.83868564493195,42.83868564493195,8.4296421451258763E-2,0.44216496270292099,0.44216496270292099,-0.53873026125487433,1,0.79408264978584286,null,43.2,41.38,0.73076923076922973,{"$error":"#N/A"},0.2,0.8,{"$error":"#N/A"},{"$error":"#N/A"},{"$error":"#N/A"},{"$error":"#N/A"},false,false,true,false,false,{"$error":"#N/A"},{"$error":"#N/A"},{"$error":"#N/A"},{"$error":"#N/A"},false,false,false,false,false,{"$error":"#N/A"},{"$error":"#N/A"},{"$error":"#N/A"},{"$error":"#N/A"}]
[425,{"$f":"OFFSET(InputPriceData!B$15,CalculationsAndCharts!$A457+$A$11,0,1,1)","v":"2012-03-05"},{"$f":"OFFSET(InputPriceData!G$15,CalculationsAndCharts!$A457+$A$11,0,1,1)","v":1117800},{"$f":"OFFSET(InputPriceData!C$15,CalculationsAndCharts!$A457+$A$11,IF($C$7,7,0),1,1)","v":42.85},{"$f":"OFFSET(InputPriceData!D$15,CalculationsAndCharts!$A457+$A$11,IF($C$7,7,0),1,1)","v":43.33},{"$f":"OFFSET(InputPriceData!E$15,CalculationsAndCharts!$A457+$A$11,IF($C$7,7,0),1,1)","v":42.67},{"$f":"OFFSET(InputPriceData!F$15,CalculationsAndCharts!$A457+$A$11,IF($C$7,7,0),1,1)","v":43.2},{"$error":"#N/A"},{"$error":"#N/A"},{"$error":"#N/A"},42.651688155392122,42.651688155392122,0.67726222365558253,0.35300811393611431,0.35300811393611431,-0.53873026125487433,1,0.58777941710124215,null,43.2,41.38,1,{"$error":"#N/A"},0.2,0.8,{"$error":"#N/A"},{"$error":"#N/A"},{"$error":"#N/A"},{"$error":"#N/A"},false,false,true,false,false,{"$error":"#N/A"},{"$error":"#N/A"},{"$error":"#N/A"},{"$error":"#N/A"},false,false,false,false,false,{"$error":"#N/A"},{"$error":"#N/A"},{"$error":"#N/A"},{"$error":"#N/A"}]
[426,{"$f":"OFFSET(InputPriceData!B$15,CalculationsAndCharts!$A458+$A$11,0,1,1)","v":"2012-03-02"},{"$f":"OFFSET(InputPriceData!G$15,CalculationsAndCharts!$A458+$A$11,0,1,1)","v":1776600},{"$f":"OFFSET(InputPriceData!C$15,CalculationsAndCharts!$A458+$A$11,IF($C$7,7,0),1,1)","v":42.99},{"$f":"OFFSET(InputPriceData!D$15,CalculationsAndCharts!$A458+$A$11,IF($C$7,7,0),1,1)","v":43.1},{"$f":"OFFSET(InputPriceData!E$15,CalculationsAndCharts!$A458+$A$11,IF($C$7,7,0),1,1)","v":42.65},{"$f":"OFFSET(InputPriceData!F$15,CalculationsAndCharts!$A458+$A$11,IF($C$7,7,0),1,1)","v":42.77},{"$error":"#N/A"},{"$error":"#N/A"},{"$error":"#N/A"},42.383709523436579,42.383709523436579,0.37308849854742737,0.15332968338578512,0.15332968338578512,-0.53873026125487433,1,0.33989066125957146,null,43.01,41.38,0.85276073619632176,{"$error":"#N/A"},0.2,0.8,{"$error":"#N/A"},{"$error":"#N/A"},{"$error":"#N/A"},{"$error":"#N/A"},false,false,true,false,false,{"$error":"#N/A"},{"$error":"#N/A"},{"$error":"#N/A"},{"$error":"#N/A"},false,false,false,false,false,{"$error":"#N/A"},{"$error":"#N/A"},{"$error":"#N/A"},{"$error":"#N/A"}]
[427,{"$f":"OFFSET(InputPriceData!B$15,CalculationsAndCharts!$A459+$A$11,0,1,1)","v":"2012-03-01"},{"$f":"OFFSET(InputPriceData!G$15,CalculationsAndCharts!$A459+$A$11,0,1,1)","v":2619600},{"$f":"OFFSET(InputPriceData!C$15,CalculationsAndCharts!$A459+$A$11,IF($C$7,7,0),1,1)","v":42.11},{"$f":"OFFSET(InputPriceData!D$15,CalculationsAndCharts!$A459+$A$11,IF($C$7,7,0),1,1)","v":43.12},{"$f":"OFFSET(InputPriceData!E$15,CalculationsAndCharts!$A459+$A$11,IF($C$7,7,0),1,1)","v":42.04},{"$f":"OFFSET(InputPriceData!F$15,CalculationsAndCharts!$A459+$A$11,IF($C$7,7,0),1,1)","v":43.01},{"$error":"#N/A"},{"$error":"#N/A"},{"$error":"#N/A"},42.102231450819488,42.102231450819488,0.7400946553087141,-0.10330096377250966,0.30763612724940559,-0.53873026125487433,0.51446903302937907,0.14345835259491391,null,43.01,41.38,1,{"$error":"#N/A"},0.2,0.8,{"$error":"#N/A"},{"$error":"#N/A"},{"$error":"#N/A"},{"$error":"#N/A"},false,false,true,false,false,{"$error":"#N/A"},{"$error":"#N/A"},{"$error":"#N/A"},{"$error":"#N/A"},false,false,false,false,false,{"$error":"#N/A"},{"$error":"#N/A"},{"$error":"#N/A"},{"$error":"#N/A"}]
[428,{"$f":"OFFSET(InputPriceData!B$15,CalculationsAndCharts!$A460+$A$11,0,1,1)","v":"2012-02-29"},{"$f":"OFFSET(InputPriceData!G$15,CalculationsAndCharts!$A460+$A$11,0,1,1)","v":1759000},{"$f":"OFFSET(InputPriceData!C$15,CalculationsAndCharts!$A460+$A$11,IF($C$7,7,0),1,1)","v":42.4},{"$f":"OFFSET(InputPriceData!D$15,CalculationsAndCharts!$A460+$A$11,IF($C$7,7,0),1,1)","v":42.44},{"$f":"OFFSET(InputPriceData!E$15,CalculationsAndCharts!$A460+$A$11,IF($C$7,7,0),1,1)","v":41.71},{"$f":"OFFSET(InputPriceData!F$15,CalculationsAndCharts!$A460+$A$11,IF($C$7,7,0),1,1)","v":42.06},{"$error":"#N/A"},{"$error":"#N/A"},{"$error":"#N/A"},41.902700937203875,41.902700937203875,-0.13350340979069691,-0.32112119337569811,0.4338421723218745,-0.53873026125487433,0.223745872663585,4.3617967516354966E-2,null,42.89,41.38,0.45033112582781498,{"$error":"#N/A"},0.2,0.8,{"$error":"#N/A"},{"$error":"#N/A"},{"$error":"#N/A"},{"$error":"#N/A"},false,false,true,false,false,{"$error":"#N/A"},{"$error":"#N/A"},{"$error":"#N/A"},{"$error":"#N/A"},false,false,false,false,false,{"$error":"#N/A"},{"$error":"#N/A"},{"$error":"#N/A"},{"$error":"#N/A"}]
[429,{"$f":"OFFSET(InputPriceData!B$15,CalculationsAndCharts!$A461+$A$11,0,1,1)","v":"2012-02-28"},{"$f":"OFFSET(InputPriceData!G$15,CalculationsAndCharts!$A461+$A$11,0,1,1)","v":1589600},{"$f":"OFFSET(InputPriceData!C$15,CalculationsAndCharts!$A461+$A$11,IF($C$7,7,0),1,1)","v":41.75},{"$f":"OFFSET(InputPriceData!D$15,CalculationsAndCharts!$A461+$A$11,IF($C$7,7,0),1,1)","v":42.3},{"$f":"OFFSET(InputPriceData!E$15,CalculationsAndCharts!$A461+$A$11,IF($C$7,7,0),1,1)","v":41.2},{"$f":"OFFSET(InputPriceData!F$15,CalculationsAndCharts!$A461+$A$11,IF($C$7,7,0),1,1)","v":42.29},{"$error":"#N/A"},{"$error":"#N/A"},{"$error":"#N/A"},41.80672781944795,41.80672781944795,0.11362140983756464,-0.46641397438241466,0.51000147479654545,-0.53873026125487433,6.8955944009797723E-2,1.1970876905259917E-3,null,42.89,41.38,0.60264900662251508,{"$error":"#N/A"},0.2,0.8,{"$error":"#N/A"},{"$error":"#N/A"},{"$error":"#N/A"},{"$error":"#N/A"},false,false,true,false,false,{"$error":"#N/A"},{"$error":"#N/A"},{"$error":"#N/A"},{"$error":"#N/A"},false,false,false,false,false,{"$error":"#N/A"},{"$error":"#N/A"},{"$error":"#N/A"},{"$error":"#N/A"}]
[430,{"$f":"OFFSET(InputPriceData!B$15,CalculationsAndCharts!$A462+$A$11,0,1,1)","v":"2012-02-27"},{"$f":"OFFSET(InputPriceData!G$15,CalculationsAndCharts!$A462+$A$11,0,1,1)","v":1584000},{"$f":"OFFSET(InputPriceData!C$15,CalculationsAndCharts!$A462+$A$11,IF($C$7,7,0),1,1)","v":41.51},{"$f":"OFFSET(InputPriceData!D$15,CalculationsAndCharts!$A462+$A$11,IF($C$7,7,0),1,1)","v":41.76},{"$f":"OFFSET(InputPriceData!E$15,CalculationsAndCharts!$A462+$A$11,IF($C$7,7,0),1,1)","v":41.39},{"$f":"OFFSET(InputPriceData!F$15,CalculationsAndCharts!$A462+$A$11,IF($C$7,7,0),1,1)","v":41.64},{"$error":"#N/A"},{"$error":"#N/A"},{"$error":"#N/A"},41.800040487845592,41.800040487845592,-0.55752925011439092,-0.53873026125487433,0.5699160341257884,-0.53873026125487433,0,-1.260644795717893E-2,null,42.89,41.38,0.17218543046357507,{"$error":"#N/A"},0.2,0.8,{"$error":"#N/A"},{"$error":"#N/A"},{"$error":"#N/A"},{"$error":"#N/A"},false,false,true,false,false,{"$error":"#N/A"},{"$error":"#N/A"},{"$error":"#N/A"},{"$error":"#N/A"},false,false,false,false,false,{"$error":"#N/A"},{"$error":"#N/A"},{"$error":"#N/A"},{"$error":"#N/A"}]
[431,{"$f":"OFFSET(InputPriceData!B$15,CalculationsAndCharts!$A463+$A$11,0,1,1)","v":"2012-02-24"},{"$f":"OFFSET(InputPriceData!G$15,CalculationsAndCharts!$A463+$A$11,0,1,1)","v":1316500},{"$f":"OFFSET(InputPriceData!C$15,CalculationsAndCharts!$A463+$A$11,IF($C$7,7,0),1,1)","v":42.14},{"$f":"OFFSET(InputPriceData!D$15,CalculationsAndCharts!$A463+$A$11,IF($C$7,7,0),1,1)","v":42.17},{"$f":"OFFSET(InputPriceData!E$15,CalculationsAndCharts!$A463+$A$11,IF($C$7,7,0),1,1)","v":41.62},{"$f":"OFFSET(InputPriceData!F$15,CalculationsAndCharts!$A463+$A$11,IF($C$7,7,0),1,1)","v":41.67},{"$error":"#N/A"},{"$error":"#N/A"},{"$error":"#N/A"},41.885306833781158,41.885306833781158,-0.61246362349112438,-0.51959332670186686,0.62335511828238888,-0.51959332670186686,0,-1.7189064260572012E-2,null,42.89,41.38,0.19205298013245001,{"$error":"#N/A"},0.2,0.8,{"$error":"#N/A"},{"$error":"#N/A"},{"$error":"#N/A"},{"$error":"#N/A"},false,false,true,false,false,{"$error":"#N/A"},{"$error":"#N/A"},{"$error":"#N/A"},{"$error":"#N/A"},false,false,false,false,false,{"$error":"#N/A"},{"$error":"#N/A"},{"$error":"#N/A"},{"$error":"#N/A"}]
[432,{"$f":"OFFSET(InputPriceData!B$15,CalculationsAndCharts!$A464+$A$11,0,1,1)","v":"2012-02-23"},{"$f":"OFFSET(InputPriceData!G$15,CalculationsAndCharts!$A464+$A$11,0,1,1)","v":1675300},{"$f":"OFFSET(InputPriceData!C$15,CalculationsAndCharts!$A464+$A$11,IF($C$7,7,0),1,1)","v":41.38},{"$f":"OFFSET(InputPriceData!D$15,CalculationsAndCharts!$A464+$A$11,IF($C$7,7,0),1,1)","v":42.29},{"$f":"OFFSET(InputPriceData!E$15,CalculationsAndCharts!$A464+$A$11,IF($C$7,7,0),1,1)","v":41.38},{"$f":"OFFSET(InputPriceData!F$15,CalculationsAndCharts!$A464+$A$11,IF($C$7,7,0),1,1)","v":42.14},{"$error":"#N/A"},{"$error":"#N/A"},{"$error":"#N/A"},41.950874142669377,41.950874142669377,-0.18904440756116364,-0.51331778438504794,0.62335511828238888,-0.51331778438504794,0,-1.7751820437119259E-2,null,42.89,41.38,0.50331125827814505,{"$error":"#N/A"},0.2,0.8,{"$error":"#N/A"},{"$error":"#N/A"},{"$error":"#N/A"},{"$error":"#N/A"},false,false,true,false,false,{"$error":"#N/A"},{"$error":"#N/A"},{"$error":"#N/A"},{"$error":"#N/A"},false,false,false,false,false,{"$error":"#N/A"},{"$error":"#N/A"},{"$error":"#N/A"},{"$error":"#N/A"}]
[433,{"$f":"OFFSET(InputPriceData!B$15,CalculationsAndCharts!$A465+$A$11,0,1,1)","v":"2012-02-22"},{"$f":"OFFSET(InputPriceData!G$15,CalculationsAndCharts!$A465+$A$11,0,1,1)","v":2078800},{"$f":"OFFSET(InputPriceData!C$15,CalculationsAndCharts!$A465+$A$11,IF($C$7,7,0),1,1)","v":41.94},{"$f":"OFFSET(InputPriceData!D$15,CalculationsAndCharts!$A465+$A$11,IF($C$7,7,0),1,1)","v":42.03},{"$f":"OFFSET(InputPriceData!E$15,CalculationsAndCharts!$A465+$A$11,IF($C$7,7,0),1,1)","v":41.23},{"$f":"OFFSET(InputPriceData!F$15,CalculationsAndCharts!$A465+$A$11,IF($C$7,7,0),1,1)","v":41.38},{"$error":"#N/A"},{"$error":"#N/A"},{"$error":"#N/A"},42.082056852718544,42.082056852718544,-1.0299577501368418,-0.42878164663164864,0.62335511828238888,-0.42878164663164864,0,-8.1945863251579563E-3,null,42.89,41.38,0,{"$error":"#N/A"},0.2,0.8,{"$error":"#N/A"},{"$error":"#N/A"},{"$error":"#N/A"},{"$error":"#N/A"},false,false,true,false,false,{"$error":"#N/A"},{"$error":"#N/A"},{"$error":"#N/A"},{"$error":"#N/A"},false,false,false,false,false,{"$error":"#N/A"},{"$error":"#N/A"},{"$error":"#N/A"},{"$error":"#N/A"}]
[434,{"$f":"OFFSET(InputPriceData!B$15,CalculationsAndCharts!$A466+$A$11,0,1,1)","v":"2012-02-21"},{"$f":"OFFSET(InputPriceData!G$15,CalculationsAndCharts!$A466+$A$11,0,1,1)","v":1389700},{"$f":"OFFSET(InputPriceData!C$15,CalculationsAndCharts!$A466+$A$11,IF($C$7,7,0),1,1)","v":42.56},{"$f":"OFFSET(InputPriceData!D$15,CalculationsAndCharts!$A466+$A$11,IF($C$7,7,0),1,1)","v":42.93},{"$f":"OFFSET(InputPriceData!E$15,CalculationsAndCharts!$A466+$A$11,IF($C$7,7,0),1,1)","v":41.95},{"$f":"OFFSET(InputPriceData!F$15,CalculationsAndCharts!$A466+$A$11,IF($C$7,7,0),1,1)","v":42.13},{"$error":"#N/A"},{"$error":"#N/A"},{"$error":"#N/A"},42.202794151057347,42.202794151057347,-0.37221440266490624,-0.33447080057576867,0.62335511828238888,-0.33447080057576867,0,2.0085695090381356E-2,null,42.89,41.76,0.32743362831858736,{"$error":"#N/A"},0.2,0.8,{"$error":"#N/A"},{"$error":"#N/A"},{"$error":"#N/A"},{"$error":"#N/A"},false,false,true,false,false,{"$error":"#N/A"},{"$error":"#N/A"},{"$error":"#N/A"},{"$error":"#N/A"},false,false,false,false,false,{"$error":"#N/A"},{"$error":"#N/A"},{"$error":"#N/A"},{"$error":"#N/A"}]
[435,{"$f":"OFFSET(InputPriceData!B$15,CalculationsAndCharts!$A467+$A$11,0,1,1)","v":"2012-02-17"},{"$f":"OFFSET(InputPriceData!G$15,CalculationsAndCharts!$A467+$A$11,0,1,1)","v":1296400},{"$f":"OFFSET(InputPriceData!C$15,CalculationsAndCharts!$A467+$A$11,IF($C$7,7,0),1,1)","v":42.05},{"$f":"OFFSET(InputPriceData!D$15,CalculationsAndCharts!$A467+$A$11,IF($C$7,7,0),1,1)","v":42.5},{"$f":"OFFSET(InputPriceData!E$15,CalculationsAndCharts!$A467+$A$11,IF($C$7,7,0),1,1)","v":41.95},{"$f":"OFFSET(InputPriceData!F$15,CalculationsAndCharts!$A467+$A$11,IF($C$7,7,0),1,1)","v":42.38},{"$error":"#N/A"},{"$error":"#N/A"},{"$error":"#N/A"},42.220749207781914,42.220749207781914,-0.12674613395320058,-0.33080525920569348,0.62335511828238888,-0.33080525920569348,0,7.6482728766098892E-2,null,42.89,41.29,0.68125000000000158,{"$error":"#N/A"},0.2,0.8,42.05,{"$error":"#N/A"},{"$error":"#N/A"},{"$error":"#N/A"},false,true,true,false,false,42.05,{"$error":"#N/A"},42.05,{"$error":"#N/A"},false,false,false,false,true,{"$error":"#N/A"},42.05,{"$error":"#N/A"},42.05]
[436,{"$f":"OFFSET(InputPriceData!B$15,CalculationsAndCharts!$A468+$A$11,0,1,1)","v":"2012-02-16"},{"$f":"OFFSET(InputPriceData!G$15,CalculationsAndCharts!$A468+$A$11,0,1,1)","v":1719300},{"$f":"OFFSET(InputPriceData!C$15,CalculationsAndCharts!$A468+$A$11,IF($C$7,7,0),1,1)","v":42.17},{"$f":"OFFSET(InputPriceData!D$15,CalculationsAndCharts!$A468+$A$11,IF($C$7,7,0),1,1)","v":42.57},{"$f":"OFFSET(InputPriceData!E$15,CalculationsAndCharts!$A468+$A$11,IF($C$7,7,0),1,1)","v":41.75},{"$f":"OFFSET(InputPriceData!F$15,CalculationsAndCharts!$A468+$A$11,IF($C$7,7,0),1,1)","v":41.94},{"$error":"#N/A"},{"$error":"#N/A"},{"$error":"#N/A"},42.285483910726889,42.285483910726889,-0.58872536925247065,-0.27184104417028437,0.62335511828238888,-0.27184104417028437,0,0.16653112919668883,null,42.89,40.96,0.50777202072538707,{"$error":"#N/A"},0.2,0.8,{"$error":"#N/A"},{"$error":"#N/A"},0.16653112919668883,{"$error":"#N/A"},true,false,false,false,false,{"$error":"#N/A"},{"$error":"#N/A"},{"$error":"#N/A"},{"$error":"#N/A"},false,false,true,true,false,{"$error":"#N/A"},{"$error":"#N/A"},{"$error":"#N/A"},{"$error":"#N/A"}]
[437,{"$f":"OFFSET(InputPriceData!B$15,CalculationsAndCharts!$A469+$A$11,0,1,1)","v":"2012-02-15"},{"$f":"OFFSET(InputPriceData!G$15,CalculationsAndCharts!$A469+$A$11,0,1,1)","v":1891400},{"$f":"OFFSET(InputPriceData!C$15,CalculationsAndCharts!$A469+$A$11,IF($C$7,7,0),1,1)","v":42.51},{"$f":"OFFSET(InputPriceData!D$15,CalculationsAndCharts!$A469+$A$11,IF($C$7,7,0),1,1)","v":42.72},{"$f":"OFFSET(InputPriceData!E$15,CalculationsAndCharts!$A469+$A$11,IF($C$7,7,0),1,1)","v":42.03},{"$f":"OFFSET(InputPriceData!F$15,CalculationsAndCharts!$A469+$A$11,IF($C$7,7,0),1,1)","v":42.27},{"$error":"#N/A"},{"$error":"#N/A"},{"$error":"#N/A"},42.365645874934771,42.365645874934771,-0.29264480967031237,-0.18134362798592629,0.62335511828238888,-0.18134362798592629,0,0.28297644029567887,null,42.89,40.96,0.67875647668393913,{"$error":"#N/A"},0.2,0.8,{"$error":"#N/A"},{"$error":"#N/A"},{"$error":"#N/A"},{"$error":"#N/A"},false,false,false,false,false,{"$error":"#N/A"},{"$error":"#N/A"},{"$error":"#N/A"},{"$error":"#N/A"},false,false,true,false,false,{"$error":"#N/A"},{"$error":"#N/A"},{"$error":"#N/A"},{"$error":"#N/A"}]
[438,{"$f":"OFFSET(InputPriceData!B$15,CalculationsAndCharts!$A470+$A$11,0,1,1)","v":"2012-02-14"},{"$f":"OFFSET(InputPriceData!G$15,CalculationsAndCharts!$A470+$A$11,0,1,1)","v":960100},{"$f":"OFFSET(InputPriceData!C$15,CalculationsAndCharts!$A470+$A$11,IF($C$7,7,0),1,1)","v":41.51},{"$f":"OFFSET(InputPriceData!D$15,CalculationsAndCharts!$A470+$A$11,IF($C$7,7,0),1,1)","v":42.5},{"$f":"OFFSET(InputPriceData!E$15,CalculationsAndCharts!$A470+$A$11,IF($C$7,7,0),1,1)","v":41.5},{"$f":"OFFSET(InputPriceData!F$15,CalculationsAndCharts!$A470+$A$11,IF($C$7,7,0),1,1)","v":42.49},{"$error":"#N/A"},{"$error":"#N/A"},{"$error":"#N/A"},42.400130328192716,42.400130328192716,-5.4449664280022625E-2,-0.12092738881070859,0.62335511828238888,-0.18688465130046111,8.1404622391851311E-2,0.39193446163497436,null,42.89,40.96,0.79274611398963801,{"$error":"#N/A"},0.2,0.8,{"$error":"#N/A"},{"$error":"#N/A"},{"$error":"#N/A"},{"$error":"#N/A"},false,false,false,false,false,{"$error":"#N/A"},{"$error":"#N/A"},{"$error":"#N/A"},{"$error":"#N/A"},false,false,true,false,false,{"$error":"#N/A"},{"$error":"#N/A"},{"$error":"#N/A"},{"$error":"#N/A"}]
[439,{"$f":"OFFSET(InputPriceData!B$15,CalculationsAndCharts!$A471+$A$11,0,1,1)","v":"2012-02-13"},{"$f":"OFFSET(InputPriceData!G$15,CalculationsAndCharts!$A471+$A$11,0,1,1)","v":2740000},{"$f":"OFFSET(InputPriceData!C$15,CalculationsAndCharts!$A471+$A$11,IF($C$7,7,0),1,1)","v":42.98},{"$f":"OFFSET(InputPriceData!D$15,CalculationsAndCharts!$A471+$A$11,IF($C$7,7,0),1,1)","v":43.15},{"$f":"OFFSET(InputPriceData!E$15,CalculationsAndCharts!$A471+$A$11,IF($C$7,7,0),1,1)","v":41.7},{"$f":"OFFSET(InputPriceData!F$15,CalculationsAndCharts!$A471+$A$11,IF($C$7,7,0),1,1)","v":41.76},{"$error":"#N/A"},{"$error":"#N/A"},{"$error":"#N/A"},42.471584329793735,42.471584329793735,-0.81172622687460827,-6.4203619612862722E-3,0.62335511828238888,-0.45571576438540912,0.41637246416410129,0.44067988856124707,null,42.89,40.96,0.41450777202072397,{"$error":"#N/A"},0.2,0.8,{"$error":"#N/A"},{"$error":"#N/A"},{"$error":"#N/A"},{"$error":"#N/A"},false,false,false,false,false,{"$error":"#N/A"},{"$error":"#N/A"},{"$error":"#N/A"},{"$error":"#N/A"},false,false,true,false,false,{"$error":"#N/A"},{"$error":"#N/A"},{"$error":"#N/A"},{"$error":"#N/A"}]
[440,{"$f":"OFFSET(InputPriceData!B$15,CalculationsAndCharts!$A472+$A$11,0,1,1)","v":"2012-02-10"},{"$f":"OFFSET(InputPriceData!G$15,CalculationsAndCharts!$A472+$A$11,0,1,1)","v":1236700},{"$f":"OFFSET(InputPriceData!C$15,CalculationsAndCharts!$A472+$A$11,IF($C$7,7,0),1,1)","v":42.47},{"$f":"OFFSET(InputPriceData!D$15,CalculationsAndCharts!$A472+$A$11,IF($C$7,7,0),1,1)","v":42.9},{"$f":"OFFSET(InputPriceData!E$15,CalculationsAndCharts!$A472+$A$11,IF($C$7,7,0),1,1)","v":42.16},{"$f":"OFFSET(InputPriceData!F$15,CalculationsAndCharts!$A472+$A$11,IF($C$7,7,0),1,1)","v":42.89},{"$error":"#N/A"},{"$error":"#N/A"},{"$error":"#N/A"},42.432005349224816,42.432005349224816,0.32944167161723181,9.3892966212812262E-3,0.62335511828238888,-0.667787974565205,0.52447887065172871,0.44115713766369269,null,42.89,40.96,1,{"$error":"#N/A"},0.2,0.8,{"$error":"#N/A"},{"$error":"#N/A"},{"$error":"#N/A"},{"$error":"#N/A"},false,false,false,false,false,{"$error":"#N/A"},{"$error":"#N/A"},{"$error":"#N/A"},{"$error":"#N/A"},false,false,true,false,false,{"$error":"#N/A"},{"$error":"#N/A"},{"$error":"#N/A"},{"$error":"#N/A"}]
[441,{"$f":"OFFSET(InputPriceData!B$15,CalculationsAndCharts!$A473+$A$11,0,1,1)","v":"2012-02-09"},{"$f":"OFFSET(InputPriceData!G$15,CalculationsAndCharts!$A473+$A$11,0,1,1)","v":1732400},{"$f":"OFFSET(InputPriceData!C$15,CalculationsAndCharts!$A473+$A$11,IF($C$7,7,0),1,1)","v":42.26},{"$f":"OFFSET(InputPriceData!D$15,CalculationsAndCharts!$A473+$A$11,IF($C$7,7,0),1,1)","v":42.67},{"$f":"OFFSET(InputPriceData!E$15,CalculationsAndCharts!$A473+$A$11,IF($C$7,7,0),1,1)","v":41.89},{"$f":"OFFSET(InputPriceData!F$15,CalculationsAndCharts!$A473+$A$11,IF($C$7,7,0),1,1)","v":42.67},{"$error":"#N/A"},{"$f":"IF($A473=$E$25,I$32,NA())","v":{"$error":"#N/A"}},{"$error":"#N/A"},42.269918271281369,42.269918271281369,0.21561972216334926,-0.10636352656018982,0.62335511828238888,-0.70499408277593623,0.450657519678413,0.46033101682944777,null,42.7,40.369999999999997,0.98712446351931282,{"$error":"#N/A"},0.2,0.8,{"$error":"#N/A"},{"$error":"#N/A"},{"$error":"#N/A"},{"$error":"#N/A"},false,false,false,false,false,{"$error":"#N/A"},{"$error":"#N/A"},{"$error":"#N/A"},{"$error":"#N/A"},false,false,true,false,false,{"$error":"#N/A"},{"$error":"#N/A"},{"$error":"#N/A"},{"$error":"#N/A"}]
[442,{"$f":"OFFSET(InputPriceData!B$15,CalculationsAndCharts!$A474+$A$11,0,1,1)","v":"2012-02-08"},{"$f":"OFFSET(InputPriceData!G$15,CalculationsAndCharts!$A474+$A$11,0,1,1)","v":1818800},{"$f":"OFFSET(InputPriceData!C$15,CalculationsAndCharts!$A474+$A$11,IF($C$7,7,0),1,1)","v":42.44},{"$f":"OFFSET(InputPriceData!D$15,CalculationsAndCharts!$A474+$A$11,IF($C$7,7,0),1,1)","v":42.72},{"$f":"OFFSET(InputPriceData!E$15,CalculationsAndCharts!$A474+$A$11,IF($C$7,7,0),1,1)","v":42.04},{"$f":"OFFSET(InputPriceData!F$15,CalculationsAndCharts!$A474+$A$11,IF($C$7,7,0),1,1)","v":42.27},{"$error":"#N/A"},{"$error":"#N/A"},{"$error":"#N/A"},42.189763265158369,42.189763265158369,-0.12131912849844131,-0.15460459211636779,0.62335511828238888,-0.70499408277593623,0.41434096562941508,0.52371251019618403,null,42.7,40.369999999999997,0.81545064377682464,{"$error":"#N/A"},0.2,0.8,{"$error":"#N/A"},{"$error":"#N/A"},{"$error":"#N/A"},{"$error":"#N/A"},false,false,false,false,false,{"$error":"#N/A"},{"$error":"#N/A"},{"$error":"#N/A"},{"$error":"#N/A"},false,false,true,false,false,{"$error":"#N/A"},{"$error":"#N/A"},{"$error":"#N/A"},{"$error":"#N/A"}]
[443,{"$f":"OFFSET(InputPriceData!B$15,CalculationsAndCharts!$A475+$A$11,0,1,1)","v":"2012-02-07"},{"$f":"OFFSET(InputPriceData!G$15,CalculationsAndCharts!$A475+$A$11,0,1,1)","v":1621700},{"$f":"OFFSET(InputPriceData!C$15,CalculationsAndCharts!$A475+$A$11,IF($C$7,7,0),1,1)","v":42.11},{"$f":"OFFSET(InputPriceData!D$15,CalculationsAndCharts!$A475+$A$11,IF($C$7,7,0),1,1)","v":42.61},{"$f":"OFFSET(InputPriceData!E$15,CalculationsAndCharts!$A475+$A$11,IF($C$7,7,0),1,1)","v":42.11},{"$f":"OFFSET(InputPriceData!F$15,CalculationsAndCharts!$A475+$A$11,IF($C$7,7,0),1,1)","v":42.41},{"$error":"#N/A"},{"$error":"#N/A"},{"$error":"#N/A"},42.167353063804249,42.167353063804249,6.7981045095959536E-2,-0.14772343433364019,0.62335511828238888,-0.70499408277593623,0.41952119818968248,0.62167647652971236,null,42.7,40.369999999999997,0.87553648068669288,{"$error":"#N/A"},0.2,0.8,{"$error":"#N/A"},{"$error":"#N/A"},{"$error":"#N/A"},{"$error":"#N/A"},false,false,false,false,false,{"$error":"#N/A"},{"$error":"#N/A"},{"$error":"#N/A"},{"$error":"#N/A"},false,false,true,false,false,{"$error":"#N/A"},{"$error":"#N/A"},{"$error":"#N/A"},{"$error":"#N/A"}]
[444,{"$f":"OFFSET(InputPriceData!B$15,CalculationsAndCharts!$A476+$A$11,0,1,1)","v":"2012-02-06"},{"$f":"OFFSET(InputPriceData!G$15,CalculationsAndCharts!$A476+$A$11,0,1,1)","v":1106000},{"$f":"OFFSET(InputPriceData!C$15,CalculationsAndCharts!$A476+$A$11,IF($C$7,7,0),1,1)","v":42.03},{"$f":"OFFSET(InputPriceData!D$15,CalculationsAndCharts!$A476+$A$11,IF($C$7,7,0),1,1)","v":42.19},{"$f":"OFFSET(InputPriceData!E$15,CalculationsAndCharts!$A476+$A$11,IF($C$7,7,0),1,1)","v":41.7},{"$f":"OFFSET(InputPriceData!F$15,CalculationsAndCharts!$A476+$A$11,IF($C$7,7,0),1,1)","v":42.02},{"$error":"#N/A"},{"$error":"#N/A"},{"$error":"#N/A"},42.219123081713199,42.219123081713199,-0.28752647662786324,-5.6489225833982012E-2,0.62335511828238888,-0.70499408277593623,0.48820359618184445,0.73384796023811694,null,42.7,40.369999999999997,0.708154506437769,{"$error":"#N/A"},0.2,0.8,{"$error":"#N/A"},{"$error":"#N/A"},{"$error":"#N/A"},{"$error":"#N/A"},false,{"$f":"AND(AD477,NOT(AF477))","v":false},false,false,false,{"$error":"#N/A"},{"$error":"#N/A"},{"$error":"#N/A"},{"$error":"#N/A"},false,false,true,false,false,{"$error":"#N/A"},{"$error":"#N/A"},{"$error":"#N/A"},{"$error":"#N/A"}]
[445,{"$f":"OFFSET(InputPriceData!B$15,CalculationsAndCharts!$A477+$A$11,0,1,1)","v":"2012-02-03"},{"$f":"OFFSET(InputPriceData!G$15,CalculationsAndCharts!$A477+$A$11,0,1,1)","v":2692400},{"$f":"OFFSET(InputPriceData!C$15,CalculationsAndCharts!$A477+$A$11,IF($C$7,7,0),1,1)","v":42.57},{"$f":"OFFSET(InputPriceData!D$15,CalculationsAndCharts!$A477+$A$11,IF($C$7,7,0),1,1)","v":42.57},{"$f":"OFFSET(InputPriceData!E$15,CalculationsAndCharts!$A477+$A$11,IF($C$7,7,0),1,1)","v":41.94},{"$f":"OFFSET(InputPriceData!F$15,CalculationsAndCharts!$A477+$A$11,IF($C$7,7,0),1,1)","v":41.94},{"$error":"#N/A"},{"$error":"#N/A"},{"$error":"#N/A"},42.342455904520634,42.342455904520634,-0.37188637449642836,0.13253825253035534,0.62335511828238888,-0.70499408277593623,0.63050614600363453,0.83425562010598409,null,42.7,40.369999999999997,0.6738197424892689,{"$error":"#N/A"},0.2,0.8,{"$error":"#N/A"},{"$error":"#N/A"},{"$error":"#N/A"},{"$error":"#N/A"},false,false,false,false,false,{"$error":"#N/A"},{"$error":"#N/A"},{"$error":"#N/A"},{"$error":"#N/A"},false,false,true,false,false,{"$error":"#N/A"},{"$error":"#N/A"},{"$error":"#N/A"},{"$error":"#N/A"}]
[446,{"$f":"OFFSET(InputPriceData!B$15,CalculationsAndCharts!$A478+$A$11,0,1,1)","v":"2012-02-02"},{"$f":"OFFSET(InputPriceData!G$15,CalculationsAndCharts!$A478+$A$11,0,1,1)","v":1602400},{"$f":"OFFSET(InputPriceData!C$15,CalculationsAndCharts!$A478+$A$11,IF($C$7,7,0),1,1)","v":42.51},{"$f":"OFFSET(InputPriceData!D$15,CalculationsAndCharts!$A478+$A$11,IF($C$7,7,0),1,1)","v":43.07},{"$f":"OFFSET(InputPriceData!E$15,CalculationsAndCharts!$A478+$A$11,IF($C$7,7,0),1,1)","v":42.3},{"$f":"OFFSET(InputPriceData!F$15,CalculationsAndCharts!$A478+$A$11,IF($C$7,7,0),1,1)","v":42.3},{"$error":"#N/A"},{"$error":"#N/A"},{"$error":"#N/A"},42.419243590518121,42.419243590518121,1.3846189579028056E-2,0.30763612724940559,0.62335511828238888,-0.70499408277593623,0.76232229388067296,0.90919093514323368,null,42.7,40.369999999999997,0.8283261802575087,{"$error":"#N/A"},0.2,0.8,{"$error":"#N/A"},{"$error":"#N/A"},{"$error":"#N/A"},{"$error":"#N/A"},false,false,false,false,false,{"$error":"#N/A"},{"$error":"#N/A"},{"$error":"#N/A"},{"$error":"#N/A"},false,false,true,false,false,{"$error":"#N/A"},{"$error":"#N/A"},{"$error":"#N/A"},{"$error":"#N/A"}]
[447,{"$f":"OFFSET(InputPriceData!B$15,CalculationsAndCharts!$A479+$A$11,0,1,1)","v":"2012-02-01"},{"$f":"OFFSET(InputPriceData!G$15,CalculationsAndCharts!$A479+$A$11,0,1,1)","v":1455800},{"$f":"OFFSET(InputPriceData!C$15,CalculationsAndCharts!$A479+$A$11,IF($C$7,7,0),1,1)","v":42.79},{"$f":"OFFSET(InputPriceData!D$15,CalculationsAndCharts!$A479+$A$11,IF($C$7,7,0),1,1)","v":42.79},{"$f":"OFFSET(InputPriceData!E$15,CalculationsAndCharts!$A479+$A$11,IF($C$7,7,0),1,1)","v":42.22},{"$f":"OFFSET(InputPriceData!F$15,CalculationsAndCharts!$A479+$A$11,IF($C$7,7,0),1,1)","v":42.32},{"$error":"#N/A"},{"$error":"#N/A"},{"$error":"#N/A"},42.421768794194776,42.421768794194776,0.10418324985177035,0.4338421723218745,0.62335511828238888,-0.70499408277593623,0.85733198332974103,0.96042905431755154,null,42.7,40.369999999999997,0.83690987124463445,{"$error":"#N/A"},0.2,0.8,{"$error":"#N/A"},{"$error":"#N/A"},{"$error":"#N/A"},{"$error":"#N/A"},false,false,false,false,false,{"$error":"#N/A"},{"$error":"#N/A"},{"$error":"#N/A"},{"$error":"#N/A"},false,false,true,false,false,{"$error":"#N/A"},{"$error":"#N/A"},{"$error":"#N/A"},{"$error":"#N/A"}]
[448,{"$f":"OFFSET(InputPriceData!B$15,CalculationsAndCharts!$A480+$A$11,0,1,1)","v":"2012-01-31"},{"$f":"OFFSET(InputPriceData!G$15,CalculationsAndCharts!$A480+$A$11,0,1,1)","v":1342500},{"$f":"OFFSET(InputPriceData!C$15,CalculationsAndCharts!$A480+$A$11,IF($C$7,7,0),1,1)","v":42.43},{"$f":"OFFSET(InputPriceData!D$15,CalculationsAndCharts!$A480+$A$11,IF($C$7,7,0),1,1)","v":42.65},{"$f":"OFFSET(InputPriceData!E$15,CalculationsAndCharts!$A480+$A$11,IF($C$7,7,0),1,1)","v":42.35},{"$f":"OFFSET(InputPriceData!F$15,CalculationsAndCharts!$A480+$A$11,IF($C$7,7,0),1,1)","v":42.61},{"$error":"#N/A"},{"$error":"#N/A"},{"$error":"#N/A"},42.359119515908922,42.359119515908922,0.50879075432223742,0.51000147479654545,0.62335511828238888,-0.70499408277593623,0.9146657796040889,0.99231720856055428,null,42.7,40.369999999999997,0.96137339055793858,{"$error":"#N/A"},0.2,0.8,{"$error":"#N/A"},{"$error":"#N/A"},{"$error":"#N/A"},{"$error":"#N/A"},false,false,false,false,false,{"$error":"#N/A"},{"$error":"#N/A"},{"$error":"#N/A"},{"$error":"#N/A"},false,false,true,false,false,{"$error":"#N/A"},{"$error":"#N/A"},{"$error":"#N/A"},{"$error":"#N/A"}]
[449,{"$f":"OFFSET(InputPriceData!B$15,CalculationsAndCharts!$A481+$A$11,0,1,1)","v":"2012-01-30"},{"$f":"OFFSET(InputPriceData!G$15,CalculationsAndCharts!$A481+$A$11,0,1,1)","v":1411000},{"$f":"OFFSET(InputPriceData!C$15,CalculationsAndCharts!$A481+$A$11,IF($C$7,7,0),1,1)","v":42.11},{"$f":"OFFSET(InputPriceData!D$15,CalculationsAndCharts!$A481+$A$11,IF($C$7,7,0),1,1)","v":42.8},{"$f":"OFFSET(InputPriceData!E$15,CalculationsAndCharts!$A481+$A$11,IF($C$7,7,0),1,1)","v":41.93},{"$f":"OFFSET(InputPriceData!F$15,CalculationsAndCharts!$A481+$A$11,IF($C$7,7,0),1,1)","v":42.3},{"$f":"IF($A481=$E$25,H$32,NA())","v":{"$error":"#N/A"}},{"$error":"#N/A"},{"$error":"#N/A"},{"$f":"$F$16*(G481+G482)/2+$F$17*K482+$F$18*K483","v":42.271962854828587},42.271962854828587,{"$f":"$D$21*(G481 - 2*G482 + G483) + $D$20*M482 - $F$20*M483","v":0.33131791952146694},0.5699160341257884,0.62335511828238888,-0.70499408277593623,{"$f":"IFERROR(IF($A481>$A$8,0,(N481-P481)/(O481-P481)),1)","v":0.95977030428894416},{"$f":"IF($A481>$A$8,0,$F$16*(Q481+Q482)/2+$F$17*R482+$F$18*R483)","v":1.0044137115520382},null,{"$f":"MAX(OFFSET(G481,0,0,$A$22,1))","v":42.7},{"$f":"MIN(OFFSET(G481,0,0,$A$22,1))","v":40.369999999999997},{"$f":"IFERROR(IF($A481>$A$8,0,(G481-U481)/(T481-U481)),1)","v":0.8283261802575087},{"$error":"#N/A"},0.2,0.8,{"$f":"IF($S$7,AI481,NA())","v":{"$error":"#N/A"}},{"$f":"IF($S$7,AJ481,NA())","v":{"$error":"#N/A"}},{"$f":"IF($S$7,IF(AD481,R481,NA()),NA())","v":{"$error":"#N/A"}},{"$f":"IF($S$7,IF(AG481,R481,NA()),NA())","v":{"$error":"#N/A"}},{"$f":"IF(AND(R482>$X$32,R481<$X$32),TRUE,FALSE)","v":false},false,false,{"$f":"IF(AND(AF481,R482<$Y$32,R481>$Y$32),TRUE,FALSE)","v":false},false,{"$f":"IF(AE481,D481,NA())","v":{"$error":"#N/A"}},{"$f":"IF(AH481,D481,NA())","v":{"$error":"#N/A"}},{"$f":"IF($S$7,AI481,NA())","v":{"$error":"#N/A"}},{"$f":"IF($S$7,AJ481,NA())","v":{"$error":"#N/A"}},{"$f":"IF(AND(R482<$Y$32,R481>$Y$32),TRUE,FALSE)","v":false},false,true,{"$f":"IF(AND(AO482,R482>$X$32,R481<$X$32),TRUE,FALSE)","v":false},false,{"$f":"IF(AN481,D481,NA())","v":{"$error":"#N/A"}},{"$f":"IF(AQ481,D481,NA())","v":{"$error":"#N/A"}},{"$error":"#N/A"},{"$error":"#N/A"}]
[450,{"$f":"OFFSET(InputPriceData!B$15,CalculationsAndCharts!$A482+$A$11,0,1,1)","v":"2012-01-27"},{"$f":"OFFSET(InputPriceData!G$15,CalculationsAndCharts!$A482+$A$11,0,1,1)","v":1625400},{"$f":"OFFSET(InputPriceData!C$15,CalculationsAndCharts!$A482+$A$11,IF($C$7,7,0),1,1)","v":42.29},{"$f":"OFFSET(InputPriceData!D$15,CalculationsAndCharts!$A482+$A$11,IF($C$7,7,0),1,1)","v":42.75},{"$f":"OFFSET(InputPriceData!E$15,CalculationsAndCharts!$A482+$A$11,IF($C$7,7,0),1,1)","v":42.06},{"$f":"OFFSET(InputPriceData!F$15,CalculationsAndCharts!$A482+$A$11,IF($C$7,7,0),1,1)","v":42.09},{"$error":"#N/A"},{"$error":"#N/A"},{"$error":"#N/A"},42.172707084248238,{"$f":"IF($S$5,K482,NA())","v":42.172707084248238},0.22452536737488216,{"$f":"$F$16*(M482+M483)/2+$F$17*N483+$F$18*N484","v":0.62335511828238888},{"$f":"MAX(OFFSET(N482,0,0,$A$22,1))","v":0.62335511828238888},-0.70499408277593623,1,0.99246834276263018,null,42.7,40.369999999999997,0.73819742489270468,{"$f":"IF($S$18,V482,NA())","v":{"$error":"#N/A"}},{"$f":"$X$32","v":0.2},{"$f":"$Y$32","v":0.8},{"$error":"#N/A"},{"$error":"#N/A"},{"$error":"#N/A"},{"$error":"#N/A"},false,false,{"$f":"IF(AF483,IF(AH483,FALSE,AF483),IF(AE482,TRUE,AF483))","v":false},false,false,{"$error":"#N/A"},{"$error":"#N/A"},{"$error":"#N/A"},{"$error":"#N/A"},false,false,{"$f":"IF(AO483,IF(AP483,FALSE,AO483),IF(AN482,TRUE,AO483))","v":true},false,false,{"$error":"#N/A"},{"$error":"#N/A"},{"$f":"IF($S$5,AR482,NA())","v":{"$error":"#N/A"}},{"$error":"#N/A"}]
[451,{"$f":"OFFSET(InputPriceData!B$15,CalculationsAndCharts!$A483+$A$11,0,1,1)","v":"2012-01-26"},{"$f":"OFFSET(InputPriceData!G$15,CalculationsAndCharts!$A483+$A$11,0,1,1)","v":1701700},{"$f":"OFFSET(InputPriceData!C$15,CalculationsAndCharts!$A483+$A$11,IF($C$7,7,0),1,1)","v":42.95},{"$f":"OFFSET(InputPriceData!D$15,CalculationsAndCharts!$A483+$A$11,IF($C$7,7,0),1,1)","v":43},{"$f":"OFFSET(InputPriceData!E$15,CalculationsAndCharts!$A483+$A$11,IF($C$7,7,0),1,1)","v":42.29},{"$f":"OFFSET(InputPriceData!F$15,CalculationsAndCharts!$A483+$A$11,IF($C$7,7,0),1,1)","v":42.42},{"$error":"#N/A"},{"$error":"#N/A"},{"$error":"#N/A"},41.945103108664966,41.945103108664966,0.68757930980379023,0.54068408937084578,0.54068408937084578,-0.70499408277593623,1,0.95568070135852201,null,42.7,40.369999999999997,0.8798283261802573,{"$error":"#N/A"},0.2,0.8,{"$error":"#N/A"},{"$error":"#N/A"},{"$error":"#N/A"},{"$error":"#N/A"},false,false,false,false,false,{"$error":"#N/A"},{"$error":"#N/A"},{"$error":"#N/A"},{"$error":"#N/A"},false,false,true,false,false,{"$error":"#N/A"},{"$error":"#N/A"},{"$error":"#N/A"},{"$error":"#N/A"}]
[452,{"$f":"OFFSET(InputPriceData!B$15,CalculationsAndCharts!$A484+$A$11,0,1,1)","v":"2012-01-25"},{"$f":"OFFSET(InputPriceData!G$15,CalculationsAndCharts!$A484+$A$11,0,1,1)","v":2400900},{"$f":"OFFSET(InputPriceData!C$15,CalculationsAndCharts!$A484+$A$11,IF($C$7,7,0),1,1)","v":41.87},{"$f":"OFFSET(InputPriceData!D$15,CalculationsAndCharts!$A484+$A$11,IF($C$7,7,0),1,1)","v":42.82},{"$f":"OFFSET(InputPriceData!E$15,CalculationsAndCharts!$A484+$A$11,IF($C$7,7,0),1,1)","v":41.64},{"$f":"OFFSET(InputPriceData!F$15,CalculationsAndCharts!$A484+$A$11,IF($C$7,7,0),1,1)","v":42.7},{"$error":"#N/A"},{"$error":"#N/A"},{"$error":"#N/A"},41.582449205137159,41.582449205137159,1.1834759670003556,0.28759567497083988,0.28759567497083988,-0.70499408277593623,1,0.89351414566970655,null,42.7,40.369999999999997,1,{"$error":"#N/A"},0.2,0.8,{"$error":"#N/A"},41.87,{"$error":"#N/A"},{"$error":"#N/A"},false,false,true,false,true,{"$error":"#N/A"},41.87,{"$error":"#N/A"},41.87,false,true,true,false,false,41.87,{"$error":"#N/A"},41.87,{"$error":"#N/A"}]
[453,{"$f":"OFFSET(InputPriceData!B$15,CalculationsAndCharts!$A485+$A$11,0,1,1)","v":"2012-01-24"},{"$f":"OFFSET(InputPriceData!G$15,CalculationsAndCharts!$A485+$A$11,0,1,1)","v":2633100},{"$f":"OFFSET(InputPriceData!C$15,CalculationsAndCharts!$A485+$A$11,IF($C$7,7,0),1,1)","v":41.28},{"$f":"OFFSET(InputPriceData!D$15,CalculationsAndCharts!$A485+$A$11,IF($C$7,7,0),1,1)","v":41.98},{"$f":"OFFSET(InputPriceData!E$15,CalculationsAndCharts!$A485+$A$11,IF($C$7,7,0),1,1)","v":41.27},{"$f":"OFFSET(InputPriceData!F$15,CalculationsAndCharts!$A485+$A$11,IF($C$7,7,0),1,1)","v":41.82},{"$error":"#N/A"},{"$error":"#N/A"},{"$error":"#N/A"},41.302355659784723,41.302355659784723,0.49381953946320412,7.1026587283831974E-2,0.15020912242184647,-0.70499408277593623,0.90741085316711134,0.8079037257306847,null,41.82,40.369999999999997,1,{"$error":"#N/A"},0.2,0.8,{"$error":"#N/A"},{"$error":"#N/A"},{"$error":"#N/A"},0.8079037257306847,false,false,true,true,false,{"$error":"#N/A"},{"$error":"#N/A"},{"$error":"#N/A"},{"$error":"#N/A"},true,false,false,false,false,{"$error":"#N/A"},{"$error":"#N/A"},{"$error":"#N/A"},{"$error":"#N/A"}]
[454,{"$f":"OFFSET(InputPriceData!B$15,CalculationsAndCharts!$A486+$A$11,0,1,1)","v":"2012-01-23"},{"$f":"OFFSET(InputPriceData!G$15,CalculationsAndCharts!$A486+$A$11,0,1,1)","v":2078900},{"$f":"OFFSET(InputPriceData!C$15,CalculationsAndCharts!$A486+$A$11,IF($C$7,7,0),1,1)","v":41.45},{"$f":"OFFSET(InputPriceData!D$15,CalculationsAndCharts!$A486+$A$11,IF($C$7,7,0),1,1)","v":41.58},{"$f":"OFFSET(InputPriceData!E$15,CalculationsAndCharts!$A486+$A$11,IF($C$7,7,0),1,1)","v":41.22},{"$f":"OFFSET(InputPriceData!F$15,CalculationsAndCharts!$A486+$A$11,IF($C$7,7,0),1,1)","v":41.29},{"$error":"#N/A"},{"$error":"#N/A"},{"$error":"#N/A"},41.210742666802346,41.210742666802346,4.3872432050778426E-2,1.6911893350368058E-2,0.15020912242184647,-0.70499408277593623,0.84413385232735316,0.68949056996339442,null,41.48,40.369999999999997,0.8288288288288308,{"$error":"#N/A"},0.2,0.8,{"$error":"#N/A"},{"$error":"#N/A"},{"$error":"#N/A"},{"$error":"#N/A"},false,false,true,false,false,{"$error":"#N/A"},{"$error":"#N/A"},{"$error":"#N/A"},{"$error":"#N/A"},false,false,false,false,false,{"$error":"#N/A"},{"$error":"#N/A"},{"$error":"#N/A"},{"$error":"#N/A"}]
[455,{"$f":"OFFSET(InputPriceData!B$15,CalculationsAndCharts!$A487+$A$11,0,1,1)","v":"2012-01-20"},{"$f":"OFFSET(InputPriceData!G$15,CalculationsAndCharts!$A487+$A$11,0,1,1)","v":1575700},{"$f":"OFFSET(InputPriceData!C$15,CalculationsAndCharts!$A487+$A$11,IF($C$7,7,0),1,1)","v":41.12},{"$f":"OFFSET(InputPriceData!D$15,CalculationsAndCharts!$A487+$A$11,IF($C$7,7,0),1,1)","v":41.25},{"$f":"OFFSET(InputPriceData!E$15,CalculationsAndCharts!$A487+$A$11,IF($C$7,7,0),1,1)","v":40.71},{"$f":"OFFSET(InputPriceData!F$15,CalculationsAndCharts!$A487+$A$11,IF($C$7,7,0),1,1)","v":40.96},{"$error":"#N/A"},{"$error":"#N/A"},{"$error":"#N/A"},41.199876162418221,41.199876162418221,-0.27822593494603709,4.0395424915868158E-2,0.15020912242184647,-0.70499408277593623,0.87159344488122936,0.51623663686613064,null,41.48,40.369999999999997,0.53153153153153487,{"$error":"#N/A"},0.2,0.8,{"$error":"#N/A"},{"$error":"#N/A"},{"$error":"#N/A"},{"$error":"#N/A"},false,false,true,false,false,{"$error":"#N/A"},{"$error":"#N/A"},{"$error":"#N/A"},{"$error":"#N/A"},false,false,false,false,false,{"$error":"#N/A"},{"$error":"#N/A"},{"$error":"#N/A"},{"$error":"#N/A"}]
[456,{"$f":"OFFSET(InputPriceData!B$15,CalculationsAndCharts!$A488+$A$11,0,1,1)","v":"2012-01-19"},{"$f":"OFFSET(InputPriceData!G$15,CalculationsAndCharts!$A488+$A$11,0,1,1)","v":1581300},{"$f":"OFFSET(InputPriceData!C$15,CalculationsAndCharts!$A488+$A$11,IF($C$7,7,0),1,1)","v":41.63},{"$f":"OFFSET(InputPriceData!D$15,CalculationsAndCharts!$A488+$A$11,IF($C$7,7,0),1,1)","v":41.67},{"$f":"OFFSET(InputPriceData!E$15,CalculationsAndCharts!$A488+$A$11,IF($C$7,7,0),1,1)","v":40.99},{"$f":"OFFSET(InputPriceData!F$15,CalculationsAndCharts!$A488+$A$11,IF($C$7,7,0),1,1)","v":41.22},{"$error":"#N/A"},{"$error":"#N/A"},{"$error":"#N/A"},41.127372951094188,41.127372951094188,-1.4610065828331464E-2,5.1290380061796981E-4,0.15020912242184647,{"$f":"MIN(OFFSET(N488,0,0,$A$22,1))","v":-0.70499408277593623},0.82495830498365785,0.30525457643721521,null,41.48,40.369999999999997,0.76576576576576749,{"$error":"#N/A"},0.2,0.8,{"$error":"#N/A"},{"$error":"#N/A"},{"$error":"#N/A"},{"$error":"#N/A"},false,false,true,false,false,{"$error":"#N/A"},{"$error":"#N/A"},{"$error":"#N/A"},{"$error":"#N/A"},false,false,false,false,false,{"$error":"#N/A"},{"$error":"#N/A"},{"$error":"#N/A"},{"$error":"#N/A"}]
[457,{"$f":"OFFSET(InputPriceData!B$15,CalculationsAndCharts!$A489+$A$11,0,1,1)","v":"2012-01-18"},{"$f":"OFFSET(InputPriceData!G$15,CalculationsAndCharts!$A489+$A$11,0,1,1)","v":1396000},{"$f":"OFFSET(InputPriceData!C$15,CalculationsAndCharts!$A489+$A$11,IF($C$7,7,0),1,1)","v":41.24},{"$f":"OFFSET(InputPriceData!D$15,CalculationsAndCharts!$A489+$A$11,IF($C$7,7,0),1,1)","v":41.5},{"$f":"OFFSET(InputPriceData!E$15,CalculationsAndCharts!$A489+$A$11,IF($C$7,7,0),1,1)","v":40.86},{"$f":"OFFSET(InputPriceData!F$15,CalculationsAndCharts!$A489+$A$11,IF($C$7,7,0),1,1)","v":41.43},{"$error":"#N/A"},{"$error":"#N/A"},{"$error":"#N/A"},40.928091701524536,40.928091701524536,0.24785509996929603,-0.18688465130046111,0.29474654815929452,-0.70499408277593623,0.51824384789762667,0.12649224297988135,null,41.48,40.369999999999997,0.95495495495495752,{"$error":"#N/A"},0.2,0.8,{"$error":"#N/A"},{"$error":"#N/A"},{"$error":"#N/A"},{"$error":"#N/A"},false,false,true,false,false,{"$error":"#N/A"},{"$error":"#N/A"},{"$error":"#N/A"},{"$error":"#N/A"},false,false,false,false,false,{"$error":"#N/A"},{"$error":"#N/A"},{"$error":"#N/A"},{"$error":"#N/A"}]
[458,{"$f":"OFFSET(InputPriceData!B$15,CalculationsAndCharts!$A490+$A$11,0,1,1)","v":"2012-01-17"},{"$f":"OFFSET(InputPriceData!G$15,CalculationsAndCharts!$A490+$A$11,0,1,1)","v":1305400},{"$f":"OFFSET(InputPriceData!C$15,CalculationsAndCharts!$A490+$A$11,IF($C$7,7,0),1,1)","v":41.18},{"$f":"OFFSET(InputPriceData!D$15,CalculationsAndCharts!$A490+$A$11,IF($C$7,7,0),1,1)","v":41.79},{"$f":"OFFSET(InputPriceData!E$15,CalculationsAndCharts!$A490+$A$11,IF($C$7,7,0),1,1)","v":41.18},{"$f":"OFFSET(InputPriceData!F$15,CalculationsAndCharts!$A490+$A$11,IF($C$7,7,0),1,1)","v":41.38},{"$error":"#N/A"},{"$error":"#N/A"},{"$error":"#N/A"},40.687851704198366,40.687851704198366,0.27557218211040313,-0.45571576438540912,0.49547700665358485,-0.70499408277593623,0.20765041372965284,2.7351738770767461E-2,null,41.48,40.369999999999997,0.90990990990991494,{"$error":"#N/A"},0.2,0.8,{"$error":"#N/A"},{"$error":"#N/A"},{"$error":"#N/A"},{"$error":"#N/A"},false,false,true,false,false,{"$error":"#N/A"},{"$error":"#N/A"},{"$error":"#N/A"},{"$error":"#N/A"},false,false,false,false,false,{"$error":"#N/A"},{"$error":"#N/A"},{"$error":"#N/A"},{"$error":"#N/A"}]
[459,{"$f":"OFFSET(InputPriceData!B$15,CalculationsAndCharts!$A491+$A$11,0,1,1)","v":"2012-01-13"},{"$f":"OFFSET(InputPriceData!G$15,CalculationsAndCharts!$A491+$A$11,0,1,1)","v":1450400},{"$f":"OFFSET(InputPriceData!C$15,CalculationsAndCharts!$A491+$A$11,IF($C$7,7,0),1,1)","v":40.159999999999997},{"$f":"OFFSET(InputPriceData!D$15,CalculationsAndCharts!$A491+$A$11,IF($C$7,7,0),1,1)","v":41},{"$f":"OFFSET(InputPriceData!E$15,CalculationsAndCharts!$A491+$A$11,IF($C$7,7,0),1,1)","v":39.83},{"$f":"OFFSET(InputPriceData!F$15,CalculationsAndCharts!$A491+$A$11,IF($C$7,7,0),1,1)","v":41},{"$error":"#N/A"},{"$error":"#N/A"},{"$error":"#N/A"},40.545121144359925,40.545121144359925,-5.6488826086430133E-2,-0.667787974565205,0.61615769535676013,-0.70499408277593623,2.8161872713306255E-2,-7.1477418624688246E-3,null,41.48,40.369999999999997,0.56756756756757021,{"$error":"#N/A"},0.2,0.8,{"$error":"#N/A"},{"$error":"#N/A"},{"$error":"#N/A"},{"$error":"#N/A"},false,false,true,false,false,{"$error":"#N/A"},{"$error":"#N/A"},{"$error":"#N/A"},{"$error":"#N/A"},false,false,false,false,false,{"$error":"#N/A"},{"$error":"#N/A"},{"$error":"#N/A"},{"$error":"#N/A"}]
[460,{"$f":"OFFSET(InputPriceData!B$15,CalculationsAndCharts!$A492+$A$11,0,1,1)","v":"2012-01-12"},{"$f":"OFFSET(InputPriceData!G$15,CalculationsAndCharts!$A492+$A$11,0,1,1)","v":995400},{"$f":"OFFSET(InputPriceData!C$15,CalculationsAndCharts!$A492+$A$11,IF($C$7,7,0),1,1)","v":40.44},{"$f":"OFFSET(InputPriceData!D$15,CalculationsAndCharts!$A492+$A$11,IF($C$7,7,0),1,1)","v":40.549999999999997},{"$f":"OFFSET(InputPriceData!E$15,CalculationsAndCharts!$A492+$A$11,IF($C$7,7,0),1,1)","v":40.020000000000003},{"$f":"OFFSET(InputPriceData!F$15,CalculationsAndCharts!$A492+$A$11,IF($C$7,7,0),1,1)","v":40.369999999999997},{"$error":"#N/A"},{"$error":"#N/A"},{"$error":"#N/A"},40.594990226024549,40.594990226024549,-0.73050731336417285,-0.70499408277593623,0.64583347736601704,-0.70499408277593623,0,-1.4062328701065724E-2,null,41.48,40.369999999999997,0,{"$error":"#N/A"},0.2,0.8,{"$error":"#N/A"},{"$error":"#N/A"},{"$error":"#N/A"},{"$error":"#N/A"},false,false,true,false,false,{"$error":"#N/A"},{"$error":"#N/A"},{"$error":"#N/A"},{"$error":"#N/A"},false,false,false,false,false,{"$error":"#N/A"},{"$error":"#N/A"},{"$error":"#N/A"},{"$error":"#N/A"}]
[461,{"$f":"OFFSET(InputPriceData!B$15,CalculationsAndCharts!$A493+$A$11,0,1,1)","v":"2012-01-11"},{"$f":"OFFSET(InputPriceData!G$15,CalculationsAndCharts!$A493+$A$11,0,1,1)","v":1132500},{"$f":"OFFSET(InputPriceData!C$15,CalculationsAndCharts!$A493+$A$11,IF($C$7,7,0),1,1)","v":40.51},{"$f":"OFFSET(InputPriceData!D$15,CalculationsAndCharts!$A493+$A$11,IF($C$7,7,0),1,1)","v":40.69},{"$f":"OFFSET(InputPriceData!E$15,CalculationsAndCharts!$A493+$A$11,IF($C$7,7,0),1,1)","v":40.32},{"$f":"OFFSET(InputPriceData!F$15,CalculationsAndCharts!$A493+$A$11,IF($C$7,7,0),1,1)","v":40.409999999999997},{"$error":"#N/A"},{"$f":"IF($A493=$E$25,I$32,NA())","v":{"$error":"#N/A"}},{"$error":"#N/A"},40.771635968009718,40.771635968009718,-0.79825699796614003,-0.60374225829216088,0.64583347736601704,-0.60374225829216088,0,-1.3553052047212653E-2,null,41.48,40.409999999999997,0,{"$error":"#N/A"},0.2,0.8,{"$error":"#N/A"},{"$error":"#N/A"},{"$error":"#N/A"},{"$error":"#N/A"},false,false,true,false,false,{"$error":"#N/A"},{"$error":"#N/A"},{"$error":"#N/A"},{"$error":"#N/A"},false,false,false,false,false,{"$error":"#N/A"},{"$error":"#N/A"},{"$error":"#N/A"},{"$error":"#N/A"}]
[462,{"$f":"OFFSET(InputPriceData!B$15,CalculationsAndCharts!$A494+$A$11,0,1,1)","v":"2012-01-10"},{"$f":"OFFSET(InputPriceData!G$15,CalculationsAndCharts!$A494+$A$11,0,1,1)","v":1882900},{"$f":"OFFSET(InputPriceData!C$15,CalculationsAndCharts!$A494+$A$11,IF($C$7,7,0),1,1)","v":40.950000000000003},{"$f":"OFFSET(InputPriceData!D$15,CalculationsAndCharts!$A494+$A$11,IF($C$7,7,0),1,1)","v":41.08},{"$f":"OFFSET(InputPriceData!E$15,CalculationsAndCharts!$A494+$A$11,IF($C$7,7,0),1,1)","v":40.43},{"$f":"OFFSET(InputPriceData!F$15,CalculationsAndCharts!$A494+$A$11,IF($C$7,7,0),1,1)","v":40.5},{"$error":"#N/A"},{"$error":"#N/A"},{"$error":"#N/A"},40.966240864214726,40.966240864214726,-0.81730276873341767,-0.45643183785801728,0.64583347736601704,-0.45643183785801728,0,-3.9735059133568333E-3,null,41.48,40.47,2.9702970297030888E-2,{"$error":"#N/A"},0.2,0.8,{"$error":"#N/A"},{"$error":"#N/A"},{"$error":"#N/A"},{"$error":"#N/A"},false,false,true,false,false,{"$error":"#N/A"},{"$error":"#N/A"},{"$error":"#N/A"},{"$error":"#N/A"},false,false,false,false,false,{"$error":"#N/A"},{"$error":"#N/A"},{"$error":"#N/A"},{"$error":"#N/A"}]
[463,{"$f":"OFFSET(InputPriceData!B$15,CalculationsAndCharts!$A495+$A$11,0,1,1)","v":"2012-01-09"},{"$f":"OFFSET(InputPriceData!G$15,CalculationsAndCharts!$A495+$A$11,0,1,1)","v":1143400},{"$f":"OFFSET(InputPriceData!C$15,CalculationsAndCharts!$A495+$A$11,IF($C$7,7,0),1,1)","v":41.04},{"$f":"OFFSET(InputPriceData!D$15,CalculationsAndCharts!$A495+$A$11,IF($C$7,7,0),1,1)","v":41.04},{"$f":"OFFSET(InputPriceData!E$15,CalculationsAndCharts!$A495+$A$11,IF($C$7,7,0),1,1)","v":40.36},{"$f":"OFFSET(InputPriceData!F$15,CalculationsAndCharts!$A495+$A$11,IF($C$7,7,0),1,1)","v":40.85},{"$error":"#N/A"},{"$error":"#N/A"},{"$error":"#N/A"},41.124744273724836,41.124744273724836,-0.54665860900234198,-0.31451010068813856,0.64583347736601704,-0.31451010068813856,0,2.1763129521434242E-2,null,41.48,40.44,0.3942307692307731,{"$error":"#N/A"},0.2,0.8,{"$error":"#N/A"},{"$error":"#N/A"},{"$error":"#N/A"},{"$error":"#N/A"},false,false,true,false,false,{"$error":"#N/A"},{"$error":"#N/A"},{"$error":"#N/A"},{"$error":"#N/A"},false,false,false,false,false,{"$error":"#N/A"},{"$error":"#N/A"},{"$error":"#N/A"},{"$error":"#N/A"}]
[464,{"$f":"OFFSET(InputPriceData!B$15,CalculationsAndCharts!$A496+$A$11,0,1,1)","v":"2012-01-06"},{"$f":"OFFSET(InputPriceData!G$15,CalculationsAndCharts!$A496+$A$11,0,1,1)","v":2411900},{"$f":"OFFSET(InputPriceData!C$15,CalculationsAndCharts!$A496+$A$11,IF($C$7,7,0),1,1)","v":41.22},{"$f":"OFFSET(InputPriceData!D$15,CalculationsAndCharts!$A496+$A$11,IF($C$7,7,0),1,1)","v":41.26},{"$f":"OFFSET(InputPriceData!E$15,CalculationsAndCharts!$A496+$A$11,IF($C$7,7,0),1,1)","v":40.56},{"$f":"OFFSET(InputPriceData!F$15,CalculationsAndCharts!$A496+$A$11,IF($C$7,7,0),1,1)","v":40.869999999999997},{"$error":"#N/A"},{"$error":"#N/A"},{"$error":"#N/A"},41.233321288219969,41.233321288219969,-0.57856717097740507,-0.19561280685803661,0.64583347736601704,-0.19561280685803661,0,7.0943311521529009E-2,null,41.48,39.99,0.59060402684563651,{"$error":"#N/A"},0.2,0.8,41.22,{"$error":"#N/A"},{"$error":"#N/A"},{"$error":"#N/A"},false,true,true,false,false,41.22,{"$error":"#N/A"},41.22,{"$error":"#N/A"},false,false,false,false,true,{"$error":"#N/A"},41.22,{"$error":"#N/A"},41.22]
[465,{"$f":"OFFSET(InputPriceData!B$15,CalculationsAndCharts!$A497+$A$11,0,1,1)","v":"2012-01-05"},{"$f":"OFFSET(InputPriceData!G$15,CalculationsAndCharts!$A497+$A$11,0,1,1)","v":1265100},{"$f":"OFFSET(InputPriceData!C$15,CalculationsAndCharts!$A497+$A$11,IF($C$7,7,0),1,1)","v":41.26},{"$f":"OFFSET(InputPriceData!D$15,CalculationsAndCharts!$A497+$A$11,IF($C$7,7,0),1,1)","v":41.4},{"$f":"OFFSET(InputPriceData!E$15,CalculationsAndCharts!$A497+$A$11,IF($C$7,7,0),1,1)","v":41.01},{"$f":"OFFSET(InputPriceData!F$15,CalculationsAndCharts!$A497+$A$11,IF($C$7,7,0),1,1)","v":41.36},{"$error":"#N/A"},{"$error":"#N/A"},{"$error":"#N/A"},41.267545441409823,41.267545441409823,-9.4768637660845922E-2,-0.13240613738115092,0.64583347736601704,-0.13240613738115092,0,0.14685438132991402,null,41.48,39.47,0.94029850746268773,{"$error":"#N/A"},0.2,0.8,{"$error":"#N/A"},{"$error":"#N/A"},0.14685438132991402,{"$error":"#N/A"},true,false,false,false,false,{"$error":"#N/A"},{"$error":"#N/A"},{"$error":"#N/A"},{"$error":"#N/A"},false,false,true,true,false,{"$error":"#N/A"},{"$error":"#N/A"},{"$error":"#N/A"},{"$error":"#N/A"}]
[466,{"$f":"OFFSET(InputPriceData!B$15,CalculationsAndCharts!$A498+$A$11,0,1,1)","v":"2012-01-04"},{"$f":"OFFSET(InputPriceData!G$15,CalculationsAndCharts!$A498+$A$11,0,1,1)","v":1381600},{"$f":"OFFSET(InputPriceData!C$15,CalculationsAndCharts!$A498+$A$11,IF($C$7,7,0),1,1)","v":40.909999999999997},{"$f":"OFFSET(InputPriceData!D$15,CalculationsAndCharts!$A498+$A$11,IF($C$7,7,0),1,1)","v":41.5},{"$f":"OFFSET(InputPriceData!E$15,CalculationsAndCharts!$A498+$A$11,IF($C$7,7,0),1,1)","v":40.909999999999997},{"$f":"OFFSET(InputPriceData!F$15,CalculationsAndCharts!$A498+$A$11,IF($C$7,7,0),1,1)","v":41.36},{"$error":"#N/A"},{"$error":"#N/A"},{"$error":"#N/A"},41.256870739813905,41.256870739813905,-5.0290385743918559E-2,-0.10444373218279024,0.64583347736601704,-0.12426103015082823,2.5733592143045516E-2,0.24103726051888363,null,41.48,39.47,0.94029850746268773,{"$error":"#N/A"},0.2,0.8,{"$error":"#N/A"},{"$error":"#N/A"},{"$error":"#N/A"},{"$error":"#N/A"},false,false,false,false,false,{"$error":"#N/A"},{"$error":"#N/A"},{"$error":"#N/A"},{"$error":"#N/A"},false,false,true,false,false,{"$error":"#N/A"},{"$error":"#N/A"},{"$error":"#N/A"},{"$error":"#N/A"}]
[467,{"$f":"OFFSET(InputPriceData!B$15,CalculationsAndCharts!$A499+$A$11,0,1,1)","v":"2012-01-03"},{"$f":"OFFSET(InputPriceData!G$15,CalculationsAndCharts!$A499+$A$11,0,1,1)","v":1162500},{"$f":"OFFSET(InputPriceData!C$15,CalculationsAndCharts!$A499+$A$11,IF($C$7,7,0),1,1)","v":41.52},{"$f":"OFFSET(InputPriceData!D$15,CalculationsAndCharts!$A499+$A$11,IF($C$7,7,0),1,1)","v":41.57},{"$f":"OFFSET(InputPriceData!E$15,CalculationsAndCharts!$A499+$A$11,IF($C$7,7,0),1,1)","v":40.97},{"$f":"OFFSET(InputPriceData!F$15,CalculationsAndCharts!$A499+$A$11,IF($C$7,7,0),1,1)","v":41.08},{"$error":"#N/A"},{"$error":"#N/A"},{"$error":"#N/A"},41.294388572715022,41.294388572715022,-0.30413059125354996,-1.6815844084298412E-2,0.64583347736601704,-0.12426103015082823,0.13952207815763384,0.3295985177356921,null,41.48,39.47,0.80099502487562235,{"$error":"#N/A"},0.2,0.8,{"$error":"#N/A"},{"$error":"#N/A"},{"$error":"#N/A"},{"$error":"#N/A"},false,false,false,false,false,{"$error":"#N/A"},{"$error":"#N/A"},{"$error":"#N/A"},{"$error":"#N/A"},false,false,true,false,false,{"$error":"#N/A"},{"$error":"#N/A"},{"$error":"#N/A"},{"$error":"#N/A"}]
[468,{"$f":"OFFSET(InputPriceData!B$15,CalculationsAndCharts!$A500+$A$11,0,1,1)","v":"2011-12-30"},{"$f":"OFFSET(InputPriceData!G$15,CalculationsAndCharts!$A500+$A$11,0,1,1)","v":563600},{"$f":"OFFSET(InputPriceData!C$15,CalculationsAndCharts!$A500+$A$11,IF($C$7,7,0),1,1)","v":41.22},{"$f":"OFFSET(InputPriceData!D$15,CalculationsAndCharts!$A500+$A$11,IF($C$7,7,0),1,1)","v":41.48},{"$f":"OFFSET(InputPriceData!E$15,CalculationsAndCharts!$A500+$A$11,IF($C$7,7,0),1,1)","v":41.1},{"$f":"OFFSET(InputPriceData!F$15,CalculationsAndCharts!$A500+$A$11,IF($C$7,7,0),1,1)","v":41.14},{"$error":"#N/A"},{"$error":"#N/A"},{"$error":"#N/A"},41.33982412143326,41.33982412143326,-0.23297825401690542,9.7521127144398576E-2,0.64583347736601704,-0.12426103015082823,0.28799342824864321,0.39292098446830859,null,41.48,39.47,0.83084577114428027,{"$error":"#N/A"},0.2,0.8,{"$error":"#N/A"},{"$error":"#N/A"},{"$error":"#N/A"},{"$error":"#N/A"},false,false,false,false,false,{"$error":"#N/A"},{"$error":"#N/A"},{"$error":"#N/A"},{"$error":"#N/A"},false,false,true,false,false,{"$error":"#N/A"},{"$error":"#N/A"},{"$error":"#N/A"},{"$error":"#N/A"}]
[469,{"$f":"OFFSET(InputPriceData!B$15,CalculationsAndCharts!$A501+$A$11,0,1,1)","v":"2011-12-29"},{"$f":"OFFSET(InputPriceData!G$15,CalculationsAndCharts!$A501+$A$11,0,1,1)","v":1020900},{"$f":"OFFSET(InputPriceData!C$15,CalculationsAndCharts!$A501+$A$11,IF($C$7,7,0),1,1)","v":41.56},{"$f":"OFFSET(InputPriceData!D$15,CalculationsAndCharts!$A501+$A$11,IF($C$7,7,0),1,1)","v":41.75},{"$f":"OFFSET(InputPriceData!E$15,CalculationsAndCharts!$A501+$A$11,IF($C$7,7,0),1,1)","v":41.1},{"$f":"OFFSET(InputPriceData!F$15,CalculationsAndCharts!$A501+$A$11,IF($C$7,7,0),1,1)","v":41.32},{"$error":"#N/A"},{"$error":"#N/A"},{"$error":"#N/A"},41.308846395119545,41.308846395119545,-1.3202891248756954E-2,0.15020912242184647,0.64583347736601704,-0.12426103015082823,0.35641099877169408,0.43661200469377093,null,41.48,39.47,0.92039800995025034,{"$error":"#N/A"},0.2,0.8,{"$error":"#N/A"},{"$error":"#N/A"},{"$error":"#N/A"},{"$error":"#N/A"},false,false,false,false,false,{"$error":"#N/A"},{"$error":"#N/A"},{"$error":"#N/A"},{"$error":"#N/A"},false,false,true,false,false,{"$error":"#N/A"},{"$error":"#N/A"},{"$error":"#N/A"},{"$error":"#N/A"}]
[470,{"$f":"OFFSET(InputPriceData!B$15,CalculationsAndCharts!$A502+$A$11,0,1,1)","v":"2011-12-28"},{"$f":"OFFSET(InputPriceData!G$15,CalculationsAndCharts!$A502+$A$11,0,1,1)","v":1550200},{"$f":"OFFSET(InputPriceData!C$15,CalculationsAndCharts!$A502+$A$11,IF($C$7,7,0),1,1)","v":41.53},{"$f":"OFFSET(InputPriceData!D$15,CalculationsAndCharts!$A502+$A$11,IF($C$7,7,0),1,1)","v":41.63},{"$f":"OFFSET(InputPriceData!E$15,CalculationsAndCharts!$A502+$A$11,IF($C$7,7,0),1,1)","v":41.35},{"$f":"OFFSET(InputPriceData!F$15,CalculationsAndCharts!$A502+$A$11,IF($C$7,7,0),1,1)","v":41.45},{"$error":"#N/A"},{"$error":"#N/A"},{"$error":"#N/A"},41.185002501137205,41.185002501137205,0.19648046684074411,0.1101071919199211,0.64583347736601704,-0.26316889066575361,0.41064368555377434,0.47242531293558654,null,41.48,39.47,0.9850746268656746,{"$error":"#N/A"},0.2,0.8,{"$error":"#N/A"},{"$error":"#N/A"},{"$error":"#N/A"},{"$error":"#N/A"},false,false,false,false,false,{"$error":"#N/A"},{"$error":"#N/A"},{"$error":"#N/A"},{"$error":"#N/A"},false,false,true,false,false,{"$error":"#N/A"},{"$error":"#N/A"},{"$error":"#N/A"},{"$error":"#N/A"}]
[471,{"$f":"OFFSET(InputPriceData!B$15,CalculationsAndCharts!$A503+$A$11,0,1,1)","v":"2011-12-27"},{"$f":"OFFSET(InputPriceData!G$15,CalculationsAndCharts!$A503+$A$11,0,1,1)","v":1678100},{"$f":"OFFSET(InputPriceData!C$15,CalculationsAndCharts!$A503+$A$11,IF($C$7,7,0),1,1)","v":41.26},{"$f":"OFFSET(InputPriceData!D$15,CalculationsAndCharts!$A503+$A$11,IF($C$7,7,0),1,1)","v":41.67},{"$f":"OFFSET(InputPriceData!E$15,CalculationsAndCharts!$A503+$A$11,IF($C$7,7,0),1,1)","v":40.82},{"$f":"OFFSET(InputPriceData!F$15,CalculationsAndCharts!$A503+$A$11,IF($C$7,7,0),1,1)","v":41.48},{"$error":"#N/A"},{"$error":"#N/A"},{"$error":"#N/A"},41.006986044067773,41.006986044067773,0.33706593616511105,1.2393403177366827E-3,0.64583347736601704,-0.67428704372162906,0.51171569053619448,0.50478667385877829,null,41.48,39.47,1,{"$error":"#N/A"},0.2,0.8,{"$error":"#N/A"},{"$error":"#N/A"},{"$error":"#N/A"},{"$error":"#N/A"},false,false,false,false,false,{"$error":"#N/A"},{"$error":"#N/A"},{"$error":"#N/A"},{"$error":"#N/A"},false,false,true,false,false,{"$error":"#N/A"},{"$error":"#N/A"},{"$error":"#N/A"},{"$error":"#N/A"}]
[472,{"$f":"OFFSET(InputPriceData!B$15,CalculationsAndCharts!$A504+$A$11,0,1,1)","v":"2011-12-23"},{"$f":"OFFSET(InputPriceData!G$15,CalculationsAndCharts!$A504+$A$11,0,1,1)","v":862900},{"$f":"OFFSET(InputPriceData!C$15,CalculationsAndCharts!$A504+$A$11,IF($C$7,7,0),1,1)","v":41.09},{"$f":"OFFSET(InputPriceData!D$15,CalculationsAndCharts!$A504+$A$11,IF($C$7,7,0),1,1)","v":41.25},{"$f":"OFFSET(InputPriceData!E$15,CalculationsAndCharts!$A504+$A$11,IF($C$7,7,0),1,1)","v":40.880000000000003},{"$f":"OFFSET(InputPriceData!F$15,CalculationsAndCharts!$A504+$A$11,IF($C$7,7,0),1,1)","v":41.22},{"$error":"#N/A"},{"$error":"#N/A"},{"$error":"#N/A"},40.856055853811867,40.856055853811867,0.18425750025599008,-0.10003047682496836,0.64583347736601704,-0.78985011673344396,0.48048166235483669,0.55662984439078156,null,41.45,38.700000000000003,0.91636363636363494,{"$error":"#N/A"},0.2,0.8,{"$error":"#N/A"},{"$error":"#N/A"},{"$error":"#N/A"},{"$error":"#N/A"},false,false,false,false,false,{"$error":"#N/A"},{"$error":"#N/A"},{"$error":"#N/A"},{"$error":"#N/A"},false,false,true,false,false,{"$error":"#N/A"},{"$error":"#N/A"},{"$error":"#N/A"},{"$error":"#N/A"}]
[473,{"$f":"OFFSET(InputPriceData!B$15,CalculationsAndCharts!$A505+$A$11,0,1,1)","v":"2011-12-22"},{"$f":"OFFSET(InputPriceData!G$15,CalculationsAndCharts!$A505+$A$11,0,1,1)","v":2220700},{"$f":"OFFSET(InputPriceData!C$15,CalculationsAndCharts!$A505+$A$11,IF($C$7,7,0),1,1)","v":40.83},{"$f":"OFFSET(InputPriceData!D$15,CalculationsAndCharts!$A505+$A$11,IF($C$7,7,0),1,1)","v":41.27},{"$f":"OFFSET(InputPriceData!E$15,CalculationsAndCharts!$A505+$A$11,IF($C$7,7,0),1,1)","v":40.5},{"$f":"OFFSET(InputPriceData!F$15,CalculationsAndCharts!$A505+$A$11,IF($C$7,7,0),1,1)","v":40.950000000000003},{"$error":"#N/A"},{"$error":"#N/A"},{"$error":"#N/A"},40.79309502049729,40.79309502049729,-1.2402307640661147E-2,-0.12426103015082823,0.64583347736601704,-0.78985011673344396,0.46360429924680546,0.64542376697191717,null,41.45,38.32,0.84025559105431324,{"$error":"#N/A"},0.2,0.8,{"$error":"#N/A"},{"$error":"#N/A"},{"$error":"#N/A"},{"$error":"#N/A"},false,false,false,false,false,{"$error":"#N/A"},{"$error":"#N/A"},{"$error":"#N/A"},{"$error":"#N/A"},false,false,true,false,false,{"$error":"#N/A"},{"$error":"#N/A"},{"$error":"#N/A"},{"$error":"#N/A"}]
[474,{"$f":"OFFSET(InputPriceData!B$15,CalculationsAndCharts!$A506+$A$11,0,1,1)","v":"2011-12-21"},{"$f":"OFFSET(InputPriceData!G$15,CalculationsAndCharts!$A506+$A$11,0,1,1)","v":2076000},{"$f":"OFFSET(InputPriceData!C$15,CalculationsAndCharts!$A506+$A$11,IF($C$7,7,0),1,1)","v":40.950000000000003},{"$f":"OFFSET(InputPriceData!D$15,CalculationsAndCharts!$A506+$A$11,IF($C$7,7,0),1,1)","v":41.03},{"$f":"OFFSET(InputPriceData!E$15,CalculationsAndCharts!$A506+$A$11,IF($C$7,7,0),1,1)","v":40.409999999999997},{"$f":"OFFSET(InputPriceData!F$15,CalculationsAndCharts!$A506+$A$11,IF($C$7,7,0),1,1)","v":40.72},{"$error":"#N/A"},{"$error":"#N/A"},{"$error":"#N/A"},40.819670966291369,40.819670966291369,-0.20501587824076811,-5.3811601835324768E-2,0.64583347736601704,-0.78985011673344396,0.51267460178773072,0.75460334838657184,null,41.45,38.32,0.76677316293929609,{"$error":"#N/A"},0.2,0.8,{"$error":"#N/A"},{"$error":"#N/A"},{"$error":"#N/A"},{"$error":"#N/A"},false,false,false,false,false,{"$error":"#N/A"},{"$error":"#N/A"},{"$error":"#N/A"},{"$error":"#N/A"},false,false,true,false,false,{"$error":"#N/A"},{"$error":"#N/A"},{"$error":"#N/A"},{"$error":"#N/A"}]
[475,{"$f":"OFFSET(InputPriceData!B$15,CalculationsAndCharts!$A507+$A$11,0,1,1)","v":"2011-12-20"},{"$f":"OFFSET(InputPriceData!G$15,CalculationsAndCharts!$A507+$A$11,0,1,1)","v":1604300},{"$f":"OFFSET(InputPriceData!C$15,CalculationsAndCharts!$A507+$A$11,IF($C$7,7,0),1,1)","v":40.92},{"$f":"OFFSET(InputPriceData!D$15,CalculationsAndCharts!$A507+$A$11,IF($C$7,7,0),1,1)","v":41.09},{"$f":"OFFSET(InputPriceData!E$15,CalculationsAndCharts!$A507+$A$11,IF($C$7,7,0),1,1)","v":40.6},{"$f":"OFFSET(InputPriceData!F$15,CalculationsAndCharts!$A507+$A$11,IF($C$7,7,0),1,1)","v":40.86},{"$error":"#N/A"},{"$error":"#N/A"},{"$error":"#N/A"},40.893720431712609,40.893720431712609,-2.8118896339529881E-2,8.3687705705769028E-2,0.64583347736601704,-0.78985011673344396,0.60844731111324257,0.85605868830405407,null,41.45,38.32,0.81150159744408856,{"$error":"#N/A"},0.2,0.8,{"$error":"#N/A"},{"$error":"#N/A"},{"$error":"#N/A"},{"$error":"#N/A"},false,false,false,false,false,{"$error":"#N/A"},{"$error":"#N/A"},{"$error":"#N/A"},{"$error":"#N/A"},false,false,true,false,false,{"$error":"#N/A"},{"$error":"#N/A"},{"$error":"#N/A"},{"$error":"#N/A"}]
[476,{"$f":"OFFSET(InputPriceData!B$15,CalculationsAndCharts!$A508+$A$11,0,1,1)","v":"2011-12-19"},{"$f":"OFFSET(InputPriceData!G$15,CalculationsAndCharts!$A508+$A$11,0,1,1)","v":1762500},{"$f":"OFFSET(InputPriceData!C$15,CalculationsAndCharts!$A508+$A$11,IF($C$7,7,0),1,1)","v":41.44},{"$f":"OFFSET(InputPriceData!D$15,CalculationsAndCharts!$A508+$A$11,IF($C$7,7,0),1,1)","v":41.45},{"$f":"OFFSET(InputPriceData!E$15,CalculationsAndCharts!$A508+$A$11,IF($C$7,7,0),1,1)","v":40.24},{"$f":"OFFSET(InputPriceData!F$15,CalculationsAndCharts!$A508+$A$11,IF($C$7,7,0),1,1)","v":40.47},{"$error":"#N/A"},{"$error":"#N/A"},{"$error":"#N/A"},41.009924218653055,41.009924218653055,-0.39764925866688539,0.29474654815929452,0.64583347736601704,-0.78985011673344396,0.75545661268982922,0.92086470749286897,null,41.45,38.32,0.6869009584664526,{"$error":"#N/A"},0.2,0.8,{"$error":"#N/A"},{"$error":"#N/A"},{"$error":"#N/A"},{"$error":"#N/A"},false,false,false,false,false,{"$error":"#N/A"},{"$error":"#N/A"},{"$error":"#N/A"},{"$error":"#N/A"},false,false,true,false,false,{"$error":"#N/A"},{"$error":"#N/A"},{"$error":"#N/A"},{"$error":"#N/A"}]
[477,{"$f":"OFFSET(InputPriceData!B$15,CalculationsAndCharts!$A509+$A$11,0,1,1)","v":"2011-12-16"},{"$f":"OFFSET(InputPriceData!G$15,CalculationsAndCharts!$A509+$A$11,0,1,1)","v":2473400},{"$f":"OFFSET(InputPriceData!C$15,CalculationsAndCharts!$A509+$A$11,IF($C$7,7,0),1,1)","v":40.880000000000003},{"$f":"OFFSET(InputPriceData!D$15,CalculationsAndCharts!$A509+$A$11,IF($C$7,7,0),1,1)","v":41.15},{"$f":"OFFSET(InputPriceData!E$15,CalculationsAndCharts!$A509+$A$11,IF($C$7,7,0),1,1)","v":40.35},{"$f":"OFFSET(InputPriceData!F$15,CalculationsAndCharts!$A509+$A$11,IF($C$7,7,0),1,1)","v":41.02},{"$error":"#N/A"},{"$error":"#N/A"},{"$error":"#N/A"},41.080168811176833,41.080168811176833,0.19481462585785597,0.49547700665358485,0.64583347736601704,-0.78985011673344396,0.89527186120229785,0.93138948020665224,null,41.45,38.32,0.86261980830670948,{"$error":"#N/A"},0.2,0.8,{"$error":"#N/A"},{"$error":"#N/A"},{"$error":"#N/A"},{"$error":"#N/A"},false,false,false,false,false,{"$error":"#N/A"},{"$error":"#N/A"},{"$error":"#N/A"},{"$error":"#N/A"},false,false,true,false,false,{"$error":"#N/A"},{"$error":"#N/A"},{"$error":"#N/A"},{"$error":"#N/A"}]
[478,{"$f":"OFFSET(InputPriceData!B$15,CalculationsAndCharts!$A510+$A$11,0,1,1)","v":"2011-12-15"},{"$f":"OFFSET(InputPriceData!G$15,CalculationsAndCharts!$A510+$A$11,0,1,1)","v":2118800},{"$f":"OFFSET(InputPriceData!C$15,CalculationsAndCharts!$A510+$A$11,IF($C$7,7,0),1,1)","v":41.1},{"$f":"OFFSET(InputPriceData!D$15,CalculationsAndCharts!$A510+$A$11,IF($C$7,7,0),1,1)","v":41.65},{"$f":"OFFSET(InputPriceData!E$15,CalculationsAndCharts!$A510+$A$11,IF($C$7,7,0),1,1)","v":40.71},{"$f":"OFFSET(InputPriceData!F$15,CalculationsAndCharts!$A510+$A$11,IF($C$7,7,0),1,1)","v":40.909999999999997},{"$error":"#N/A"},{"$error":"#N/A"},{"$error":"#N/A"},41.044675110916529,41.044675110916529,0.18044759969651636,0.61615769535676013,0.64583347736601704,-0.78985011673344396,0.97932985921743354,0.89172476610609808,null,41.45,38.32,0.82747603833865624,{"$error":"#N/A"},0.2,0.8,{"$error":"#N/A"},{"$error":"#N/A"},{"$error":"#N/A"},{"$error":"#N/A"},false,false,false,false,false,{"$error":"#N/A"},{"$error":"#N/A"},{"$error":"#N/A"},{"$error":"#N/A"},false,false,true,false,false,{"$error":"#N/A"},{"$error":"#N/A"},{"$error":"#N/A"},{"$error":"#N/A"}]
[479,{"$f":"OFFSET(InputPriceData!B$15,CalculationsAndCharts!$A511+$A$11,0,1,1)","v":"2011-12-14"},{"$f":"OFFSET(InputPriceData!G$15,CalculationsAndCharts!$A511+$A$11,0,1,1)","v":3058400},{"$f":"OFFSET(InputPriceData!C$15,CalculationsAndCharts!$A511+$A$11,IF($C$7,7,0),1,1)","v":41.34},{"$f":"OFFSET(InputPriceData!D$15,CalculationsAndCharts!$A511+$A$11,IF($C$7,7,0),1,1)","v":41.35},{"$f":"OFFSET(InputPriceData!E$15,CalculationsAndCharts!$A511+$A$11,IF($C$7,7,0),1,1)","v":40.31},{"$f":"OFFSET(InputPriceData!F$15,CalculationsAndCharts!$A511+$A$11,IF($C$7,7,0),1,1)","v":40.94},{"$error":"#N/A"},{"$error":"#N/A"},{"$error":"#N/A"},40.909341319603996,40.909341319603996,0.31537841557420443,0.64583347736601704,0.64583347736601704,-0.78985011673344396,1,0.82333657846957187,null,41.45,38.32,0.83706070287539791,{"$error":"#N/A"},0.2,0.8,{"$error":"#N/A"},{"$error":"#N/A"},{"$error":"#N/A"},{"$error":"#N/A"},false,false,false,false,false,{"$error":"#N/A"},{"$error":"#N/A"},{"$error":"#N/A"},{"$error":"#N/A"},true,false,true,false,false,{"$error":"#N/A"},{"$error":"#N/A"},{"$error":"#N/A"},{"$error":"#N/A"}]
[480,{"$f":"OFFSET(InputPriceData!B$15,CalculationsAndCharts!$A512+$A$11,0,1,1)","v":"2011-12-13"},{"$f":"OFFSET(InputPriceData!G$15,CalculationsAndCharts!$A512+$A$11,0,1,1)","v":3610200},{"$f":"OFFSET(InputPriceData!C$15,CalculationsAndCharts!$A512+$A$11,IF($C$7,7,0),1,1)","v":41.87},{"$f":"OFFSET(InputPriceData!D$15,CalculationsAndCharts!$A512+$A$11,IF($C$7,7,0),1,1)","v":42.1},{"$f":"OFFSET(InputPriceData!E$15,CalculationsAndCharts!$A512+$A$11,IF($C$7,7,0),1,1)","v":41.01},{"$f":"OFFSET(InputPriceData!F$15,CalculationsAndCharts!$A512+$A$11,IF($C$7,7,0),1,1)","v":41.45},{"$error":"#N/A"},{"$error":"#N/A"},{"$error":"#N/A"},40.58993640002258,40.58993640002258,1.0025574616109543,0.47308233770751101,0.47308233770751101,-0.78985011673344396,1,0.75942976087869274,null,41.45,38.32,1,{"$error":"#N/A"},0.2,0.8,{"$error":"#N/A"},{"$error":"#N/A"},{"$error":"#N/A"},{"$error":"#N/A"},false,false,false,false,false,{"$error":"#N/A"},{"$error":"#N/A"},{"$error":"#N/A"},{"$error":"#N/A"},false,false,true,false,false,{"$error":"#N/A"},{"$error":"#N/A"},{"$error":"#N/A"},{"$error":"#N/A"}]
[481,{"$f":"OFFSET(InputPriceData!B$15,CalculationsAndCharts!$A513+$A$11,0,1,1)","v":"2011-12-12"},{"$f":"OFFSET(InputPriceData!G$15,CalculationsAndCharts!$A513+$A$11,0,1,1)","v":3907500},{"$f":"OFFSET(InputPriceData!C$15,CalculationsAndCharts!$A513+$A$11,IF($C$7,7,0),1,1)","v":40.39},{"$f":"OFFSET(InputPriceData!D$15,CalculationsAndCharts!$A513+$A$11,IF($C$7,7,0),1,1)","v":41.5},{"$f":"OFFSET(InputPriceData!E$15,CalculationsAndCharts!$A513+$A$11,IF($C$7,7,0),1,1)","v":40},{"$f":"OFFSET(InputPriceData!F$15,CalculationsAndCharts!$A513+$A$11,IF($C$7,7,0),1,1)","v":41.32},{"$error":"#N/A"},{"$f":"IF($A513=$E$25,I$32,NA())","v":{"$error":"#N/A"}},{"$error":"#N/A"},40.185745844706545,40.185745844706545,1.1165663483199273,0.1674705759506501,0.43350017295042653,-0.78985011673344396,0.78254012833190889,0.75211136723821082,null,41.32,38.32,1,{"$error":"#N/A"},0.2,0.8,{"$error":"#N/A"},{"$error":"#N/A"},{"$error":"#N/A"},{"$error":"#N/A"},false,false,false,false,false,{"$error":"#N/A"},{"$error":"#N/A"},{"$error":"#N/A"},{"$error":"#N/A"},false,false,true,false,false,{"$error":"#N/A"},{"$error":"#N/A"},{"$error":"#N/A"},{"$error":"#N/A"}]
[482,{"$f":"OFFSET(InputPriceData!B$15,CalculationsAndCharts!$A514+$A$11,0,1,1)","v":"2011-12-09"},{"$f":"OFFSET(InputPriceData!G$15,CalculationsAndCharts!$A514+$A$11,0,1,1)","v":2451400},{"$f":"OFFSET(InputPriceData!C$15,CalculationsAndCharts!$A514+$A$11,IF($C$7,7,0),1,1)","v":40.33},{"$f":"OFFSET(InputPriceData!D$15,CalculationsAndCharts!$A514+$A$11,IF($C$7,7,0),1,1)","v":40.549999999999997},{"$f":"OFFSET(InputPriceData!E$15,CalculationsAndCharts!$A514+$A$11,IF($C$7,7,0),1,1)","v":40.020000000000003},{"$f":"OFFSET(InputPriceData!F$15,CalculationsAndCharts!$A514+$A$11,IF($C$7,7,0),1,1)","v":40.44},{"$error":"#N/A"},{"$error":"#N/A"},{"$error":"#N/A"},39.94111158098265,39.94111158098265,0.41866368693661316,-2.6530890114567385E-2,0.43350017295042653,-0.78985011673344396,0.62395802171766201,0.81996409243025448,null,40.58,38.32,0.93805309734513243,{"$error":"#N/A"},0.2,0.8,{"$error":"#N/A"},{"$error":"#N/A"},{"$error":"#N/A"},{"$error":"#N/A"},false,false,false,false,false,{"$error":"#N/A"},{"$error":"#N/A"},{"$error":"#N/A"},{"$error":"#N/A"},false,false,true,false,false,{"$error":"#N/A"},{"$error":"#N/A"},{"$error":"#N/A"},{"$error":"#N/A"}]
[483,{"$f":"OFFSET(InputPriceData!B$15,CalculationsAndCharts!$A515+$A$11,0,1,1)","v":"2011-12-08"},{"$f":"OFFSET(InputPriceData!G$15,CalculationsAndCharts!$A515+$A$11,0,1,1)","v":5571300},{"$f":"OFFSET(InputPriceData!C$15,CalculationsAndCharts!$A515+$A$11,IF($C$7,7,0),1,1)","v":39.44},{"$f":"OFFSET(InputPriceData!D$15,CalculationsAndCharts!$A515+$A$11,IF($C$7,7,0),1,1)","v":40.44},{"$f":"OFFSET(InputPriceData!E$15,CalculationsAndCharts!$A515+$A$11,IF($C$7,7,0),1,1)","v":39.44},{"$f":"OFFSET(InputPriceData!F$15,CalculationsAndCharts!$A515+$A$11,IF($C$7,7,0),1,1)","v":39.99},{"$error":"#N/A"},{"$error":"#N/A"},{"$error":"#N/A"},39.924168615280664,39.924168615280664,4.7457064326587195E-2,-9.4512304224012578E-3,0.43350017295042653,-0.78985011673344396,0.63791940288231574,0.9131039000063933,null,40.58,38.32,0.7389380530973465,{"$error":"#N/A"},0.2,0.8,{"$error":"#N/A"},{"$error":"#N/A"},{"$error":"#N/A"},{"$error":"#N/A"},false,false,false,false,false,{"$error":"#N/A"},{"$error":"#N/A"},{"$error":"#N/A"},{"$error":"#N/A"},false,false,true,false,false,{"$error":"#N/A"},{"$error":"#N/A"},{"$error":"#N/A"},{"$error":"#N/A"}]
[484,{"$f":"OFFSET(InputPriceData!B$15,CalculationsAndCharts!$A516+$A$11,0,1,1)","v":"2011-12-07"},{"$f":"OFFSET(InputPriceData!G$15,CalculationsAndCharts!$A516+$A$11,0,1,1)","v":20771500},{"$f":"OFFSET(InputPriceData!C$15,CalculationsAndCharts!$A516+$A$11,IF($C$7,7,0),1,1)","v":39.130000000000003},{"$f":"OFFSET(InputPriceData!D$15,CalculationsAndCharts!$A516+$A$11,IF($C$7,7,0),1,1)","v":39.700000000000003},{"$f":"OFFSET(InputPriceData!E$15,CalculationsAndCharts!$A516+$A$11,IF($C$7,7,0),1,1)","v":38.85},{"$f":"OFFSET(InputPriceData!F$15,CalculationsAndCharts!$A516+$A$11,IF($C$7,7,0),1,1)","v":39.47},{"$error":"#N/A"},{"$error":"#N/A"},{"$error":"#N/A"},40.061968791758758,40.061968791758758,-0.47675522457550557,0.18133068976535704,0.43350017295042653,-0.78985011673344396,0.79386976460337177,0.96589766024216295,null,40.58,38.32,0.50884955752212369,{"$error":"#N/A"},0.2,0.8,{"$error":"#N/A"},{"$error":"#N/A"},{"$error":"#N/A"},{"$error":"#N/A"},false,false,false,false,false,{"$error":"#N/A"},{"$error":"#N/A"},{"$error":"#N/A"},{"$error":"#N/A"},false,false,true,false,false,{"$error":"#N/A"},{"$error":"#N/A"},{"$error":"#N/A"},{"$error":"#N/A"}]
[485,{"$f":"OFFSET(InputPriceData!B$15,CalculationsAndCharts!$A517+$A$11,0,1,1)","v":"2011-12-06"},{"$f":"OFFSET(InputPriceData!G$15,CalculationsAndCharts!$A517+$A$11,0,1,1)","v":4241800},{"$f":"OFFSET(InputPriceData!C$15,CalculationsAndCharts!$A517+$A$11,IF($C$7,7,0),1,1)","v":40.25},{"$f":"OFFSET(InputPriceData!D$15,CalculationsAndCharts!$A517+$A$11,IF($C$7,7,0),1,1)","v":40.5},{"$f":"OFFSET(InputPriceData!E$15,CalculationsAndCharts!$A517+$A$11,IF($C$7,7,0),1,1)","v":39.6},{"$f":"OFFSET(InputPriceData!F$15,CalculationsAndCharts!$A517+$A$11,IF($C$7,7,0),1,1)","v":39.630000000000003},{"$error":"#N/A"},{"$error":"#N/A"},{"$error":"#N/A"},40.192695012973118,40.192695012973118,-0.35558923200015458,0.40147741560029881,0.43350017295042653,-0.80769772334653256,0.97420011954123875,0.94039095012221052,null,40.58,38.32,0.57964601769911661,{"$error":"#N/A"},0.2,0.8,{"$error":"#N/A"},40.25,{"$error":"#N/A"},{"$error":"#N/A"},false,false,true,false,true,{"$error":"#N/A"},40.25,{"$error":"#N/A"},40.25,false,true,true,false,false,40.25,{"$error":"#N/A"},40.25,{"$error":"#N/A"}]
[486,{"$f":"OFFSET(InputPriceData!B$15,CalculationsAndCharts!$A518+$A$11,0,1,1)","v":"2011-12-05"},{"$f":"OFFSET(InputPriceData!G$15,CalculationsAndCharts!$A518+$A$11,0,1,1)","v":3879000},{"$f":"OFFSET(InputPriceData!C$15,CalculationsAndCharts!$A518+$A$11,IF($C$7,7,0),1,1)","v":40.98},{"$f":"OFFSET(InputPriceData!D$15,CalculationsAndCharts!$A518+$A$11,IF($C$7,7,0),1,1)","v":41.25},{"$f":"OFFSET(InputPriceData!E$15,CalculationsAndCharts!$A518+$A$11,IF($C$7,7,0),1,1)","v":40.020000000000003},{"$f":"OFFSET(InputPriceData!F$15,CalculationsAndCharts!$A518+$A$11,IF($C$7,7,0),1,1)","v":40.58},{"$error":"#N/A"},{"$error":"#N/A"},{"$error":"#N/A"},40.114983390266367,40.114983390266367,0.66218373759515803,0.43350017295042653,0.43350017295042653,-0.9310728608557024,1,0.84369081388478773,null,40.58,38.32,1,{"$error":"#N/A"},0.2,0.8,{"$error":"#N/A"},{"$error":"#N/A"},{"$error":"#N/A"},0.84369081388478773,false,false,true,true,{"$f":"AND(AG519,AF519)","v":false},{"$error":"#N/A"},{"$error":"#N/A"},{"$error":"#N/A"},{"$error":"#N/A"},true,{"$f":"AND(AM519,NOT(AO519))","v":false},false,false,false,{"$error":"#N/A"},{"$error":"#N/A"},{"$error":"#N/A"},{"$error":"#N/A"}]
[487,{"$f":"OFFSET(InputPriceData!B$15,CalculationsAndCharts!$A519+$A$11,0,1,1)","v":"2011-12-02"},{"$f":"OFFSET(InputPriceData!G$15,CalculationsAndCharts!$A519+$A$11,0,1,1)","v":1694900},{"$f":"OFFSET(InputPriceData!C$15,CalculationsAndCharts!$A519+$A$11,IF($C$7,7,0),1,1)","v":40.79},{"$f":"OFFSET(InputPriceData!D$15,CalculationsAndCharts!$A519+$A$11,IF($C$7,7,0),1,1)","v":40.79},{"$f":"OFFSET(InputPriceData!E$15,CalculationsAndCharts!$A519+$A$11,IF($C$7,7,0),1,1)","v":39.35},{"$f":"OFFSET(InputPriceData!F$15,CalculationsAndCharts!$A519+$A$11,IF($C$7,7,0),1,1)","v":39.94},{"$error":"#N/A"},{"$error":"#N/A"},{"$error":"#N/A"},39.919895833632538,39.919895833632538,0.13282797145174308,0.33890542864972212,0.33890542864972212,-1.0077694451800749,1,0.69684235791698934,null,40.57,38.32,0.71999999999999886,{"$error":"#N/A"},0.2,0.8,{"$error":"#N/A"},{"$error":"#N/A"},{"$error":"#N/A"},{"$error":"#N/A"},false,false,true,false,false,{"$error":"#N/A"},{"$error":"#N/A"},{"$error":"#N/A"},{"$error":"#N/A"},false,false,false,false,{"$f":"AND(AP520,AO520)","v":false},{"$error":"#N/A"},{"$error":"#N/A"},{"$error":"#N/A"},{"$error":"#N/A"}]
[488,{"$f":"OFFSET(InputPriceData!B$15,CalculationsAndCharts!$A520+$A$11,0,1,1)","v":"2011-12-01"},{"$f":"OFFSET(InputPriceData!G$15,CalculationsAndCharts!$A520+$A$11,0,1,1)","v":1123900},{"$f":"OFFSET(InputPriceData!C$15,CalculationsAndCharts!$A520+$A$11,IF($C$7,7,0),1,1)","v":40.549999999999997},{"$f":"OFFSET(InputPriceData!D$15,CalculationsAndCharts!$A520+$A$11,IF($C$7,7,0),1,1)","v":41.05},{"$f":"OFFSET(InputPriceData!E$15,CalculationsAndCharts!$A520+$A$11,IF($C$7,7,0),1,1)","v":39.99},{"$f":"OFFSET(InputPriceData!F$15,CalculationsAndCharts!$A520+$A$11,IF($C$7,7,0),1,1)","v":40.090000000000003},{"$error":"#N/A"},{"$error":"#N/A"},{"$error":"#N/A"},39.654891612351825,39.654891612351825,0.36299588170432556,0.14497969861786519,0.14497969861786519,-1.0077694451800749,1,0.52638468496399782,null,40.57,38.32,0.78666666666666807,{"$error":"#N/A"},0.2,0.8,{"$error":"#N/A"},{"$error":"#N/A"},{"$error":"#N/A"},{"$error":"#N/A"},false,false,true,false,false,{"$error":"#N/A"},{"$error":"#N/A"},{"$error":"#N/A"},{"$error":"#N/A"},false,false,false,false,false,{"$error":"#N/A"},{"$error":"#N/A"},{"$error":"#N/A"},{"$error":"#N/A"}]
[489,{"$f":"OFFSET(InputPriceData!B$15,CalculationsAndCharts!$A521+$A$11,0,1,1)","v":"2011-11-30"},{"$f":"OFFSET(InputPriceData!G$15,CalculationsAndCharts!$A521+$A$11,0,1,1)","v":1764700},{"$f":"OFFSET(InputPriceData!C$15,CalculationsAndCharts!$A521+$A$11,IF($C$7,7,0),1,1)","v":40.47},{"$f":"OFFSET(InputPriceData!D$15,CalculationsAndCharts!$A521+$A$11,IF($C$7,7,0),1,1)","v":40.6},{"$f":"OFFSET(InputPriceData!E$15,CalculationsAndCharts!$A521+$A$11,IF($C$7,7,0),1,1)","v":39.479999999999997},{"$f":"OFFSET(InputPriceData!F$15,CalculationsAndCharts!$A521+$A$11,IF($C$7,7,0),1,1)","v":40.57},{"$error":"#N/A"},{"$error":"#N/A"},{"$error":"#N/A"},39.232208100223104,39.232208100223104,0.99943785677722607,-0.26316889066575361,-3.9927999456571661E-2,-1.0077694451800749,0.76934146373293633,0.40343442018454678,null,40.57,38.32,1,{"$error":"#N/A"},0.2,0.8,{"$error":"#N/A"},{"$error":"#N/A"},{"$error":"#N/A"},{"$error":"#N/A"},false,false,true,false,false,{"$error":"#N/A"},{"$error":"#N/A"},{"$error":"#N/A"},{"$error":"#N/A"},false,false,false,false,false,{"$error":"#N/A"},{"$error":"#N/A"},{"$error":"#N/A"},{"$error":"#N/A"}]
[490,{"$f":"OFFSET(InputPriceData!B$15,CalculationsAndCharts!$A522+$A$11,0,1,1)","v":"2011-11-29"},{"$f":"OFFSET(InputPriceData!G$15,CalculationsAndCharts!$A522+$A$11,0,1,1)","v":1852900},{"$f":"OFFSET(InputPriceData!C$15,CalculationsAndCharts!$A522+$A$11,IF($C$7,7,0),1,1)","v":38.619999999999997},{"$f":"OFFSET(InputPriceData!D$15,CalculationsAndCharts!$A522+$A$11,IF($C$7,7,0),1,1)","v":40.08},{"$f":"OFFSET(InputPriceData!E$15,CalculationsAndCharts!$A522+$A$11,IF($C$7,7,0),1,1)","v":38.43},{"$f":"OFFSET(InputPriceData!F$15,CalculationsAndCharts!$A522+$A$11,IF($C$7,7,0),1,1)","v":39.93},{"$error":"#N/A"},{"$error":"#N/A"},{"$error":"#N/A"},38.880165542293263,38.880165542293263,0.52466268468685806,-0.67428704372162906,-3.9927999456571661E-2,-1.0077694451800749,0.34456305103689105,0.40068111070372958,null,40.29,38.32,0.81725888324873119,{"$error":"#N/A"},0.2,0.8,{"$error":"#N/A"},{"$error":"#N/A"},{"$error":"#N/A"},{"$error":"#N/A"},false,false,true,false,false,{"$error":"#N/A"},{"$error":"#N/A"},{"$error":"#N/A"},{"$error":"#N/A"},false,false,false,false,false,{"$error":"#N/A"},{"$error":"#N/A"},{"$error":"#N/A"},{"$error":"#N/A"}]
[491,{"$f":"OFFSET(InputPriceData!B$15,CalculationsAndCharts!$A523+$A$11,0,1,1)","v":"2011-11-28"},{"$f":"OFFSET(InputPriceData!G$15,CalculationsAndCharts!$A523+$A$11,0,1,1)","v":1165500},{"$f":"OFFSET(InputPriceData!C$15,CalculationsAndCharts!$A523+$A$11,IF($C$7,7,0),1,1)","v":38.79},{"$f":"OFFSET(InputPriceData!D$15,CalculationsAndCharts!$A523+$A$11,IF($C$7,7,0),1,1)","v":39.340000000000003},{"$f":"OFFSET(InputPriceData!E$15,CalculationsAndCharts!$A523+$A$11,IF($C$7,7,0),1,1)","v":38.57},{"$f":"OFFSET(InputPriceData!F$15,CalculationsAndCharts!$A523+$A$11,IF($C$7,7,0),1,1)","v":38.700000000000003},{"$error":"#N/A"},{"$error":"#N/A"},{"$error":"#N/A"},38.867305540897675,38.867305540897675,-0.70043236118764096,-0.78985011673344396,-3.9927999456571661E-2,-1.0077694451800749,0.22516015346266441,0.49016507694146033,null,40.29,38.32,0.19289340101522984,{"$error":"#N/A"},0.2,0.8,{"$error":"#N/A"},{"$error":"#N/A"},{"$error":"#N/A"},{"$error":"#N/A"},false,false,true,false,false,{"$error":"#N/A"},{"$error":"#N/A"},{"$error":"#N/A"},{"$error":"#N/A"},false,false,false,false,false,{"$error":"#N/A"},{"$error":"#N/A"},{"$error":"#N/A"},{"$error":"#N/A"}]
[492,{"$f":"OFFSET(InputPriceData!B$15,CalculationsAndCharts!$A524+$A$11,0,1,1)","v":"2011-11-25"},{"$f":"OFFSET(InputPriceData!G$15,CalculationsAndCharts!$A524+$A$11,0,1,1)","v":492800},{"$f":"OFFSET(InputPriceData!C$15,CalculationsAndCharts!$A524+$A$11,IF($C$7,7,0),1,1)","v":38.69},{"$f":"OFFSET(InputPriceData!D$15,CalculationsAndCharts!$A524+$A$11,IF($C$7,7,0),1,1)","v":38.89},{"$f":"OFFSET(InputPriceData!E$15,CalculationsAndCharts!$A524+$A$11,IF($C$7,7,0),1,1)","v":38.32},{"$f":"OFFSET(InputPriceData!F$15,CalculationsAndCharts!$A524+$A$11,IF($C$7,7,0),1,1)","v":38.32},{"$error":"#N/A"},{"$error":"#N/A"},{"$error":"#N/A"},39.111575280794568,39.111575280794568,-1.2338638916613924,-0.63879345060844173,-3.9927999456571661E-2,-1.0077694451800749,0.38123599294283966,0.58137534128275514,null,40.29,38.32,0,{"$error":"#N/A"},0.2,0.8,{"$error":"#N/A"},{"$error":"#N/A"},{"$error":"#N/A"},{"$error":"#N/A"},false,false,true,false,false,{"$error":"#N/A"},{"$error":"#N/A"},{"$error":"#N/A"},{"$error":"#N/A"},false,false,false,false,false,{"$error":"#N/A"},{"$error":"#N/A"},{"$error":"#N/A"},{"$error":"#N/A"}]
[493,{"$f":"OFFSET(InputPriceData!B$15,CalculationsAndCharts!$A525+$A$11,0,1,1)","v":"2011-11-23"},{"$f":"OFFSET(InputPriceData!G$15,CalculationsAndCharts!$A525+$A$11,0,1,1)","v":548900},{"$f":"OFFSET(InputPriceData!C$15,CalculationsAndCharts!$A525+$A$11,IF($C$7,7,0),1,1)","v":39.299999999999997},{"$f":"OFFSET(InputPriceData!D$15,CalculationsAndCharts!$A525+$A$11,IF($C$7,7,0),1,1)","v":39.369999999999997},{"$f":"OFFSET(InputPriceData!E$15,CalculationsAndCharts!$A525+$A$11,IF($C$7,7,0),1,1)","v":38.880000000000003},{"$f":"OFFSET(InputPriceData!F$15,CalculationsAndCharts!$A525+$A$11,IF($C$7,7,0),1,1)","v":38.93},{"$error":"#N/A"},{"$error":"#N/A"},{"$error":"#N/A"},39.335233742514973,39.335233742514973,-0.77582037294090722,-0.47361189122837072,-3.9927999456571661E-2,-1.0077694451800749,0.55190605476953758,0.63193212363790996,null,40.29,38.71,0.13924050632911336,{"$error":"#N/A"},0.2,0.8,{"$error":"#N/A"},{"$error":"#N/A"},{"$error":"#N/A"},{"$error":"#N/A"},false,false,true,false,false,{"$error":"#N/A"},{"$error":"#N/A"},{"$error":"#N/A"},{"$error":"#N/A"},false,false,false,false,false,{"$error":"#N/A"},{"$error":"#N/A"},{"$error":"#N/A"},{"$error":"#N/A"}]
[494,{"$f":"OFFSET(InputPriceData!B$15,CalculationsAndCharts!$A526+$A$11,0,1,1)","v":"2011-11-22"},{"$f":"OFFSET(InputPriceData!G$15,CalculationsAndCharts!$A526+$A$11,0,1,1)","v":1389200},{"$f":"OFFSET(InputPriceData!C$15,CalculationsAndCharts!$A526+$A$11,IF($C$7,7,0),1,1)","v":39.090000000000003},{"$f":"OFFSET(InputPriceData!D$15,CalculationsAndCharts!$A526+$A$11,IF($C$7,7,0),1,1)","v":40.4},{"$f":"OFFSET(InputPriceData!E$15,CalculationsAndCharts!$A526+$A$11,IF($C$7,7,0),1,1)","v":39.090000000000003},{"$f":"OFFSET(InputPriceData!F$15,CalculationsAndCharts!$A526+$A$11,IF($C$7,7,0),1,1)","v":39.39},{"$error":"#N/A"},{"$error":"#N/A"},{"$error":"#N/A"},39.441904598737146,39.441904598737146,-0.38210107891217321,-0.39894915808965714,1.9948482116338748E-2,-1.0077694451800749,0.59240018191764232,0.65308007280359637,null,40.29,38.71,0.43037974683544333,{"$error":"#N/A"},0.2,0.8,{"$error":"#N/A"},{"$error":"#N/A"},{"$error":"#N/A"},{"$error":"#N/A"},false,false,true,false,false,{"$error":"#N/A"},{"$error":"#N/A"},{"$error":"#N/A"},{"$error":"#N/A"},false,false,false,false,false,{"$error":"#N/A"},{"$error":"#N/A"},{"$error":"#N/A"},{"$error":"#N/A"}]
[495,{"$f":"OFFSET(InputPriceData!B$15,CalculationsAndCharts!$A527+$A$11,0,1,1)","v":"2011-11-21"},{"$f":"OFFSET(InputPriceData!G$15,CalculationsAndCharts!$A527+$A$11,0,1,1)","v":1565700},{"$f":"OFFSET(InputPriceData!C$15,CalculationsAndCharts!$A527+$A$11,IF($C$7,7,0),1,1)","v":39.35},{"$f":"OFFSET(InputPriceData!D$15,CalculationsAndCharts!$A527+$A$11,IF($C$7,7,0),1,1)","v":39.44},{"$f":"OFFSET(InputPriceData!E$15,CalculationsAndCharts!$A527+$A$11,IF($C$7,7,0),1,1)","v":38.93},{"$f":"OFFSET(InputPriceData!F$15,CalculationsAndCharts!$A527+$A$11,IF($C$7,7,0),1,1)","v":39.229999999999997},{"$error":"#N/A"},{"$error":"#N/A"},{"$error":"#N/A"},39.527757290726313,39.527757290726313,-0.58626757743943914,-0.32820823397463722,0.11087955115137144,-1.0077694451800749,0.6074838608303631,0.65469081029448684,null,40.36,38.71,0.31515151515151302,{"$error":"#N/A"},0.2,0.8,{"$error":"#N/A"},{"$error":"#N/A"},{"$error":"#N/A"},{"$error":"#N/A"},false,false,true,false,false,{"$error":"#N/A"},{"$error":"#N/A"},{"$error":"#N/A"},{"$error":"#N/A"},false,false,false,false,false,{"$error":"#N/A"},{"$error":"#N/A"},{"$error":"#N/A"},{"$error":"#N/A"}]
[496,{"$f":"OFFSET(InputPriceData!B$15,CalculationsAndCharts!$A528+$A$11,0,1,1)","v":"2011-11-18"},{"$f":"OFFSET(InputPriceData!G$15,CalculationsAndCharts!$A528+$A$11,0,1,1)","v":1760900},{"$f":"OFFSET(InputPriceData!C$15,CalculationsAndCharts!$A528+$A$11,IF($C$7,7,0),1,1)","v":39.020000000000003},{"$f":"OFFSET(InputPriceData!D$15,CalculationsAndCharts!$A528+$A$11,IF($C$7,7,0),1,1)","v":39.97},{"$f":"OFFSET(InputPriceData!E$15,CalculationsAndCharts!$A528+$A$11,IF($C$7,7,0),1,1)","v":38.81},{"$f":"OFFSET(InputPriceData!F$15,CalculationsAndCharts!$A528+$A$11,IF($C$7,7,0),1,1)","v":39.71},{"$error":"#N/A"},{"$error":"#N/A"},{"$error":"#N/A"},39.602473910729081,39.602473910729081,-0.12282505024186158,-0.25220974882305491,0.18031695710222609,-1.0077694451800749,0.63594675850645044,0.62491152468407662,null,40.36,38.71,0.60606060606060663,{"$error":"#N/A"},0.2,0.8,{"$error":"#N/A"},{"$error":"#N/A"},{"$error":"#N/A"},{"$error":"#N/A"},false,false,true,false,false,{"$error":"#N/A"},{"$error":"#N/A"},{"$error":"#N/A"},{"$error":"#N/A"},false,false,false,false,false,{"$error":"#N/A"},{"$error":"#N/A"},{"$error":"#N/A"},{"$error":"#N/A"}]
[497,{"$f":"OFFSET(InputPriceData!B$15,CalculationsAndCharts!$A529+$A$11,0,1,1)","v":"2011-11-17"},{"$f":"OFFSET(InputPriceData!G$15,CalculationsAndCharts!$A529+$A$11,0,1,1)","v":1193700},{"$f":"OFFSET(InputPriceData!C$15,CalculationsAndCharts!$A529+$A$11,IF($C$7,7,0),1,1)","v":39.47},{"$f":"OFFSET(InputPriceData!D$15,CalculationsAndCharts!$A529+$A$11,IF($C$7,7,0),1,1)","v":39.65},{"$f":"OFFSET(InputPriceData!E$15,CalculationsAndCharts!$A529+$A$11,IF($C$7,7,0),1,1)","v":38.630000000000003},{"$f":"OFFSET(InputPriceData!F$15,CalculationsAndCharts!$A529+$A$11,IF($C$7,7,0),1,1)","v":39.06},{"$error":"#N/A"},{"$error":"#N/A"},{"$error":"#N/A"},39.702603242113767,39.702603242113767,-0.80624222580658667,-0.13041552585943331,0.2804079930572228,-1.0077694451800749,0.68108157562609206,0.55054088778835242,null,40.36,38.71,0.21212121212121315,{"$error":"#N/A"},0.2,0.8,{"$error":"#N/A"},{"$error":"#N/A"},{"$error":"#N/A"},{"$error":"#N/A"},false,false,true,false,false,{"$error":"#N/A"},{"$error":"#N/A"},{"$error":"#N/A"},{"$error":"#N/A"},false,false,false,false,false,{"$error":"#N/A"},{"$error":"#N/A"},{"$error":"#N/A"},{"$error":"#N/A"}]
[498,{"$f":"OFFSET(InputPriceData!B$15,CalculationsAndCharts!$A530+$A$11,0,1,1)","v":"2011-11-16"},{"$f":"OFFSET(InputPriceData!G$15,CalculationsAndCharts!$A530+$A$11,0,1,1)","v":1941100},{"$f":"OFFSET(InputPriceData!C$15,CalculationsAndCharts!$A530+$A$11,IF($C$7,7,0),1,1)","v":40.26},{"$f":"OFFSET(InputPriceData!D$15,CalculationsAndCharts!$A530+$A$11,IF($C$7,7,0),1,1)","v":40.44},{"$f":"OFFSET(InputPriceData!E$15,CalculationsAndCharts!$A530+$A$11,IF($C$7,7,0),1,1)","v":39.42},{"$f":"OFFSET(InputPriceData!F$15,CalculationsAndCharts!$A530+$A$11,IF($C$7,7,0),1,1)","v":39.47},{"$error":"#N/A"},{"$error":"#N/A"},{"$error":"#N/A"},39.750580292654753,39.750580292654753,-0.45579851041363689,-3.9927999456571661E-2,0.37509528670113373,-1.0077694451800749,0.69988150208074229,0.43617366985776995,null,40.36,38.71,0.4606060606060598,{"$error":"#N/A"},0.2,0.8,{"$error":"#N/A"},{"$error":"#N/A"},{"$error":"#N/A"},{"$error":"#N/A"},false,false,true,false,false,{"$error":"#N/A"},{"$error":"#N/A"},{"$error":"#N/A"},{"$error":"#N/A"},false,false,false,false,false,{"$error":"#N/A"},{"$error":"#N/A"},{"$error":"#N/A"},{"$error":"#N/A"}]
[499,{"$f":"OFFSET(InputPriceData!B$15,CalculationsAndCharts!$A531+$A$11,0,1,1)","v":"2011-11-15"},{"$f":"OFFSET(InputPriceData!G$15,CalculationsAndCharts!$A531+$A$11,0,1,1)","v":1148700},{"$f":"OFFSET(InputPriceData!C$15,CalculationsAndCharts!$A531+$A$11,IF($C$7,7,0),1,1)","v":39.82},{"$f":"OFFSET(InputPriceData!D$15,CalculationsAndCharts!$A531+$A$11,IF($C$7,7,0),1,1)","v":40.36},{"$f":"OFFSET(InputPriceData!E$15,CalculationsAndCharts!$A531+$A$11,IF($C$7,7,0),1,1)","v":39.74},{"$f":"OFFSET(InputPriceData!F$15,CalculationsAndCharts!$A531+$A$11,IF($C$7,7,0),1,1)","v":40.29},{"$error":"#N/A"},{"$error":"#N/A"},{"$error":"#N/A"},39.568374856265983,39.568374856265983,0.42109186336361609,-0.18371426750360342,0.40991205480619247,-1.0077694451800749,0.58126961357995699,0.31462391838039405,null,40.36,38.71,0.95757575757575741,{"$error":"#N/A"},0.2,0.8,{"$error":"#N/A"},{"$error":"#N/A"},{"$error":"#N/A"},{"$error":"#N/A"},false,false,true,false,false,{"$error":"#N/A"},{"$error":"#N/A"},{"$error":"#N/A"},{"$error":"#N/A"},false,false,false,false,false,{"$error":"#N/A"},{"$error":"#N/A"},{"$error":"#N/A"},{"$error":"#N/A"}]
[500,{"$f":"OFFSET(InputPriceData!B$15,CalculationsAndCharts!$A532+$A$11,0,1,1)","v":"2011-11-14"},{"$f":"OFFSET(InputPriceData!G$15,CalculationsAndCharts!$A532+$A$11,0,1,1)","v":602800},{"$f":"OFFSET(InputPriceData!C$15,CalculationsAndCharts!$A532+$A$11,IF($C$7,7,0),1,1)","v":39.85},{"$f":"OFFSET(InputPriceData!D$15,CalculationsAndCharts!$A532+$A$11,IF($C$7,7,0),1,1)","v":39.909999999999997},{"$f":"OFFSET(InputPriceData!E$15,CalculationsAndCharts!$A532+$A$11,IF($C$7,7,0),1,1)","v":39.5},{"$f":"OFFSET(InputPriceData!F$15,CalculationsAndCharts!$A532+$A$11,IF($C$7,7,0),1,1)","v":39.72},{"$error":"#N/A"},{"$error":"#N/A"},{"$error":"#N/A"},39.317163803642643,39.317163803642643,-5.5670133631858687E-2,-0.43091923059376203,0.40991205480619247,-1.0077694451800749,0.40689690497611813,0.21970467087524392,null,40.36,38.71,0.6121212121212114,{"$error":"#N/A"},0.2,0.8,{"$error":"#N/A"},{"$error":"#N/A"},{"$error":"#N/A"},{"$error":"#N/A"},false,false,true,false,false,{"$error":"#N/A"},{"$error":"#N/A"},{"$error":"#N/A"},{"$error":"#N/A"},false,false,false,false,false,{"$error":"#N/A"},{"$error":"#N/A"},{"$error":"#N/A"},{"$error":"#N/A"}]
[501,{"$f":"OFFSET(InputPriceData!B$15,CalculationsAndCharts!$A533+$A$11,0,1,1)","v":"2011-11-11"},{"$f":"OFFSET(InputPriceData!G$15,CalculationsAndCharts!$A533+$A$11,0,1,1)","v":746300},{"$f":"OFFSET(InputPriceData!C$15,CalculationsAndCharts!$A533+$A$11,IF($C$7,7,0),1,1)","v":39.159999999999997},{"$f":"OFFSET(InputPriceData!D$15,CalculationsAndCharts!$A533+$A$11,IF($C$7,7,0),1,1)","v":39.880000000000003},{"$f":"OFFSET(InputPriceData!E$15,CalculationsAndCharts!$A533+$A$11,IF($C$7,7,0),1,1)","v":38.700000000000003},{"$f":"OFFSET(InputPriceData!F$15,CalculationsAndCharts!$A533+$A$11,IF($C$7,7,0),1,1)","v":39.86},{"$error":"#N/A"},{"$f":"IF($A533=$E$25,I$32,NA())","v":{"$error":"#N/A"}},{"$error":"#N/A"},39.129718561404076,39.129718561404076,0.15162240884753275,-0.6542949898361774,0.40991205480619247,-1.0077694451800749,0.2493327699820598,0.15779217295465892,null,40.36,38.71,0.69696969696969668,{"$error":"#N/A"},0.2,0.8,{"$error":"#N/A"},{"$error":"#N/A"},{"$error":"#N/A"},{"$error":"#N/A"},false,false,true,false,false,{"$error":"#N/A"},{"$error":"#N/A"},{"$error":"#N/A"},{"$error":"#N/A"},false,false,false,false,false,{"$error":"#N/A"},{"$error":"#N/A"},{"$error":"#N/A"},{"$error":"#N/A"}]
[502,{"$f":"OFFSET(InputPriceData!B$15,CalculationsAndCharts!$A534+$A$11,0,1,1)","v":"2011-11-10"},{"$f":"OFFSET(InputPriceData!G$15,CalculationsAndCharts!$A534+$A$11,0,1,1)","v":698200},{"$f":"OFFSET(InputPriceData!C$15,CalculationsAndCharts!$A534+$A$11,IF($C$7,7,0),1,1)","v":39.119999999999997},{"$f":"OFFSET(InputPriceData!D$15,CalculationsAndCharts!$A534+$A$11,IF($C$7,7,0),1,1)","v":39.119999999999997},{"$f":"OFFSET(InputPriceData!E$15,CalculationsAndCharts!$A534+$A$11,IF($C$7,7,0),1,1)","v":38.46},{"$f":"OFFSET(InputPriceData!F$15,CalculationsAndCharts!$A534+$A$11,IF($C$7,7,0),1,1)","v":38.96},{"$error":"#N/A"},{"$error":"#N/A"},{"$error":"#N/A"},39.080350773850512,39.080350773850512,-0.74374528113377081,-0.76517914906342777,0.40991205480619247,-1.0077694451800749,0.17111762840877662,0.1120882733867207,null,40.36,38.71,0.15151515151515166,{"$error":"#N/A"},0.2,0.8,{"$error":"#N/A"},{"$error":"#N/A"},{"$error":"#N/A"},{"$error":"#N/A"},false,false,true,false,false,{"$error":"#N/A"},{"$error":"#N/A"},{"$error":"#N/A"},{"$error":"#N/A"},false,false,false,false,false,{"$error":"#N/A"},{"$error":"#N/A"},{"$error":"#N/A"},{"$error":"#N/A"}]
[503,{"$f":"OFFSET(InputPriceData!B$15,CalculationsAndCharts!$A535+$A$11,0,1,1)","v":"2011-11-09"},{"$f":"OFFSET(InputPriceData!G$15,CalculationsAndCharts!$A535+$A$11,0,1,1)","v":782800},{"$f":"OFFSET(InputPriceData!C$15,CalculationsAndCharts!$A535+$A$11,IF($C$7,7,0),1,1)","v":38.9},{"$f":"OFFSET(InputPriceData!D$15,CalculationsAndCharts!$A535+$A$11,IF($C$7,7,0),1,1)","v":39.32},{"$f":"OFFSET(InputPriceData!E$15,CalculationsAndCharts!$A535+$A$11,IF($C$7,7,0),1,1)","v":38.61},{"$f":"OFFSET(InputPriceData!F$15,CalculationsAndCharts!$A535+$A$11,IF($C$7,7,0),1,1)","v":38.71},{"$error":"#N/A"},{"$error":"#N/A"},{"$error":"#N/A"},39.163205971774445,39.163205971774445,-1.0997859845385229,-0.74605415772501604,0.40991205480619247,-1.0077694451800749,0.18460795845723743,6.1365724407387294E-2,null,40.36,38.71,0,{"$error":"#N/A"},0.2,0.8,{"$error":"#N/A"},{"$error":"#N/A"},{"$error":"#N/A"},{"$error":"#N/A"},false,false,true,false,false,{"$error":"#N/A"},{"$error":"#N/A"},{"$error":"#N/A"},{"$error":"#N/A"},false,false,false,false,false,{"$error":"#N/A"},{"$error":"#N/A"},{"$error":"#N/A"},{"$error":"#N/A"}]
[504,{"$f":"OFFSET(InputPriceData!B$15,CalculationsAndCharts!$A536+$A$11,0,1,1)","v":"2011-11-08"},{"$f":"OFFSET(InputPriceData!G$15,CalculationsAndCharts!$A536+$A$11,0,1,1)","v":985700},{"$f":"OFFSET(InputPriceData!C$15,CalculationsAndCharts!$A536+$A$11,IF($C$7,7,0),1,1)","v":39.31},{"$f":"OFFSET(InputPriceData!D$15,CalculationsAndCharts!$A536+$A$11,IF($C$7,7,0),1,1)","v":39.520000000000003},{"$f":"OFFSET(InputPriceData!E$15,CalculationsAndCharts!$A536+$A$11,IF($C$7,7,0),1,1)","v":38.89},{"$f":"OFFSET(InputPriceData!F$15,CalculationsAndCharts!$A536+$A$11,IF($C$7,7,0),1,1)","v":39.450000000000003},{"$error":"#N/A"},{"$error":"#N/A"},{"$error":"#N/A"},39.162658242614654,39.162658242614654,-0.42949072532084065,-0.80769772334653256,0.40991205480619247,-1.0077694451800749,0.14112600173979867,9.74102435779374E-3,null,40.36,38.83,0.40522875816993731,{"$error":"#N/A"},0.2,0.8,{"$error":"#N/A"},{"$error":"#N/A"},{"$error":"#N/A"},{"$error":"#N/A"},false,false,true,false,false,{"$error":"#N/A"},{"$error":"#N/A"},{"$error":"#N/A"},{"$error":"#N/A"},false,false,false,false,false,{"$error":"#N/A"},{"$error":"#N/A"},{"$error":"#N/A"},{"$error":"#N/A"}]
[505,{"$f":"OFFSET(InputPriceData!B$15,CalculationsAndCharts!$A537+$A$11,0,1,1)","v":"2011-11-07"},{"$f":"OFFSET(InputPriceData!G$15,CalculationsAndCharts!$A537+$A$11,0,1,1)","v":582200},{"$f":"OFFSET(InputPriceData!C$15,CalculationsAndCharts!$A537+$A$11,IF($C$7,7,0),1,1)","v":39.270000000000003},{"$f":"OFFSET(InputPriceData!D$15,CalculationsAndCharts!$A537+$A$11,IF($C$7,7,0),1,1)","v":39.5},{"$f":"OFFSET(InputPriceData!E$15,CalculationsAndCharts!$A537+$A$11,IF($C$7,7,0),1,1)","v":38.93},{"$f":"OFFSET(InputPriceData!F$15,CalculationsAndCharts!$A537+$A$11,IF($C$7,7,0),1,1)","v":39.200000000000003},{"$error":"#N/A"},{"$error":"#N/A"},{"$error":"#N/A"},39.110453923065549,39.110453923065549,-0.7071128168554307,-0.9310728608557024,0.40991205480619247,-1.0077694451800749,5.4100010704178247E-2,-2.1533600153954509E-2,null,40.36,38.83,0.24183006535947993,{"$error":"#N/A"},0.2,0.8,{"$error":"#N/A"},{"$error":"#N/A"},{"$error":"#N/A"},{"$error":"#N/A"},false,false,true,false,false,{"$error":"#N/A"},{"$error":"#N/A"},{"$error":"#N/A"},{"$error":"#N/A"},false,false,false,false,false,{"$error":"#N/A"},{"$error":"#N/A"},{"$error":"#N/A"},{"$error":"#N/A"}]
[506,{"$f":"OFFSET(InputPriceData!B$15,CalculationsAndCharts!$A538+$A$11,0,1,1)","v":"2011-11-04"},{"$f":"OFFSET(InputPriceData!G$15,CalculationsAndCharts!$A538+$A$11,0,1,1)","v":909100},{"$f":"OFFSET(InputPriceData!C$15,CalculationsAndCharts!$A538+$A$11,IF($C$7,7,0),1,1)","v":38.86},{"$f":"OFFSET(InputPriceData!D$15,CalculationsAndCharts!$A538+$A$11,IF($C$7,7,0),1,1)","v":39.57},{"$f":"OFFSET(InputPriceData!E$15,CalculationsAndCharts!$A538+$A$11,IF($C$7,7,0),1,1)","v":38.65},{"$f":"OFFSET(InputPriceData!F$15,CalculationsAndCharts!$A538+$A$11,IF($C$7,7,0),1,1)","v":39.26},{"$error":"#N/A"},{"$error":"#N/A"},{"$error":"#N/A"},39.115571499367434,39.115571499367434,-0.69376931271401276,-1.0077694451800749,0.40991205480619247,-1.0077694451800749,0,-2.4243149128040205E-2,null,40.36,38.450000000000003,0.42408376963350608,{"$error":"#N/A"},0.2,0.8,{"$error":"#N/A"},{"$error":"#N/A"},{"$error":"#N/A"},{"$error":"#N/A"},false,false,true,false,false,{"$error":"#N/A"},{"$error":"#N/A"},{"$error":"#N/A"},{"$error":"#N/A"},false,false,false,false,false,{"$error":"#N/A"},{"$error":"#N/A"},{"$error":"#N/A"},{"$error":"#N/A"}]
[507,{"$f":"OFFSET(InputPriceData!B$15,CalculationsAndCharts!$A539+$A$11,0,1,1)","v":"2011-11-03"},{"$f":"OFFSET(InputPriceData!G$15,CalculationsAndCharts!$A539+$A$11,0,1,1)","v":1551500},{"$f":"OFFSET(InputPriceData!C$15,CalculationsAndCharts!$A539+$A$11,IF($C$7,7,0),1,1)","v":39.130000000000003},{"$f":"OFFSET(InputPriceData!D$15,CalculationsAndCharts!$A539+$A$11,IF($C$7,7,0),1,1)","v":39.409999999999997},{"$f":"OFFSET(InputPriceData!E$15,CalculationsAndCharts!$A539+$A$11,IF($C$7,7,0),1,1)","v":38.58},{"$f":"OFFSET(InputPriceData!F$15,CalculationsAndCharts!$A539+$A$11,IF($C$7,7,0),1,1)","v":38.92},{"$error":"#N/A"},{"$error":"#N/A"},{"$error":"#N/A"},39.198439893015312,39.198439893015312,-1.1109526719598364,-1.0050973083232675,0.40991205480619247,-1.0050973083232675,0,7.3775969699382826E-4,null,40.36,37.799999999999997,0.43750000000000139,{"$error":"#N/A"},0.2,0.8,{"$error":"#N/A"},{"$error":"#N/A"},{"$error":"#N/A"},{"$error":"#N/A"},false,false,true,false,false,{"$error":"#N/A"},{"$error":"#N/A"},{"$error":"#N/A"},{"$error":"#N/A"},false,false,false,false,false,{"$error":"#N/A"},{"$error":"#N/A"},{"$error":"#N/A"},{"$error":"#N/A"}]
[508,{"$f":"OFFSET(InputPriceData!B$15,CalculationsAndCharts!$A540+$A$11,0,1,1)","v":"2011-11-02"},{"$f":"OFFSET(InputPriceData!G$15,CalculationsAndCharts!$A540+$A$11,0,1,1)","v":625700},{"$f":"OFFSET(InputPriceData!C$15,CalculationsAndCharts!$A540+$A$11,IF($C$7,7,0),1,1)","v":39.39},{"$f":"OFFSET(InputPriceData!D$15,CalculationsAndCharts!$A540+$A$11,IF($C$7,7,0),1,1)","v":39.61},{"$f":"OFFSET(InputPriceData!E$15,CalculationsAndCharts!$A540+$A$11,IF($C$7,7,0),1,1)","v":39},{"$f":"OFFSET(InputPriceData!F$15,CalculationsAndCharts!$A540+$A$11,IF($C$7,7,0),1,1)","v":39.18},{"$error":"#N/A"},{"$error":"#N/A"},{"$error":"#N/A"},39.333180847630622,39.333180847630622,-0.94293826601136188,-0.93537064252966173,0.40991205480619247,-0.93537064252966173,0,6.1020728812179154E-2,null,40.36,37.799999999999997,0.53906250000000056,{"$error":"#N/A"},0.2,0.8,39.39,{"$error":"#N/A"},{"$error":"#N/A"},{"$error":"#N/A"},false,{"$f":"AND(AD541,NOT(AF541))","v":true},true,false,false,39.39,{"$error":"#N/A"},39.39,{"$error":"#N/A"},false,false,false,false,true,{"$error":"#N/A"},39.39,{"$error":"#N/A"},39.39]
[509,{"$f":"OFFSET(InputPriceData!B$15,CalculationsAndCharts!$A541+$A$11,0,1,1)","v":"2011-11-01"},{"$f":"OFFSET(InputPriceData!G$15,CalculationsAndCharts!$A541+$A$11,0,1,1)","v":921200},{"$f":"OFFSET(InputPriceData!C$15,CalculationsAndCharts!$A541+$A$11,IF($C$7,7,0),1,1)","v":38.979999999999997},{"$f":"OFFSET(InputPriceData!D$15,CalculationsAndCharts!$A541+$A$11,IF($C$7,7,0),1,1)","v":39.67},{"$f":"OFFSET(InputPriceData!E$15,CalculationsAndCharts!$A541+$A$11,IF($C$7,7,0),1,1)","v":38.630000000000003},{"$f":"OFFSET(InputPriceData!F$15,CalculationsAndCharts!$A541+$A$11,IF($C$7,7,0),1,1)","v":39.090000000000003},{"$error":"#N/A"},{"$error":"#N/A"},{"$error":"#N/A"},39.486495955170668,39.486495955170668,-1.116629281065012,-0.82220194246705058,0.40991205480619247,-0.82220194246705058,0,0.17003334921491214,null,40.36,37.71,0.52075471698113329,{"$error":"#N/A"},0.2,0.8,{"$error":"#N/A"},{"$error":"#N/A"},0.17003334921491214,{"$error":"#N/A"},true,false,false,false,false,{"$error":"#N/A"},{"$error":"#N/A"},{"$error":"#N/A"},{"$error":"#N/A"},false,false,true,true,false,{"$error":"#N/A"},{"$error":"#N/A"},{"$error":"#N/A"},{"$error":"#N/A"}]
[510,{"$f":"OFFSET(InputPriceData!B$15,CalculationsAndCharts!$A542+$A$11,0,1,1)","v":"2011-10-31"},{"$f":"OFFSET(InputPriceData!G$15,CalculationsAndCharts!$A542+$A$11,0,1,1)","v":2322000},{"$f":"OFFSET(InputPriceData!C$15,CalculationsAndCharts!$A542+$A$11,IF($C$7,7,0),1,1)","v":38.82},{"$f":"OFFSET(InputPriceData!D$15,CalculationsAndCharts!$A542+$A$11,IF($C$7,7,0),1,1)","v":39.92},{"$f":"OFFSET(InputPriceData!E$15,CalculationsAndCharts!$A542+$A$11,IF($C$7,7,0),1,1)","v":38.72},{"$f":"OFFSET(InputPriceData!F$15,CalculationsAndCharts!$A542+$A$11,IF($C$7,7,0),1,1)","v":39.659999999999997},{"$error":"#N/A"},{"$error":"#N/A"},{"$error":"#N/A"},39.64292608317443,39.64292608317443,-0.58951428254324711,-0.67480831953455267,0.40991205480619247,-0.67480831953455267,0,0.3304316194065719,null,40.36,37.22,0.77707006369426668,{"$error":"#N/A"},0.2,0.8,{"$error":"#N/A"},{"$error":"#N/A"},{"$error":"#N/A"},{"$error":"#N/A"},false,false,false,false,false,{"$error":"#N/A"},{"$error":"#N/A"},{"$error":"#N/A"},{"$error":"#N/A"},false,false,true,false,false,{"$error":"#N/A"},{"$error":"#N/A"},{"$error":"#N/A"},{"$error":"#N/A"}]
[511,{"$f":"OFFSET(InputPriceData!B$15,CalculationsAndCharts!$A543+$A$11,0,1,1)","v":"2011-10-28"},{"$f":"OFFSET(InputPriceData!G$15,CalculationsAndCharts!$A543+$A$11,0,1,1)","v":2254400},{"$f":"OFFSET(InputPriceData!C$15,CalculationsAndCharts!$A543+$A$11,IF($C$7,7,0),1,1)","v":39.479999999999997},{"$f":"OFFSET(InputPriceData!D$15,CalculationsAndCharts!$A543+$A$11,IF($C$7,7,0),1,1)","v":40.049999999999997},{"$f":"OFFSET(InputPriceData!E$15,CalculationsAndCharts!$A543+$A$11,IF($C$7,7,0),1,1)","v":38.520000000000003},{"$f":"OFFSET(InputPriceData!F$15,CalculationsAndCharts!$A543+$A$11,IF($C$7,7,0),1,1)","v":38.97},{"$error":"#N/A"},{"$error":"#N/A"},{"$error":"#N/A"},39.858363551992291,39.858363551992291,-1.3348219089852891,-0.4261581478247225,0.40991205480619247,-0.49454668499245524,7.5612666624192859E-2,0.51704750437470981,null,40.36,36.82,0.60734463276836137,{"$error":"#N/A"},0.2,0.8,{"$error":"#N/A"},{"$error":"#N/A"},{"$error":"#N/A"},{"$error":"#N/A"},false,false,false,false,false,{"$error":"#N/A"},{"$error":"#N/A"},{"$error":"#N/A"},{"$error":"#N/A"},false,false,true,false,false,{"$error":"#N/A"},{"$error":"#N/A"},{"$error":"#N/A"},{"$error":"#N/A"}]
[512,{"$f":"OFFSET(InputPriceData!B$15,CalculationsAndCharts!$A544+$A$11,0,1,1)","v":"2011-10-27"},{"$f":"OFFSET(InputPriceData!G$15,CalculationsAndCharts!$A544+$A$11,0,1,1)","v":2074400},{"$f":"OFFSET(InputPriceData!C$15,CalculationsAndCharts!$A544+$A$11,IF($C$7,7,0),1,1)","v":40.25},{"$f":"OFFSET(InputPriceData!D$15,CalculationsAndCharts!$A544+$A$11,IF($C$7,7,0),1,1)","v":40.36},{"$f":"OFFSET(InputPriceData!E$15,CalculationsAndCharts!$A544+$A$11,IF($C$7,7,0),1,1)","v":39.130000000000003},{"$f":"OFFSET(InputPriceData!F$15,CalculationsAndCharts!$A544+$A$11,IF($C$7,7,0),1,1)","v":39.770000000000003},{"$error":"#N/A"},{"$error":"#N/A"},{"$error":"#N/A"},40.047747846045283,40.047747846045283,-0.58111734872993392,-0.15149672483026497,0.40991205480619247,-0.49454668499245524,0.37928757285109621,0.67582136803093917,null,40.36,36.82,0.83333333333333437,{"$error":"#N/A"},0.2,0.8,{"$error":"#N/A"},{"$error":"#N/A"},{"$error":"#N/A"},{"$error":"#N/A"},false,false,false,false,false,{"$error":"#N/A"},{"$error":"#N/A"},{"$error":"#N/A"},{"$error":"#N/A"},false,false,true,false,false,{"$error":"#N/A"},{"$error":"#N/A"},{"$error":"#N/A"},{"$error":"#N/A"}]
[513,{"$f":"OFFSET(InputPriceData!B$15,CalculationsAndCharts!$A545+$A$11,0,1,1)","v":"2011-10-26"},{"$f":"OFFSET(InputPriceData!G$15,CalculationsAndCharts!$A545+$A$11,0,1,1)","v":1310200},{"$f":"OFFSET(InputPriceData!C$15,CalculationsAndCharts!$A545+$A$11,IF($C$7,7,0),1,1)","v":40.619999999999997},{"$f":"OFFSET(InputPriceData!D$15,CalculationsAndCharts!$A545+$A$11,IF($C$7,7,0),1,1)","v":40.71},{"$f":"OFFSET(InputPriceData!E$15,CalculationsAndCharts!$A545+$A$11,IF($C$7,7,0),1,1)","v":39.31},{"$f":"OFFSET(InputPriceData!F$15,CalculationsAndCharts!$A545+$A$11,IF($C$7,7,0),1,1)","v":39.869999999999997},{"$f":"IF($A545=$E$25,H$32,NA())","v":{"$error":"#N/A"}},{"$error":"#N/A"},{"$error":"#N/A"},{"$f":"$F$16*(G545+G546)/2+$F$17*K546+$F$18*K547","v":40.091080298591422},40.091080298591422,{"$f":"$D$21*(G545 - 2*G546 + G547) + $D$20*M546 - $F$20*M547","v":-0.43806886610779255},1.9948482116338748E-2,0.40991205480619247,-0.49454668499245524,{"$f":"IFERROR(IF($A545>$A$8,0,(N545-P545)/(O545-P545)),1)","v":0.56884315941635089},{"$f":"IF($A545>$A$8,0,$F$16*(Q545+Q546)/2+$F$17*R546+$F$18*R547)","v":0.78590098621608817},null,{"$f":"MAX(OFFSET(G545,0,0,$A$22,1))","v":40.36},{"$f":"MIN(OFFSET(G545,0,0,$A$22,1))","v":36.82},{"$f":"IFERROR(IF($A545>$A$8,0,(G545-U545)/(T545-U545)),1)","v":0.86158192090395425},{"$error":"#N/A"},0.2,0.8,{"$f":"IF($S$7,AI545,NA())","v":{"$error":"#N/A"}},{"$f":"IF($S$7,AJ545,NA())","v":{"$error":"#N/A"}},{"$f":"IF($S$7,IF(AD545,R545,NA()),NA())","v":{"$error":"#N/A"}},{"$f":"IF($S$7,IF(AG545,R545,NA()),NA())","v":{"$error":"#N/A"}},{"$f":"IF(AND(R546>$X$32,R545<$X$32),TRUE,FALSE)","v":false},false,false,{"$f":"IF(AND(AF545,R546<$Y$32,R545>$Y$32),TRUE,FALSE)","v":false},false,{"$f":"IF(AE545,D545,NA())","v":{"$error":"#N/A"}},{"$f":"IF(AH545,D545,NA())","v":{"$error":"#N/A"}},{"$f":"IF($S$7,AI545,NA())","v":{"$error":"#N/A"}},{"$f":"IF($S$7,AJ545,NA())","v":{"$error":"#N/A"}},{"$f":"IF(AND(R546<$Y$32,R545>$Y$32),TRUE,FALSE)","v":false},false,true,{"$f":"IF(AND(AO546,R546>$X$32,R545<$X$32),TRUE,FALSE)","v":false},false,{"$f":"IF(AN545,D545,NA())","v":{"$error":"#N/A"}},{"$f":"IF(AQ545,D545,NA())","v":{"$error":"#N/A"}},{"$error":"#N/A"},{"$error":"#N/A"}]
[514,{"$f":"OFFSET(InputPriceData!B$15,CalculationsAndCharts!$A546+$A$11,0,1,1)","v":"2011-10-25"},{"$f":"OFFSET(InputPriceData!G$15,CalculationsAndCharts!$A546+$A$11,0,1,1)","v":1354700},{"$f":"OFFSET(InputPriceData!C$15,CalculationsAndCharts!$A546+$A$11,IF($C$7,7,0),1,1)","v":40.119999999999997},{"$f":"OFFSET(InputPriceData!D$15,CalculationsAndCharts!$A546+$A$11,IF($C$7,7,0),1,1)","v":40.49},{"$f":"OFFSET(InputPriceData!E$15,CalculationsAndCharts!$A546+$A$11,IF($C$7,7,0),1,1)","v":40.01},{"$f":"OFFSET(InputPriceData!F$15,CalculationsAndCharts!$A546+$A$11,IF($C$7,7,0),1,1)","v":40.36},{"$error":"#N/A"},{"$error":"#N/A"},{"$error":"#N/A"},40.029597826535294,{"$f":"IF($S$5,K546,NA())","v":40.029597826535294},0.16703412784598501,{"$f":"$F$16*(M546+M547)/2+$F$17*N547+$F$18*N548","v":0.11087955115137144},{"$f":"MAX(OFFSET(N546,0,0,$A$22,1))","v":0.40991205480619247},-0.49891059800401699,0.67096715433955145,0.86162026955886684,null,40.36,36.82,1,{"$f":"IF($S$18,V546,NA())","v":{"$error":"#N/A"}},{"$f":"$X$32","v":0.2},{"$f":"$Y$32","v":0.8},{"$error":"#N/A"},{"$error":"#N/A"},{"$error":"#N/A"},{"$error":"#N/A"},false,false,{"$f":"IF(AF547,IF(AH547,FALSE,AF547),IF(AE546,TRUE,AF547))","v":false},false,false,{"$error":"#N/A"},{"$error":"#N/A"},{"$error":"#N/A"},{"$error":"#N/A"},false,false,{"$f":"IF(AO547,IF(AP547,FALSE,AO547),IF(AN546,TRUE,AO547))","v":true},false,false,{"$error":"#N/A"},{"$error":"#N/A"},{"$f":"IF($S$5,AR546,NA())","v":{"$error":"#N/A"}},{"$error":"#N/A"}]
[515,{"$f":"OFFSET(InputPriceData!B$15,CalculationsAndCharts!$A547+$A$11,0,1,1)","v":"2011-10-24"},{"$f":"OFFSET(InputPriceData!G$15,CalculationsAndCharts!$A547+$A$11,0,1,1)","v":2382200},{"$f":"OFFSET(InputPriceData!C$15,CalculationsAndCharts!$A547+$A$11,IF($C$7,7,0),1,1)","v":40.020000000000003},{"$f":"OFFSET(InputPriceData!D$15,CalculationsAndCharts!$A547+$A$11,IF($C$7,7,0),1,1)","v":40.22},{"$f":"OFFSET(InputPriceData!E$15,CalculationsAndCharts!$A547+$A$11,IF($C$7,7,0),1,1)","v":39.44},{"$f":"OFFSET(InputPriceData!F$15,CalculationsAndCharts!$A547+$A$11,IF($C$7,7,0),1,1)","v":40.01},{"$error":"#N/A"},{"$error":"#N/A"},{"$error":"#N/A"},39.932674543254841,39.932674543254841,-2.9761849060627017E-2,0.18031695710222609,0.40991205480619247,-0.64833993971718107,0.78304307585323873,0.89695413741624108,null,40.04,36.82,0.99068322981366419,{"$error":"#N/A"},0.2,0.8,{"$error":"#N/A"},{"$error":"#N/A"},{"$error":"#N/A"},{"$error":"#N/A"},false,false,false,false,false,{"$error":"#N/A"},{"$error":"#N/A"},{"$error":"#N/A"},{"$error":"#N/A"},false,false,true,false,false,{"$error":"#N/A"},{"$error":"#N/A"},{"$error":"#N/A"},{"$error":"#N/A"}]
[516,{"$f":"OFFSET(InputPriceData!B$15,CalculationsAndCharts!$A548+$A$11,0,1,1)","v":"2011-10-21"},{"$f":"OFFSET(InputPriceData!G$15,CalculationsAndCharts!$A548+$A$11,0,1,1)","v":1641400},{"$f":"OFFSET(InputPriceData!C$15,CalculationsAndCharts!$A548+$A$11,IF($C$7,7,0),1,1)","v":40.11},{"$f":"OFFSET(InputPriceData!D$15,CalculationsAndCharts!$A548+$A$11,IF($C$7,7,0),1,1)","v":40.270000000000003},{"$f":"OFFSET(InputPriceData!E$15,CalculationsAndCharts!$A548+$A$11,IF($C$7,7,0),1,1)","v":39.83},{"$f":"OFFSET(InputPriceData!F$15,CalculationsAndCharts!$A548+$A$11,IF($C$7,7,0),1,1)","v":40},{"$error":"#N/A"},{"$error":"#N/A"},{"$error":"#N/A"},39.85231680018839,39.85231680018839,0.1074643231700122,0.2804079930572228,0.40991205480619247,-0.64833993971718107,0.877624552167939,0.87826636907787492,null,40.04,36.82,0.9875776397515531,{"$error":"#N/A"},0.2,0.8,{"$error":"#N/A"},40.11,{"$error":"#N/A"},{"$error":"#N/A"},false,false,true,false,true,{"$error":"#N/A"},40.11,{"$error":"#N/A"},40.11,false,true,true,false,false,40.11,{"$error":"#N/A"},40.11,{"$error":"#N/A"}]
[517,{"$f":"OFFSET(InputPriceData!B$15,CalculationsAndCharts!$A549+$A$11,0,1,1)","v":"2011-10-20"},{"$f":"OFFSET(InputPriceData!G$15,CalculationsAndCharts!$A549+$A$11,0,1,1)","v":2109700},{"$f":"OFFSET(InputPriceData!C$15,CalculationsAndCharts!$A549+$A$11,IF($C$7,7,0),1,1)","v":39.840000000000003},{"$f":"OFFSET(InputPriceData!D$15,CalculationsAndCharts!$A549+$A$11,IF($C$7,7,0),1,1)","v":40.1},{"$f":"OFFSET(InputPriceData!E$15,CalculationsAndCharts!$A549+$A$11,IF($C$7,7,0),1,1)","v":39.4},{"$f":"OFFSET(InputPriceData!F$15,CalculationsAndCharts!$A549+$A$11,IF($C$7,7,0),1,1)","v":39.75},{"$error":"#N/A"},{"$error":"#N/A"},{"$error":"#N/A"},39.75090994400707,39.75090994400707,7.7509755437390471E-3,0.37509528670113373,0.40991205480619247,-0.64833993971718107,0.96709973778906999,0.80332965814799917,null,40.04,36.549999999999997,0.91690544412607478,{"$error":"#N/A"},0.2,0.8,{"$error":"#N/A"},{"$error":"#N/A"},{"$error":"#N/A"},0.80332965814799917,false,false,true,true,false,{"$error":"#N/A"},{"$error":"#N/A"},{"$error":"#N/A"},{"$error":"#N/A"},true,false,false,false,false,{"$error":"#N/A"},{"$error":"#N/A"},{"$error":"#N/A"},{"$error":"#N/A"}]
[518,{"$f":"OFFSET(InputPriceData!B$15,CalculationsAndCharts!$A550+$A$11,0,1,1)","v":"2011-10-19"},{"$f":"OFFSET(InputPriceData!G$15,CalculationsAndCharts!$A550+$A$11,0,1,1)","v":1232800},{"$f":"OFFSET(InputPriceData!C$15,CalculationsAndCharts!$A550+$A$11,IF($C$7,7,0),1,1)","v":40.08},{"$f":"OFFSET(InputPriceData!D$15,CalculationsAndCharts!$A550+$A$11,IF($C$7,7,0),1,1)","v":40.46},{"$f":"OFFSET(InputPriceData!E$15,CalculationsAndCharts!$A550+$A$11,IF($C$7,7,0),1,1)","v":39.880000000000003},{"$f":"OFFSET(InputPriceData!F$15,CalculationsAndCharts!$A550+$A$11,IF($C$7,7,0),1,1)","v":39.92},{"$error":"#N/A"},{"$error":"#N/A"},{"$error":"#N/A"},39.580727728596734,39.580727728596734,0.34943402631817666,0.40991205480619247,0.40991205480619247,-0.64833993971718107,1,0.69439259116614305,null,40.04,36.01,0.97022332506203535,{"$error":"#N/A"},0.2,0.8,{"$error":"#N/A"},{"$error":"#N/A"},{"$error":"#N/A"},{"$error":"#N/A"},false,false,true,false,false,{"$error":"#N/A"},{"$error":"#N/A"},{"$error":"#N/A"},{"$error":"#N/A"},false,false,false,false,false,{"$error":"#N/A"},{"$error":"#N/A"},{"$error":"#N/A"},{"$error":"#N/A"}]
[519,{"$f":"OFFSET(InputPriceData!B$15,CalculationsAndCharts!$A551+$A$11,0,1,1)","v":"2011-10-18"},{"$f":"OFFSET(InputPriceData!G$15,CalculationsAndCharts!$A551+$A$11,0,1,1)","v":1647900},{"$f":"OFFSET(InputPriceData!C$15,CalculationsAndCharts!$A551+$A$11,IF($C$7,7,0),1,1)","v":39.43},{"$f":"OFFSET(InputPriceData!D$15,CalculationsAndCharts!$A551+$A$11,IF($C$7,7,0),1,1)","v":40.26},{"$f":"OFFSET(InputPriceData!E$15,CalculationsAndCharts!$A551+$A$11,IF($C$7,7,0),1,1)","v":39.31},{"$f":"OFFSET(InputPriceData!F$15,CalculationsAndCharts!$A551+$A$11,IF($C$7,7,0),1,1)","v":40.04},{"$error":"#N/A"},{"$error":"#N/A"},{"$error":"#N/A"},39.323450953633781,39.323450953633781,0.70243161107073115,0.35219611094807557,0.73105290878141505,-0.64833993971718107,0.72534525008904682,0.60749368824293781,null,40.04,36.01,1,{"$error":"#N/A"},0.2,0.8,{"$error":"#N/A"},{"$error":"#N/A"},{"$error":"#N/A"},{"$error":"#N/A"},false,false,true,false,false,{"$error":"#N/A"},{"$error":"#N/A"},{"$error":"#N/A"},{"$error":"#N/A"},false,false,false,false,false,{"$error":"#N/A"},{"$error":"#N/A"},{"$error":"#N/A"},{"$error":"#N/A"}]
[520,{"$f":"OFFSET(InputPriceData!B$15,CalculationsAndCharts!$A552+$A$11,0,1,1)","v":"2011-10-17"},{"$f":"OFFSET(InputPriceData!G$15,CalculationsAndCharts!$A552+$A$11,0,1,1)","v":1215300},{"$f":"OFFSET(InputPriceData!C$15,CalculationsAndCharts!$A552+$A$11,IF($C$7,7,0),1,1)","v":39.450000000000003},{"$f":"OFFSET(InputPriceData!D$15,CalculationsAndCharts!$A552+$A$11,IF($C$7,7,0),1,1)","v":39.840000000000003},{"$f":"OFFSET(InputPriceData!E$15,CalculationsAndCharts!$A552+$A$11,IF($C$7,7,0),1,1)","v":39.049999999999997},{"$f":"OFFSET(InputPriceData!F$15,CalculationsAndCharts!$A552+$A$11,IF($C$7,7,0),1,1)","v":39.32},{"$error":"#N/A"},{"$error":"#N/A"},{"$error":"#N/A"},39.102001991624583,39.102001991624583,0.19714058684878655,0.31879664926520834,0.97296445171099299,{"$f":"MIN(OFFSET(N552,0,0,$A$22,1))","v":-0.64833993971718107},0.59651759046335429,0.5532647949839109,null,39.33,36.01,0.99698795180722954,{"$error":"#N/A"},0.2,0.8,{"$error":"#N/A"},{"$error":"#N/A"},{"$error":"#N/A"},{"$error":"#N/A"},false,false,true,false,false,{"$error":"#N/A"},{"$error":"#N/A"},{"$error":"#N/A"},{"$error":"#N/A"},false,false,false,false,false,{"$error":"#N/A"},{"$error":"#N/A"},{"$error":"#N/A"},{"$error":"#N/A"}]
[521,{"$f":"OFFSET(InputPriceData!B$15,CalculationsAndCharts!$A553+$A$11,0,1,1)","v":"2011-10-14"},{"$f":"OFFSET(InputPriceData!G$15,CalculationsAndCharts!$A553+$A$11,0,1,1)","v":1078000},{"$f":"OFFSET(InputPriceData!C$15,CalculationsAndCharts!$A553+$A$11,IF($C$7,7,0),1,1)","v":39.090000000000003},{"$f":"OFFSET(InputPriceData!D$15,CalculationsAndCharts!$A553+$A$11,IF($C$7,7,0),1,1)","v":39.340000000000003},{"$f":"OFFSET(InputPriceData!E$15,CalculationsAndCharts!$A553+$A$11,IF($C$7,7,0),1,1)","v":38.68},{"$f":"OFFSET(InputPriceData!F$15,CalculationsAndCharts!$A553+$A$11,IF($C$7,7,0),1,1)","v":39.33},{"$error":"#N/A"},{"$f":"IF($A553=$E$25,I$32,NA())","v":{"$error":"#N/A"}},{"$error":"#N/A"},38.919317749966908,38.919317749966908,0.38969951051136664,0.31820966568238579,0.97296445171099299,-0.64833993971718107,0.59615554642897928,0.48768022787904103,null,39.33,36.01,1,{"$error":"#N/A"},0.2,0.8,{"$error":"#N/A"},{"$error":"#N/A"},{"$error":"#N/A"},{"$error":"#N/A"},false,false,true,false,false,{"$error":"#N/A"},{"$error":"#N/A"},{"$error":"#N/A"},{"$error":"#N/A"},false,false,false,false,false,{"$error":"#N/A"},{"$error":"#N/A"},{"$error":"#N/A"},{"$error":"#N/A"}]
[522,{"$f":"OFFSET(InputPriceData!B$15,CalculationsAndCharts!$A554+$A$11,0,1,1)","v":"2011-10-13"},{"$f":"OFFSET(InputPriceData!G$15,CalculationsAndCharts!$A554+$A$11,0,1,1)","v":1153900},{"$f":"OFFSET(InputPriceData!C$15,CalculationsAndCharts!$A554+$A$11,IF($C$7,7,0),1,1)","v":38.78},{"$f":"OFFSET(InputPriceData!D$15,CalculationsAndCharts!$A554+$A$11,IF($C$7,7,0),1,1)","v":38.92},{"$f":"OFFSET(InputPriceData!E$15,CalculationsAndCharts!$A554+$A$11,IF($C$7,7,0),1,1)","v":38.35},{"$f":"OFFSET(InputPriceData!F$15,CalculationsAndCharts!$A554+$A$11,IF($C$7,7,0),1,1)","v":38.83},{"$error":"#N/A"},{"$error":"#N/A"},{"$error":"#N/A"},38.724830676854928,38.724830676854928,5.7069854621514038E-2,0.30152556371352091,0.97296445171099299,-0.64833993971718107,0.58586500379116635,0.39509530872467014,null,39.07,36.01,0.92156862745097978,{"$error":"#N/A"},0.2,0.8,{"$error":"#N/A"},{"$error":"#N/A"},{"$error":"#N/A"},{"$error":"#N/A"},false,false,true,false,false,{"$error":"#N/A"},{"$error":"#N/A"},{"$error":"#N/A"},{"$error":"#N/A"},false,false,false,false,false,{"$error":"#N/A"},{"$error":"#N/A"},{"$error":"#N/A"},{"$error":"#N/A"}]
[523,{"$f":"OFFSET(InputPriceData!B$15,CalculationsAndCharts!$A555+$A$11,0,1,1)","v":"2011-10-12"},{"$f":"OFFSET(InputPriceData!G$15,CalculationsAndCharts!$A555+$A$11,0,1,1)","v":1919100},{"$f":"OFFSET(InputPriceData!C$15,CalculationsAndCharts!$A555+$A$11,IF($C$7,7,0),1,1)","v":39.68},{"$f":"OFFSET(InputPriceData!D$15,CalculationsAndCharts!$A555+$A$11,IF($C$7,7,0),1,1)","v":39.69},{"$f":"OFFSET(InputPriceData!E$15,CalculationsAndCharts!$A555+$A$11,IF($C$7,7,0),1,1)","v":38.76},{"$f":"OFFSET(InputPriceData!F$15,CalculationsAndCharts!$A555+$A$11,IF($C$7,7,0),1,1)","v":38.950000000000003},{"$error":"#N/A"},{"$error":"#N/A"},{"$error":"#N/A"},38.470558392056773,38.470558392056773,0.33783186526266934,0.21286851289351766,0.97296445171099299,-0.64833993971718107,0.53118245849693757,0.29056735586242277,null,39.07,36.01,0.96078431372549111,{"$error":"#N/A"},0.2,0.8,{"$error":"#N/A"},{"$error":"#N/A"},{"$error":"#N/A"},{"$error":"#N/A"},false,false,true,false,false,{"$error":"#N/A"},{"$error":"#N/A"},{"$error":"#N/A"},{"$error":"#N/A"},false,false,false,false,false,{"$error":"#N/A"},{"$error":"#N/A"},{"$error":"#N/A"},{"$error":"#N/A"}]
[524,{"$f":"OFFSET(InputPriceData!B$15,CalculationsAndCharts!$A556+$A$11,0,1,1)","v":"2011-10-11"},{"$f":"OFFSET(InputPriceData!G$15,CalculationsAndCharts!$A556+$A$11,0,1,1)","v":1868600},{"$f":"OFFSET(InputPriceData!C$15,CalculationsAndCharts!$A556+$A$11,IF($C$7,7,0),1,1)","v":38.46},{"$f":"OFFSET(InputPriceData!D$15,CalculationsAndCharts!$A556+$A$11,IF($C$7,7,0),1,1)","v":39.4},{"$f":"OFFSET(InputPriceData!E$15,CalculationsAndCharts!$A556+$A$11,IF($C$7,7,0),1,1)","v":38.46},{"$f":"OFFSET(InputPriceData!F$15,CalculationsAndCharts!$A556+$A$11,IF($C$7,7,0),1,1)","v":39.07},{"$error":"#N/A"},{"$error":"#N/A"},{"$error":"#N/A"},38.110484896642966,38.110484896642966,0.67258469509907637,-1.217563287203971E-2,0.97296445171099299,-0.64833993971718107,0.39237808162892662,0.20134025226969854,null,39.07,36.01,1,{"$error":"#N/A"},0.2,0.8,{"$error":"#N/A"},{"$error":"#N/A"},{"$error":"#N/A"},{"$error":"#N/A"},false,false,true,false,false,{"$error":"#N/A"},{"$error":"#N/A"},{"$error":"#N/A"},{"$error":"#N/A"},false,false,false,false,false,{"$error":"#N/A"},{"$error":"#N/A"},{"$error":"#N/A"},{"$error":"#N/A"}]
[525,{"$f":"OFFSET(InputPriceData!B$15,CalculationsAndCharts!$A557+$A$11,0,1,1)","v":"2011-10-10"},{"$f":"OFFSET(InputPriceData!G$15,CalculationsAndCharts!$A557+$A$11,0,1,1)","v":1169100},{"$f":"OFFSET(InputPriceData!C$15,CalculationsAndCharts!$A557+$A$11,IF($C$7,7,0),1,1)","v":38.299999999999997},{"$f":"OFFSET(InputPriceData!D$15,CalculationsAndCharts!$A557+$A$11,IF($C$7,7,0),1,1)","v":38.47},{"$f":"OFFSET(InputPriceData!E$15,CalculationsAndCharts!$A557+$A$11,IF($C$7,7,0),1,1)","v":37.97},{"$f":"OFFSET(InputPriceData!F$15,CalculationsAndCharts!$A557+$A$11,IF($C$7,7,0),1,1)","v":38.450000000000003},{"$error":"#N/A"},{"$error":"#N/A"},{"$error":"#N/A"},37.78863757227095,37.78863757227095,0.2555615152728421,-0.24090635804923854,0.97296445171099299,-0.64833993971718107,0.25129986930402537,0.14468868647131078,null,38.450000000000003,36.01,1,{"$error":"#N/A"},0.2,0.8,{"$error":"#N/A"},{"$error":"#N/A"},{"$error":"#N/A"},{"$error":"#N/A"},false,false,true,false,false,{"$error":"#N/A"},{"$error":"#N/A"},{"$error":"#N/A"},{"$error":"#N/A"},false,false,false,false,false,{"$error":"#N/A"},{"$error":"#N/A"},{"$error":"#N/A"},{"$error":"#N/A"}]
[526,{"$f":"OFFSET(InputPriceData!B$15,CalculationsAndCharts!$A558+$A$11,0,1,1)","v":"2011-10-07"},{"$f":"OFFSET(InputPriceData!G$15,CalculationsAndCharts!$A558+$A$11,0,1,1)","v":1500100},{"$f":"OFFSET(InputPriceData!C$15,CalculationsAndCharts!$A558+$A$11,IF($C$7,7,0),1,1)","v":38.03},{"$f":"OFFSET(InputPriceData!D$15,CalculationsAndCharts!$A558+$A$11,IF($C$7,7,0),1,1)","v":38.39},{"$f":"OFFSET(InputPriceData!E$15,CalculationsAndCharts!$A558+$A$11,IF($C$7,7,0),1,1)","v":37.36},{"$f":"OFFSET(InputPriceData!F$15,CalculationsAndCharts!$A558+$A$11,IF($C$7,7,0),1,1)","v":37.799999999999997},{"$error":"#N/A"},{"$error":"#N/A"},{"$error":"#N/A"},37.603949931728579,37.603949931728579,-0.28178157751283328,-0.363143383938556,0.97296445171099299,-0.64833993971718107,0.17590562098422569,0.11597800035216153,null,38.07,35.74,0.88412017167381829,{"$error":"#N/A"},0.2,0.8,{"$error":"#N/A"},{"$error":"#N/A"},{"$error":"#N/A"},{"$error":"#N/A"},false,false,true,false,false,{"$error":"#N/A"},{"$error":"#N/A"},{"$error":"#N/A"},{"$error":"#N/A"},false,false,false,false,false,{"$error":"#N/A"},{"$error":"#N/A"},{"$error":"#N/A"},{"$error":"#N/A"}]
[527,{"$f":"OFFSET(InputPriceData!B$15,CalculationsAndCharts!$A559+$A$11,0,1,1)","v":"2011-10-06"},{"$f":"OFFSET(InputPriceData!G$15,CalculationsAndCharts!$A559+$A$11,0,1,1)","v":2112900},{"$f":"OFFSET(InputPriceData!C$15,CalculationsAndCharts!$A559+$A$11,IF($C$7,7,0),1,1)","v":38},{"$f":"OFFSET(InputPriceData!D$15,CalculationsAndCharts!$A559+$A$11,IF($C$7,7,0),1,1)","v":38.11},{"$f":"OFFSET(InputPriceData!E$15,CalculationsAndCharts!$A559+$A$11,IF($C$7,7,0),1,1)","v":37.409999999999997},{"$f":"OFFSET(InputPriceData!F$15,CalculationsAndCharts!$A559+$A$11,IF($C$7,7,0),1,1)","v":37.880000000000003},{"$error":"#N/A"},{"$error":"#N/A"},{"$error":"#N/A"},37.475595865646838,37.475595865646838,-0.12328575712819434,-0.44491236547905932,0.97296445171099299,-0.64833993971718107,0.12547154952126327,0.10625646857574854,null,38.07,34.799999999999997,0.94189602446483256,{"$error":"#N/A"},0.2,0.8,{"$error":"#N/A"},{"$error":"#N/A"},{"$error":"#N/A"},{"$error":"#N/A"},false,false,true,false,false,{"$error":"#N/A"},{"$error":"#N/A"},{"$error":"#N/A"},{"$error":"#N/A"},false,false,false,false,false,{"$error":"#N/A"},{"$error":"#N/A"},{"$error":"#N/A"},{"$error":"#N/A"}]
[528,{"$f":"OFFSET(InputPriceData!B$15,CalculationsAndCharts!$A560+$A$11,0,1,1)","v":"2011-10-05"},{"$f":"OFFSET(InputPriceData!G$15,CalculationsAndCharts!$A560+$A$11,0,1,1)","v":1806100},{"$f":"OFFSET(InputPriceData!C$15,CalculationsAndCharts!$A560+$A$11,IF($C$7,7,0),1,1)","v":37.36},{"$f":"OFFSET(InputPriceData!D$15,CalculationsAndCharts!$A560+$A$11,IF($C$7,7,0),1,1)","v":37.869999999999997},{"$f":"OFFSET(InputPriceData!E$15,CalculationsAndCharts!$A560+$A$11,IF($C$7,7,0),1,1)","v":36.950000000000003},{"$f":"OFFSET(InputPriceData!F$15,CalculationsAndCharts!$A560+$A$11,IF($C$7,7,0),1,1)","v":37.71},{"$error":"#N/A"},{"$error":"#N/A"},{"$error":"#N/A"},37.387798892882245,37.387798892882245,-0.2062165934171637,-0.49454668499245524,1.7080637519022206,-0.64833993971718107,6.5266089707673905E-2,0.1099662037224548,null,38.07,34.799999999999997,0.88990825688073427,{"$error":"#N/A"},0.2,0.8,{"$error":"#N/A"},{"$error":"#N/A"},{"$error":"#N/A"},{"$error":"#N/A"},false,false,true,false,false,{"$error":"#N/A"},{"$error":"#N/A"},{"$error":"#N/A"},{"$error":"#N/A"},false,false,false,false,false,{"$error":"#N/A"},{"$error":"#N/A"},{"$error":"#N/A"},{"$error":"#N/A"}]
[529,{"$f":"OFFSET(InputPriceData!B$15,CalculationsAndCharts!$A561+$A$11,0,1,1)","v":"2011-10-04"},{"$f":"OFFSET(InputPriceData!G$15,CalculationsAndCharts!$A561+$A$11,0,1,1)","v":2109700},{"$f":"OFFSET(InputPriceData!C$15,CalculationsAndCharts!$A561+$A$11,IF($C$7,7,0),1,1)","v":36.4},{"$f":"OFFSET(InputPriceData!D$15,CalculationsAndCharts!$A561+$A$11,IF($C$7,7,0),1,1)","v":37.25},{"$f":"OFFSET(InputPriceData!E$15,CalculationsAndCharts!$A561+$A$11,IF($C$7,7,0),1,1)","v":35.83},{"$f":"OFFSET(InputPriceData!F$15,CalculationsAndCharts!$A561+$A$11,IF($C$7,7,0),1,1)","v":37.22},{"$error":"#N/A"},{"$error":"#N/A"},{"$error":"#N/A"},37.424949617367744,37.424949617367744,-0.65592074530074718,-0.41224948503797038,2.1246576181756227,-0.64833993971718107,8.5139077748995734E-2,0.11000175895756187,null,38.07,34.799999999999997,0.74006116207951056,{"$error":"#N/A"},0.2,0.8,{"$error":"#N/A"},{"$error":"#N/A"},{"$error":"#N/A"},{"$error":"#N/A"},false,false,true,false,false,{"$error":"#N/A"},{"$error":"#N/A"},{"$error":"#N/A"},{"$error":"#N/A"},false,false,false,false,false,{"$error":"#N/A"},{"$error":"#N/A"},{"$error":"#N/A"},{"$error":"#N/A"}]
[530,{"$f":"OFFSET(InputPriceData!B$15,CalculationsAndCharts!$A562+$A$11,0,1,1)","v":"2011-10-03"},{"$f":"OFFSET(InputPriceData!G$15,CalculationsAndCharts!$A562+$A$11,0,1,1)","v":2064100},{"$f":"OFFSET(InputPriceData!C$15,CalculationsAndCharts!$A562+$A$11,IF($C$7,7,0),1,1)","v":37.71},{"$f":"OFFSET(InputPriceData!D$15,CalculationsAndCharts!$A562+$A$11,IF($C$7,7,0),1,1)","v":37.770000000000003},{"$f":"OFFSET(InputPriceData!E$15,CalculationsAndCharts!$A562+$A$11,IF($C$7,7,0),1,1)","v":36.51},{"$f":"OFFSET(InputPriceData!F$15,CalculationsAndCharts!$A562+$A$11,IF($C$7,7,0),1,1)","v":36.82},{"$error":"#N/A"},{"$error":"#N/A"},{"$error":"#N/A"},37.539924872739071,37.539924872739071,-1.0920688400228968,-0.22373959092812265,2.2927979832381831,-0.64833993971718107,0.1443660106773926,8.8670805168100719E-2,null,38.07,34.799999999999997,0.61773700305810431,{"$error":"#N/A"},0.2,0.8,{"$error":"#N/A"},{"$error":"#N/A"},{"$error":"#N/A"},{"$error":"#N/A"},false,false,true,false,false,{"$error":"#N/A"},{"$error":"#N/A"},{"$error":"#N/A"},{"$error":"#N/A"},false,false,false,false,false,{"$error":"#N/A"},{"$error":"#N/A"},{"$error":"#N/A"},{"$error":"#N/A"}]
[531,{"$f":"OFFSET(InputPriceData!B$15,CalculationsAndCharts!$A563+$A$11,0,1,1)","v":"2011-09-30"},{"$f":"OFFSET(InputPriceData!G$15,CalculationsAndCharts!$A563+$A$11,0,1,1)","v":1778000},{"$f":"OFFSET(InputPriceData!C$15,CalculationsAndCharts!$A563+$A$11,IF($C$7,7,0),1,1)","v":37.340000000000003},{"$f":"OFFSET(InputPriceData!D$15,CalculationsAndCharts!$A563+$A$11,IF($C$7,7,0),1,1)","v":38.39},{"$f":"OFFSET(InputPriceData!E$15,CalculationsAndCharts!$A563+$A$11,IF($C$7,7,0),1,1)","v":36.94},{"$f":"OFFSET(InputPriceData!F$15,CalculationsAndCharts!$A563+$A$11,IF($C$7,7,0),1,1)","v":37.76},{"$error":"#N/A"},{"$error":"#N/A"},{"$error":"#N/A"},37.499477089350364,37.499477089350364,-0.13345419340143699,-0.16561255602466679,2.417119677202666,-0.64833993971718107,0.15747308528486031,5.2860242637608849E-2,null,38.07,34.799999999999997,0.90519877675840921,{"$error":"#N/A"},0.2,0.8,{"$error":"#N/A"},{"$error":"#N/A"},{"$error":"#N/A"},{"$error":"#N/A"},false,false,true,false,false,{"$error":"#N/A"},{"$error":"#N/A"},{"$error":"#N/A"},{"$error":"#N/A"},false,false,false,false,false,{"$error":"#N/A"},{"$error":"#N/A"},{"$error":"#N/A"},{"$error":"#N/A"}]
[532,{"$f":"OFFSET(InputPriceData!B$15,CalculationsAndCharts!$A564+$A$11,0,1,1)","v":"2011-09-29"},{"$f":"OFFSET(InputPriceData!G$15,CalculationsAndCharts!$A564+$A$11,0,1,1)","v":3239300},{"$f":"OFFSET(InputPriceData!C$15,CalculationsAndCharts!$A564+$A$11,IF($C$7,7,0),1,1)","v":38.090000000000003},{"$f":"OFFSET(InputPriceData!D$15,CalculationsAndCharts!$A564+$A$11,IF($C$7,7,0),1,1)","v":38.22},{"$f":"OFFSET(InputPriceData!E$15,CalculationsAndCharts!$A564+$A$11,IF($C$7,7,0),1,1)","v":36.69},{"$f":"OFFSET(InputPriceData!F$15,CalculationsAndCharts!$A564+$A$11,IF($C$7,7,0),1,1)","v":37.72},{"$error":"#N/A"},{"$error":"#N/A"},{"$error":"#N/A"},37.272210694972898,37.272210694972898,-5.5838233002881377E-2,-0.29948711414226387,2.417119677202666,-0.64833993971718107,0.11380114865954169,2.6143966165054423E-2,null,38.07,34.799999999999997,0.89296636085626879,{"$error":"#N/A"},0.2,0.8,{"$error":"#N/A"},{"$error":"#N/A"},{"$error":"#N/A"},{"$error":"#N/A"},false,false,true,false,false,{"$error":"#N/A"},{"$error":"#N/A"},{"$error":"#N/A"},{"$error":"#N/A"},false,false,false,false,false,{"$error":"#N/A"},{"$error":"#N/A"},{"$error":"#N/A"},{"$error":"#N/A"}]
[533,{"$f":"OFFSET(InputPriceData!B$15,CalculationsAndCharts!$A565+$A$11,0,1,1)","v":"2011-09-28"},{"$f":"OFFSET(InputPriceData!G$15,CalculationsAndCharts!$A565+$A$11,0,1,1)","v":2282900},{"$f":"OFFSET(InputPriceData!C$15,CalculationsAndCharts!$A565+$A$11,IF($C$7,7,0),1,1)","v":37.31},{"$f":"OFFSET(InputPriceData!D$15,CalculationsAndCharts!$A565+$A$11,IF($C$7,7,0),1,1)","v":38.200000000000003},{"$f":"OFFSET(InputPriceData!E$15,CalculationsAndCharts!$A565+$A$11,IF($C$7,7,0),1,1)","v":37.22},{"$f":"OFFSET(InputPriceData!F$15,CalculationsAndCharts!$A565+$A$11,IF($C$7,7,0),1,1)","v":37.78},{"$error":"#N/A"},{"$error":"#N/A"},{"$error":"#N/A"},37.007553577473203,37.007553577473203,0.14805727165987045,-0.49891059800401699,2.417119677202666,-0.64833993971718107,4.8746145892246226E-2,2.8576013130997877E-2,null,38.07,34.799999999999997,0.91131498470948047,{"$error":"#N/A"},0.2,0.8,{"$error":"#N/A"},{"$error":"#N/A"},{"$error":"#N/A"},{"$error":"#N/A"},false,false,true,false,false,{"$error":"#N/A"},{"$error":"#N/A"},{"$error":"#N/A"},{"$error":"#N/A"},false,false,false,false,false,{"$error":"#N/A"},{"$error":"#N/A"},{"$error":"#N/A"},{"$error":"#N/A"}]
[534,{"$f":"OFFSET(InputPriceData!B$15,CalculationsAndCharts!$A566+$A$11,0,1,1)","v":"2011-09-27"},{"$f":"OFFSET(InputPriceData!G$15,CalculationsAndCharts!$A566+$A$11,0,1,1)","v":1675400},{"$f":"OFFSET(InputPriceData!C$15,CalculationsAndCharts!$A566+$A$11,IF($C$7,7,0),1,1)","v":37.729999999999997},{"$f":"OFFSET(InputPriceData!D$15,CalculationsAndCharts!$A566+$A$11,IF($C$7,7,0),1,1)","v":37.92},{"$f":"OFFSET(InputPriceData!E$15,CalculationsAndCharts!$A566+$A$11,IF($C$7,7,0),1,1)","v":37.1},{"$f":"OFFSET(InputPriceData!F$15,CalculationsAndCharts!$A566+$A$11,IF($C$7,7,0),1,1)","v":37.32},{"$error":"#N/A"},{"$error":"#N/A"},{"$error":"#N/A"},36.821026662242993,36.821026662242993,-0.1796430746964327,-0.64833993971718107,2.417119677202666,-0.64833993971718107,0,6.6922275683050494E-2,null,38.07,34.799999999999997,0.77064220183486265,{"$error":"#N/A"},0.2,0.8,{"$error":"#N/A"},{"$error":"#N/A"},{"$error":"#N/A"},{"$error":"#N/A"},false,false,true,false,false,{"$error":"#N/A"},{"$error":"#N/A"},{"$error":"#N/A"},{"$error":"#N/A"},false,false,false,false,false,{"$error":"#N/A"},{"$error":"#N/A"},{"$error":"#N/A"},{"$error":"#N/A"}]
[535,{"$f":"OFFSET(InputPriceData!B$15,CalculationsAndCharts!$A567+$A$11,0,1,1)","v":"2011-09-26"},{"$f":"OFFSET(InputPriceData!G$15,CalculationsAndCharts!$A567+$A$11,0,1,1)","v":2341700},{"$f":"OFFSET(InputPriceData!C$15,CalculationsAndCharts!$A567+$A$11,IF($C$7,7,0),1,1)","v":36.9},{"$f":"OFFSET(InputPriceData!D$15,CalculationsAndCharts!$A567+$A$11,IF($C$7,7,0),1,1)","v":37.119999999999997},{"$f":"OFFSET(InputPriceData!E$15,CalculationsAndCharts!$A567+$A$11,IF($C$7,7,0),1,1)","v":36.409999999999997},{"$f":"OFFSET(InputPriceData!F$15,CalculationsAndCharts!$A567+$A$11,IF($C$7,7,0),1,1)","v":37.08},{"$error":"#N/A"},{"$error":"#N/A"},{"$error":"#N/A"},36.816168557121934,36.816168557121934,-0.33050225935095479,-0.62234756481315467,2.417119677202666,-0.62234756481315467,0,0.13396778407554638,null,38.07,33.79,0.76869158878504629,{"$error":"#N/A"},0.2,0.8,{"$error":"#N/A"},{"$error":"#N/A"},0.13396778407554638,{"$error":"#N/A"},true,false,true,false,false,{"$error":"#N/A"},{"$error":"#N/A"},{"$error":"#N/A"},{"$error":"#N/A"},false,false,false,false,false,{"$error":"#N/A"},{"$error":"#N/A"},{"$error":"#N/A"},{"$error":"#N/A"}]
[536,{"$f":"OFFSET(InputPriceData!B$15,CalculationsAndCharts!$A568+$A$11,0,1,1)","v":"2011-09-23"},{"$f":"OFFSET(InputPriceData!G$15,CalculationsAndCharts!$A568+$A$11,0,1,1)","v":2712700},{"$f":"OFFSET(InputPriceData!C$15,CalculationsAndCharts!$A568+$A$11,IF($C$7,7,0),1,1)","v":36},{"$f":"OFFSET(InputPriceData!D$15,CalculationsAndCharts!$A568+$A$11,IF($C$7,7,0),1,1)","v":36.71},{"$f":"OFFSET(InputPriceData!E$15,CalculationsAndCharts!$A568+$A$11,IF($C$7,7,0),1,1)","v":35.979999999999997},{"$f":"OFFSET(InputPriceData!F$15,CalculationsAndCharts!$A568+$A$11,IF($C$7,7,0),1,1)","v":36.549999999999997},{"$error":"#N/A"},{"$error":"#N/A"},{"$error":"#N/A"},37.040588661322779,37.040588661322779,-0.82781220631282593,-0.3331093652959965,2.417119677202666,-0.3331093652959965,0,0.21452663662090887,null,38.07,32.549999999999997,0.72463768115941984,{"$error":"#N/A"},0.2,0.8,{"$error":"#N/A"},{"$error":"#N/A"},{"$error":"#N/A"},{"$error":"#N/A"},false,false,true,false,false,{"$error":"#N/A"},{"$error":"#N/A"},{"$error":"#N/A"},{"$error":"#N/A"},false,false,false,false,false,{"$error":"#N/A"},{"$error":"#N/A"},{"$error":"#N/A"},{"$error":"#N/A"}]
[537,{"$f":"OFFSET(InputPriceData!B$15,CalculationsAndCharts!$A569+$A$11,0,1,1)","v":"2011-09-22"},{"$f":"OFFSET(InputPriceData!G$15,CalculationsAndCharts!$A569+$A$11,0,1,1)","v":3176800},{"$f":"OFFSET(InputPriceData!C$15,CalculationsAndCharts!$A569+$A$11,IF($C$7,7,0),1,1)","v":36.22},{"$f":"OFFSET(InputPriceData!D$15,CalculationsAndCharts!$A569+$A$11,IF($C$7,7,0),1,1)","v":37.54},{"$f":"OFFSET(InputPriceData!E$15,CalculationsAndCharts!$A569+$A$11,IF($C$7,7,0),1,1)","v":35.76},{"$f":"OFFSET(InputPriceData!F$15,CalculationsAndCharts!$A569+$A$11,IF($C$7,7,0),1,1)","v":36.01},{"$error":"#N/A"},{"$error":"#N/A"},{"$error":"#N/A"},37.447389599356988,37.447389599356988,-1.4295866063724418,0.21869449538705554,2.417119677202666,8.6194375576484294E-2,5.6844429857160969E-2,0.2783604736429432,null,38.07,32.229999999999997,0.64726027397260255,{"$error":"#N/A"},0.2,0.8,{"$error":"#N/A"},{"$error":"#N/A"},{"$error":"#N/A"},{"$error":"#N/A"},false,false,true,false,false,{"$error":"#N/A"},{"$error":"#N/A"},{"$error":"#N/A"},{"$error":"#N/A"},false,false,false,false,false,{"$error":"#N/A"},{"$error":"#N/A"},{"$error":"#N/A"},{"$error":"#N/A"}]
[538,{"$f":"OFFSET(InputPriceData!B$15,CalculationsAndCharts!$A570+$A$11,0,1,1)","v":"2011-09-21"},{"$f":"OFFSET(InputPriceData!G$15,CalculationsAndCharts!$A570+$A$11,0,1,1)","v":2208600},{"$f":"OFFSET(InputPriceData!C$15,CalculationsAndCharts!$A570+$A$11,IF($C$7,7,0),1,1)","v":37.94},{"$f":"OFFSET(InputPriceData!D$15,CalculationsAndCharts!$A570+$A$11,IF($C$7,7,0),1,1)","v":37.99},{"$f":"OFFSET(InputPriceData!E$15,CalculationsAndCharts!$A570+$A$11,IF($C$7,7,0),1,1)","v":37.049999999999997},{"$f":"OFFSET(InputPriceData!F$15,CalculationsAndCharts!$A570+$A$11,IF($C$7,7,0),1,1)","v":37.08},{"$error":"#N/A"},{"$error":"#N/A"},{"$error":"#N/A"},37.717981853531384,37.717981853531384,-0.37028894453344213,0.73105290878141505,2.417119677202666,8.6194375576484294E-2,0.27665345292491444,0.2797358123958365,null,38.07,32.229999999999997,0.83047945205479423,{"$error":"#N/A"},0.2,0.8,{"$error":"#N/A"},{"$error":"#N/A"},{"$error":"#N/A"},{"$error":"#N/A"},false,false,true,false,false,{"$error":"#N/A"},{"$error":"#N/A"},{"$error":"#N/A"},{"$error":"#N/A"},false,false,false,false,false,{"$error":"#N/A"},{"$error":"#N/A"},{"$error":"#N/A"},{"$error":"#N/A"}]
[539,{"$f":"OFFSET(InputPriceData!B$15,CalculationsAndCharts!$A571+$A$11,0,1,1)","v":"2011-09-20"},{"$f":"OFFSET(InputPriceData!G$15,CalculationsAndCharts!$A571+$A$11,0,1,1)","v":3229200},{"$f":"OFFSET(InputPriceData!C$15,CalculationsAndCharts!$A571+$A$11,IF($C$7,7,0),1,1)","v":37.950000000000003},{"$f":"OFFSET(InputPriceData!D$15,CalculationsAndCharts!$A571+$A$11,IF($C$7,7,0),1,1)","v":38},{"$f":"OFFSET(InputPriceData!E$15,CalculationsAndCharts!$A571+$A$11,IF($C$7,7,0),1,1)","v":37.46},{"$f":"OFFSET(InputPriceData!F$15,CalculationsAndCharts!$A571+$A$11,IF($C$7,7,0),1,1)","v":37.65},{"$error":"#N/A"},{"$error":"#N/A"},{"$error":"#N/A"},37.653962989539551,37.653962989539551,0.35849121478278456,0.97296445171099299,2.417119677202666,8.6194375576484294E-2,0.38043693442936555,0.21354114996487797,null,38.07,32.229999999999997,0.92808219178082163,{"$error":"#N/A"},0.2,0.8,{"$error":"#N/A"},{"$error":"#N/A"},{"$error":"#N/A"},{"$error":"#N/A"},false,false,true,false,false,{"$error":"#N/A"},{"$error":"#N/A"},{"$error":"#N/A"},{"$error":"#N/A"},false,false,false,false,false,{"$error":"#N/A"},{"$error":"#N/A"},{"$error":"#N/A"},{"$error":"#N/A"}]
[540,{"$f":"OFFSET(InputPriceData!B$15,CalculationsAndCharts!$A572+$A$11,0,1,1)","v":"2011-09-19"},{"$f":"OFFSET(InputPriceData!G$15,CalculationsAndCharts!$A572+$A$11,0,1,1)","v":1595600},{"$f":"OFFSET(InputPriceData!C$15,CalculationsAndCharts!$A572+$A$11,IF($C$7,7,0),1,1)","v":37.799999999999997},{"$f":"OFFSET(InputPriceData!D$15,CalculationsAndCharts!$A572+$A$11,IF($C$7,7,0),1,1)","v":38.25},{"$f":"OFFSET(InputPriceData!E$15,CalculationsAndCharts!$A572+$A$11,IF($C$7,7,0),1,1)","v":37.450000000000003},{"$f":"OFFSET(InputPriceData!F$15,CalculationsAndCharts!$A572+$A$11,IF($C$7,7,0),1,1)","v":37.9},{"$error":"#N/A"},{"$error":"#N/A"},{"$error":"#N/A"},37.320467171112064,37.320467171112064,0.88047610452747127,0.95868472754901468,2.417119677202666,8.6194375576484294E-2,0.37431073031977186,0.12337962213761275,null,38.07,31.94,0.97226753670473054,{"$error":"#N/A"},0.2,0.8,{"$error":"#N/A"},{"$error":"#N/A"},{"$error":"#N/A"},{"$error":"#N/A"},false,false,true,false,false,{"$error":"#N/A"},{"$error":"#N/A"},{"$error":"#N/A"},{"$error":"#N/A"},false,false,false,false,false,{"$error":"#N/A"},{"$error":"#N/A"},{"$error":"#N/A"},{"$error":"#N/A"}]
[541,{"$f":"OFFSET(InputPriceData!B$15,CalculationsAndCharts!$A573+$A$11,0,1,1)","v":"2011-09-16"},{"$f":"OFFSET(InputPriceData!G$15,CalculationsAndCharts!$A573+$A$11,0,1,1)","v":2535200},{"$f":"OFFSET(InputPriceData!C$15,CalculationsAndCharts!$A573+$A$11,IF($C$7,7,0),1,1)","v":37.56},{"$f":"OFFSET(InputPriceData!D$15,CalculationsAndCharts!$A573+$A$11,IF($C$7,7,0),1,1)","v":38.590000000000003},{"$f":"OFFSET(InputPriceData!E$15,CalculationsAndCharts!$A573+$A$11,IF($C$7,7,0),1,1)","v":37.520000000000003},{"$f":"OFFSET(InputPriceData!F$15,CalculationsAndCharts!$A573+$A$11,IF($C$7,7,0),1,1)","v":38.07},{"$error":"#N/A"},{"$f":"IF($A573=$E$25,I$32,NA())","v":{"$error":"#N/A"}},{"$error":"#N/A"},36.789371643782594,36.789371643782594,1.4125018401840017,0.71520217766465521,2.417119677202666,8.6194375576484294E-2,0.2698532645595037,6.0489037120120562E-2,null,38.07,31.94,1,{"$error":"#N/A"},0.2,0.8,{"$error":"#N/A"},{"$error":"#N/A"},{"$error":"#N/A"},{"$error":"#N/A"},false,false,true,false,false,{"$error":"#N/A"},{"$error":"#N/A"},{"$error":"#N/A"},{"$error":"#N/A"},false,false,false,false,false,{"$error":"#N/A"},{"$error":"#N/A"},{"$error":"#N/A"},{"$error":"#N/A"}]
[542,{"$f":"OFFSET(InputPriceData!B$15,CalculationsAndCharts!$A574+$A$11,0,1,1)","v":"2011-09-15"},{"$f":"OFFSET(InputPriceData!G$15,CalculationsAndCharts!$A574+$A$11,0,1,1)","v":2013700},{"$f":"OFFSET(InputPriceData!C$15,CalculationsAndCharts!$A574+$A$11,IF($C$7,7,0),1,1)","v":37.25},{"$f":"OFFSET(InputPriceData!D$15,CalculationsAndCharts!$A574+$A$11,IF($C$7,7,0),1,1)","v":37.5},{"$f":"OFFSET(InputPriceData!E$15,CalculationsAndCharts!$A574+$A$11,IF($C$7,7,0),1,1)","v":37.049999999999997},{"$f":"OFFSET(InputPriceData!F$15,CalculationsAndCharts!$A574+$A$11,IF($C$7,7,0),1,1)","v":37.39},{"$error":"#N/A"},{"$error":"#N/A"},{"$error":"#N/A"},36.233956997252022,36.233956997252022,1.1050069628157879,0.38865237755354665,2.417119677202666,8.6194375576484294E-2,0.12975877080490356,6.8580031868927471E-2,null,37.39,31.94,1,{"$error":"#N/A"},0.2,0.8,37.25,{"$error":"#N/A"},{"$error":"#N/A"},{"$error":"#N/A"},false,true,true,false,false,37.25,{"$error":"#N/A"},37.25,{"$error":"#N/A"},false,false,false,false,true,{"$error":"#N/A"},37.25,{"$error":"#N/A"},37.25]
[543,{"$f":"OFFSET(InputPriceData!B$15,CalculationsAndCharts!$A575+$A$11,0,1,1)","v":"2011-09-14"},{"$f":"OFFSET(InputPriceData!G$15,CalculationsAndCharts!$A575+$A$11,0,1,1)","v":2472300},{"$f":"OFFSET(InputPriceData!C$15,CalculationsAndCharts!$A575+$A$11,IF($C$7,7,0),1,1)","v":36.08},{"$f":"OFFSET(InputPriceData!D$15,CalculationsAndCharts!$A575+$A$11,IF($C$7,7,0),1,1)","v":37.1},{"$f":"OFFSET(InputPriceData!E$15,CalculationsAndCharts!$A575+$A$11,IF($C$7,7,0),1,1)","v":35.86},{"$f":"OFFSET(InputPriceData!F$15,CalculationsAndCharts!$A575+$A$11,IF($C$7,7,0),1,1)","v":37.01},{"$error":"#N/A"},{"$error":"#N/A"},{"$error":"#N/A"},35.804306693006609,35.804306693006609,1.0543109328177735,0.13020999218290055,2.417119677202666,8.6194375576484294E-2,1.8883323534953499E-2,0.16901594231437694,null,37.130000000000003,31.94,0.97687861271676213,{"$error":"#N/A"},0.2,0.8,{"$error":"#N/A"},{"$error":"#N/A"},0.16901594231437694,{"$error":"#N/A"},true,false,false,false,false,{"$error":"#N/A"},{"$error":"#N/A"},{"$error":"#N/A"},{"$error":"#N/A"},false,false,true,true,false,{"$error":"#N/A"},{"$error":"#N/A"},{"$error":"#N/A"},{"$error":"#N/A"}]
[544,{"$f":"OFFSET(InputPriceData!B$15,CalculationsAndCharts!$A576+$A$11,0,1,1)","v":"2011-09-13"},{"$f":"OFFSET(InputPriceData!G$15,CalculationsAndCharts!$A576+$A$11,0,1,1)","v":3631700},{"$f":"OFFSET(InputPriceData!C$15,CalculationsAndCharts!$A576+$A$11,IF($C$7,7,0),1,1)","v":36.06},{"$f":"OFFSET(InputPriceData!D$15,CalculationsAndCharts!$A576+$A$11,IF($C$7,7,0),1,1)","v":36.28},{"$f":"OFFSET(InputPriceData!E$15,CalculationsAndCharts!$A576+$A$11,IF($C$7,7,0),1,1)","v":35.22},{"$f":"OFFSET(InputPriceData!F$15,CalculationsAndCharts!$A576+$A$11,IF($C$7,7,0),1,1)","v":36.049999999999997},{"$error":"#N/A"},{"$error":"#N/A"},{"$error":"#N/A"},35.618671055531024,35.618671055531024,0.34565790414985542,8.6194375576484294E-2,2.417119677202666,8.6194375576484294E-2,0,0.35492892201526482,null,37.130000000000003,31.94,0.79190751445086605,{"$error":"#N/A"},0.2,0.8,{"$error":"#N/A"},{"$error":"#N/A"},{"$error":"#N/A"},{"$error":"#N/A"},false,false,false,false,false,{"$error":"#N/A"},{"$error":"#N/A"},{"$error":"#N/A"},{"$error":"#N/A"},false,false,true,false,false,{"$error":"#N/A"},{"$error":"#N/A"},{"$error":"#N/A"},{"$error":"#N/A"}]
[545,{"$f":"OFFSET(InputPriceData!B$15,CalculationsAndCharts!$A577+$A$11,0,1,1)","v":"2011-09-12"},{"$f":"OFFSET(InputPriceData!G$15,CalculationsAndCharts!$A577+$A$11,0,1,1)","v":3842900},{"$f":"OFFSET(InputPriceData!C$15,CalculationsAndCharts!$A577+$A$11,IF($C$7,7,0),1,1)","v":34.93},{"$f":"OFFSET(InputPriceData!D$15,CalculationsAndCharts!$A577+$A$11,IF($C$7,7,0),1,1)","v":35.74},{"$f":"OFFSET(InputPriceData!E$15,CalculationsAndCharts!$A577+$A$11,IF($C$7,7,0),1,1)","v":34.630000000000003},{"$f":"OFFSET(InputPriceData!F$15,CalculationsAndCharts!$A577+$A$11,IF($C$7,7,0),1,1)","v":35.74},{"$error":"#N/A"},{"$error":"#N/A"},{"$error":"#N/A"},35.72821200641404,35.72821200641404,0.20408270072510964,0.3569390013064464,2.417119677202666,0.3569390013064464,0,0.5943135838309388,null,37.130000000000003,31.94,0.73217726396917149,{"$error":"#N/A"},0.2,0.8,{"$error":"#N/A"},{"$error":"#N/A"},{"$error":"#N/A"},{"$error":"#N/A"},false,false,false,false,false,{"$error":"#N/A"},{"$error":"#N/A"},{"$error":"#N/A"},{"$error":"#N/A"},false,false,true,false,false,{"$error":"#N/A"},{"$error":"#N/A"},{"$error":"#N/A"},{"$error":"#N/A"}]
[546,{"$f":"OFFSET(InputPriceData!B$15,CalculationsAndCharts!$A578+$A$11,0,1,1)","v":"2011-09-09"},{"$f":"OFFSET(InputPriceData!G$15,CalculationsAndCharts!$A578+$A$11,0,1,1)","v":21565400},{"$f":"OFFSET(InputPriceData!C$15,CalculationsAndCharts!$A578+$A$11,IF($C$7,7,0),1,1)","v":34.28},{"$f":"OFFSET(InputPriceData!D$15,CalculationsAndCharts!$A578+$A$11,IF($C$7,7,0),1,1)","v":35.049999999999997},{"$f":"OFFSET(InputPriceData!E$15,CalculationsAndCharts!$A578+$A$11,IF($C$7,7,0),1,1)","v":34.22},{"$f":"OFFSET(InputPriceData!F$15,CalculationsAndCharts!$A578+$A$11,IF($C$7,7,0),1,1)","v":34.799999999999997},{"$error":"#N/A"},{"$error":"#N/A"},{"$error":"#N/A"},36.09719392407569,36.09719392407569,-0.66091241195517525,0.96470088531379483,2.417119677202666,0.29378009887202572,0.31597432332008046,0.81056403360963747,null,37.130000000000003,31.66,0.57404021937842697,{"$error":"#N/A"},0.2,0.8,{"$error":"#N/A"},{"$error":"#N/A"},{"$error":"#N/A"},{"$error":"#N/A"},false,false,false,false,false,{"$error":"#N/A"},{"$error":"#N/A"},{"$error":"#N/A"},{"$error":"#N/A"},false,false,true,false,false,{"$error":"#N/A"},{"$error":"#N/A"},{"$error":"#N/A"},{"$error":"#N/A"}]
[547,{"$f":"OFFSET(InputPriceData!B$15,CalculationsAndCharts!$A579+$A$11,0,1,1)","v":"2011-09-08"},{"$f":"OFFSET(InputPriceData!G$15,CalculationsAndCharts!$A579+$A$11,0,1,1)","v":4622100},{"$f":"OFFSET(InputPriceData!C$15,CalculationsAndCharts!$A579+$A$11,IF($C$7,7,0),1,1)","v":35.840000000000003},{"$f":"OFFSET(InputPriceData!D$15,CalculationsAndCharts!$A579+$A$11,IF($C$7,7,0),1,1)","v":35.89},{"$f":"OFFSET(InputPriceData!E$15,CalculationsAndCharts!$A579+$A$11,IF($C$7,7,0),1,1)","v":34.799999999999997},{"$f":"OFFSET(InputPriceData!F$15,CalculationsAndCharts!$A579+$A$11,IF($C$7,7,0),1,1)","v":35},{"$error":"#N/A"},{"$error":"#N/A"},{"$error":"#N/A"},36.485211218011813,36.485211218011813,-0.44243778157492453,1.7080637519022206,2.417119677202666,1.7453414980178023E-2,0.70451894229502465,0.93470884236407914,null,37.130000000000003,31.62,0.61343012704174193,{"$error":"#N/A"},0.2,0.8,{"$error":"#N/A"},{"$error":"#N/A"},{"$error":"#N/A"},{"$error":"#N/A"},false,false,false,false,false,{"$error":"#N/A"},{"$error":"#N/A"},{"$error":"#N/A"},{"$error":"#N/A"},false,false,true,false,false,{"$error":"#N/A"},{"$error":"#N/A"},{"$error":"#N/A"},{"$error":"#N/A"}]
[548,{"$f":"OFFSET(InputPriceData!B$15,CalculationsAndCharts!$A580+$A$11,0,1,1)","v":"2011-09-07"},{"$f":"OFFSET(InputPriceData!G$15,CalculationsAndCharts!$A580+$A$11,0,1,1)","v":1871100},{"$f":"OFFSET(InputPriceData!C$15,CalculationsAndCharts!$A580+$A$11,IF($C$7,7,0),1,1)","v":36.71},{"$f":"OFFSET(InputPriceData!D$15,CalculationsAndCharts!$A580+$A$11,IF($C$7,7,0),1,1)","v":37.130000000000003},{"$f":"OFFSET(InputPriceData!E$15,CalculationsAndCharts!$A580+$A$11,IF($C$7,7,0),1,1)","v":36.14},{"$f":"OFFSET(InputPriceData!F$15,CalculationsAndCharts!$A580+$A$11,IF($C$7,7,0),1,1)","v":37.130000000000003},{"$error":"#N/A"},{"$error":"#N/A"},{"$error":"#N/A"},36.452982792714579,36.452982792714579,1.9466712995309905,2.1246576181756227,2.417119677202666,-0.23837473813452165,0.88986530819349996,0.9753085178552432,null,37.130000000000003,30.78,1,{"$error":"#N/A"},0.2,0.8,{"$error":"#N/A"},{"$error":"#N/A"},{"$error":"#N/A"},{"$error":"#N/A"},false,false,false,false,false,{"$error":"#N/A"},{"$error":"#N/A"},{"$error":"#N/A"},{"$error":"#N/A"},false,false,true,false,false,{"$error":"#N/A"},{"$error":"#N/A"},{"$error":"#N/A"},{"$error":"#N/A"}]
[549,{"$f":"OFFSET(InputPriceData!B$15,CalculationsAndCharts!$A581+$A$11,0,1,1)","v":"2011-09-06"},{"$f":"OFFSET(InputPriceData!G$15,CalculationsAndCharts!$A581+$A$11,0,1,1)","v":2254400},{"$f":"OFFSET(InputPriceData!C$15,CalculationsAndCharts!$A581+$A$11,IF($C$7,7,0),1,1)","v":35.51},{"$f":"OFFSET(InputPriceData!D$15,CalculationsAndCharts!$A581+$A$11,IF($C$7,7,0),1,1)","v":36.590000000000003},{"$f":"OFFSET(InputPriceData!E$15,CalculationsAndCharts!$A581+$A$11,IF($C$7,7,0),1,1)","v":35.25},{"$f":"OFFSET(InputPriceData!F$15,CalculationsAndCharts!$A581+$A$11,IF($C$7,7,0),1,1)","v":36.450000000000003},{"$error":"#N/A"},{"$error":"#N/A"},{"$error":"#N/A"},36.135837826367151,36.135837826367151,1.7144595136337444,2.2927979832381831,2.417119677202666,-0.55317537414979701,0.95814500182132556,0.96439704051309372,null,36.6,30.78,0.97422680412371154,{"$error":"#N/A"},0.2,0.8,{"$error":"#N/A"},{"$error":"#N/A"},{"$error":"#N/A"},{"$error":"#N/A"},false,false,false,false,false,{"$error":"#N/A"},{"$error":"#N/A"},{"$error":"#N/A"},{"$error":"#N/A"},false,false,true,false,false,{"$error":"#N/A"},{"$error":"#N/A"},{"$error":"#N/A"},{"$error":"#N/A"}]
[550,{"$f":"OFFSET(InputPriceData!B$15,CalculationsAndCharts!$A582+$A$11,0,1,1)","v":"2011-09-02"},{"$f":"OFFSET(InputPriceData!G$15,CalculationsAndCharts!$A582+$A$11,0,1,1)","v":1792400},{"$f":"OFFSET(InputPriceData!C$15,CalculationsAndCharts!$A582+$A$11,IF($C$7,7,0),1,1)","v":35.630000000000003},{"$f":"OFFSET(InputPriceData!D$15,CalculationsAndCharts!$A582+$A$11,IF($C$7,7,0),1,1)","v":36.14},{"$f":"OFFSET(InputPriceData!E$15,CalculationsAndCharts!$A582+$A$11,IF($C$7,7,0),1,1)","v":35.03},{"$f":"OFFSET(InputPriceData!F$15,CalculationsAndCharts!$A582+$A$11,IF($C$7,7,0),1,1)","v":36.06},{"$error":"#N/A"},{"$error":"#N/A"},{"$error":"#N/A"},35.767360048156654,35.767360048156654,1.7376359362436298,2.417119677202666,2.417119677202666,-0.83510815798630467,1,0.91300807889771907,null,36.6,30.46,0.91205211726384383,{"$error":"#N/A"},0.2,0.8,{"$error":"#N/A"},{"$error":"#N/A"},{"$error":"#N/A"},{"$error":"#N/A"},false,false,false,false,{"$f":"AND(AG583,AF583)","v":false},{"$error":"#N/A"},{"$error":"#N/A"},{"$error":"#N/A"},{"$error":"#N/A"},false,{"$f":"AND(AM583,NOT(AO583))","v":false},true,false,false,{"$error":"#N/A"},{"$error":"#N/A"},{"$error":"#N/A"},{"$error":"#N/A"}]
[551,{"$f":"OFFSET(InputPriceData!B$15,CalculationsAndCharts!$A583+$A$11,0,1,1)","v":"2011-09-01"},{"$f":"OFFSET(InputPriceData!G$15,CalculationsAndCharts!$A583+$A$11,0,1,1)","v":1953200},{"$f":"OFFSET(InputPriceData!C$15,CalculationsAndCharts!$A583+$A$11,IF($C$7,7,0),1,1)","v":36.54},{"$f":"OFFSET(InputPriceData!D$15,CalculationsAndCharts!$A583+$A$11,IF($C$7,7,0),1,1)","v":36.79},{"$f":"OFFSET(InputPriceData!E$15,CalculationsAndCharts!$A583+$A$11,IF($C$7,7,0),1,1)","v":35.78},{"$f":"OFFSET(InputPriceData!F$15,CalculationsAndCharts!$A583+$A$11,IF($C$7,7,0),1,1)","v":35.97},{"$error":"#N/A"},{"$error":"#N/A"},{"$error":"#N/A"},35.171587573677883,35.171587573677883,2.0789859732546447,2.2940625528245073,2.2940625528245073,-1.0010532276048743,1,0.82872397231532358,null,36.6,30.46,0.89739413680781721,{"$error":"#N/A"},0.2,0.8,{"$error":"#N/A"},{"$error":"#N/A"},{"$error":"#N/A"},{"$error":"#N/A"},false,false,false,false,false,{"$error":"#N/A"},{"$error":"#N/A"},{"$error":"#N/A"},{"$error":"#N/A"},true,false,true,false,{"$f":"AND(AP584,AO584)","v":false},{"$error":"#N/A"},{"$error":"#N/A"},{"$error":"#N/A"},{"$error":"#N/A"}]
[552,{"$f":"OFFSET(InputPriceData!B$15,CalculationsAndCharts!$A584+$A$11,0,1,1)","v":"2011-08-31"},{"$f":"OFFSET(InputPriceData!G$15,CalculationsAndCharts!$A584+$A$11,0,1,1)","v":4411400},{"$f":"OFFSET(InputPriceData!C$15,CalculationsAndCharts!$A584+$A$11,IF($C$7,7,0),1,1)","v":36.409999999999997},{"$f":"OFFSET(InputPriceData!D$15,CalculationsAndCharts!$A584+$A$11,IF($C$7,7,0),1,1)","v":36.86},{"$f":"OFFSET(InputPriceData!E$15,CalculationsAndCharts!$A584+$A$11,IF($C$7,7,0),1,1)","v":36.22},{"$f":"OFFSET(InputPriceData!F$15,CalculationsAndCharts!$A584+$A$11,IF($C$7,7,0),1,1)","v":36.6},{"$error":"#N/A"},{"$error":"#N/A"},{"$error":"#N/A"},34.242147612992859,34.242147612992859,3.2618619805077094,1.7574555392662383,1.7574555392662383,-1.1242812645576419,1,0.72921388851048363,null,36.6,30.4,1,{"$error":"#N/A"},0.2,0.8,{"$error":"#N/A"},{"$error":"#N/A"},{"$error":"#N/A"},{"$error":"#N/A"},false,false,false,false,false,{"$error":"#N/A"},{"$error":"#N/A"},{"$error":"#N/A"},{"$error":"#N/A"},false,false,true,false,false,{"$error":"#N/A"},{"$error":"#N/A"},{"$error":"#N/A"},{"$error":"#N/A"}]
[553,{"$f":"OFFSET(InputPriceData!B$15,CalculationsAndCharts!$A585+$A$11,0,1,1)","v":"2011-08-30"},{"$f":"OFFSET(InputPriceData!G$15,CalculationsAndCharts!$A585+$A$11,0,1,1)","v":4536600},{"$f":"OFFSET(InputPriceData!C$15,CalculationsAndCharts!$A585+$A$11,IF($C$7,7,0),1,1)","v":35.159999999999997},{"$f":"OFFSET(InputPriceData!D$15,CalculationsAndCharts!$A585+$A$11,IF($C$7,7,0),1,1)","v":36.130000000000003},{"$f":"OFFSET(InputPriceData!E$15,CalculationsAndCharts!$A585+$A$11,IF($C$7,7,0),1,1)","v":34.6},{"$f":"OFFSET(InputPriceData!F$15,CalculationsAndCharts!$A585+$A$11,IF($C$7,7,0),1,1)","v":35.76},{"$error":"#N/A"},{"$error":"#N/A"},{"$error":"#N/A"},33.239653149448955,33.239653149448955,3.0386527911658483,1.0146755449902067,1.4171056524481207,-1.2116878250748373,0.84691452147198987,0.65392850109901457,null,35.76,30.4,1,{"$error":"#N/A"},0.2,0.8,{"$error":"#N/A"},{"$error":"#N/A"},{"$error":"#N/A"},{"$error":"#N/A"},false,false,false,false,false,{"$error":"#N/A"},{"$error":"#N/A"},{"$error":"#N/A"},{"$error":"#N/A"},false,false,true,false,false,{"$error":"#N/A"},{"$error":"#N/A"},{"$error":"#N/A"},{"$error":"#N/A"}]
[554,{"$f":"OFFSET(InputPriceData!B$15,CalculationsAndCharts!$A586+$A$11,0,1,1)","v":"2011-08-29"},{"$f":"OFFSET(InputPriceData!G$15,CalculationsAndCharts!$A586+$A$11,0,1,1)","v":2867400},{"$f":"OFFSET(InputPriceData!C$15,CalculationsAndCharts!$A586+$A$11,IF($C$7,7,0),1,1)","v":32.74},{"$f":"OFFSET(InputPriceData!D$15,CalculationsAndCharts!$A586+$A$11,IF($C$7,7,0),1,1)","v":33.79},{"$f":"OFFSET(InputPriceData!E$15,CalculationsAndCharts!$A586+$A$11,IF($C$7,7,0),1,1)","v":32.65},{"$f":"OFFSET(InputPriceData!F$15,CalculationsAndCharts!$A586+$A$11,IF($C$7,7,0),1,1)","v":33.79},{"$error":"#N/A"},{"$error":"#N/A"},{"$error":"#N/A"},32.611907878051611,32.611907878051611,1.4989354579119953,0.52308552228518146,1.4171056524481207,-1.2219771155290751,0.66123831317037929,0.63676768821450058,null,33.79,30.4,1,{"$error":"#N/A"},0.2,0.8,{"$error":"#N/A"},{"$error":"#N/A"},{"$error":"#N/A"},{"$error":"#N/A"},false,false,false,false,false,{"$error":"#N/A"},{"$error":"#N/A"},{"$error":"#N/A"},{"$error":"#N/A"},false,false,true,false,false,{"$error":"#N/A"},{"$error":"#N/A"},{"$error":"#N/A"},{"$error":"#N/A"}]
[555,{"$f":"OFFSET(InputPriceData!B$15,CalculationsAndCharts!$A587+$A$11,0,1,1)","v":"2011-08-26"},{"$f":"OFFSET(InputPriceData!G$15,CalculationsAndCharts!$A587+$A$11,0,1,1)","v":2324900},{"$f":"OFFSET(InputPriceData!C$15,CalculationsAndCharts!$A587+$A$11,IF($C$7,7,0),1,1)","v":32.200000000000003},{"$f":"OFFSET(InputPriceData!D$15,CalculationsAndCharts!$A587+$A$11,IF($C$7,7,0),1,1)","v":32.76},{"$f":"OFFSET(InputPriceData!E$15,CalculationsAndCharts!$A587+$A$11,IF($C$7,7,0),1,1)","v":31.55},{"$f":"OFFSET(InputPriceData!F$15,CalculationsAndCharts!$A587+$A$11,IF($C$7,7,0),1,1)","v":32.549999999999997},{"$error":"#N/A"},{"$error":"#N/A"},{"$error":"#N/A"},32.416937527217989,32.416937527217989,0.43413310895043666,0.40227291404380233,1.4171056524481207,-1.2219771155290751,0.61546005653238101,0.66724244866180182,null,33.79,30.4,0.63421828908554523,{"$error":"#N/A"},0.2,0.8,{"$error":"#N/A"},{"$error":"#N/A"},{"$error":"#N/A"},{"$error":"#N/A"},false,false,false,false,false,{"$error":"#N/A"},{"$error":"#N/A"},{"$error":"#N/A"},{"$error":"#N/A"},false,false,true,false,false,{"$error":"#N/A"},{"$error":"#N/A"},{"$error":"#N/A"},{"$error":"#N/A"}]
[556,{"$f":"OFFSET(InputPriceData!B$15,CalculationsAndCharts!$A588+$A$11,0,1,1)","v":"2011-08-25"},{"$f":"OFFSET(InputPriceData!G$15,CalculationsAndCharts!$A588+$A$11,0,1,1)","v":1616200},{"$f":"OFFSET(InputPriceData!C$15,CalculationsAndCharts!$A588+$A$11,IF($C$7,7,0),1,1)","v":32.99},{"$f":"OFFSET(InputPriceData!D$15,CalculationsAndCharts!$A588+$A$11,IF($C$7,7,0),1,1)","v":33.299999999999997},{"$f":"OFFSET(InputPriceData!E$15,CalculationsAndCharts!$A588+$A$11,IF($C$7,7,0),1,1)","v":32.130000000000003},{"$f":"OFFSET(InputPriceData!F$15,CalculationsAndCharts!$A588+$A$11,IF($C$7,7,0),1,1)","v":32.229999999999997},{"$error":"#N/A"},{"$error":"#N/A"},{"$error":"#N/A"},32.406376407674827,32.406376407674827,0.15990109949066789,0.45581533365299221,1.4171056524481207,-1.2219771155290751,0.63574832496370004,0.72355432123521823,null,33.79,30.4,0.53982300884955692,{"$error":"#N/A"},0.2,0.8,{"$error":"#N/A"},{"$error":"#N/A"},{"$error":"#N/A"},{"$error":"#N/A"},false,false,false,false,false,{"$error":"#N/A"},{"$error":"#N/A"},{"$error":"#N/A"},{"$error":"#N/A"},false,false,true,false,false,{"$error":"#N/A"},{"$error":"#N/A"},{"$error":"#N/A"},{"$error":"#N/A"}]
[557,{"$f":"OFFSET(InputPriceData!B$15,CalculationsAndCharts!$A589+$A$11,0,1,1)","v":"2011-08-24"},{"$f":"OFFSET(InputPriceData!G$15,CalculationsAndCharts!$A589+$A$11,0,1,1)","v":1747200},{"$f":"OFFSET(InputPriceData!C$15,CalculationsAndCharts!$A589+$A$11,IF($C$7,7,0),1,1)","v":32.450000000000003},{"$f":"OFFSET(InputPriceData!D$15,CalculationsAndCharts!$A589+$A$11,IF($C$7,7,0),1,1)","v":32.92},{"$f":"OFFSET(InputPriceData!E$15,CalculationsAndCharts!$A589+$A$11,IF($C$7,7,0),1,1)","v":32.340000000000003},{"$f":"OFFSET(InputPriceData!F$15,CalculationsAndCharts!$A589+$A$11,IF($C$7,7,0),1,1)","v":32.840000000000003},{"$error":"#N/A"},{"$error":"#N/A"},{"$error":"#N/A"},32.370619781335094,32.370619781335094,0.8508182111537721,0.48826154097440205,1.4171056524481207,-1.2219771155290751,0.64804282656672452,0.80018340076473093,null,33.79,30.4,0.7197640117994113,{"$error":"#N/A"},0.2,0.8,{"$error":"#N/A"},{"$error":"#N/A"},{"$error":"#N/A"},{"$error":"#N/A"},false,false,false,false,false,{"$error":"#N/A"},{"$error":"#N/A"},{"$error":"#N/A"},{"$error":"#N/A"},false,false,true,false,false,{"$error":"#N/A"},{"$error":"#N/A"},{"$error":"#N/A"},{"$error":"#N/A"}]
[558,{"$f":"OFFSET(InputPriceData!B$15,CalculationsAndCharts!$A590+$A$11,0,1,1)","v":"2011-08-23"},{"$f":"OFFSET(InputPriceData!G$15,CalculationsAndCharts!$A590+$A$11,0,1,1)","v":1985300},{"$f":"OFFSET(InputPriceData!C$15,CalculationsAndCharts!$A590+$A$11,IF($C$7,7,0),1,1)","v":32.18},{"$f":"OFFSET(InputPriceData!D$15,CalculationsAndCharts!$A590+$A$11,IF($C$7,7,0),1,1)","v":32.49},{"$f":"OFFSET(InputPriceData!E$15,CalculationsAndCharts!$A590+$A$11,IF($C$7,7,0),1,1)","v":31.56},{"$f":"OFFSET(InputPriceData!F$15,CalculationsAndCharts!$A590+$A$11,IF($C$7,7,0),1,1)","v":32.4},{"$error":"#N/A"},{"$error":"#N/A"},{"$error":"#N/A"},32.384852321058212,32.384852321058212,0.51997608554127228,0.57767238859837633,1.4171056524481207,-1.2219771155290751,0.68192234285506959,0.8890752097007919,null,33.79,30.4,0.58997050147492613,{"$error":"#N/A"},0.2,0.8,{"$error":"#N/A"},{"$error":"#N/A"},{"$error":"#N/A"},{"$error":"#N/A"},false,false,false,false,false,{"$error":"#N/A"},{"$error":"#N/A"},{"$error":"#N/A"},{"$error":"#N/A"},false,false,true,false,false,{"$error":"#N/A"},{"$error":"#N/A"},{"$error":"#N/A"},{"$error":"#N/A"}]
[559,{"$f":"OFFSET(InputPriceData!B$15,CalculationsAndCharts!$A591+$A$11,0,1,1)","v":"2011-08-22"},{"$f":"OFFSET(InputPriceData!G$15,CalculationsAndCharts!$A591+$A$11,0,1,1)","v":1928500},{"$f":"OFFSET(InputPriceData!C$15,CalculationsAndCharts!$A591+$A$11,IF($C$7,7,0),1,1)","v":32.74},{"$f":"OFFSET(InputPriceData!D$15,CalculationsAndCharts!$A591+$A$11,IF($C$7,7,0),1,1)","v":32.79},{"$f":"OFFSET(InputPriceData!E$15,CalculationsAndCharts!$A591+$A$11,IF($C$7,7,0),1,1)","v":31.76},{"$f":"OFFSET(InputPriceData!F$15,CalculationsAndCharts!$A591+$A$11,IF($C$7,7,0),1,1)","v":31.94},{"$error":"#N/A"},{"$error":"#N/A"},{"$error":"#N/A"},32.564179749307193,32.564179749307193,9.4865843585876686E-2,0.86136033624703212,1.4171056524481207,-1.2219771155290751,0.78941724642192401,0.96728182304238186,null,33.79,30.4,0.45427728613569396,{"$error":"#N/A"},0.2,0.8,{"$error":"#N/A"},{"$error":"#N/A"},{"$error":"#N/A"},{"$error":"#N/A"},false,false,false,false,false,{"$error":"#N/A"},{"$error":"#N/A"},{"$error":"#N/A"},{"$error":"#N/A"},false,false,true,false,false,{"$error":"#N/A"},{"$error":"#N/A"},{"$error":"#N/A"},{"$error":"#N/A"}]
[560,{"$f":"OFFSET(InputPriceData!B$15,CalculationsAndCharts!$A592+$A$11,0,1,1)","v":"2011-08-19"},{"$f":"OFFSET(InputPriceData!G$15,CalculationsAndCharts!$A592+$A$11,0,1,1)","v":1365900},{"$f":"OFFSET(InputPriceData!C$15,CalculationsAndCharts!$A592+$A$11,IF($C$7,7,0),1,1)","v":32.24},{"$f":"OFFSET(InputPriceData!D$15,CalculationsAndCharts!$A592+$A$11,IF($C$7,7,0),1,1)","v":32.619999999999997},{"$f":"OFFSET(InputPriceData!E$15,CalculationsAndCharts!$A592+$A$11,IF($C$7,7,0),1,1)","v":31.95},{"$f":"OFFSET(InputPriceData!F$15,CalculationsAndCharts!$A592+$A$11,IF($C$7,7,0),1,1)","v":32.08},{"$error":"#N/A"},{"$error":"#N/A"},{"$error":"#N/A"},32.757584571105951,32.757584571105951,0.24196803072460604,1.2101756375466726,1.4171056524481207,-1.2219771155290751,0.92159017617319539,1.0148812456864504,null,33.79,30.4,0.49557522123893788,{"$error":"#N/A"},0.2,0.8,{"$error":"#N/A"},{"$error":"#N/A"},{"$error":"#N/A"},{"$error":"#N/A"},false,false,false,false,false,{"$error":"#N/A"},{"$error":"#N/A"},{"$error":"#N/A"},{"$error":"#N/A"},false,false,true,false,false,{"$error":"#N/A"},{"$error":"#N/A"},{"$error":"#N/A"},{"$error":"#N/A"}]
[561,{"$f":"OFFSET(InputPriceData!B$15,CalculationsAndCharts!$A593+$A$11,0,1,1)","v":"2011-08-18"},{"$f":"OFFSET(InputPriceData!G$15,CalculationsAndCharts!$A593+$A$11,0,1,1)","v":1857700},{"$f":"OFFSET(InputPriceData!C$15,CalculationsAndCharts!$A593+$A$11,IF($C$7,7,0),1,1)","v":31.96},{"$f":"OFFSET(InputPriceData!D$15,CalculationsAndCharts!$A593+$A$11,IF($C$7,7,0),1,1)","v":32.659999999999997},{"$f":"OFFSET(InputPriceData!E$15,CalculationsAndCharts!$A593+$A$11,IF($C$7,7,0),1,1)","v":31.6},{"$f":"OFFSET(InputPriceData!F$15,CalculationsAndCharts!$A593+$A$11,IF($C$7,7,0),1,1)","v":32.549999999999997},{"$error":"#N/A"},{"$f":"IF($A593=$E$25,I$32,NA())","v":{"$error":"#N/A"}},{"$error":"#N/A"},32.76771077434131,32.76771077434131,0.77956942425119413,1.4171056524481207,1.4171056524481207,-1.2219771155290751,1,1.0325214823130977,null,33.79,30.4,0.63421828908554523,{"$error":"#N/A"},0.2,0.8,{"$error":"#N/A"},{"$error":"#N/A"},{"$error":"#N/A"},{"$error":"#N/A"},false,false,false,false,false,{"$error":"#N/A"},{"$error":"#N/A"},{"$error":"#N/A"},{"$error":"#N/A"},false,false,true,false,false,{"$error":"#N/A"},{"$error":"#N/A"},{"$error":"#N/A"},{"$error":"#N/A"}]
[562,{"$f":"OFFSET(InputPriceData!B$15,CalculationsAndCharts!$A594+$A$11,0,1,1)","v":"2011-08-17"},{"$f":"OFFSET(InputPriceData!G$15,CalculationsAndCharts!$A594+$A$11,0,1,1)","v":1711100},{"$f":"OFFSET(InputPriceData!C$15,CalculationsAndCharts!$A594+$A$11,IF($C$7,7,0),1,1)","v":34.130000000000003},{"$f":"OFFSET(InputPriceData!D$15,CalculationsAndCharts!$A594+$A$11,IF($C$7,7,0),1,1)","v":34.17},{"$f":"OFFSET(InputPriceData!E$15,CalculationsAndCharts!$A594+$A$11,IF($C$7,7,0),1,1)","v":32.47},{"$f":"OFFSET(InputPriceData!F$15,CalculationsAndCharts!$A594+$A$11,IF($C$7,7,0),1,1)","v":32.770000000000003},{"$error":"#N/A"},{"$error":"#N/A"},{"$error":"#N/A"},32.513706920576254,32.513706920576254,1.1444341990030953,1.3624109009147296,1.3624109009147296,-1.2219771155290751,1,1.0312663360339185,null,33.79,30.4,0.69911504424778881,{"$error":"#N/A"},0.2,0.8,{"$error":"#N/A"},{"$error":"#N/A"},{"$error":"#N/A"},{"$error":"#N/A"},false,false,false,false,false,{"$error":"#N/A"},{"$error":"#N/A"},{"$error":"#N/A"},{"$error":"#N/A"},false,false,true,false,false,{"$error":"#N/A"},{"$error":"#N/A"},{"$error":"#N/A"},{"$error":"#N/A"}]
[563,{"$f":"OFFSET(InputPriceData!B$15,CalculationsAndCharts!$A595+$A$11,0,1,1)","v":"2011-08-16"},{"$f":"OFFSET(InputPriceData!G$15,CalculationsAndCharts!$A595+$A$11,0,1,1)","v":3064200},{"$f":"OFFSET(InputPriceData!C$15,CalculationsAndCharts!$A595+$A$11,IF($C$7,7,0),1,1)","v":33.020000000000003},{"$f":"OFFSET(InputPriceData!D$15,CalculationsAndCharts!$A595+$A$11,IF($C$7,7,0),1,1)","v":33.96},{"$f":"OFFSET(InputPriceData!E$15,CalculationsAndCharts!$A595+$A$11,IF($C$7,7,0),1,1)","v":32.659999999999997},{"$f":"OFFSET(InputPriceData!F$15,CalculationsAndCharts!$A595+$A$11,IF($C$7,7,0),1,1)","v":33.79},{"$error":"#N/A"},{"$error":"#N/A"},{"$error":"#N/A"},31.986174861753938,31.986174861753938,2.4523839483555809,0.98299485290437572,0.98299485290437572,-1.2219771155290751,1,1.0089715619076967,null,33.79,30.4,1,{"$error":"#N/A"},0.2,0.8,{"$error":"#N/A"},{"$error":"#N/A"},{"$error":"#N/A"},{"$error":"#N/A"},false,false,false,false,false,{"$error":"#N/A"},{"$error":"#N/A"},{"$error":"#N/A"},{"$error":"#N/A"},false,false,true,false,false,{"$error":"#N/A"},{"$error":"#N/A"},{"$error":"#N/A"},{"$error":"#N/A"}]
[564,{"$f":"OFFSET(InputPriceData!B$15,CalculationsAndCharts!$A596+$A$11,0,1,1)","v":"2011-08-15"},{"$f":"OFFSET(InputPriceData!G$15,CalculationsAndCharts!$A596+$A$11,0,1,1)","v":1458800},{"$f":"OFFSET(InputPriceData!C$15,CalculationsAndCharts!$A596+$A$11,IF($C$7,7,0),1,1)","v":31.87},{"$f":"OFFSET(InputPriceData!D$15,CalculationsAndCharts!$A596+$A$11,IF($C$7,7,0),1,1)","v":32.33},{"$f":"OFFSET(InputPriceData!E$15,CalculationsAndCharts!$A596+$A$11,IF($C$7,7,0),1,1)","v":31.44},{"$f":"OFFSET(InputPriceData!F$15,CalculationsAndCharts!$A596+$A$11,IF($C$7,7,0),1,1)","v":32.19},{"$error":"#N/A"},{"$error":"#N/A"},{"$error":"#N/A"},31.499860120825399,31.499860120825399,1.1229665787463206,0.56235876075070501,0.56235876075070501,-1.2219771155290751,1,0.94924382246740113,null,33.82,30.4,0.52339181286549652,{"$error":"#N/A"},0.2,0.8,{"$error":"#N/A"},31.87,{"$error":"#N/A"},{"$error":"#N/A"},false,false,true,false,true,{"$error":"#N/A"},31.87,{"$error":"#N/A"},31.87,false,true,true,false,false,31.87,{"$error":"#N/A"},31.87,{"$error":"#N/A"}]
[565,{"$f":"OFFSET(InputPriceData!B$15,CalculationsAndCharts!$A597+$A$11,0,1,1)","v":"2011-08-12"},{"$f":"OFFSET(InputPriceData!G$15,CalculationsAndCharts!$A597+$A$11,0,1,1)","v":1097600},{"$f":"OFFSET(InputPriceData!C$15,CalculationsAndCharts!$A597+$A$11,IF($C$7,7,0),1,1)","v":31.95},{"$f":"OFFSET(InputPriceData!D$15,CalculationsAndCharts!$A597+$A$11,IF($C$7,7,0),1,1)","v":31.95},{"$f":"OFFSET(InputPriceData!E$15,CalculationsAndCharts!$A597+$A$11,IF($C$7,7,0),1,1)","v":30.94},{"$f":"OFFSET(InputPriceData!F$15,CalculationsAndCharts!$A597+$A$11,IF($C$7,7,0),1,1)","v":31.66},{"$error":"#N/A"},{"$error":"#N/A"},{"$error":"#N/A"},31.234581911417607,31.234581911417607,0.68865539940763176,0.29378009887202572,0.29378009887202572,-1.2219771155290751,1,0.83526376168565275,null,33.82,30.4,0.3684210526315792,{"$error":"#N/A"},0.2,0.8,{"$error":"#N/A"},{"$error":"#N/A"},{"$error":"#N/A"},0.83526376168565275,false,false,true,true,false,{"$error":"#N/A"},{"$error":"#N/A"},{"$error":"#N/A"},{"$error":"#N/A"},true,false,false,false,false,{"$error":"#N/A"},{"$error":"#N/A"},{"$error":"#N/A"},{"$error":"#N/A"}]
[566,{"$f":"OFFSET(InputPriceData!B$15,CalculationsAndCharts!$A598+$A$11,0,1,1)","v":"2011-08-11"},{"$f":"OFFSET(InputPriceData!G$15,CalculationsAndCharts!$A598+$A$11,0,1,1)","v":1929000},{"$f":"OFFSET(InputPriceData!C$15,CalculationsAndCharts!$A598+$A$11,IF($C$7,7,0),1,1)","v":31.03},{"$f":"OFFSET(InputPriceData!D$15,CalculationsAndCharts!$A598+$A$11,IF($C$7,7,0),1,1)","v":31.91},{"$f":"OFFSET(InputPriceData!E$15,CalculationsAndCharts!$A598+$A$11,IF($C$7,7,0),1,1)","v":30.82},{"$f":"OFFSET(InputPriceData!F$15,CalculationsAndCharts!$A598+$A$11,IF($C$7,7,0),1,1)","v":31.62},{"$error":"#N/A"},{"$error":"#N/A"},{"$error":"#N/A"},31.014523702752456,31.014523702752456,0.69814206449968674,1.7453414980178023E-2,1.7453414980178023E-2,-1.2219771155290751,1,0.65952782111451436,null,33.82,30.4,0.35672514619883094,{"$error":"#N/A"},0.2,0.8,{"$error":"#N/A"},{"$error":"#N/A"},{"$error":"#N/A"},{"$error":"#N/A"},false,false,true,false,false,{"$error":"#N/A"},{"$error":"#N/A"},{"$error":"#N/A"},{"$error":"#N/A"},false,false,false,false,false,{"$error":"#N/A"},{"$error":"#N/A"},{"$error":"#N/A"},{"$error":"#N/A"}]
[567,{"$f":"OFFSET(InputPriceData!B$15,CalculationsAndCharts!$A599+$A$11,0,1,1)","v":"2011-08-10"},{"$f":"OFFSET(InputPriceData!G$15,CalculationsAndCharts!$A599+$A$11,0,1,1)","v":1186800},{"$f":"OFFSET(InputPriceData!C$15,CalculationsAndCharts!$A599+$A$11,IF($C$7,7,0),1,1)","v":31.37},{"$f":"OFFSET(InputPriceData!D$15,CalculationsAndCharts!$A599+$A$11,IF($C$7,7,0),1,1)","v":31.65},{"$f":"OFFSET(InputPriceData!E$15,CalculationsAndCharts!$A599+$A$11,IF($C$7,7,0),1,1)","v":30.68},{"$f":"OFFSET(InputPriceData!F$15,CalculationsAndCharts!$A599+$A$11,IF($C$7,7,0),1,1)","v":30.78},{"$error":"#N/A"},{"$error":"#N/A"},{"$error":"#N/A"},30.864441703803028,30.864441703803028,-0.17659608200953769,-0.23837473813452165,-0.19887638672424457,-1.2219771155290751,0.96139348717264772,0.44180041191187719,null,33.82,30.4,0.1111111111111118,{"$error":"#N/A"},0.2,0.8,{"$error":"#N/A"},{"$error":"#N/A"},{"$error":"#N/A"},{"$error":"#N/A"},false,false,true,false,false,{"$error":"#N/A"},{"$error":"#N/A"},{"$error":"#N/A"},{"$error":"#N/A"},false,false,false,false,false,{"$error":"#N/A"},{"$error":"#N/A"},{"$error":"#N/A"},{"$error":"#N/A"}]
[568,{"$f":"OFFSET(InputPriceData!B$15,CalculationsAndCharts!$A600+$A$11,0,1,1)","v":"2011-08-09"},{"$f":"OFFSET(InputPriceData!G$15,CalculationsAndCharts!$A600+$A$11,0,1,1)","v":2134700},{"$f":"OFFSET(InputPriceData!C$15,CalculationsAndCharts!$A600+$A$11,IF($C$7,7,0),1,1)","v":31.12},{"$f":"OFFSET(InputPriceData!D$15,CalculationsAndCharts!$A600+$A$11,IF($C$7,7,0),1,1)","v":31.65},{"$f":"OFFSET(InputPriceData!E$15,CalculationsAndCharts!$A600+$A$11,IF($C$7,7,0),1,1)","v":30.33},{"$f":"OFFSET(InputPriceData!F$15,CalculationsAndCharts!$A600+$A$11,IF($C$7,7,0),1,1)","v":31.64},{"$error":"#N/A"},{"$error":"#N/A"},{"$error":"#N/A"},30.706063409134398,30.706063409134398,0.64128541266071837,-0.55317537414979701,-0.19887638672424457,-1.2219771155290751,0.65370077701006157,0.24409911657531538,null,33.82,30.4,0.3625730994152051,{"$error":"#N/A"},0.2,0.8,{"$error":"#N/A"},{"$error":"#N/A"},{"$error":"#N/A"},{"$error":"#N/A"},false,false,true,false,false,{"$error":"#N/A"},{"$error":"#N/A"},{"$error":"#N/A"},{"$error":"#N/A"},false,false,false,false,false,{"$error":"#N/A"},{"$error":"#N/A"},{"$error":"#N/A"},{"$error":"#N/A"}]
[569,{"$f":"OFFSET(InputPriceData!B$15,CalculationsAndCharts!$A601+$A$11,0,1,1)","v":"2011-08-08"},{"$f":"OFFSET(InputPriceData!G$15,CalculationsAndCharts!$A601+$A$11,0,1,1)","v":5163000},{"$f":"OFFSET(InputPriceData!C$15,CalculationsAndCharts!$A601+$A$11,IF($C$7,7,0),1,1)","v":29.98},{"$f":"OFFSET(InputPriceData!D$15,CalculationsAndCharts!$A601+$A$11,IF($C$7,7,0),1,1)","v":31.03},{"$f":"OFFSET(InputPriceData!E$15,CalculationsAndCharts!$A601+$A$11,IF($C$7,7,0),1,1)","v":29.84},{"$f":"OFFSET(InputPriceData!F$15,CalculationsAndCharts!$A601+$A$11,IF($C$7,7,0),1,1)","v":30.46},{"$error":"#N/A"},{"$error":"#N/A"},{"$error":"#N/A"},30.631143639162183,30.631143639162183,-0.62323216268147597,-0.83510815798630467,-0.19887638672424457,-1.2219771155290751,0.37813379137624537,0.11019857833105724,null,33.82,30.4,1.7543859649123462E-2,{"$error":"#N/A"},0.2,0.8,{"$error":"#N/A"},{"$error":"#N/A"},{"$error":"#N/A"},{"$error":"#N/A"},false,false,true,false,false,{"$error":"#N/A"},{"$error":"#N/A"},{"$error":"#N/A"},{"$error":"#N/A"},false,false,false,false,false,{"$error":"#N/A"},{"$error":"#N/A"},{"$error":"#N/A"},{"$error":"#N/A"}]
[570,{"$f":"OFFSET(InputPriceData!B$15,CalculationsAndCharts!$A602+$A$11,0,1,1)","v":"2011-08-05"},{"$f":"OFFSET(InputPriceData!G$15,CalculationsAndCharts!$A602+$A$11,0,1,1)","v":1801500},{"$f":"OFFSET(InputPriceData!C$15,CalculationsAndCharts!$A602+$A$11,IF($C$7,7,0),1,1)","v":30.65},{"$f":"OFFSET(InputPriceData!D$15,CalculationsAndCharts!$A602+$A$11,IF($C$7,7,0),1,1)","v":31.04},{"$f":"OFFSET(InputPriceData!E$15,CalculationsAndCharts!$A602+$A$11,IF($C$7,7,0),1,1)","v":29.95},{"$f":"OFFSET(InputPriceData!F$15,CalculationsAndCharts!$A602+$A$11,IF($C$7,7,0),1,1)","v":30.8},{"$error":"#N/A"},{"$error":"#N/A"},{"$error":"#N/A"},30.706776502929976,30.706776502929976,-0.46820001959909885,-1.0010532276048743,2.4076126485754815E-2,-1.2219771155290751,0.17729891506640091,3.4343605675387891E-2,null,33.82,30.4,0.11695906432748594,{"$error":"#N/A"},0.2,0.8,{"$error":"#N/A"},{"$error":"#N/A"},{"$error":"#N/A"},{"$error":"#N/A"},false,false,true,false,false,{"$error":"#N/A"},{"$error":"#N/A"},{"$error":"#N/A"},{"$error":"#N/A"},false,false,false,false,false,{"$error":"#N/A"},{"$error":"#N/A"},{"$error":"#N/A"},{"$error":"#N/A"}]
[571,{"$f":"OFFSET(InputPriceData!B$15,CalculationsAndCharts!$A603+$A$11,0,1,1)","v":"2011-08-04"},{"$f":"OFFSET(InputPriceData!G$15,CalculationsAndCharts!$A603+$A$11,0,1,1)","v":2425700},{"$f":"OFFSET(InputPriceData!C$15,CalculationsAndCharts!$A603+$A$11,IF($C$7,7,0),1,1)","v":30.86},{"$f":"OFFSET(InputPriceData!D$15,CalculationsAndCharts!$A603+$A$11,IF($C$7,7,0),1,1)","v":31.36},{"$f":"OFFSET(InputPriceData!E$15,CalculationsAndCharts!$A603+$A$11,IF($C$7,7,0),1,1)","v":30.32},{"$f":"OFFSET(InputPriceData!F$15,CalculationsAndCharts!$A603+$A$11,IF($C$7,7,0),1,1)","v":30.4},{"$error":"#N/A"},{"$error":"#N/A"},{"$error":"#N/A"},30.843412899295295,30.843412899295295,-1.0907858806819479,-1.1242812645576419,0.18587826039215158,-1.2219771155290751,6.9393385600780302E-2,-2.9996554146478687E-4,null,33.86,30.4,0,{"$error":"#N/A"},0.2,0.8,{"$error":"#N/A"},{"$error":"#N/A"},{"$error":"#N/A"},{"$error":"#N/A"},false,false,true,false,false,{"$error":"#N/A"},{"$error":"#N/A"},{"$error":"#N/A"},{"$error":"#N/A"},false,false,false,false,false,{"$error":"#N/A"},{"$error":"#N/A"},{"$error":"#N/A"},{"$error":"#N/A"}]
[572,{"$f":"OFFSET(InputPriceData!B$15,CalculationsAndCharts!$A604+$A$11,0,1,1)","v":"2011-08-03"},{"$f":"OFFSET(InputPriceData!G$15,CalculationsAndCharts!$A604+$A$11,0,1,1)","v":1816500},{"$f":"OFFSET(InputPriceData!C$15,CalculationsAndCharts!$A604+$A$11,IF($C$7,7,0),1,1)","v":30.41},{"$f":"OFFSET(InputPriceData!D$15,CalculationsAndCharts!$A604+$A$11,IF($C$7,7,0),1,1)","v":31.18},{"$f":"OFFSET(InputPriceData!E$15,CalculationsAndCharts!$A604+$A$11,IF($C$7,7,0),1,1)","v":30.11},{"$f":"OFFSET(InputPriceData!F$15,CalculationsAndCharts!$A604+$A$11,IF($C$7,7,0),1,1)","v":31.05},{"$error":"#N/A"},{"$error":"#N/A"},{"$error":"#N/A"},31.025811933483503,31.025811933483503,-0.67543405218674213,-1.2116878250748373,0.21383159480009878,-1.2219771155290751,7.1661986587884955E-3,-8.4313068661611631E-3,null,34.130000000000003,30.52,0.14681440443213314,{"$error":"#N/A"},0.2,0.8,{"$error":"#N/A"},{"$error":"#N/A"},{"$error":"#N/A"},{"$error":"#N/A"},false,{"$f":"AND(AD605,NOT(AF605))","v":false},true,false,false,{"$error":"#N/A"},{"$error":"#N/A"},{"$error":"#N/A"},{"$error":"#N/A"},false,false,false,false,false,{"$error":"#N/A"},{"$error":"#N/A"},{"$error":"#N/A"},{"$error":"#N/A"}]
[573,{"$f":"OFFSET(InputPriceData!B$15,CalculationsAndCharts!$A605+$A$11,0,1,1)","v":"2011-08-02"},{"$f":"OFFSET(InputPriceData!G$15,CalculationsAndCharts!$A605+$A$11,0,1,1)","v":1325600},{"$f":"OFFSET(InputPriceData!C$15,CalculationsAndCharts!$A605+$A$11,IF($C$7,7,0),1,1)","v":31.15},{"$f":"OFFSET(InputPriceData!D$15,CalculationsAndCharts!$A605+$A$11,IF($C$7,7,0),1,1)","v":31.3},{"$f":"OFFSET(InputPriceData!E$15,CalculationsAndCharts!$A605+$A$11,IF($C$7,7,0),1,1)","v":30.45},{"$f":"OFFSET(InputPriceData!F$15,CalculationsAndCharts!$A605+$A$11,IF($C$7,7,0),1,1)","v":30.52},{"$error":"#N/A"},{"$error":"#N/A"},{"$error":"#N/A"},31.284148755126807,31.284148755126807,-1.4664976418849451,-1.2219771155290751,0.21383159480009878,-1.2219771155290751,0,5.4733439970951897E-4,null,34.130000000000003,30.52,0,{"$error":"#N/A"},0.2,0.8,{"$error":"#N/A"},{"$error":"#N/A"},{"$error":"#N/A"},{"$error":"#N/A"},false,false,true,false,false,{"$error":"#N/A"},{"$error":"#N/A"},{"$error":"#N/A"},{"$error":"#N/A"},false,false,false,false,false,{"$error":"#N/A"},{"$error":"#N/A"},{"$error":"#N/A"},{"$error":"#N/A"}]
[574,{"$f":"OFFSET(InputPriceData!B$15,CalculationsAndCharts!$A606+$A$11,0,1,1)","v":"2011-08-01"},{"$f":"OFFSET(InputPriceData!G$15,CalculationsAndCharts!$A606+$A$11,0,1,1)","v":1761300},{"$f":"OFFSET(InputPriceData!C$15,CalculationsAndCharts!$A606+$A$11,IF($C$7,7,0),1,1)","v":31.71},{"$f":"OFFSET(InputPriceData!D$15,CalculationsAndCharts!$A606+$A$11,IF($C$7,7,0),1,1)","v":31.84},{"$f":"OFFSET(InputPriceData!E$15,CalculationsAndCharts!$A606+$A$11,IF($C$7,7,0),1,1)","v":31},{"$f":"OFFSET(InputPriceData!F$15,CalculationsAndCharts!$A606+$A$11,IF($C$7,7,0),1,1)","v":31.14},{"$error":"#N/A"},{"$error":"#N/A"},{"$error":"#N/A"},31.605048180527959,31.605048180527959,-1.1404440322290541,-1.1540528944399939,0.21383159480009878,-1.1540528944399939,0,2.4245827722229538E-2,null,34.130000000000003,31.14,0,{"$error":"#N/A"},0.2,0.8,{"$error":"#N/A"},{"$error":"#N/A"},{"$error":"#N/A"},{"$error":"#N/A"},false,false,true,false,false,{"$error":"#N/A"},{"$error":"#N/A"},{"$error":"#N/A"},{"$error":"#N/A"},false,false,false,false,false,{"$error":"#N/A"},{"$error":"#N/A"},{"$error":"#N/A"},{"$error":"#N/A"}]
[575,{"$f":"OFFSET(InputPriceData!B$15,CalculationsAndCharts!$A607+$A$11,0,1,1)","v":"2011-07-29"},{"$f":"OFFSET(InputPriceData!G$15,CalculationsAndCharts!$A607+$A$11,0,1,1)","v":3847700},{"$f":"OFFSET(InputPriceData!C$15,CalculationsAndCharts!$A607+$A$11,IF($C$7,7,0),1,1)","v":31.25},{"$f":"OFFSET(InputPriceData!D$15,CalculationsAndCharts!$A607+$A$11,IF($C$7,7,0),1,1)","v":31.87},{"$f":"OFFSET(InputPriceData!E$15,CalculationsAndCharts!$A607+$A$11,IF($C$7,7,0),1,1)","v":31.1},{"$f":"OFFSET(InputPriceData!F$15,CalculationsAndCharts!$A607+$A$11,IF($C$7,7,0),1,1)","v":31.46},{"$error":"#N/A"},{"$error":"#N/A"},{"$error":"#N/A"},31.908254161971009,31.908254161971009,-1.0670756445353133,-1.0808665047388923,0.21383159480009878,-1.0808665047388923,0,6.6942603393775627E-2,null,34.130000000000003,31.46,0,{"$error":"#N/A"},0.2,0.8,{"$error":"#N/A"},{"$error":"#N/A"},{"$error":"#N/A"},{"$error":"#N/A"},false,false,true,false,false,{"$error":"#N/A"},{"$error":"#N/A"},{"$error":"#N/A"},{"$error":"#N/A"},false,false,false,false,false,{"$error":"#N/A"},{"$error":"#N/A"},{"$error":"#N/A"},{"$error":"#N/A"}]
[576,{"$f":"OFFSET(InputPriceData!B$15,CalculationsAndCharts!$A608+$A$11,0,1,1)","v":"2011-07-28"},{"$f":"OFFSET(InputPriceData!G$15,CalculationsAndCharts!$A608+$A$11,0,1,1)","v":1921900},{"$f":"OFFSET(InputPriceData!C$15,CalculationsAndCharts!$A608+$A$11,IF($C$7,7,0),1,1)","v":31.74},{"$f":"OFFSET(InputPriceData!D$15,CalculationsAndCharts!$A608+$A$11,IF($C$7,7,0),1,1)","v":32.200000000000003},{"$f":"OFFSET(InputPriceData!E$15,CalculationsAndCharts!$A608+$A$11,IF($C$7,7,0),1,1)","v":31.49},{"$f":"OFFSET(InputPriceData!F$15,CalculationsAndCharts!$A608+$A$11,IF($C$7,7,0),1,1)","v":31.5},{"$error":"#N/A"},{"$error":"#N/A"},{"$error":"#N/A"},32.271095972098358,32.271095972098358,-1.2765538644155741,-0.91701553249052381,0.21383159480009878,-0.91701553249052381,0,0.12955258649663032,null,34.130000000000003,31.5,0,{"$error":"#N/A"},0.2,0.8,{"$error":"#N/A"},{"$error":"#N/A"},0.12955258649663032,{"$error":"#N/A"},true,false,true,false,false,{"$error":"#N/A"},{"$error":"#N/A"},{"$error":"#N/A"},{"$error":"#N/A"},false,false,false,false,false,{"$error":"#N/A"},{"$error":"#N/A"},{"$error":"#N/A"},{"$error":"#N/A"}]
[577,{"$f":"OFFSET(InputPriceData!B$15,CalculationsAndCharts!$A609+$A$11,0,1,1)","v":"2011-07-27"},{"$f":"OFFSET(InputPriceData!G$15,CalculationsAndCharts!$A609+$A$11,0,1,1)","v":1836400},{"$f":"OFFSET(InputPriceData!C$15,CalculationsAndCharts!$A609+$A$11,IF($C$7,7,0),1,1)","v":32.46},{"$f":"OFFSET(InputPriceData!D$15,CalculationsAndCharts!$A609+$A$11,IF($C$7,7,0),1,1)","v":32.5},{"$f":"OFFSET(InputPriceData!E$15,CalculationsAndCharts!$A609+$A$11,IF($C$7,7,0),1,1)","v":31.61},{"$f":"OFFSET(InputPriceData!F$15,CalculationsAndCharts!$A609+$A$11,IF($C$7,7,0),1,1)","v":31.74},{"$f":"IF($A609=$E$25,H$32,NA())","v":{"$error":"#N/A"}},{"$error":"#N/A"},{"$error":"#N/A"},{"$f":"$F$16*(G609+G610)/2+$F$17*K610+$F$18*K611","v":32.666401332313548},32.666401332313548,{"$f":"$D$21*(G609 - 2*G610 + G611) + $D$20*M610 - $F$20*M611","v":-1.2967605253689229},-0.6754564640136016,0.21383159480009878,-0.6754564640136016,{"$f":"IFERROR(IF($A609>$A$8,0,(N609-P609)/(O609-P609)),1)","v":0},{"$f":"IF($A609>$A$8,0,$F$16*(Q609+Q610)/2+$F$17*R610+$F$18*R611)","v":0.20204454346060985},null,{"$f":"MAX(OFFSET(G609,0,0,$A$22,1))","v":34.130000000000003},{"$f":"MIN(OFFSET(G609,0,0,$A$22,1))","v":31.74},{"$f":"IFERROR(IF($A609>$A$8,0,(G609-U609)/(T609-U609)),1)","v":0},{"$error":"#N/A"},0.2,0.8,{"$f":"IF($S$7,AI609,NA())","v":{"$error":"#N/A"}},{"$f":"IF($S$7,AJ609,NA())","v":{"$error":"#N/A"}},{"$f":"IF($S$7,IF(AD609,R609,NA()),NA())","v":{"$error":"#N/A"}},{"$f":"IF($S$7,IF(AG609,R609,NA()),NA())","v":{"$error":"#N/A"}},{"$f":"IF(AND(R610>$X$32,R609<$X$32),TRUE,FALSE)","v":false},false,true,{"$f":"IF(AND(AF609,R610<$Y$32,R609>$Y$32),TRUE,FALSE)","v":false},false,{"$f":"IF(AE609,D609,NA())","v":{"$error":"#N/A"}},{"$f":"IF(AH609,D609,NA())","v":{"$error":"#N/A"}},{"$f":"IF($S$7,AI609,NA())","v":{"$error":"#N/A"}},{"$f":"IF($S$7,AJ609,NA())","v":{"$error":"#N/A"}},{"$f":"IF(AND(R610<$Y$32,R609>$Y$32),TRUE,FALSE)","v":false},false,false,{"$f":"IF(AND(AO610,R610>$X$32,R609<$X$32),TRUE,FALSE)","v":false},false,{"$f":"IF(AN609,D609,NA())","v":{"$error":"#N/A"}},{"$f":"IF(AQ609,D609,NA())","v":{"$error":"#N/A"}},{"$error":"#N/A"},{"$error":"#N/A"}]
[578,{"$f":"OFFSET(InputPriceData!B$15,CalculationsAndCharts!$A610+$A$11,0,1,1)","v":"2011-07-26"},{"$f":"OFFSET(InputPriceData!G$15,CalculationsAndCharts!$A610+$A$11,0,1,1)","v":889400},{"$f":"OFFSET(InputPriceData!C$15,CalculationsAndCharts!$A610+$A$11,IF($C$7,7,0),1,1)","v":32.67},{"$f":"OFFSET(InputPriceData!D$15,CalculationsAndCharts!$A610+$A$11,IF($C$7,7,0),1,1)","v":32.979999999999997},{"$f":"OFFSET(InputPriceData!E$15,CalculationsAndCharts!$A610+$A$11,IF($C$7,7,0),1,1)","v":32.46},{"$f":"OFFSET(InputPriceData!F$15,CalculationsAndCharts!$A610+$A$11,IF($C$7,7,0),1,1)","v":32.5},{"$error":"#N/A"},{"$error":"#N/A"},{"$error":"#N/A"},32.983507045114649,{"$f":"IF($S$5,K610,NA())","v":32.983507045114649},-0.73713103226424082,{"$f":"$F$16*(M610+M611)/2+$F$17*N611+$F$18*N612","v":-0.46431261215506525},{"$f":"MAX(OFFSET(N610,0,0,$A$22,1))","v":0.21383159480009878},-0.49922647973867895,4.8963568088331071E-2,0.25394722536414577,null,34.130000000000003,32.479999999999997,1.2121212121213974E-2,{"$f":"IF($S$18,V610,NA())","v":{"$error":"#N/A"}},{"$f":"$X$32","v":0.2},{"$f":"$Y$32","v":0.8},{"$error":"#N/A"},{"$error":"#N/A"},{"$error":"#N/A"},{"$error":"#N/A"},false,false,{"$f":"IF(AF611,IF(AH611,FALSE,AF611),IF(AE610,TRUE,AF611))","v":true},false,false,{"$error":"#N/A"},{"$error":"#N/A"},{"$error":"#N/A"},{"$error":"#N/A"},false,false,{"$f":"IF(AO611,IF(AP611,FALSE,AO611),IF(AN610,TRUE,AO611))","v":false},false,false,{"$error":"#N/A"},{"$error":"#N/A"},{"$f":"IF($S$5,AR610,NA())","v":{"$error":"#N/A"}},{"$error":"#N/A"}]
[579,{"$f":"OFFSET(InputPriceData!B$15,CalculationsAndCharts!$A611+$A$11,0,1,1)","v":"2011-07-25"},{"$f":"OFFSET(InputPriceData!G$15,CalculationsAndCharts!$A611+$A$11,0,1,1)","v":1007500},{"$f":"OFFSET(InputPriceData!C$15,CalculationsAndCharts!$A611+$A$11,IF($C$7,7,0),1,1)","v":33.1},{"$f":"OFFSET(InputPriceData!D$15,CalculationsAndCharts!$A611+$A$11,IF($C$7,7,0),1,1)","v":33.21},{"$f":"OFFSET(InputPriceData!E$15,CalculationsAndCharts!$A611+$A$11,IF($C$7,7,0),1,1)","v":32.450000000000003},{"$f":"OFFSET(InputPriceData!F$15,CalculationsAndCharts!$A611+$A$11,IF($C$7,7,0),1,1)","v":32.479999999999997},{"$error":"#N/A"},{"$error":"#N/A"},{"$error":"#N/A"},33.223046590522209,33.223046590522209,-0.91416670201428984,-0.29107260188818973,0.21383159480009878,-0.49922647973867895,0.29191714571793875,0.23891403683067866,null,34.130000000000003,32.479999999999997,0,{"$error":"#N/A"},0.2,0.8,{"$error":"#N/A"},{"$error":"#N/A"},{"$error":"#N/A"},{"$error":"#N/A"},false,false,true,false,false,{"$error":"#N/A"},{"$error":"#N/A"},{"$error":"#N/A"},{"$error":"#N/A"},false,false,false,false,false,{"$error":"#N/A"},{"$error":"#N/A"},{"$error":"#N/A"},{"$error":"#N/A"}]
[580,{"$f":"OFFSET(InputPriceData!B$15,CalculationsAndCharts!$A612+$A$11,0,1,1)","v":"2011-07-22"},{"$f":"OFFSET(InputPriceData!G$15,CalculationsAndCharts!$A612+$A$11,0,1,1)","v":765900},{"$f":"OFFSET(InputPriceData!C$15,CalculationsAndCharts!$A612+$A$11,IF($C$7,7,0),1,1)","v":33.479999999999997},{"$f":"OFFSET(InputPriceData!D$15,CalculationsAndCharts!$A612+$A$11,IF($C$7,7,0),1,1)","v":33.64},{"$f":"OFFSET(InputPriceData!E$15,CalculationsAndCharts!$A612+$A$11,IF($C$7,7,0),1,1)","v":33.17},{"$f":"OFFSET(InputPriceData!F$15,CalculationsAndCharts!$A612+$A$11,IF($C$7,7,0),1,1)","v":33.200000000000003},{"$error":"#N/A"},{"$error":"#N/A"},{"$error":"#N/A"},33.35428939624471,33.35428939624471,-0.30502942453855508,-0.19887638672424457,0.30574540704869546,-0.49922647973867895,0.37311873612521451,0.16022066223111853,null,34.130000000000003,33.06,0.13084112149532759,{"$error":"#N/A"},0.2,0.8,{"$error":"#N/A"},{"$error":"#N/A"},{"$error":"#N/A"},{"$error":"#N/A"},false,false,true,false,false,{"$error":"#N/A"},{"$error":"#N/A"},{"$error":"#N/A"},{"$error":"#N/A"},false,false,false,false,false,{"$error":"#N/A"},{"$error":"#N/A"},{"$error":"#N/A"},{"$error":"#N/A"}]
[581,{"$f":"OFFSET(InputPriceData!B$15,CalculationsAndCharts!$A613+$A$11,0,1,1)","v":"2011-07-21"},{"$f":"OFFSET(InputPriceData!G$15,CalculationsAndCharts!$A613+$A$11,0,1,1)","v":514200},{"$f":"OFFSET(InputPriceData!C$15,CalculationsAndCharts!$A613+$A$11,IF($C$7,7,0),1,1)","v":33.44},{"$f":"OFFSET(InputPriceData!D$15,CalculationsAndCharts!$A613+$A$11,IF($C$7,7,0),1,1)","v":33.72},{"$f":"OFFSET(InputPriceData!E$15,CalculationsAndCharts!$A613+$A$11,IF($C$7,7,0),1,1)","v":33.380000000000003},{"$f":"OFFSET(InputPriceData!F$15,CalculationsAndCharts!$A613+$A$11,IF($C$7,7,0),1,1)","v":33.409999999999997},{"$error":"#N/A"},{"$f":"IF($A613=$E$25,I$32,NA())","v":{"$error":"#N/A"}},{"$error":"#N/A"},33.356861917579337,33.356861917579337,-0.12969398350258896,-0.22749782632010912,0.56499688475196863,-0.49922647973867895,0.25533047148295135,7.4932072792393695E-2,null,34.130000000000003,33.06,0.32710280373831235,{"$error":"#N/A"},0.2,0.8,{"$error":"#N/A"},{"$error":"#N/A"},{"$error":"#N/A"},{"$error":"#N/A"},false,false,true,false,false,{"$error":"#N/A"},{"$error":"#N/A"},{"$error":"#N/A"},{"$error":"#N/A"},false,false,false,false,false,{"$error":"#N/A"},{"$error":"#N/A"},{"$error":"#N/A"},{"$error":"#N/A"}]
[582,{"$f":"OFFSET(InputPriceData!B$15,CalculationsAndCharts!$A614+$A$11,0,1,1)","v":"2011-07-20"},{"$f":"OFFSET(InputPriceData!G$15,CalculationsAndCharts!$A614+$A$11,0,1,1)","v":766100},{"$f":"OFFSET(InputPriceData!C$15,CalculationsAndCharts!$A614+$A$11,IF($C$7,7,0),1,1)","v":33.799999999999997},{"$f":"OFFSET(InputPriceData!D$15,CalculationsAndCharts!$A614+$A$11,IF($C$7,7,0),1,1)","v":33.799999999999997},{"$f":"OFFSET(InputPriceData!E$15,CalculationsAndCharts!$A614+$A$11,IF($C$7,7,0),1,1)","v":33.18},{"$f":"OFFSET(InputPriceData!F$15,CalculationsAndCharts!$A614+$A$11,IF($C$7,7,0),1,1)","v":33.22},{"$error":"#N/A"},{"$error":"#N/A"},{"$error":"#N/A"},33.331197798965377,33.331197798965377,-0.35721538325783853,-0.29084786631772896,0.70899272727089546,-0.49922647973867895,0.17246755573163033,1.484099387876767E-2,null,34.130000000000003,33.06,0.1495327102803706,{"$error":"#N/A"},0.2,0.8,{"$error":"#N/A"},{"$error":"#N/A"},{"$error":"#N/A"},{"$error":"#N/A"},false,false,true,false,false,{"$error":"#N/A"},{"$error":"#N/A"},{"$error":"#N/A"},{"$error":"#N/A"},false,false,false,false,false,{"$error":"#N/A"},{"$error":"#N/A"},{"$error":"#N/A"},{"$error":"#N/A"}]
[583,{"$f":"OFFSET(InputPriceData!B$15,CalculationsAndCharts!$A615+$A$11,0,1,1)","v":"2011-07-19"},{"$f":"OFFSET(InputPriceData!G$15,CalculationsAndCharts!$A615+$A$11,0,1,1)","v":984200},{"$f":"OFFSET(InputPriceData!C$15,CalculationsAndCharts!$A615+$A$11,IF($C$7,7,0),1,1)","v":33.15},{"$f":"OFFSET(InputPriceData!D$15,CalculationsAndCharts!$A615+$A$11,IF($C$7,7,0),1,1)","v":33.97},{"$f":"OFFSET(InputPriceData!E$15,CalculationsAndCharts!$A615+$A$11,IF($C$7,7,0),1,1)","v":33.049999999999997},{"$f":"OFFSET(InputPriceData!F$15,CalculationsAndCharts!$A615+$A$11,IF($C$7,7,0),1,1)","v":33.82},{"$error":"#N/A"},{"$error":"#N/A"},{"$error":"#N/A"},33.25883060568578,33.25883060568578,0.24087603827678106,-0.41570474247365713,0.70899272727089546,-0.49922647973867895,6.9127966829582069E-2,-8.7490414617342679E-3,null,34.4,33.06,0.56716417910447769,{"$error":"#N/A"},0.2,0.8,{"$error":"#N/A"},{"$error":"#N/A"},{"$error":"#N/A"},{"$error":"#N/A"},false,false,true,false,false,{"$error":"#N/A"},{"$error":"#N/A"},{"$error":"#N/A"},{"$error":"#N/A"},false,false,false,false,false,{"$error":"#N/A"},{"$error":"#N/A"},{"$error":"#N/A"},{"$error":"#N/A"}]
[584,{"$f":"OFFSET(InputPriceData!B$15,CalculationsAndCharts!$A616+$A$11,0,1,1)","v":"2011-07-18"},{"$f":"OFFSET(InputPriceData!G$15,CalculationsAndCharts!$A616+$A$11,0,1,1)","v":954800},{"$f":"OFFSET(InputPriceData!C$15,CalculationsAndCharts!$A616+$A$11,IF($C$7,7,0),1,1)","v":33.130000000000003},{"$f":"OFFSET(InputPriceData!D$15,CalculationsAndCharts!$A616+$A$11,IF($C$7,7,0),1,1)","v":33.18},{"$f":"OFFSET(InputPriceData!E$15,CalculationsAndCharts!$A616+$A$11,IF($C$7,7,0),1,1)","v":32.93},{"$f":"OFFSET(InputPriceData!F$15,CalculationsAndCharts!$A616+$A$11,IF($C$7,7,0),1,1)","v":33.06},{"$error":"#N/A"},{"$error":"#N/A"},{"$error":"#N/A"},33.243620077575294,33.243620077575294,-0.53677830525660708,-0.49922647973867895,0.70899272727089546,{"$f":"MIN(OFFSET(N616,0,0,$A$22,1))","v":-0.49922647973867895},0,1.3626116928556239E-2,null,34.4,33.06,0,{"$error":"#N/A"},0.2,0.8,{"$error":"#N/A"},{"$error":"#N/A"},{"$error":"#N/A"},{"$error":"#N/A"},false,false,true,false,false,{"$error":"#N/A"},{"$error":"#N/A"},{"$error":"#N/A"},{"$error":"#N/A"},false,false,false,false,false,{"$error":"#N/A"},{"$error":"#N/A"},{"$error":"#N/A"},{"$error":"#N/A"}]
[585,{"$f":"OFFSET(InputPriceData!B$15,CalculationsAndCharts!$A617+$A$11,0,1,1)","v":"2011-07-15"},{"$f":"OFFSET(InputPriceData!G$15,CalculationsAndCharts!$A617+$A$11,0,1,1)","v":776100},{"$f":"OFFSET(InputPriceData!C$15,CalculationsAndCharts!$A617+$A$11,IF($C$7,7,0),1,1)","v":33.409999999999997},{"$f":"OFFSET(InputPriceData!D$15,CalculationsAndCharts!$A617+$A$11,IF($C$7,7,0),1,1)","v":33.65},{"$f":"OFFSET(InputPriceData!E$15,CalculationsAndCharts!$A617+$A$11,IF($C$7,7,0),1,1)","v":33},{"$f":"OFFSET(InputPriceData!F$15,CalculationsAndCharts!$A617+$A$11,IF($C$7,7,0),1,1)","v":33.21},{"$error":"#N/A"},{"$error":"#N/A"},{"$error":"#N/A"},33.327501569019276,33.327501569019276,-0.46722402203734947,-0.48610112184448556,0.70899272727089546,-0.48610112184448556,0,8.09140451656086E-2,null,34.4,33.090000000000003,9.1603053435112894E-2,{"$error":"#N/A"},0.2,0.8,33.409999999999997,{"$error":"#N/A"},{"$error":"#N/A"},{"$error":"#N/A"},false,true,true,false,false,33.409999999999997,{"$error":"#N/A"},33.409999999999997,{"$error":"#N/A"},false,false,false,false,true,{"$error":"#N/A"},33.409999999999997,{"$error":"#N/A"},33.409999999999997]
[586,{"$f":"OFFSET(InputPriceData!B$15,CalculationsAndCharts!$A618+$A$11,0,1,1)","v":"2011-07-14"},{"$f":"OFFSET(InputPriceData!G$15,CalculationsAndCharts!$A618+$A$11,0,1,1)","v":1016400},{"$f":"OFFSET(InputPriceData!C$15,CalculationsAndCharts!$A618+$A$11,IF($C$7,7,0),1,1)","v":33.409999999999997},{"$f":"OFFSET(InputPriceData!D$15,CalculationsAndCharts!$A618+$A$11,IF($C$7,7,0),1,1)","v":33.64},{"$f":"OFFSET(InputPriceData!E$15,CalculationsAndCharts!$A618+$A$11,IF($C$7,7,0),1,1)","v":33.25},{"$f":"OFFSET(InputPriceData!F$15,CalculationsAndCharts!$A618+$A$11,IF($C$7,7,0),1,1)","v":33.36},{"$error":"#N/A"},{"$error":"#N/A"},{"$error":"#N/A"},33.412969348616457,33.412969348616457,-0.3790991582265259,-0.46397473682591384,0.70899272727089546,-0.46397473682591384,0,0.19471460423282683,null,34.4,33.090000000000003,0.20610687022900537,{"$error":"#N/A"},0.2,0.8,{"$error":"#N/A"},{"$error":"#N/A"},0.19471460423282683,{"$error":"#N/A"},true,false,false,false,false,{"$error":"#N/A"},{"$error":"#N/A"},{"$error":"#N/A"},{"$error":"#N/A"},false,false,true,true,false,{"$error":"#N/A"},{"$error":"#N/A"},{"$error":"#N/A"},{"$error":"#N/A"}]
[587,{"$f":"OFFSET(InputPriceData!B$15,CalculationsAndCharts!$A619+$A$11,0,1,1)","v":"2011-07-13"},{"$f":"OFFSET(InputPriceData!G$15,CalculationsAndCharts!$A619+$A$11,0,1,1)","v":878000},{"$f":"OFFSET(InputPriceData!C$15,CalculationsAndCharts!$A619+$A$11,IF($C$7,7,0),1,1)","v":33.31},{"$f":"OFFSET(InputPriceData!D$15,CalculationsAndCharts!$A619+$A$11,IF($C$7,7,0),1,1)","v":33.64},{"$f":"OFFSET(InputPriceData!E$15,CalculationsAndCharts!$A619+$A$11,IF($C$7,7,0),1,1)","v":33.24},{"$f":"OFFSET(InputPriceData!F$15,CalculationsAndCharts!$A619+$A$11,IF($C$7,7,0),1,1)","v":33.35},{"$error":"#N/A"},{"$error":"#N/A"},{"$error":"#N/A"},33.542010745886621,33.542010745886621,-0.44536751671272645,-0.38505927774641519,0.70899272727089546,-0.38505927774641519,0,0.35156371638948103,null,34.4,33.090000000000003,0.19847328244274731,{"$error":"#N/A"},0.2,0.8,{"$error":"#N/A"},{"$error":"#N/A"},{"$error":"#N/A"},{"$error":"#N/A"},false,false,false,false,false,{"$error":"#N/A"},{"$error":"#N/A"},{"$error":"#N/A"},{"$error":"#N/A"},false,false,true,false,false,{"$error":"#N/A"},{"$error":"#N/A"},{"$error":"#N/A"},{"$error":"#N/A"}]
[588,{"$f":"OFFSET(InputPriceData!B$15,CalculationsAndCharts!$A620+$A$11,0,1,1)","v":"2011-07-12"},{"$f":"OFFSET(InputPriceData!G$15,CalculationsAndCharts!$A620+$A$11,0,1,1)","v":1798300},{"$f":"OFFSET(InputPriceData!C$15,CalculationsAndCharts!$A620+$A$11,IF($C$7,7,0),1,1)","v":33.42},{"$f":"OFFSET(InputPriceData!D$15,CalculationsAndCharts!$A620+$A$11,IF($C$7,7,0),1,1)","v":33.770000000000003},{"$f":"OFFSET(InputPriceData!E$15,CalculationsAndCharts!$A620+$A$11,IF($C$7,7,0),1,1)","v":33.21},{"$f":"OFFSET(InputPriceData!F$15,CalculationsAndCharts!$A620+$A$11,IF($C$7,7,0),1,1)","v":33.270000000000003},{"$error":"#N/A"},{"$error":"#N/A"},{"$error":"#N/A"},33.740656879045204,33.740656879045204,-0.59789406666173084,-0.20991360579952739,0.70899272727089546,-0.29788823400827569,8.737341512246169E-2,0.51654449937346003,null,34.4,33.090000000000003,0.13740458015267204,{"$error":"#N/A"},0.2,0.8,{"$error":"#N/A"},{"$error":"#N/A"},{"$error":"#N/A"},{"$error":"#N/A"},false,false,false,false,false,{"$error":"#N/A"},{"$error":"#N/A"},{"$error":"#N/A"},{"$error":"#N/A"},false,false,true,false,false,{"$error":"#N/A"},{"$error":"#N/A"},{"$error":"#N/A"},{"$error":"#N/A"}]
[589,{"$f":"OFFSET(InputPriceData!B$15,CalculationsAndCharts!$A621+$A$11,0,1,1)","v":"2011-07-11"},{"$f":"OFFSET(InputPriceData!G$15,CalculationsAndCharts!$A621+$A$11,0,1,1)","v":677400},{"$f":"OFFSET(InputPriceData!C$15,CalculationsAndCharts!$A621+$A$11,IF($C$7,7,0),1,1)","v":33.659999999999997},{"$f":"OFFSET(InputPriceData!D$15,CalculationsAndCharts!$A621+$A$11,IF($C$7,7,0),1,1)","v":33.75},{"$f":"OFFSET(InputPriceData!E$15,CalculationsAndCharts!$A621+$A$11,IF($C$7,7,0),1,1)","v":33.25},{"$f":"OFFSET(InputPriceData!F$15,CalculationsAndCharts!$A621+$A$11,IF($C$7,7,0),1,1)","v":33.28},{"$error":"#N/A"},{"$error":"#N/A"},{"$error":"#N/A"},33.958581889214855,33.958581889214855,-0.67689213468397025,2.4076126485754815E-2,0.70899272727089546,-0.40882136863033802,0.38727145837883786,0.6266448174668604,null,34.4,33.020000000000003,0.18840579710144845,{"$error":"#N/A"},0.2,0.8,{"$error":"#N/A"},{"$error":"#N/A"},{"$error":"#N/A"},{"$error":"#N/A"},false,false,false,false,false,{"$error":"#N/A"},{"$error":"#N/A"},{"$error":"#N/A"},{"$error":"#N/A"},false,false,true,false,false,{"$error":"#N/A"},{"$error":"#N/A"},{"$error":"#N/A"},{"$error":"#N/A"}]
[590,{"$f":"OFFSET(InputPriceData!B$15,CalculationsAndCharts!$A622+$A$11,0,1,1)","v":"2011-07-08"},{"$f":"OFFSET(InputPriceData!G$15,CalculationsAndCharts!$A622+$A$11,0,1,1)","v":547900},{"$f":"OFFSET(InputPriceData!C$15,CalculationsAndCharts!$A622+$A$11,IF($C$7,7,0),1,1)","v":33.82},{"$f":"OFFSET(InputPriceData!D$15,CalculationsAndCharts!$A622+$A$11,IF($C$7,7,0),1,1)","v":34.17},{"$f":"OFFSET(InputPriceData!E$15,CalculationsAndCharts!$A622+$A$11,IF($C$7,7,0),1,1)","v":33.630000000000003},{"$f":"OFFSET(InputPriceData!F$15,CalculationsAndCharts!$A622+$A$11,IF($C$7,7,0),1,1)","v":33.86},{"$error":"#N/A"},{"$error":"#N/A"},{"$error":"#N/A"},34.067715860992408,34.067715860992408,-0.13889892616899638,0.18587826039215158,0.70899272727089546,-0.66010359860960377,0.61791259169268731,0.65472464982308054,null,34.4,32.57,0.70491803278688547,{"$error":"#N/A"},0.2,0.8,{"$error":"#N/A"},{"$error":"#N/A"},{"$error":"#N/A"},{"$error":"#N/A"},false,false,false,false,false,{"$error":"#N/A"},{"$error":"#N/A"},{"$error":"#N/A"},{"$error":"#N/A"},false,false,true,false,false,{"$error":"#N/A"},{"$error":"#N/A"},{"$error":"#N/A"},{"$error":"#N/A"}]
[591,{"$f":"OFFSET(InputPriceData!B$15,CalculationsAndCharts!$A623+$A$11,0,1,1)","v":"2011-07-07"},{"$f":"OFFSET(InputPriceData!G$15,CalculationsAndCharts!$A623+$A$11,0,1,1)","v":1343000},{"$f":"OFFSET(InputPriceData!C$15,CalculationsAndCharts!$A623+$A$11,IF($C$7,7,0),1,1)","v":34.14},{"$f":"OFFSET(InputPriceData!D$15,CalculationsAndCharts!$A623+$A$11,IF($C$7,7,0),1,1)","v":34.32},{"$f":"OFFSET(InputPriceData!E$15,CalculationsAndCharts!$A623+$A$11,IF($C$7,7,0),1,1)","v":33.909999999999997},{"$f":"OFFSET(InputPriceData!F$15,CalculationsAndCharts!$A623+$A$11,IF($C$7,7,0),1,1)","v":34.130000000000003},{"$error":"#N/A"},{"$error":"#N/A"},{"$error":"#N/A"},34.026734638514128,34.026734638514128,0.16913075686219159,0.21383159480009878,0.70899272727089546,-0.91965796575617664,0.69596848815354539,0.62936509949681541,null,34.4,32.57,0.85245901639344468,{"$error":"#N/A"},0.2,0.8,{"$error":"#N/A"},{"$error":"#N/A"},{"$error":"#N/A"},{"$error":"#N/A"},false,false,false,false,false,{"$error":"#N/A"},{"$error":"#N/A"},{"$error":"#N/A"},{"$error":"#N/A"},false,false,true,false,false,{"$error":"#N/A"},{"$error":"#N/A"},{"$error":"#N/A"},{"$error":"#N/A"}]
[592,{"$f":"OFFSET(InputPriceData!B$15,CalculationsAndCharts!$A624+$A$11,0,1,1)","v":"2011-07-06"},{"$f":"OFFSET(InputPriceData!G$15,CalculationsAndCharts!$A624+$A$11,0,1,1)","v":752300},{"$f":"OFFSET(InputPriceData!C$15,CalculationsAndCharts!$A624+$A$11,IF($C$7,7,0),1,1)","v":34.090000000000003},{"$f":"OFFSET(InputPriceData!D$15,CalculationsAndCharts!$A624+$A$11,IF($C$7,7,0),1,1)","v":34.28},{"$f":"OFFSET(InputPriceData!E$15,CalculationsAndCharts!$A624+$A$11,IF($C$7,7,0),1,1)","v":33.96},{"$f":"OFFSET(InputPriceData!F$15,CalculationsAndCharts!$A624+$A$11,IF($C$7,7,0),1,1)","v":34.1},{"$error":"#N/A"},{"$error":"#N/A"},{"$error":"#N/A"},33.907564132500404,33.907564132500404,0.2084552024135973,0.15949461200921042,0.70899272727089546,-1.1545725894158834,0.70513611176310453,0.5846789669840895,null,34.4,32.31,0.85645933014354181,{"$error":"#N/A"},0.2,0.8,{"$error":"#N/A"},{"$error":"#N/A"},{"$error":"#N/A"},{"$error":"#N/A"},false,false,false,false,false,{"$error":"#N/A"},{"$error":"#N/A"},{"$error":"#N/A"},{"$error":"#N/A"},false,false,true,false,false,{"$error":"#N/A"},{"$error":"#N/A"},{"$error":"#N/A"},{"$error":"#N/A"}]
[593,{"$f":"OFFSET(InputPriceData!B$15,CalculationsAndCharts!$A625+$A$11,0,1,1)","v":"2011-07-05"},{"$f":"OFFSET(InputPriceData!G$15,CalculationsAndCharts!$A625+$A$11,0,1,1)","v":595600},{"$f":"OFFSET(InputPriceData!C$15,CalculationsAndCharts!$A625+$A$11,IF($C$7,7,0),1,1)","v":34.1},{"$f":"OFFSET(InputPriceData!D$15,CalculationsAndCharts!$A625+$A$11,IF($C$7,7,0),1,1)","v":34.47},{"$f":"OFFSET(InputPriceData!E$15,CalculationsAndCharts!$A625+$A$11,IF($C$7,7,0),1,1)","v":33.94},{"$f":"OFFSET(InputPriceData!F$15,CalculationsAndCharts!$A625+$A$11,IF($C$7,7,0),1,1)","v":34.090000000000003},{"$error":"#N/A"},{"$error":"#N/A"},{"$error":"#N/A"},33.745488257406805,33.745488257406805,0.27581155941973318,4.5414939646626365E-2,0.70899272727089546,-1.3015082227117236,0.66994405666408374,0.54734695182882598,null,34.4,32.31,0.85167464114832736,{"$error":"#N/A"},0.2,0.8,{"$error":"#N/A"},{"$error":"#N/A"},{"$error":"#N/A"},{"$error":"#N/A"},false,false,false,false,false,{"$error":"#N/A"},{"$error":"#N/A"},{"$error":"#N/A"},{"$error":"#N/A"},false,false,true,false,false,{"$error":"#N/A"},{"$error":"#N/A"},{"$error":"#N/A"},{"$error":"#N/A"}]
[594,{"$f":"OFFSET(InputPriceData!B$15,CalculationsAndCharts!$A626+$A$11,0,1,1)","v":"2011-07-01"},{"$f":"OFFSET(InputPriceData!G$15,CalculationsAndCharts!$A626+$A$11,0,1,1)","v":1249600},{"$f":"OFFSET(InputPriceData!C$15,CalculationsAndCharts!$A626+$A$11,IF($C$7,7,0),1,1)","v":33.92},{"$f":"OFFSET(InputPriceData!D$15,CalculationsAndCharts!$A626+$A$11,IF($C$7,7,0),1,1)","v":34.24},{"$f":"OFFSET(InputPriceData!E$15,CalculationsAndCharts!$A626+$A$11,IF($C$7,7,0),1,1)","v":33.79},{"$f":"OFFSET(InputPriceData!F$15,CalculationsAndCharts!$A626+$A$11,IF($C$7,7,0),1,1)","v":34},{"$error":"#N/A"},{"$error":"#N/A"},{"$error":"#N/A"},33.566536546073507,33.566536546073507,0.26632664400592337,-0.11087951542747555,0.70899272727089546,-1.3015082227117236,0.592204996120266,0.54286307438240256,null,34.4,32.25,0.81395348837209358,{"$error":"#N/A"},0.2,0.8,{"$error":"#N/A"},{"$error":"#N/A"},{"$error":"#N/A"},{"$error":"#N/A"},false,false,false,false,false,{"$error":"#N/A"},{"$error":"#N/A"},{"$error":"#N/A"},{"$error":"#N/A"},false,false,true,false,false,{"$error":"#N/A"},{"$error":"#N/A"},{"$error":"#N/A"},{"$error":"#N/A"}]
[595,{"$f":"OFFSET(InputPriceData!B$15,CalculationsAndCharts!$A627+$A$11,0,1,1)","v":"2011-06-30"},{"$f":"OFFSET(InputPriceData!G$15,CalculationsAndCharts!$A627+$A$11,0,1,1)","v":1313300},{"$f":"OFFSET(InputPriceData!C$15,CalculationsAndCharts!$A627+$A$11,IF($C$7,7,0),1,1)","v":33.659999999999997},{"$f":"OFFSET(InputPriceData!D$15,CalculationsAndCharts!$A627+$A$11,IF($C$7,7,0),1,1)","v":34.39},{"$f":"OFFSET(InputPriceData!E$15,CalculationsAndCharts!$A627+$A$11,IF($C$7,7,0),1,1)","v":33.53},{"$f":"OFFSET(InputPriceData!F$15,CalculationsAndCharts!$A627+$A$11,IF($C$7,7,0),1,1)","v":33.89},{"$error":"#N/A"},{"$error":"#N/A"},{"$error":"#N/A"},33.42591822613133,33.42591822613133,0.23040931661759093,-0.25581113579773557,0.70899272727089546,-1.3015082227117236,0.52011767859300351,0.58625162078548998,null,34.4,31.84,0.80078125000000067,{"$error":"#N/A"},0.2,0.8,{"$error":"#N/A"},{"$error":"#N/A"},{"$error":"#N/A"},{"$error":"#N/A"},false,false,false,false,false,{"$error":"#N/A"},{"$error":"#N/A"},{"$error":"#N/A"},{"$error":"#N/A"},false,false,true,false,false,{"$error":"#N/A"},{"$error":"#N/A"},{"$error":"#N/A"},{"$error":"#N/A"}]
[596,{"$f":"OFFSET(InputPriceData!B$15,CalculationsAndCharts!$A628+$A$11,0,1,1)","v":"2011-06-29"},{"$f":"OFFSET(InputPriceData!G$15,CalculationsAndCharts!$A628+$A$11,0,1,1)","v":2044000},{"$f":"OFFSET(InputPriceData!C$15,CalculationsAndCharts!$A628+$A$11,IF($C$7,7,0),1,1)","v":33.26},{"$f":"OFFSET(InputPriceData!D$15,CalculationsAndCharts!$A628+$A$11,IF($C$7,7,0),1,1)","v":33.6},{"$f":"OFFSET(InputPriceData!E$15,CalculationsAndCharts!$A628+$A$11,IF($C$7,7,0),1,1)","v":32.26},{"$f":"OFFSET(InputPriceData!F$15,CalculationsAndCharts!$A628+$A$11,IF($C$7,7,0),1,1)","v":33.42},{"$error":"#N/A"},{"$error":"#N/A"},{"$error":"#N/A"},33.403500165412829,33.403500165412829,-0.21080322304591464,-0.29788823400827569,0.70899272727089546,-1.3015082227117236,0.49918901491298689,0.67322455538348369,null,34.4,31.84,0.617187500000001,{"$error":"#N/A"},0.2,0.8,{"$error":"#N/A"},{"$error":"#N/A"},{"$error":"#N/A"},{"$error":"#N/A"},false,false,false,false,false,{"$error":"#N/A"},{"$error":"#N/A"},{"$error":"#N/A"},{"$error":"#N/A"},false,false,true,false,false,{"$error":"#N/A"},{"$error":"#N/A"},{"$error":"#N/A"},{"$error":"#N/A"}]
[597,{"$f":"OFFSET(InputPriceData!B$15,CalculationsAndCharts!$A629+$A$11,0,1,1)","v":"2011-06-28"},{"$f":"OFFSET(InputPriceData!G$15,CalculationsAndCharts!$A629+$A$11,0,1,1)","v":1031500},{"$f":"OFFSET(InputPriceData!C$15,CalculationsAndCharts!$A629+$A$11,IF($C$7,7,0),1,1)","v":33.369999999999997},{"$f":"OFFSET(InputPriceData!D$15,CalculationsAndCharts!$A629+$A$11,IF($C$7,7,0),1,1)","v":33.520000000000003},{"$f":"OFFSET(InputPriceData!E$15,CalculationsAndCharts!$A629+$A$11,IF($C$7,7,0),1,1)","v":33.130000000000003},{"$f":"OFFSET(InputPriceData!F$15,CalculationsAndCharts!$A629+$A$11,IF($C$7,7,0),1,1)","v":33.46},{"$error":"#N/A"},{"$error":"#N/A"},{"$error":"#N/A"},33.50378165323437,33.50378165323437,-0.17915201286070645,-0.2108210813686669,0.70899272727089546,-1.3015082227117236,0.54249521312212545,0.78401407428984293,null,34.4,31.81,0.6370656370656379,{"$error":"#N/A"},0.2,0.8,{"$error":"#N/A"},{"$error":"#N/A"},{"$error":"#N/A"},{"$error":"#N/A"},false,false,false,false,false,{"$error":"#N/A"},{"$error":"#N/A"},{"$error":"#N/A"},{"$error":"#N/A"},false,false,true,false,false,{"$error":"#N/A"},{"$error":"#N/A"},{"$error":"#N/A"},{"$error":"#N/A"}]
[598,{"$f":"OFFSET(InputPriceData!B$15,CalculationsAndCharts!$A630+$A$11,0,1,1)","v":"2011-06-27"},{"$f":"OFFSET(InputPriceData!G$15,CalculationsAndCharts!$A630+$A$11,0,1,1)","v":1723200},{"$f":"OFFSET(InputPriceData!C$15,CalculationsAndCharts!$A630+$A$11,IF($C$7,7,0),1,1)","v":33.28},{"$f":"OFFSET(InputPriceData!D$15,CalculationsAndCharts!$A630+$A$11,IF($C$7,7,0),1,1)","v":33.47},{"$f":"OFFSET(InputPriceData!E$15,CalculationsAndCharts!$A630+$A$11,IF($C$7,7,0),1,1)","v":33.049999999999997},{"$f":"OFFSET(InputPriceData!F$15,CalculationsAndCharts!$A630+$A$11,IF($C$7,7,0),1,1)","v":33.090000000000003},{"$error":"#N/A"},{"$error":"#N/A"},{"$error":"#N/A"},33.708344954570727,33.708344954570727,-0.59014691822258525,1.061955289646313E-2,0.70899272727089546,-1.3015082227117236,0.65263723233730886,0.89140976260192328,null,35.07,31.81,0.39263803680981718,{"$error":"#N/A"},0.2,0.8,{"$error":"#N/A"},{"$error":"#N/A"},{"$error":"#N/A"},{"$error":"#N/A"},false,false,false,false,false,{"$error":"#N/A"},{"$error":"#N/A"},{"$error":"#N/A"},{"$error":"#N/A"},false,false,true,false,false,{"$error":"#N/A"},{"$error":"#N/A"},{"$error":"#N/A"},{"$error":"#N/A"}]
[599,{"$f":"OFFSET(InputPriceData!B$15,CalculationsAndCharts!$A631+$A$11,0,1,1)","v":"2011-06-24"},{"$f":"OFFSET(InputPriceData!G$15,CalculationsAndCharts!$A631+$A$11,0,1,1)","v":2018200},{"$f":"OFFSET(InputPriceData!C$15,CalculationsAndCharts!$A631+$A$11,IF($C$7,7,0),1,1)","v":33.590000000000003},{"$f":"OFFSET(InputPriceData!D$15,CalculationsAndCharts!$A631+$A$11,IF($C$7,7,0),1,1)","v":33.659999999999997},{"$f":"OFFSET(InputPriceData!E$15,CalculationsAndCharts!$A631+$A$11,IF($C$7,7,0),1,1)","v":33.270000000000003},{"$f":"OFFSET(InputPriceData!F$15,CalculationsAndCharts!$A631+$A$11,IF($C$7,7,0),1,1)","v":33.44},{"$error":"#N/A"},{"$error":"#N/A"},{"$error":"#N/A"},33.939002204307315,33.939002204307315,-0.2876590896309586,0.30574540704869546,0.70899272727089546,-1.3015082227117236,0.79942943064727912,0.97167685980122043,null,35.07,31.81,0.49999999999999944,{"$error":"#N/A"},0.2,0.8,{"$error":"#N/A"},{"$error":"#N/A"},{"$error":"#N/A"},{"$error":"#N/A"},false,false,false,false,false,{"$error":"#N/A"},{"$error":"#N/A"},{"$error":"#N/A"},{"$error":"#N/A"},false,false,true,false,false,{"$error":"#N/A"},{"$error":"#N/A"},{"$error":"#N/A"},{"$error":"#N/A"}]
[600,{"$f":"OFFSET(InputPriceData!B$15,CalculationsAndCharts!$A632+$A$11,0,1,1)","v":"2011-06-23"},{"$f":"OFFSET(InputPriceData!G$15,CalculationsAndCharts!$A632+$A$11,0,1,1)","v":2061000},{"$f":"OFFSET(InputPriceData!C$15,CalculationsAndCharts!$A632+$A$11,IF($C$7,7,0),1,1)","v":33.15},{"$f":"OFFSET(InputPriceData!D$15,CalculationsAndCharts!$A632+$A$11,IF($C$7,7,0),1,1)","v":33.94},{"$f":"OFFSET(InputPriceData!E$15,CalculationsAndCharts!$A632+$A$11,IF($C$7,7,0),1,1)","v":33.01},{"$f":"OFFSET(InputPriceData!F$15,CalculationsAndCharts!$A632+$A$11,IF($C$7,7,0),1,1)","v":33.57},{"$error":"#N/A"},{"$error":"#N/A"},{"$error":"#N/A"},34.084988437165293,34.084988437165293,-0.16274017487843218,0.56499688475196863,0.70899272727089546,-1.3015082227117236,0.92837812759045357,1.0156502281035233,null,35.07,31.81,0.53987730061349715,{"$error":"#N/A"},0.2,0.8,{"$error":"#N/A"},{"$error":"#N/A"},{"$error":"#N/A"},{"$error":"#N/A"},false,false,false,false,false,{"$error":"#N/A"},{"$error":"#N/A"},{"$error":"#N/A"},{"$error":"#N/A"},false,false,true,false,false,{"$error":"#N/A"},{"$error":"#N/A"},{"$error":"#N/A"},{"$error":"#N/A"}]
[601,{"$f":"OFFSET(InputPriceData!B$15,CalculationsAndCharts!$A633+$A$11,0,1,1)","v":"2011-06-22"},{"$f":"OFFSET(InputPriceData!G$15,CalculationsAndCharts!$A633+$A$11,0,1,1)","v":1079000},{"$f":"OFFSET(InputPriceData!C$15,CalculationsAndCharts!$A633+$A$11,IF($C$7,7,0),1,1)","v":34.369999999999997},{"$f":"OFFSET(InputPriceData!D$15,CalculationsAndCharts!$A633+$A$11,IF($C$7,7,0),1,1)","v":34.49},{"$f":"OFFSET(InputPriceData!E$15,CalculationsAndCharts!$A633+$A$11,IF($C$7,7,0),1,1)","v":33.96},{"$f":"OFFSET(InputPriceData!F$15,CalculationsAndCharts!$A633+$A$11,IF($C$7,7,0),1,1)","v":33.979999999999997},{"$error":"#N/A"},{"$f":"IF($A633=$E$25,I$32,NA())","v":{"$error":"#N/A"}},{"$error":"#N/A"},34.082972267305259,34.082972267305259,0.29700350061018344,0.70899272727089546,0.70899272727089546,-1.3015082227117236,1,1.0291709075816573,null,35.07,31.81,0.66564417177914026,{"$error":"#N/A"},0.2,0.8,{"$error":"#N/A"},{"$error":"#N/A"},{"$error":"#N/A"},{"$error":"#N/A"},false,false,false,false,false,{"$error":"#N/A"},{"$error":"#N/A"},{"$error":"#N/A"},{"$error":"#N/A"},false,false,true,false,false,{"$error":"#N/A"},{"$error":"#N/A"},{"$error":"#N/A"},{"$error":"#N/A"}]
[602,{"$f":"OFFSET(InputPriceData!B$15,CalculationsAndCharts!$A634+$A$11,0,1,1)","v":"2011-06-21"},{"$f":"OFFSET(InputPriceData!G$15,CalculationsAndCharts!$A634+$A$11,0,1,1)","v":1277700},{"$f":"OFFSET(InputPriceData!C$15,CalculationsAndCharts!$A634+$A$11,IF($C$7,7,0),1,1)","v":34.47},{"$f":"OFFSET(InputPriceData!D$15,CalculationsAndCharts!$A634+$A$11,IF($C$7,7,0),1,1)","v":34.700000000000003},{"$f":"OFFSET(InputPriceData!E$15,CalculationsAndCharts!$A634+$A$11,IF($C$7,7,0),1,1)","v":34.229999999999997},{"$f":"OFFSET(InputPriceData!F$15,CalculationsAndCharts!$A634+$A$11,IF($C$7,7,0),1,1)","v":34.4},{"$error":"#N/A"},{"$error":"#N/A"},{"$error":"#N/A"},33.888526548931793,33.888526548931793,0.85856693563854369,0.66405729638741118,0.66405729638741118,-1.3015082227117236,1,1.0220507078457919,null,35.07,31.81,0.79447852760736148,{"$error":"#N/A"},0.2,0.8,{"$error":"#N/A"},{"$error":"#N/A"},{"$error":"#N/A"},{"$error":"#N/A"},false,false,false,false,false,{"$error":"#N/A"},{"$error":"#N/A"},{"$error":"#N/A"},{"$error":"#N/A"},false,false,true,false,false,{"$error":"#N/A"},{"$error":"#N/A"},{"$error":"#N/A"},{"$error":"#N/A"}]
[603,{"$f":"OFFSET(InputPriceData!B$15,CalculationsAndCharts!$A635+$A$11,0,1,1)","v":"2011-06-20"},{"$f":"OFFSET(InputPriceData!G$15,CalculationsAndCharts!$A635+$A$11,0,1,1)","v":793200},{"$f":"OFFSET(InputPriceData!C$15,CalculationsAndCharts!$A635+$A$11,IF($C$7,7,0),1,1)","v":33.65},{"$f":"OFFSET(InputPriceData!D$15,CalculationsAndCharts!$A635+$A$11,IF($C$7,7,0),1,1)","v":34.270000000000003},{"$f":"OFFSET(InputPriceData!E$15,CalculationsAndCharts!$A635+$A$11,IF($C$7,7,0),1,1)","v":33.56},{"$f":"OFFSET(InputPriceData!F$15,CalculationsAndCharts!$A635+$A$11,IF($C$7,7,0),1,1)","v":34.270000000000003},{"$error":"#N/A"},{"$error":"#N/A"},{"$error":"#N/A"},33.601307304052796,33.601307304052796,0.92168867643204067,0.50170731765516197,0.50170731765516197,-1.3015082227117236,1,0.99116783148512622,null,35.07,31.81,0.754601226993866,{"$error":"#N/A"},0.2,0.8,{"$error":"#N/A"},{"$error":"#N/A"},{"$error":"#N/A"},{"$error":"#N/A"},false,false,false,false,false,{"$error":"#N/A"},{"$error":"#N/A"},{"$error":"#N/A"},{"$error":"#N/A"},false,false,true,false,false,{"$error":"#N/A"},{"$error":"#N/A"},{"$error":"#N/A"},{"$error":"#N/A"}]
[604,{"$f":"OFFSET(InputPriceData!B$15,CalculationsAndCharts!$A636+$A$11,0,1,1)","v":"2011-06-17"},{"$f":"OFFSET(InputPriceData!G$15,CalculationsAndCharts!$A636+$A$11,0,1,1)","v":2439000},{"$f":"OFFSET(InputPriceData!C$15,CalculationsAndCharts!$A636+$A$11,IF($C$7,7,0),1,1)","v":33.28},{"$f":"OFFSET(InputPriceData!D$15,CalculationsAndCharts!$A636+$A$11,IF($C$7,7,0),1,1)","v":33.96},{"$f":"OFFSET(InputPriceData!E$15,CalculationsAndCharts!$A636+$A$11,IF($C$7,7,0),1,1)","v":33.229999999999997},{"$f":"OFFSET(InputPriceData!F$15,CalculationsAndCharts!$A636+$A$11,IF($C$7,7,0),1,1)","v":33.89},{"$error":"#N/A"},{"$error":"#N/A"},{"$error":"#N/A"},33.354536691611138,33.354536691611138,0.7141067604364133,0.34603583286279488,0.34603583286279488,-1.3015082227117236,1,0.92151694708121046,null,35.07,31.81,0.63803680981595123,{"$error":"#N/A"},0.2,0.8,{"$error":"#N/A"},33.28,{"$error":"#N/A"},{"$error":"#N/A"},false,false,true,false,true,{"$error":"#N/A"},33.28,{"$error":"#N/A"},33.28,false,true,true,false,false,33.28,{"$error":"#N/A"},33.28,{"$error":"#N/A"}]
[605,{"$f":"OFFSET(InputPriceData!B$15,CalculationsAndCharts!$A637+$A$11,0,1,1)","v":"2011-06-16"},{"$f":"OFFSET(InputPriceData!G$15,CalculationsAndCharts!$A637+$A$11,0,1,1)","v":1425800},{"$f":"OFFSET(InputPriceData!C$15,CalculationsAndCharts!$A637+$A$11,IF($C$7,7,0),1,1)","v":33.36},{"$f":"OFFSET(InputPriceData!D$15,CalculationsAndCharts!$A637+$A$11,IF($C$7,7,0),1,1)","v":33.44},{"$f":"OFFSET(InputPriceData!E$15,CalculationsAndCharts!$A637+$A$11,IF($C$7,7,0),1,1)","v":33.049999999999997},{"$f":"OFFSET(InputPriceData!F$15,CalculationsAndCharts!$A637+$A$11,IF($C$7,7,0),1,1)","v":33.18},{"$error":"#N/A"},{"$error":"#N/A"},{"$error":"#N/A"},33.201045534006319,33.201045534006319,9.4693139157783823E-2,0.25795662600809977,0.25795662600809977,-1.3015082227117236,1,0.80047507178586519,null,35.07,31.81,0.42024539877300626,{"$error":"#N/A"},0.2,0.8,{"$error":"#N/A"},{"$error":"#N/A"},{"$error":"#N/A"},0.80047507178586519,false,false,true,true,false,{"$error":"#N/A"},{"$error":"#N/A"},{"$error":"#N/A"},{"$error":"#N/A"},true,false,false,false,false,{"$error":"#N/A"},{"$error":"#N/A"},{"$error":"#N/A"},{"$error":"#N/A"}]
[606,{"$f":"OFFSET(InputPriceData!B$15,CalculationsAndCharts!$A638+$A$11,0,1,1)","v":"2011-06-15"},{"$f":"OFFSET(InputPriceData!G$15,CalculationsAndCharts!$A638+$A$11,0,1,1)","v":1002800},{"$f":"OFFSET(InputPriceData!C$15,CalculationsAndCharts!$A638+$A$11,IF($C$7,7,0),1,1)","v":33.22},{"$f":"OFFSET(InputPriceData!D$15,CalculationsAndCharts!$A638+$A$11,IF($C$7,7,0),1,1)","v":33.57},{"$f":"OFFSET(InputPriceData!E$15,CalculationsAndCharts!$A638+$A$11,IF($C$7,7,0),1,1)","v":33.07},{"$f":"OFFSET(InputPriceData!F$15,CalculationsAndCharts!$A638+$A$11,IF($C$7,7,0),1,1)","v":33.36},{"$error":"#N/A"},{"$error":"#N/A"},{"$error":"#N/A"},33.033391334203252,33.033391334203252,0.32676935549581126,0.13393590663762134,0.13393590663762134,-1.3015082227117236,1,0.62898042176641644,null,35.07,31.81,0.47546012269938648,{"$error":"#N/A"},0.2,0.8,{"$error":"#N/A"},{"$error":"#N/A"},{"$error":"#N/A"},{"$error":"#N/A"},false,false,true,false,false,{"$error":"#N/A"},{"$error":"#N/A"},{"$error":"#N/A"},{"$error":"#N/A"},false,false,false,false,false,{"$error":"#N/A"},{"$error":"#N/A"},{"$error":"#N/A"},{"$error":"#N/A"}]
[607,{"$f":"OFFSET(InputPriceData!B$15,CalculationsAndCharts!$A639+$A$11,0,1,1)","v":"2011-06-14"},{"$f":"OFFSET(InputPriceData!G$15,CalculationsAndCharts!$A639+$A$11,0,1,1)","v":1439500},{"$f":"OFFSET(InputPriceData!C$15,CalculationsAndCharts!$A639+$A$11,IF($C$7,7,0),1,1)","v":33.24},{"$f":"OFFSET(InputPriceData!D$15,CalculationsAndCharts!$A639+$A$11,IF($C$7,7,0),1,1)","v":33.549999999999997},{"$f":"OFFSET(InputPriceData!E$15,CalculationsAndCharts!$A639+$A$11,IF($C$7,7,0),1,1)","v":33.01},{"$f":"OFFSET(InputPriceData!F$15,CalculationsAndCharts!$A639+$A$11,IF($C$7,7,0),1,1)","v":33.450000000000003},{"$error":"#N/A"},{"$error":"#N/A"},{"$error":"#N/A"},32.771389827168974,32.771389827168974,0.50407396555843231,-0.12033611959477264,0.12426325656361012,-1.3015082227117236,0.82844419339717512,0.44036563750637109,null,35.07,31.81,0.50306748466257767,{"$error":"#N/A"},0.2,0.8,{"$error":"#N/A"},{"$error":"#N/A"},{"$error":"#N/A"},{"$error":"#N/A"},false,false,true,false,false,{"$error":"#N/A"},{"$error":"#N/A"},{"$error":"#N/A"},{"$error":"#N/A"},false,false,false,false,false,{"$error":"#N/A"},{"$error":"#N/A"},{"$error":"#N/A"},{"$error":"#N/A"}]
[608,{"$f":"OFFSET(InputPriceData!B$15,CalculationsAndCharts!$A640+$A$11,0,1,1)","v":"2011-06-13"},{"$f":"OFFSET(InputPriceData!G$15,CalculationsAndCharts!$A640+$A$11,0,1,1)","v":1851000},{"$f":"OFFSET(InputPriceData!C$15,CalculationsAndCharts!$A640+$A$11,IF($C$7,7,0),1,1)","v":32.79},{"$f":"OFFSET(InputPriceData!D$15,CalculationsAndCharts!$A640+$A$11,IF($C$7,7,0),1,1)","v":33.06},{"$f":"OFFSET(InputPriceData!E$15,CalculationsAndCharts!$A640+$A$11,IF($C$7,7,0),1,1)","v":32.4},{"$f":"OFFSET(InputPriceData!F$15,CalculationsAndCharts!$A640+$A$11,IF($C$7,7,0),1,1)","v":33.020000000000003},{"$error":"#N/A"},{"$error":"#N/A"},{"$error":"#N/A"},32.524335552037741,32.524335552037741,0.14101025335905404,-0.40882136863033802,0.12426325656361012,-1.3015082227117236,0.62610794721122132,0.27341771506548657,null,35.07,31.81,0.37116564417178033,{"$error":"#N/A"},0.2,0.8,{"$error":"#N/A"},{"$error":"#N/A"},{"$error":"#N/A"},{"$error":"#N/A"},false,false,true,false,false,{"$error":"#N/A"},{"$error":"#N/A"},{"$error":"#N/A"},{"$error":"#N/A"},false,false,false,false,false,{"$error":"#N/A"},{"$error":"#N/A"},{"$error":"#N/A"},{"$error":"#N/A"}]
[609,{"$f":"OFFSET(InputPriceData!B$15,CalculationsAndCharts!$A641+$A$11,0,1,1)","v":"2011-06-10"},{"$f":"OFFSET(InputPriceData!G$15,CalculationsAndCharts!$A641+$A$11,0,1,1)","v":2303000},{"$f":"OFFSET(InputPriceData!C$15,CalculationsAndCharts!$A641+$A$11,IF($C$7,7,0),1,1)","v":32.69},{"$f":"OFFSET(InputPriceData!D$15,CalculationsAndCharts!$A641+$A$11,IF($C$7,7,0),1,1)","v":32.880000000000003},{"$f":"OFFSET(InputPriceData!E$15,CalculationsAndCharts!$A641+$A$11,IF($C$7,7,0),1,1)","v":32.39},{"$f":"OFFSET(InputPriceData!F$15,CalculationsAndCharts!$A641+$A$11,IF($C$7,7,0),1,1)","v":32.57},{"$error":"#N/A"},{"$error":"#N/A"},{"$error":"#N/A"},32.361046650412703,32.361046650412703,-0.31930973451350442,-0.66010359860960377,0.12426325656361012,-1.3015082227117236,0.44986495621873557,0.14684127765886509,null,35.07,31.81,0.2331288343558286,{"$error":"#N/A"},0.2,0.8,{"$error":"#N/A"},{"$error":"#N/A"},{"$error":"#N/A"},{"$error":"#N/A"},false,false,true,false,false,{"$error":"#N/A"},{"$error":"#N/A"},{"$error":"#N/A"},{"$error":"#N/A"},false,false,false,false,false,{"$error":"#N/A"},{"$error":"#N/A"},{"$error":"#N/A"},{"$error":"#N/A"}]
[610,{"$f":"OFFSET(InputPriceData!B$15,CalculationsAndCharts!$A642+$A$11,0,1,1)","v":"2011-06-09"},{"$f":"OFFSET(InputPriceData!G$15,CalculationsAndCharts!$A642+$A$11,0,1,1)","v":1082600},{"$f":"OFFSET(InputPriceData!C$15,CalculationsAndCharts!$A642+$A$11,IF($C$7,7,0),1,1)","v":32.24},{"$f":"OFFSET(InputPriceData!D$15,CalculationsAndCharts!$A642+$A$11,IF($C$7,7,0),1,1)","v":32.94},{"$f":"OFFSET(InputPriceData!E$15,CalculationsAndCharts!$A642+$A$11,IF($C$7,7,0),1,1)","v":32.200000000000003},{"$f":"OFFSET(InputPriceData!F$15,CalculationsAndCharts!$A642+$A$11,IF($C$7,7,0),1,1)","v":32.700000000000003},{"$error":"#N/A"},{"$error":"#N/A"},{"$error":"#N/A"},32.231115851038105,32.231115851038105,-0.23267128161650252,-0.91965796575617664,0.12426325656361012,-1.3015082227117236,0.26782009775481491,7.9824284333108203E-2,null,35.07,31.81,0.2730061349693263,{"$error":"#N/A"},0.2,0.8,{"$error":"#N/A"},{"$error":"#N/A"},{"$error":"#N/A"},{"$error":"#N/A"},false,false,true,false,false,{"$error":"#N/A"},{"$error":"#N/A"},{"$error":"#N/A"},{"$error":"#N/A"},false,false,false,false,false,{"$error":"#N/A"},{"$error":"#N/A"},{"$error":"#N/A"},{"$error":"#N/A"}]
[611,{"$f":"OFFSET(InputPriceData!B$15,CalculationsAndCharts!$A643+$A$11,0,1,1)","v":"2011-06-08"},{"$f":"OFFSET(InputPriceData!G$15,CalculationsAndCharts!$A643+$A$11,0,1,1)","v":1272100},{"$f":"OFFSET(InputPriceData!C$15,CalculationsAndCharts!$A643+$A$11,IF($C$7,7,0),1,1)","v":32.450000000000003},{"$f":"OFFSET(InputPriceData!D$15,CalculationsAndCharts!$A643+$A$11,IF($C$7,7,0),1,1)","v":32.51},{"$f":"OFFSET(InputPriceData!E$15,CalculationsAndCharts!$A643+$A$11,IF($C$7,7,0),1,1)","v":31.9},{"$f":"OFFSET(InputPriceData!F$15,CalculationsAndCharts!$A643+$A$11,IF($C$7,7,0),1,1)","v":32.31},{"$error":"#N/A"},{"$error":"#N/A"},{"$error":"#N/A"},32.163783563532043,32.163783563532043,-0.69791751888905484,-1.1545725894158834,0.12426325656361012,-1.3015082227117236,0.10305693123453566,8.8607100759017524E-2,null,35.07,31.81,0.15337423312883539,{"$error":"#N/A"},0.2,0.8,{"$error":"#N/A"},{"$error":"#N/A"},{"$error":"#N/A"},{"$error":"#N/A"},false,false,true,false,false,{"$error":"#N/A"},{"$error":"#N/A"},{"$error":"#N/A"},{"$error":"#N/A"},false,false,false,false,false,{"$error":"#N/A"},{"$error":"#N/A"},{"$error":"#N/A"},{"$error":"#N/A"}]
[612,{"$f":"OFFSET(InputPriceData!B$15,CalculationsAndCharts!$A644+$A$11,0,1,1)","v":"2011-06-07"},{"$f":"OFFSET(InputPriceData!G$15,CalculationsAndCharts!$A644+$A$11,0,1,1)","v":2077300},{"$f":"OFFSET(InputPriceData!C$15,CalculationsAndCharts!$A644+$A$11,IF($C$7,7,0),1,1)","v":32.39},{"$f":"OFFSET(InputPriceData!D$15,CalculationsAndCharts!$A644+$A$11,IF($C$7,7,0),1,1)","v":33.86},{"$f":"OFFSET(InputPriceData!E$15,CalculationsAndCharts!$A644+$A$11,IF($C$7,7,0),1,1)","v":32.39},{"$f":"OFFSET(InputPriceData!F$15,CalculationsAndCharts!$A644+$A$11,IF($C$7,7,0),1,1)","v":32.43},{"$error":"#N/A"},{"$error":"#N/A"},{"$error":"#N/A"},32.210080115262258,32.210080115262258,-0.69060086282769828,-1.3015082227117236,0.12426325656361012,-1.3015082227117236,0,0.16955667873533153,null,35.07,31.81,0.19018404907975481,{"$error":"#N/A"},0.2,0.8,{"$error":"#N/A"},{"$error":"#N/A"},0.16955667873533153,{"$error":"#N/A"},true,false,true,false,false,{"$error":"#N/A"},{"$error":"#N/A"},{"$error":"#N/A"},{"$error":"#N/A"},false,false,false,false,false,{"$error":"#N/A"},{"$error":"#N/A"},{"$error":"#N/A"},{"$error":"#N/A"}]
[613,{"$f":"OFFSET(InputPriceData!B$15,CalculationsAndCharts!$A645+$A$11,0,1,1)","v":"2011-06-06"},{"$f":"OFFSET(InputPriceData!G$15,CalculationsAndCharts!$A645+$A$11,0,1,1)","v":1744000},{"$f":"OFFSET(InputPriceData!C$15,CalculationsAndCharts!$A645+$A$11,IF($C$7,7,0),1,1)","v":31.69},{"$f":"OFFSET(InputPriceData!D$15,CalculationsAndCharts!$A645+$A$11,IF($C$7,7,0),1,1)","v":32.44},{"$f":"OFFSET(InputPriceData!E$15,CalculationsAndCharts!$A645+$A$11,IF($C$7,7,0),1,1)","v":31.65},{"$f":"OFFSET(InputPriceData!F$15,CalculationsAndCharts!$A645+$A$11,IF($C$7,7,0),1,1)","v":32.25},{"$error":"#N/A"},{"$error":"#N/A"},{"$error":"#N/A"},32.421066506336835,32.421066506336835,-1.0051216581882829,-1.2850226386299397,0.12426325656361012,-1.2850226386299397,0,0.29373114423533103,null,35.07,31.81,0.13496932515337456,{"$error":"#N/A"},0.2,0.8,{"$error":"#N/A"},{"$error":"#N/A"},{"$error":"#N/A"},{"$error":"#N/A"},false,false,true,false,false,{"$error":"#N/A"},{"$error":"#N/A"},{"$error":"#N/A"},{"$error":"#N/A"},false,false,false,false,false,{"$error":"#N/A"},{"$error":"#N/A"},{"$error":"#N/A"},{"$error":"#N/A"}]
[614,{"$f":"OFFSET(InputPriceData!B$15,CalculationsAndCharts!$A646+$A$11,0,1,1)","v":"2011-06-03"},{"$f":"OFFSET(InputPriceData!G$15,CalculationsAndCharts!$A646+$A$11,0,1,1)","v":1934100},{"$f":"OFFSET(InputPriceData!C$15,CalculationsAndCharts!$A646+$A$11,IF($C$7,7,0),1,1)","v":31.81},{"$f":"OFFSET(InputPriceData!D$15,CalculationsAndCharts!$A646+$A$11,IF($C$7,7,0),1,1)","v":32.18},{"$f":"OFFSET(InputPriceData!E$15,CalculationsAndCharts!$A646+$A$11,IF($C$7,7,0),1,1)","v":31.31},{"$f":"OFFSET(InputPriceData!F$15,CalculationsAndCharts!$A646+$A$11,IF($C$7,7,0),1,1)","v":31.84},{"$error":"#N/A"},{"$error":"#N/A"},{"$error":"#N/A"},32.884152740485661,32.884152740485661,-1.6270928298061658,-0.97588652651254182,0.12426325656361012,-0.97588652651254182,0,0.41486229180084255,null,35.07,31.81,9.2024539877304055E-3,{"$error":"#N/A"},0.2,0.8,{"$error":"#N/A"},{"$error":"#N/A"},{"$error":"#N/A"},{"$error":"#N/A"},false,false,true,false,{"$f":"AND(AG647,AF647)","v":false},{"$error":"#N/A"},{"$error":"#N/A"},{"$error":"#N/A"},{"$error":"#N/A"},false,{"$f":"AND(AM647,NOT(AO647))","v":false},false,false,false,{"$error":"#N/A"},{"$error":"#N/A"},{"$error":"#N/A"},{"$error":"#N/A"}]
[615,{"$f":"OFFSET(InputPriceData!B$15,CalculationsAndCharts!$A647+$A$11,0,1,1)","v":"2011-06-02"},{"$f":"OFFSET(InputPriceData!G$15,CalculationsAndCharts!$A647+$A$11,0,1,1)","v":5285000},{"$f":"OFFSET(InputPriceData!C$15,CalculationsAndCharts!$A647+$A$11,IF($C$7,7,0),1,1)","v":32.01},{"$f":"OFFSET(InputPriceData!D$15,CalculationsAndCharts!$A647+$A$11,IF($C$7,7,0),1,1)","v":32.840000000000003},{"$f":"OFFSET(InputPriceData!E$15,CalculationsAndCharts!$A647+$A$11,IF($C$7,7,0),1,1)","v":31.92},{"$f":"OFFSET(InputPriceData!F$15,CalculationsAndCharts!$A647+$A$11,IF($C$7,7,0),1,1)","v":31.97},{"$error":"#N/A"},{"$error":"#N/A"},{"$error":"#N/A"},33.493609279944835,33.493609279944835,-1.7666715767885581,-0.43366347037184833,0.1709747268210865,-0.63783404007533184,0.2524336753753697,0.45404307669318422,null,35.07,31.81,4.9079754601227016E-2,{"$error":"#N/A"},0.2,0.8,{"$error":"#N/A"},{"$error":"#N/A"},{"$error":"#N/A"},{"$error":"#N/A"},false,false,true,false,false,{"$error":"#N/A"},{"$error":"#N/A"},{"$error":"#N/A"},{"$error":"#N/A"},false,false,false,false,{"$f":"AND(AP648,AO648)","v":false},{"$error":"#N/A"},{"$error":"#N/A"},{"$error":"#N/A"},{"$error":"#N/A"}]
[616,{"$f":"OFFSET(InputPriceData!B$15,CalculationsAndCharts!$A648+$A$11,0,1,1)","v":"2011-06-01"},{"$f":"OFFSET(InputPriceData!G$15,CalculationsAndCharts!$A648+$A$11,0,1,1)","v":7952300},{"$f":"OFFSET(InputPriceData!C$15,CalculationsAndCharts!$A648+$A$11,IF($C$7,7,0),1,1)","v":32.75},{"$f":"OFFSET(InputPriceData!D$15,CalculationsAndCharts!$A648+$A$11,IF($C$7,7,0),1,1)","v":33.42},{"$f":"OFFSET(InputPriceData!E$15,CalculationsAndCharts!$A648+$A$11,IF($C$7,7,0),1,1)","v":31.55},{"$f":"OFFSET(InputPriceData!F$15,CalculationsAndCharts!$A648+$A$11,IF($C$7,7,0),1,1)","v":31.81},{"$error":"#N/A"},{"$error":"#N/A"},{"$error":"#N/A"},33.9976831072469,33.9976831072469,-2.2368605639724484,0.10720697849007238,0.37402630593342506,-0.63783404007533184,0.73630814914744802,0.34754180429301329,null,35.07,31.81,0,{"$error":"#N/A"},0.2,0.8,{"$error":"#N/A"},{"$error":"#N/A"},{"$error":"#N/A"},{"$error":"#N/A"},false,false,true,false,false,{"$error":"#N/A"},{"$error":"#N/A"},{"$error":"#N/A"},{"$error":"#N/A"},false,false,false,false,false,{"$error":"#N/A"},{"$error":"#N/A"},{"$error":"#N/A"},{"$error":"#N/A"}]
[617,{"$f":"OFFSET(InputPriceData!B$15,CalculationsAndCharts!$A649+$A$11,0,1,1)","v":"2011-05-31"},{"$f":"OFFSET(InputPriceData!G$15,CalculationsAndCharts!$A649+$A$11,0,1,1)","v":1246800},{"$f":"OFFSET(InputPriceData!C$15,CalculationsAndCharts!$A649+$A$11,IF($C$7,7,0),1,1)","v":34.75},{"$f":"OFFSET(InputPriceData!D$15,CalculationsAndCharts!$A649+$A$11,IF($C$7,7,0),1,1)","v":35.090000000000003},{"$f":"OFFSET(InputPriceData!E$15,CalculationsAndCharts!$A649+$A$11,IF($C$7,7,0),1,1)","v":34.369999999999997},{"$f":"OFFSET(InputPriceData!F$15,CalculationsAndCharts!$A649+$A$11,IF($C$7,7,0),1,1)","v":35.07},{"$error":"#N/A"},{"$error":"#N/A"},{"$error":"#N/A"},33.926068271183475,33.926068271183475,0.97846662790128947,0.12426325656361012,0.45961778466804487,-0.63783404007533184,0.69442437422448822,0.17896825373258801,null,35.07,32.51,1,{"$error":"#N/A"},0.2,0.8,{"$error":"#N/A"},{"$error":"#N/A"},{"$error":"#N/A"},{"$error":"#N/A"},false,false,true,false,false,{"$error":"#N/A"},{"$error":"#N/A"},{"$error":"#N/A"},{"$error":"#N/A"},false,false,false,false,false,{"$error":"#N/A"},{"$error":"#N/A"},{"$error":"#N/A"},{"$error":"#N/A"}]
[618,{"$f":"OFFSET(InputPriceData!B$15,CalculationsAndCharts!$A650+$A$11,0,1,1)","v":"2011-05-27"},{"$f":"OFFSET(InputPriceData!G$15,CalculationsAndCharts!$A650+$A$11,0,1,1)","v":584400},{"$f":"OFFSET(InputPriceData!C$15,CalculationsAndCharts!$A650+$A$11,IF($C$7,7,0),1,1)","v":34},{"$f":"OFFSET(InputPriceData!D$15,CalculationsAndCharts!$A650+$A$11,IF($C$7,7,0),1,1)","v":34.75},{"$f":"OFFSET(InputPriceData!E$15,CalculationsAndCharts!$A650+$A$11,IF($C$7,7,0),1,1)","v":33.99},{"$f":"OFFSET(InputPriceData!F$15,CalculationsAndCharts!$A650+$A$11,IF($C$7,7,0),1,1)","v":34.659999999999997},{"$error":"#N/A"},{"$error":"#N/A"},{"$error":"#N/A"},33.452794227210305,33.452794227210305,0.8043197696322113,-0.29798963816549817,0.45961778466804487,-0.63783404007533184,0.30966680654916345,9.9238983110235129E-2,null,34.659999999999997,32.51,1,{"$error":"#N/A"},0.2,0.8,34,{"$error":"#N/A"},{"$error":"#N/A"},{"$error":"#N/A"},false,true,true,false,false,34,{"$error":"#N/A"},34,{"$error":"#N/A"},false,false,false,false,true,{"$error":"#N/A"},34,{"$error":"#N/A"},34]
[619,{"$f":"OFFSET(InputPriceData!B$15,CalculationsAndCharts!$A651+$A$11,0,1,1)","v":"2011-05-26"},{"$f":"OFFSET(InputPriceData!G$15,CalculationsAndCharts!$A651+$A$11,0,1,1)","v":2171100},{"$f":"OFFSET(InputPriceData!C$15,CalculationsAndCharts!$A651+$A$11,IF($C$7,7,0),1,1)","v":33.270000000000003},{"$f":"OFFSET(InputPriceData!D$15,CalculationsAndCharts!$A651+$A$11,IF($C$7,7,0),1,1)","v":34.29},{"$f":"OFFSET(InputPriceData!E$15,CalculationsAndCharts!$A651+$A$11,IF($C$7,7,0),1,1)","v":33.26},{"$f":"OFFSET(InputPriceData!F$15,CalculationsAndCharts!$A651+$A$11,IF($C$7,7,0),1,1)","v":33.89},{"$error":"#N/A"},{"$error":"#N/A"},{"$error":"#N/A"},33.171257256012765,33.171257256012765,0.19131547315223796,-0.59261492423701778,0.45961778466804487,-0.63783404007533184,4.1203736527467075E-2,0.15330039072396415,null,34.06,32.51,0.89032258064516046,{"$error":"#N/A"},0.2,0.8,{"$error":"#N/A"},{"$error":"#N/A"},0.15330039072396415,{"$error":"#N/A"},true,false,false,false,false,{"$error":"#N/A"},{"$error":"#N/A"},{"$error":"#N/A"},{"$error":"#N/A"},false,false,true,true,false,{"$error":"#N/A"},{"$error":"#N/A"},{"$error":"#N/A"},{"$error":"#N/A"}]
[620,{"$f":"OFFSET(InputPriceData!B$15,CalculationsAndCharts!$A652+$A$11,0,1,1)","v":"2011-05-25"},{"$f":"OFFSET(InputPriceData!G$15,CalculationsAndCharts!$A652+$A$11,0,1,1)","v":1275600},{"$f":"OFFSET(InputPriceData!C$15,CalculationsAndCharts!$A652+$A$11,IF($C$7,7,0),1,1)","v":32.700000000000003},{"$f":"OFFSET(InputPriceData!D$15,CalculationsAndCharts!$A652+$A$11,IF($C$7,7,0),1,1)","v":33.31},{"$f":"OFFSET(InputPriceData!E$15,CalculationsAndCharts!$A652+$A$11,IF($C$7,7,0),1,1)","v":32.6},{"$f":"OFFSET(InputPriceData!F$15,CalculationsAndCharts!$A652+$A$11,IF($C$7,7,0),1,1)","v":33.159999999999997},{"$error":"#N/A"},{"$error":"#N/A"},{"$error":"#N/A"},33.166052111726742,33.166052111726742,-0.50435139705093257,-0.63783404007533184,0.45961778466804487,-0.63783404007533184,0,0.2983650063028836,null,34.06,32.51,0.41935483870967533,{"$error":"#N/A"},0.2,0.8,{"$error":"#N/A"},{"$error":"#N/A"},{"$error":"#N/A"},{"$error":"#N/A"},false,false,false,false,false,{"$error":"#N/A"},{"$error":"#N/A"},{"$error":"#N/A"},{"$error":"#N/A"},false,false,true,false,false,{"$error":"#N/A"},{"$error":"#N/A"},{"$error":"#N/A"},{"$error":"#N/A"}]
[621,{"$f":"OFFSET(InputPriceData!B$15,CalculationsAndCharts!$A653+$A$11,0,1,1)","v":"2011-05-24"},{"$f":"OFFSET(InputPriceData!G$15,CalculationsAndCharts!$A653+$A$11,0,1,1)","v":875900},{"$f":"OFFSET(InputPriceData!C$15,CalculationsAndCharts!$A653+$A$11,IF($C$7,7,0),1,1)","v":33.04},{"$f":"OFFSET(InputPriceData!D$15,CalculationsAndCharts!$A653+$A$11,IF($C$7,7,0),1,1)","v":33.200000000000003},{"$f":"OFFSET(InputPriceData!E$15,CalculationsAndCharts!$A653+$A$11,IF($C$7,7,0),1,1)","v":32.58},{"$f":"OFFSET(InputPriceData!F$15,CalculationsAndCharts!$A653+$A$11,IF($C$7,7,0),1,1)","v":32.75},{"$error":"#N/A"},{"$f":"IF($A653=$E$25,I$32,NA())","v":{"$error":"#N/A"}},{"$error":"#N/A"},33.374313685330847,33.374313685330847,-0.98510406000661299,-0.45154757396270012,0.45961778466804487,-0.45154757396270012,0,0.48011478926457474,null,34.06,32.51,0.15483870967742022,{"$error":"#N/A"},0.2,0.8,{"$error":"#N/A"},{"$error":"#N/A"},{"$error":"#N/A"},{"$error":"#N/A"},false,false,false,false,false,{"$error":"#N/A"},{"$error":"#N/A"},{"$error":"#N/A"},{"$error":"#N/A"},false,false,true,false,false,{"$error":"#N/A"},{"$error":"#N/A"},{"$error":"#N/A"},{"$error":"#N/A"}]
[622,{"$f":"OFFSET(InputPriceData!B$15,CalculationsAndCharts!$A654+$A$11,0,1,1)","v":"2011-05-23"},{"$f":"OFFSET(InputPriceData!G$15,CalculationsAndCharts!$A654+$A$11,0,1,1)","v":3015700},{"$f":"OFFSET(InputPriceData!C$15,CalculationsAndCharts!$A654+$A$11,IF($C$7,7,0),1,1)","v":33.5},{"$f":"OFFSET(InputPriceData!D$15,CalculationsAndCharts!$A654+$A$11,IF($C$7,7,0),1,1)","v":34.29},{"$f":"OFFSET(InputPriceData!E$15,CalculationsAndCharts!$A654+$A$11,IF($C$7,7,0),1,1)","v":32.56},{"$f":"OFFSET(InputPriceData!F$15,CalculationsAndCharts!$A654+$A$11,IF($C$7,7,0),1,1)","v":32.9},{"$error":"#N/A"},{"$error":"#N/A"},{"$error":"#N/A"},33.622598329049723,33.622598329049723,-0.93877014854579655,-0.17906205926768615,0.45961778466804487,-0.45458344163151487,0.30137936204599619,0.62651984048895915,null,34.06,32.200000000000003,0.37634408602150321,{"$error":"#N/A"},0.2,0.8,{"$error":"#N/A"},{"$error":"#N/A"},{"$error":"#N/A"},{"$error":"#N/A"},false,false,false,false,false,{"$error":"#N/A"},{"$error":"#N/A"},{"$error":"#N/A"},{"$error":"#N/A"},false,false,true,false,false,{"$error":"#N/A"},{"$error":"#N/A"},{"$error":"#N/A"},{"$error":"#N/A"}]
[623,{"$f":"OFFSET(InputPriceData!B$15,CalculationsAndCharts!$A655+$A$11,0,1,1)","v":"2011-05-20"},{"$f":"OFFSET(InputPriceData!G$15,CalculationsAndCharts!$A655+$A$11,0,1,1)","v":896700},{"$f":"OFFSET(InputPriceData!C$15,CalculationsAndCharts!$A655+$A$11,IF($C$7,7,0),1,1)","v":33.58},{"$f":"OFFSET(InputPriceData!D$15,CalculationsAndCharts!$A655+$A$11,IF($C$7,7,0),1,1)","v":33.68},{"$f":"OFFSET(InputPriceData!E$15,CalculationsAndCharts!$A655+$A$11,IF($C$7,7,0),1,1)","v":32.97},{"$f":"OFFSET(InputPriceData!F$15,CalculationsAndCharts!$A655+$A$11,IF($C$7,7,0),1,1)","v":33.630000000000003},{"$error":"#N/A"},{"$error":"#N/A"},{"$error":"#N/A"},33.735374595248004,33.735374595248004,-0.23645714137448298,1.6162501517891434E-3,0.45961778466804487,-0.70385145427296458,0.60634839393508233,0.68962691441772039,null,34.06,31.96,0.79523809523809552,{"$error":"#N/A"},0.2,0.8,{"$error":"#N/A"},{"$error":"#N/A"},{"$error":"#N/A"},{"$error":"#N/A"},false,false,false,false,false,{"$error":"#N/A"},{"$error":"#N/A"},{"$error":"#N/A"},{"$error":"#N/A"},false,false,true,false,false,{"$error":"#N/A"},{"$error":"#N/A"},{"$error":"#N/A"},{"$error":"#N/A"}]
[624,{"$f":"OFFSET(InputPriceData!B$15,CalculationsAndCharts!$A656+$A$11,0,1,1)","v":"2011-05-19"},{"$f":"OFFSET(InputPriceData!G$15,CalculationsAndCharts!$A656+$A$11,0,1,1)","v":1062000},{"$f":"OFFSET(InputPriceData!C$15,CalculationsAndCharts!$A656+$A$11,IF($C$7,7,0),1,1)","v":34.21},{"$f":"OFFSET(InputPriceData!D$15,CalculationsAndCharts!$A656+$A$11,IF($C$7,7,0),1,1)","v":34.79},{"$f":"OFFSET(InputPriceData!E$15,CalculationsAndCharts!$A656+$A$11,IF($C$7,7,0),1,1)","v":33.549999999999997},{"$f":"OFFSET(InputPriceData!F$15,CalculationsAndCharts!$A656+$A$11,IF($C$7,7,0),1,1)","v":33.61},{"$error":"#N/A"},{"$error":"#N/A"},{"$error":"#N/A"},33.720076397968739,33.720076397968739,-0.21348951754507253,7.8260517135258931E-2,0.45961778466804487,-0.79591231471208301,0.69625796488585401,0.69795948822286735,null,34.06,31.17,0.84429065743944542,{"$error":"#N/A"},0.2,0.8,{"$error":"#N/A"},{"$error":"#N/A"},{"$error":"#N/A"},{"$error":"#N/A"},false,false,false,false,false,{"$error":"#N/A"},{"$error":"#N/A"},{"$error":"#N/A"},{"$error":"#N/A"},false,false,true,false,false,{"$error":"#N/A"},{"$error":"#N/A"},{"$error":"#N/A"},{"$error":"#N/A"}]
[625,{"$f":"OFFSET(InputPriceData!B$15,CalculationsAndCharts!$A657+$A$11,0,1,1)","v":"2011-05-18"},{"$f":"OFFSET(InputPriceData!G$15,CalculationsAndCharts!$A657+$A$11,0,1,1)","v":570500},{"$f":"OFFSET(InputPriceData!C$15,CalculationsAndCharts!$A657+$A$11,IF($C$7,7,0),1,1)","v":33.76},{"$f":"OFFSET(InputPriceData!D$15,CalculationsAndCharts!$A657+$A$11,IF($C$7,7,0),1,1)","v":34.06},{"$f":"OFFSET(InputPriceData!E$15,CalculationsAndCharts!$A657+$A$11,IF($C$7,7,0),1,1)","v":33.450000000000003},{"$f":"OFFSET(InputPriceData!F$15,CalculationsAndCharts!$A657+$A$11,IF($C$7,7,0),1,1)","v":34.06},{"$error":"#N/A"},{"$error":"#N/A"},{"$error":"#N/A"},33.621288579376525,33.621288579376525,0.33291789228597268,7.7981189177529872E-2,0.45961778466804487,-0.79591231471208301,0.69603548678049676,0.68950383210798183,null,34.06,31,1,{"$error":"#N/A"},0.2,0.8,{"$error":"#N/A"},{"$error":"#N/A"},{"$error":"#N/A"},{"$error":"#N/A"},false,false,false,false,false,{"$error":"#N/A"},{"$error":"#N/A"},{"$error":"#N/A"},{"$error":"#N/A"},false,false,true,false,false,{"$error":"#N/A"},{"$error":"#N/A"},{"$error":"#N/A"},{"$error":"#N/A"}]
[626,{"$f":"OFFSET(InputPriceData!B$15,CalculationsAndCharts!$A658+$A$11,0,1,1)","v":"2011-05-17"},{"$f":"OFFSET(InputPriceData!G$15,CalculationsAndCharts!$A658+$A$11,0,1,1)","v":945800},{"$f":"OFFSET(InputPriceData!C$15,CalculationsAndCharts!$A658+$A$11,IF($C$7,7,0),1,1)","v":33.43},{"$f":"OFFSET(InputPriceData!D$15,CalculationsAndCharts!$A658+$A$11,IF($C$7,7,0),1,1)","v":33.92},{"$f":"OFFSET(InputPriceData!E$15,CalculationsAndCharts!$A658+$A$11,IF($C$7,7,0),1,1)","v":33.25},{"$f":"OFFSET(InputPriceData!F$15,CalculationsAndCharts!$A658+$A$11,IF($C$7,7,0),1,1)","v":33.619999999999997},{"$error":"#N/A"},{"$error":"#N/A"},{"$error":"#N/A"},33.512632237155756,33.512632237155756,8.935461830882771E-3,6.6059492007938314E-2,0.45961778466804487,-0.79591231471208301,0.68654013722617113,0.67303369186202078,null,33.71,31,0.96678966789667775,{"$error":"#N/A"},0.2,0.8,{"$error":"#N/A"},{"$error":"#N/A"},{"$error":"#N/A"},{"$error":"#N/A"},false,false,false,false,false,{"$error":"#N/A"},{"$error":"#N/A"},{"$error":"#N/A"},{"$error":"#N/A"},false,false,true,false,false,{"$error":"#N/A"},{"$error":"#N/A"},{"$error":"#N/A"},{"$error":"#N/A"}]
[627,{"$f":"OFFSET(InputPriceData!B$15,CalculationsAndCharts!$A659+$A$11,0,1,1)","v":"2011-05-16"},{"$f":"OFFSET(InputPriceData!G$15,CalculationsAndCharts!$A659+$A$11,0,1,1)","v":1009900},{"$f":"OFFSET(InputPriceData!C$15,CalculationsAndCharts!$A659+$A$11,IF($C$7,7,0),1,1)","v":33.299999999999997},{"$f":"OFFSET(InputPriceData!D$15,CalculationsAndCharts!$A659+$A$11,IF($C$7,7,0),1,1)","v":33.630000000000003},{"$f":"OFFSET(InputPriceData!E$15,CalculationsAndCharts!$A659+$A$11,IF($C$7,7,0),1,1)","v":32.97},{"$f":"OFFSET(InputPriceData!F$15,CalculationsAndCharts!$A659+$A$11,IF($C$7,7,0),1,1)","v":33.49},{"$error":"#N/A"},{"$error":"#N/A"},{"$error":"#N/A"},33.449932786539406,33.449932786539406,-4.0275001717130166E-2,0.10161507565293816,0.45961778466804487,-0.79591231471208301,0.71485931783566359,0.64422384529066679,null,33.71,31,0.91881918819188235,{"$error":"#N/A"},0.2,0.8,{"$error":"#N/A"},{"$error":"#N/A"},{"$error":"#N/A"},{"$error":"#N/A"},false,false,false,false,false,{"$error":"#N/A"},{"$error":"#N/A"},{"$error":"#N/A"},{"$error":"#N/A"},false,false,true,false,false,{"$error":"#N/A"},{"$error":"#N/A"},{"$error":"#N/A"},{"$error":"#N/A"}]
[628,{"$f":"OFFSET(InputPriceData!B$15,CalculationsAndCharts!$A660+$A$11,0,1,1)","v":"2011-05-13"},{"$f":"OFFSET(InputPriceData!G$15,CalculationsAndCharts!$A660+$A$11,0,1,1)","v":399200},{"$f":"OFFSET(InputPriceData!C$15,CalculationsAndCharts!$A660+$A$11,IF($C$7,7,0),1,1)","v":33.65},{"$f":"OFFSET(InputPriceData!D$15,CalculationsAndCharts!$A660+$A$11,IF($C$7,7,0),1,1)","v":33.770000000000003},{"$f":"OFFSET(InputPriceData!E$15,CalculationsAndCharts!$A660+$A$11,IF($C$7,7,0),1,1)","v":33.14},{"$f":"OFFSET(InputPriceData!F$15,CalculationsAndCharts!$A660+$A$11,IF($C$7,7,0),1,1)","v":33.39},{"$error":"#N/A"},{"$error":"#N/A"},{"$error":"#N/A"},33.362153606364394,33.362153606364394,-6.6143284807707398E-2,0.11587891645386721,0.45961778466804487,-0.79591231471208301,0.7262201293430669,0.60893586003064526,null,33.71,31,0.88191881918819182,{"$error":"#N/A"},0.2,0.8,{"$error":"#N/A"},{"$error":"#N/A"},{"$error":"#N/A"},{"$error":"#N/A"},false,false,false,false,false,{"$error":"#N/A"},{"$error":"#N/A"},{"$error":"#N/A"},{"$error":"#N/A"},false,false,true,false,false,{"$error":"#N/A"},{"$error":"#N/A"},{"$error":"#N/A"},{"$error":"#N/A"}]
[629,{"$f":"OFFSET(InputPriceData!B$15,CalculationsAndCharts!$A661+$A$11,0,1,1)","v":"2011-05-12"},{"$f":"OFFSET(InputPriceData!G$15,CalculationsAndCharts!$A661+$A$11,0,1,1)","v":668000},{"$f":"OFFSET(InputPriceData!C$15,CalculationsAndCharts!$A661+$A$11,IF($C$7,7,0),1,1)","v":33.31},{"$f":"OFFSET(InputPriceData!D$15,CalculationsAndCharts!$A661+$A$11,IF($C$7,7,0),1,1)","v":33.72},{"$f":"OFFSET(InputPriceData!E$15,CalculationsAndCharts!$A661+$A$11,IF($C$7,7,0),1,1)","v":32.979999999999997},{"$f":"OFFSET(InputPriceData!F$15,CalculationsAndCharts!$A661+$A$11,IF($C$7,7,0),1,1)","v":33.71},{"$error":"#N/A"},{"$error":"#N/A"},{"$error":"#N/A"},33.196643883323048,33.196643883323048,0.36512006382861767,4.6492679889215578E-2,0.45961778466804487,-0.79591231471208301,0.67095563460979968,0.59182624039476495,null,33.71,31,1,{"$error":"#N/A"},0.2,0.8,{"$error":"#N/A"},{"$error":"#N/A"},{"$error":"#N/A"},{"$error":"#N/A"},false,false,false,false,false,{"$error":"#N/A"},{"$error":"#N/A"},{"$error":"#N/A"},{"$error":"#N/A"},false,false,true,false,false,{"$error":"#N/A"},{"$error":"#N/A"},{"$error":"#N/A"},{"$error":"#N/A"}]
[630,{"$f":"OFFSET(InputPriceData!B$15,CalculationsAndCharts!$A662+$A$11,0,1,1)","v":"2011-05-11"},{"$f":"OFFSET(InputPriceData!G$15,CalculationsAndCharts!$A662+$A$11,0,1,1)","v":1393500},{"$f":"OFFSET(InputPriceData!C$15,CalculationsAndCharts!$A662+$A$11,IF($C$7,7,0),1,1)","v":33.130000000000003},{"$f":"OFFSET(InputPriceData!D$15,CalculationsAndCharts!$A662+$A$11,IF($C$7,7,0),1,1)","v":33.619999999999997},{"$f":"OFFSET(InputPriceData!E$15,CalculationsAndCharts!$A662+$A$11,IF($C$7,7,0),1,1)","v":32.979999999999997},{"$f":"OFFSET(InputPriceData!F$15,CalculationsAndCharts!$A662+$A$11,IF($C$7,7,0),1,1)","v":33.42},{"$error":"#N/A"},{"$error":"#N/A"},{"$error":"#N/A"},33.011709375029163,33.011709375029163,0.21009165324199036,-5.8819257715402716E-2,0.45961778466804487,-0.79591231471208301,0.5870771695243252,0.61593418868638405,null,33.42,31,1,{"$error":"#N/A"},0.2,0.8,{"$error":"#N/A"},{"$error":"#N/A"},{"$error":"#N/A"},{"$error":"#N/A"},false,false,false,false,false,{"$error":"#N/A"},{"$error":"#N/A"},{"$error":"#N/A"},{"$error":"#N/A"},false,false,true,false,false,{"$error":"#N/A"},{"$error":"#N/A"},{"$error":"#N/A"},{"$error":"#N/A"}]
[631,{"$f":"OFFSET(InputPriceData!B$15,CalculationsAndCharts!$A663+$A$11,0,1,1)","v":"2011-05-10"},{"$f":"OFFSET(InputPriceData!G$15,CalculationsAndCharts!$A663+$A$11,0,1,1)","v":736800},{"$f":"OFFSET(InputPriceData!C$15,CalculationsAndCharts!$A663+$A$11,IF($C$7,7,0),1,1)","v":33.11},{"$f":"OFFSET(InputPriceData!D$15,CalculationsAndCharts!$A663+$A$11,IF($C$7,7,0),1,1)","v":33.229999999999997},{"$f":"OFFSET(InputPriceData!E$15,CalculationsAndCharts!$A663+$A$11,IF($C$7,7,0),1,1)","v":32.78},{"$f":"OFFSET(InputPriceData!F$15,CalculationsAndCharts!$A663+$A$11,IF($C$7,7,0),1,1)","v":33.090000000000003},{"$error":"#N/A"},{"$error":"#N/A"},{"$error":"#N/A"},32.902597770600536,32.902597770600536,-2.2467836463228776E-2,-0.10165834681097512,0.45961778466804487,-0.79591231471208301,0.55295684925743349,0.68260029682779866,null,33.18,31,0.95871559633027692,{"$error":"#N/A"},0.2,0.8,{"$error":"#N/A"},{"$error":"#N/A"},{"$error":"#N/A"},{"$error":"#N/A"},false,false,false,false,false,{"$error":"#N/A"},{"$error":"#N/A"},{"$error":"#N/A"},{"$error":"#N/A"},false,false,true,false,false,{"$error":"#N/A"},{"$error":"#N/A"},{"$error":"#N/A"},{"$error":"#N/A"}]
[632,{"$f":"OFFSET(InputPriceData!B$15,CalculationsAndCharts!$A664+$A$11,0,1,1)","v":"2011-05-09"},{"$f":"OFFSET(InputPriceData!G$15,CalculationsAndCharts!$A664+$A$11,0,1,1)","v":932900},{"$f":"OFFSET(InputPriceData!C$15,CalculationsAndCharts!$A664+$A$11,IF($C$7,7,0),1,1)","v":32.89},{"$f":"OFFSET(InputPriceData!D$15,CalculationsAndCharts!$A664+$A$11,IF($C$7,7,0),1,1)","v":33.090000000000003},{"$f":"OFFSET(InputPriceData!E$15,CalculationsAndCharts!$A664+$A$11,IF($C$7,7,0),1,1)","v":32.6},{"$f":"OFFSET(InputPriceData!F$15,CalculationsAndCharts!$A664+$A$11,IF($C$7,7,0),1,1)","v":33.01},{"$error":"#N/A"},{"$error":"#N/A"},{"$error":"#N/A"},32.854199064740605,32.854199064740605,-2.7309110349447774E-2,-8.5511081979927239E-2,0.45961778466804487,-0.79591231471208301,0.56581776341554091,0.77539794015847652,null,33.18,31,0.92201834862385246,{"$error":"#N/A"},0.2,0.8,{"$error":"#N/A"},{"$error":"#N/A"},{"$error":"#N/A"},{"$error":"#N/A"},false,false,false,false,false,{"$error":"#N/A"},{"$error":"#N/A"},{"$error":"#N/A"},{"$error":"#N/A"},false,false,true,false,false,{"$error":"#N/A"},{"$error":"#N/A"},{"$error":"#N/A"},{"$error":"#N/A"}]
[633,{"$f":"OFFSET(InputPriceData!B$15,CalculationsAndCharts!$A665+$A$11,0,1,1)","v":"2011-05-06"},{"$f":"OFFSET(InputPriceData!G$15,CalculationsAndCharts!$A665+$A$11,0,1,1)","v":872600},{"$f":"OFFSET(InputPriceData!C$15,CalculationsAndCharts!$A665+$A$11,IF($C$7,7,0),1,1)","v":32.68},{"$f":"OFFSET(InputPriceData!D$15,CalculationsAndCharts!$A665+$A$11,IF($C$7,7,0),1,1)","v":33},{"$f":"OFFSET(InputPriceData!E$15,CalculationsAndCharts!$A665+$A$11,IF($C$7,7,0),1,1)","v":32.58},{"$f":"OFFSET(InputPriceData!F$15,CalculationsAndCharts!$A665+$A$11,IF($C$7,7,0),1,1)","v":32.950000000000003},{"$error":"#N/A"},{"$error":"#N/A"},{"$error":"#N/A"},32.85703254242884,32.85703254242884,-1.0889441848842801E-2,-8.9410093932548729E-3,0.45961778466804487,-0.79591231471208301,0.62680401346599846,0.8680750755140727,null,33.18,31,0.89449541284403811,{"$error":"#N/A"},0.2,0.8,{"$error":"#N/A"},{"$error":"#N/A"},{"$error":"#N/A"},{"$error":"#N/A"},false,false,false,false,false,{"$error":"#N/A"},{"$error":"#N/A"},{"$error":"#N/A"},{"$error":"#N/A"},false,false,true,false,false,{"$error":"#N/A"},{"$error":"#N/A"},{"$error":"#N/A"},{"$error":"#N/A"}]
[634,{"$f":"OFFSET(InputPriceData!B$15,CalculationsAndCharts!$A666+$A$11,0,1,1)","v":"2011-05-05"},{"$f":"OFFSET(InputPriceData!G$15,CalculationsAndCharts!$A666+$A$11,0,1,1)","v":1353700},{"$f":"OFFSET(InputPriceData!C$15,CalculationsAndCharts!$A666+$A$11,IF($C$7,7,0),1,1)","v":32.72},{"$f":"OFFSET(InputPriceData!D$15,CalculationsAndCharts!$A666+$A$11,IF($C$7,7,0),1,1)","v":32.770000000000003},{"$f":"OFFSET(InputPriceData!E$15,CalculationsAndCharts!$A666+$A$11,IF($C$7,7,0),1,1)","v":32.28},{"$f":"OFFSET(InputPriceData!F$15,CalculationsAndCharts!$A666+$A$11,IF($C$7,7,0),1,1)","v":32.51},{"$error":"#N/A"},{"$error":"#N/A"},{"$error":"#N/A"},32.939602882662918,32.939602882662918,-0.40882050825684568,0.1709747268210865,0.51738542911626306,-0.79591231471208301,0.73622835802232678,0.9261452932965567,null,33.18,31,0.69266055045871477,{"$error":"#N/A"},0.2,0.8,{"$error":"#N/A"},{"$error":"#N/A"},{"$error":"#N/A"},{"$error":"#N/A"},false,false,false,false,false,{"$error":"#N/A"},{"$error":"#N/A"},{"$error":"#N/A"},{"$error":"#N/A"},false,false,true,false,false,{"$error":"#N/A"},{"$error":"#N/A"},{"$error":"#N/A"},{"$error":"#N/A"}]
[635,{"$f":"OFFSET(InputPriceData!B$15,CalculationsAndCharts!$A667+$A$11,0,1,1)","v":"2011-05-04"},{"$f":"OFFSET(InputPriceData!G$15,CalculationsAndCharts!$A667+$A$11,0,1,1)","v":953900},{"$f":"OFFSET(InputPriceData!C$15,CalculationsAndCharts!$A667+$A$11,IF($C$7,7,0),1,1)","v":33.06},{"$f":"OFFSET(InputPriceData!D$15,CalculationsAndCharts!$A667+$A$11,IF($C$7,7,0),1,1)","v":33.32},{"$f":"OFFSET(InputPriceData!E$15,CalculationsAndCharts!$A667+$A$11,IF($C$7,7,0),1,1)","v":32.31},{"$f":"OFFSET(InputPriceData!F$15,CalculationsAndCharts!$A667+$A$11,IF($C$7,7,0),1,1)","v":32.72},{"$error":"#N/A"},{"$error":"#N/A"},{"$error":"#N/A"},33.011357685280288,33.011357685280288,-0.16928100270966506,0.37402630593342506,0.51738542911626306,-0.79591231471208301,0.89084034914661692,0.91677488151791331,null,33.18,31,0.78899082568807299,{"$error":"#N/A"},0.2,0.8,{"$error":"#N/A"},33.06,{"$error":"#N/A"},{"$error":"#N/A"},false,false,true,false,true,{"$error":"#N/A"},33.06,{"$error":"#N/A"},33.06,false,true,true,false,false,33.06,{"$error":"#N/A"},33.06,{"$error":"#N/A"}]
[636,{"$f":"OFFSET(InputPriceData!B$15,CalculationsAndCharts!$A668+$A$11,0,1,1)","v":"2011-05-03"},{"$f":"OFFSET(InputPriceData!G$15,CalculationsAndCharts!$A668+$A$11,0,1,1)","v":729800},{"$f":"OFFSET(InputPriceData!C$15,CalculationsAndCharts!$A668+$A$11,IF($C$7,7,0),1,1)","v":32.979999999999997},{"$f":"OFFSET(InputPriceData!D$15,CalculationsAndCharts!$A668+$A$11,IF($C$7,7,0),1,1)","v":33.18},{"$f":"OFFSET(InputPriceData!E$15,CalculationsAndCharts!$A668+$A$11,IF($C$7,7,0),1,1)","v":32.630000000000003},{"$f":"OFFSET(InputPriceData!F$15,CalculationsAndCharts!$A668+$A$11,IF($C$7,7,0),1,1)","v":33.18},{"$error":"#N/A"},{"$error":"#N/A"},{"$error":"#N/A"},32.941876686990241,32.941876686990241,0.39550320481863721,0.45961778466804487,0.51738542911626306,-0.79591231471208301,0.95601329194412399,0.83045212569154869,null,33.18,31,1,{"$error":"#N/A"},0.2,0.8,{"$error":"#N/A"},{"$error":"#N/A"},{"$error":"#N/A"},0.83045212569154869,false,{"$f":"AND(AD669,NOT(AF669))","v":false},true,true,false,{"$error":"#N/A"},{"$error":"#N/A"},{"$error":"#N/A"},{"$error":"#N/A"},true,false,false,false,false,{"$error":"#N/A"},{"$error":"#N/A"},{"$error":"#N/A"},{"$error":"#N/A"}]
[637,{"$f":"OFFSET(InputPriceData!B$15,CalculationsAndCharts!$A669+$A$11,0,1,1)","v":"2011-05-02"},{"$f":"OFFSET(InputPriceData!G$15,CalculationsAndCharts!$A669+$A$11,0,1,1)","v":892200},{"$f":"OFFSET(InputPriceData!C$15,CalculationsAndCharts!$A669+$A$11,IF($C$7,7,0),1,1)","v":32.57},{"$f":"OFFSET(InputPriceData!D$15,CalculationsAndCharts!$A669+$A$11,IF($C$7,7,0),1,1)","v":33.090000000000003},{"$f":"OFFSET(InputPriceData!E$15,CalculationsAndCharts!$A669+$A$11,IF($C$7,7,0),1,1)","v":32.54},{"$f":"OFFSET(InputPriceData!F$15,CalculationsAndCharts!$A669+$A$11,IF($C$7,7,0),1,1)","v":33.06},{"$error":"#N/A"},{"$error":"#N/A"},{"$error":"#N/A"},32.777944458507321,32.777944458507321,0.43388438573151367,0.45445957492950961,0.51738542911626306,-0.79591231471208301,0.95208561464263208,0.67779428313903567,null,33.06,31,1,{"$error":"#N/A"},0.2,0.8,{"$error":"#N/A"},{"$error":"#N/A"},{"$error":"#N/A"},{"$error":"#N/A"},false,false,true,false,false,{"$error":"#N/A"},{"$error":"#N/A"},{"$error":"#N/A"},{"$error":"#N/A"},false,false,false,false,false,{"$error":"#N/A"},{"$error":"#N/A"},{"$error":"#N/A"},{"$error":"#N/A"}]
[638,{"$f":"OFFSET(InputPriceData!B$15,CalculationsAndCharts!$A670+$A$11,0,1,1)","v":"2011-04-29"},{"$f":"OFFSET(InputPriceData!G$15,CalculationsAndCharts!$A670+$A$11,0,1,1)","v":785000},{"$f":"OFFSET(InputPriceData!C$15,CalculationsAndCharts!$A670+$A$11,IF($C$7,7,0),1,1)","v":33.18},{"$f":"OFFSET(InputPriceData!D$15,CalculationsAndCharts!$A670+$A$11,IF($C$7,7,0),1,1)","v":33.18},{"$f":"OFFSET(InputPriceData!E$15,CalculationsAndCharts!$A670+$A$11,IF($C$7,7,0),1,1)","v":32.54},{"$f":"OFFSET(InputPriceData!F$15,CalculationsAndCharts!$A670+$A$11,IF($C$7,7,0),1,1)","v":32.590000000000003},{"$error":"#N/A"},{"$error":"#N/A"},{"$error":"#N/A"},32.589890352814187,32.589890352814187,9.1176962531965167E-2,0.41744409177982811,0.51738542911626306,-0.79591231471208301,0.92390047283177423,0.47665471061717718,null,33.049999999999997,31,0.77560975609756366,{"$error":"#N/A"},0.2,0.8,{"$error":"#N/A"},{"$error":"#N/A"},{"$error":"#N/A"},{"$error":"#N/A"},false,false,true,false,false,{"$error":"#N/A"},{"$error":"#N/A"},{"$error":"#N/A"},{"$error":"#N/A"},false,false,false,false,false,{"$error":"#N/A"},{"$error":"#N/A"},{"$error":"#N/A"},{"$error":"#N/A"}]
[639,{"$f":"OFFSET(InputPriceData!B$15,CalculationsAndCharts!$A671+$A$11,0,1,1)","v":"2011-04-28"},{"$f":"OFFSET(InputPriceData!G$15,CalculationsAndCharts!$A671+$A$11,0,1,1)","v":1608800},{"$f":"OFFSET(InputPriceData!C$15,CalculationsAndCharts!$A671+$A$11,IF($C$7,7,0),1,1)","v":32.82},{"$f":"OFFSET(InputPriceData!D$15,CalculationsAndCharts!$A671+$A$11,IF($C$7,7,0),1,1)","v":33.58},{"$f":"OFFSET(InputPriceData!E$15,CalculationsAndCharts!$A671+$A$11,IF($C$7,7,0),1,1)","v":32.82},{"$f":"OFFSET(InputPriceData!F$15,CalculationsAndCharts!$A671+$A$11,IF($C$7,7,0),1,1)","v":33.049999999999997},{"$error":"#N/A"},{"$error":"#N/A"},{"$error":"#N/A"},32.27736720122472,32.27736720122472,0.70032185781036826,0.23210437969697437,0.59094785268286898,-0.79591231471208301,0.74125475558221676,0.27155042673000013,null,33.049999999999997,31,1,{"$error":"#N/A"},0.2,0.8,{"$error":"#N/A"},{"$error":"#N/A"},{"$error":"#N/A"},{"$error":"#N/A"},false,false,true,false,false,{"$error":"#N/A"},{"$error":"#N/A"},{"$error":"#N/A"},{"$error":"#N/A"},false,false,false,false,false,{"$error":"#N/A"},{"$error":"#N/A"},{"$error":"#N/A"},{"$error":"#N/A"}]
[640,{"$f":"OFFSET(InputPriceData!B$15,CalculationsAndCharts!$A672+$A$11,0,1,1)","v":"2011-04-27"},{"$f":"OFFSET(InputPriceData!G$15,CalculationsAndCharts!$A672+$A$11,0,1,1)","v":969200},{"$f":"OFFSET(InputPriceData!C$15,CalculationsAndCharts!$A672+$A$11,IF($C$7,7,0),1,1)","v":32.17},{"$f":"OFFSET(InputPriceData!D$15,CalculationsAndCharts!$A672+$A$11,IF($C$7,7,0),1,1)","v":32.99},{"$f":"OFFSET(InputPriceData!E$15,CalculationsAndCharts!$A672+$A$11,IF($C$7,7,0),1,1)","v":32.090000000000003},{"$f":"OFFSET(InputPriceData!F$15,CalculationsAndCharts!$A672+$A$11,IF($C$7,7,0),1,1)","v":32.880000000000003},{"$error":"#N/A"},{"$error":"#N/A"},{"$error":"#N/A"},31.851485066897709,31.851485066897709,0.7342498848387623,-0.11780257206063693,0.75710860011074699,-0.79591231471208301,0.43663915674233239,0.11816080650722295,null,32.880000000000003,31,1,{"$error":"#N/A"},0.2,0.8,{"$error":"#N/A"},{"$error":"#N/A"},{"$error":"#N/A"},{"$error":"#N/A"},false,false,true,false,false,{"$error":"#N/A"},{"$error":"#N/A"},{"$error":"#N/A"},{"$error":"#N/A"},false,false,false,false,false,{"$error":"#N/A"},{"$error":"#N/A"},{"$error":"#N/A"},{"$error":"#N/A"}]
[641,{"$f":"OFFSET(InputPriceData!B$15,CalculationsAndCharts!$A673+$A$11,0,1,1)","v":"2011-04-26"},{"$f":"OFFSET(InputPriceData!G$15,CalculationsAndCharts!$A673+$A$11,0,1,1)","v":931600},{"$f":"OFFSET(InputPriceData!C$15,CalculationsAndCharts!$A673+$A$11,IF($C$7,7,0),1,1)","v":32.07},{"$f":"OFFSET(InputPriceData!D$15,CalculationsAndCharts!$A673+$A$11,IF($C$7,7,0),1,1)","v":32.31},{"$f":"OFFSET(InputPriceData!E$15,CalculationsAndCharts!$A673+$A$11,IF($C$7,7,0),1,1)","v":31.77},{"$f":"OFFSET(InputPriceData!F$15,CalculationsAndCharts!$A673+$A$11,IF($C$7,7,0),1,1)","v":32.200000000000003},{"$f":"IF($A673=$E$25,H$32,NA())","v":{"$error":"#N/A"}},{"$f":"IF($A673=$E$25,I$32,NA())","v":{"$error":"#N/A"}},{"$error":"#N/A"},{"$f":"$F$16*(G673+G674)/2+$F$17*K674+$F$18*K675","v":31.501342430816997},31.501342430816997,{"$f":"$D$21*(G673 - 2*G674 + G675) + $D$20*M674 - $F$20*M675","v":0.20743530759429057},-0.45458344163151487,1.032810215372975,-0.79591231471208301,{"$f":"IFERROR(IF($A673>$A$8,0,(N673-P673)/(O673-P673)),1)","v":0.18664880399581021},{"$f":"IF($A673>$A$8,0,$F$16*(Q673+Q674)/2+$F$17*R674+$F$18*R675)","v":3.496751395522095E-2},null,{"$f":"MAX(OFFSET(G673,0,0,$A$22,1))","v":32.51},{"$f":"MIN(OFFSET(G673,0,0,$A$22,1))","v":30.52},{"$f":"IFERROR(IF($A673>$A$8,0,(G673-U673)/(T673-U673)),1)","v":0.84422110552764051},{"$error":"#N/A"},0.2,0.8,{"$f":"IF($S$7,AI673,NA())","v":{"$error":"#N/A"}},{"$f":"IF($S$7,AJ673,NA())","v":{"$error":"#N/A"}},{"$f":"IF($S$7,IF(AD673,R673,NA()),NA())","v":{"$error":"#N/A"}},{"$f":"IF($S$7,IF(AG673,R673,NA()),NA())","v":{"$error":"#N/A"}},{"$f":"IF(AND(R674>$X$32,R673<$X$32),TRUE,FALSE)","v":false},false,true,{"$f":"IF(AND(AF673,R674<$Y$32,R673>$Y$32),TRUE,FALSE)","v":false},false,{"$f":"IF(AE673,D673,NA())","v":{"$error":"#N/A"}},{"$f":"IF(AH673,D673,NA())","v":{"$error":"#N/A"}},{"$f":"IF($S$7,AI673,NA())","v":{"$error":"#N/A"}},{"$f":"IF($S$7,AJ673,NA())","v":{"$error":"#N/A"}},{"$f":"IF(AND(R674<$Y$32,R673>$Y$32),TRUE,FALSE)","v":false},false,false,{"$f":"IF(AND(AO674,R674>$X$32,R673<$X$32),TRUE,FALSE)","v":false},false,{"$f":"IF(AN673,D673,NA())","v":{"$error":"#N/A"}},{"$f":"IF(AQ673,D673,NA())","v":{"$error":"#N/A"}},{"$error":"#N/A"},{"$error":"#N/A"}]
[642,{"$f":"OFFSET(InputPriceData!B$15,CalculationsAndCharts!$A674+$A$11,0,1,1)","v":"2011-04-25"},{"$f":"OFFSET(InputPriceData!G$15,CalculationsAndCharts!$A674+$A$11,0,1,1)","v":1082900},{"$f":"OFFSET(InputPriceData!C$15,CalculationsAndCharts!$A674+$A$11,IF($C$7,7,0),1,1)","v":31.22},{"$f":"OFFSET(InputPriceData!D$15,CalculationsAndCharts!$A674+$A$11,IF($C$7,7,0),1,1)","v":32.020000000000003},{"$f":"OFFSET(InputPriceData!E$15,CalculationsAndCharts!$A674+$A$11,IF($C$7,7,0),1,1)","v":31.17},{"$f":"OFFSET(InputPriceData!F$15,CalculationsAndCharts!$A674+$A$11,IF($C$7,7,0),1,1)","v":31.96},{"$error":"#N/A"},{"$error":"#N/A"},{"$error":"#N/A"},31.289276603334034,{"$f":"IF($S$5,K674,NA())","v":31.289276603334034},5.514509421385938E-2,{"$f":"$F$16*(M674+M675)/2+$F$17*N675+$F$18*N676","v":-0.70385145427296458},{"$f":"MAX(OFFSET(N674,0,0,$A$22,1))","v":1.2512737156360623},-0.79591231471208301,4.4969464950609557E-2,2.9790192814425336E-3,null,32.51,30.52,0.72361809045226255,{"$f":"IF($S$18,V674,NA())","v":{"$error":"#N/A"}},{"$f":"$X$32","v":0.2},{"$f":"$Y$32","v":0.8},{"$error":"#N/A"},{"$error":"#N/A"},{"$error":"#N/A"},{"$error":"#N/A"},false,false,{"$f":"IF(AF675,IF(AH675,FALSE,AF675),IF(AE674,TRUE,AF675))","v":true},false,false,{"$error":"#N/A"},{"$error":"#N/A"},{"$error":"#N/A"},{"$error":"#N/A"},false,false,{"$f":"IF(AO675,IF(AP675,FALSE,AO675),IF(AN674,TRUE,AO675))","v":false},false,false,{"$error":"#N/A"},{"$error":"#N/A"},{"$f":"IF($S$5,AR674,NA())","v":{"$error":"#N/A"}},{"$error":"#N/A"}]
[643,{"$f":"OFFSET(InputPriceData!B$15,CalculationsAndCharts!$A675+$A$11,0,1,1)","v":"2011-04-21"},{"$f":"OFFSET(InputPriceData!G$15,CalculationsAndCharts!$A675+$A$11,0,1,1)","v":825400},{"$f":"OFFSET(InputPriceData!C$15,CalculationsAndCharts!$A675+$A$11,IF($C$7,7,0),1,1)","v":31.16},{"$f":"OFFSET(InputPriceData!D$15,CalculationsAndCharts!$A675+$A$11,IF($C$7,7,0),1,1)","v":31.25},{"$f":"OFFSET(InputPriceData!E$15,CalculationsAndCharts!$A675+$A$11,IF($C$7,7,0),1,1)","v":30.92},{"$f":"OFFSET(InputPriceData!F$15,CalculationsAndCharts!$A675+$A$11,IF($C$7,7,0),1,1)","v":31.17},{"$error":"#N/A"},{"$error":"#N/A"},{"$error":"#N/A"},31.260329288937243,31.260329288937243,-0.73338529852715728,-0.79591231471208301,1.2730618686935913,-0.79591231471208301,0,-5.3537187688493327E-3,null,32.51,30.52,0.32663316582914703,{"$error":"#N/A"},0.2,0.8,{"$error":"#N/A"},{"$error":"#N/A"},{"$error":"#N/A"},{"$error":"#N/A"},false,false,true,false,false,{"$error":"#N/A"},{"$error":"#N/A"},{"$error":"#N/A"},{"$error":"#N/A"},false,false,false,false,false,{"$error":"#N/A"},{"$error":"#N/A"},{"$error":"#N/A"},{"$error":"#N/A"}]
[644,{"$f":"OFFSET(InputPriceData!B$15,CalculationsAndCharts!$A676+$A$11,0,1,1)","v":"2011-04-20"},{"$f":"OFFSET(InputPriceData!G$15,CalculationsAndCharts!$A676+$A$11,0,1,1)","v":1141100},{"$f":"OFFSET(InputPriceData!C$15,CalculationsAndCharts!$A676+$A$11,IF($C$7,7,0),1,1)","v":31.57},{"$f":"OFFSET(InputPriceData!D$15,CalculationsAndCharts!$A676+$A$11,IF($C$7,7,0),1,1)","v":31.61},{"$f":"OFFSET(InputPriceData!E$15,CalculationsAndCharts!$A676+$A$11,IF($C$7,7,0),1,1)","v":30.94},{"$f":"OFFSET(InputPriceData!F$15,CalculationsAndCharts!$A676+$A$11,IF($C$7,7,0),1,1)","v":31},{"$error":"#N/A"},{"$error":"#N/A"},{"$error":"#N/A"},31.37746035044178,31.37746035044178,-0.99391319270015643,-0.73860734210204093,1.2730618686935913,-0.73860734210204093,0,-8.4800466360216934E-3,null,32.51,30.52,0.24120603015075417,{"$error":"#N/A"},0.2,0.8,{"$error":"#N/A"},{"$error":"#N/A"},{"$error":"#N/A"},{"$error":"#N/A"},false,false,true,false,false,{"$error":"#N/A"},{"$error":"#N/A"},{"$error":"#N/A"},{"$error":"#N/A"},false,false,false,false,false,{"$error":"#N/A"},{"$error":"#N/A"},{"$error":"#N/A"},{"$error":"#N/A"}]
[645,{"$f":"OFFSET(InputPriceData!B$15,CalculationsAndCharts!$A677+$A$11,0,1,1)","v":"2011-04-19"},{"$f":"OFFSET(InputPriceData!G$15,CalculationsAndCharts!$A677+$A$11,0,1,1)","v":304400},{"$f":"OFFSET(InputPriceData!C$15,CalculationsAndCharts!$A677+$A$11,IF($C$7,7,0),1,1)","v":31.49},{"$f":"OFFSET(InputPriceData!D$15,CalculationsAndCharts!$A677+$A$11,IF($C$7,7,0),1,1)","v":31.71},{"$f":"OFFSET(InputPriceData!E$15,CalculationsAndCharts!$A677+$A$11,IF($C$7,7,0),1,1)","v":31.13},{"$f":"OFFSET(InputPriceData!F$15,CalculationsAndCharts!$A677+$A$11,IF($C$7,7,0),1,1)","v":31.36},{"$error":"#N/A"},{"$error":"#N/A"},{"$error":"#N/A"},31.482248722544753,31.482248722544753,-0.71540710098053439,-0.67623752580987018,1.2730618686935913,-0.67623752580987018,0,-1.086210065886685E-2,null,32.51,30.52,0.42211055276381937,{"$error":"#N/A"},0.2,0.8,{"$error":"#N/A"},{"$error":"#N/A"},{"$error":"#N/A"},{"$error":"#N/A"},false,false,true,false,false,{"$error":"#N/A"},{"$error":"#N/A"},{"$error":"#N/A"},{"$error":"#N/A"},false,false,false,false,false,{"$error":"#N/A"},{"$error":"#N/A"},{"$error":"#N/A"},{"$error":"#N/A"}]
[646,{"$f":"OFFSET(InputPriceData!B$15,CalculationsAndCharts!$A678+$A$11,0,1,1)","v":"2011-04-18"},{"$f":"OFFSET(InputPriceData!G$15,CalculationsAndCharts!$A678+$A$11,0,1,1)","v":905700},{"$f":"OFFSET(InputPriceData!C$15,CalculationsAndCharts!$A678+$A$11,IF($C$7,7,0),1,1)","v":31.35},{"$f":"OFFSET(InputPriceData!D$15,CalculationsAndCharts!$A678+$A$11,IF($C$7,7,0),1,1)","v":31.7},{"$f":"OFFSET(InputPriceData!E$15,CalculationsAndCharts!$A678+$A$11,IF($C$7,7,0),1,1)","v":31.21},{"$f":"OFFSET(InputPriceData!F$15,CalculationsAndCharts!$A678+$A$11,IF($C$7,7,0),1,1)","v":31.49},{"$error":"#N/A"},{"$error":"#N/A"},{"$error":"#N/A"},31.551003523597203,31.551003523597203,-0.62631469517508298,-0.63440690678542366,1.2730618686935913,-0.63440690678542366,0,-9.968521393432659E-3,null,32.51,30.52,0.48743718592964808,{"$error":"#N/A"},0.2,0.8,{"$error":"#N/A"},{"$error":"#N/A"},{"$error":"#N/A"},{"$error":"#N/A"},false,false,true,false,false,{"$error":"#N/A"},{"$error":"#N/A"},{"$error":"#N/A"},{"$error":"#N/A"},false,false,false,false,false,{"$error":"#N/A"},{"$error":"#N/A"},{"$error":"#N/A"},{"$error":"#N/A"}]
[647,{"$f":"OFFSET(InputPriceData!B$15,CalculationsAndCharts!$A679+$A$11,0,1,1)","v":"2011-04-15"},{"$f":"OFFSET(InputPriceData!G$15,CalculationsAndCharts!$A679+$A$11,0,1,1)","v":933000},{"$f":"OFFSET(InputPriceData!C$15,CalculationsAndCharts!$A679+$A$11,IF($C$7,7,0),1,1)","v":31.58},{"$f":"OFFSET(InputPriceData!D$15,CalculationsAndCharts!$A679+$A$11,IF($C$7,7,0),1,1)","v":31.67},{"$f":"OFFSET(InputPriceData!E$15,CalculationsAndCharts!$A679+$A$11,IF($C$7,7,0),1,1)","v":31.31},{"$f":"OFFSET(InputPriceData!F$15,CalculationsAndCharts!$A679+$A$11,IF($C$7,7,0),1,1)","v":31.49},{"$error":"#N/A"},{"$error":"#N/A"},{"$error":"#N/A"},31.640619904955692,31.640619904955692,-0.65610320161147351,-0.55513840934469127,1.2730618686935913,-0.55513840934469127,0,-1.6607307382010932E-3,null,32.51,30.38,0.52112676056338025,{"$error":"#N/A"},0.2,0.8,{"$error":"#N/A"},{"$error":"#N/A"},{"$error":"#N/A"},{"$error":"#N/A"},false,false,true,false,false,{"$error":"#N/A"},{"$error":"#N/A"},{"$error":"#N/A"},{"$error":"#N/A"},false,false,false,false,false,{"$error":"#N/A"},{"$error":"#N/A"},{"$error":"#N/A"},{"$error":"#N/A"}]
[648,{"$f":"OFFSET(InputPriceData!B$15,CalculationsAndCharts!$A680+$A$11,0,1,1)","v":"2011-04-14"},{"$f":"OFFSET(InputPriceData!G$15,CalculationsAndCharts!$A680+$A$11,0,1,1)","v":1571200},{"$f":"OFFSET(InputPriceData!C$15,CalculationsAndCharts!$A680+$A$11,IF($C$7,7,0),1,1)","v":31.69},{"$f":"OFFSET(InputPriceData!D$15,CalculationsAndCharts!$A680+$A$11,IF($C$7,7,0),1,1)","v":32},{"$f":"OFFSET(InputPriceData!E$15,CalculationsAndCharts!$A680+$A$11,IF($C$7,7,0),1,1)","v":31.44},{"$f":"OFFSET(InputPriceData!F$15,CalculationsAndCharts!$A680+$A$11,IF($C$7,7,0),1,1)","v":31.45},{"$error":"#N/A"},{"$error":"#N/A"},{"$error":"#N/A"},31.76580750817832,31.76580750817832,-0.72974958874583207,-0.4153826401177127,1.2730618686935913,{"$f":"MIN(OFFSET(N680,0,0,$A$22,1))","v":-0.4153826401177127},0,1.9560423518627079E-2,null,32.51,29.85,0.60150375939849621,{"$error":"#N/A"},0.2,0.8,{"$error":"#N/A"},{"$error":"#N/A"},{"$error":"#N/A"},{"$error":"#N/A"},false,false,true,false,false,{"$error":"#N/A"},{"$error":"#N/A"},{"$error":"#N/A"},{"$error":"#N/A"},false,false,false,false,false,{"$error":"#N/A"},{"$error":"#N/A"},{"$error":"#N/A"},{"$error":"#N/A"}]
[649,{"$f":"OFFSET(InputPriceData!B$15,CalculationsAndCharts!$A681+$A$11,0,1,1)","v":"2011-04-13"},{"$f":"OFFSET(InputPriceData!G$15,CalculationsAndCharts!$A681+$A$11,0,1,1)","v":1252000},{"$f":"OFFSET(InputPriceData!C$15,CalculationsAndCharts!$A681+$A$11,IF($C$7,7,0),1,1)","v":31.9},{"$f":"OFFSET(InputPriceData!D$15,CalculationsAndCharts!$A681+$A$11,IF($C$7,7,0),1,1)","v":32.07},{"$f":"OFFSET(InputPriceData!E$15,CalculationsAndCharts!$A681+$A$11,IF($C$7,7,0),1,1)","v":31.5},{"$f":"OFFSET(InputPriceData!F$15,CalculationsAndCharts!$A681+$A$11,IF($C$7,7,0),1,1)","v":31.73},{"$error":"#N/A"},{"$error":"#N/A"},{"$error":"#N/A"},31.888124022815902,31.888124022815902,-0.45968300299713521,-0.2464054352913494,1.2730618686935913,-0.2464054352913494,0,5.9117616441873633E-2,null,32.51,29.75,0.71739130434782672,{"$error":"#N/A"},0.2,0.8,{"$error":"#N/A"},{"$error":"#N/A"},{"$error":"#N/A"},{"$error":"#N/A"},false,false,true,false,false,{"$error":"#N/A"},{"$error":"#N/A"},{"$error":"#N/A"},{"$error":"#N/A"},false,false,false,false,false,{"$error":"#N/A"},{"$error":"#N/A"},{"$error":"#N/A"},{"$error":"#N/A"}]
[650,{"$f":"OFFSET(InputPriceData!B$15,CalculationsAndCharts!$A682+$A$11,0,1,1)","v":"2011-04-12"},{"$f":"OFFSET(InputPriceData!G$15,CalculationsAndCharts!$A682+$A$11,0,1,1)","v":2179100},{"$f":"OFFSET(InputPriceData!C$15,CalculationsAndCharts!$A682+$A$11,IF($C$7,7,0),1,1)","v":31.6},{"$f":"OFFSET(InputPriceData!D$15,CalculationsAndCharts!$A682+$A$11,IF($C$7,7,0),1,1)","v":32.03},{"$f":"OFFSET(InputPriceData!E$15,CalculationsAndCharts!$A682+$A$11,IF($C$7,7,0),1,1)","v":31.37},{"$f":"OFFSET(InputPriceData!F$15,CalculationsAndCharts!$A682+$A$11,IF($C$7,7,0),1,1)","v":31.81},{"$error":"#N/A"},{"$error":"#N/A"},{"$error":"#N/A"},32.002034235716884,32.002034235716884,-0.35017631282207218,-4.9935168521853368E-2,1.2730618686935913,-4.9935168521853368E-2,0,0.11891015727362192,null,32.51,29.75,0.74637681159420299,{"$error":"#N/A"},0.2,0.8,31.6,{"$error":"#N/A"},{"$error":"#N/A"},{"$error":"#N/A"},false,true,true,false,false,31.6,{"$error":"#N/A"},31.6,{"$error":"#N/A"},false,false,false,false,true,{"$error":"#N/A"},31.6,{"$error":"#N/A"},31.6]
[651,{"$f":"OFFSET(InputPriceData!B$15,CalculationsAndCharts!$A683+$A$11,0,1,1)","v":"2011-04-11"},{"$f":"OFFSET(InputPriceData!G$15,CalculationsAndCharts!$A683+$A$11,0,1,1)","v":1495000},{"$f":"OFFSET(InputPriceData!C$15,CalculationsAndCharts!$A683+$A$11,IF($C$7,7,0),1,1)","v":31.96},{"$f":"OFFSET(InputPriceData!D$15,CalculationsAndCharts!$A683+$A$11,IF($C$7,7,0),1,1)","v":32.01},{"$f":"OFFSET(InputPriceData!E$15,CalculationsAndCharts!$A683+$A$11,IF($C$7,7,0),1,1)","v":31.45},{"$f":"OFFSET(InputPriceData!F$15,CalculationsAndCharts!$A683+$A$11,IF($C$7,7,0),1,1)","v":31.63},{"$error":"#N/A"},{"$error":"#N/A"},{"$error":"#N/A"},32.136181320032364,32.136181320032364,-0.50092787180661025,0.20926653271718043,1.2730618686935913,0.20926653271718043,0,0.19110191923368772,null,32.51,28.88,0.75757575757575779,{"$error":"#N/A"},0.2,0.8,{"$error":"#N/A"},{"$error":"#N/A"},0.19110191923368772,{"$error":"#N/A"},true,false,false,false,false,{"$error":"#N/A"},{"$error":"#N/A"},{"$error":"#N/A"},{"$error":"#N/A"},false,false,true,true,false,{"$error":"#N/A"},{"$error":"#N/A"},{"$error":"#N/A"},{"$error":"#N/A"}]
[652,{"$f":"OFFSET(InputPriceData!B$15,CalculationsAndCharts!$A684+$A$11,0,1,1)","v":"2011-04-08"},{"$f":"OFFSET(InputPriceData!G$15,CalculationsAndCharts!$A684+$A$11,0,1,1)","v":1440500},{"$f":"OFFSET(InputPriceData!C$15,CalculationsAndCharts!$A684+$A$11,IF($C$7,7,0),1,1)","v":32.56},{"$f":"OFFSET(InputPriceData!D$15,CalculationsAndCharts!$A684+$A$11,IF($C$7,7,0),1,1)","v":32.74},{"$f":"OFFSET(InputPriceData!E$15,CalculationsAndCharts!$A684+$A$11,IF($C$7,7,0),1,1)","v":31.66},{"$f":"OFFSET(InputPriceData!F$15,CalculationsAndCharts!$A684+$A$11,IF($C$7,7,0),1,1)","v":31.82},{"$error":"#N/A"},{"$error":"#N/A"},{"$error":"#N/A"},32.206196438968163,32.206196438968163,-0.27085327056829789,0.44876978358453129,1.2730618686935913,0.34106056417611003,0.11556767022357853,0.24900944179037174,null,32.51,28.65,0.82124352331606276,{"$error":"#N/A"},0.2,0.8,{"$error":"#N/A"},{"$error":"#N/A"},{"$error":"#N/A"},{"$error":"#N/A"},false,false,false,false,false,{"$error":"#N/A"},{"$error":"#N/A"},{"$error":"#N/A"},{"$error":"#N/A"},false,false,true,false,false,{"$error":"#N/A"},{"$error":"#N/A"},{"$error":"#N/A"},{"$error":"#N/A"}]
[653,{"$f":"OFFSET(InputPriceData!B$15,CalculationsAndCharts!$A685+$A$11,0,1,1)","v":"2011-04-07"},{"$f":"OFFSET(InputPriceData!G$15,CalculationsAndCharts!$A685+$A$11,0,1,1)","v":1723800},{"$f":"OFFSET(InputPriceData!C$15,CalculationsAndCharts!$A685+$A$11,IF($C$7,7,0),1,1)","v":32.31},{"$f":"OFFSET(InputPriceData!D$15,CalculationsAndCharts!$A685+$A$11,IF($C$7,7,0),1,1)","v":32.92},{"$f":"OFFSET(InputPriceData!E$15,CalculationsAndCharts!$A685+$A$11,IF($C$7,7,0),1,1)","v":32.21},{"$f":"OFFSET(InputPriceData!F$15,CalculationsAndCharts!$A685+$A$11,IF($C$7,7,0),1,1)","v":32.51},{"$error":"#N/A"},{"$error":"#N/A"},{"$error":"#N/A"},32.080271065920911,32.080271065920911,0.55836298109681393,0.51738542911626306,1.2730618686935913,0.17390684382562427,0.31249330396492364,0.27211102843380552,null,32.51,28.65,1,{"$error":"#N/A"},0.2,0.8,{"$error":"#N/A"},{"$error":"#N/A"},{"$error":"#N/A"},{"$error":"#N/A"},false,false,false,false,false,{"$error":"#N/A"},{"$error":"#N/A"},{"$error":"#N/A"},{"$error":"#N/A"},false,false,true,false,false,{"$error":"#N/A"},{"$error":"#N/A"},{"$error":"#N/A"},{"$error":"#N/A"}]
[654,{"$f":"OFFSET(InputPriceData!B$15,CalculationsAndCharts!$A686+$A$11,0,1,1)","v":"2011-04-06"},{"$f":"OFFSET(InputPriceData!G$15,CalculationsAndCharts!$A686+$A$11,0,1,1)","v":1598800},{"$f":"OFFSET(InputPriceData!C$15,CalculationsAndCharts!$A686+$A$11,IF($C$7,7,0),1,1)","v":32.24},{"$f":"OFFSET(InputPriceData!D$15,CalculationsAndCharts!$A686+$A$11,IF($C$7,7,0),1,1)","v":32.61},{"$f":"OFFSET(InputPriceData!E$15,CalculationsAndCharts!$A686+$A$11,IF($C$7,7,0),1,1)","v":32.14},{"$f":"OFFSET(InputPriceData!F$15,CalculationsAndCharts!$A686+$A$11,IF($C$7,7,0),1,1)","v":32.35},{"$error":"#N/A"},{"$error":"#N/A"},{"$error":"#N/A"},31.826250969789676,31.826250969789676,0.61663552683026357,0.45425964227363419,1.2730618686935913,7.434130015247864E-2,0.31693653391092658,0.29253270651714208,null,32.35,28.11,1,{"$error":"#N/A"},0.2,0.8,{"$error":"#N/A"},{"$error":"#N/A"},{"$error":"#N/A"},{"$error":"#N/A"},false,false,false,false,false,{"$error":"#N/A"},{"$error":"#N/A"},{"$error":"#N/A"},{"$error":"#N/A"},false,false,true,false,false,{"$error":"#N/A"},{"$error":"#N/A"},{"$error":"#N/A"},{"$error":"#N/A"}]
[655,{"$f":"OFFSET(InputPriceData!B$15,CalculationsAndCharts!$A687+$A$11,0,1,1)","v":"2011-04-05"},{"$f":"OFFSET(InputPriceData!G$15,CalculationsAndCharts!$A687+$A$11,0,1,1)","v":1287800},{"$f":"OFFSET(InputPriceData!C$15,CalculationsAndCharts!$A687+$A$11,IF($C$7,7,0),1,1)","v":31.59},{"$f":"OFFSET(InputPriceData!D$15,CalculationsAndCharts!$A687+$A$11,IF($C$7,7,0),1,1)","v":32.5},{"$f":"OFFSET(InputPriceData!E$15,CalculationsAndCharts!$A687+$A$11,IF($C$7,7,0),1,1)","v":31.41},{"$f":"OFFSET(InputPriceData!F$15,CalculationsAndCharts!$A687+$A$11,IF($C$7,7,0),1,1)","v":32.229999999999997},{"$error":"#N/A"},{"$error":"#N/A"},{"$error":"#N/A"},31.58022394770957,31.58022394770957,0.72493885679488845,0.38278279811630156,1.2730618686935913,7.434130015247864E-2,0.25730892257835175,0.35583690576926486,null,32.229999999999997,28,1,{"$error":"#N/A"},0.2,0.8,{"$error":"#N/A"},{"$error":"#N/A"},{"$error":"#N/A"},{"$error":"#N/A"},false,false,false,false,false,{"$error":"#N/A"},{"$error":"#N/A"},{"$error":"#N/A"},{"$error":"#N/A"},false,false,true,false,false,{"$error":"#N/A"},{"$error":"#N/A"},{"$error":"#N/A"},{"$error":"#N/A"}]
[656,{"$f":"OFFSET(InputPriceData!B$15,CalculationsAndCharts!$A688+$A$11,0,1,1)","v":"2011-04-04"},{"$f":"OFFSET(InputPriceData!G$15,CalculationsAndCharts!$A688+$A$11,0,1,1)","v":1115400},{"$f":"OFFSET(InputPriceData!C$15,CalculationsAndCharts!$A688+$A$11,IF($C$7,7,0),1,1)","v":31.61},{"$f":"OFFSET(InputPriceData!D$15,CalculationsAndCharts!$A688+$A$11,IF($C$7,7,0),1,1)","v":31.71},{"$f":"OFFSET(InputPriceData!E$15,CalculationsAndCharts!$A688+$A$11,IF($C$7,7,0),1,1)","v":31.22},{"$f":"OFFSET(InputPriceData!F$15,CalculationsAndCharts!$A688+$A$11,IF($C$7,7,0),1,1)","v":31.6},{"$error":"#N/A"},{"$error":"#N/A"},{"$error":"#N/A"},31.418885875833634,31.418885875833634,0.28773376862064881,0.38625280125916706,1.2730618686935913,7.434130015247864E-2,0.26020367823194712,0.46746016940974505,null,31.6,28,1,{"$error":"#N/A"},0.2,0.8,{"$error":"#N/A"},{"$error":"#N/A"},{"$error":"#N/A"},{"$error":"#N/A"},false,false,false,false,false,{"$error":"#N/A"},{"$error":"#N/A"},{"$error":"#N/A"},{"$error":"#N/A"},false,false,true,false,false,{"$error":"#N/A"},{"$error":"#N/A"},{"$error":"#N/A"},{"$error":"#N/A"}]
[657,{"$f":"OFFSET(InputPriceData!B$15,CalculationsAndCharts!$A689+$A$11,0,1,1)","v":"2011-04-01"},{"$f":"OFFSET(InputPriceData!G$15,CalculationsAndCharts!$A689+$A$11,0,1,1)","v":1146700},{"$f":"OFFSET(InputPriceData!C$15,CalculationsAndCharts!$A689+$A$11,IF($C$7,7,0),1,1)","v":31.43},{"$f":"OFFSET(InputPriceData!D$15,CalculationsAndCharts!$A689+$A$11,IF($C$7,7,0),1,1)","v":31.7},{"$f":"OFFSET(InputPriceData!E$15,CalculationsAndCharts!$A689+$A$11,IF($C$7,7,0),1,1)","v":31.18},{"$f":"OFFSET(InputPriceData!F$15,CalculationsAndCharts!$A689+$A$11,IF($C$7,7,0),1,1)","v":31.55},{"$error":"#N/A"},{"$error":"#N/A"},{"$error":"#N/A"},31.331955494658672,31.331955494658672,0.39646991667405274,0.46859580469999845,1.2730618686935913,7.434130015247864E-2,0.32889608712340873,0.61040574806133718,null,31.55,27.9,1,{"$error":"#N/A"},0.2,0.8,{"$error":"#N/A"},{"$error":"#N/A"},{"$error":"#N/A"},{"$error":"#N/A"},false,false,false,false,false,{"$error":"#N/A"},{"$error":"#N/A"},{"$error":"#N/A"},{"$error":"#N/A"},false,false,true,false,false,{"$error":"#N/A"},{"$error":"#N/A"},{"$error":"#N/A"},{"$error":"#N/A"}]
[658,{"$f":"OFFSET(InputPriceData!B$15,CalculationsAndCharts!$A690+$A$11,0,1,1)","v":"2011-03-31"},{"$f":"OFFSET(InputPriceData!G$15,CalculationsAndCharts!$A690+$A$11,0,1,1)","v":902800},{"$f":"OFFSET(InputPriceData!C$15,CalculationsAndCharts!$A690+$A$11,IF($C$7,7,0),1,1)","v":31.41},{"$f":"OFFSET(InputPriceData!D$15,CalculationsAndCharts!$A690+$A$11,IF($C$7,7,0),1,1)","v":31.45},{"$f":"OFFSET(InputPriceData!E$15,CalculationsAndCharts!$A690+$A$11,IF($C$7,7,0),1,1)","v":30.86},{"$f":"OFFSET(InputPriceData!F$15,CalculationsAndCharts!$A690+$A$11,IF($C$7,7,0),1,1)","v":31.35},{"$error":"#N/A"},{"$error":"#N/A"},{"$error":"#N/A"},31.270181844752187,31.270181844752187,0.35869122583673263,0.59094785268286898,1.2730618686935913,7.434130015247864E-2,0.43096495220660114,0.76355899566852137,null,31.55,27.9,0.94520547945205502,{"$error":"#N/A"},0.2,0.8,{"$error":"#N/A"},{"$error":"#N/A"},{"$error":"#N/A"},{"$error":"#N/A"},false,false,false,false,false,{"$error":"#N/A"},{"$error":"#N/A"},{"$error":"#N/A"},{"$error":"#N/A"},false,false,true,false,false,{"$error":"#N/A"},{"$error":"#N/A"},{"$error":"#N/A"},{"$error":"#N/A"}]
[659,{"$f":"OFFSET(InputPriceData!B$15,CalculationsAndCharts!$A691+$A$11,0,1,1)","v":"2011-03-30"},{"$f":"OFFSET(InputPriceData!G$15,CalculationsAndCharts!$A691+$A$11,0,1,1)","v":1948800},{"$f":"OFFSET(InputPriceData!C$15,CalculationsAndCharts!$A691+$A$11,IF($C$7,7,0),1,1)","v":30.75},{"$f":"OFFSET(InputPriceData!D$15,CalculationsAndCharts!$A691+$A$11,IF($C$7,7,0),1,1)","v":31.7},{"$f":"OFFSET(InputPriceData!E$15,CalculationsAndCharts!$A691+$A$11,IF($C$7,7,0),1,1)","v":30.67},{"$f":"OFFSET(InputPriceData!F$15,CalculationsAndCharts!$A691+$A$11,IF($C$7,7,0),1,1)","v":31.54},{"$error":"#N/A"},{"$error":"#N/A"},{"$error":"#N/A"},31.230659599099337,31.230659599099337,0.73862839142594727,0.75710860011074699,1.2730618686935913,7.434130015247864E-2,0.56958003214145347,0.89981939838373726,null,31.55,27.9,0.99726027397260231,{"$error":"#N/A"},0.2,0.8,{"$error":"#N/A"},{"$error":"#N/A"},{"$error":"#N/A"},{"$error":"#N/A"},false,false,false,false,false,{"$error":"#N/A"},{"$error":"#N/A"},{"$error":"#N/A"},{"$error":"#N/A"},false,false,true,false,false,{"$error":"#N/A"},{"$error":"#N/A"},{"$error":"#N/A"},{"$error":"#N/A"}]
[660,{"$f":"OFFSET(InputPriceData!B$15,CalculationsAndCharts!$A692+$A$11,0,1,1)","v":"2011-03-29"},{"$f":"OFFSET(InputPriceData!G$15,CalculationsAndCharts!$A692+$A$11,0,1,1)","v":5736100},{"$f":"OFFSET(InputPriceData!C$15,CalculationsAndCharts!$A692+$A$11,IF($C$7,7,0),1,1)","v":31.42},{"$f":"OFFSET(InputPriceData!D$15,CalculationsAndCharts!$A692+$A$11,IF($C$7,7,0),1,1)","v":31.52},{"$f":"OFFSET(InputPriceData!E$15,CalculationsAndCharts!$A692+$A$11,IF($C$7,7,0),1,1)","v":30.35},{"$f":"OFFSET(InputPriceData!F$15,CalculationsAndCharts!$A692+$A$11,IF($C$7,7,0),1,1)","v":30.52},{"$error":"#N/A"},{"$error":"#N/A"},{"$error":"#N/A"},31.266484996609744,31.266484996609744,-0.14138079295580541,1.032810215372975,1.2730618686935913,7.434130015247864E-2,0.79957659889576149,0.98521047690698405,null,31.55,27.9,0.71780821917808202,{"$error":"#N/A"},0.2,0.8,{"$error":"#N/A"},{"$error":"#N/A"},{"$error":"#N/A"},{"$error":"#N/A"},false,false,false,false,false,{"$error":"#N/A"},{"$error":"#N/A"},{"$error":"#N/A"},{"$error":"#N/A"},false,false,true,false,false,{"$error":"#N/A"},{"$error":"#N/A"},{"$error":"#N/A"},{"$error":"#N/A"}]
[661,{"$f":"OFFSET(InputPriceData!B$15,CalculationsAndCharts!$A693+$A$11,0,1,1)","v":"2011-03-28"},{"$f":"OFFSET(InputPriceData!G$15,CalculationsAndCharts!$A693+$A$11,0,1,1)","v":855800},{"$f":"OFFSET(InputPriceData!C$15,CalculationsAndCharts!$A693+$A$11,IF($C$7,7,0),1,1)","v":31.52},{"$f":"OFFSET(InputPriceData!D$15,CalculationsAndCharts!$A693+$A$11,IF($C$7,7,0),1,1)","v":32.08},{"$f":"OFFSET(InputPriceData!E$15,CalculationsAndCharts!$A693+$A$11,IF($C$7,7,0),1,1)","v":31.32},{"$f":"OFFSET(InputPriceData!F$15,CalculationsAndCharts!$A693+$A$11,IF($C$7,7,0),1,1)","v":31.49},{"$error":"#N/A"},{"$f":"IF($A693=$E$25,I$32,NA())","v":{"$error":"#N/A"}},{"$error":"#N/A"},31.208042263008252,31.208042263008252,0.98866941703025879,1.2512737156360623,1.2730618686935913,7.434130015247864E-2,0.9818238264785546,1.0077988284279416,null,31.55,27.9,0.98356164383561584,{"$error":"#N/A"},0.2,0.8,{"$error":"#N/A"},{"$error":"#N/A"},{"$error":"#N/A"},{"$error":"#N/A"},false,false,false,false,false,{"$error":"#N/A"},{"$error":"#N/A"},{"$error":"#N/A"},{"$error":"#N/A"},false,false,true,false,false,{"$error":"#N/A"},{"$error":"#N/A"},{"$error":"#N/A"},{"$error":"#N/A"}]
[662,{"$f":"OFFSET(InputPriceData!B$15,CalculationsAndCharts!$A694+$A$11,0,1,1)","v":"2011-03-25"},{"$f":"OFFSET(InputPriceData!G$15,CalculationsAndCharts!$A694+$A$11,0,1,1)","v":1128200},{"$f":"OFFSET(InputPriceData!C$15,CalculationsAndCharts!$A694+$A$11,IF($C$7,7,0),1,1)","v":31.31},{"$f":"OFFSET(InputPriceData!D$15,CalculationsAndCharts!$A694+$A$11,IF($C$7,7,0),1,1)","v":31.72},{"$f":"OFFSET(InputPriceData!E$15,CalculationsAndCharts!$A694+$A$11,IF($C$7,7,0),1,1)","v":31.16},{"$f":"OFFSET(InputPriceData!F$15,CalculationsAndCharts!$A694+$A$11,IF($C$7,7,0),1,1)","v":31.55},{"$error":"#N/A"},{"$error":"#N/A"},{"$error":"#N/A"},30.940984425245702,30.940984425245702,1.3390143159065637,1.2730618686935913,1.2730618686935913,7.434130015247864E-2,1,0.99064956374515589,null,31.55,27.9,1,{"$error":"#N/A"},0.2,0.8,{"$error":"#N/A"},{"$error":"#N/A"},{"$error":"#N/A"},{"$error":"#N/A"},false,false,false,false,false,{"$error":"#N/A"},{"$error":"#N/A"},{"$error":"#N/A"},{"$error":"#N/A"},false,false,true,false,false,{"$error":"#N/A"},{"$error":"#N/A"},{"$error":"#N/A"},{"$error":"#N/A"}]
[663,{"$f":"OFFSET(InputPriceData!B$15,CalculationsAndCharts!$A695+$A$11,0,1,1)","v":"2011-03-24"},{"$f":"OFFSET(InputPriceData!G$15,CalculationsAndCharts!$A695+$A$11,0,1,1)","v":1170600},{"$f":"OFFSET(InputPriceData!C$15,CalculationsAndCharts!$A695+$A$11,IF($C$7,7,0),1,1)","v":30.83},{"$f":"OFFSET(InputPriceData!D$15,CalculationsAndCharts!$A695+$A$11,IF($C$7,7,0),1,1)","v":31.34},{"$f":"OFFSET(InputPriceData!E$15,CalculationsAndCharts!$A695+$A$11,IF($C$7,7,0),1,1)","v":30.76},{"$f":"OFFSET(InputPriceData!F$15,CalculationsAndCharts!$A695+$A$11,IF($C$7,7,0),1,1)","v":31.23},{"$error":"#N/A"},{"$error":"#N/A"},{"$error":"#N/A"},30.648035867201237,30.648035867201237,1.330281898800256,1.2588160000947779,1.2708508921261961,7.434130015247864E-2,0.98994166690167029,0.9491153726816961,null,31.23,27.9,1,{"$error":"#N/A"},0.2,0.8,{"$error":"#N/A"},{"$error":"#N/A"},{"$error":"#N/A"},{"$error":"#N/A"},false,false,false,false,false,{"$error":"#N/A"},{"$error":"#N/A"},{"$error":"#N/A"},{"$error":"#N/A"},false,false,true,false,false,{"$error":"#N/A"},{"$error":"#N/A"},{"$error":"#N/A"},{"$error":"#N/A"}]
[664,{"$f":"OFFSET(InputPriceData!B$15,CalculationsAndCharts!$A696+$A$11,0,1,1)","v":"2011-03-23"},{"$f":"OFFSET(InputPriceData!G$15,CalculationsAndCharts!$A696+$A$11,0,1,1)","v":1465200},{"$f":"OFFSET(InputPriceData!C$15,CalculationsAndCharts!$A696+$A$11,IF($C$7,7,0),1,1)","v":30.9},{"$f":"OFFSET(InputPriceData!D$15,CalculationsAndCharts!$A696+$A$11,IF($C$7,7,0),1,1)","v":31.15},{"$f":"OFFSET(InputPriceData!E$15,CalculationsAndCharts!$A696+$A$11,IF($C$7,7,0),1,1)","v":30.55},{"$f":"OFFSET(InputPriceData!F$15,CalculationsAndCharts!$A696+$A$11,IF($C$7,7,0),1,1)","v":30.61},{"$error":"#N/A"},{"$error":"#N/A"},{"$error":"#N/A"},30.392426073737894,30.392426073737894,0.9773864530814198,1.2708508921261961,1.2708508921261961,7.434130015247864E-2,1,0.87635379319492235,null,30.84,27.9,0.92176870748299311,{"$error":"#N/A"},0.2,0.8,{"$error":"#N/A"},{"$error":"#N/A"},{"$error":"#N/A"},{"$error":"#N/A"},false,false,false,false,false,{"$error":"#N/A"},{"$error":"#N/A"},{"$error":"#N/A"},{"$error":"#N/A"},true,false,true,false,false,{"$error":"#N/A"},{"$error":"#N/A"},{"$error":"#N/A"},{"$error":"#N/A"}]
[665,{"$f":"OFFSET(InputPriceData!B$15,CalculationsAndCharts!$A697+$A$11,0,1,1)","v":"2011-03-22"},{"$f":"OFFSET(InputPriceData!G$15,CalculationsAndCharts!$A697+$A$11,0,1,1)","v":4373600},{"$f":"OFFSET(InputPriceData!C$15,CalculationsAndCharts!$A697+$A$11,IF($C$7,7,0),1,1)","v":31.8},{"$f":"OFFSET(InputPriceData!D$15,CalculationsAndCharts!$A697+$A$11,IF($C$7,7,0),1,1)","v":32.1},{"$f":"OFFSET(InputPriceData!E$15,CalculationsAndCharts!$A697+$A$11,IF($C$7,7,0),1,1)","v":30.57},{"$f":"OFFSET(InputPriceData!F$15,CalculationsAndCharts!$A697+$A$11,IF($C$7,7,0),1,1)","v":30.84},{"$error":"#N/A"},{"$error":"#N/A"},{"$error":"#N/A"},30.095651449405757,30.095651449405757,1.4779541551006261,1.2280930078449315,1.2280930078449315,7.434130015247864E-2,1,0.77244951601241374,null,30.84,27.9,1,{"$error":"#N/A"},0.2,0.8,{"$error":"#N/A"},{"$error":"#N/A"},{"$error":"#N/A"},{"$error":"#N/A"},false,false,false,false,false,{"$error":"#N/A"},{"$error":"#N/A"},{"$error":"#N/A"},{"$error":"#N/A"},false,false,true,false,false,{"$error":"#N/A"},{"$error":"#N/A"},{"$error":"#N/A"},{"$error":"#N/A"}]
[666,{"$f":"OFFSET(InputPriceData!B$15,CalculationsAndCharts!$A698+$A$11,0,1,1)","v":"2011-03-21"},{"$f":"OFFSET(InputPriceData!G$15,CalculationsAndCharts!$A698+$A$11,0,1,1)","v":2121400},{"$f":"OFFSET(InputPriceData!C$15,CalculationsAndCharts!$A698+$A$11,IF($C$7,7,0),1,1)","v":30},{"$f":"OFFSET(InputPriceData!D$15,CalculationsAndCharts!$A698+$A$11,IF($C$7,7,0),1,1)","v":30.39},{"$f":"OFFSET(InputPriceData!E$15,CalculationsAndCharts!$A698+$A$11,IF($C$7,7,0),1,1)","v":29.9},{"$f":"OFFSET(InputPriceData!F$15,CalculationsAndCharts!$A698+$A$11,IF($C$7,7,0),1,1)","v":30.38},{"$error":"#N/A"},{"$error":"#N/A"},{"$error":"#N/A"},29.761429133022226,29.761429133022226,1.3078922880119106,1.1238739903440027,1.3083862703423006,7.434130015247864E-2,0.85048172112405596,0.65987068472578558,null,30.38,27.9,1,{"$error":"#N/A"},0.2,0.8,{"$error":"#N/A"},{"$error":"#N/A"},{"$error":"#N/A"},{"$error":"#N/A"},false,false,false,false,false,{"$error":"#N/A"},{"$error":"#N/A"},{"$error":"#N/A"},{"$error":"#N/A"},false,false,true,false,false,{"$error":"#N/A"},{"$error":"#N/A"},{"$error":"#N/A"},{"$error":"#N/A"}]
[667,{"$f":"OFFSET(InputPriceData!B$15,CalculationsAndCharts!$A699+$A$11,0,1,1)","v":"2011-03-18"},{"$f":"OFFSET(InputPriceData!G$15,CalculationsAndCharts!$A699+$A$11,0,1,1)","v":3123600},{"$f":"OFFSET(InputPriceData!C$15,CalculationsAndCharts!$A699+$A$11,IF($C$7,7,0),1,1)","v":29.97},{"$f":"OFFSET(InputPriceData!D$15,CalculationsAndCharts!$A699+$A$11,IF($C$7,7,0),1,1)","v":30.18},{"$f":"OFFSET(InputPriceData!E$15,CalculationsAndCharts!$A699+$A$11,IF($C$7,7,0),1,1)","v":29.79},{"$f":"OFFSET(InputPriceData!F$15,CalculationsAndCharts!$A699+$A$11,IF($C$7,7,0),1,1)","v":29.85},{"$error":"#N/A"},{"$error":"#N/A"},{"$error":"#N/A"},29.471080764495774,29.471080764495774,1.0139013963872654,1.0360706189579898,1.3083862703423006,7.434130015247864E-2,0.77933085263300983,0.5494774809852051,null,29.85,27.9,1,{"$error":"#N/A"},0.2,0.8,{"$error":"#N/A"},{"$error":"#N/A"},{"$error":"#N/A"},{"$error":"#N/A"},false,false,false,false,false,{"$error":"#N/A"},{"$error":"#N/A"},{"$error":"#N/A"},{"$error":"#N/A"},false,false,true,false,false,{"$error":"#N/A"},{"$error":"#N/A"},{"$error":"#N/A"},{"$error":"#N/A"}]
[668,{"$f":"OFFSET(InputPriceData!B$15,CalculationsAndCharts!$A700+$A$11,0,1,1)","v":"2011-03-17"},{"$f":"OFFSET(InputPriceData!G$15,CalculationsAndCharts!$A700+$A$11,0,1,1)","v":1486100},{"$f":"OFFSET(InputPriceData!C$15,CalculationsAndCharts!$A700+$A$11,IF($C$7,7,0),1,1)","v":29.99},{"$f":"OFFSET(InputPriceData!D$15,CalculationsAndCharts!$A700+$A$11,IF($C$7,7,0),1,1)","v":30},{"$f":"OFFSET(InputPriceData!E$15,CalculationsAndCharts!$A700+$A$11,IF($C$7,7,0),1,1)","v":29.26},{"$f":"OFFSET(InputPriceData!F$15,CalculationsAndCharts!$A700+$A$11,IF($C$7,7,0),1,1)","v":29.75},{"$error":"#N/A"},{"$error":"#N/A"},{"$error":"#N/A"},29.161450478883296,29.161450478883296,1.1232491908660318,0.89941615009463871,1.3083862703423006,7.434130015247864E-2,0.66859382751282259,0.44443436046011364,null,29.78,27.9,0.98404255319148881,{"$error":"#N/A"},0.2,0.8,{"$error":"#N/A"},{"$error":"#N/A"},{"$error":"#N/A"},{"$error":"#N/A"},false,false,false,false,false,{"$error":"#N/A"},{"$error":"#N/A"},{"$error":"#N/A"},{"$error":"#N/A"},false,false,true,false,false,{"$error":"#N/A"},{"$error":"#N/A"},{"$error":"#N/A"},{"$error":"#N/A"}]
[669,{"$f":"OFFSET(InputPriceData!B$15,CalculationsAndCharts!$A701+$A$11,0,1,1)","v":"2011-03-16"},{"$f":"OFFSET(InputPriceData!G$15,CalculationsAndCharts!$A701+$A$11,0,1,1)","v":2095600},{"$f":"OFFSET(InputPriceData!C$15,CalculationsAndCharts!$A701+$A$11,IF($C$7,7,0),1,1)","v":28.76},{"$f":"OFFSET(InputPriceData!D$15,CalculationsAndCharts!$A701+$A$11,IF($C$7,7,0),1,1)","v":29.98},{"$f":"OFFSET(InputPriceData!E$15,CalculationsAndCharts!$A701+$A$11,IF($C$7,7,0),1,1)","v":28.76},{"$f":"OFFSET(InputPriceData!F$15,CalculationsAndCharts!$A701+$A$11,IF($C$7,7,0),1,1)","v":29.78},{"$error":"#N/A"},{"$error":"#N/A"},{"$error":"#N/A"},28.801634509864201,28.801634509864201,1.3872036839080057,0.67127317200673686,1.3083862703423006,2.9221366236306764E-2,0.50193044204817283,0.36107653665403877,null,29.78,27.9,1,{"$error":"#N/A"},0.2,0.8,{"$error":"#N/A"},{"$error":"#N/A"},{"$error":"#N/A"},{"$error":"#N/A"},false,false,false,false,false,{"$error":"#N/A"},{"$error":"#N/A"},{"$error":"#N/A"},{"$error":"#N/A"},false,false,true,false,false,{"$error":"#N/A"},{"$error":"#N/A"},{"$error":"#N/A"},{"$error":"#N/A"}]
[670,{"$f":"OFFSET(InputPriceData!B$15,CalculationsAndCharts!$A702+$A$11,0,1,1)","v":"2011-03-15"},{"$f":"OFFSET(InputPriceData!G$15,CalculationsAndCharts!$A702+$A$11,0,1,1)","v":1252600},{"$f":"OFFSET(InputPriceData!C$15,CalculationsAndCharts!$A702+$A$11,IF($C$7,7,0),1,1)","v":28.41},{"$f":"OFFSET(InputPriceData!D$15,CalculationsAndCharts!$A702+$A$11,IF($C$7,7,0),1,1)","v":29.08},{"$f":"OFFSET(InputPriceData!E$15,CalculationsAndCharts!$A702+$A$11,IF($C$7,7,0),1,1)","v":28.18},{"$f":"OFFSET(InputPriceData!F$15,CalculationsAndCharts!$A702+$A$11,IF($C$7,7,0),1,1)","v":28.88},{"$error":"#N/A"},{"$error":"#N/A"},{"$error":"#N/A"},28.519710495071891,28.519710495071891,0.66932663920795488,0.47597872123720519,1.3083862703423006,-0.23269775255873387,0.4598558308727913,0.29638213167370736,null,29.64,26.93,0.71955719557195519,{"$error":"#N/A"},0.2,0.8,{"$error":"#N/A"},{"$error":"#N/A"},{"$error":"#N/A"},{"$error":"#N/A"},false,false,false,false,false,{"$error":"#N/A"},{"$error":"#N/A"},{"$error":"#N/A"},{"$error":"#N/A"},false,false,true,false,false,{"$error":"#N/A"},{"$error":"#N/A"},{"$error":"#N/A"},{"$error":"#N/A"}]
[671,{"$f":"OFFSET(InputPriceData!B$15,CalculationsAndCharts!$A703+$A$11,0,1,1)","v":"2011-03-14"},{"$f":"OFFSET(InputPriceData!G$15,CalculationsAndCharts!$A703+$A$11,0,1,1)","v":1703100},{"$f":"OFFSET(InputPriceData!C$15,CalculationsAndCharts!$A703+$A$11,IF($C$7,7,0),1,1)","v":28.69},{"$f":"OFFSET(InputPriceData!D$15,CalculationsAndCharts!$A703+$A$11,IF($C$7,7,0),1,1)","v":28.74},{"$f":"OFFSET(InputPriceData!E$15,CalculationsAndCharts!$A703+$A$11,IF($C$7,7,0),1,1)","v":28.34},{"$f":"OFFSET(InputPriceData!F$15,CalculationsAndCharts!$A703+$A$11,IF($C$7,7,0),1,1)","v":28.65},{"$error":"#N/A"},{"$error":"#N/A"},{"$error":"#N/A"},28.332956428208021,28.332956428208021,0.53558605382464153,0.34106056417611003,1.3083862703423006,-0.23269775255873387,0.37230826366933895,0.25264679144351565,null,29.64,26.85,0.64516129032257985,{"$error":"#N/A"},0.2,0.8,{"$error":"#N/A"},{"$error":"#N/A"},{"$error":"#N/A"},{"$error":"#N/A"},false,false,false,false,false,{"$error":"#N/A"},{"$error":"#N/A"},{"$error":"#N/A"},{"$error":"#N/A"},false,false,true,false,false,{"$error":"#N/A"},{"$error":"#N/A"},{"$error":"#N/A"},{"$error":"#N/A"}]
[672,{"$f":"OFFSET(InputPriceData!B$15,CalculationsAndCharts!$A704+$A$11,0,1,1)","v":"2011-03-11"},{"$f":"OFFSET(InputPriceData!G$15,CalculationsAndCharts!$A704+$A$11,0,1,1)","v":1910000},{"$f":"OFFSET(InputPriceData!C$15,CalculationsAndCharts!$A704+$A$11,IF($C$7,7,0),1,1)","v":28.81},{"$f":"OFFSET(InputPriceData!D$15,CalculationsAndCharts!$A704+$A$11,IF($C$7,7,0),1,1)","v":29.32},{"$f":"OFFSET(InputPriceData!E$15,CalculationsAndCharts!$A704+$A$11,IF($C$7,7,0),1,1)","v":28.36},{"$f":"OFFSET(InputPriceData!F$15,CalculationsAndCharts!$A704+$A$11,IF($C$7,7,0),1,1)","v":28.82},{"$error":"#N/A"},{"$error":"#N/A"},{"$error":"#N/A"},28.1447984986041,28.1447984986041,0.80934539777098835,0.17390684382562427,1.3083862703423006,-0.23269775255873387,0.26384323654134045,0.24689879815536736,null,29.64,26.85,0.70609318996415749,{"$error":"#N/A"},0.2,0.8,{"$error":"#N/A"},{"$error":"#N/A"},{"$error":"#N/A"},{"$error":"#N/A"},false,false,false,false,false,{"$error":"#N/A"},{"$error":"#N/A"},{"$error":"#N/A"},{"$error":"#N/A"},false,false,true,false,false,{"$error":"#N/A"},{"$error":"#N/A"},{"$error":"#N/A"},{"$error":"#N/A"}]
[673,{"$f":"OFFSET(InputPriceData!B$15,CalculationsAndCharts!$A705+$A$11,0,1,1)","v":"2011-03-10"},{"$f":"OFFSET(InputPriceData!G$15,CalculationsAndCharts!$A705+$A$11,0,1,1)","v":1726400},{"$f":"OFFSET(InputPriceData!C$15,CalculationsAndCharts!$A705+$A$11,IF($C$7,7,0),1,1)","v":27.9},{"$f":"OFFSET(InputPriceData!D$15,CalculationsAndCharts!$A705+$A$11,IF($C$7,7,0),1,1)","v":28.39},{"$f":"OFFSET(InputPriceData!E$15,CalculationsAndCharts!$A705+$A$11,IF($C$7,7,0),1,1)","v":27.81},{"$f":"OFFSET(InputPriceData!F$15,CalculationsAndCharts!$A705+$A$11,IF($C$7,7,0),1,1)","v":28.11},{"$error":"#N/A"},{"$error":"#N/A"},{"$error":"#N/A"},28.050566730150475,28.050566730150475,0.16369255237024954,7.434130015247864E-2,1.3083862703423006,-0.23269775255873387,0.19923576401319293,0.27672984734519673,null,29.64,26.85,0.45161290322580588,{"$error":"#N/A"},0.2,0.8,{"$error":"#N/A"},{"$error":"#N/A"},{"$error":"#N/A"},{"$error":"#N/A"},false,false,false,false,false,{"$error":"#N/A"},{"$error":"#N/A"},{"$error":"#N/A"},{"$error":"#N/A"},false,false,true,false,false,{"$error":"#N/A"},{"$error":"#N/A"},{"$error":"#N/A"},{"$error":"#N/A"}]
[674,{"$f":"OFFSET(InputPriceData!B$15,CalculationsAndCharts!$A706+$A$11,0,1,1)","v":"2011-03-09"},{"$f":"OFFSET(InputPriceData!G$15,CalculationsAndCharts!$A706+$A$11,0,1,1)","v":940500},{"$f":"OFFSET(InputPriceData!C$15,CalculationsAndCharts!$A706+$A$11,IF($C$7,7,0),1,1)","v":28.09},{"$f":"OFFSET(InputPriceData!D$15,CalculationsAndCharts!$A706+$A$11,IF($C$7,7,0),1,1)","v":28.21},{"$f":"OFFSET(InputPriceData!E$15,CalculationsAndCharts!$A706+$A$11,IF($C$7,7,0),1,1)","v":27.74},{"$f":"OFFSET(InputPriceData!F$15,CalculationsAndCharts!$A706+$A$11,IF($C$7,7,0),1,1)","v":28},{"$error":"#N/A"},{"$error":"#N/A"},{"$error":"#N/A"},28.076523378599411,28.076523378599411,4.4690029865514E-2,8.594151716170656E-2,1.3083862703423006,-0.23269775255873387,0.20676307390470094,0.32144648426929257,null,29.64,26.85,0.41218637992831503,{"$error":"#N/A"},0.2,0.8,{"$error":"#N/A"},{"$error":"#N/A"},{"$error":"#N/A"},{"$error":"#N/A"},false,false,false,false,false,{"$error":"#N/A"},{"$error":"#N/A"},{"$error":"#N/A"},{"$error":"#N/A"},false,false,true,false,false,{"$error":"#N/A"},{"$error":"#N/A"},{"$error":"#N/A"},{"$error":"#N/A"}]
[675,{"$f":"OFFSET(InputPriceData!B$15,CalculationsAndCharts!$A707+$A$11,0,1,1)","v":"2011-03-08"},{"$f":"OFFSET(InputPriceData!G$15,CalculationsAndCharts!$A707+$A$11,0,1,1)","v":1198400},{"$f":"OFFSET(InputPriceData!C$15,CalculationsAndCharts!$A707+$A$11,IF($C$7,7,0),1,1)","v":28.01},{"$f":"OFFSET(InputPriceData!D$15,CalculationsAndCharts!$A707+$A$11,IF($C$7,7,0),1,1)","v":28.46},{"$f":"OFFSET(InputPriceData!E$15,CalculationsAndCharts!$A707+$A$11,IF($C$7,7,0),1,1)","v":27.88},{"$f":"OFFSET(InputPriceData!F$15,CalculationsAndCharts!$A707+$A$11,IF($C$7,7,0),1,1)","v":28.03},{"$error":"#N/A"},{"$error":"#N/A"},{"$error":"#N/A"},28.126386042978076,28.126386042978076,5.4956753128244107E-2,0.12537751711520045,1.3083862703423006,-0.34389233190652535,0.28401375432873627,0.35726864403206671,null,29.64,26.85,0.42293906810035847,{"$error":"#N/A"},0.2,0.8,{"$error":"#N/A"},{"$error":"#N/A"},{"$error":"#N/A"},{"$error":"#N/A"},false,false,false,false,false,{"$error":"#N/A"},{"$error":"#N/A"},{"$error":"#N/A"},{"$error":"#N/A"},false,false,true,false,false,{"$error":"#N/A"},{"$error":"#N/A"},{"$error":"#N/A"},{"$error":"#N/A"}]
[676,{"$f":"OFFSET(InputPriceData!B$15,CalculationsAndCharts!$A708+$A$11,0,1,1)","v":"2011-03-07"},{"$f":"OFFSET(InputPriceData!G$15,CalculationsAndCharts!$A708+$A$11,0,1,1)","v":2581800},{"$f":"OFFSET(InputPriceData!C$15,CalculationsAndCharts!$A708+$A$11,IF($C$7,7,0),1,1)","v":28.54},{"$f":"OFFSET(InputPriceData!D$15,CalculationsAndCharts!$A708+$A$11,IF($C$7,7,0),1,1)","v":28.67},{"$f":"OFFSET(InputPriceData!E$15,CalculationsAndCharts!$A708+$A$11,IF($C$7,7,0),1,1)","v":27.56},{"$f":"OFFSET(InputPriceData!F$15,CalculationsAndCharts!$A708+$A$11,IF($C$7,7,0),1,1)","v":27.9},{"$error":"#N/A"},{"$error":"#N/A"},{"$error":"#N/A"},28.179065690503162,28.179065690503162,-0.10911861038574283,0.17475943009974837,1.3083862703423006,-0.51795473785060064,0.37929070466186637,0.37550693069758401,null,29.64,26.85,0.37634408602150449,{"$error":"#N/A"},0.2,0.8,{"$error":"#N/A"},{"$error":"#N/A"},{"$error":"#N/A"},{"$error":"#N/A"},false,false,false,false,false,{"$error":"#N/A"},{"$error":"#N/A"},{"$error":"#N/A"},{"$error":"#N/A"},false,false,true,false,false,{"$error":"#N/A"},{"$error":"#N/A"},{"$error":"#N/A"},{"$error":"#N/A"}]
[677,{"$f":"OFFSET(InputPriceData!B$15,CalculationsAndCharts!$A709+$A$11,0,1,1)","v":"2011-03-04"},{"$f":"OFFSET(InputPriceData!G$15,CalculationsAndCharts!$A709+$A$11,0,1,1)","v":1523400},{"$f":"OFFSET(InputPriceData!C$15,CalculationsAndCharts!$A709+$A$11,IF($C$7,7,0),1,1)","v":28.05},{"$f":"OFFSET(InputPriceData!D$15,CalculationsAndCharts!$A709+$A$11,IF($C$7,7,0),1,1)","v":28.58},{"$f":"OFFSET(InputPriceData!E$15,CalculationsAndCharts!$A709+$A$11,IF($C$7,7,0),1,1)","v":27.86},{"$f":"OFFSET(InputPriceData!F$15,CalculationsAndCharts!$A709+$A$11,IF($C$7,7,0),1,1)","v":28.47},{"$error":"#N/A"},{"$error":"#N/A"},{"$error":"#N/A"},28.175399454344763,28.175399454344763,0.46404793574342995,0.17059945483913658,1.3083862703423006,-0.56198106060328945,0.39167734771760576,0.39285967834907543,null,29.64,26.85,0.58064516129032184,{"$error":"#N/A"},0.2,0.8,{"$error":"#N/A"},{"$error":"#N/A"},{"$error":"#N/A"},{"$error":"#N/A"},false,false,false,false,false,{"$error":"#N/A"},{"$error":"#N/A"},{"$error":"#N/A"},{"$error":"#N/A"},false,false,true,false,false,{"$error":"#N/A"},{"$error":"#N/A"},{"$error":"#N/A"},{"$error":"#N/A"}]
[678,{"$f":"OFFSET(InputPriceData!B$15,CalculationsAndCharts!$A710+$A$11,0,1,1)","v":"2011-03-03"},{"$f":"OFFSET(InputPriceData!G$15,CalculationsAndCharts!$A710+$A$11,0,1,1)","v":831800},{"$f":"OFFSET(InputPriceData!C$15,CalculationsAndCharts!$A710+$A$11,IF($C$7,7,0),1,1)","v":28.59},{"$f":"OFFSET(InputPriceData!D$15,CalculationsAndCharts!$A710+$A$11,IF($C$7,7,0),1,1)","v":28.77},{"$f":"OFFSET(InputPriceData!E$15,CalculationsAndCharts!$A710+$A$11,IF($C$7,7,0),1,1)","v":27.93},{"$f":"OFFSET(InputPriceData!F$15,CalculationsAndCharts!$A710+$A$11,IF($C$7,7,0),1,1)","v":27.98},{"$error":"#N/A"},{"$error":"#N/A"},{"$error":"#N/A"},28.172394319982885,28.172394319982885,-1.5871787983174485E-2,0.16471039075472238,1.3083862703423006,-0.56198106060328945,0.38852873408060595,0.4305106723951686,null,29.64,26.85,0.40501792114695317,{"$error":"#N/A"},0.2,0.8,{"$error":"#N/A"},{"$error":"#N/A"},{"$error":"#N/A"},{"$error":"#N/A"},false,false,false,false,{"$f":"AND(AG711,AF711)","v":false},{"$error":"#N/A"},{"$error":"#N/A"},{"$error":"#N/A"},{"$error":"#N/A"},false,{"$f":"AND(AM711,NOT(AO711))","v":false},true,false,false,{"$error":"#N/A"},{"$error":"#N/A"},{"$error":"#N/A"},{"$error":"#N/A"}]
[679,{"$f":"OFFSET(InputPriceData!B$15,CalculationsAndCharts!$A711+$A$11,0,1,1)","v":"2011-03-02"},{"$f":"OFFSET(InputPriceData!G$15,CalculationsAndCharts!$A711+$A$11,0,1,1)","v":635700},{"$f":"OFFSET(InputPriceData!C$15,CalculationsAndCharts!$A711+$A$11,IF($C$7,7,0),1,1)","v":28.28},{"$f":"OFFSET(InputPriceData!D$15,CalculationsAndCharts!$A711+$A$11,IF($C$7,7,0),1,1)","v":28.5},{"$f":"OFFSET(InputPriceData!E$15,CalculationsAndCharts!$A711+$A$11,IF($C$7,7,0),1,1)","v":28.12},{"$f":"OFFSET(InputPriceData!F$15,CalculationsAndCharts!$A711+$A$11,IF($C$7,7,0),1,1)","v":28.27},{"$error":"#N/A"},{"$error":"#N/A"},{"$error":"#N/A"},28.197464364075895,28.197464364075895,0.2642073114248602,0.18693650503252349,1.3083862703423006,-0.56198106060328945,0.40041202241122731,0.49718379346268332,null,29.64,26.85,0.50896057347670198,{"$error":"#N/A"},0.2,0.8,{"$error":"#N/A"},{"$error":"#N/A"},{"$error":"#N/A"},{"$error":"#N/A"},false,false,false,false,false,{"$error":"#N/A"},{"$error":"#N/A"},{"$error":"#N/A"},{"$error":"#N/A"},false,false,true,false,{"$f":"AND(AP712,AO712)","v":false},{"$error":"#N/A"},{"$error":"#N/A"},{"$error":"#N/A"},{"$error":"#N/A"}]
[680,{"$f":"OFFSET(InputPriceData!B$15,CalculationsAndCharts!$A712+$A$11,0,1,1)","v":"2011-03-01"},{"$f":"OFFSET(InputPriceData!G$15,CalculationsAndCharts!$A712+$A$11,0,1,1)","v":2516000},{"$f":"OFFSET(InputPriceData!C$15,CalculationsAndCharts!$A712+$A$11,IF($C$7,7,0),1,1)","v":28.3},{"$f":"OFFSET(InputPriceData!D$15,CalculationsAndCharts!$A712+$A$11,IF($C$7,7,0),1,1)","v":29.02},{"$f":"OFFSET(InputPriceData!E$15,CalculationsAndCharts!$A712+$A$11,IF($C$7,7,0),1,1)","v":28.23},{"$f":"OFFSET(InputPriceData!F$15,CalculationsAndCharts!$A712+$A$11,IF($C$7,7,0),1,1)","v":28.28},{"$error":"#N/A"},{"$error":"#N/A"},{"$error":"#N/A"},28.213819400931051,28.213819400931051,0.29098183655001203,0.20234422669736785,1.3083862703423006,-0.56198106060328945,0.40864982757918583,0.59607297083426614,null,29.64,26.85,0.51254480286738358,{"$error":"#N/A"},0.2,0.8,{"$error":"#N/A"},{"$error":"#N/A"},{"$error":"#N/A"},{"$error":"#N/A"},false,false,false,false,false,{"$error":"#N/A"},{"$error":"#N/A"},{"$error":"#N/A"},{"$error":"#N/A"},false,false,true,false,false,{"$error":"#N/A"},{"$error":"#N/A"},{"$error":"#N/A"},{"$error":"#N/A"}]
[681,{"$f":"OFFSET(InputPriceData!B$15,CalculationsAndCharts!$A713+$A$11,0,1,1)","v":"2011-02-28"},{"$f":"OFFSET(InputPriceData!G$15,CalculationsAndCharts!$A713+$A$11,0,1,1)","v":1061600},{"$f":"OFFSET(InputPriceData!C$15,CalculationsAndCharts!$A713+$A$11,IF($C$7,7,0),1,1)","v":28.2},{"$f":"OFFSET(InputPriceData!D$15,CalculationsAndCharts!$A713+$A$11,IF($C$7,7,0),1,1)","v":28.37},{"$f":"OFFSET(InputPriceData!E$15,CalculationsAndCharts!$A713+$A$11,IF($C$7,7,0),1,1)","v":27.99},{"$f":"OFFSET(InputPriceData!F$15,CalculationsAndCharts!$A713+$A$11,IF($C$7,7,0),1,1)","v":28.25},{"$error":"#N/A"},{"$f":"IF($A713=$E$25,I$32,NA())","v":{"$error":"#N/A"}},{"$error":"#N/A"},28.291238056729224,28.291238056729224,0.27648628098828626,0.28611896612523807,1.3083862703423006,-0.56198106060328945,0.45344035510915326,0.71862005030927789,null,29.64,26.85,0.50179211469534013,{"$error":"#N/A"},0.2,0.8,{"$error":"#N/A"},{"$error":"#N/A"},{"$error":"#N/A"},{"$error":"#N/A"},false,false,false,false,false,{"$error":"#N/A"},{"$error":"#N/A"},{"$error":"#N/A"},{"$error":"#N/A"},false,false,true,false,false,{"$error":"#N/A"},{"$error":"#N/A"},{"$error":"#N/A"},{"$error":"#N/A"}]
[682,{"$f":"OFFSET(InputPriceData!B$15,CalculationsAndCharts!$A714+$A$11,0,1,1)","v":"2011-02-25"},{"$f":"OFFSET(InputPriceData!G$15,CalculationsAndCharts!$A714+$A$11,0,1,1)","v":1988700},{"$f":"OFFSET(InputPriceData!C$15,CalculationsAndCharts!$A714+$A$11,IF($C$7,7,0),1,1)","v":28.36},{"$f":"OFFSET(InputPriceData!D$15,CalculationsAndCharts!$A714+$A$11,IF($C$7,7,0),1,1)","v":28.59},{"$f":"OFFSET(InputPriceData!E$15,CalculationsAndCharts!$A714+$A$11,IF($C$7,7,0),1,1)","v":27.74},{"$f":"OFFSET(InputPriceData!F$15,CalculationsAndCharts!$A714+$A$11,IF($C$7,7,0),1,1)","v":28},{"$error":"#N/A"},{"$error":"#N/A"},{"$error":"#N/A"},28.463320563956547,28.463320563956547,1.4548806818983268E-2,0.48833585081273934,1.3083862703423006,-0.56198106060328945,0.56155648895183963,0.83958334080248465,null,29.64,26.85,0.41218637992831503,{"$error":"#N/A"},0.2,0.8,{"$error":"#N/A"},{"$error":"#N/A"},{"$error":"#N/A"},{"$error":"#N/A"},false,false,false,false,false,{"$error":"#N/A"},{"$error":"#N/A"},{"$error":"#N/A"},{"$error":"#N/A"},false,false,true,false,false,{"$error":"#N/A"},{"$error":"#N/A"},{"$error":"#N/A"},{"$error":"#N/A"}]
[683,{"$f":"OFFSET(InputPriceData!B$15,CalculationsAndCharts!$A715+$A$11,0,1,1)","v":"2011-02-24"},{"$f":"OFFSET(InputPriceData!G$15,CalculationsAndCharts!$A715+$A$11,0,1,1)","v":1373700},{"$f":"OFFSET(InputPriceData!C$15,CalculationsAndCharts!$A715+$A$11,IF($C$7,7,0),1,1)","v":27.91},{"$f":"OFFSET(InputPriceData!D$15,CalculationsAndCharts!$A715+$A$11,IF($C$7,7,0),1,1)","v":28.68},{"$f":"OFFSET(InputPriceData!E$15,CalculationsAndCharts!$A715+$A$11,IF($C$7,7,0),1,1)","v":27.91},{"$f":"OFFSET(InputPriceData!F$15,CalculationsAndCharts!$A715+$A$11,IF($C$7,7,0),1,1)","v":28.35},{"$error":"#N/A"},{"$error":"#N/A"},{"$error":"#N/A"},28.673489469224506,28.673489469224506,0.35881097101563747,0.76900343991912135,1.3083862703423006,-0.56198106060328945,0.7116166319316074,0.92930193303228192,null,29.64,26.85,0.53763440860215073,{"$error":"#N/A"},0.2,0.8,{"$error":"#N/A"},{"$error":"#N/A"},{"$error":"#N/A"},{"$error":"#N/A"},false,false,false,false,false,{"$error":"#N/A"},{"$error":"#N/A"},{"$error":"#N/A"},{"$error":"#N/A"},false,false,true,false,false,{"$error":"#N/A"},{"$error":"#N/A"},{"$error":"#N/A"},{"$error":"#N/A"}]
[684,{"$f":"OFFSET(InputPriceData!B$15,CalculationsAndCharts!$A716+$A$11,0,1,1)","v":"2011-02-23"},{"$f":"OFFSET(InputPriceData!G$15,CalculationsAndCharts!$A716+$A$11,0,1,1)","v":3876700},{"$f":"OFFSET(InputPriceData!C$15,CalculationsAndCharts!$A716+$A$11,IF($C$7,7,0),1,1)","v":28.27},{"$f":"OFFSET(InputPriceData!D$15,CalculationsAndCharts!$A716+$A$11,IF($C$7,7,0),1,1)","v":28.56},{"$f":"OFFSET(InputPriceData!E$15,CalculationsAndCharts!$A716+$A$11,IF($C$7,7,0),1,1)","v":27.71},{"$f":"OFFSET(InputPriceData!F$15,CalculationsAndCharts!$A716+$A$11,IF($C$7,7,0),1,1)","v":27.97},{"$error":"#N/A"},{"$error":"#N/A"},{"$error":"#N/A"},28.877682179698944,28.877682179698944,-3.2812721454184235E-2,1.0930059836500916,1.3083862703423006,-0.56198106060328945,0.88484599622293425,0.96728437645239684,null,29.64,26.85,0.40143369175627158,{"$error":"#N/A"},0.2,0.8,{"$error":"#N/A"},{"$error":"#N/A"},{"$error":"#N/A"},{"$error":"#N/A"},false,false,false,false,false,{"$error":"#N/A"},{"$error":"#N/A"},{"$error":"#N/A"},{"$error":"#N/A"},false,false,true,false,false,{"$error":"#N/A"},{"$error":"#N/A"},{"$error":"#N/A"},{"$error":"#N/A"}]
[685,{"$f":"OFFSET(InputPriceData!B$15,CalculationsAndCharts!$A717+$A$11,0,1,1)","v":"2011-02-22"},{"$f":"OFFSET(InputPriceData!G$15,CalculationsAndCharts!$A717+$A$11,0,1,1)","v":1392200},{"$f":"OFFSET(InputPriceData!C$15,CalculationsAndCharts!$A717+$A$11,IF($C$7,7,0),1,1)","v":28.94},{"$f":"OFFSET(InputPriceData!D$15,CalculationsAndCharts!$A717+$A$11,IF($C$7,7,0),1,1)","v":29.07},{"$f":"OFFSET(InputPriceData!E$15,CalculationsAndCharts!$A717+$A$11,IF($C$7,7,0),1,1)","v":28.15},{"$f":"OFFSET(InputPriceData!F$15,CalculationsAndCharts!$A717+$A$11,IF($C$7,7,0),1,1)","v":28.48},{"$error":"#N/A"},{"$error":"#N/A"},{"$error":"#N/A"},28.932441024797296,28.932441024797296,0.47464478607018767,1.3083862703423006,1.3083862703423006,-0.56198106060328945,1,0.95558761500555933,null,29.64,26.85,0.58422939068100344,{"$error":"#N/A"},0.2,0.8,{"$error":"#N/A"},{"$error":"#N/A"},{"$error":"#N/A"},{"$error":"#N/A"},false,false,false,false,false,{"$error":"#N/A"},{"$error":"#N/A"},{"$error":"#N/A"},{"$error":"#N/A"},false,false,true,false,false,{"$error":"#N/A"},{"$error":"#N/A"},{"$error":"#N/A"},{"$error":"#N/A"}]
[686,{"$f":"OFFSET(InputPriceData!B$15,CalculationsAndCharts!$A718+$A$11,0,1,1)","v":"2011-02-18"},{"$f":"OFFSET(InputPriceData!G$15,CalculationsAndCharts!$A718+$A$11,0,1,1)","v":1580700},{"$f":"OFFSET(InputPriceData!C$15,CalculationsAndCharts!$A718+$A$11,IF($C$7,7,0),1,1)","v":29.38},{"$f":"OFFSET(InputPriceData!D$15,CalculationsAndCharts!$A718+$A$11,IF($C$7,7,0),1,1)","v":29.5},{"$f":"OFFSET(InputPriceData!E$15,CalculationsAndCharts!$A718+$A$11,IF($C$7,7,0),1,1)","v":29.05},{"$f":"OFFSET(InputPriceData!F$15,CalculationsAndCharts!$A718+$A$11,IF($C$7,7,0),1,1)","v":29.25},{"$error":"#N/A"},{"$error":"#N/A"},{"$error":"#N/A"},28.63017865217574,28.63017865217574,1.366830312936985,1.1627571949151636,1.1627571949151636,-0.56198106060328945,1,0.91904657908937271,null,29.64,26.85,0.86021505376344065,{"$error":"#N/A"},0.2,0.8,{"$error":"#N/A"},{"$error":"#N/A"},{"$error":"#N/A"},{"$error":"#N/A"},false,false,false,false,false,{"$error":"#N/A"},{"$error":"#N/A"},{"$error":"#N/A"},{"$error":"#N/A"},false,false,true,false,false,{"$error":"#N/A"},{"$error":"#N/A"},{"$error":"#N/A"},{"$error":"#N/A"}]
[687,{"$f":"OFFSET(InputPriceData!B$15,CalculationsAndCharts!$A719+$A$11,0,1,1)","v":"2011-02-17"},{"$f":"OFFSET(InputPriceData!G$15,CalculationsAndCharts!$A719+$A$11,0,1,1)","v":3762500},{"$f":"OFFSET(InputPriceData!C$15,CalculationsAndCharts!$A719+$A$11,IF($C$7,7,0),1,1)","v":29.63},{"$f":"OFFSET(InputPriceData!D$15,CalculationsAndCharts!$A719+$A$11,IF($C$7,7,0),1,1)","v":29.91},{"$f":"OFFSET(InputPriceData!E$15,CalculationsAndCharts!$A719+$A$11,IF($C$7,7,0),1,1)","v":28.9},{"$f":"OFFSET(InputPriceData!F$15,CalculationsAndCharts!$A719+$A$11,IF($C$7,7,0),1,1)","v":29.52},{"$error":"#N/A"},{"$error":"#N/A"},{"$error":"#N/A"},28.039799185134481,28.039799185134481,1.8780850001800058,0.65973099828197102,0.65973099828197102,-0.56198106060328945,1,0.88002633647154549,null,29.64,26.85,0.95698924731182755,{"$error":"#N/A"},0.2,0.8,{"$error":"#N/A"},{"$error":"#N/A"},{"$error":"#N/A"},{"$error":"#N/A"},false,false,false,false,false,{"$error":"#N/A"},{"$error":"#N/A"},{"$error":"#N/A"},{"$error":"#N/A"},false,false,true,false,false,{"$error":"#N/A"},{"$error":"#N/A"},{"$error":"#N/A"},{"$error":"#N/A"}]
[688,{"$f":"OFFSET(InputPriceData!B$15,CalculationsAndCharts!$A720+$A$11,0,1,1)","v":"2011-02-16"},{"$f":"OFFSET(InputPriceData!G$15,CalculationsAndCharts!$A720+$A$11,0,1,1)","v":14666800},{"$f":"OFFSET(InputPriceData!C$15,CalculationsAndCharts!$A720+$A$11,IF($C$7,7,0),1,1)","v":29.32},{"$f":"OFFSET(InputPriceData!D$15,CalculationsAndCharts!$A720+$A$11,IF($C$7,7,0),1,1)","v":31.38},{"$f":"OFFSET(InputPriceData!E$15,CalculationsAndCharts!$A720+$A$11,IF($C$7,7,0),1,1)","v":29.26},{"$f":"OFFSET(InputPriceData!F$15,CalculationsAndCharts!$A720+$A$11,IF($C$7,7,0),1,1)","v":29.64},{"$error":"#N/A"},{"$error":"#N/A"},{"$error":"#N/A"},27.432300689845739,27.432300689845739,2.3108251009369041,2.9221366236306764E-2,2.9221366236306764E-2,-0.56198106060328945,1,0.85899359142464227,null,29.64,26.85,1,{"$error":"#N/A"},0.2,0.8,{"$error":"#N/A"},{"$error":"#N/A"},{"$error":"#N/A"},{"$error":"#N/A"},false,false,false,false,false,{"$error":"#N/A"},{"$error":"#N/A"},{"$error":"#N/A"},{"$error":"#N/A"},false,false,true,false,false,{"$error":"#N/A"},{"$error":"#N/A"},{"$error":"#N/A"},{"$error":"#N/A"}]
[689,{"$f":"OFFSET(InputPriceData!B$15,CalculationsAndCharts!$A721+$A$11,0,1,1)","v":"2011-02-15"},{"$f":"OFFSET(InputPriceData!G$15,CalculationsAndCharts!$A721+$A$11,0,1,1)","v":3813900},{"$f":"OFFSET(InputPriceData!C$15,CalculationsAndCharts!$A721+$A$11,IF($C$7,7,0),1,1)","v":26.76},{"$f":"OFFSET(InputPriceData!D$15,CalculationsAndCharts!$A721+$A$11,IF($C$7,7,0),1,1)","v":27.03},{"$f":"OFFSET(InputPriceData!E$15,CalculationsAndCharts!$A721+$A$11,IF($C$7,7,0),1,1)","v":26.7},{"$f":"OFFSET(InputPriceData!F$15,CalculationsAndCharts!$A721+$A$11,IF($C$7,7,0),1,1)","v":26.93},{"$error":"#N/A"},{"$error":"#N/A"},{"$error":"#N/A"},27.2770834758443,27.2770834758443,-0.30158965030125895,-0.23269775255873387,-8.8338819505239669E-4,-0.56198106060328945,0.58685559437676549,0.89463928257888914,null,29.48,26.85,3.0418250950569704E-2,{"$error":"#N/A"},0.2,0.8,{"$error":"#N/A"},{"$error":"#N/A"},{"$error":"#N/A"},{"$error":"#N/A"},false,false,false,false,false,{"$error":"#N/A"},{"$error":"#N/A"},{"$error":"#N/A"},{"$error":"#N/A"},false,false,true,false,false,{"$error":"#N/A"},{"$error":"#N/A"},{"$error":"#N/A"},{"$error":"#N/A"}]
[690,{"$f":"OFFSET(InputPriceData!B$15,CalculationsAndCharts!$A722+$A$11,0,1,1)","v":"2011-02-14"},{"$f":"OFFSET(InputPriceData!G$15,CalculationsAndCharts!$A722+$A$11,0,1,1)","v":3109400},{"$f":"OFFSET(InputPriceData!C$15,CalculationsAndCharts!$A722+$A$11,IF($C$7,7,0),1,1)","v":27.37},{"$f":"OFFSET(InputPriceData!D$15,CalculationsAndCharts!$A722+$A$11,IF($C$7,7,0),1,1)","v":27.38},{"$f":"OFFSET(InputPriceData!E$15,CalculationsAndCharts!$A722+$A$11,IF($C$7,7,0),1,1)","v":26.65},{"$f":"OFFSET(InputPriceData!F$15,CalculationsAndCharts!$A722+$A$11,IF($C$7,7,0),1,1)","v":26.85},{"$error":"#N/A"},{"$error":"#N/A"},{"$error":"#N/A"},27.520027405128445,27.520027405128445,-0.55157660851045531,-0.10799697851791804,-8.8338819505239669E-4,-0.58665241519711131,0.81714022868182634,0.91901466934695619,null,30,26.85,0,{"$error":"#N/A"},0.2,0.8,{"$error":"#N/A"},{"$error":"#N/A"},{"$error":"#N/A"},{"$error":"#N/A"},false,false,false,false,false,{"$error":"#N/A"},{"$error":"#N/A"},{"$error":"#N/A"},{"$error":"#N/A"},false,false,true,false,false,{"$error":"#N/A"},{"$error":"#N/A"},{"$error":"#N/A"},{"$error":"#N/A"}]
[691,{"$f":"OFFSET(InputPriceData!B$15,CalculationsAndCharts!$A723+$A$11,0,1,1)","v":"2011-02-11"},{"$f":"OFFSET(InputPriceData!G$15,CalculationsAndCharts!$A723+$A$11,0,1,1)","v":1366800},{"$f":"OFFSET(InputPriceData!C$15,CalculationsAndCharts!$A723+$A$11,IF($C$7,7,0),1,1)","v":27.58},{"$f":"OFFSET(InputPriceData!D$15,CalculationsAndCharts!$A723+$A$11,IF($C$7,7,0),1,1)","v":27.74},{"$f":"OFFSET(InputPriceData!E$15,CalculationsAndCharts!$A723+$A$11,IF($C$7,7,0),1,1)","v":27.2},{"$f":"OFFSET(InputPriceData!F$15,CalculationsAndCharts!$A723+$A$11,IF($C$7,7,0),1,1)","v":27.24},{"$error":"#N/A"},{"$error":"#N/A"},{"$error":"#N/A"},27.722951310516734,27.722951310516734,-0.33052222586696306,-8.8338819505239669E-4,-8.8338819505239669E-4,-0.76232790403269413,1,0.84471495791587581,null,30,27.24,0,{"$error":"#N/A"},0.2,0.8,{"$error":"#N/A"},{"$error":"#N/A"},{"$error":"#N/A"},{"$error":"#N/A"},false,false,false,false,false,{"$error":"#N/A"},{"$error":"#N/A"},{"$error":"#N/A"},{"$error":"#N/A"},true,false,true,false,false,{"$error":"#N/A"},{"$error":"#N/A"},{"$error":"#N/A"},{"$error":"#N/A"}]
[692,{"$f":"OFFSET(InputPriceData!B$15,CalculationsAndCharts!$A724+$A$11,0,1,1)","v":"2011-02-10"},{"$f":"OFFSET(InputPriceData!G$15,CalculationsAndCharts!$A724+$A$11,0,1,1)","v":564800},{"$f":"OFFSET(InputPriceData!C$15,CalculationsAndCharts!$A724+$A$11,IF($C$7,7,0),1,1)","v":27.81},{"$f":"OFFSET(InputPriceData!D$15,CalculationsAndCharts!$A724+$A$11,IF($C$7,7,0),1,1)","v":28.06},{"$f":"OFFSET(InputPriceData!E$15,CalculationsAndCharts!$A724+$A$11,IF($C$7,7,0),1,1)","v":27.54},{"$f":"OFFSET(InputPriceData!F$15,CalculationsAndCharts!$A724+$A$11,IF($C$7,7,0),1,1)","v":27.65},{"$error":"#N/A"},{"$error":"#N/A"},{"$error":"#N/A"},27.799077908606918,27.799077908606918,-3.9344358501576832E-2,-1.1357385988586266E-2,-1.1357385988586266E-2,-0.76232790403269413,1,0.70336737039648933,null,30,27.45,7.8431372549019301E-2,{"$error":"#N/A"},0.2,0.8,{"$error":"#N/A"},{"$error":"#N/A"},{"$error":"#N/A"},{"$error":"#N/A"},false,false,false,false,false,{"$error":"#N/A"},{"$error":"#N/A"},{"$error":"#N/A"},{"$error":"#N/A"},false,false,true,false,false,{"$error":"#N/A"},{"$error":"#N/A"},{"$error":"#N/A"},{"$error":"#N/A"}]
[693,{"$f":"OFFSET(InputPriceData!B$15,CalculationsAndCharts!$A725+$A$11,0,1,1)","v":"2011-02-09"},{"$f":"OFFSET(InputPriceData!G$15,CalculationsAndCharts!$A725+$A$11,0,1,1)","v":906800},{"$f":"OFFSET(InputPriceData!C$15,CalculationsAndCharts!$A725+$A$11,IF($C$7,7,0),1,1)","v":28},{"$f":"OFFSET(InputPriceData!D$15,CalculationsAndCharts!$A725+$A$11,IF($C$7,7,0),1,1)","v":28.25},{"$f":"OFFSET(InputPriceData!E$15,CalculationsAndCharts!$A725+$A$11,IF($C$7,7,0),1,1)","v":27.83},{"$f":"OFFSET(InputPriceData!F$15,CalculationsAndCharts!$A725+$A$11,IF($C$7,7,0),1,1)","v":27.91},{"$error":"#N/A"},{"$error":"#N/A"},{"$error":"#N/A"},27.766247612109275,27.766247612109275,0.14658235287414029,-0.14365174241171755,-0.14365174241171755,-0.76232790403269413,1,0.54226830151820993,null,30,27.45,0.18039215686274537,{"$error":"#N/A"},0.2,0.8,{"$error":"#N/A"},{"$error":"#N/A"},{"$error":"#N/A"},{"$error":"#N/A"},false,false,false,false,false,{"$error":"#N/A"},{"$error":"#N/A"},{"$error":"#N/A"},{"$error":"#N/A"},false,false,true,false,false,{"$error":"#N/A"},{"$error":"#N/A"},{"$error":"#N/A"},{"$error":"#N/A"}]
[694,{"$f":"OFFSET(InputPriceData!B$15,CalculationsAndCharts!$A726+$A$11,0,1,1)","v":"2011-02-08"},{"$f":"OFFSET(InputPriceData!G$15,CalculationsAndCharts!$A726+$A$11,0,1,1)","v":5007900},{"$f":"OFFSET(InputPriceData!C$15,CalculationsAndCharts!$A726+$A$11,IF($C$7,7,0),1,1)","v":28.01},{"$f":"OFFSET(InputPriceData!D$15,CalculationsAndCharts!$A726+$A$11,IF($C$7,7,0),1,1)","v":28.22},{"$f":"OFFSET(InputPriceData!E$15,CalculationsAndCharts!$A726+$A$11,IF($C$7,7,0),1,1)","v":27.54},{"$f":"OFFSET(InputPriceData!F$15,CalculationsAndCharts!$A726+$A$11,IF($C$7,7,0),1,1)","v":28},{"$error":"#N/A"},{"$error":"#N/A"},{"$error":"#N/A"},27.694890075566178,27.694890075566178,0.1820810757331906,-0.34389233190652535,-0.14844219347558807,-0.76232790403269413,0.68161803562170431,0.43229627974675067,null,30,27.45,0.21568627450980413,{"$error":"#N/A"},0.2,0.8,{"$error":"#N/A"},{"$error":"#N/A"},{"$error":"#N/A"},{"$error":"#N/A"},false,false,false,false,false,{"$error":"#N/A"},{"$error":"#N/A"},{"$error":"#N/A"},{"$error":"#N/A"},false,false,true,false,false,{"$error":"#N/A"},{"$error":"#N/A"},{"$error":"#N/A"},{"$error":"#N/A"}]
[695,{"$f":"OFFSET(InputPriceData!B$15,CalculationsAndCharts!$A727+$A$11,0,1,1)","v":"2011-02-07"},{"$f":"OFFSET(InputPriceData!G$15,CalculationsAndCharts!$A727+$A$11,0,1,1)","v":1487100},{"$f":"OFFSET(InputPriceData!C$15,CalculationsAndCharts!$A727+$A$11,IF($C$7,7,0),1,1)","v":27.66},{"$f":"OFFSET(InputPriceData!D$15,CalculationsAndCharts!$A727+$A$11,IF($C$7,7,0),1,1)","v":27.96},{"$f":"OFFSET(InputPriceData!E$15,CalculationsAndCharts!$A727+$A$11,IF($C$7,7,0),1,1)","v":27.33},{"$f":"OFFSET(InputPriceData!F$15,CalculationsAndCharts!$A727+$A$11,IF($C$7,7,0),1,1)","v":27.9},{"$error":"#N/A"},{"$error":"#N/A"},{"$error":"#N/A"},27.681482305777703,27.681482305777703,1.4193363491939559E-2,-0.51795473785060064,-0.14844219347558807,-0.76232790403269413,0.39807599685016765,0.41633922138376878,null,30,27.45,0.1764705882352938,{"$error":"#N/A"},0.2,0.8,{"$error":"#N/A"},{"$error":"#N/A"},{"$error":"#N/A"},{"$error":"#N/A"},false,false,false,false,false,{"$error":"#N/A"},{"$error":"#N/A"},{"$error":"#N/A"},{"$error":"#N/A"},false,false,true,false,false,{"$error":"#N/A"},{"$error":"#N/A"},{"$error":"#N/A"},{"$error":"#N/A"}]
[696,{"$f":"OFFSET(InputPriceData!B$15,CalculationsAndCharts!$A728+$A$11,0,1,1)","v":"2011-02-04"},{"$f":"OFFSET(InputPriceData!G$15,CalculationsAndCharts!$A728+$A$11,0,1,1)","v":1010200},{"$f":"OFFSET(InputPriceData!C$15,CalculationsAndCharts!$A728+$A$11,IF($C$7,7,0),1,1)","v":27.6},{"$f":"OFFSET(InputPriceData!D$15,CalculationsAndCharts!$A728+$A$11,IF($C$7,7,0),1,1)","v":27.69},{"$f":"OFFSET(InputPriceData!E$15,CalculationsAndCharts!$A728+$A$11,IF($C$7,7,0),1,1)","v":27.22},{"$f":"OFFSET(InputPriceData!F$15,CalculationsAndCharts!$A728+$A$11,IF($C$7,7,0),1,1)","v":27.47},{"$error":"#N/A"},{"$error":"#N/A"},{"$error":"#N/A"},27.814144617852179,27.814144617852179,-0.55084212462596072,-0.56198106060328945,-0.14844219347558807,-0.76232790403269413,0.32635853870517423,0.45355597495774647,null,30,27.45,7.8431372549017907E-3,{"$error":"#N/A"},0.2,0.8,{"$error":"#N/A"},{"$error":"#N/A"},{"$error":"#N/A"},{"$error":"#N/A"},false,false,false,false,false,{"$error":"#N/A"},{"$error":"#N/A"},{"$error":"#N/A"},{"$error":"#N/A"},false,false,true,false,false,{"$error":"#N/A"},{"$error":"#N/A"},{"$error":"#N/A"},{"$error":"#N/A"}]
[697,{"$f":"OFFSET(InputPriceData!B$15,CalculationsAndCharts!$A729+$A$11,0,1,1)","v":"2011-02-03"},{"$f":"OFFSET(InputPriceData!G$15,CalculationsAndCharts!$A729+$A$11,0,1,1)","v":1357000},{"$f":"OFFSET(InputPriceData!C$15,CalculationsAndCharts!$A729+$A$11,IF($C$7,7,0),1,1)","v":27.73},{"$f":"OFFSET(InputPriceData!D$15,CalculationsAndCharts!$A729+$A$11,IF($C$7,7,0),1,1)","v":27.97},{"$f":"OFFSET(InputPriceData!E$15,CalculationsAndCharts!$A729+$A$11,IF($C$7,7,0),1,1)","v":27.21},{"$f":"OFFSET(InputPriceData!F$15,CalculationsAndCharts!$A729+$A$11,IF($C$7,7,0),1,1)","v":27.45},{"$error":"#N/A"},{"$error":"#N/A"},{"$error":"#N/A"},28.057208539334951,28.057208539334951,-0.77497018953049224,-0.48829082645572869,-0.14844219347558807,-0.76232790403269413,0.44639755065853326,0.48782741697652166,null,30,27.45,0,{"$error":"#N/A"},0.2,0.8,{"$error":"#N/A"},{"$error":"#N/A"},{"$error":"#N/A"},{"$error":"#N/A"},false,false,false,false,false,{"$error":"#N/A"},{"$error":"#N/A"},{"$error":"#N/A"},{"$error":"#N/A"},false,false,true,false,false,{"$error":"#N/A"},{"$error":"#N/A"},{"$error":"#N/A"},{"$error":"#N/A"}]
[698,{"$f":"OFFSET(InputPriceData!B$15,CalculationsAndCharts!$A730+$A$11,0,1,1)","v":"2011-02-02"},{"$f":"OFFSET(InputPriceData!G$15,CalculationsAndCharts!$A730+$A$11,0,1,1)","v":5701400},{"$f":"OFFSET(InputPriceData!C$15,CalculationsAndCharts!$A730+$A$11,IF($C$7,7,0),1,1)","v":28.13},{"$f":"OFFSET(InputPriceData!D$15,CalculationsAndCharts!$A730+$A$11,IF($C$7,7,0),1,1)","v":28.37},{"$f":"OFFSET(InputPriceData!E$15,CalculationsAndCharts!$A730+$A$11,IF($C$7,7,0),1,1)","v":27.5},{"$f":"OFFSET(InputPriceData!F$15,CalculationsAndCharts!$A730+$A$11,IF($C$7,7,0),1,1)","v":27.63},{"$error":"#N/A"},{"$error":"#N/A"},{"$error":"#N/A"},28.28062279130673,28.28062279130673,-0.81754011346710043,-0.41659322324596115,-0.14844219347558807,-0.76232790403269413,0.56319063115669532,0.50871513064587925,null,30.1,27.63,0,{"$error":"#N/A"},0.2,0.8,{"$error":"#N/A"},{"$error":"#N/A"},{"$error":"#N/A"},{"$error":"#N/A"},false,false,false,false,false,{"$error":"#N/A"},{"$error":"#N/A"},{"$error":"#N/A"},{"$error":"#N/A"},false,false,true,false,false,{"$error":"#N/A"},{"$error":"#N/A"},{"$error":"#N/A"},{"$error":"#N/A"}]
[699,{"$f":"OFFSET(InputPriceData!B$15,CalculationsAndCharts!$A731+$A$11,0,1,1)","v":"2011-02-01"},{"$f":"OFFSET(InputPriceData!G$15,CalculationsAndCharts!$A731+$A$11,0,1,1)","v":2006900},{"$f":"OFFSET(InputPriceData!C$15,CalculationsAndCharts!$A731+$A$11,IF($C$7,7,0),1,1)","v":27.99},{"$f":"OFFSET(InputPriceData!D$15,CalculationsAndCharts!$A731+$A$11,IF($C$7,7,0),1,1)","v":29.18},{"$f":"OFFSET(InputPriceData!E$15,CalculationsAndCharts!$A731+$A$11,IF($C$7,7,0),1,1)","v":27.82},{"$f":"OFFSET(InputPriceData!F$15,CalculationsAndCharts!$A731+$A$11,IF($C$7,7,0),1,1)","v":28.85},{"$error":"#N/A"},{"$error":"#N/A"},{"$error":"#N/A"},28.367996734320087,28.367996734320087,0.28237532698138845,-0.47593776988512082,-0.14844219347558807,-0.76232790403269413,0.46652028092928249,0.55708698714116411,null,30.54,27.81,0.38095238095238187,{"$error":"#N/A"},0.2,0.8,{"$error":"#N/A"},{"$error":"#N/A"},{"$error":"#N/A"},{"$error":"#N/A"},false,false,false,false,false,{"$error":"#N/A"},{"$error":"#N/A"},{"$error":"#N/A"},{"$error":"#N/A"},false,false,true,false,false,{"$error":"#N/A"},{"$error":"#N/A"},{"$error":"#N/A"},{"$error":"#N/A"}]
[700,{"$f":"OFFSET(InputPriceData!B$15,CalculationsAndCharts!$A732+$A$11,0,1,1)","v":"2011-01-31"},{"$f":"OFFSET(InputPriceData!G$15,CalculationsAndCharts!$A732+$A$11,0,1,1)","v":1477000},{"$f":"OFFSET(InputPriceData!C$15,CalculationsAndCharts!$A732+$A$11,IF($C$7,7,0),1,1)","v":28.35},{"$f":"OFFSET(InputPriceData!D$15,CalculationsAndCharts!$A732+$A$11,IF($C$7,7,0),1,1)","v":28.42},{"$f":"OFFSET(InputPriceData!E$15,CalculationsAndCharts!$A732+$A$11,IF($C$7,7,0),1,1)","v":27.73},{"$f":"OFFSET(InputPriceData!F$15,CalculationsAndCharts!$A732+$A$11,IF($C$7,7,0),1,1)","v":27.81},{"$error":"#N/A"},{"$error":"#N/A"},{"$error":"#N/A"},28.501655804082066,28.501655804082066,-0.88117070162283917,-0.49199060844757037,-0.14844219347558807,-0.76232790403269413,0.44037072526055471,0.64870361460290626,null,30.67,27.81,0,{"$error":"#N/A"},0.2,0.8,{"$error":"#N/A"},{"$error":"#N/A"},{"$error":"#N/A"},{"$error":"#N/A"},false,{"$f":"AND(AD733,NOT(AF733))","v":false},false,false,false,{"$error":"#N/A"},{"$error":"#N/A"},{"$error":"#N/A"},{"$error":"#N/A"},false,false,true,false,false,{"$error":"#N/A"},{"$error":"#N/A"},{"$error":"#N/A"},{"$error":"#N/A"}]
[701,{"$f":"OFFSET(InputPriceData!B$15,CalculationsAndCharts!$A733+$A$11,0,1,1)","v":"2011-01-28"},{"$f":"OFFSET(InputPriceData!G$15,CalculationsAndCharts!$A733+$A$11,0,1,1)","v":910600},{"$f":"OFFSET(InputPriceData!C$15,CalculationsAndCharts!$A733+$A$11,IF($C$7,7,0),1,1)","v":28.68},{"$f":"OFFSET(InputPriceData!D$15,CalculationsAndCharts!$A733+$A$11,IF($C$7,7,0),1,1)","v":28.83},{"$f":"OFFSET(InputPriceData!E$15,CalculationsAndCharts!$A733+$A$11,IF($C$7,7,0),1,1)","v":28.31},{"$f":"OFFSET(InputPriceData!F$15,CalculationsAndCharts!$A733+$A$11,IF($C$7,7,0),1,1)","v":28.4},{"$error":"#N/A"},{"$f":"IF($A733=$E$25,I$32,NA())","v":{"$error":"#N/A"}},{"$error":"#N/A"},28.720979367486102,28.720979367486102,-0.48123064941704485,-0.41248779522473555,-0.14844219347558807,-0.76232790403269413,0.56987824083814553,0.75128158926407274,null,30.67,28.4,0,{"$error":"#N/A"},0.2,0.8,{"$error":"#N/A"},{"$error":"#N/A"},{"$error":"#N/A"},{"$error":"#N/A"},false,false,false,false,false,{"$error":"#N/A"},{"$error":"#N/A"},{"$error":"#N/A"},{"$error":"#N/A"},false,false,true,false,false,{"$error":"#N/A"},{"$error":"#N/A"},{"$error":"#N/A"},{"$error":"#N/A"}]
[702,{"$f":"OFFSET(InputPriceData!B$15,CalculationsAndCharts!$A734+$A$11,0,1,1)","v":"2011-01-27"},{"$f":"OFFSET(InputPriceData!G$15,CalculationsAndCharts!$A734+$A$11,0,1,1)","v":876500},{"$f":"OFFSET(InputPriceData!C$15,CalculationsAndCharts!$A734+$A$11,IF($C$7,7,0),1,1)","v":28.69},{"$f":"OFFSET(InputPriceData!D$15,CalculationsAndCharts!$A734+$A$11,IF($C$7,7,0),1,1)","v":28.9},{"$f":"OFFSET(InputPriceData!E$15,CalculationsAndCharts!$A734+$A$11,IF($C$7,7,0),1,1)","v":28.53},{"$f":"OFFSET(InputPriceData!F$15,CalculationsAndCharts!$A734+$A$11,IF($C$7,7,0),1,1)","v":28.67},{"$error":"#N/A"},{"$error":"#N/A"},{"$error":"#N/A"},28.875120148775068,28.875120148775068,-0.34713479925787355,-0.38457085667232105,-0.14844219347558807,-0.76232790403269413,0.61535403229626506,0.84918415271091008,null,30.67,28.67,0,{"$error":"#N/A"},0.2,0.8,{"$error":"#N/A"},{"$error":"#N/A"},{"$error":"#N/A"},{"$error":"#N/A"},false,false,false,false,false,{"$error":"#N/A"},{"$error":"#N/A"},{"$error":"#N/A"},{"$error":"#N/A"},false,false,true,false,false,{"$error":"#N/A"},{"$error":"#N/A"},{"$error":"#N/A"},{"$error":"#N/A"}]
[703,{"$f":"OFFSET(InputPriceData!B$15,CalculationsAndCharts!$A735+$A$11,0,1,1)","v":"2011-01-26"},{"$f":"OFFSET(InputPriceData!G$15,CalculationsAndCharts!$A735+$A$11,0,1,1)","v":4809300},{"$f":"OFFSET(InputPriceData!C$15,CalculationsAndCharts!$A735+$A$11,IF($C$7,7,0),1,1)","v":28.83},{"$f":"OFFSET(InputPriceData!D$15,CalculationsAndCharts!$A735+$A$11,IF($C$7,7,0),1,1)","v":29},{"$f":"OFFSET(InputPriceData!E$15,CalculationsAndCharts!$A735+$A$11,IF($C$7,7,0),1,1)","v":28.5},{"$f":"OFFSET(InputPriceData!F$15,CalculationsAndCharts!$A735+$A$11,IF($C$7,7,0),1,1)","v":28.75},{"$error":"#N/A"},{"$error":"#N/A"},{"$error":"#N/A"},29.04055908977422,29.04055908977422,-0.3913556943524335,-0.33492018309435889,-0.14844219347558807,-0.76232790403269413,0.6962333763241686,0.92931174325007793,null,30.79,28.7,2.3923444976076895E-2,{"$error":"#N/A"},0.2,0.8,{"$error":"#N/A"},{"$error":"#N/A"},{"$error":"#N/A"},{"$error":"#N/A"},false,false,false,false,false,{"$error":"#N/A"},{"$error":"#N/A"},{"$error":"#N/A"},{"$error":"#N/A"},false,false,true,false,false,{"$error":"#N/A"},{"$error":"#N/A"},{"$error":"#N/A"},{"$error":"#N/A"}]
[704,{"$f":"OFFSET(InputPriceData!B$15,CalculationsAndCharts!$A736+$A$11,0,1,1)","v":"2011-01-25"},{"$f":"OFFSET(InputPriceData!G$15,CalculationsAndCharts!$A736+$A$11,0,1,1)","v":2213700},{"$f":"OFFSET(InputPriceData!C$15,CalculationsAndCharts!$A736+$A$11,IF($C$7,7,0),1,1)","v":28.85},{"$f":"OFFSET(InputPriceData!D$15,CalculationsAndCharts!$A736+$A$11,IF($C$7,7,0),1,1)","v":29.1},{"$f":"OFFSET(InputPriceData!E$15,CalculationsAndCharts!$A736+$A$11,IF($C$7,7,0),1,1)","v":28.21},{"$f":"OFFSET(InputPriceData!F$15,CalculationsAndCharts!$A736+$A$11,IF($C$7,7,0),1,1)","v":28.7},{"$error":"#N/A"},{"$error":"#N/A"},{"$error":"#N/A"},29.239352095803827,29.239352095803827,-0.58382218620019155,-0.23532822754417926,-0.14844219347558807,-0.76232790403269413,0.8584654560704118,0.95579035736767193,null,30.79,28.7,0,{"$error":"#N/A"},0.2,0.8,{"$error":"#N/A"},{"$error":"#N/A"},{"$error":"#N/A"},{"$error":"#N/A"},false,false,false,false,false,{"$error":"#N/A"},{"$error":"#N/A"},{"$error":"#N/A"},{"$error":"#N/A"},false,false,true,false,false,{"$error":"#N/A"},{"$error":"#N/A"},{"$error":"#N/A"},{"$error":"#N/A"}]
[705,{"$f":"OFFSET(InputPriceData!B$15,CalculationsAndCharts!$A737+$A$11,0,1,1)","v":"2011-01-24"},{"$f":"OFFSET(InputPriceData!G$15,CalculationsAndCharts!$A737+$A$11,0,1,1)","v":1674300},{"$f":"OFFSET(InputPriceData!C$15,CalculationsAndCharts!$A737+$A$11,IF($C$7,7,0),1,1)","v":29.48},{"$f":"OFFSET(InputPriceData!D$15,CalculationsAndCharts!$A737+$A$11,IF($C$7,7,0),1,1)","v":29.49},{"$f":"OFFSET(InputPriceData!E$15,CalculationsAndCharts!$A737+$A$11,IF($C$7,7,0),1,1)","v":28.98},{"$f":"OFFSET(InputPriceData!F$15,CalculationsAndCharts!$A737+$A$11,IF($C$7,7,0),1,1)","v":29},{"$f":"IF($A737=$E$25,H$32,NA())","v":{"$error":"#N/A"}},{"$error":"#N/A"},{"$error":"#N/A"},{"$f":"$F$16*(G737+G738)/2+$F$17*K738+$F$18*K739","v":29.406123385484257},29.406123385484257,{"$f":"$D$21*(G737 - 2*G738 + G739) + $D$20*M738 - $F$20*M739","v":-0.42516530450220713},-0.14844219347558807,-0.14844219347558807,-0.76232790403269413,{"$f":"IFERROR(IF($A737>$A$8,0,(N737-P737)/(O737-P737)),1)","v":1},{"$f":"IF($A737>$A$8,0,$F$16*(Q737+Q738)/2+$F$17*R738+$F$18*R739)","v":0.91034606362327364},null,{"$f":"MAX(OFFSET(G737,0,0,$A$22,1))","v":30.79},{"$f":"MIN(OFFSET(G737,0,0,$A$22,1))","v":28.7},{"$f":"IFERROR(IF($A737>$A$8,0,(G737-U737)/(T737-U737)),1)","v":0.14354066985645969},{"$error":"#N/A"},0.2,0.8,{"$f":"IF($S$7,AI737,NA())","v":{"$error":"#N/A"}},{"$f":"IF($S$7,AJ737,NA())","v":{"$error":"#N/A"}},{"$f":"IF($S$7,IF(AD737,R737,NA()),NA())","v":{"$error":"#N/A"}},{"$f":"IF($S$7,IF(AG737,R737,NA()),NA())","v":{"$error":"#N/A"}},{"$f":"IF(AND(R738>$X$32,R737<$X$32),TRUE,FALSE)","v":false},false,false,{"$f":"IF(AND(AF737,R738<$Y$32,R737>$Y$32),TRUE,FALSE)","v":false},false,{"$f":"IF(AE737,D737,NA())","v":{"$error":"#N/A"}},{"$f":"IF(AH737,D737,NA())","v":{"$error":"#N/A"}},{"$f":"IF($S$7,AI737,NA())","v":{"$error":"#N/A"}},{"$f":"IF($S$7,AJ737,NA())","v":{"$error":"#N/A"}},{"$f":"IF(AND(R738<$Y$32,R737>$Y$32),TRUE,FALSE)","v":false},false,true,{"$f":"IF(AND(AO738,R738>$X$32,R737<$X$32),TRUE,FALSE)","v":false},false,{"$f":"IF(AN737,D737,NA())","v":{"$error":"#N/A"}},{"$f":"IF(AQ737,D737,NA())","v":{"$error":"#N/A"}},{"$error":"#N/A"},{"$error":"#N/A"}]
[706,{"$f":"OFFSET(InputPriceData!B$15,CalculationsAndCharts!$A738+$A$11,0,1,1)","v":"2011-01-21"},{"$f":"OFFSET(InputPriceData!G$15,CalculationsAndCharts!$A738+$A$11,0,1,1)","v":7111200},{"$f":"OFFSET(InputPriceData!C$15,CalculationsAndCharts!$A738+$A$11,IF($C$7,7,0),1,1)","v":29.66},{"$f":"OFFSET(InputPriceData!D$15,CalculationsAndCharts!$A738+$A$11,IF($C$7,7,0),1,1)","v":29.72},{"$f":"OFFSET(InputPriceData!E$15,CalculationsAndCharts!$A738+$A$11,IF($C$7,7,0),1,1)","v":29.22},{"$f":"OFFSET(InputPriceData!F$15,CalculationsAndCharts!$A738+$A$11,IF($C$7,7,0),1,1)","v":29.41},{"$error":"#N/A"},{"$error":"#N/A"},{"$error":"#N/A"},29.469330626774799,{"$f":"IF($S$5,K738,NA())","v":29.469330626774799},-0.10924758475720886,{"$f":"$F$16*(M738+M739)/2+$F$17*N739+$F$18*N740","v":-0.15632735910583559},{"$f":"MAX(OFFSET(N738,0,0,$A$22,1))","v":-0.15632735910583559},-0.76232790403269413,1,0.81147956552477551,null,30.81,28.7,0.33649289099526114,{"$f":"IF($S$18,V738,NA())","v":{"$error":"#N/A"}},{"$f":"$X$32","v":0.2},{"$f":"$Y$32","v":0.8},{"$error":"#N/A"},{"$error":"#N/A"},{"$error":"#N/A"},{"$error":"#N/A"},false,false,{"$f":"IF(AF739,IF(AH739,FALSE,AF739),IF(AE738,TRUE,AF739))","v":false},false,false,{"$error":"#N/A"},{"$error":"#N/A"},{"$error":"#N/A"},{"$error":"#N/A"},true,false,{"$f":"IF(AO739,IF(AP739,FALSE,AO739),IF(AN738,TRUE,AO739))","v":true},false,false,{"$error":"#N/A"},{"$error":"#N/A"},{"$f":"IF($S$5,AR738,NA())","v":{"$error":"#N/A"}},{"$error":"#N/A"}]
[707,{"$f":"OFFSET(InputPriceData!B$15,CalculationsAndCharts!$A739+$A$11,0,1,1)","v":"2011-01-20"},{"$f":"OFFSET(InputPriceData!G$15,CalculationsAndCharts!$A739+$A$11,0,1,1)","v":1055900},{"$f":"OFFSET(InputPriceData!C$15,CalculationsAndCharts!$A739+$A$11,IF($C$7,7,0),1,1)","v":29.32},{"$f":"OFFSET(InputPriceData!D$15,CalculationsAndCharts!$A739+$A$11,IF($C$7,7,0),1,1)","v":29.72},{"$f":"OFFSET(InputPriceData!E$15,CalculationsAndCharts!$A739+$A$11,IF($C$7,7,0),1,1)","v":29.12},{"$f":"OFFSET(InputPriceData!F$15,CalculationsAndCharts!$A739+$A$11,IF($C$7,7,0),1,1)","v":29.48},{"$error":"#N/A"},{"$error":"#N/A"},{"$error":"#N/A"},29.460324614056319,29.460324614056319,-0.10178223031120268,-0.24374018453513421,-0.24374018453513421,-0.76232790403269413,1,0.68712795476073718,null,31.09,28.7,0.32635983263598367,{"$error":"#N/A"},0.2,0.8,{"$error":"#N/A"},{"$error":"#N/A"},{"$error":"#N/A"},{"$error":"#N/A"},false,false,false,false,false,{"$error":"#N/A"},{"$error":"#N/A"},{"$error":"#N/A"},{"$error":"#N/A"},false,false,true,false,false,{"$error":"#N/A"},{"$error":"#N/A"},{"$error":"#N/A"},{"$error":"#N/A"}]
[708,{"$f":"OFFSET(InputPriceData!B$15,CalculationsAndCharts!$A740+$A$11,0,1,1)","v":"2011-01-19"},{"$f":"OFFSET(InputPriceData!G$15,CalculationsAndCharts!$A740+$A$11,0,1,1)","v":2289100},{"$f":"OFFSET(InputPriceData!C$15,CalculationsAndCharts!$A740+$A$11,IF($C$7,7,0),1,1)","v":30.08},{"$f":"OFFSET(InputPriceData!D$15,CalculationsAndCharts!$A740+$A$11,IF($C$7,7,0),1,1)","v":30.15},{"$f":"OFFSET(InputPriceData!E$15,CalculationsAndCharts!$A740+$A$11,IF($C$7,7,0),1,1)","v":29.16},{"$f":"OFFSET(InputPriceData!F$15,CalculationsAndCharts!$A740+$A$11,IF($C$7,7,0),1,1)","v":29.33},{"$error":"#N/A"},{"$error":"#N/A"},{"$error":"#N/A"},29.428996311648397,29.428996311648397,-0.33371937249563099,-0.37119856104439486,-0.34572890175305326,-0.76232790403269413,0.93886288936850315,0.57734651124688829,null,31.3,28.7,0.24230769230769178,{"$error":"#N/A"},0.2,0.8,{"$error":"#N/A"},{"$error":"#N/A"},{"$error":"#N/A"},{"$error":"#N/A"},false,false,false,false,false,{"$error":"#N/A"},{"$error":"#N/A"},{"$error":"#N/A"},{"$error":"#N/A"},false,false,true,false,false,{"$error":"#N/A"},{"$error":"#N/A"},{"$error":"#N/A"},{"$error":"#N/A"}]
[709,{"$f":"OFFSET(InputPriceData!B$15,CalculationsAndCharts!$A741+$A$11,0,1,1)","v":"2011-01-18"},{"$f":"OFFSET(InputPriceData!G$15,CalculationsAndCharts!$A741+$A$11,0,1,1)","v":1701300},{"$f":"OFFSET(InputPriceData!C$15,CalculationsAndCharts!$A741+$A$11,IF($C$7,7,0),1,1)","v":29.41},{"$f":"OFFSET(InputPriceData!D$15,CalculationsAndCharts!$A741+$A$11,IF($C$7,7,0),1,1)","v":30.17},{"$f":"OFFSET(InputPriceData!E$15,CalculationsAndCharts!$A741+$A$11,IF($C$7,7,0),1,1)","v":29.4},{"$f":"OFFSET(InputPriceData!F$15,CalculationsAndCharts!$A741+$A$11,IF($C$7,7,0),1,1)","v":30},{"$error":"#N/A"},{"$error":"#N/A"},{"$error":"#N/A"},29.338057923802133,29.338057923802133,0.29181947266476915,-0.58665241519711131,-0.34572890175305326,-0.8947526973607538,0.5611783762898912,0.55174220349240177,null,31.3,28.7,0.5,{"$error":"#N/A"},0.2,0.8,{"$error":"#N/A"},{"$error":"#N/A"},{"$error":"#N/A"},{"$error":"#N/A"},false,false,false,false,false,{"$error":"#N/A"},{"$error":"#N/A"},{"$error":"#N/A"},{"$error":"#N/A"},false,false,true,false,false,{"$error":"#N/A"},{"$error":"#N/A"},{"$error":"#N/A"},{"$error":"#N/A"}]
[710,{"$f":"OFFSET(InputPriceData!B$15,CalculationsAndCharts!$A742+$A$11,0,1,1)","v":"2011-01-14"},{"$f":"OFFSET(InputPriceData!G$15,CalculationsAndCharts!$A742+$A$11,0,1,1)","v":2040100},{"$f":"OFFSET(InputPriceData!C$15,CalculationsAndCharts!$A742+$A$11,IF($C$7,7,0),1,1)","v":28.88},{"$f":"OFFSET(InputPriceData!D$15,CalculationsAndCharts!$A742+$A$11,IF($C$7,7,0),1,1)","v":29.54},{"$f":"OFFSET(InputPriceData!E$15,CalculationsAndCharts!$A742+$A$11,IF($C$7,7,0),1,1)","v":28.77},{"$f":"OFFSET(InputPriceData!F$15,CalculationsAndCharts!$A742+$A$11,IF($C$7,7,0),1,1)","v":29.46},{"$error":"#N/A"},{"$error":"#N/A"},{"$error":"#N/A"},29.318174813993366,29.318174813993366,-0.28835826849519552,-0.76232790403269413,-0.34572890175305326,-1.0608986915211784,0.41748238217009692,0.61152135494004534,null,31.3,28.7,0.29230769230769277,{"$error":"#N/A"},0.2,0.8,{"$error":"#N/A"},{"$error":"#N/A"},{"$error":"#N/A"},{"$error":"#N/A"},false,false,false,false,false,{"$error":"#N/A"},{"$error":"#N/A"},{"$error":"#N/A"},{"$error":"#N/A"},false,false,true,false,false,{"$error":"#N/A"},{"$error":"#N/A"},{"$error":"#N/A"},{"$error":"#N/A"}]
[711,{"$f":"OFFSET(InputPriceData!B$15,CalculationsAndCharts!$A743+$A$11,0,1,1)","v":"2011-01-13"},{"$f":"OFFSET(InputPriceData!G$15,CalculationsAndCharts!$A743+$A$11,0,1,1)","v":1470100},{"$f":"OFFSET(InputPriceData!C$15,CalculationsAndCharts!$A743+$A$11,IF($C$7,7,0),1,1)","v":29.5},{"$f":"OFFSET(InputPriceData!D$15,CalculationsAndCharts!$A743+$A$11,IF($C$7,7,0),1,1)","v":29.52},{"$f":"OFFSET(InputPriceData!E$15,CalculationsAndCharts!$A743+$A$11,IF($C$7,7,0),1,1)","v":28.59},{"$f":"OFFSET(InputPriceData!F$15,CalculationsAndCharts!$A743+$A$11,IF($C$7,7,0),1,1)","v":28.7},{"$error":"#N/A"},{"$error":"#N/A"},{"$error":"#N/A"},29.52329300480006,29.52329300480006,-1.2258514093446058,-0.71920910859240084,-0.34572890175305326,-1.1753712547440065,0.54982986886709706,0.68166135967903096,null,31.3,28.7,0,{"$error":"#N/A"},0.2,0.8,{"$error":"#N/A"},{"$error":"#N/A"},{"$error":"#N/A"},{"$error":"#N/A"},false,false,false,false,false,{"$error":"#N/A"},{"$error":"#N/A"},{"$error":"#N/A"},{"$error":"#N/A"},false,false,true,false,false,{"$error":"#N/A"},{"$error":"#N/A"},{"$error":"#N/A"},{"$error":"#N/A"}]
[712,{"$f":"OFFSET(InputPriceData!B$15,CalculationsAndCharts!$A744+$A$11,0,1,1)","v":"2011-01-12"},{"$f":"OFFSET(InputPriceData!G$15,CalculationsAndCharts!$A744+$A$11,0,1,1)","v":706700},{"$f":"OFFSET(InputPriceData!C$15,CalculationsAndCharts!$A744+$A$11,IF($C$7,7,0),1,1)","v":29.61},{"$f":"OFFSET(InputPriceData!D$15,CalculationsAndCharts!$A744+$A$11,IF($C$7,7,0),1,1)","v":29.75},{"$f":"OFFSET(InputPriceData!E$15,CalculationsAndCharts!$A744+$A$11,IF($C$7,7,0),1,1)","v":29.36},{"$f":"OFFSET(InputPriceData!F$15,CalculationsAndCharts!$A744+$A$11,IF($C$7,7,0),1,1)","v":29.46},{"$error":"#N/A"},{"$error":"#N/A"},{"$error":"#N/A"},29.749176779834038,29.749176779834038,-0.67151417297453764,-0.63769594767524462,-0.34572890175305326,{"$f":"MIN(OFFSET(N744,0,0,$A$22,1))","v":-1.2349132305166066},0.67164620824100296,0.73033167288691048,null,31.3,29.46,0,{"$error":"#N/A"},0.2,0.8,{"$error":"#N/A"},{"$error":"#N/A"},{"$error":"#N/A"},{"$error":"#N/A"},false,false,false,false,false,{"$error":"#N/A"},{"$error":"#N/A"},{"$error":"#N/A"},{"$error":"#N/A"},false,false,true,false,false,{"$error":"#N/A"},{"$error":"#N/A"},{"$error":"#N/A"},{"$error":"#N/A"}]
[713,{"$f":"OFFSET(InputPriceData!B$15,CalculationsAndCharts!$A745+$A$11,0,1,1)","v":"2011-01-11"},{"$f":"OFFSET(InputPriceData!G$15,CalculationsAndCharts!$A745+$A$11,0,1,1)","v":943000},{"$f":"OFFSET(InputPriceData!C$15,CalculationsAndCharts!$A745+$A$11,IF($C$7,7,0),1,1)","v":29.99},{"$f":"OFFSET(InputPriceData!D$15,CalculationsAndCharts!$A745+$A$11,IF($C$7,7,0),1,1)","v":30.06},{"$f":"OFFSET(InputPriceData!E$15,CalculationsAndCharts!$A745+$A$11,IF($C$7,7,0),1,1)","v":29.47},{"$f":"OFFSET(InputPriceData!F$15,CalculationsAndCharts!$A745+$A$11,IF($C$7,7,0),1,1)","v":29.59},{"$error":"#N/A"},{"$error":"#N/A"},{"$error":"#N/A"},29.886526924987031,29.886526924987031,-0.69061866369455605,-0.63090898686450636,-0.34572890175305326,-1.2420335552450115,0.68182683867543725,0.77506089127258804,null,31.3,29.59,0,{"$error":"#N/A"},0.2,0.8,{"$error":"#N/A"},{"$error":"#N/A"},{"$error":"#N/A"},{"$error":"#N/A"},false,false,false,false,false,{"$error":"#N/A"},{"$error":"#N/A"},{"$error":"#N/A"},{"$error":"#N/A"},false,false,true,false,false,{"$error":"#N/A"},{"$error":"#N/A"},{"$error":"#N/A"},{"$error":"#N/A"}]
[714,{"$f":"OFFSET(InputPriceData!B$15,CalculationsAndCharts!$A746+$A$11,0,1,1)","v":"2011-01-10"},{"$f":"OFFSET(InputPriceData!G$15,CalculationsAndCharts!$A746+$A$11,0,1,1)","v":969200},{"$f":"OFFSET(InputPriceData!C$15,CalculationsAndCharts!$A746+$A$11,IF($C$7,7,0),1,1)","v":29.85},{"$f":"OFFSET(InputPriceData!D$15,CalculationsAndCharts!$A746+$A$11,IF($C$7,7,0),1,1)","v":30.3},{"$f":"OFFSET(InputPriceData!E$15,CalculationsAndCharts!$A746+$A$11,IF($C$7,7,0),1,1)","v":29.74},{"$f":"OFFSET(InputPriceData!F$15,CalculationsAndCharts!$A746+$A$11,IF($C$7,7,0),1,1)","v":30},{"$error":"#N/A"},{"$error":"#N/A"},{"$error":"#N/A"},29.997967204117597,29.997967204117597,-0.39925050218030089,-0.64527734122794311,-0.34572890175305326,-1.27012861258055,0.67595355562504178,0.82329829850490399,null,31.3,29.8,0.13333333333333286,{"$error":"#N/A"},0.2,0.8,{"$error":"#N/A"},{"$error":"#N/A"},{"$error":"#N/A"},{"$error":"#N/A"},false,false,false,false,false,{"$error":"#N/A"},{"$error":"#N/A"},{"$error":"#N/A"},{"$error":"#N/A"},false,false,true,false,false,{"$error":"#N/A"},{"$error":"#N/A"},{"$error":"#N/A"},{"$error":"#N/A"}]
[715,{"$f":"OFFSET(InputPriceData!B$15,CalculationsAndCharts!$A747+$A$11,0,1,1)","v":"2011-01-07"},{"$f":"OFFSET(InputPriceData!G$15,CalculationsAndCharts!$A747+$A$11,0,1,1)","v":1687600},{"$f":"OFFSET(InputPriceData!C$15,CalculationsAndCharts!$A747+$A$11,IF($C$7,7,0),1,1)","v":30.2},{"$f":"OFFSET(InputPriceData!D$15,CalculationsAndCharts!$A747+$A$11,IF($C$7,7,0),1,1)","v":30.49},{"$f":"OFFSET(InputPriceData!E$15,CalculationsAndCharts!$A747+$A$11,IF($C$7,7,0),1,1)","v":29.6},{"$f":"OFFSET(InputPriceData!F$15,CalculationsAndCharts!$A747+$A$11,IF($C$7,7,0),1,1)","v":29.83},{"$error":"#N/A"},{"$error":"#N/A"},{"$error":"#N/A"},30.143998556926217,30.143998556926217,-0.68247135668264081,-0.61845499848533536,-0.34572890175305326,-1.2750976043506093,0.70654693237460942,0.85170273551483366,null,31.3,29.8,1.9999999999998391E-2,{"$error":"#N/A"},0.2,0.8,{"$error":"#N/A"},30.2,{"$error":"#N/A"},{"$error":"#N/A"},false,false,true,false,true,{"$error":"#N/A"},30.2,{"$error":"#N/A"},30.2,false,true,true,false,false,30.2,{"$error":"#N/A"},30.2,{"$error":"#N/A"}]
[716,{"$f":"OFFSET(InputPriceData!B$15,CalculationsAndCharts!$A748+$A$11,0,1,1)","v":"2011-01-06"},{"$f":"OFFSET(InputPriceData!G$15,CalculationsAndCharts!$A748+$A$11,0,1,1)","v":2272100},{"$f":"OFFSET(InputPriceData!C$15,CalculationsAndCharts!$A748+$A$11,IF($C$7,7,0),1,1)","v":29.74},{"$f":"OFFSET(InputPriceData!D$15,CalculationsAndCharts!$A748+$A$11,IF($C$7,7,0),1,1)","v":29.87},{"$f":"OFFSET(InputPriceData!E$15,CalculationsAndCharts!$A748+$A$11,IF($C$7,7,0),1,1)","v":29.29},{"$f":"OFFSET(InputPriceData!F$15,CalculationsAndCharts!$A748+$A$11,IF($C$7,7,0),1,1)","v":29.8},{"$error":"#N/A"},{"$error":"#N/A"},{"$error":"#N/A"},30.358111313911284,30.358111313911284,-0.86300846391625785,-0.50548499877417274,-0.34572890175305326,-1.2750976043506093,0.82810256405815441,0.8220118874483463,null,31.3,29.8,0,{"$error":"#N/A"},0.2,0.8,{"$error":"#N/A"},{"$error":"#N/A"},{"$error":"#N/A"},0.8220118874483463,false,false,true,true,false,{"$error":"#N/A"},{"$error":"#N/A"},{"$error":"#N/A"},{"$error":"#N/A"},true,false,false,false,false,{"$error":"#N/A"},{"$error":"#N/A"},{"$error":"#N/A"},{"$error":"#N/A"}]
[717,{"$f":"OFFSET(InputPriceData!B$15,CalculationsAndCharts!$A749+$A$11,0,1,1)","v":"2011-01-05"},{"$f":"OFFSET(InputPriceData!G$15,CalculationsAndCharts!$A749+$A$11,0,1,1)","v":2831200},{"$f":"OFFSET(InputPriceData!C$15,CalculationsAndCharts!$A749+$A$11,IF($C$7,7,0),1,1)","v":29.94},{"$f":"OFFSET(InputPriceData!D$15,CalculationsAndCharts!$A749+$A$11,IF($C$7,7,0),1,1)","v":30.19},{"$f":"OFFSET(InputPriceData!E$15,CalculationsAndCharts!$A749+$A$11,IF($C$7,7,0),1,1)","v":29.01},{"$f":"OFFSET(InputPriceData!F$15,CalculationsAndCharts!$A749+$A$11,IF($C$7,7,0),1,1)","v":30.1},{"$error":"#N/A"},{"$error":"#N/A"},{"$error":"#N/A"},30.54443002770104,30.54443002770104,-0.70934936475251931,-0.39530070646772353,-0.34572890175305326,-1.2750976043506093,0.94666077674434412,0.71616581556373227,null,31.3,30.1,0,{"$error":"#N/A"},0.2,0.8,{"$error":"#N/A"},{"$error":"#N/A"},{"$error":"#N/A"},{"$error":"#N/A"},false,false,true,false,false,{"$error":"#N/A"},{"$error":"#N/A"},{"$error":"#N/A"},{"$error":"#N/A"},false,false,false,false,false,{"$error":"#N/A"},{"$error":"#N/A"},{"$error":"#N/A"},{"$error":"#N/A"}]
[718,{"$f":"OFFSET(InputPriceData!B$15,CalculationsAndCharts!$A750+$A$11,0,1,1)","v":"2011-01-04"},{"$f":"OFFSET(InputPriceData!G$15,CalculationsAndCharts!$A750+$A$11,0,1,1)","v":1282700},{"$f":"OFFSET(InputPriceData!C$15,CalculationsAndCharts!$A750+$A$11,IF($C$7,7,0),1,1)","v":30.85},{"$f":"OFFSET(InputPriceData!D$15,CalculationsAndCharts!$A750+$A$11,IF($C$7,7,0),1,1)","v":30.99},{"$f":"OFFSET(InputPriceData!E$15,CalculationsAndCharts!$A750+$A$11,IF($C$7,7,0),1,1)","v":30.23},{"$f":"OFFSET(InputPriceData!F$15,CalculationsAndCharts!$A750+$A$11,IF($C$7,7,0),1,1)","v":30.54},{"$error":"#N/A"},{"$error":"#N/A"},{"$error":"#N/A"},30.631587564501686,30.631587564501686,-0.36378332540533947,-0.36797424934649647,-0.34572890175305326,-1.2750976043506093,0.97606402331898179,0.56419427608449735,null,31.6,30.5,3.6363636363635543E-2,{"$error":"#N/A"},0.2,0.8,{"$error":"#N/A"},{"$error":"#N/A"},{"$error":"#N/A"},{"$error":"#N/A"},false,false,true,false,false,{"$error":"#N/A"},{"$error":"#N/A"},{"$error":"#N/A"},{"$error":"#N/A"},false,false,false,false,false,{"$error":"#N/A"},{"$error":"#N/A"},{"$error":"#N/A"},{"$error":"#N/A"}]
[719,{"$f":"OFFSET(InputPriceData!B$15,CalculationsAndCharts!$A751+$A$11,0,1,1)","v":"2011-01-03"},{"$f":"OFFSET(InputPriceData!G$15,CalculationsAndCharts!$A751+$A$11,0,1,1)","v":800500},{"$f":"OFFSET(InputPriceData!C$15,CalculationsAndCharts!$A751+$A$11,IF($C$7,7,0),1,1)","v":31},{"$f":"OFFSET(InputPriceData!D$15,CalculationsAndCharts!$A751+$A$11,IF($C$7,7,0),1,1)","v":31},{"$f":"OFFSET(InputPriceData!E$15,CalculationsAndCharts!$A751+$A$11,IF($C$7,7,0),1,1)","v":30.55},{"$f":"OFFSET(InputPriceData!F$15,CalculationsAndCharts!$A751+$A$11,IF($C$7,7,0),1,1)","v":30.67},{"$error":"#N/A"},{"$error":"#N/A"},{"$error":"#N/A"},30.651728191874078,30.651728191874078,-0.28524752768759576,-0.40529560815936533,6.1781821357666966E-2,-1.2750976043506093,0.650621125185186,0.43914007793112286,null,31.6,30.5,0.1545454545454559,{"$error":"#N/A"},0.2,0.8,{"$error":"#N/A"},{"$error":"#N/A"},{"$error":"#N/A"},{"$error":"#N/A"},false,false,true,false,false,{"$error":"#N/A"},{"$error":"#N/A"},{"$error":"#N/A"},{"$error":"#N/A"},false,false,false,false,false,{"$error":"#N/A"},{"$error":"#N/A"},{"$error":"#N/A"},{"$error":"#N/A"}]
[720,{"$f":"OFFSET(InputPriceData!B$15,CalculationsAndCharts!$A752+$A$11,0,1,1)","v":"2010-12-31"},{"$f":"OFFSET(InputPriceData!G$15,CalculationsAndCharts!$A752+$A$11,0,1,1)","v":572400},{"$f":"OFFSET(InputPriceData!C$15,CalculationsAndCharts!$A752+$A$11,IF($C$7,7,0),1,1)","v":30.61},{"$f":"OFFSET(InputPriceData!D$15,CalculationsAndCharts!$A752+$A$11,IF($C$7,7,0),1,1)","v":30.84},{"$f":"OFFSET(InputPriceData!E$15,CalculationsAndCharts!$A752+$A$11,IF($C$7,7,0),1,1)","v":30.34},{"$f":"OFFSET(InputPriceData!F$15,CalculationsAndCharts!$A752+$A$11,IF($C$7,7,0),1,1)","v":30.67},{"$error":"#N/A"},{"$error":"#N/A"},{"$error":"#N/A"},30.671937662118992,30.671937662118992,-0.33095878686481417,-0.44631970071457422,0.37287761621174764,-1.2750976043506093,0.50290677511110993,0.36539667063888692,null,33.43,30.5,5.8020477815700244E-2,{"$error":"#N/A"},0.2,0.8,{"$error":"#N/A"},{"$error":"#N/A"},{"$error":"#N/A"},{"$error":"#N/A"},false,false,true,false,false,{"$error":"#N/A"},{"$error":"#N/A"},{"$error":"#N/A"},{"$error":"#N/A"},false,false,false,false,false,{"$error":"#N/A"},{"$error":"#N/A"},{"$error":"#N/A"},{"$error":"#N/A"}]
[721,{"$f":"OFFSET(InputPriceData!B$15,CalculationsAndCharts!$A753+$A$11,0,1,1)","v":"2010-12-30"},{"$f":"OFFSET(InputPriceData!G$15,CalculationsAndCharts!$A753+$A$11,0,1,1)","v":2938300},{"$f":"OFFSET(InputPriceData!C$15,CalculationsAndCharts!$A753+$A$11,IF($C$7,7,0),1,1)","v":30.75},{"$f":"OFFSET(InputPriceData!D$15,CalculationsAndCharts!$A753+$A$11,IF($C$7,7,0),1,1)","v":30.9},{"$f":"OFFSET(InputPriceData!E$15,CalculationsAndCharts!$A753+$A$11,IF($C$7,7,0),1,1)","v":30.31},{"$f":"OFFSET(InputPriceData!F$15,CalculationsAndCharts!$A753+$A$11,IF($C$7,7,0),1,1)","v":30.58},{"$error":"#N/A"},{"$f":"IF($A753=$E$25,I$32,NA())","v":{"$error":"#N/A"}},{"$error":"#N/A"},30.71988116362137,30.71988116362137,-0.4818100454106013,-0.46099677136797118,0.69642688401674835,-1.2750976043506093,0.41292960741096568,0.31618903460304354,null,33.43,30.5,2.7303754266211025E-2,{"$error":"#N/A"},0.2,0.8,{"$error":"#N/A"},{"$error":"#N/A"},{"$error":"#N/A"},{"$error":"#N/A"},false,false,true,false,false,{"$error":"#N/A"},{"$error":"#N/A"},{"$error":"#N/A"},{"$error":"#N/A"},false,false,false,false,false,{"$error":"#N/A"},{"$error":"#N/A"},{"$error":"#N/A"},{"$error":"#N/A"}]
[722,{"$f":"OFFSET(InputPriceData!B$15,CalculationsAndCharts!$A754+$A$11,0,1,1)","v":"2010-12-29"},{"$f":"OFFSET(InputPriceData!G$15,CalculationsAndCharts!$A754+$A$11,0,1,1)","v":439600},{"$f":"OFFSET(InputPriceData!C$15,CalculationsAndCharts!$A754+$A$11,IF($C$7,7,0),1,1)","v":30.68},{"$f":"OFFSET(InputPriceData!D$15,CalculationsAndCharts!$A754+$A$11,IF($C$7,7,0),1,1)","v":30.83},{"$f":"OFFSET(InputPriceData!E$15,CalculationsAndCharts!$A754+$A$11,IF($C$7,7,0),1,1)","v":30.52},{"$f":"OFFSET(InputPriceData!F$15,CalculationsAndCharts!$A754+$A$11,IF($C$7,7,0),1,1)","v":30.79},{"$error":"#N/A"},{"$error":"#N/A"},{"$error":"#N/A"},30.778052723559426,30.778052723559426,-0.32899838373578094,-0.46307012492506811,1.2207433042018534,-1.2750976043506093,0.32535225969050269,0.28377686798271712,null,33.43,30.5,9.8976109215016789E-2,{"$error":"#N/A"},0.2,0.8,{"$error":"#N/A"},{"$error":"#N/A"},{"$error":"#N/A"},{"$error":"#N/A"},false,false,true,false,false,{"$error":"#N/A"},{"$error":"#N/A"},{"$error":"#N/A"},{"$error":"#N/A"},false,false,false,false,false,{"$error":"#N/A"},{"$error":"#N/A"},{"$error":"#N/A"},{"$error":"#N/A"}]
[723,{"$f":"OFFSET(InputPriceData!B$15,CalculationsAndCharts!$A755+$A$11,0,1,1)","v":"2010-12-28"},{"$f":"OFFSET(InputPriceData!G$15,CalculationsAndCharts!$A755+$A$11,0,1,1)","v":870800},{"$f":"OFFSET(InputPriceData!C$15,CalculationsAndCharts!$A755+$A$11,IF($C$7,7,0),1,1)","v":30.77},{"$f":"OFFSET(InputPriceData!D$15,CalculationsAndCharts!$A755+$A$11,IF($C$7,7,0),1,1)","v":30.78},{"$f":"OFFSET(InputPriceData!E$15,CalculationsAndCharts!$A755+$A$11,IF($C$7,7,0),1,1)","v":30.28},{"$f":"OFFSET(InputPriceData!F$15,CalculationsAndCharts!$A755+$A$11,IF($C$7,7,0),1,1)","v":30.62},{"$error":"#N/A"},{"$error":"#N/A"},{"$error":"#N/A"},30.862217475346501,30.862217475346501,-0.55976168700901008,-0.43262025206642141,1.6568469429728867,-1.2750976043506093,0.28734423134068682,0.25750986417764699,null,33.43,30.5,4.0955631399317752E-2,{"$error":"#N/A"},0.2,0.8,{"$error":"#N/A"},{"$error":"#N/A"},{"$error":"#N/A"},{"$error":"#N/A"},false,false,true,false,false,{"$error":"#N/A"},{"$error":"#N/A"},{"$error":"#N/A"},{"$error":"#N/A"},false,false,false,false,false,{"$error":"#N/A"},{"$error":"#N/A"},{"$error":"#N/A"},{"$error":"#N/A"}]
[724,{"$f":"OFFSET(InputPriceData!B$15,CalculationsAndCharts!$A756+$A$11,0,1,1)","v":"2010-12-27"},{"$f":"OFFSET(InputPriceData!G$15,CalculationsAndCharts!$A756+$A$11,0,1,1)","v":341900},{"$f":"OFFSET(InputPriceData!C$15,CalculationsAndCharts!$A756+$A$11,IF($C$7,7,0),1,1)","v":30.83},{"$f":"OFFSET(InputPriceData!D$15,CalculationsAndCharts!$A756+$A$11,IF($C$7,7,0),1,1)","v":30.98},{"$f":"OFFSET(InputPriceData!E$15,CalculationsAndCharts!$A756+$A$11,IF($C$7,7,0),1,1)","v":30.59},{"$f":"OFFSET(InputPriceData!F$15,CalculationsAndCharts!$A756+$A$11,IF($C$7,7,0),1,1)","v":30.63},{"$error":"#N/A"},{"$error":"#N/A"},{"$error":"#N/A"},30.970089803622727,30.970089803622727,-0.63433687881701939,-0.36582396685875146,1.9924140868390516,-1.2750976043506093,0.27827708771282234,0.22370383432384794,null,33.43,30.5,4.4368600682593524E-2,{"$error":"#N/A"},0.2,0.8,{"$error":"#N/A"},{"$error":"#N/A"},{"$error":"#N/A"},{"$error":"#N/A"},false,false,true,false,false,{"$error":"#N/A"},{"$error":"#N/A"},{"$error":"#N/A"},{"$error":"#N/A"},false,false,false,false,false,{"$error":"#N/A"},{"$error":"#N/A"},{"$error":"#N/A"},{"$error":"#N/A"}]
[725,{"$f":"OFFSET(InputPriceData!B$15,CalculationsAndCharts!$A757+$A$11,0,1,1)","v":"2010-12-23"},{"$f":"OFFSET(InputPriceData!G$15,CalculationsAndCharts!$A757+$A$11,0,1,1)","v":584900},{"$f":"OFFSET(InputPriceData!C$15,CalculationsAndCharts!$A757+$A$11,IF($C$7,7,0),1,1)","v":31.2},{"$f":"OFFSET(InputPriceData!D$15,CalculationsAndCharts!$A757+$A$11,IF($C$7,7,0),1,1)","v":31.25},{"$f":"OFFSET(InputPriceData!E$15,CalculationsAndCharts!$A757+$A$11,IF($C$7,7,0),1,1)","v":30.65},{"$f":"OFFSET(InputPriceData!F$15,CalculationsAndCharts!$A757+$A$11,IF($C$7,7,0),1,1)","v":30.81},{"$error":"#N/A"},{"$error":"#N/A"},{"$error":"#N/A"},31.019975895090546,31.019975895090546,-0.53120797226039884,-0.34572890175305326,2.1855706493926856,-1.2750976043506093,0.26855180400267703,0.17788767226783478,null,33.43,30.5,0.10580204778156954,{"$error":"#N/A"},0.2,0.8,{"$error":"#N/A"},{"$error":"#N/A"},{"$error":"#N/A"},{"$error":"#N/A"},false,false,true,false,false,{"$error":"#N/A"},{"$error":"#N/A"},{"$error":"#N/A"},{"$error":"#N/A"},false,false,false,false,false,{"$error":"#N/A"},{"$error":"#N/A"},{"$error":"#N/A"},{"$error":"#N/A"}]
[726,{"$f":"OFFSET(InputPriceData!B$15,CalculationsAndCharts!$A758+$A$11,0,1,1)","v":"2010-12-22"},{"$f":"OFFSET(InputPriceData!G$15,CalculationsAndCharts!$A758+$A$11,0,1,1)","v":674800},{"$f":"OFFSET(InputPriceData!C$15,CalculationsAndCharts!$A758+$A$11,IF($C$7,7,0),1,1)","v":31.38},{"$f":"OFFSET(InputPriceData!D$15,CalculationsAndCharts!$A758+$A$11,IF($C$7,7,0),1,1)","v":31.49},{"$f":"OFFSET(InputPriceData!E$15,CalculationsAndCharts!$A758+$A$11,IF($C$7,7,0),1,1)","v":31.04},{"$f":"OFFSET(InputPriceData!F$15,CalculationsAndCharts!$A758+$A$11,IF($C$7,7,0),1,1)","v":31.09},{"$error":"#N/A"},{"$error":"#N/A"},{"$error":"#N/A"},30.956643532305407,30.956643532305407,-0.29212105583403508,-0.44276113709712978,2.1855706493926856,-1.2750976043506093,0.24051322063395345,0.12528573845639834,null,33.43,30.5,0.20136518771331055,{"$error":"#N/A"},0.2,0.8,{"$error":"#N/A"},{"$error":"#N/A"},{"$error":"#N/A"},{"$error":"#N/A"},false,false,true,false,false,{"$error":"#N/A"},{"$error":"#N/A"},{"$error":"#N/A"},{"$error":"#N/A"},false,false,false,false,false,{"$error":"#N/A"},{"$error":"#N/A"},{"$error":"#N/A"},{"$error":"#N/A"}]
[727,{"$f":"OFFSET(InputPriceData!B$15,CalculationsAndCharts!$A759+$A$11,0,1,1)","v":"2010-12-21"},{"$f":"OFFSET(InputPriceData!G$15,CalculationsAndCharts!$A759+$A$11,0,1,1)","v":818800},{"$f":"OFFSET(InputPriceData!C$15,CalculationsAndCharts!$A759+$A$11,IF($C$7,7,0),1,1)","v":31.2},{"$f":"OFFSET(InputPriceData!D$15,CalculationsAndCharts!$A759+$A$11,IF($C$7,7,0),1,1)","v":31.43},{"$f":"OFFSET(InputPriceData!E$15,CalculationsAndCharts!$A759+$A$11,IF($C$7,7,0),1,1)","v":31.01},{"$f":"OFFSET(InputPriceData!F$15,CalculationsAndCharts!$A759+$A$11,IF($C$7,7,0),1,1)","v":31.3},{"$error":"#N/A"},{"$error":"#N/A"},{"$error":"#N/A"},30.798572353646531,30.798572353646531,-7.8552475608128947E-2,-0.65954064290709313,2.1855706493926856,-1.2750976043506093,0.17787228255054141,7.6938515743341623E-2,null,33.43,30.5,0.27303754266211633,{"$error":"#N/A"},0.2,0.8,{"$error":"#N/A"},{"$error":"#N/A"},{"$error":"#N/A"},{"$error":"#N/A"},false,false,true,false,false,{"$error":"#N/A"},{"$error":"#N/A"},{"$error":"#N/A"},{"$error":"#N/A"},false,false,false,false,false,{"$error":"#N/A"},{"$error":"#N/A"},{"$error":"#N/A"},{"$error":"#N/A"}]
[728,{"$f":"OFFSET(InputPriceData!B$15,CalculationsAndCharts!$A760+$A$11,0,1,1)","v":"2010-12-20"},{"$f":"OFFSET(InputPriceData!G$15,CalculationsAndCharts!$A760+$A$11,0,1,1)","v":1151700},{"$f":"OFFSET(InputPriceData!C$15,CalculationsAndCharts!$A760+$A$11,IF($C$7,7,0),1,1)","v":30.88},{"$f":"OFFSET(InputPriceData!D$15,CalculationsAndCharts!$A760+$A$11,IF($C$7,7,0),1,1)","v":31.24},{"$f":"OFFSET(InputPriceData!E$15,CalculationsAndCharts!$A760+$A$11,IF($C$7,7,0),1,1)","v":30.77},{"$f":"OFFSET(InputPriceData!F$15,CalculationsAndCharts!$A760+$A$11,IF($C$7,7,0),1,1)","v":30.99},{"$error":"#N/A"},{"$error":"#N/A"},{"$error":"#N/A"},30.658232139807875,30.658232139807875,-0.39247288133925695,-0.8947526973607538,2.1855706493926856,-1.2750976043506093,0.10990504697422195,4.0786896995946828E-2,null,33.43,30.5,0.16723549488054557,{"$error":"#N/A"},0.2,0.8,{"$error":"#N/A"},{"$error":"#N/A"},{"$error":"#N/A"},{"$error":"#N/A"},false,false,true,false,false,{"$error":"#N/A"},{"$error":"#N/A"},{"$error":"#N/A"},{"$error":"#N/A"},false,false,false,false,false,{"$error":"#N/A"},{"$error":"#N/A"},{"$error":"#N/A"},{"$error":"#N/A"}]
[729,{"$f":"OFFSET(InputPriceData!B$15,CalculationsAndCharts!$A761+$A$11,0,1,1)","v":"2010-12-17"},{"$f":"OFFSET(InputPriceData!G$15,CalculationsAndCharts!$A761+$A$11,0,1,1)","v":1272400},{"$f":"OFFSET(InputPriceData!C$15,CalculationsAndCharts!$A761+$A$11,IF($C$7,7,0),1,1)","v":30.72},{"$f":"OFFSET(InputPriceData!D$15,CalculationsAndCharts!$A761+$A$11,IF($C$7,7,0),1,1)","v":30.79},{"$f":"OFFSET(InputPriceData!E$15,CalculationsAndCharts!$A761+$A$11,IF($C$7,7,0),1,1)","v":30.59},{"$f":"OFFSET(InputPriceData!F$15,CalculationsAndCharts!$A761+$A$11,IF($C$7,7,0),1,1)","v":30.66},{"$error":"#N/A"},{"$error":"#N/A"},{"$error":"#N/A"},30.616602420348428,30.616602420348428,-0.78861080379862469,-1.0608986915211784,2.1855706493926856,-1.2750976043506093,6.1895245982546483E-2,1.634481710235932E-2,null,33.43,30.5,5.4607508532423264E-2,{"$error":"#N/A"},0.2,0.8,{"$error":"#N/A"},{"$error":"#N/A"},{"$error":"#N/A"},{"$error":"#N/A"},false,false,true,false,false,{"$error":"#N/A"},{"$error":"#N/A"},{"$error":"#N/A"},{"$error":"#N/A"},false,false,false,false,false,{"$error":"#N/A"},{"$error":"#N/A"},{"$error":"#N/A"},{"$error":"#N/A"}]
[730,{"$f":"OFFSET(InputPriceData!B$15,CalculationsAndCharts!$A762+$A$11,0,1,1)","v":"2010-12-16"},{"$f":"OFFSET(InputPriceData!G$15,CalculationsAndCharts!$A762+$A$11,0,1,1)","v":1488200},{"$f":"OFFSET(InputPriceData!C$15,CalculationsAndCharts!$A762+$A$11,IF($C$7,7,0),1,1)","v":30.65},{"$f":"OFFSET(InputPriceData!D$15,CalculationsAndCharts!$A762+$A$11,IF($C$7,7,0),1,1)","v":30.91},{"$f":"OFFSET(InputPriceData!E$15,CalculationsAndCharts!$A762+$A$11,IF($C$7,7,0),1,1)","v":30.5},{"$f":"OFFSET(InputPriceData!F$15,CalculationsAndCharts!$A762+$A$11,IF($C$7,7,0),1,1)","v":30.7},{"$error":"#N/A"},{"$error":"#N/A"},{"$error":"#N/A"},30.643646285352084,30.643646285352084,-0.85118211704964697,-1.1753712547440065,2.1855706493926856,-1.2750976043506093,2.8817078753137326E-2,-2.7381279350332383E-4,null,33.43,30.08,0.18507462686567186,{"$error":"#N/A"},0.2,0.8,{"$error":"#N/A"},{"$error":"#N/A"},{"$error":"#N/A"},{"$error":"#N/A"},false,false,true,false,false,{"$error":"#N/A"},{"$error":"#N/A"},{"$error":"#N/A"},{"$error":"#N/A"},false,false,false,false,false,{"$error":"#N/A"},{"$error":"#N/A"},{"$error":"#N/A"},{"$error":"#N/A"}]
[731,{"$f":"OFFSET(InputPriceData!B$15,CalculationsAndCharts!$A763+$A$11,0,1,1)","v":"2010-12-15"},{"$f":"OFFSET(InputPriceData!G$15,CalculationsAndCharts!$A763+$A$11,0,1,1)","v":1168600},{"$f":"OFFSET(InputPriceData!C$15,CalculationsAndCharts!$A763+$A$11,IF($C$7,7,0),1,1)","v":30.41},{"$f":"OFFSET(InputPriceData!D$15,CalculationsAndCharts!$A763+$A$11,IF($C$7,7,0),1,1)","v":30.84},{"$f":"OFFSET(InputPriceData!E$15,CalculationsAndCharts!$A763+$A$11,IF($C$7,7,0),1,1)","v":30.28},{"$f":"OFFSET(InputPriceData!F$15,CalculationsAndCharts!$A763+$A$11,IF($C$7,7,0),1,1)","v":30.51},{"$error":"#N/A"},{"$error":"#N/A"},{"$error":"#N/A"},30.731773210276675,30.731773210276675,-1.1713464701112137,-1.2349132305166066,2.1855706493926856,-1.2750976043506093,1.1611738221523105E-2,-1.2596022654869192E-2,null,33.43,29.71,0.21505376344086047,{"$error":"#N/A"},0.2,0.8,{"$error":"#N/A"},{"$error":"#N/A"},{"$error":"#N/A"},{"$error":"#N/A"},false,false,true,false,false,{"$error":"#N/A"},{"$error":"#N/A"},{"$error":"#N/A"},{"$error":"#N/A"},false,false,false,false,false,{"$error":"#N/A"},{"$error":"#N/A"},{"$error":"#N/A"},{"$error":"#N/A"}]
[732,{"$f":"OFFSET(InputPriceData!B$15,CalculationsAndCharts!$A764+$A$11,0,1,1)","v":"2010-12-14"},{"$f":"OFFSET(InputPriceData!G$15,CalculationsAndCharts!$A764+$A$11,0,1,1)","v":2136900},{"$f":"OFFSET(InputPriceData!C$15,CalculationsAndCharts!$A764+$A$11,IF($C$7,7,0),1,1)","v":30.95},{"$f":"OFFSET(InputPriceData!D$15,CalculationsAndCharts!$A764+$A$11,IF($C$7,7,0),1,1)","v":31},{"$f":"OFFSET(InputPriceData!E$15,CalculationsAndCharts!$A764+$A$11,IF($C$7,7,0),1,1)","v":30.29},{"$f":"OFFSET(InputPriceData!F$15,CalculationsAndCharts!$A764+$A$11,IF($C$7,7,0),1,1)","v":30.5},{"$error":"#N/A"},{"$error":"#N/A"},{"$error":"#N/A"},30.8680160600411,30.8680160600411,-1.3477617242295414,-1.2420335552450115,2.1855706493926856,-1.2750976043506093,9.5542382803764734E-3,-2.2362063758863533E-2,null,33.43,29.16,0.31381733021077285,{"$error":"#N/A"},0.2,0.8,{"$error":"#N/A"},{"$error":"#N/A"},{"$error":"#N/A"},{"$error":"#N/A"},false,false,true,false,false,{"$error":"#N/A"},{"$error":"#N/A"},{"$error":"#N/A"},{"$error":"#N/A"},false,false,false,false,false,{"$error":"#N/A"},{"$error":"#N/A"},{"$error":"#N/A"},{"$error":"#N/A"}]
[733,{"$f":"OFFSET(InputPriceData!B$15,CalculationsAndCharts!$A765+$A$11,0,1,1)","v":"2010-12-13"},{"$f":"OFFSET(InputPriceData!G$15,CalculationsAndCharts!$A765+$A$11,0,1,1)","v":1340600},{"$f":"OFFSET(InputPriceData!C$15,CalculationsAndCharts!$A765+$A$11,IF($C$7,7,0),1,1)","v":31.21},{"$f":"OFFSET(InputPriceData!D$15,CalculationsAndCharts!$A765+$A$11,IF($C$7,7,0),1,1)","v":31.22},{"$f":"OFFSET(InputPriceData!E$15,CalculationsAndCharts!$A765+$A$11,IF($C$7,7,0),1,1)","v":30.91},{"$f":"OFFSET(InputPriceData!F$15,CalculationsAndCharts!$A765+$A$11,IF($C$7,7,0),1,1)","v":31},{"$error":"#N/A"},{"$error":"#N/A"},{"$error":"#N/A"},30.975847631218315,30.975847631218315,-0.98666610808946009,-1.27012861258055,2.1855706493926856,-1.2750976043506093,1.4358474738757382E-3,-2.583034169747269E-2,null,33.43,28.88,0.46593406593406606,{"$error":"#N/A"},0.2,0.8,{"$error":"#N/A"},{"$error":"#N/A"},{"$error":"#N/A"},{"$error":"#N/A"},false,false,true,false,false,{"$error":"#N/A"},{"$error":"#N/A"},{"$error":"#N/A"},{"$error":"#N/A"},false,false,false,false,false,{"$error":"#N/A"},{"$error":"#N/A"},{"$error":"#N/A"},{"$error":"#N/A"}]
[734,{"$f":"OFFSET(InputPriceData!B$15,CalculationsAndCharts!$A766+$A$11,0,1,1)","v":"2010-12-10"},{"$f":"OFFSET(InputPriceData!G$15,CalculationsAndCharts!$A766+$A$11,0,1,1)","v":1460800},{"$f":"OFFSET(InputPriceData!C$15,CalculationsAndCharts!$A766+$A$11,IF($C$7,7,0),1,1)","v":30.83},{"$f":"OFFSET(InputPriceData!D$15,CalculationsAndCharts!$A766+$A$11,IF($C$7,7,0),1,1)","v":31.34},{"$f":"OFFSET(InputPriceData!E$15,CalculationsAndCharts!$A766+$A$11,IF($C$7,7,0),1,1)","v":30.83},{"$f":"OFFSET(InputPriceData!F$15,CalculationsAndCharts!$A766+$A$11,IF($C$7,7,0),1,1)","v":31.07},{"$error":"#N/A"},{"$error":"#N/A"},{"$error":"#N/A"},31.099023073833873,31.099023073833873,-1.0155002677103813,-1.2750976043506093,2.1855706493926856,-1.2750976043506093,0,-1.4983465700036277E-2,null,33.43,28.88,0.48131868131868155,{"$error":"#N/A"},0.2,0.8,{"$error":"#N/A"},{"$error":"#N/A"},{"$error":"#N/A"},{"$error":"#N/A"},false,false,true,false,false,{"$error":"#N/A"},{"$error":"#N/A"},{"$error":"#N/A"},{"$error":"#N/A"},false,false,false,false,false,{"$error":"#N/A"},{"$error":"#N/A"},{"$error":"#N/A"},{"$error":"#N/A"}]
[735,{"$f":"OFFSET(InputPriceData!B$15,CalculationsAndCharts!$A767+$A$11,0,1,1)","v":"2010-12-09"},{"$f":"OFFSET(InputPriceData!G$15,CalculationsAndCharts!$A767+$A$11,0,1,1)","v":11532700},{"$f":"OFFSET(InputPriceData!C$15,CalculationsAndCharts!$A767+$A$11,IF($C$7,7,0),1,1)","v":31.01},{"$f":"OFFSET(InputPriceData!D$15,CalculationsAndCharts!$A767+$A$11,IF($C$7,7,0),1,1)","v":31.51},{"$f":"OFFSET(InputPriceData!E$15,CalculationsAndCharts!$A767+$A$11,IF($C$7,7,0),1,1)","v":30.77},{"$f":"OFFSET(InputPriceData!F$15,CalculationsAndCharts!$A767+$A$11,IF($C$7,7,0),1,1)","v":30.83},{"$error":"#N/A"},{"$error":"#N/A"},{"$error":"#N/A"},31.359100729443696,31.359100729443696,-1.381464736579761,-1.1185347751679373,2.1855706493926856,-1.1185347751679373,0,2.1052486327710007E-2,null,33.43,28.88,0.42857142857142833,{"$error":"#N/A"},0.2,0.8,31.01,{"$error":"#N/A"},{"$error":"#N/A"},{"$error":"#N/A"},false,true,true,false,false,31.01,{"$error":"#N/A"},31.01,{"$error":"#N/A"},false,false,false,false,true,{"$error":"#N/A"},31.01,{"$error":"#N/A"},31.01]
[736,{"$f":"OFFSET(InputPriceData!B$15,CalculationsAndCharts!$A768+$A$11,0,1,1)","v":"2010-12-08"},{"$f":"OFFSET(InputPriceData!G$15,CalculationsAndCharts!$A768+$A$11,0,1,1)","v":1819000},{"$f":"OFFSET(InputPriceData!C$15,CalculationsAndCharts!$A768+$A$11,IF($C$7,7,0),1,1)","v":31.49},{"$f":"OFFSET(InputPriceData!D$15,CalculationsAndCharts!$A768+$A$11,IF($C$7,7,0),1,1)","v":31.7},{"$f":"OFFSET(InputPriceData!E$15,CalculationsAndCharts!$A768+$A$11,IF($C$7,7,0),1,1)","v":30.7},{"$f":"OFFSET(InputPriceData!F$15,CalculationsAndCharts!$A768+$A$11,IF($C$7,7,0),1,1)","v":30.84},{"$error":"#N/A"},{"$error":"#N/A"},{"$error":"#N/A"},31.739653409934604,31.739653409934604,-1.5340631105092097,-0.78708204499795076,2.1855706493926856,-0.78708204499795076,0,9.5711156775587725E-2,null,33.43,28.88,0.4307692307692309,{"$error":"#N/A"},0.2,0.8,{"$error":"#N/A"},{"$error":"#N/A"},9.5711156775587725E-2,{"$error":"#N/A"},true,false,false,false,false,{"$error":"#N/A"},{"$error":"#N/A"},{"$error":"#N/A"},{"$error":"#N/A"},false,false,true,true,false,{"$error":"#N/A"},{"$error":"#N/A"},{"$error":"#N/A"},{"$error":"#N/A"}]
[737,{"$f":"OFFSET(InputPriceData!B$15,CalculationsAndCharts!$A769+$A$11,0,1,1)","v":"2010-12-07"},{"$f":"OFFSET(InputPriceData!G$15,CalculationsAndCharts!$A769+$A$11,0,1,1)","v":2586000},{"$f":"OFFSET(InputPriceData!C$15,CalculationsAndCharts!$A769+$A$11,IF($C$7,7,0),1,1)","v":31.51},{"$f":"OFFSET(InputPriceData!D$15,CalculationsAndCharts!$A769+$A$11,IF($C$7,7,0),1,1)","v":31.8},{"$f":"OFFSET(InputPriceData!E$15,CalculationsAndCharts!$A769+$A$11,IF($C$7,7,0),1,1)","v":31.28},{"$f":"OFFSET(InputPriceData!F$15,CalculationsAndCharts!$A769+$A$11,IF($C$7,7,0),1,1)","v":31.6},{"$error":"#N/A"},{"$error":"#N/A"},{"$error":"#N/A"},32.108130144224454,32.108130144224454,-0.87867155369427852,-0.39398442958935376,2.1855706493926856,-0.39398442958935376,0,0.21832549232275275,null,33.43,28.58,0.62268041237113447,{"$error":"#N/A"},0.2,0.8,{"$error":"#N/A"},{"$error":"#N/A"},{"$error":"#N/A"},{"$error":"#N/A"},false,false,false,false,false,{"$error":"#N/A"},{"$error":"#N/A"},{"$error":"#N/A"},{"$error":"#N/A"},false,false,true,false,false,{"$error":"#N/A"},{"$error":"#N/A"},{"$error":"#N/A"},{"$error":"#N/A"}]
[738,{"$f":"OFFSET(InputPriceData!B$15,CalculationsAndCharts!$A770+$A$11,0,1,1)","v":"2010-12-06"},{"$f":"OFFSET(InputPriceData!G$15,CalculationsAndCharts!$A770+$A$11,0,1,1)","v":4422300},{"$f":"OFFSET(InputPriceData!C$15,CalculationsAndCharts!$A770+$A$11,IF($C$7,7,0),1,1)","v":31.92},{"$f":"OFFSET(InputPriceData!D$15,CalculationsAndCharts!$A770+$A$11,IF($C$7,7,0),1,1)","v":32},{"$f":"OFFSET(InputPriceData!E$15,CalculationsAndCharts!$A770+$A$11,IF($C$7,7,0),1,1)","v":30.58},{"$f":"OFFSET(InputPriceData!F$15,CalculationsAndCharts!$A770+$A$11,IF($C$7,7,0),1,1)","v":30.99},{"$error":"#N/A"},{"$error":"#N/A"},{"$error":"#N/A"},32.457415535440198,32.457415535440198,-1.5877938735194244,6.1781821357666966E-2,2.1855706493926856,-7.5893153329644372E-2,6.0878699239660355E-2,0.38207238317054154,null,33.43,28.38,0.51683168316831662,{"$error":"#N/A"},0.2,0.8,{"$error":"#N/A"},{"$error":"#N/A"},{"$error":"#N/A"},{"$error":"#N/A"},false,false,false,false,false,{"$error":"#N/A"},{"$error":"#N/A"},{"$error":"#N/A"},{"$error":"#N/A"},false,false,true,false,false,{"$error":"#N/A"},{"$error":"#N/A"},{"$error":"#N/A"},{"$error":"#N/A"}]
[739,{"$f":"OFFSET(InputPriceData!B$15,CalculationsAndCharts!$A771+$A$11,0,1,1)","v":"2010-12-03"},{"$f":"OFFSET(InputPriceData!G$15,CalculationsAndCharts!$A771+$A$11,0,1,1)","v":2580900},{"$f":"OFFSET(InputPriceData!C$15,CalculationsAndCharts!$A771+$A$11,IF($C$7,7,0),1,1)","v":31.77},{"$f":"OFFSET(InputPriceData!D$15,CalculationsAndCharts!$A771+$A$11,IF($C$7,7,0),1,1)","v":33.68},{"$f":"OFFSET(InputPriceData!E$15,CalculationsAndCharts!$A771+$A$11,IF($C$7,7,0),1,1)","v":31.57},{"$f":"OFFSET(InputPriceData!F$15,CalculationsAndCharts!$A771+$A$11,IF($C$7,7,0),1,1)","v":33.43},{"$error":"#N/A"},{"$error":"#N/A"},{"$error":"#N/A"},32.591229388098895,32.591229388098895,0.92701830572792765,0.37287761621174764,2.1855706493926856,-7.5893153329644372E-2,0.19844260562612842,0.56378133466818192,null,33.43,28,1,{"$error":"#N/A"},0.2,0.8,{"$error":"#N/A"},{"$error":"#N/A"},{"$error":"#N/A"},{"$error":"#N/A"},false,false,false,false,false,{"$error":"#N/A"},{"$error":"#N/A"},{"$error":"#N/A"},{"$error":"#N/A"},false,false,true,false,false,{"$error":"#N/A"},{"$error":"#N/A"},{"$error":"#N/A"},{"$error":"#N/A"}]
[740,{"$f":"OFFSET(InputPriceData!B$15,CalculationsAndCharts!$A772+$A$11,0,1,1)","v":"2010-12-02"},{"$f":"OFFSET(InputPriceData!G$15,CalculationsAndCharts!$A772+$A$11,0,1,1)","v":1709300},{"$f":"OFFSET(InputPriceData!C$15,CalculationsAndCharts!$A772+$A$11,IF($C$7,7,0),1,1)","v":32.450000000000003},{"$f":"OFFSET(InputPriceData!D$15,CalculationsAndCharts!$A772+$A$11,IF($C$7,7,0),1,1)","v":32.479999999999997},{"$f":"OFFSET(InputPriceData!E$15,CalculationsAndCharts!$A772+$A$11,IF($C$7,7,0),1,1)","v":31.89},{"$f":"OFFSET(InputPriceData!F$15,CalculationsAndCharts!$A772+$A$11,IF($C$7,7,0),1,1)","v":31.93},{"$error":"#N/A"},{"$error":"#N/A"},{"$error":"#N/A"},32.681945724082972,32.681945724082972,-0.38667282784004597,0.69642688401674835,2.1855706493926856,-7.5893153329644372E-2,0.34151333150532004,0.73839451200399886,null,33.28,28,0.74431818181818166,{"$error":"#N/A"},0.2,0.8,{"$error":"#N/A"},{"$error":"#N/A"},{"$error":"#N/A"},{"$error":"#N/A"},false,false,false,false,false,{"$error":"#N/A"},{"$error":"#N/A"},{"$error":"#N/A"},{"$error":"#N/A"},false,false,true,false,false,{"$error":"#N/A"},{"$error":"#N/A"},{"$error":"#N/A"},{"$error":"#N/A"}]
[741,{"$f":"OFFSET(InputPriceData!B$15,CalculationsAndCharts!$A773+$A$11,0,1,1)","v":"2010-12-01"},{"$f":"OFFSET(InputPriceData!G$15,CalculationsAndCharts!$A773+$A$11,0,1,1)","v":1296500},{"$f":"OFFSET(InputPriceData!C$15,CalculationsAndCharts!$A773+$A$11,IF($C$7,7,0),1,1)","v":33.21},{"$f":"OFFSET(InputPriceData!D$15,CalculationsAndCharts!$A773+$A$11,IF($C$7,7,0),1,1)","v":33.51},{"$f":"OFFSET(InputPriceData!E$15,CalculationsAndCharts!$A773+$A$11,IF($C$7,7,0),1,1)","v":32.229999999999997},{"$f":"OFFSET(InputPriceData!F$15,CalculationsAndCharts!$A773+$A$11,IF($C$7,7,0),1,1)","v":32.31},{"$error":"#N/A"},{"$f":"IF($A773=$E$25,I$32,NA())","v":{"$error":"#N/A"}},{"$error":"#N/A"},32.901310273535842,32.901310273535842,0.10274879885483068,1.2207433042018534,2.1855706493926856,-0.19194811301926673,0.59418728447298075,0.87464783283691339,null,33.28,28,0.81628787878787901,{"$error":"#N/A"},0.2,0.8,{"$error":"#N/A"},{"$error":"#N/A"},{"$error":"#N/A"},{"$error":"#N/A"},false,false,false,false,false,{"$error":"#N/A"},{"$error":"#N/A"},{"$error":"#N/A"},{"$error":"#N/A"},false,false,true,false,false,{"$error":"#N/A"},{"$error":"#N/A"},{"$error":"#N/A"},{"$error":"#N/A"}]
[742,{"$f":"OFFSET(InputPriceData!B$15,CalculationsAndCharts!$A774+$A$11,0,1,1)","v":"2010-11-30"},{"$f":"OFFSET(InputPriceData!G$15,CalculationsAndCharts!$A774+$A$11,0,1,1)","v":706100},{"$f":"OFFSET(InputPriceData!C$15,CalculationsAndCharts!$A774+$A$11,IF($C$7,7,0),1,1)","v":32.51},{"$f":"OFFSET(InputPriceData!D$15,CalculationsAndCharts!$A774+$A$11,IF($C$7,7,0),1,1)","v":33.07},{"$f":"OFFSET(InputPriceData!E$15,CalculationsAndCharts!$A774+$A$11,IF($C$7,7,0),1,1)","v":32.4},{"$f":"OFFSET(InputPriceData!F$15,CalculationsAndCharts!$A774+$A$11,IF($C$7,7,0),1,1)","v":32.840000000000003},{"$error":"#N/A"},{"$error":"#N/A"},{"$error":"#N/A"},32.95379662051122,32.95379662051122,0.85579119541429827,1.6568469429728867,2.1855706493926856,-0.38627322888595605,0.7944184283947755,0.95555924796067659,null,33.28,28,0.91666666666666707,{"$error":"#N/A"},0.2,0.8,{"$error":"#N/A"},{"$error":"#N/A"},{"$error":"#N/A"},{"$error":"#N/A"},false,false,false,false,{"$f":"AND(AG775,AF775)","v":false},{"$error":"#N/A"},{"$error":"#N/A"},{"$error":"#N/A"},{"$error":"#N/A"},false,{"$f":"AND(AM775,NOT(AO775))","v":false},true,false,false,{"$error":"#N/A"},{"$error":"#N/A"},{"$error":"#N/A"},{"$error":"#N/A"}]
[743,{"$f":"OFFSET(InputPriceData!B$15,CalculationsAndCharts!$A775+$A$11,0,1,1)","v":"2010-11-29"},{"$f":"OFFSET(InputPriceData!G$15,CalculationsAndCharts!$A775+$A$11,0,1,1)","v":1306600},{"$f":"OFFSET(InputPriceData!C$15,CalculationsAndCharts!$A775+$A$11,IF($C$7,7,0),1,1)","v":32.54},{"$f":"OFFSET(InputPriceData!D$15,CalculationsAndCharts!$A775+$A$11,IF($C$7,7,0),1,1)","v":33.090000000000003},{"$f":"OFFSET(InputPriceData!E$15,CalculationsAndCharts!$A775+$A$11,IF($C$7,7,0),1,1)","v":32.340000000000003},{"$f":"OFFSET(InputPriceData!F$15,CalculationsAndCharts!$A775+$A$11,IF($C$7,7,0),1,1)","v":32.78},{"$error":"#N/A"},{"$error":"#N/A"},{"$error":"#N/A"},32.848275579703603,32.848275579703603,1.1054337226118036,1.9924140868390516,2.1855706493926856,-0.51045900709397762,0.9283551788501665,0.99149012278929982,null,33.28,27.94,0.90636704119850187,{"$error":"#N/A"},0.2,0.8,{"$error":"#N/A"},{"$error":"#N/A"},{"$error":"#N/A"},{"$error":"#N/A"},false,false,false,false,false,{"$error":"#N/A"},{"$error":"#N/A"},{"$error":"#N/A"},{"$error":"#N/A"},false,false,true,false,{"$f":"AND(AP776,AO776)","v":false},{"$error":"#N/A"},{"$error":"#N/A"},{"$error":"#N/A"},{"$error":"#N/A"}]
[744,{"$f":"OFFSET(InputPriceData!B$15,CalculationsAndCharts!$A776+$A$11,0,1,1)","v":"2010-11-26"},{"$f":"OFFSET(InputPriceData!G$15,CalculationsAndCharts!$A776+$A$11,0,1,1)","v":272600},{"$f":"OFFSET(InputPriceData!C$15,CalculationsAndCharts!$A776+$A$11,IF($C$7,7,0),1,1)","v":32.75},{"$f":"OFFSET(InputPriceData!D$15,CalculationsAndCharts!$A776+$A$11,IF($C$7,7,0),1,1)","v":33.42},{"$f":"OFFSET(InputPriceData!E$15,CalculationsAndCharts!$A776+$A$11,IF($C$7,7,0),1,1)","v":32.72},{"$f":"OFFSET(InputPriceData!F$15,CalculationsAndCharts!$A776+$A$11,IF($C$7,7,0),1,1)","v":32.74},{"$error":"#N/A"},{"$error":"#N/A"},{"$error":"#N/A"},32.568161303125805,32.568161303125805,1.4174803816154244,2.1855706493926856,2.1855706493926856,-0.57435808352241624,1,0.99877720226252542,null,33.28,27.94,0.89887640449438222,{"$error":"#N/A"},0.2,0.8,{"$error":"#N/A"},{"$error":"#N/A"},{"$error":"#N/A"},{"$error":"#N/A"},false,false,false,false,false,{"$error":"#N/A"},{"$error":"#N/A"},{"$error":"#N/A"},{"$error":"#N/A"},false,false,true,false,false,{"$error":"#N/A"},{"$error":"#N/A"},{"$error":"#N/A"},{"$error":"#N/A"}]
[745,{"$f":"OFFSET(InputPriceData!B$15,CalculationsAndCharts!$A777+$A$11,0,1,1)","v":"2010-11-24"},{"$f":"OFFSET(InputPriceData!G$15,CalculationsAndCharts!$A777+$A$11,0,1,1)","v":1068800},{"$f":"OFFSET(InputPriceData!C$15,CalculationsAndCharts!$A777+$A$11,IF($C$7,7,0),1,1)","v":33.5},{"$f":"OFFSET(InputPriceData!D$15,CalculationsAndCharts!$A777+$A$11,IF($C$7,7,0),1,1)","v":33.58},{"$f":"OFFSET(InputPriceData!E$15,CalculationsAndCharts!$A777+$A$11,IF($C$7,7,0),1,1)","v":32.950000000000003},{"$f":"OFFSET(InputPriceData!F$15,CalculationsAndCharts!$A777+$A$11,IF($C$7,7,0),1,1)","v":33.01},{"$error":"#N/A"},{"$error":"#N/A"},{"$error":"#N/A"},32.005177360721262,32.005177360721262,2.1205422789733492,2.0864472023966325,2.0864472023966325,-0.62219392328376466,1,0.99519997575479879,null,33.28,27.94,0.94943820224719044,{"$error":"#N/A"},0.2,0.8,{"$error":"#N/A"},{"$error":"#N/A"},{"$error":"#N/A"},{"$error":"#N/A"},false,false,false,false,false,{"$error":"#N/A"},{"$error":"#N/A"},{"$error":"#N/A"},{"$error":"#N/A"},false,false,true,false,false,{"$error":"#N/A"},{"$error":"#N/A"},{"$error":"#N/A"},{"$error":"#N/A"}]
[746,{"$f":"OFFSET(InputPriceData!B$15,CalculationsAndCharts!$A778+$A$11,0,1,1)","v":"2010-11-23"},{"$f":"OFFSET(InputPriceData!G$15,CalculationsAndCharts!$A778+$A$11,0,1,1)","v":2483600},{"$f":"OFFSET(InputPriceData!C$15,CalculationsAndCharts!$A778+$A$11,IF($C$7,7,0),1,1)","v":31.74},{"$f":"OFFSET(InputPriceData!D$15,CalculationsAndCharts!$A778+$A$11,IF($C$7,7,0),1,1)","v":33.729999999999997},{"$f":"OFFSET(InputPriceData!E$15,CalculationsAndCharts!$A778+$A$11,IF($C$7,7,0),1,1)","v":31.74},{"$f":"OFFSET(InputPriceData!F$15,CalculationsAndCharts!$A778+$A$11,IF($C$7,7,0),1,1)","v":33.28},{"$error":"#N/A"},{"$error":"#N/A"},{"$error":"#N/A"},31.171711752282228,31.171711752282228,2.9467843074891791,1.6500764447677796,1.6500764447677796,-0.65139149891821024,1,0.98945673878515472,null,33.28,27.94,1,{"$error":"#N/A"},0.2,0.8,{"$error":"#N/A"},{"$error":"#N/A"},{"$error":"#N/A"},{"$error":"#N/A"},false,false,false,false,false,{"$error":"#N/A"},{"$error":"#N/A"},{"$error":"#N/A"},{"$error":"#N/A"},false,false,true,false,false,{"$error":"#N/A"},{"$error":"#N/A"},{"$error":"#N/A"},{"$error":"#N/A"}]
[747,{"$f":"OFFSET(InputPriceData!B$15,CalculationsAndCharts!$A779+$A$11,0,1,1)","v":"2010-11-22"},{"$f":"OFFSET(InputPriceData!G$15,CalculationsAndCharts!$A779+$A$11,0,1,1)","v":1280400},{"$f":"OFFSET(InputPriceData!C$15,CalculationsAndCharts!$A779+$A$11,IF($C$7,7,0),1,1)","v":30.78},{"$f":"OFFSET(InputPriceData!D$15,CalculationsAndCharts!$A779+$A$11,IF($C$7,7,0),1,1)","v":32.229999999999997},{"$f":"OFFSET(InputPriceData!E$15,CalculationsAndCharts!$A779+$A$11,IF($C$7,7,0),1,1)","v":30.65},{"$f":"OFFSET(InputPriceData!F$15,CalculationsAndCharts!$A779+$A$11,IF($C$7,7,0),1,1)","v":31.98},{"$error":"#N/A"},{"$error":"#N/A"},{"$error":"#N/A"},30.359749616140888,30.359749616140888,2.1873379237670694,1.1329215425939176,1.1329215425939176,-0.75910916873764034,1,0.98198191479840513,null,31.98,27.94,1,{"$error":"#N/A"},0.2,0.8,{"$error":"#N/A"},{"$error":"#N/A"},{"$error":"#N/A"},{"$error":"#N/A"},false,false,false,false,false,{"$error":"#N/A"},{"$error":"#N/A"},{"$error":"#N/A"},{"$error":"#N/A"},false,false,true,false,false,{"$error":"#N/A"},{"$error":"#N/A"},{"$error":"#N/A"},{"$error":"#N/A"}]
[748,{"$f":"OFFSET(InputPriceData!B$15,CalculationsAndCharts!$A780+$A$11,0,1,1)","v":"2010-11-19"},{"$f":"OFFSET(InputPriceData!G$15,CalculationsAndCharts!$A780+$A$11,0,1,1)","v":1335500},{"$f":"OFFSET(InputPriceData!C$15,CalculationsAndCharts!$A780+$A$11,IF($C$7,7,0),1,1)","v":30.14},{"$f":"OFFSET(InputPriceData!D$15,CalculationsAndCharts!$A780+$A$11,IF($C$7,7,0),1,1)","v":30.98},{"$f":"OFFSET(InputPriceData!E$15,CalculationsAndCharts!$A780+$A$11,IF($C$7,7,0),1,1)","v":30.06},{"$f":"OFFSET(InputPriceData!F$15,CalculationsAndCharts!$A780+$A$11,IF($C$7,7,0),1,1)","v":30.96},{"$error":"#N/A"},{"$error":"#N/A"},{"$error":"#N/A"},29.78283715019084,29.78283715019084,1.560455500257719,0.75819469475546697,0.75819469475546697,-0.9448450605231602,1,0.97489745152801888,null,30.96,27.94,1,{"$error":"#N/A"},0.2,0.8,{"$error":"#N/A"},{"$error":"#N/A"},{"$error":"#N/A"},{"$error":"#N/A"},false,false,false,false,false,{"$error":"#N/A"},{"$error":"#N/A"},{"$error":"#N/A"},{"$error":"#N/A"},false,false,true,false,false,{"$error":"#N/A"},{"$error":"#N/A"},{"$error":"#N/A"},{"$error":"#N/A"}]
[749,{"$f":"OFFSET(InputPriceData!B$15,CalculationsAndCharts!$A781+$A$11,0,1,1)","v":"2010-11-18"},{"$f":"OFFSET(InputPriceData!G$15,CalculationsAndCharts!$A781+$A$11,0,1,1)","v":1848400},{"$f":"OFFSET(InputPriceData!C$15,CalculationsAndCharts!$A781+$A$11,IF($C$7,7,0),1,1)","v":29.93},{"$f":"OFFSET(InputPriceData!D$15,CalculationsAndCharts!$A781+$A$11,IF($C$7,7,0),1,1)","v":30.44},{"$f":"OFFSET(InputPriceData!E$15,CalculationsAndCharts!$A781+$A$11,IF($C$7,7,0),1,1)","v":29.92},{"$f":"OFFSET(InputPriceData!F$15,CalculationsAndCharts!$A781+$A$11,IF($C$7,7,0),1,1)","v":30.08},{"$error":"#N/A"},{"$error":"#N/A"},{"$error":"#N/A"},29.418544457303113,29.418544457303113,0.94511970900613673,0.53377389831281541,0.53377389831281541,-1.0548345048277867,1,0.97312227047868083,null,30.08,27.94,1,{"$error":"#N/A"},0.2,0.8,{"$error":"#N/A"},{"$error":"#N/A"},{"$error":"#N/A"},{"$error":"#N/A"},false,false,false,false,false,{"$error":"#N/A"},{"$error":"#N/A"},{"$error":"#N/A"},{"$error":"#N/A"},false,false,true,false,false,{"$error":"#N/A"},{"$error":"#N/A"},{"$error":"#N/A"},{"$error":"#N/A"}]
[750,{"$f":"OFFSET(InputPriceData!B$15,CalculationsAndCharts!$A782+$A$11,0,1,1)","v":"2010-11-17"},{"$f":"OFFSET(InputPriceData!G$15,CalculationsAndCharts!$A782+$A$11,0,1,1)","v":1210000},{"$f":"OFFSET(InputPriceData!C$15,CalculationsAndCharts!$A782+$A$11,IF($C$7,7,0),1,1)","v":29.17},{"$f":"OFFSET(InputPriceData!D$15,CalculationsAndCharts!$A782+$A$11,IF($C$7,7,0),1,1)","v":30.09},{"$f":"OFFSET(InputPriceData!E$15,CalculationsAndCharts!$A782+$A$11,IF($C$7,7,0),1,1)","v":29.11},{"$f":"OFFSET(InputPriceData!F$15,CalculationsAndCharts!$A782+$A$11,IF($C$7,7,0),1,1)","v":29.71},{"$error":"#N/A"},{"$error":"#N/A"},{"$error":"#N/A"},29.210724522114472,29.210724522114472,0.75628729567562336,0.43065324018421447,0.52788425249514859,-1.0548345048277867,0.93856709420984308,0.98534829596541651,null,29.71,27.9,1,{"$error":"#N/A"},0.2,0.8,{"$error":"#N/A"},{"$error":"#N/A"},{"$error":"#N/A"},{"$error":"#N/A"},false,false,false,false,false,{"$error":"#N/A"},{"$error":"#N/A"},{"$error":"#N/A"},{"$error":"#N/A"},false,false,true,false,false,{"$error":"#N/A"},{"$error":"#N/A"},{"$error":"#N/A"},{"$error":"#N/A"}]
[751,{"$f":"OFFSET(InputPriceData!B$15,CalculationsAndCharts!$A783+$A$11,0,1,1)","v":"2010-11-16"},{"$f":"OFFSET(InputPriceData!G$15,CalculationsAndCharts!$A783+$A$11,0,1,1)","v":987500},{"$f":"OFFSET(InputPriceData!C$15,CalculationsAndCharts!$A783+$A$11,IF($C$7,7,0),1,1)","v":28.77},{"$f":"OFFSET(InputPriceData!D$15,CalculationsAndCharts!$A783+$A$11,IF($C$7,7,0),1,1)","v":29.38},{"$f":"OFFSET(InputPriceData!E$15,CalculationsAndCharts!$A783+$A$11,IF($C$7,7,0),1,1)","v":28.74},{"$f":"OFFSET(InputPriceData!F$15,CalculationsAndCharts!$A783+$A$11,IF($C$7,7,0),1,1)","v":29.16},{"$error":"#N/A"},{"$error":"#N/A"},{"$error":"#N/A"},29.126586275478139,29.126586275478139,0.32396367699065942,0.43845501290023842,0.52788425249514859,-1.0548345048277867,0.9434964429522692,1.0051867299490611,null,29.68,27.9,0.70786516853932624,{"$error":"#N/A"},0.2,0.8,{"$error":"#N/A"},{"$error":"#N/A"},{"$error":"#N/A"},{"$error":"#N/A"},false,false,false,false,false,{"$error":"#N/A"},{"$error":"#N/A"},{"$error":"#N/A"},{"$error":"#N/A"},false,false,true,false,false,{"$error":"#N/A"},{"$error":"#N/A"},{"$error":"#N/A"},{"$error":"#N/A"}]
[752,{"$f":"OFFSET(InputPriceData!B$15,CalculationsAndCharts!$A784+$A$11,0,1,1)","v":"2010-11-15"},{"$f":"OFFSET(InputPriceData!G$15,CalculationsAndCharts!$A784+$A$11,0,1,1)","v":340600},{"$f":"OFFSET(InputPriceData!C$15,CalculationsAndCharts!$A784+$A$11,IF($C$7,7,0),1,1)","v":29.13},{"$f":"OFFSET(InputPriceData!D$15,CalculationsAndCharts!$A784+$A$11,IF($C$7,7,0),1,1)","v":29.46},{"$f":"OFFSET(InputPriceData!E$15,CalculationsAndCharts!$A784+$A$11,IF($C$7,7,0),1,1)","v":28.74},{"$f":"OFFSET(InputPriceData!F$15,CalculationsAndCharts!$A784+$A$11,IF($C$7,7,0),1,1)","v":28.88},{"$error":"#N/A"},{"$error":"#N/A"},{"$error":"#N/A"},29.111833200042344,29.111833200042344,9.7399138726092072E-2,0.51999757599678964,0.52788425249514859,-1.0548345048277867,0.99501700699390283,1.0139360364065666,null,29.68,27.9,0.55056179775280889,{"$error":"#N/A"},0.2,0.8,{"$error":"#N/A"},{"$error":"#N/A"},{"$error":"#N/A"},{"$error":"#N/A"},false,false,false,false,false,{"$error":"#N/A"},{"$error":"#N/A"},{"$error":"#N/A"},{"$error":"#N/A"},false,false,true,false,false,{"$error":"#N/A"},{"$error":"#N/A"},{"$error":"#N/A"},{"$error":"#N/A"}]
[753,{"$f":"OFFSET(InputPriceData!B$15,CalculationsAndCharts!$A785+$A$11,0,1,1)","v":"2010-11-12"},{"$f":"OFFSET(InputPriceData!G$15,CalculationsAndCharts!$A785+$A$11,0,1,1)","v":827000},{"$f":"OFFSET(InputPriceData!C$15,CalculationsAndCharts!$A785+$A$11,IF($C$7,7,0),1,1)","v":29.51},{"$f":"OFFSET(InputPriceData!D$15,CalculationsAndCharts!$A785+$A$11,IF($C$7,7,0),1,1)","v":29.67},{"$f":"OFFSET(InputPriceData!E$15,CalculationsAndCharts!$A785+$A$11,IF($C$7,7,0),1,1)","v":28.82},{"$f":"OFFSET(InputPriceData!F$15,CalculationsAndCharts!$A785+$A$11,IF($C$7,7,0),1,1)","v":29.02},{"$error":"#N/A"},{"$error":"#N/A"},{"$error":"#N/A"},29.019444091761642,29.019444091761642,0.2855526123191271,0.52788425249514859,0.52788425249514859,-1.0548345048277867,1,1.0077103552896753,null,29.68,27.9,0.62921348314606762,{"$error":"#N/A"},0.2,0.8,{"$error":"#N/A"},{"$error":"#N/A"},{"$error":"#N/A"},{"$error":"#N/A"},false,false,false,false,false,{"$error":"#N/A"},{"$error":"#N/A"},{"$error":"#N/A"},{"$error":"#N/A"},false,false,true,false,false,{"$error":"#N/A"},{"$error":"#N/A"},{"$error":"#N/A"},{"$error":"#N/A"}]
[754,{"$f":"OFFSET(InputPriceData!B$15,CalculationsAndCharts!$A786+$A$11,0,1,1)","v":"2010-11-11"},{"$f":"OFFSET(InputPriceData!G$15,CalculationsAndCharts!$A786+$A$11,0,1,1)","v":644500},{"$f":"OFFSET(InputPriceData!C$15,CalculationsAndCharts!$A786+$A$11,IF($C$7,7,0),1,1)","v":28.81},{"$f":"OFFSET(InputPriceData!D$15,CalculationsAndCharts!$A786+$A$11,IF($C$7,7,0),1,1)","v":29.85},{"$f":"OFFSET(InputPriceData!E$15,CalculationsAndCharts!$A786+$A$11,IF($C$7,7,0),1,1)","v":28.78},{"$f":"OFFSET(InputPriceData!F$15,CalculationsAndCharts!$A786+$A$11,IF($C$7,7,0),1,1)","v":29.68},{"$error":"#N/A"},{"$error":"#N/A"},{"$error":"#N/A"},28.752075096444369,28.752075096444369,1.0810529241543305,0.34001449257211463,0.34001449257211463,-1.0548345048277867,1,0.98629481884658365,null,29.68,27.9,1,{"$error":"#N/A"},0.2,0.8,{"$error":"#N/A"},{"$error":"#N/A"},{"$error":"#N/A"},{"$error":"#N/A"},false,false,false,false,false,{"$error":"#N/A"},{"$error":"#N/A"},{"$error":"#N/A"},{"$error":"#N/A"},false,false,true,false,false,{"$error":"#N/A"},{"$error":"#N/A"},{"$error":"#N/A"},{"$error":"#N/A"}]
[755,{"$f":"OFFSET(InputPriceData!B$15,CalculationsAndCharts!$A787+$A$11,0,1,1)","v":"2010-11-10"},{"$f":"OFFSET(InputPriceData!G$15,CalculationsAndCharts!$A787+$A$11,0,1,1)","v":1348500},{"$f":"OFFSET(InputPriceData!C$15,CalculationsAndCharts!$A787+$A$11,IF($C$7,7,0),1,1)","v":28.6},{"$f":"OFFSET(InputPriceData!D$15,CalculationsAndCharts!$A787+$A$11,IF($C$7,7,0),1,1)","v":29.23},{"$f":"OFFSET(InputPriceData!E$15,CalculationsAndCharts!$A787+$A$11,IF($C$7,7,0),1,1)","v":28.38},{"$f":"OFFSET(InputPriceData!F$15,CalculationsAndCharts!$A787+$A$11,IF($C$7,7,0),1,1)","v":29.06},{"$error":"#N/A"},{"$error":"#N/A"},{"$error":"#N/A"},28.470007890536287,28.470007890536287,0.62104372502469807,9.451885623840893E-2,9.451885623840893E-2,-1.0548345048277867,1,0.94266136648854215,null,29.34,27.9,0.80555555555555491,{"$error":"#N/A"},0.2,0.8,{"$error":"#N/A"},28.6,{"$error":"#N/A"},{"$error":"#N/A"},false,false,true,false,true,{"$error":"#N/A"},28.6,{"$error":"#N/A"},28.6,false,true,true,false,false,28.6,{"$error":"#N/A"},28.6,{"$error":"#N/A"}]
[756,{"$f":"OFFSET(InputPriceData!B$15,CalculationsAndCharts!$A788+$A$11,0,1,1)","v":"2010-11-09"},{"$f":"OFFSET(InputPriceData!G$15,CalculationsAndCharts!$A788+$A$11,0,1,1)","v":749900},{"$f":"OFFSET(InputPriceData!C$15,CalculationsAndCharts!$A788+$A$11,IF($C$7,7,0),1,1)","v":28.41},{"$f":"OFFSET(InputPriceData!D$15,CalculationsAndCharts!$A788+$A$11,IF($C$7,7,0),1,1)","v":28.73},{"$f":"OFFSET(InputPriceData!E$15,CalculationsAndCharts!$A788+$A$11,IF($C$7,7,0),1,1)","v":28.25},{"$f":"OFFSET(InputPriceData!F$15,CalculationsAndCharts!$A788+$A$11,IF($C$7,7,0),1,1)","v":28.58},{"$error":"#N/A"},{"$error":"#N/A"},{"$error":"#N/A"},28.338113785403607,28.338113785403607,0.21542334513574338,-3.6752514018342758E-2,-3.6752514018342758E-2,-1.0548345048277867,1,0.87186317416782311,null,29.34,27.9,0.4722222222222216,{"$error":"#N/A"},0.2,0.8,{"$error":"#N/A"},{"$error":"#N/A"},{"$error":"#N/A"},0.87186317416782311,false,false,true,true,false,{"$error":"#N/A"},{"$error":"#N/A"},{"$error":"#N/A"},{"$error":"#N/A"},true,false,false,false,false,{"$error":"#N/A"},{"$error":"#N/A"},{"$error":"#N/A"},{"$error":"#N/A"}]
[757,{"$f":"OFFSET(InputPriceData!B$15,CalculationsAndCharts!$A789+$A$11,0,1,1)","v":"2010-11-08"},{"$f":"OFFSET(InputPriceData!G$15,CalculationsAndCharts!$A789+$A$11,0,1,1)","v":527600},{"$f":"OFFSET(InputPriceData!C$15,CalculationsAndCharts!$A789+$A$11,IF($C$7,7,0),1,1)","v":28.01},{"$f":"OFFSET(InputPriceData!D$15,CalculationsAndCharts!$A789+$A$11,IF($C$7,7,0),1,1)","v":28.44},{"$f":"OFFSET(InputPriceData!E$15,CalculationsAndCharts!$A789+$A$11,IF($C$7,7,0),1,1)","v":27.35},{"$f":"OFFSET(InputPriceData!F$15,CalculationsAndCharts!$A789+$A$11,IF($C$7,7,0),1,1)","v":28.38},{"$error":"#N/A"},{"$error":"#N/A"},{"$error":"#N/A"},28.314014965935947,28.314014965935947,3.3018322489396762E-2,-7.5893153329644372E-2,-4.7568704710072671E-2,-1.0548345048277867,0.97187986664864257,0.77859157439808768,null,29.34,27.9,0.33333333333333331,{"$error":"#N/A"},0.2,0.8,{"$error":"#N/A"},{"$error":"#N/A"},{"$error":"#N/A"},{"$error":"#N/A"},false,false,true,false,false,{"$error":"#N/A"},{"$error":"#N/A"},{"$error":"#N/A"},{"$error":"#N/A"},false,false,false,false,false,{"$error":"#N/A"},{"$error":"#N/A"},{"$error":"#N/A"},{"$error":"#N/A"}]
[758,{"$f":"OFFSET(InputPriceData!B$15,CalculationsAndCharts!$A790+$A$11,0,1,1)","v":"2010-11-05"},{"$f":"OFFSET(InputPriceData!G$15,CalculationsAndCharts!$A790+$A$11,0,1,1)","v":2020900},{"$f":"OFFSET(InputPriceData!C$15,CalculationsAndCharts!$A790+$A$11,IF($C$7,7,0),1,1)","v":28.35},{"$f":"OFFSET(InputPriceData!D$15,CalculationsAndCharts!$A790+$A$11,IF($C$7,7,0),1,1)","v":28.5},{"$f":"OFFSET(InputPriceData!E$15,CalculationsAndCharts!$A790+$A$11,IF($C$7,7,0),1,1)","v":27.29},{"$f":"OFFSET(InputPriceData!F$15,CalculationsAndCharts!$A790+$A$11,IF($C$7,7,0),1,1)","v":28},{"$error":"#N/A"},{"$error":"#N/A"},{"$error":"#N/A"},28.357579267571197,28.357579267571197,-0.38474844965268939,-4.7895689694328489E-2,0.16672912359282652,-1.0548345048277867,0.82430320591269712,0.67943083196111187,null,29.34,27.9,6.9444444444445363E-2,{"$error":"#N/A"},0.2,0.8,{"$error":"#N/A"},{"$error":"#N/A"},{"$error":"#N/A"},{"$error":"#N/A"},false,false,true,false,false,{"$error":"#N/A"},{"$error":"#N/A"},{"$error":"#N/A"},{"$error":"#N/A"},false,false,false,false,false,{"$error":"#N/A"},{"$error":"#N/A"},{"$error":"#N/A"},{"$error":"#N/A"}]
[759,{"$f":"OFFSET(InputPriceData!B$15,CalculationsAndCharts!$A791+$A$11,0,1,1)","v":"2010-11-04"},{"$f":"OFFSET(InputPriceData!G$15,CalculationsAndCharts!$A791+$A$11,0,1,1)","v":828700},{"$f":"OFFSET(InputPriceData!C$15,CalculationsAndCharts!$A791+$A$11,IF($C$7,7,0),1,1)","v":28.83},{"$f":"OFFSET(InputPriceData!D$15,CalculationsAndCharts!$A791+$A$11,IF($C$7,7,0),1,1)","v":28.88},{"$f":"OFFSET(InputPriceData!E$15,CalculationsAndCharts!$A791+$A$11,IF($C$7,7,0),1,1)","v":28.21},{"$f":"OFFSET(InputPriceData!F$15,CalculationsAndCharts!$A791+$A$11,IF($C$7,7,0),1,1)","v":28.35},{"$error":"#N/A"},{"$error":"#N/A"},{"$error":"#N/A"},28.360360946671435,28.360360946671435,-8.1353837472624216E-2,-5.8584061112272628E-2,0.19163711335433406,-1.0548345048277867,0.79925642042974532,0.5729138578382702,null,30,27.9,0.2142857142857155,{"$error":"#N/A"},0.2,0.8,{"$error":"#N/A"},{"$error":"#N/A"},{"$error":"#N/A"},{"$error":"#N/A"},false,false,true,false,false,{"$error":"#N/A"},{"$error":"#N/A"},{"$error":"#N/A"},{"$error":"#N/A"},false,false,false,false,false,{"$error":"#N/A"},{"$error":"#N/A"},{"$error":"#N/A"},{"$error":"#N/A"}]
[760,{"$f":"OFFSET(InputPriceData!B$15,CalculationsAndCharts!$A792+$A$11,0,1,1)","v":"2010-11-03"},{"$f":"OFFSET(InputPriceData!G$15,CalculationsAndCharts!$A792+$A$11,0,1,1)","v":504700},{"$f":"OFFSET(InputPriceData!C$15,CalculationsAndCharts!$A792+$A$11,IF($C$7,7,0),1,1)","v":28.84},{"$f":"OFFSET(InputPriceData!D$15,CalculationsAndCharts!$A792+$A$11,IF($C$7,7,0),1,1)","v":28.89},{"$f":"OFFSET(InputPriceData!E$15,CalculationsAndCharts!$A792+$A$11,IF($C$7,7,0),1,1)","v":28.48},{"$f":"OFFSET(InputPriceData!F$15,CalculationsAndCharts!$A792+$A$11,IF($C$7,7,0),1,1)","v":28.55},{"$error":"#N/A"},{"$error":"#N/A"},{"$error":"#N/A"},28.253042431694301,28.253042431694301,0.11967368982064597,-0.19194811301926673,0.19163711335433406,-1.0548345048277867,0.69226316846826474,0.46094686518960892,null,30,27.9,0.30952380952381031,{"$error":"#N/A"},0.2,0.8,{"$error":"#N/A"},{"$error":"#N/A"},{"$error":"#N/A"},{"$error":"#N/A"},false,false,true,false,false,{"$error":"#N/A"},{"$error":"#N/A"},{"$error":"#N/A"},{"$error":"#N/A"},false,false,false,false,false,{"$error":"#N/A"},{"$error":"#N/A"},{"$error":"#N/A"},{"$error":"#N/A"}]
[761,{"$f":"OFFSET(InputPriceData!B$15,CalculationsAndCharts!$A793+$A$11,0,1,1)","v":"2010-11-02"},{"$f":"OFFSET(InputPriceData!G$15,CalculationsAndCharts!$A793+$A$11,0,1,1)","v":1256000},{"$f":"OFFSET(InputPriceData!C$15,CalculationsAndCharts!$A793+$A$11,IF($C$7,7,0),1,1)","v":28.12},{"$f":"OFFSET(InputPriceData!D$15,CalculationsAndCharts!$A793+$A$11,IF($C$7,7,0),1,1)","v":28.9},{"$f":"OFFSET(InputPriceData!E$15,CalculationsAndCharts!$A793+$A$11,IF($C$7,7,0),1,1)","v":28.05},{"$f":"OFFSET(InputPriceData!F$15,CalculationsAndCharts!$A793+$A$11,IF($C$7,7,0),1,1)","v":28.64},{"$error":"#N/A"},{"$f":"IF($A793=$E$25,I$32,NA())","v":{"$error":"#N/A"}},{"$error":"#N/A"},28.113333806766114,28.113333806766114,0.23957022002938827,-0.38627322888595605,0.19163711335433406,-1.0548345048277867,0.53636301556298083,0.36400742913080941,null,30,27.9,0.35238095238095307,{"$error":"#N/A"},0.2,0.8,{"$error":"#N/A"},{"$error":"#N/A"},{"$error":"#N/A"},{"$error":"#N/A"},false,false,true,false,false,{"$error":"#N/A"},{"$error":"#N/A"},{"$error":"#N/A"},{"$error":"#N/A"},false,false,false,false,false,{"$error":"#N/A"},{"$error":"#N/A"},{"$error":"#N/A"},{"$error":"#N/A"}]
[762,{"$f":"OFFSET(InputPriceData!B$15,CalculationsAndCharts!$A794+$A$11,0,1,1)","v":"2010-11-01"},{"$f":"OFFSET(InputPriceData!G$15,CalculationsAndCharts!$A794+$A$11,0,1,1)","v":1598700},{"$f":"OFFSET(InputPriceData!C$15,CalculationsAndCharts!$A794+$A$11,IF($C$7,7,0),1,1)","v":28.22},{"$f":"OFFSET(InputPriceData!D$15,CalculationsAndCharts!$A794+$A$11,IF($C$7,7,0),1,1)","v":28.31},{"$f":"OFFSET(InputPriceData!E$15,CalculationsAndCharts!$A794+$A$11,IF($C$7,7,0),1,1)","v":27.58},{"$f":"OFFSET(InputPriceData!F$15,CalculationsAndCharts!$A794+$A$11,IF($C$7,7,0),1,1)","v":27.94},{"$error":"#N/A"},{"$error":"#N/A"},{"$error":"#N/A"},28.070099836002086,28.070099836002086,-0.48695424980466384,-0.51045900709397762,0.19163711335433406,-1.0548345048277867,0.4367331672804049,0.28236731666713349,null,30,27.9,1.9047619047620319E-2,{"$error":"#N/A"},0.2,0.8,{"$error":"#N/A"},{"$error":"#N/A"},{"$error":"#N/A"},{"$error":"#N/A"},false,false,true,false,false,{"$error":"#N/A"},{"$error":"#N/A"},{"$error":"#N/A"},{"$error":"#N/A"},false,false,false,false,false,{"$error":"#N/A"},{"$error":"#N/A"},{"$error":"#N/A"},{"$error":"#N/A"}]
[763,{"$f":"OFFSET(InputPriceData!B$15,CalculationsAndCharts!$A795+$A$11,0,1,1)","v":"2010-10-29"},{"$f":"OFFSET(InputPriceData!G$15,CalculationsAndCharts!$A795+$A$11,0,1,1)","v":1135400},{"$f":"OFFSET(InputPriceData!C$15,CalculationsAndCharts!$A795+$A$11,IF($C$7,7,0),1,1)","v":27.87},{"$f":"OFFSET(InputPriceData!D$15,CalculationsAndCharts!$A795+$A$11,IF($C$7,7,0),1,1)","v":28.45},{"$f":"OFFSET(InputPriceData!E$15,CalculationsAndCharts!$A795+$A$11,IF($C$7,7,0),1,1)","v":27.74},{"$f":"OFFSET(InputPriceData!F$15,CalculationsAndCharts!$A795+$A$11,IF($C$7,7,0),1,1)","v":28.19},{"$error":"#N/A"},{"$error":"#N/A"},{"$error":"#N/A"},28.100322571695436,28.100322571695436,-0.31234878572502034,-0.57435808352241624,0.36445726942061568,-1.0548345048277867,0.33853252024927061,0.20953713703390789,null,30,27.9,0.1380952380952393,{"$error":"#N/A"},0.2,0.8,{"$error":"#N/A"},{"$error":"#N/A"},{"$error":"#N/A"},{"$error":"#N/A"},false,false,true,false,false,{"$error":"#N/A"},{"$error":"#N/A"},{"$error":"#N/A"},{"$error":"#N/A"},false,false,false,false,false,{"$error":"#N/A"},{"$error":"#N/A"},{"$error":"#N/A"},{"$error":"#N/A"}]
[764,{"$f":"OFFSET(InputPriceData!B$15,CalculationsAndCharts!$A796+$A$11,0,1,1)","v":"2010-10-28"},{"$f":"OFFSET(InputPriceData!G$15,CalculationsAndCharts!$A796+$A$11,0,1,1)","v":581500},{"$f":"OFFSET(InputPriceData!C$15,CalculationsAndCharts!$A796+$A$11,IF($C$7,7,0),1,1)","v":28.02},{"$f":"OFFSET(InputPriceData!D$15,CalculationsAndCharts!$A796+$A$11,IF($C$7,7,0),1,1)","v":28.24},{"$f":"OFFSET(InputPriceData!E$15,CalculationsAndCharts!$A796+$A$11,IF($C$7,7,0),1,1)","v":27.94},{"$f":"OFFSET(InputPriceData!F$15,CalculationsAndCharts!$A796+$A$11,IF($C$7,7,0),1,1)","v":27.94},{"$error":"#N/A"},{"$error":"#N/A"},{"$error":"#N/A"},28.152064723560464,28.152064723560464,-0.64897300616213183,-0.62219392328376466,0.57075432259133962,-1.0548345048277867,0.2661439192042836,0.14207263919570942,null,30,27.9,1.9047619047620319E-2,{"$error":"#N/A"},0.2,0.8,{"$error":"#N/A"},{"$error":"#N/A"},{"$error":"#N/A"},{"$error":"#N/A"},false,{"$f":"AND(AD797,NOT(AF797))","v":false},true,false,false,{"$error":"#N/A"},{"$error":"#N/A"},{"$error":"#N/A"},{"$error":"#N/A"},false,false,false,false,false,{"$error":"#N/A"},{"$error":"#N/A"},{"$error":"#N/A"},{"$error":"#N/A"}]
[765,{"$f":"OFFSET(InputPriceData!B$15,CalculationsAndCharts!$A797+$A$11,0,1,1)","v":"2010-10-27"},{"$f":"OFFSET(InputPriceData!G$15,CalculationsAndCharts!$A797+$A$11,0,1,1)","v":1077100},{"$f":"OFFSET(InputPriceData!C$15,CalculationsAndCharts!$A797+$A$11,IF($C$7,7,0),1,1)","v":28.15},{"$f":"OFFSET(InputPriceData!D$15,CalculationsAndCharts!$A797+$A$11,IF($C$7,7,0),1,1)","v":28.15},{"$f":"OFFSET(InputPriceData!E$15,CalculationsAndCharts!$A797+$A$11,IF($C$7,7,0),1,1)","v":27.4},{"$f":"OFFSET(InputPriceData!F$15,CalculationsAndCharts!$A797+$A$11,IF($C$7,7,0),1,1)","v":27.94},{"$error":"#N/A"},{"$error":"#N/A"},{"$error":"#N/A"},28.224282769598481,28.224282769598481,-0.77316355122529423,-0.65139149891821024,0.649228720698794,-1.0548345048277867,0.2367535428651168,7.6680248142487847E-2,null,30,27.9,1.9047619047620319E-2,{"$error":"#N/A"},0.2,0.8,{"$error":"#N/A"},{"$error":"#N/A"},{"$error":"#N/A"},{"$error":"#N/A"},false,false,true,false,false,{"$error":"#N/A"},{"$error":"#N/A"},{"$error":"#N/A"},{"$error":"#N/A"},false,false,false,false,false,{"$error":"#N/A"},{"$error":"#N/A"},{"$error":"#N/A"},{"$error":"#N/A"}]
[766,{"$f":"OFFSET(InputPriceData!B$15,CalculationsAndCharts!$A798+$A$11,0,1,1)","v":"2010-10-26"},{"$f":"OFFSET(InputPriceData!G$15,CalculationsAndCharts!$A798+$A$11,0,1,1)","v":472700},{"$f":"OFFSET(InputPriceData!C$15,CalculationsAndCharts!$A798+$A$11,IF($C$7,7,0),1,1)","v":28.43},{"$f":"OFFSET(InputPriceData!D$15,CalculationsAndCharts!$A798+$A$11,IF($C$7,7,0),1,1)","v":28.47},{"$f":"OFFSET(InputPriceData!E$15,CalculationsAndCharts!$A798+$A$11,IF($C$7,7,0),1,1)","v":28},{"$f":"OFFSET(InputPriceData!F$15,CalculationsAndCharts!$A798+$A$11,IF($C$7,7,0),1,1)","v":28.32},{"$error":"#N/A"},{"$error":"#N/A"},{"$error":"#N/A"},28.224905378718738,28.224905378718738,-0.49755695234987041,-0.75910916873764034,0.649228720698794,-1.0548345048277867,0.17354129333949034,2.5251763388200985E-2,null,30,27.9,0.20000000000000068,{"$error":"#N/A"},0.2,0.8,{"$error":"#N/A"},{"$error":"#N/A"},{"$error":"#N/A"},{"$error":"#N/A"},false,false,true,false,false,{"$error":"#N/A"},{"$error":"#N/A"},{"$error":"#N/A"},{"$error":"#N/A"},false,false,false,false,false,{"$error":"#N/A"},{"$error":"#N/A"},{"$error":"#N/A"},{"$error":"#N/A"}]
[767,{"$f":"OFFSET(InputPriceData!B$15,CalculationsAndCharts!$A799+$A$11,0,1,1)","v":"2010-10-25"},{"$f":"OFFSET(InputPriceData!G$15,CalculationsAndCharts!$A799+$A$11,0,1,1)","v":830800},{"$f":"OFFSET(InputPriceData!C$15,CalculationsAndCharts!$A799+$A$11,IF($C$7,7,0),1,1)","v":28.38},{"$f":"OFFSET(InputPriceData!D$15,CalculationsAndCharts!$A799+$A$11,IF($C$7,7,0),1,1)","v":28.87},{"$f":"OFFSET(InputPriceData!E$15,CalculationsAndCharts!$A799+$A$11,IF($C$7,7,0),1,1)","v":28.18},{"$f":"OFFSET(InputPriceData!F$15,CalculationsAndCharts!$A799+$A$11,IF($C$7,7,0),1,1)","v":28.59},{"$error":"#N/A"},{"$error":"#N/A"},{"$error":"#N/A"},28.16800895964041,28.16800895964041,-0.28207289782600808,-0.9448450605231602,0.649228720698794,-1.0548345048277867,6.4545401049094397E-2,1.0929806696992603E-2,null,30,27.9,0.32857142857142896,{"$error":"#N/A"},0.2,0.8,{"$error":"#N/A"},{"$error":"#N/A"},{"$error":"#N/A"},{"$error":"#N/A"},false,false,true,false,false,{"$error":"#N/A"},{"$error":"#N/A"},{"$error":"#N/A"},{"$error":"#N/A"},false,false,false,false,false,{"$error":"#N/A"},{"$error":"#N/A"},{"$error":"#N/A"},{"$error":"#N/A"}]
[768,{"$f":"OFFSET(InputPriceData!B$15,CalculationsAndCharts!$A800+$A$11,0,1,1)","v":"2010-10-22"},{"$f":"OFFSET(InputPriceData!G$15,CalculationsAndCharts!$A800+$A$11,0,1,1)","v":795900},{"$f":"OFFSET(InputPriceData!C$15,CalculationsAndCharts!$A800+$A$11,IF($C$7,7,0),1,1)","v":28},{"$f":"OFFSET(InputPriceData!D$15,CalculationsAndCharts!$A800+$A$11,IF($C$7,7,0),1,1)","v":28.27},{"$f":"OFFSET(InputPriceData!E$15,CalculationsAndCharts!$A800+$A$11,IF($C$7,7,0),1,1)","v":27.96},{"$f":"OFFSET(InputPriceData!F$15,CalculationsAndCharts!$A800+$A$11,IF($C$7,7,0),1,1)","v":28.2},{"$error":"#N/A"},{"$error":"#N/A"},{"$error":"#N/A"},28.206305226275298,28.206305226275298,-0.74569382491021396,-1.0548345048277867,0.649228720698794,-1.0548345048277867,0,4.2647541184444152E-2,null,30,27.9,0.1428571428571431,{"$error":"#N/A"},0.2,0.8,28,{"$error":"#N/A"},{"$error":"#N/A"},{"$error":"#N/A"},false,true,true,false,false,28,{"$error":"#N/A"},28,{"$error":"#N/A"},false,false,false,false,true,{"$error":"#N/A"},28,{"$error":"#N/A"},28]
[769,{"$f":"OFFSET(InputPriceData!B$15,CalculationsAndCharts!$A801+$A$11,0,1,1)","v":"2010-10-21"},{"$f":"OFFSET(InputPriceData!G$15,CalculationsAndCharts!$A801+$A$11,0,1,1)","v":478300},{"$f":"OFFSET(InputPriceData!C$15,CalculationsAndCharts!$A801+$A$11,IF($C$7,7,0),1,1)","v":28.22},{"$f":"OFFSET(InputPriceData!D$15,CalculationsAndCharts!$A801+$A$11,IF($C$7,7,0),1,1)","v":28.56},{"$f":"OFFSET(InputPriceData!E$15,CalculationsAndCharts!$A801+$A$11,IF($C$7,7,0),1,1)","v":27.76},{"$f":"OFFSET(InputPriceData!F$15,CalculationsAndCharts!$A801+$A$11,IF($C$7,7,0),1,1)","v":27.9},{"$f":"IF($A801=$E$25,H$32,NA())","v":{"$error":"#N/A"}},{"$error":"#N/A"},{"$error":"#N/A"},{"$f":"$F$16*(G801+G802)/2+$F$17*K802+$F$18*K803","v":28.415549932215214},28.415549932215214,{"$f":"$D$21*(G801 - 2*G802 + G803) + $D$20*M802 - $F$20*M803","v":-1.1977462452179246},-0.9893237621223796,0.649228720698794,-0.9893237621223796,{"$f":"IFERROR(IF($A801>$A$8,0,(N801-P801)/(O801-P801)),1)","v":0},{"$f":"IF($A801>$A$8,0,$F$16*(Q801+Q802)/2+$F$17*R802+$F$18*R803)","v":0.11337879915852872},null,{"$f":"MAX(OFFSET(G801,0,0,$A$22,1))","v":30},{"$f":"MIN(OFFSET(G801,0,0,$A$22,1))","v":27.9},{"$f":"IFERROR(IF($A801>$A$8,0,(G801-U801)/(T801-U801)),1)","v":0},{"$error":"#N/A"},0.2,0.8,{"$f":"IF($S$7,AI801,NA())","v":{"$error":"#N/A"}},{"$f":"IF($S$7,AJ801,NA())","v":{"$error":"#N/A"}},{"$f":"IF($S$7,IF(AD801,R801,NA()),NA())","v":0.11337879915852872},{"$f":"IF($S$7,IF(AG801,R801,NA()),NA())","v":{"$error":"#N/A"}},{"$f":"IF(AND(R802>$X$32,R801<$X$32),TRUE,FALSE)","v":true},false,false,{"$f":"IF(AND(AF801,R802<$Y$32,R801>$Y$32),TRUE,FALSE)","v":false},false,{"$f":"IF(AE801,D801,NA())","v":{"$error":"#N/A"}},{"$f":"IF(AH801,D801,NA())","v":{"$error":"#N/A"}},{"$f":"IF($S$7,AI801,NA())","v":{"$error":"#N/A"}},{"$f":"IF($S$7,AJ801,NA())","v":{"$error":"#N/A"}},{"$f":"IF(AND(R802<$Y$32,R801>$Y$32),TRUE,FALSE)","v":false},false,true,{"$f":"IF(AND(AO802,R802>$X$32,R801<$X$32),TRUE,FALSE)","v":true},false,{"$f":"IF(AN801,D801,NA())","v":{"$error":"#N/A"}},{"$f":"IF(AQ801,D801,NA())","v":{"$error":"#N/A"}},{"$error":"#N/A"},{"$error":"#N/A"}]
[770,{"$f":"OFFSET(InputPriceData!B$15,CalculationsAndCharts!$A802+$A$11,0,1,1)","v":"2010-10-20"},{"$f":"OFFSET(InputPriceData!G$15,CalculationsAndCharts!$A802+$A$11,0,1,1)","v":521300},{"$f":"OFFSET(InputPriceData!C$15,CalculationsAndCharts!$A802+$A$11,IF($C$7,7,0),1,1)","v":28.21},{"$f":"OFFSET(InputPriceData!D$15,CalculationsAndCharts!$A802+$A$11,IF($C$7,7,0),1,1)","v":28.47},{"$f":"OFFSET(InputPriceData!E$15,CalculationsAndCharts!$A802+$A$11,IF($C$7,7,0),1,1)","v":27.95},{"$f":"OFFSET(InputPriceData!F$15,CalculationsAndCharts!$A802+$A$11,IF($C$7,7,0),1,1)","v":28.1},{"$error":"#N/A"},{"$error":"#N/A"},{"$error":"#N/A"},28.699314188061546,{"$f":"IF($S$5,K802,NA())","v":28.699314188061546},-1.1808300855017602,{"$f":"$F$16*(M802+M803)/2+$F$17*N803+$F$18*N804","v":-0.81921067593431107},{"$f":"MAX(OFFSET(N802,0,0,$A$22,1))","v":0.649228720698794},-0.81921067593431107,0,0.21557059168777343,null,30,27.45,0.25490196078431449,{"$f":"IF($S$18,V802,NA())","v":{"$error":"#N/A"}},{"$f":"$X$32","v":0.2},{"$f":"$Y$32","v":0.8},{"$error":"#N/A"},{"$error":"#N/A"},{"$error":"#N/A"},{"$error":"#N/A"},false,false,{"$f":"IF(AF803,IF(AH803,FALSE,AF803),IF(AE802,TRUE,AF803))","v":false},false,false,{"$error":"#N/A"},{"$error":"#N/A"},{"$error":"#N/A"},{"$error":"#N/A"},false,false,{"$f":"IF(AO803,IF(AP803,FALSE,AO803),IF(AN802,TRUE,AO803))","v":true},false,false,{"$error":"#N/A"},{"$error":"#N/A"},{"$f":"IF($S$5,AR802,NA())","v":{"$error":"#N/A"}},{"$error":"#N/A"}]
[771,{"$f":"OFFSET(InputPriceData!B$15,CalculationsAndCharts!$A803+$A$11,0,1,1)","v":"2010-10-19"},{"$f":"OFFSET(InputPriceData!G$15,CalculationsAndCharts!$A803+$A$11,0,1,1)","v":943400},{"$f":"OFFSET(InputPriceData!C$15,CalculationsAndCharts!$A803+$A$11,IF($C$7,7,0),1,1)","v":29.15},{"$f":"OFFSET(InputPriceData!D$15,CalculationsAndCharts!$A803+$A$11,IF($C$7,7,0),1,1)","v":29.32},{"$f":"OFFSET(InputPriceData!E$15,CalculationsAndCharts!$A803+$A$11,IF($C$7,7,0),1,1)","v":27.95},{"$f":"OFFSET(InputPriceData!F$15,CalculationsAndCharts!$A803+$A$11,IF($C$7,7,0),1,1)","v":28.11},{"$error":"#N/A"},{"$error":"#N/A"},{"$error":"#N/A"},28.958843052836588,28.958843052836588,-1.358232214177181,-0.63337512480233227,0.649228720698794,-0.80832618984439197,0.12003051396318291,0.3313589044133326,null,30,27.45,0.25882352941176467,{"$error":"#N/A"},0.2,0.8,{"$error":"#N/A"},{"$error":"#N/A"},{"$error":"#N/A"},{"$error":"#N/A"},false,false,false,false,false,{"$error":"#N/A"},{"$error":"#N/A"},{"$error":"#N/A"},{"$error":"#N/A"},false,false,true,false,false,{"$error":"#N/A"},{"$error":"#N/A"},{"$error":"#N/A"},{"$error":"#N/A"}]
[772,{"$f":"OFFSET(InputPriceData!B$15,CalculationsAndCharts!$A804+$A$11,0,1,1)","v":"2010-10-18"},{"$f":"OFFSET(InputPriceData!G$15,CalculationsAndCharts!$A804+$A$11,0,1,1)","v":203800},{"$f":"OFFSET(InputPriceData!C$15,CalculationsAndCharts!$A804+$A$11,IF($C$7,7,0),1,1)","v":28.99},{"$f":"OFFSET(InputPriceData!D$15,CalculationsAndCharts!$A804+$A$11,IF($C$7,7,0),1,1)","v":29.34},{"$f":"OFFSET(InputPriceData!E$15,CalculationsAndCharts!$A804+$A$11,IF($C$7,7,0),1,1)","v":28.95},{"$f":"OFFSET(InputPriceData!F$15,CalculationsAndCharts!$A804+$A$11,IF($C$7,7,0),1,1)","v":29.34},{"$error":"#N/A"},{"$error":"#N/A"},{"$error":"#N/A"},29.064341602641417,29.064341602641417,-0.21760451945655823,-0.5730728822924841,0.649228720698794,-0.94906830381070473,0.23524752643120878,0.44587902608645763,null,30,27.45,0.74117647058823533,{"$error":"#N/A"},0.2,0.8,{"$error":"#N/A"},{"$error":"#N/A"},{"$error":"#N/A"},{"$error":"#N/A"},false,false,false,false,false,{"$error":"#N/A"},{"$error":"#N/A"},{"$error":"#N/A"},{"$error":"#N/A"},false,false,true,false,false,{"$error":"#N/A"},{"$error":"#N/A"},{"$error":"#N/A"},{"$error":"#N/A"}]
[773,{"$f":"OFFSET(InputPriceData!B$15,CalculationsAndCharts!$A805+$A$11,0,1,1)","v":"2010-10-15"},{"$f":"OFFSET(InputPriceData!G$15,CalculationsAndCharts!$A805+$A$11,0,1,1)","v":292600},{"$f":"OFFSET(InputPriceData!C$15,CalculationsAndCharts!$A805+$A$11,IF($C$7,7,0),1,1)","v":29.16},{"$f":"OFFSET(InputPriceData!D$15,CalculationsAndCharts!$A805+$A$11,IF($C$7,7,0),1,1)","v":29.2},{"$f":"OFFSET(InputPriceData!E$15,CalculationsAndCharts!$A805+$A$11,IF($C$7,7,0),1,1)","v":28.87},{"$f":"OFFSET(InputPriceData!F$15,CalculationsAndCharts!$A805+$A$11,IF($C$7,7,0),1,1)","v":28.93},{"$error":"#N/A"},{"$error":"#N/A"},{"$error":"#N/A"},29.111994008007805,29.111994008007805,-0.64576323449014039,-0.55868594471531208,0.649228720698794,-1.1359800148770769,0.3233762297132956,0.55922590520381965,null,30,27.45,0.58039215686274515,{"$error":"#N/A"},0.2,0.8,{"$error":"#N/A"},{"$error":"#N/A"},{"$error":"#N/A"},{"$error":"#N/A"},false,false,false,false,false,{"$error":"#N/A"},{"$error":"#N/A"},{"$error":"#N/A"},{"$error":"#N/A"},false,false,true,false,false,{"$error":"#N/A"},{"$error":"#N/A"},{"$error":"#N/A"},{"$error":"#N/A"}]
[774,{"$f":"OFFSET(InputPriceData!B$15,CalculationsAndCharts!$A806+$A$11,0,1,1)","v":"2010-10-14"},{"$f":"OFFSET(InputPriceData!G$15,CalculationsAndCharts!$A806+$A$11,0,1,1)","v":824700},{"$f":"OFFSET(InputPriceData!C$15,CalculationsAndCharts!$A806+$A$11,IF($C$7,7,0),1,1)","v":29.21},{"$f":"OFFSET(InputPriceData!D$15,CalculationsAndCharts!$A806+$A$11,IF($C$7,7,0),1,1)","v":29.25},{"$f":"OFFSET(InputPriceData!E$15,CalculationsAndCharts!$A806+$A$11,IF($C$7,7,0),1,1)","v":28.15},{"$f":"OFFSET(InputPriceData!F$15,CalculationsAndCharts!$A806+$A$11,IF($C$7,7,0),1,1)","v":29},{"$error":"#N/A"},{"$error":"#N/A"},{"$error":"#N/A"},29.242012305575663,29.242012305575663,-0.62728207276294201,-0.44554211081519907,0.649228720698794,-1.3153074952310275,0.44273318932131045,0.66253537568394694,null,30,27.42,0.61240310077519355,{"$error":"#N/A"},0.2,0.8,{"$error":"#N/A"},{"$error":"#N/A"},{"$error":"#N/A"},{"$error":"#N/A"},false,false,false,false,false,{"$error":"#N/A"},{"$error":"#N/A"},{"$error":"#N/A"},{"$error":"#N/A"},false,false,true,false,false,{"$error":"#N/A"},{"$error":"#N/A"},{"$error":"#N/A"},{"$error":"#N/A"}]
[775,{"$f":"OFFSET(InputPriceData!B$15,CalculationsAndCharts!$A807+$A$11,0,1,1)","v":"2010-10-13"},{"$f":"OFFSET(InputPriceData!G$15,CalculationsAndCharts!$A807+$A$11,0,1,1)","v":604800},{"$f":"OFFSET(InputPriceData!C$15,CalculationsAndCharts!$A807+$A$11,IF($C$7,7,0),1,1)","v":29},{"$f":"OFFSET(InputPriceData!D$15,CalculationsAndCharts!$A807+$A$11,IF($C$7,7,0),1,1)","v":29.32},{"$f":"OFFSET(InputPriceData!E$15,CalculationsAndCharts!$A807+$A$11,IF($C$7,7,0),1,1)","v":28.76},{"$f":"OFFSET(InputPriceData!F$15,CalculationsAndCharts!$A807+$A$11,IF($C$7,7,0),1,1)","v":29.24},{"$error":"#N/A"},{"$error":"#N/A"},{"$error":"#N/A"},29.38764151159257,29.38764151159257,-0.41221260009086474,-0.28799156466671288,0.649228720698794,-1.5049166173137869,0.56492244565532046,0.74170722995457217,null,30,27.42,0.70542635658914654,{"$error":"#N/A"},0.2,0.8,{"$error":"#N/A"},{"$error":"#N/A"},{"$error":"#N/A"},{"$error":"#N/A"},false,false,false,false,false,{"$error":"#N/A"},{"$error":"#N/A"},{"$error":"#N/A"},{"$error":"#N/A"},false,false,true,false,false,{"$error":"#N/A"},{"$error":"#N/A"},{"$error":"#N/A"},{"$error":"#N/A"}]
[776,{"$f":"OFFSET(InputPriceData!B$15,CalculationsAndCharts!$A808+$A$11,0,1,1)","v":"2010-10-12"},{"$f":"OFFSET(InputPriceData!G$15,CalculationsAndCharts!$A808+$A$11,0,1,1)","v":970800},{"$f":"OFFSET(InputPriceData!C$15,CalculationsAndCharts!$A808+$A$11,IF($C$7,7,0),1,1)","v":29.31},{"$f":"OFFSET(InputPriceData!D$15,CalculationsAndCharts!$A808+$A$11,IF($C$7,7,0),1,1)","v":29.68},{"$f":"OFFSET(InputPriceData!E$15,CalculationsAndCharts!$A808+$A$11,IF($C$7,7,0),1,1)","v":28.68},{"$f":"OFFSET(InputPriceData!F$15,CalculationsAndCharts!$A808+$A$11,IF($C$7,7,0),1,1)","v":28.81},{"$error":"#N/A"},{"$error":"#N/A"},{"$error":"#N/A"},29.576993431825493,29.576993431825493,-0.88609996630272381,-4.7568704710072671E-2,0.649228720698794,{"$f":"MIN(OFFSET(N808,0,0,$A$22,1))","v":-1.7006484450916397},0.70347495794552173,0.78779617316242867,null,30,27.42,0.5387596899224798,{"$error":"#N/A"},0.2,0.8,{"$error":"#N/A"},{"$error":"#N/A"},{"$error":"#N/A"},{"$error":"#N/A"},false,false,false,false,false,{"$error":"#N/A"},{"$error":"#N/A"},{"$error":"#N/A"},{"$error":"#N/A"},false,false,true,false,false,{"$error":"#N/A"},{"$error":"#N/A"},{"$error":"#N/A"},{"$error":"#N/A"}]
[777,{"$f":"OFFSET(InputPriceData!B$15,CalculationsAndCharts!$A809+$A$11,0,1,1)","v":"2010-10-11"},{"$f":"OFFSET(InputPriceData!G$15,CalculationsAndCharts!$A809+$A$11,0,1,1)","v":649900},{"$f":"OFFSET(InputPriceData!C$15,CalculationsAndCharts!$A809+$A$11,IF($C$7,7,0),1,1)","v":30.07},{"$f":"OFFSET(InputPriceData!D$15,CalculationsAndCharts!$A809+$A$11,IF($C$7,7,0),1,1)","v":30.07},{"$f":"OFFSET(InputPriceData!E$15,CalculationsAndCharts!$A809+$A$11,IF($C$7,7,0),1,1)","v":29.27},{"$f":"OFFSET(InputPriceData!F$15,CalculationsAndCharts!$A809+$A$11,IF($C$7,7,0),1,1)","v":29.34},{"$error":"#N/A"},{"$error":"#N/A"},{"$error":"#N/A"},29.697643623772201,29.697643623772201,-0.39264969111845349,0.16672912359282652,0.649228720698794,-1.8447938705598426,0.80653759962035121,0.80532130501118893,null,30,27.4,0.74615384615384628,{"$error":"#N/A"},0.2,0.8,{"$error":"#N/A"},{"$error":"#N/A"},{"$error":"#N/A"},{"$error":"#N/A"},false,false,false,false,false,{"$error":"#N/A"},{"$error":"#N/A"},{"$error":"#N/A"},{"$error":"#N/A"},false,false,true,false,false,{"$error":"#N/A"},{"$error":"#N/A"},{"$error":"#N/A"},{"$error":"#N/A"}]
[778,{"$f":"OFFSET(InputPriceData!B$15,CalculationsAndCharts!$A810+$A$11,0,1,1)","v":"2010-10-08"},{"$f":"OFFSET(InputPriceData!G$15,CalculationsAndCharts!$A810+$A$11,0,1,1)","v":385200},{"$f":"OFFSET(InputPriceData!C$15,CalculationsAndCharts!$A810+$A$11,IF($C$7,7,0),1,1)","v":29.8},{"$f":"OFFSET(InputPriceData!D$15,CalculationsAndCharts!$A810+$A$11,IF($C$7,7,0),1,1)","v":30.13},{"$f":"OFFSET(InputPriceData!E$15,CalculationsAndCharts!$A810+$A$11,IF($C$7,7,0),1,1)","v":29.54},{"$f":"OFFSET(InputPriceData!F$15,CalculationsAndCharts!$A810+$A$11,IF($C$7,7,0),1,1)","v":30},{"$error":"#N/A"},{"$error":"#N/A"},{"$error":"#N/A"},29.607774540447096,29.607774540447096,0.34792412996362615,0.19163711335433406,0.649228720698794,-1.9446964761872993,0.82359105501817054,0.81696407926876136,null,30,27.4,1,{"$error":"#N/A"},0.2,0.8,{"$error":"#N/A"},{"$error":"#N/A"},{"$error":"#N/A"},{"$error":"#N/A"},false,false,false,false,false,{"$error":"#N/A"},{"$error":"#N/A"},{"$error":"#N/A"},{"$error":"#N/A"},false,false,true,false,false,{"$error":"#N/A"},{"$error":"#N/A"},{"$error":"#N/A"},{"$error":"#N/A"}]
[779,{"$f":"OFFSET(InputPriceData!B$15,CalculationsAndCharts!$A811+$A$11,0,1,1)","v":"2010-10-07"},{"$f":"OFFSET(InputPriceData!G$15,CalculationsAndCharts!$A811+$A$11,0,1,1)","v":335700},{"$f":"OFFSET(InputPriceData!C$15,CalculationsAndCharts!$A811+$A$11,IF($C$7,7,0),1,1)","v":29.79},{"$f":"OFFSET(InputPriceData!D$15,CalculationsAndCharts!$A811+$A$11,IF($C$7,7,0),1,1)","v":29.98},{"$f":"OFFSET(InputPriceData!E$15,CalculationsAndCharts!$A811+$A$11,IF($C$7,7,0),1,1)","v":29.48},{"$f":"OFFSET(InputPriceData!F$15,CalculationsAndCharts!$A811+$A$11,IF($C$7,7,0),1,1)","v":29.83},{"$error":"#N/A"},{"$error":"#N/A"},{"$error":"#N/A"},29.427569541534453,29.427569541534453,0.32347618925458094,0.12048909012246931,0.649228720698794,-1.9938780101262958,0.7999552479625861,0.8441023808478112,null,29.83,27.4,1,{"$error":"#N/A"},0.2,0.8,{"$error":"#N/A"},{"$error":"#N/A"},{"$error":"#N/A"},{"$error":"#N/A"},false,false,false,false,false,{"$error":"#N/A"},{"$error":"#N/A"},{"$error":"#N/A"},{"$error":"#N/A"},false,false,true,false,false,{"$error":"#N/A"},{"$error":"#N/A"},{"$error":"#N/A"},{"$error":"#N/A"}]
[780,{"$f":"OFFSET(InputPriceData!B$15,CalculationsAndCharts!$A812+$A$11,0,1,1)","v":"2010-10-06"},{"$f":"OFFSET(InputPriceData!G$15,CalculationsAndCharts!$A812+$A$11,0,1,1)","v":304000},{"$f":"OFFSET(InputPriceData!C$15,CalculationsAndCharts!$A812+$A$11,IF($C$7,7,0),1,1)","v":29.2},{"$f":"OFFSET(InputPriceData!D$15,CalculationsAndCharts!$A812+$A$11,IF($C$7,7,0),1,1)","v":29.76},{"$f":"OFFSET(InputPriceData!E$15,CalculationsAndCharts!$A812+$A$11,IF($C$7,7,0),1,1)","v":29.16},{"$f":"OFFSET(InputPriceData!F$15,CalculationsAndCharts!$A812+$A$11,IF($C$7,7,0),1,1)","v":29.76},{"$error":"#N/A"},{"$error":"#N/A"},{"$error":"#N/A"},29.289422862987294,29.289422862987294,0.40094569369585226,7.995739748345726E-2,0.649228720698794,-1.9938780101262958,0.78462038003375323,0.89018750526547841,null,29.76,27.33,1,{"$error":"#N/A"},0.2,0.8,{"$error":"#N/A"},{"$error":"#N/A"},{"$error":"#N/A"},{"$error":"#N/A"},false,false,false,false,false,{"$error":"#N/A"},{"$error":"#N/A"},{"$error":"#N/A"},{"$error":"#N/A"},false,false,true,false,false,{"$error":"#N/A"},{"$error":"#N/A"},{"$error":"#N/A"},{"$error":"#N/A"}]
[781,{"$f":"OFFSET(InputPriceData!B$15,CalculationsAndCharts!$A813+$A$11,0,1,1)","v":"2010-10-05"},{"$f":"OFFSET(InputPriceData!G$15,CalculationsAndCharts!$A813+$A$11,0,1,1)","v":330800},{"$f":"OFFSET(InputPriceData!C$15,CalculationsAndCharts!$A813+$A$11,IF($C$7,7,0),1,1)","v":29.09},{"$f":"OFFSET(InputPriceData!D$15,CalculationsAndCharts!$A813+$A$11,IF($C$7,7,0),1,1)","v":29.38},{"$f":"OFFSET(InputPriceData!E$15,CalculationsAndCharts!$A813+$A$11,IF($C$7,7,0),1,1)","v":29.01},{"$f":"OFFSET(InputPriceData!F$15,CalculationsAndCharts!$A813+$A$11,IF($C$7,7,0),1,1)","v":29.24},{"$error":"#N/A"},{"$f":"IF($A813=$E$25,I$32,NA())","v":{"$error":"#N/A"}},{"$error":"#N/A"},29.264702672421478,29.264702672421478,-4.3491768700002226E-3,0.15512611661409267,0.649228720698794,-2.0104959859644453,0.81422791507449721,0.94198294833301854,null,29.76,27.33,0.78600823045267387,{"$error":"#N/A"},0.2,0.8,{"$error":"#N/A"},{"$error":"#N/A"},{"$error":"#N/A"},{"$error":"#N/A"},false,false,false,false,false,{"$error":"#N/A"},{"$error":"#N/A"},{"$error":"#N/A"},{"$error":"#N/A"},false,false,true,false,false,{"$error":"#N/A"},{"$error":"#N/A"},{"$error":"#N/A"},{"$error":"#N/A"}]
[782,{"$f":"OFFSET(InputPriceData!B$15,CalculationsAndCharts!$A814+$A$11,0,1,1)","v":"2010-10-04"},{"$f":"OFFSET(InputPriceData!G$15,CalculationsAndCharts!$A814+$A$11,0,1,1)","v":413300},{"$f":"OFFSET(InputPriceData!C$15,CalculationsAndCharts!$A814+$A$11,IF($C$7,7,0),1,1)","v":29.06},{"$f":"OFFSET(InputPriceData!D$15,CalculationsAndCharts!$A814+$A$11,IF($C$7,7,0),1,1)","v":29.51},{"$f":"OFFSET(InputPriceData!E$15,CalculationsAndCharts!$A814+$A$11,IF($C$7,7,0),1,1)","v":28.93},{"$f":"OFFSET(InputPriceData!F$15,CalculationsAndCharts!$A814+$A$11,IF($C$7,7,0),1,1)","v":28.94},{"$error":"#N/A"},{"$error":"#N/A"},{"$error":"#N/A"},29.349414956369877,29.349414956369877,-0.25025790221551136,0.36445726942061568,0.649228720698794,-2.1529314931584915,0.89837431497673759,0.98017633768770263,null,29.76,27.33,0.66255144032921842,{"$error":"#N/A"},0.2,0.8,{"$error":"#N/A"},{"$error":"#N/A"},{"$error":"#N/A"},{"$error":"#N/A"},false,false,false,false,false,{"$error":"#N/A"},{"$error":"#N/A"},{"$error":"#N/A"},{"$error":"#N/A"},false,false,true,false,false,{"$error":"#N/A"},{"$error":"#N/A"},{"$error":"#N/A"},{"$error":"#N/A"}]
[783,{"$f":"OFFSET(InputPriceData!B$15,CalculationsAndCharts!$A815+$A$11,0,1,1)","v":"2010-10-01"},{"$f":"OFFSET(InputPriceData!G$15,CalculationsAndCharts!$A815+$A$11,0,1,1)","v":997300},{"$f":"OFFSET(InputPriceData!C$15,CalculationsAndCharts!$A815+$A$11,IF($C$7,7,0),1,1)","v":29.29},{"$f":"OFFSET(InputPriceData!D$15,CalculationsAndCharts!$A815+$A$11,IF($C$7,7,0),1,1)","v":29.41},{"$f":"OFFSET(InputPriceData!E$15,CalculationsAndCharts!$A815+$A$11,IF($C$7,7,0),1,1)","v":28.8},{"$f":"OFFSET(InputPriceData!F$15,CalculationsAndCharts!$A815+$A$11,IF($C$7,7,0),1,1)","v":29.15},{"$error":"#N/A"},{"$error":"#N/A"},{"$error":"#N/A"},29.395720351747954,29.395720351747954,1.6842417051813441E-2,0.57075432259133962,0.649228720698794,-2.4212609919502688,0.97444238364187497,0.99679748072429286,null,29.76,27.33,0.748971193415637,{"$error":"#N/A"},0.2,0.8,{"$error":"#N/A"},{"$error":"#N/A"},{"$error":"#N/A"},{"$error":"#N/A"},false,false,false,false,false,{"$error":"#N/A"},{"$error":"#N/A"},{"$error":"#N/A"},{"$error":"#N/A"},false,false,true,false,false,{"$error":"#N/A"},{"$error":"#N/A"},{"$error":"#N/A"},{"$error":"#N/A"}]
[784,{"$f":"OFFSET(InputPriceData!B$15,CalculationsAndCharts!$A816+$A$11,0,1,1)","v":"2010-09-30"},{"$f":"OFFSET(InputPriceData!G$15,CalculationsAndCharts!$A816+$A$11,0,1,1)","v":788100},{"$f":"OFFSET(InputPriceData!C$15,CalculationsAndCharts!$A816+$A$11,IF($C$7,7,0),1,1)","v":29.55},{"$f":"OFFSET(InputPriceData!D$15,CalculationsAndCharts!$A816+$A$11,IF($C$7,7,0),1,1)","v":29.66},{"$f":"OFFSET(InputPriceData!E$15,CalculationsAndCharts!$A816+$A$11,IF($C$7,7,0),1,1)","v":28.89},{"$f":"OFFSET(InputPriceData!F$15,CalculationsAndCharts!$A816+$A$11,IF($C$7,7,0),1,1)","v":29.25},{"$error":"#N/A"},{"$error":"#N/A"},{"$error":"#N/A"},29.292451069360428,29.292451069360428,0.21723704498205731,0.649228720698794,0.649228720698794,-2.8313089063577568,1,1.000042172903296,null,29.76,27.33,0.79012345679012308,{"$error":"#N/A"},0.2,0.8,{"$error":"#N/A"},{"$error":"#N/A"},{"$error":"#N/A"},{"$error":"#N/A"},false,false,false,false,false,{"$error":"#N/A"},{"$error":"#N/A"},{"$error":"#N/A"},{"$error":"#N/A"},false,false,true,false,false,{"$error":"#N/A"},{"$error":"#N/A"},{"$error":"#N/A"},{"$error":"#N/A"}]
[785,{"$f":"OFFSET(InputPriceData!B$15,CalculationsAndCharts!$A817+$A$11,0,1,1)","v":"2010-09-29"},{"$f":"OFFSET(InputPriceData!G$15,CalculationsAndCharts!$A817+$A$11,0,1,1)","v":884700},{"$f":"OFFSET(InputPriceData!C$15,CalculationsAndCharts!$A817+$A$11,IF($C$7,7,0),1,1)","v":29.83},{"$f":"OFFSET(InputPriceData!D$15,CalculationsAndCharts!$A817+$A$11,IF($C$7,7,0),1,1)","v":29.9},{"$f":"OFFSET(InputPriceData!E$15,CalculationsAndCharts!$A817+$A$11,IF($C$7,7,0),1,1)","v":28.98},{"$f":"OFFSET(InputPriceData!F$15,CalculationsAndCharts!$A817+$A$11,IF($C$7,7,0),1,1)","v":29.53},{"$error":"#N/A"},{"$error":"#N/A"},{"$error":"#N/A"},28.984468886725889,28.984468886725889,0.65429702541035584,0.5124869840835482,0.5124869840835482,-3.204300290331294,1,1.0000403514909602,null,29.76,27.33,0.90534979423868311,{"$error":"#N/A"},0.2,0.8,{"$error":"#N/A"},{"$error":"#N/A"},{"$error":"#N/A"},{"$error":"#N/A"},false,false,false,false,false,{"$error":"#N/A"},{"$error":"#N/A"},{"$error":"#N/A"},{"$error":"#N/A"},false,false,true,false,false,{"$error":"#N/A"},{"$error":"#N/A"},{"$error":"#N/A"},{"$error":"#N/A"}]
[786,{"$f":"OFFSET(InputPriceData!B$15,CalculationsAndCharts!$A818+$A$11,0,1,1)","v":"2010-09-28"},{"$f":"OFFSET(InputPriceData!G$15,CalculationsAndCharts!$A818+$A$11,0,1,1)","v":554800},{"$f":"OFFSET(InputPriceData!C$15,CalculationsAndCharts!$A818+$A$11,IF($C$7,7,0),1,1)","v":29.41},{"$f":"OFFSET(InputPriceData!D$15,CalculationsAndCharts!$A818+$A$11,IF($C$7,7,0),1,1)","v":29.83},{"$f":"OFFSET(InputPriceData!E$15,CalculationsAndCharts!$A818+$A$11,IF($C$7,7,0),1,1)","v":29.21},{"$f":"OFFSET(InputPriceData!F$15,CalculationsAndCharts!$A818+$A$11,IF($C$7,7,0),1,1)","v":29.76},{"$error":"#N/A"},{"$error":"#N/A"},{"$error":"#N/A"},28.485247171859626,28.485247171859626,1.1192199589312977,0.13280378760564243,0.13280378760564243,-3.3317281562300387,1,1.0000110884093569,null,29.76,27.31,1,{"$error":"#N/A"},0.2,0.8,{"$error":"#N/A"},{"$error":"#N/A"},{"$error":"#N/A"},{"$error":"#N/A"},false,false,false,false,false,{"$error":"#N/A"},{"$error":"#N/A"},{"$error":"#N/A"},{"$error":"#N/A"},false,false,true,false,false,{"$error":"#N/A"},{"$error":"#N/A"},{"$error":"#N/A"},{"$error":"#N/A"}]
[787,{"$f":"OFFSET(InputPriceData!B$15,CalculationsAndCharts!$A819+$A$11,0,1,1)","v":"2010-09-27"},{"$f":"OFFSET(InputPriceData!G$15,CalculationsAndCharts!$A819+$A$11,0,1,1)","v":2594300},{"$f":"OFFSET(InputPriceData!C$15,CalculationsAndCharts!$A819+$A$11,IF($C$7,7,0),1,1)","v":28.34},{"$f":"OFFSET(InputPriceData!D$15,CalculationsAndCharts!$A819+$A$11,IF($C$7,7,0),1,1)","v":29.38},{"$f":"OFFSET(InputPriceData!E$15,CalculationsAndCharts!$A819+$A$11,IF($C$7,7,0),1,1)","v":28.05},{"$f":"OFFSET(InputPriceData!F$15,CalculationsAndCharts!$A819+$A$11,IF($C$7,7,0),1,1)","v":29.25},{"$error":"#N/A"},{"$error":"#N/A"},{"$error":"#N/A"},27.98524868165147,27.98524868165147,0.85466392938240443,-0.32630753029436449,-0.32630753029436449,-3.3317281562300387,1,0.99993311553149722,null,29.25,27.31,1,{"$error":"#N/A"},0.2,0.8,{"$error":"#N/A"},{"$error":"#N/A"},{"$error":"#N/A"},{"$error":"#N/A"},false,false,false,false,false,{"$error":"#N/A"},{"$error":"#N/A"},{"$error":"#N/A"},{"$error":"#N/A"},false,false,true,false,false,{"$error":"#N/A"},{"$error":"#N/A"},{"$error":"#N/A"},{"$error":"#N/A"}]
[788,{"$f":"OFFSET(InputPriceData!B$15,CalculationsAndCharts!$A820+$A$11,0,1,1)","v":"2010-09-24"},{"$f":"OFFSET(InputPriceData!G$15,CalculationsAndCharts!$A820+$A$11,0,1,1)","v":650700},{"$f":"OFFSET(InputPriceData!C$15,CalculationsAndCharts!$A820+$A$11,IF($C$7,7,0),1,1)","v":27.67},{"$f":"OFFSET(InputPriceData!D$15,CalculationsAndCharts!$A820+$A$11,IF($C$7,7,0),1,1)","v":28.37},{"$f":"OFFSET(InputPriceData!E$15,CalculationsAndCharts!$A820+$A$11,IF($C$7,7,0),1,1)","v":27.61},{"$f":"OFFSET(InputPriceData!F$15,CalculationsAndCharts!$A820+$A$11,IF($C$7,7,0),1,1)","v":28.23},{"$error":"#N/A"},{"$error":"#N/A"},{"$error":"#N/A"},27.704925226427335,27.704925226427335,-3.2555907802529371E-2,-0.63431348940946286,-0.63431348940946286,-3.3953354463172287,1,0.99978470164721744,null,28.7,27.31,0.66187050359712329,{"$error":"#N/A"},0.2,0.8,{"$error":"#N/A"},{"$error":"#N/A"},{"$error":"#N/A"},{"$error":"#N/A"},false,false,false,false,false,{"$error":"#N/A"},{"$error":"#N/A"},{"$error":"#N/A"},{"$error":"#N/A"},false,false,true,false,false,{"$error":"#N/A"},{"$error":"#N/A"},{"$error":"#N/A"},{"$error":"#N/A"}]
[789,{"$f":"OFFSET(InputPriceData!B$15,CalculationsAndCharts!$A821+$A$11,0,1,1)","v":"2010-09-23"},{"$f":"OFFSET(InputPriceData!G$15,CalculationsAndCharts!$A821+$A$11,0,1,1)","v":585100},{"$f":"OFFSET(InputPriceData!C$15,CalculationsAndCharts!$A821+$A$11,IF($C$7,7,0),1,1)","v":27.39},{"$f":"OFFSET(InputPriceData!D$15,CalculationsAndCharts!$A821+$A$11,IF($C$7,7,0),1,1)","v":28},{"$f":"OFFSET(InputPriceData!E$15,CalculationsAndCharts!$A821+$A$11,IF($C$7,7,0),1,1)","v":27.29},{"$f":"OFFSET(InputPriceData!F$15,CalculationsAndCharts!$A821+$A$11,IF($C$7,7,0),1,1)","v":27.45},{"$error":"#N/A"},{"$error":"#N/A"},{"$error":"#N/A"},27.660408357309574,27.660408357309574,-0.8362773332270641,-0.73980114537824226,-0.73980114537824226,-3.5550022568112163,1,0.99955636426299432,null,28.7,27.31,0.10071942446043203,{"$error":"#N/A"},0.2,0.8,{"$error":"#N/A"},{"$error":"#N/A"},{"$error":"#N/A"},{"$error":"#N/A"},false,false,false,false,false,{"$error":"#N/A"},{"$error":"#N/A"},{"$error":"#N/A"},{"$error":"#N/A"},false,false,true,false,false,{"$error":"#N/A"},{"$error":"#N/A"},{"$error":"#N/A"},{"$error":"#N/A"}]
[790,{"$f":"OFFSET(InputPriceData!B$15,CalculationsAndCharts!$A822+$A$11,0,1,1)","v":"2010-09-22"},{"$f":"OFFSET(InputPriceData!G$15,CalculationsAndCharts!$A822+$A$11,0,1,1)","v":1424300},{"$f":"OFFSET(InputPriceData!C$15,CalculationsAndCharts!$A822+$A$11,IF($C$7,7,0),1,1)","v":27.75},{"$f":"OFFSET(InputPriceData!D$15,CalculationsAndCharts!$A822+$A$11,IF($C$7,7,0),1,1)","v":27.95},{"$f":"OFFSET(InputPriceData!E$15,CalculationsAndCharts!$A822+$A$11,IF($C$7,7,0),1,1)","v":27.47},{"$f":"OFFSET(InputPriceData!F$15,CalculationsAndCharts!$A822+$A$11,IF($C$7,7,0),1,1)","v":27.67},{"$error":"#N/A"},{"$error":"#N/A"},{"$error":"#N/A"},27.662703766793868,27.662703766793868,-0.69632234023424489,-0.80832618984439197,-0.80832618984439197,-3.663798212258671,1,0.99927423772167168,null,28.7,27.31,0.25899280575539774,{"$error":"#N/A"},0.2,0.8,{"$error":"#N/A"},{"$error":"#N/A"},{"$error":"#N/A"},{"$error":"#N/A"},false,false,false,false,false,{"$error":"#N/A"},{"$error":"#N/A"},{"$error":"#N/A"},{"$error":"#N/A"},false,false,true,false,false,{"$error":"#N/A"},{"$error":"#N/A"},{"$error":"#N/A"},{"$error":"#N/A"}]
[791,{"$f":"OFFSET(InputPriceData!B$15,CalculationsAndCharts!$A823+$A$11,0,1,1)","v":"2010-09-21"},{"$f":"OFFSET(InputPriceData!G$15,CalculationsAndCharts!$A823+$A$11,0,1,1)","v":893800},{"$f":"OFFSET(InputPriceData!C$15,CalculationsAndCharts!$A823+$A$11,IF($C$7,7,0),1,1)","v":27.86},{"$f":"OFFSET(InputPriceData!D$15,CalculationsAndCharts!$A823+$A$11,IF($C$7,7,0),1,1)","v":27.87},{"$f":"OFFSET(InputPriceData!E$15,CalculationsAndCharts!$A823+$A$11,IF($C$7,7,0),1,1)","v":27.27},{"$f":"OFFSET(InputPriceData!F$15,CalculationsAndCharts!$A823+$A$11,IF($C$7,7,0),1,1)","v":27.73},{"$error":"#N/A"},{"$error":"#N/A"},{"$error":"#N/A"},27.605074916960028,27.605074916960028,-0.69721400702004943,-0.94906830381070473,-0.94906830381070473,-3.663798212258671,1,0.99903496835994665,null,28.7,27.31,0.30215827338129608,{"$error":"#N/A"},0.2,0.8,{"$error":"#N/A"},{"$error":"#N/A"},{"$error":"#N/A"},{"$error":"#N/A"},false,false,false,false,false,{"$error":"#N/A"},{"$error":"#N/A"},{"$error":"#N/A"},{"$error":"#N/A"},false,false,true,false,false,{"$error":"#N/A"},{"$error":"#N/A"},{"$error":"#N/A"},{"$error":"#N/A"}]
[792,{"$f":"OFFSET(InputPriceData!B$15,CalculationsAndCharts!$A824+$A$11,0,1,1)","v":"2010-09-20"},{"$f":"OFFSET(InputPriceData!G$15,CalculationsAndCharts!$A824+$A$11,0,1,1)","v":802500},{"$f":"OFFSET(InputPriceData!C$15,CalculationsAndCharts!$A824+$A$11,IF($C$7,7,0),1,1)","v":27.43},{"$f":"OFFSET(InputPriceData!D$15,CalculationsAndCharts!$A824+$A$11,IF($C$7,7,0),1,1)","v":27.91},{"$f":"OFFSET(InputPriceData!E$15,CalculationsAndCharts!$A824+$A$11,IF($C$7,7,0),1,1)","v":27},{"$f":"OFFSET(InputPriceData!F$15,CalculationsAndCharts!$A824+$A$11,IF($C$7,7,0),1,1)","v":27.8},{"$error":"#N/A"},{"$error":"#N/A"},{"$error":"#N/A"},27.523382033774197,27.523382033774197,-0.68071776680989182,-1.1359800148770769,-1.1359800148770769,-3.663798212258671,1,0.99904715931524979,null,28.7,27.31,0.3525179856115121,{"$error":"#N/A"},0.2,0.8,{"$error":"#N/A"},{"$error":"#N/A"},{"$error":"#N/A"},{"$error":"#N/A"},false,false,false,false,false,{"$error":"#N/A"},{"$error":"#N/A"},{"$error":"#N/A"},{"$error":"#N/A"},false,false,true,false,false,{"$error":"#N/A"},{"$error":"#N/A"},{"$error":"#N/A"},{"$error":"#N/A"}]
[793,{"$f":"OFFSET(InputPriceData!B$15,CalculationsAndCharts!$A825+$A$11,0,1,1)","v":"2010-09-17"},{"$f":"OFFSET(InputPriceData!G$15,CalculationsAndCharts!$A825+$A$11,0,1,1)","v":666900},{"$f":"OFFSET(InputPriceData!C$15,CalculationsAndCharts!$A825+$A$11,IF($C$7,7,0),1,1)","v":27.66},{"$f":"OFFSET(InputPriceData!D$15,CalculationsAndCharts!$A825+$A$11,IF($C$7,7,0),1,1)","v":27.9},{"$f":"OFFSET(InputPriceData!E$15,CalculationsAndCharts!$A825+$A$11,IF($C$7,7,0),1,1)","v":27.3},{"$f":"OFFSET(InputPriceData!F$15,CalculationsAndCharts!$A825+$A$11,IF($C$7,7,0),1,1)","v":27.42},{"$error":"#N/A"},{"$error":"#N/A"},{"$error":"#N/A"},27.473464537175655,27.473464537175655,-1.1492027427805349,-1.3153074952310275,-1.3153074952310275,-3.663798212258671,1,0.9996632322409793,null,29.44,27.31,5.1643192488264253E-2,{"$error":"#N/A"},0.2,0.8,{"$error":"#N/A"},{"$error":"#N/A"},{"$error":"#N/A"},{"$error":"#N/A"},false,false,false,false,false,{"$error":"#N/A"},{"$error":"#N/A"},{"$error":"#N/A"},{"$error":"#N/A"},false,false,true,false,false,{"$error":"#N/A"},{"$error":"#N/A"},{"$error":"#N/A"},{"$error":"#N/A"}]
[794,{"$f":"OFFSET(InputPriceData!B$15,CalculationsAndCharts!$A826+$A$11,0,1,1)","v":"2010-09-16"},{"$f":"OFFSET(InputPriceData!G$15,CalculationsAndCharts!$A826+$A$11,0,1,1)","v":957600},{"$f":"OFFSET(InputPriceData!C$15,CalculationsAndCharts!$A826+$A$11,IF($C$7,7,0),1,1)","v":27.52},{"$f":"OFFSET(InputPriceData!D$15,CalculationsAndCharts!$A826+$A$11,IF($C$7,7,0),1,1)","v":27.79},{"$f":"OFFSET(InputPriceData!E$15,CalculationsAndCharts!$A826+$A$11,IF($C$7,7,0),1,1)","v":27.42},{"$f":"OFFSET(InputPriceData!F$15,CalculationsAndCharts!$A826+$A$11,IF($C$7,7,0),1,1)","v":27.68},{"$error":"#N/A"},{"$error":"#N/A"},{"$error":"#N/A"},27.43612996380665,27.43612996380665,-0.99859806300752751,-1.5049166173137869,-1.5049166173137869,-3.6893860898093331,1,1.0013683797686421,null,29.44,27.31,0.17370892018779369,{"$error":"#N/A"},0.2,0.8,{"$error":"#N/A"},{"$error":"#N/A"},{"$error":"#N/A"},{"$error":"#N/A"},false,false,false,false,false,{"$error":"#N/A"},{"$error":"#N/A"},{"$error":"#N/A"},{"$error":"#N/A"},false,false,true,false,false,{"$error":"#N/A"},{"$error":"#N/A"},{"$error":"#N/A"},{"$error":"#N/A"}]
[795,{"$f":"OFFSET(InputPriceData!B$15,CalculationsAndCharts!$A827+$A$11,0,1,1)","v":"2010-09-15"},{"$f":"OFFSET(InputPriceData!G$15,CalculationsAndCharts!$A827+$A$11,0,1,1)","v":927700},{"$f":"OFFSET(InputPriceData!C$15,CalculationsAndCharts!$A827+$A$11,IF($C$7,7,0),1,1)","v":27.42},{"$f":"OFFSET(InputPriceData!D$15,CalculationsAndCharts!$A827+$A$11,IF($C$7,7,0),1,1)","v":27.7},{"$f":"OFFSET(InputPriceData!E$15,CalculationsAndCharts!$A827+$A$11,IF($C$7,7,0),1,1)","v":27.19},{"$f":"OFFSET(InputPriceData!F$15,CalculationsAndCharts!$A827+$A$11,IF($C$7,7,0),1,1)","v":27.47},{"$error":"#N/A"},{"$error":"#N/A"},{"$error":"#N/A"},27.415439129194858,27.415439129194858,-1.3246553560397609,-1.7006484450916397,-1.7006484450916397,-3.8940976157501055,1,1.0046719903657813,null,29.44,27.31,7.5117370892018753E-2,{"$error":"#N/A"},0.2,0.8,{"$error":"#N/A"},{"$error":"#N/A"},{"$error":"#N/A"},{"$error":"#N/A"},false,false,false,false,false,{"$error":"#N/A"},{"$error":"#N/A"},{"$error":"#N/A"},{"$error":"#N/A"},false,false,true,false,false,{"$error":"#N/A"},{"$error":"#N/A"},{"$error":"#N/A"},{"$error":"#N/A"}]
[796,{"$f":"OFFSET(InputPriceData!B$15,CalculationsAndCharts!$A828+$A$11,0,1,1)","v":"2010-09-14"},{"$f":"OFFSET(InputPriceData!G$15,CalculationsAndCharts!$A828+$A$11,0,1,1)","v":710200},{"$f":"OFFSET(InputPriceData!C$15,CalculationsAndCharts!$A828+$A$11,IF($C$7,7,0),1,1)","v":27.24},{"$f":"OFFSET(InputPriceData!D$15,CalculationsAndCharts!$A828+$A$11,IF($C$7,7,0),1,1)","v":27.56},{"$f":"OFFSET(InputPriceData!E$15,CalculationsAndCharts!$A828+$A$11,IF($C$7,7,0),1,1)","v":27.11},{"$f":"OFFSET(InputPriceData!F$15,CalculationsAndCharts!$A828+$A$11,IF($C$7,7,0),1,1)","v":27.4},{"$error":"#N/A"},{"$error":"#N/A"},{"$error":"#N/A"},27.463335596230557,27.463335596230557,-1.5506965692887107,-1.8447938705598426,-1.8447938705598426,-4.1523434265883248,1,1.0098287739861191,null,29.44,27.31,4.2253521126760445E-2,{"$error":"#N/A"},0.2,0.8,{"$error":"#N/A"},{"$error":"#N/A"},{"$error":"#N/A"},{"$error":"#N/A"},false,false,false,false,false,{"$error":"#N/A"},{"$error":"#N/A"},{"$error":"#N/A"},{"$error":"#N/A"},false,false,true,false,false,{"$error":"#N/A"},{"$error":"#N/A"},{"$error":"#N/A"},{"$error":"#N/A"}]
[797,{"$f":"OFFSET(InputPriceData!B$15,CalculationsAndCharts!$A829+$A$11,0,1,1)","v":"2010-09-13"},{"$f":"OFFSET(InputPriceData!G$15,CalculationsAndCharts!$A829+$A$11,0,1,1)","v":604700},{"$f":"OFFSET(InputPriceData!C$15,CalculationsAndCharts!$A829+$A$11,IF($C$7,7,0),1,1)","v":27.68},{"$f":"OFFSET(InputPriceData!D$15,CalculationsAndCharts!$A829+$A$11,IF($C$7,7,0),1,1)","v":27.68},{"$f":"OFFSET(InputPriceData!E$15,CalculationsAndCharts!$A829+$A$11,IF($C$7,7,0),1,1)","v":27.21},{"$f":"OFFSET(InputPriceData!F$15,CalculationsAndCharts!$A829+$A$11,IF($C$7,7,0),1,1)","v":27.42},{"$error":"#N/A"},{"$error":"#N/A"},{"$error":"#N/A"},27.56234874353467,27.56234874353467,-1.7091953500330115,-1.9446964761872993,-1.9446964761872993,-4.3332485334931503,1,1.0163174680213949,null,29.44,27.31,5.1643192488264253E-2,{"$error":"#N/A"},0.2,0.8,{"$error":"#N/A"},{"$error":"#N/A"},{"$error":"#N/A"},{"$error":"#N/A"},false,false,false,false,false,{"$error":"#N/A"},{"$error":"#N/A"},{"$error":"#N/A"},{"$error":"#N/A"},false,false,true,false,false,{"$error":"#N/A"},{"$error":"#N/A"},{"$error":"#N/A"},{"$error":"#N/A"}]
[798,{"$f":"OFFSET(InputPriceData!B$15,CalculationsAndCharts!$A830+$A$11,0,1,1)","v":"2010-09-10"},{"$f":"OFFSET(InputPriceData!G$15,CalculationsAndCharts!$A830+$A$11,0,1,1)","v":561800},{"$f":"OFFSET(InputPriceData!C$15,CalculationsAndCharts!$A830+$A$11,IF($C$7,7,0),1,1)","v":27.31},{"$f":"OFFSET(InputPriceData!D$15,CalculationsAndCharts!$A830+$A$11,IF($C$7,7,0),1,1)","v":27.89},{"$f":"OFFSET(InputPriceData!E$15,CalculationsAndCharts!$A830+$A$11,IF($C$7,7,0),1,1)","v":27.31},{"$f":"OFFSET(InputPriceData!F$15,CalculationsAndCharts!$A830+$A$11,IF($C$7,7,0),1,1)","v":27.45},{"$error":"#N/A"},{"$error":"#N/A"},{"$error":"#N/A"},27.709319033220282,27.709319033220282,-1.8728594677266115,-1.9938780101262958,-1.988609084749873,-4.36312351724035,0.99778105144179041,1.0220509732104117,null,29.44,27.31,6.5727699530516617E-2,{"$error":"#N/A"},0.2,0.8,{"$error":"#N/A"},{"$error":"#N/A"},{"$error":"#N/A"},{"$error":"#N/A"},false,false,false,false,false,{"$error":"#N/A"},{"$error":"#N/A"},{"$error":"#N/A"},{"$error":"#N/A"},false,false,true,false,false,{"$error":"#N/A"},{"$error":"#N/A"},{"$error":"#N/A"},{"$error":"#N/A"}]
[799,{"$f":"OFFSET(InputPriceData!B$15,CalculationsAndCharts!$A831+$A$11,0,1,1)","v":"2010-09-09"},{"$f":"OFFSET(InputPriceData!G$15,CalculationsAndCharts!$A831+$A$11,0,1,1)","v":1640500},{"$f":"OFFSET(InputPriceData!C$15,CalculationsAndCharts!$A831+$A$11,IF($C$7,7,0),1,1)","v":27.94},{"$f":"OFFSET(InputPriceData!D$15,CalculationsAndCharts!$A831+$A$11,IF($C$7,7,0),1,1)","v":28.14},{"$f":"OFFSET(InputPriceData!E$15,CalculationsAndCharts!$A831+$A$11,IF($C$7,7,0),1,1)","v":27.31},{"$f":"OFFSET(InputPriceData!F$15,CalculationsAndCharts!$A831+$A$11,IF($C$7,7,0),1,1)","v":27.33},{"$error":"#N/A"},{"$error":"#N/A"},{"$error":"#N/A"},27.897821852597389,27.897821852597389,-2.2171120910658937,-1.988609084749873,-1.988609084749873,-4.36312351724035,1,1.0217367986740968,null,29.44,27.31,9.389671361502136E-3,{"$error":"#N/A"},0.2,0.8,{"$error":"#N/A"},{"$error":"#N/A"},{"$error":"#N/A"},{"$error":"#N/A"},false,false,false,false,false,{"$error":"#N/A"},{"$error":"#N/A"},{"$error":"#N/A"},{"$error":"#N/A"},false,false,true,false,false,{"$error":"#N/A"},{"$error":"#N/A"},{"$error":"#N/A"},{"$error":"#N/A"}]
[800,{"$f":"OFFSET(InputPriceData!B$15,CalculationsAndCharts!$A832+$A$11,0,1,1)","v":"2010-09-08"},{"$f":"OFFSET(InputPriceData!G$15,CalculationsAndCharts!$A832+$A$11,0,1,1)","v":1371800},{"$f":"OFFSET(InputPriceData!C$15,CalculationsAndCharts!$A832+$A$11,IF($C$7,7,0),1,1)","v":27.98},{"$f":"OFFSET(InputPriceData!D$15,CalculationsAndCharts!$A832+$A$11,IF($C$7,7,0),1,1)","v":28.24},{"$f":"OFFSET(InputPriceData!E$15,CalculationsAndCharts!$A832+$A$11,IF($C$7,7,0),1,1)","v":27.58},{"$f":"OFFSET(InputPriceData!F$15,CalculationsAndCharts!$A832+$A$11,IF($C$7,7,0),1,1)","v":27.68},{"$error":"#N/A"},{"$error":"#N/A"},{"$error":"#N/A"},28.04359330697557,28.04359330697557,-2.093814148367362,-2.0104959859644453,-2.0104959859644453,-4.36312351724035,1,1.0069120326142613,null,29.44,27.31,0.17370892018779369,{"$error":"#N/A"},0.2,0.8,{"$error":"#N/A"},{"$error":"#N/A"},{"$error":"#N/A"},{"$error":"#N/A"},false,false,false,false,false,{"$error":"#N/A"},{"$error":"#N/A"},{"$error":"#N/A"},{"$error":"#N/A"},false,false,true,false,false,{"$error":"#N/A"},{"$error":"#N/A"},{"$error":"#N/A"},{"$error":"#N/A"}]
[801,{"$f":"OFFSET(InputPriceData!B$15,CalculationsAndCharts!$A833+$A$11,0,1,1)","v":"2010-09-07"},{"$f":"OFFSET(InputPriceData!G$15,CalculationsAndCharts!$A833+$A$11,0,1,1)","v":627000},{"$f":"OFFSET(InputPriceData!C$15,CalculationsAndCharts!$A833+$A$11,IF($C$7,7,0),1,1)","v":28.04},{"$f":"OFFSET(InputPriceData!D$15,CalculationsAndCharts!$A833+$A$11,IF($C$7,7,0),1,1)","v":28.15},{"$f":"OFFSET(InputPriceData!E$15,CalculationsAndCharts!$A833+$A$11,IF($C$7,7,0),1,1)","v":27.87},{"$f":"OFFSET(InputPriceData!F$15,CalculationsAndCharts!$A833+$A$11,IF($C$7,7,0),1,1)","v":28},{"$error":"#N/A"},{"$f":"IF($A833=$E$25,I$32,NA())","v":{"$error":"#N/A"}},{"$error":"#N/A"},28.066531866172497,28.066531866172497,-1.9586458510027522,-2.1529314931584915,-2.1529314931584915,-4.36312351724035,1,0.96661395834661912,null,29.44,27.31,0.32394366197183122,{"$error":"#N/A"},0.2,0.8,{"$error":"#N/A"},28.04,{"$error":"#N/A"},{"$error":"#N/A"},false,false,true,false,true,{"$error":"#N/A"},28.04,{"$error":"#N/A"},28.04,false,true,true,false,false,28.04,{"$error":"#N/A"},28.04,{"$error":"#N/A"}]
[802,{"$f":"OFFSET(InputPriceData!B$15,CalculationsAndCharts!$A834+$A$11,0,1,1)","v":"2010-09-03"},{"$f":"OFFSET(InputPriceData!G$15,CalculationsAndCharts!$A834+$A$11,0,1,1)","v":509800},{"$f":"OFFSET(InputPriceData!C$15,CalculationsAndCharts!$A834+$A$11,IF($C$7,7,0),1,1)","v":28.82},{"$f":"OFFSET(InputPriceData!D$15,CalculationsAndCharts!$A834+$A$11,IF($C$7,7,0),1,1)","v":29.27},{"$f":"OFFSET(InputPriceData!E$15,CalculationsAndCharts!$A834+$A$11,IF($C$7,7,0),1,1)","v":27.94},{"$f":"OFFSET(InputPriceData!F$15,CalculationsAndCharts!$A834+$A$11,IF($C$7,7,0),1,1)","v":28.03},{"$error":"#N/A"},{"$error":"#N/A"},{"$error":"#N/A"},27.982882600219277,27.982882600219277,-2.0963257623041889,-2.4212609919502688,-2.4212609919502688,-4.36312351724035,1,0.8891834034593693,null,29.66,27.31,0.30638297872340509,{"$error":"#N/A"},0.2,0.8,{"$error":"#N/A"},{"$error":"#N/A"},{"$error":"#N/A"},0.8891834034593693,false,false,true,true,false,{"$error":"#N/A"},{"$error":"#N/A"},{"$error":"#N/A"},{"$error":"#N/A"},true,false,false,false,false,{"$error":"#N/A"},{"$error":"#N/A"},{"$error":"#N/A"},{"$error":"#N/A"}]
[803,{"$f":"OFFSET(InputPriceData!B$15,CalculationsAndCharts!$A835+$A$11,0,1,1)","v":"2010-09-02"},{"$f":"OFFSET(InputPriceData!G$15,CalculationsAndCharts!$A835+$A$11,0,1,1)","v":620700},{"$f":"OFFSET(InputPriceData!C$15,CalculationsAndCharts!$A835+$A$11,IF($C$7,7,0),1,1)","v":28.12},{"$f":"OFFSET(InputPriceData!D$15,CalculationsAndCharts!$A835+$A$11,IF($C$7,7,0),1,1)","v":28.88},{"$f":"OFFSET(InputPriceData!E$15,CalculationsAndCharts!$A835+$A$11,IF($C$7,7,0),1,1)","v":28.02},{"$f":"OFFSET(InputPriceData!F$15,CalculationsAndCharts!$A835+$A$11,IF($C$7,7,0),1,1)","v":28.7},{"$error":"#N/A"},{"$error":"#N/A"},{"$error":"#N/A"},27.79926985844758,27.79926985844758,-1.538616721089646,-2.8313089063577568,-2.8313089063577568,-4.36312351724035,1,0.7691264310555509,null,29.66,27.31,0.59148936170212751,{"$error":"#N/A"},0.2,0.8,{"$error":"#N/A"},{"$error":"#N/A"},{"$error":"#N/A"},{"$error":"#N/A"},false,false,true,false,false,{"$error":"#N/A"},{"$error":"#N/A"},{"$error":"#N/A"},{"$error":"#N/A"},false,false,false,false,false,{"$error":"#N/A"},{"$error":"#N/A"},{"$error":"#N/A"},{"$error":"#N/A"}]
[804,{"$f":"OFFSET(InputPriceData!B$15,CalculationsAndCharts!$A836+$A$11,0,1,1)","v":"2010-09-01"},{"$f":"OFFSET(InputPriceData!G$15,CalculationsAndCharts!$A836+$A$11,0,1,1)","v":977200},{"$f":"OFFSET(InputPriceData!C$15,CalculationsAndCharts!$A836+$A$11,IF($C$7,7,0),1,1)","v":27.66},{"$f":"OFFSET(InputPriceData!D$15,CalculationsAndCharts!$A836+$A$11,IF($C$7,7,0),1,1)","v":28.17},{"$f":"OFFSET(InputPriceData!E$15,CalculationsAndCharts!$A836+$A$11,IF($C$7,7,0),1,1)","v":27.45},{"$f":"OFFSET(InputPriceData!F$15,CalculationsAndCharts!$A836+$A$11,IF($C$7,7,0),1,1)","v":28.02},{"$error":"#N/A"},{"$error":"#N/A"},{"$error":"#N/A"},27.701027904159965,27.701027904159965,-2.3371016983152031,-3.204300290331294,-3.1408007292237956,-4.36312351724035,0.94805008813544389,0.6193201572037762,null,29.66,27.31,0.30212765957446824,{"$error":"#N/A"},0.2,0.8,{"$error":"#N/A"},{"$error":"#N/A"},{"$error":"#N/A"},{"$error":"#N/A"},false,false,true,false,false,{"$error":"#N/A"},{"$error":"#N/A"},{"$error":"#N/A"},{"$error":"#N/A"},false,false,false,false,false,{"$error":"#N/A"},{"$error":"#N/A"},{"$error":"#N/A"},{"$error":"#N/A"}]
[805,{"$f":"OFFSET(InputPriceData!B$15,CalculationsAndCharts!$A837+$A$11,0,1,1)","v":"2010-08-31"},{"$f":"OFFSET(InputPriceData!G$15,CalculationsAndCharts!$A837+$A$11,0,1,1)","v":2336400},{"$f":"OFFSET(InputPriceData!C$15,CalculationsAndCharts!$A837+$A$11,IF($C$7,7,0),1,1)","v":27.49},{"$f":"OFFSET(InputPriceData!D$15,CalculationsAndCharts!$A837+$A$11,IF($C$7,7,0),1,1)","v":27.58},{"$f":"OFFSET(InputPriceData!E$15,CalculationsAndCharts!$A837+$A$11,IF($C$7,7,0),1,1)","v":26.64},{"$f":"OFFSET(InputPriceData!F$15,CalculationsAndCharts!$A837+$A$11,IF($C$7,7,0),1,1)","v":27.31},{"$error":"#N/A"},{"$error":"#N/A"},{"$error":"#N/A"},27.867737600568422,27.867737600568422,-3.3091413336287747,-3.3317281562300387,-2.9700595977243758,-4.36312351724035,0.74037906413416688,0.47339614917166845,null,30.1,27.31,0,{"$error":"#N/A"},0.2,0.8,{"$error":"#N/A"},{"$error":"#N/A"},{"$error":"#N/A"},{"$error":"#N/A"},false,false,true,false,false,{"$error":"#N/A"},{"$error":"#N/A"},{"$error":"#N/A"},{"$error":"#N/A"},false,false,false,false,false,{"$error":"#N/A"},{"$error":"#N/A"},{"$error":"#N/A"},{"$error":"#N/A"}]
[806,{"$f":"OFFSET(InputPriceData!B$15,CalculationsAndCharts!$A838+$A$11,0,1,1)","v":"2010-08-30"},{"$f":"OFFSET(InputPriceData!G$15,CalculationsAndCharts!$A838+$A$11,0,1,1)","v":1133400},{"$f":"OFFSET(InputPriceData!C$15,CalculationsAndCharts!$A838+$A$11,IF($C$7,7,0),1,1)","v":28.19},{"$f":"OFFSET(InputPriceData!D$15,CalculationsAndCharts!$A838+$A$11,IF($C$7,7,0),1,1)","v":28.34},{"$f":"OFFSET(InputPriceData!E$15,CalculationsAndCharts!$A838+$A$11,IF($C$7,7,0),1,1)","v":27.31},{"$f":"OFFSET(InputPriceData!F$15,CalculationsAndCharts!$A838+$A$11,IF($C$7,7,0),1,1)","v":27.38},{"$error":"#N/A"},{"$error":"#N/A"},{"$error":"#N/A"},28.148288889429836,28.148288889429836,-3.5903453761107165,-3.3285227627635603,-2.7008778587407503,-4.36312351724035,0.62241146438647099,0.34682843405536851,null,30.1,27.38,0,{"$error":"#N/A"},0.2,0.8,{"$error":"#N/A"},{"$error":"#N/A"},{"$error":"#N/A"},{"$error":"#N/A"},false,false,true,false,{"$f":"AND(AG839,AF839)","v":false},{"$error":"#N/A"},{"$error":"#N/A"},{"$error":"#N/A"},{"$error":"#N/A"},false,{"$f":"AND(AM839,NOT(AO839))","v":false},false,false,false,{"$error":"#N/A"},{"$error":"#N/A"},{"$error":"#N/A"},{"$error":"#N/A"}]
[807,{"$f":"OFFSET(InputPriceData!B$15,CalculationsAndCharts!$A839+$A$11,0,1,1)","v":"2010-08-27"},{"$f":"OFFSET(InputPriceData!G$15,CalculationsAndCharts!$A839+$A$11,0,1,1)","v":645100},{"$f":"OFFSET(InputPriceData!C$15,CalculationsAndCharts!$A839+$A$11,IF($C$7,7,0),1,1)","v":28.55},{"$f":"OFFSET(InputPriceData!D$15,CalculationsAndCharts!$A839+$A$11,IF($C$7,7,0),1,1)","v":28.65},{"$f":"OFFSET(InputPriceData!E$15,CalculationsAndCharts!$A839+$A$11,IF($C$7,7,0),1,1)","v":28.01},{"$f":"OFFSET(InputPriceData!F$15,CalculationsAndCharts!$A839+$A$11,IF($C$7,7,0),1,1)","v":28.09},{"$error":"#N/A"},{"$error":"#N/A"},{"$error":"#N/A"},28.336013974547448,28.336013974547448,-3.1913000484022387,-3.3953354463172287,-2.2543164175500814,-4.36312351724035,0.45892678901985168,0.24501110233221873,null,30.1,28.02,3.3653846153846263E-2,{"$error":"#N/A"},0.2,0.8,{"$error":"#N/A"},{"$error":"#N/A"},{"$error":"#N/A"},{"$error":"#N/A"},false,false,true,false,false,{"$error":"#N/A"},{"$error":"#N/A"},{"$error":"#N/A"},{"$error":"#N/A"},false,false,false,false,{"$f":"AND(AP840,AO840)","v":false},{"$error":"#N/A"},{"$error":"#N/A"},{"$error":"#N/A"},{"$error":"#N/A"}]
[808,{"$f":"OFFSET(InputPriceData!B$15,CalculationsAndCharts!$A840+$A$11,0,1,1)","v":"2010-08-26"},{"$f":"OFFSET(InputPriceData!G$15,CalculationsAndCharts!$A840+$A$11,0,1,1)","v":466700},{"$f":"OFFSET(InputPriceData!C$15,CalculationsAndCharts!$A840+$A$11,IF($C$7,7,0),1,1)","v":28.7},{"$f":"OFFSET(InputPriceData!D$15,CalculationsAndCharts!$A840+$A$11,IF($C$7,7,0),1,1)","v":28.86},{"$f":"OFFSET(InputPriceData!E$15,CalculationsAndCharts!$A840+$A$11,IF($C$7,7,0),1,1)","v":28.35},{"$f":"OFFSET(InputPriceData!F$15,CalculationsAndCharts!$A840+$A$11,IF($C$7,7,0),1,1)","v":28.5},{"$error":"#N/A"},{"$error":"#N/A"},{"$error":"#N/A"},28.422538738114131,28.422538738114131,-3.0107354575310961,-3.5550022568112163,-1.6205126921967998,-4.36312351724035,0.2946540037871766,0.17942361194617623,null,30.1,28.02,0.23076923076923078,{"$error":"#N/A"},0.2,0.8,{"$error":"#N/A"},{"$error":"#N/A"},{"$error":"#N/A"},{"$error":"#N/A"},false,false,true,false,false,{"$error":"#N/A"},{"$error":"#N/A"},{"$error":"#N/A"},{"$error":"#N/A"},false,false,false,false,false,{"$error":"#N/A"},{"$error":"#N/A"},{"$error":"#N/A"},{"$error":"#N/A"}]
[809,{"$f":"OFFSET(InputPriceData!B$15,CalculationsAndCharts!$A841+$A$11,0,1,1)","v":"2010-08-25"},{"$f":"OFFSET(InputPriceData!G$15,CalculationsAndCharts!$A841+$A$11,0,1,1)","v":741600},{"$f":"OFFSET(InputPriceData!C$15,CalculationsAndCharts!$A841+$A$11,IF($C$7,7,0),1,1)","v":28.01},{"$f":"OFFSET(InputPriceData!D$15,CalculationsAndCharts!$A841+$A$11,IF($C$7,7,0),1,1)","v":28.5},{"$f":"OFFSET(InputPriceData!E$15,CalculationsAndCharts!$A841+$A$11,IF($C$7,7,0),1,1)","v":27.28},{"$f":"OFFSET(InputPriceData!F$15,CalculationsAndCharts!$A841+$A$11,IF($C$7,7,0),1,1)","v":28.45},{"$error":"#N/A"},{"$error":"#N/A"},{"$error":"#N/A"},28.554415042796727,28.554415042796727,-3.2707621533562694,-3.663798212258671,-0.71823832806611065,-4.36312351724035,0.19186483762472459,0.14142906067004046,null,30.1,28.02,0.20673076923076891,{"$error":"#N/A"},0.2,0.8,{"$error":"#N/A"},{"$error":"#N/A"},{"$error":"#N/A"},{"$error":"#N/A"},false,false,true,false,false,{"$error":"#N/A"},{"$error":"#N/A"},{"$error":"#N/A"},{"$error":"#N/A"},false,false,false,false,false,{"$error":"#N/A"},{"$error":"#N/A"},{"$error":"#N/A"},{"$error":"#N/A"}]
[810,{"$f":"OFFSET(InputPriceData!B$15,CalculationsAndCharts!$A842+$A$11,0,1,1)","v":"2010-08-24"},{"$f":"OFFSET(InputPriceData!G$15,CalculationsAndCharts!$A842+$A$11,0,1,1)","v":1237700},{"$f":"OFFSET(InputPriceData!C$15,CalculationsAndCharts!$A842+$A$11,IF($C$7,7,0),1,1)","v":28},{"$f":"OFFSET(InputPriceData!D$15,CalculationsAndCharts!$A842+$A$11,IF($C$7,7,0),1,1)","v":28.46},{"$f":"OFFSET(InputPriceData!E$15,CalculationsAndCharts!$A842+$A$11,IF($C$7,7,0),1,1)","v":27.43},{"$f":"OFFSET(InputPriceData!F$15,CalculationsAndCharts!$A842+$A$11,IF($C$7,7,0),1,1)","v":28.02},{"$error":"#N/A"},{"$error":"#N/A"},{"$error":"#N/A"},28.826174336407259,28.826174336407259,-3.9706962644889452,-3.6064034464391463,0.32506236821196177,-4.36312351724035,0.16140999723354529,0.11172369225123566,null,30.1,28.02,0,{"$error":"#N/A"},0.2,0.8,{"$error":"#N/A"},{"$error":"#N/A"},{"$error":"#N/A"},{"$error":"#N/A"},false,false,true,false,false,{"$error":"#N/A"},{"$error":"#N/A"},{"$error":"#N/A"},{"$error":"#N/A"},false,false,false,false,false,{"$error":"#N/A"},{"$error":"#N/A"},{"$error":"#N/A"},{"$error":"#N/A"}]
[811,{"$f":"OFFSET(InputPriceData!B$15,CalculationsAndCharts!$A843+$A$11,0,1,1)","v":"2010-08-23"},{"$f":"OFFSET(InputPriceData!G$15,CalculationsAndCharts!$A843+$A$11,0,1,1)","v":2039600},{"$f":"OFFSET(InputPriceData!C$15,CalculationsAndCharts!$A843+$A$11,IF($C$7,7,0),1,1)","v":29.46},{"$f":"OFFSET(InputPriceData!D$15,CalculationsAndCharts!$A843+$A$11,IF($C$7,7,0),1,1)","v":29.46},{"$f":"OFFSET(InputPriceData!E$15,CalculationsAndCharts!$A843+$A$11,IF($C$7,7,0),1,1)","v":27.21},{"$f":"OFFSET(InputPriceData!F$15,CalculationsAndCharts!$A843+$A$11,IF($C$7,7,0),1,1)","v":28.15},{"$error":"#N/A"},{"$error":"#N/A"},{"$error":"#N/A"},29.123070525323648,29.123070525323648,-4.1600251005650755,-3.4756742739128041,1.5121831772863519,-4.36312351724035,0.15104730518225928,7.9451521461944438E-2,null,30.1,28.15,0,{"$error":"#N/A"},0.2,0.8,{"$error":"#N/A"},{"$error":"#N/A"},{"$error":"#N/A"},{"$error":"#N/A"},false,false,true,false,false,{"$error":"#N/A"},{"$error":"#N/A"},{"$error":"#N/A"},{"$error":"#N/A"},false,false,false,false,false,{"$error":"#N/A"},{"$error":"#N/A"},{"$error":"#N/A"},{"$error":"#N/A"}]
[812,{"$f":"OFFSET(InputPriceData!B$15,CalculationsAndCharts!$A844+$A$11,0,1,1)","v":"2010-08-20"},{"$f":"OFFSET(InputPriceData!G$15,CalculationsAndCharts!$A844+$A$11,0,1,1)","v":553200},{"$f":"OFFSET(InputPriceData!C$15,CalculationsAndCharts!$A844+$A$11,IF($C$7,7,0),1,1)","v":29.01},{"$f":"OFFSET(InputPriceData!D$15,CalculationsAndCharts!$A844+$A$11,IF($C$7,7,0),1,1)","v":29.66},{"$f":"OFFSET(InputPriceData!E$15,CalculationsAndCharts!$A844+$A$11,IF($C$7,7,0),1,1)","v":29.01},{"$f":"OFFSET(InputPriceData!F$15,CalculationsAndCharts!$A844+$A$11,IF($C$7,7,0),1,1)","v":29.44},{"$error":"#N/A"},{"$error":"#N/A"},{"$error":"#N/A"},29.206037551985879,29.206037551985879,-3.0732996407849287,-3.5207541973806782,2.9707339396128027,-4.36312351724035,0.11486033438958053,4.8240003924035366E-2,null,30.1,28.44,0.60240963855421681,{"$error":"#N/A"},0.2,0.8,{"$error":"#N/A"},{"$error":"#N/A"},{"$error":"#N/A"},{"$error":"#N/A"},false,false,true,false,false,{"$error":"#N/A"},{"$error":"#N/A"},{"$error":"#N/A"},{"$error":"#N/A"},false,false,false,false,false,{"$error":"#N/A"},{"$error":"#N/A"},{"$error":"#N/A"},{"$error":"#N/A"}]
[813,{"$f":"OFFSET(InputPriceData!B$15,CalculationsAndCharts!$A845+$A$11,0,1,1)","v":"2010-08-19"},{"$f":"OFFSET(InputPriceData!G$15,CalculationsAndCharts!$A845+$A$11,0,1,1)","v":648300},{"$f":"OFFSET(InputPriceData!C$15,CalculationsAndCharts!$A845+$A$11,IF($C$7,7,0),1,1)","v":29.36},{"$f":"OFFSET(InputPriceData!D$15,CalculationsAndCharts!$A845+$A$11,IF($C$7,7,0),1,1)","v":29.65},{"$f":"OFFSET(InputPriceData!E$15,CalculationsAndCharts!$A845+$A$11,IF($C$7,7,0),1,1)","v":28.99},{"$f":"OFFSET(InputPriceData!F$15,CalculationsAndCharts!$A845+$A$11,IF($C$7,7,0),1,1)","v":29},{"$error":"#N/A"},{"$error":"#N/A"},{"$error":"#N/A"},29.154782429483667,29.154782429483667,-3.6383600386930279,-3.6893860898093331,4.8292145482148285,-4.36312351724035,7.3293369176980469E-2,2.4491982831024481E-2,null,30.1,28.44,0.33734939759036064,{"$error":"#N/A"},0.2,0.8,{"$error":"#N/A"},{"$error":"#N/A"},{"$error":"#N/A"},{"$error":"#N/A"},false,false,true,false,false,{"$error":"#N/A"},{"$error":"#N/A"},{"$error":"#N/A"},{"$error":"#N/A"},false,false,false,false,false,{"$error":"#N/A"},{"$error":"#N/A"},{"$error":"#N/A"},{"$error":"#N/A"}]
[814,{"$f":"OFFSET(InputPriceData!B$15,CalculationsAndCharts!$A846+$A$11,0,1,1)","v":"2010-08-18"},{"$f":"OFFSET(InputPriceData!G$15,CalculationsAndCharts!$A846+$A$11,0,1,1)","v":690300},{"$f":"OFFSET(InputPriceData!C$15,CalculationsAndCharts!$A846+$A$11,IF($C$7,7,0),1,1)","v":29.52},{"$f":"OFFSET(InputPriceData!D$15,CalculationsAndCharts!$A846+$A$11,IF($C$7,7,0),1,1)","v":29.6},{"$f":"OFFSET(InputPriceData!E$15,CalculationsAndCharts!$A846+$A$11,IF($C$7,7,0),1,1)","v":29.06},{"$f":"OFFSET(InputPriceData!F$15,CalculationsAndCharts!$A846+$A$11,IF($C$7,7,0),1,1)","v":29.39},{"$error":"#N/A"},{"$error":"#N/A"},{"$error":"#N/A"},29.070302530206625,29.070302530206625,-3.3716264324076204,-3.8940976157501055,7.2215449908696163,-4.36312351724035,4.0486777948104256E-2,9.57902469411708E-3,null,30.1,28.44,0.57228915662650559,{"$error":"#N/A"},0.2,0.8,{"$error":"#N/A"},{"$error":"#N/A"},{"$error":"#N/A"},{"$error":"#N/A"},false,false,true,false,false,{"$error":"#N/A"},{"$error":"#N/A"},{"$error":"#N/A"},{"$error":"#N/A"},false,false,false,false,false,{"$error":"#N/A"},{"$error":"#N/A"},{"$error":"#N/A"},{"$error":"#N/A"}]
[815,{"$f":"OFFSET(InputPriceData!B$15,CalculationsAndCharts!$A847+$A$11,0,1,1)","v":"2010-08-17"},{"$f":"OFFSET(InputPriceData!G$15,CalculationsAndCharts!$A847+$A$11,0,1,1)","v":352000},{"$f":"OFFSET(InputPriceData!C$15,CalculationsAndCharts!$A847+$A$11,IF($C$7,7,0),1,1)","v":29.14},{"$f":"OFFSET(InputPriceData!D$15,CalculationsAndCharts!$A847+$A$11,IF($C$7,7,0),1,1)","v":29.57},{"$f":"OFFSET(InputPriceData!E$15,CalculationsAndCharts!$A847+$A$11,IF($C$7,7,0),1,1)","v":29.09},{"$f":"OFFSET(InputPriceData!F$15,CalculationsAndCharts!$A847+$A$11,IF($C$7,7,0),1,1)","v":29.36},{"$error":"#N/A"},{"$error":"#N/A"},{"$error":"#N/A"},28.94164930257125,28.94164930257125,-3.4805540525831744,-4.1523434265883248,10.036821459873892,-4.36312351724035,1.4637562225898564E-2,2.4385079031577521E-3,null,30.1,28.44,0.5542168674698783,{"$error":"#N/A"},0.2,0.8,{"$error":"#N/A"},{"$error":"#N/A"},{"$error":"#N/A"},{"$error":"#N/A"},false,false,true,false,false,{"$error":"#N/A"},{"$error":"#N/A"},{"$error":"#N/A"},{"$error":"#N/A"},false,false,false,false,false,{"$error":"#N/A"},{"$error":"#N/A"},{"$error":"#N/A"},{"$error":"#N/A"}]
[816,{"$f":"OFFSET(InputPriceData!B$15,CalculationsAndCharts!$A848+$A$11,0,1,1)","v":"2010-08-16"},{"$f":"OFFSET(InputPriceData!G$15,CalculationsAndCharts!$A848+$A$11,0,1,1)","v":361100},{"$f":"OFFSET(InputPriceData!C$15,CalculationsAndCharts!$A848+$A$11,IF($C$7,7,0),1,1)","v":28.72},{"$f":"OFFSET(InputPriceData!D$15,CalculationsAndCharts!$A848+$A$11,IF($C$7,7,0),1,1)","v":29.24},{"$f":"OFFSET(InputPriceData!E$15,CalculationsAndCharts!$A848+$A$11,IF($C$7,7,0),1,1)","v":28.57},{"$f":"OFFSET(InputPriceData!F$15,CalculationsAndCharts!$A848+$A$11,IF($C$7,7,0),1,1)","v":29.08},{"$error":"#N/A"},{"$error":"#N/A"},{"$error":"#N/A"},28.895558620966717,28.895558620966717,-3.8537090550545821,-4.3332485334931503,12.941101534863321,-4.36312351724035,1.7264560335550976E-3,5.4003639345231384E-4,null,30.1,28.44,0.38554216867469698,{"$error":"#N/A"},0.2,0.8,{"$error":"#N/A"},{"$error":"#N/A"},{"$error":"#N/A"},{"$error":"#N/A"},false,false,true,false,false,{"$error":"#N/A"},{"$error":"#N/A"},{"$error":"#N/A"},{"$error":"#N/A"},false,false,false,false,false,{"$error":"#N/A"},{"$error":"#N/A"},{"$error":"#N/A"},{"$error":"#N/A"}]
[817,{"$f":"OFFSET(InputPriceData!B$15,CalculationsAndCharts!$A849+$A$11,0,1,1)","v":"2010-08-13"},{"$f":"OFFSET(InputPriceData!G$15,CalculationsAndCharts!$A849+$A$11,0,1,1)","v":447500},{"$f":"OFFSET(InputPriceData!C$15,CalculationsAndCharts!$A849+$A$11,IF($C$7,7,0),1,1)","v":28.99},{"$f":"OFFSET(InputPriceData!D$15,CalculationsAndCharts!$A849+$A$11,IF($C$7,7,0),1,1)","v":29.09},{"$f":"OFFSET(InputPriceData!E$15,CalculationsAndCharts!$A849+$A$11,IF($C$7,7,0),1,1)","v":28.48},{"$f":"OFFSET(InputPriceData!F$15,CalculationsAndCharts!$A849+$A$11,IF($C$7,7,0),1,1)","v":28.76},{"$error":"#N/A"},{"$error":"#N/A"},{"$error":"#N/A"},28.983176363898771,28.983176363898771,-4.3104939551406387,-4.36312351724035,15.54310900548662,-4.36312351724035,0,6.275174201722328E-4,null,30.1,28.44,0.19277108433734955,{"$error":"#N/A"},0.2,0.8,{"$error":"#N/A"},{"$error":"#N/A"},{"$error":"#N/A"},{"$error":"#N/A"},false,false,true,false,false,{"$error":"#N/A"},{"$error":"#N/A"},{"$error":"#N/A"},{"$error":"#N/A"},false,false,false,false,false,{"$error":"#N/A"},{"$error":"#N/A"},{"$error":"#N/A"},{"$error":"#N/A"}]
[818,{"$f":"OFFSET(InputPriceData!B$15,CalculationsAndCharts!$A850+$A$11,0,1,1)","v":"2010-08-12"},{"$f":"OFFSET(InputPriceData!G$15,CalculationsAndCharts!$A850+$A$11,0,1,1)","v":671600},{"$f":"OFFSET(InputPriceData!C$15,CalculationsAndCharts!$A850+$A$11,IF($C$7,7,0),1,1)","v":28.16},{"$f":"OFFSET(InputPriceData!D$15,CalculationsAndCharts!$A850+$A$11,IF($C$7,7,0),1,1)","v":29.03},{"$f":"OFFSET(InputPriceData!E$15,CalculationsAndCharts!$A850+$A$11,IF($C$7,7,0),1,1)","v":28.1},{"$f":"OFFSET(InputPriceData!F$15,CalculationsAndCharts!$A850+$A$11,IF($C$7,7,0),1,1)","v":29},{"$error":"#N/A"},{"$error":"#N/A"},{"$error":"#N/A"},29.157322352890674,29.157322352890674,-4.203952388127318,-4.2628026937279682,17.238600845037119,-4.2628026937279682,0,9.8528311732694936E-4,null,30.1,28.44,0.33734939759036064,{"$error":"#N/A"},0.2,0.8,{"$error":"#N/A"},{"$error":"#N/A"},{"$error":"#N/A"},{"$error":"#N/A"},false,false,true,false,false,{"$error":"#N/A"},{"$error":"#N/A"},{"$error":"#N/A"},{"$error":"#N/A"},false,false,false,false,false,{"$error":"#N/A"},{"$error":"#N/A"},{"$error":"#N/A"},{"$error":"#N/A"}]
[819,{"$f":"OFFSET(InputPriceData!B$15,CalculationsAndCharts!$A851+$A$11,0,1,1)","v":"2010-08-11"},{"$f":"OFFSET(InputPriceData!G$15,CalculationsAndCharts!$A851+$A$11,0,1,1)","v":908600},{"$f":"OFFSET(InputPriceData!C$15,CalculationsAndCharts!$A851+$A$11,IF($C$7,7,0),1,1)","v":29.32},{"$f":"OFFSET(InputPriceData!D$15,CalculationsAndCharts!$A851+$A$11,IF($C$7,7,0),1,1)","v":29.65},{"$f":"OFFSET(InputPriceData!E$15,CalculationsAndCharts!$A851+$A$11,IF($C$7,7,0),1,1)","v":28.23},{"$f":"OFFSET(InputPriceData!F$15,CalculationsAndCharts!$A851+$A$11,IF($C$7,7,0),1,1)","v":28.44},{"$error":"#N/A"},{"$error":"#N/A"},{"$error":"#N/A"},29.410050063459366,29.410050063459366,-4.9156431391604718,-4.0154549240087691,17.238600845037119,-4.0154549240087691,0,1.2487328686113504E-3,null,30.1,28.44,0,{"$error":"#N/A"},0.2,0.8,{"$error":"#N/A"},{"$error":"#N/A"},{"$error":"#N/A"},{"$error":"#N/A"},false,false,true,false,false,{"$error":"#N/A"},{"$error":"#N/A"},{"$error":"#N/A"},{"$error":"#N/A"},false,false,false,false,false,{"$error":"#N/A"},{"$error":"#N/A"},{"$error":"#N/A"},{"$error":"#N/A"}]
[820,{"$f":"OFFSET(InputPriceData!B$15,CalculationsAndCharts!$A852+$A$11,0,1,1)","v":"2010-08-10"},{"$f":"OFFSET(InputPriceData!G$15,CalculationsAndCharts!$A852+$A$11,0,1,1)","v":754200},{"$f":"OFFSET(InputPriceData!C$15,CalculationsAndCharts!$A852+$A$11,IF($C$7,7,0),1,1)","v":29.52},{"$f":"OFFSET(InputPriceData!D$15,CalculationsAndCharts!$A852+$A$11,IF($C$7,7,0),1,1)","v":29.63},{"$f":"OFFSET(InputPriceData!E$15,CalculationsAndCharts!$A852+$A$11,IF($C$7,7,0),1,1)","v":29.1},{"$f":"OFFSET(InputPriceData!F$15,CalculationsAndCharts!$A852+$A$11,IF($C$7,7,0),1,1)","v":29.35},{"$error":"#N/A"},{"$error":"#N/A"},{"$error":"#N/A"},29.599820273234378,29.599820273234378,-4.1096973633434057,-3.7490886178632836,17.238600845037119,-3.7490886178632836,0,1.1207266646864314E-3,null,30.1,28.23,0.59893048128342263,{"$error":"#N/A"},0.2,0.8,{"$error":"#N/A"},{"$error":"#N/A"},{"$error":"#N/A"},{"$error":"#N/A"},false,false,true,false,false,{"$error":"#N/A"},{"$error":"#N/A"},{"$error":"#N/A"},{"$error":"#N/A"},false,false,false,false,false,{"$error":"#N/A"},{"$error":"#N/A"},{"$error":"#N/A"},{"$error":"#N/A"}]
[821,{"$f":"OFFSET(InputPriceData!B$15,CalculationsAndCharts!$A853+$A$11,0,1,1)","v":"2010-08-09"},{"$f":"OFFSET(InputPriceData!G$15,CalculationsAndCharts!$A853+$A$11,0,1,1)","v":602600},{"$f":"OFFSET(InputPriceData!C$15,CalculationsAndCharts!$A853+$A$11,IF($C$7,7,0),1,1)","v":29.46},{"$f":"OFFSET(InputPriceData!D$15,CalculationsAndCharts!$A853+$A$11,IF($C$7,7,0),1,1)","v":30.02},{"$f":"OFFSET(InputPriceData!E$15,CalculationsAndCharts!$A853+$A$11,IF($C$7,7,0),1,1)","v":29.24},{"$f":"OFFSET(InputPriceData!F$15,CalculationsAndCharts!$A853+$A$11,IF($C$7,7,0),1,1)","v":29.66},{"$error":"#N/A"},{"$f":"IF($A853=$E$25,I$32,NA())","v":{"$error":"#N/A"}},{"$error":"#N/A"},29.627429098883354,29.627429098883354,-3.760547181779299,-3.5714139038830757,17.238600845037119,-3.5714139038830757,0,1.197411203346585E-4,null,30.1,27.7,0.81666666666666632,{"$error":"#N/A"},0.2,0.8,{"$error":"#N/A"},{"$error":"#N/A"},{"$error":"#N/A"},{"$error":"#N/A"},false,false,true,false,false,{"$error":"#N/A"},{"$error":"#N/A"},{"$error":"#N/A"},{"$error":"#N/A"},false,false,false,false,false,{"$error":"#N/A"},{"$error":"#N/A"},{"$error":"#N/A"},{"$error":"#N/A"}]
[822,{"$f":"OFFSET(InputPriceData!B$15,CalculationsAndCharts!$A854+$A$11,0,1,1)","v":"2010-08-06"},{"$f":"OFFSET(InputPriceData!G$15,CalculationsAndCharts!$A854+$A$11,0,1,1)","v":562000},{"$f":"OFFSET(InputPriceData!C$15,CalculationsAndCharts!$A854+$A$11,IF($C$7,7,0),1,1)","v":29.33},{"$f":"OFFSET(InputPriceData!D$15,CalculationsAndCharts!$A854+$A$11,IF($C$7,7,0),1,1)","v":29.59},{"$f":"OFFSET(InputPriceData!E$15,CalculationsAndCharts!$A854+$A$11,IF($C$7,7,0),1,1)","v":29.1},{"$f":"OFFSET(InputPriceData!F$15,CalculationsAndCharts!$A854+$A$11,IF($C$7,7,0),1,1)","v":29.44},{"$error":"#N/A"},{"$error":"#N/A"},{"$error":"#N/A"},29.619205618991806,29.619205618991806,-3.8875479882699304,-3.3632735602778694,17.238600845037119,-3.3632735602778694,0,-2.3876884245406941E-3,null,30.1,27.47,0.74904942965779486,{"$error":"#N/A"},0.2,0.8,{"$error":"#N/A"},{"$error":"#N/A"},{"$error":"#N/A"},{"$error":"#N/A"},false,false,true,false,false,{"$error":"#N/A"},{"$error":"#N/A"},{"$error":"#N/A"},{"$error":"#N/A"},false,false,false,false,false,{"$error":"#N/A"},{"$error":"#N/A"},{"$error":"#N/A"},{"$error":"#N/A"}]
[823,{"$f":"OFFSET(InputPriceData!B$15,CalculationsAndCharts!$A855+$A$11,0,1,1)","v":"2010-08-05"},{"$f":"OFFSET(InputPriceData!G$15,CalculationsAndCharts!$A855+$A$11,0,1,1)","v":1250500},{"$f":"OFFSET(InputPriceData!C$15,CalculationsAndCharts!$A855+$A$11,IF($C$7,7,0),1,1)","v":29.84},{"$f":"OFFSET(InputPriceData!D$15,CalculationsAndCharts!$A855+$A$11,IF($C$7,7,0),1,1)","v":29.86},{"$f":"OFFSET(InputPriceData!E$15,CalculationsAndCharts!$A855+$A$11,IF($C$7,7,0),1,1)","v":29},{"$f":"OFFSET(InputPriceData!F$15,CalculationsAndCharts!$A855+$A$11,IF($C$7,7,0),1,1)","v":29.59},{"$error":"#N/A"},{"$error":"#N/A"},{"$error":"#N/A"},29.556618469487866,29.556618469487866,-3.5969495257778528,-3.1408007292237956,17.238600845037119,-3.1408007292237956,0,-7.0145768563167378E-3,null,30.1,27.47,0.80608365019011363,{"$error":"#N/A"},0.2,0.8,{"$error":"#N/A"},{"$error":"#N/A"},{"$error":"#N/A"},{"$error":"#N/A"},false,false,true,false,false,{"$error":"#N/A"},{"$error":"#N/A"},{"$error":"#N/A"},{"$error":"#N/A"},false,false,false,false,false,{"$error":"#N/A"},{"$error":"#N/A"},{"$error":"#N/A"},{"$error":"#N/A"}]
[824,{"$f":"OFFSET(InputPriceData!B$15,CalculationsAndCharts!$A856+$A$11,0,1,1)","v":"2010-08-04"},{"$f":"OFFSET(InputPriceData!G$15,CalculationsAndCharts!$A856+$A$11,0,1,1)","v":493900},{"$f":"OFFSET(InputPriceData!C$15,CalculationsAndCharts!$A856+$A$11,IF($C$7,7,0),1,1)","v":29.32},{"$f":"OFFSET(InputPriceData!D$15,CalculationsAndCharts!$A856+$A$11,IF($C$7,7,0),1,1)","v":30.2},{"$f":"OFFSET(InputPriceData!E$15,CalculationsAndCharts!$A856+$A$11,IF($C$7,7,0),1,1)","v":29.32},{"$f":"OFFSET(InputPriceData!F$15,CalculationsAndCharts!$A856+$A$11,IF($C$7,7,0),1,1)","v":30.1},{"$error":"#N/A"},{"$error":"#N/A"},{"$error":"#N/A"},29.378833581543688,29.378833581543688,-2.8174435877816593,-2.9700595977243758,17.238600845037119,-2.9700595977243758,0,-1.3946934369215319E-2,null,30.1,27.47,1,{"$error":"#N/A"},0.2,0.8,{"$error":"#N/A"},{"$error":"#N/A"},{"$error":"#N/A"},{"$error":"#N/A"},false,false,true,false,false,{"$error":"#N/A"},{"$error":"#N/A"},{"$error":"#N/A"},{"$error":"#N/A"},false,false,false,false,false,{"$error":"#N/A"},{"$error":"#N/A"},{"$error":"#N/A"},{"$error":"#N/A"}]
[825,{"$f":"OFFSET(InputPriceData!B$15,CalculationsAndCharts!$A857+$A$11,0,1,1)","v":"2010-08-03"},{"$f":"OFFSET(InputPriceData!G$15,CalculationsAndCharts!$A857+$A$11,0,1,1)","v":592200},{"$f":"OFFSET(InputPriceData!C$15,CalculationsAndCharts!$A857+$A$11,IF($C$7,7,0),1,1)","v":29.6},{"$f":"OFFSET(InputPriceData!D$15,CalculationsAndCharts!$A857+$A$11,IF($C$7,7,0),1,1)","v":29.65},{"$f":"OFFSET(InputPriceData!E$15,CalculationsAndCharts!$A857+$A$11,IF($C$7,7,0),1,1)","v":29.04},{"$f":"OFFSET(InputPriceData!F$15,CalculationsAndCharts!$A857+$A$11,IF($C$7,7,0),1,1)","v":29.33},{"$error":"#N/A"},{"$error":"#N/A"},{"$error":"#N/A"},29.233483905264258,29.233483905264258,-3.2599409993983595,-2.7008778587407503,17.238600845037119,-2.7008778587407503,0,-2.2218097196429077E-2,null,29.8,27.47,0.79828326180257425,{"$error":"#N/A"},0.2,0.8,{"$error":"#N/A"},{"$error":"#N/A"},{"$error":"#N/A"},{"$error":"#N/A"},false,false,true,false,false,{"$error":"#N/A"},{"$error":"#N/A"},{"$error":"#N/A"},{"$error":"#N/A"},false,false,false,false,false,{"$error":"#N/A"},{"$error":"#N/A"},{"$error":"#N/A"},{"$error":"#N/A"}]
[826,{"$f":"OFFSET(InputPriceData!B$15,CalculationsAndCharts!$A858+$A$11,0,1,1)","v":"2010-08-02"},{"$f":"OFFSET(InputPriceData!G$15,CalculationsAndCharts!$A858+$A$11,0,1,1)","v":546700},{"$f":"OFFSET(InputPriceData!C$15,CalculationsAndCharts!$A858+$A$11,IF($C$7,7,0),1,1)","v":29.52},{"$f":"OFFSET(InputPriceData!D$15,CalculationsAndCharts!$A858+$A$11,IF($C$7,7,0),1,1)","v":29.72},{"$f":"OFFSET(InputPriceData!E$15,CalculationsAndCharts!$A858+$A$11,IF($C$7,7,0),1,1)","v":29.25},{"$f":"OFFSET(InputPriceData!F$15,CalculationsAndCharts!$A858+$A$11,IF($C$7,7,0),1,1)","v":29.51},{"$error":"#N/A"},{"$error":"#N/A"},{"$error":"#N/A"},29.17644225377402,29.17644225377402,-2.7173172698951089,-2.2543164175500814,17.238600845037119,-2.2543164175500814,0,-2.8653801876745183E-2,null,29.8,27.47,0.87553648068669576,{"$error":"#N/A"},0.2,0.8,{"$error":"#N/A"},{"$error":"#N/A"},{"$error":"#N/A"},{"$error":"#N/A"},false,false,true,false,false,{"$error":"#N/A"},{"$error":"#N/A"},{"$error":"#N/A"},{"$error":"#N/A"},false,false,false,false,false,{"$error":"#N/A"},{"$error":"#N/A"},{"$error":"#N/A"},{"$error":"#N/A"}]
[827,{"$f":"OFFSET(InputPriceData!B$15,CalculationsAndCharts!$A859+$A$11,0,1,1)","v":"2010-07-30"},{"$f":"OFFSET(InputPriceData!G$15,CalculationsAndCharts!$A859+$A$11,0,1,1)","v":718800},{"$f":"OFFSET(InputPriceData!C$15,CalculationsAndCharts!$A859+$A$11,IF($C$7,7,0),1,1)","v":28.59},{"$f":"OFFSET(InputPriceData!D$15,CalculationsAndCharts!$A859+$A$11,IF($C$7,7,0),1,1)","v":29.27},{"$f":"OFFSET(InputPriceData!E$15,CalculationsAndCharts!$A859+$A$11,IF($C$7,7,0),1,1)","v":28.34},{"$f":"OFFSET(InputPriceData!F$15,CalculationsAndCharts!$A859+$A$11,IF($C$7,7,0),1,1)","v":29.18},{"$error":"#N/A"},{"$error":"#N/A"},{"$error":"#N/A"},29.187654080717579,29.187654080717579,-2.5992925061140735,-1.6205126921967998,17.238600845037119,-1.6205126921967998,0,-2.6665987390383419E-2,null,29.8,27.47,0.73390557939914136,{"$error":"#N/A"},0.2,0.8,{"$error":"#N/A"},{"$error":"#N/A"},{"$error":"#N/A"},{"$error":"#N/A"},false,false,true,false,false,{"$error":"#N/A"},{"$error":"#N/A"},{"$error":"#N/A"},{"$error":"#N/A"},false,false,false,false,false,{"$error":"#N/A"},{"$error":"#N/A"},{"$error":"#N/A"},{"$error":"#N/A"}]
[828,{"$f":"OFFSET(InputPriceData!B$15,CalculationsAndCharts!$A860+$A$11,0,1,1)","v":"2010-07-29"},{"$f":"OFFSET(InputPriceData!G$15,CalculationsAndCharts!$A860+$A$11,0,1,1)","v":561100},{"$f":"OFFSET(InputPriceData!C$15,CalculationsAndCharts!$A860+$A$11,IF($C$7,7,0),1,1)","v":29.65},{"$f":"OFFSET(InputPriceData!D$15,CalculationsAndCharts!$A860+$A$11,IF($C$7,7,0),1,1)","v":29.94},{"$f":"OFFSET(InputPriceData!E$15,CalculationsAndCharts!$A860+$A$11,IF($C$7,7,0),1,1)","v":28.6},{"$f":"OFFSET(InputPriceData!F$15,CalculationsAndCharts!$A860+$A$11,IF($C$7,7,0),1,1)","v":28.72},{"$error":"#N/A"},{"$error":"#N/A"},{"$error":"#N/A"},29.311753487867421,29.311753487867421,-2.5756511727662312,-0.71823832806611065,17.238600845037119,-0.71823832806611065,0,-5.421166718992905E-3,null,29.8,27.47,0.5364806866952786,{"$error":"#N/A"},0.2,0.8,{"$error":"#N/A"},{"$error":"#N/A"},{"$error":"#N/A"},{"$error":"#N/A"},false,{"$f":"AND(AD861,NOT(AF861))","v":false},true,false,false,{"$error":"#N/A"},{"$error":"#N/A"},{"$error":"#N/A"},{"$error":"#N/A"},false,false,false,false,false,{"$error":"#N/A"},{"$error":"#N/A"},{"$error":"#N/A"},{"$error":"#N/A"}]
[829,{"$f":"OFFSET(InputPriceData!B$15,CalculationsAndCharts!$A861+$A$11,0,1,1)","v":"2010-07-28"},{"$f":"OFFSET(InputPriceData!G$15,CalculationsAndCharts!$A861+$A$11,0,1,1)","v":1665800},{"$f":"OFFSET(InputPriceData!C$15,CalculationsAndCharts!$A861+$A$11,IF($C$7,7,0),1,1)","v":29.39},{"$f":"OFFSET(InputPriceData!D$15,CalculationsAndCharts!$A861+$A$11,IF($C$7,7,0),1,1)","v":29.98},{"$f":"OFFSET(InputPriceData!E$15,CalculationsAndCharts!$A861+$A$11,IF($C$7,7,0),1,1)","v":28.95},{"$f":"OFFSET(InputPriceData!F$15,CalculationsAndCharts!$A861+$A$11,IF($C$7,7,0),1,1)","v":29.5},{"$error":"#N/A"},{"$error":"#N/A"},{"$error":"#N/A"},29.390837306713053,29.390837306713053,-1.1595681513598126,0.32506236821196177,17.238600845037119,0.32506236821196177,0,4.9568665130055284E-2,null,29.8,27.47,0.87124463519313289,{"$error":"#N/A"},0.2,0.8,29.39,{"$error":"#N/A"},{"$error":"#N/A"},{"$error":"#N/A"},false,true,true,false,false,29.39,{"$error":"#N/A"},29.39,{"$error":"#N/A"},false,false,false,false,true,{"$error":"#N/A"},29.39,{"$error":"#N/A"},29.39]
[830,{"$f":"OFFSET(InputPriceData!B$15,CalculationsAndCharts!$A862+$A$11,0,1,1)","v":"2010-07-27"},{"$f":"OFFSET(InputPriceData!G$15,CalculationsAndCharts!$A862+$A$11,0,1,1)","v":542200},{"$f":"OFFSET(InputPriceData!C$15,CalculationsAndCharts!$A862+$A$11,IF($C$7,7,0),1,1)","v":29.69},{"$f":"OFFSET(InputPriceData!D$15,CalculationsAndCharts!$A862+$A$11,IF($C$7,7,0),1,1)","v":29.77},{"$f":"OFFSET(InputPriceData!E$15,CalculationsAndCharts!$A862+$A$11,IF($C$7,7,0),1,1)","v":28.95},{"$f":"OFFSET(InputPriceData!F$15,CalculationsAndCharts!$A862+$A$11,IF($C$7,7,0),1,1)","v":29.36},{"$error":"#N/A"},{"$error":"#N/A"},{"$error":"#N/A"},29.410273463678287,29.410273463678287,-0.4556769056358474,1.5121831772863519,17.238600845037119,1.5121831772863519,0,0.15276013494108823,null,29.8,27.47,0.81115879828326143,{"$error":"#N/A"},0.2,0.8,{"$error":"#N/A"},{"$error":"#N/A"},0.15276013494108823,{"$error":"#N/A"},true,false,0,false,false,{"$error":"#N/A"},{"$error":"#N/A"},{"$error":"#N/A"},{"$error":"#N/A"},false,false,true,true,false,{"$error":"#N/A"},{"$error":"#N/A"},{"$error":"#N/A"},{"$error":"#N/A"}]
[831,{"$f":"OFFSET(InputPriceData!B$15,CalculationsAndCharts!$A863+$A$11,0,1,1)","v":"2010-07-26"},{"$f":"OFFSET(InputPriceData!G$15,CalculationsAndCharts!$A863+$A$11,0,1,1)","v":691500},{"$f":"OFFSET(InputPriceData!C$15,CalculationsAndCharts!$A863+$A$11,IF($C$7,7,0),1,1)","v":29.58},{"$f":"OFFSET(InputPriceData!D$15,CalculationsAndCharts!$A863+$A$11,IF($C$7,7,0),1,1)","v":30},{"$f":"OFFSET(InputPriceData!E$15,CalculationsAndCharts!$A863+$A$11,IF($C$7,7,0),1,1)","v":29.39},{"$f":"OFFSET(InputPriceData!F$15,CalculationsAndCharts!$A863+$A$11,IF($C$7,7,0),1,1)","v":29.69},{"$error":"#N/A"},{"$error":"#N/A"},{"$error":"#N/A"},29.469670164787821,29.469670164787821,0.91260672276512667,2.9707339396128027,17.238600845037119,2.9707339396128027,0,0.30963614441664888,null,29.8,27.47,0.95278969957081572,{"$error":"#N/A"},0.2,0.8,{"$error":"#N/A"},{"$error":"#N/A"},{"$error":"#N/A"},{"$error":"#N/A"},false,false,0,false,false,{"$error":"#N/A"},{"$error":"#N/A"},{"$error":"#N/A"},{"$error":"#N/A"},false,false,true,false,false,{"$error":"#N/A"},{"$error":"#N/A"},{"$error":"#N/A"},{"$error":"#N/A"}]
[832,{"$f":"OFFSET(InputPriceData!B$15,CalculationsAndCharts!$A864+$A$11,0,1,1)","v":"2010-07-23"},{"$f":"OFFSET(InputPriceData!G$15,CalculationsAndCharts!$A864+$A$11,0,1,1)","v":770400},{"$f":"OFFSET(InputPriceData!C$15,CalculationsAndCharts!$A864+$A$11,IF($C$7,7,0),1,1)","v":29.03},{"$f":"OFFSET(InputPriceData!D$15,CalculationsAndCharts!$A864+$A$11,IF($C$7,7,0),1,1)","v":29.46},{"$f":"OFFSET(InputPriceData!E$15,CalculationsAndCharts!$A864+$A$11,IF($C$7,7,0),1,1)","v":28.91},{"$f":"OFFSET(InputPriceData!F$15,CalculationsAndCharts!$A864+$A$11,IF($C$7,7,0),1,1)","v":29.37},{"$error":"#N/A"},{"$error":"#N/A"},{"$error":"#N/A"},29.648136752687691,29.648136752687691,1.8362793625752158,4.8292145482148285,17.238600845037119,3.1758768505525334,0.11756880802828355,0.50048694706161245,null,29.8,27.47,0.8154506437768243,{"$error":"#N/A"},0.2,0.8,{"$error":"#N/A"},{"$error":"#N/A"},{"$error":"#N/A"},{"$error":"#N/A"},false,false,0,false,false,{"$error":"#N/A"},{"$error":"#N/A"},{"$error":"#N/A"},{"$error":"#N/A"},false,false,true,false,false,{"$error":"#N/A"},{"$error":"#N/A"},{"$error":"#N/A"},{"$error":"#N/A"}]
[833,{"$f":"OFFSET(InputPriceData!B$15,CalculationsAndCharts!$A865+$A$11,0,1,1)","v":"2010-07-22"},{"$f":"OFFSET(InputPriceData!G$15,CalculationsAndCharts!$A865+$A$11,0,1,1)","v":388300},{"$f":"OFFSET(InputPriceData!C$15,CalculationsAndCharts!$A865+$A$11,IF($C$7,7,0),1,1)","v":29.06},{"$f":"OFFSET(InputPriceData!D$15,CalculationsAndCharts!$A865+$A$11,IF($C$7,7,0),1,1)","v":29.32},{"$f":"OFFSET(InputPriceData!E$15,CalculationsAndCharts!$A865+$A$11,IF($C$7,7,0),1,1)","v":28.8},{"$f":"OFFSET(InputPriceData!F$15,CalculationsAndCharts!$A865+$A$11,IF($C$7,7,0),1,1)","v":28.98},{"$f":"IF($A865=$E$25,H$32,NA())","v":{"$error":"#N/A"}},{"$error":"#N/A"},{"$error":"#N/A"},{"$f":"$F$16*(G865+G866)/2+$F$17*K866+$F$18*K867","v":30.009341211750861},30.009341211750861,{"$f":"$D$21*(G865 - 2*G866 + G867) + $D$20*M866 - $F$20*M867","v":2.8537770580521844},7.2215449908696163,17.238600845037119,3.1758768505525334,{"$f":"IFERROR(IF($A865>$A$8,0,(N865-P865)/(O865-P865)),1)","v":0.28768737421738483},{"$f":"IF($A865>$A$8,0,$F$16*(Q865+Q866)/2+$F$17*R866+$F$18*R867)","v":0.69266074259227683},null,{"$f":"MAX(OFFSET(G865,0,0,$A$22,1))","v":29.8},{"$f":"MIN(OFFSET(G865,0,0,$A$22,1))","v":27.47},{"$f":"IFERROR(IF($A865>$A$8,0,(G865-U865)/(T865-U865)),1)","v":0.6480686695278971},{"$error":"#N/A"},0.2,0.8,{"$f":"IF($S$7,AI865,NA())","v":{"$error":"#N/A"}},{"$f":"IF($S$7,AJ865,NA())","v":{"$error":"#N/A"}},{"$f":"IF($S$7,IF(AD865,R865,NA()),NA())","v":{"$error":"#N/A"}},{"$f":"IF($S$7,IF(AG865,R865,NA()),NA())","v":{"$error":"#N/A"}},{"$f":"IF(AND(R866>$X$32,R865<$X$32),TRUE,FALSE)","v":false},false,0,{"$f":"IF(AND(AF865,R866<$Y$32,R865>$Y$32),TRUE,FALSE)","v":false},false,{"$f":"IF(AE865,D865,NA())","v":{"$error":"#N/A"}},{"$f":"IF(AH865,D865,NA())","v":{"$error":"#N/A"}},{"$f":"IF($S$7,AI865,NA())","v":{"$error":"#N/A"}},{"$f":"IF($S$7,AJ865,NA())","v":{"$error":"#N/A"}},{"$f":"IF(AND(R866<$Y$32,R865>$Y$32),TRUE,FALSE)","v":false},false,true,{"$f":"IF(AND(AO866,R866>$X$32,R865<$X$32),TRUE,FALSE)","v":false},false,{"$f":"IF(AN865,D865,NA())","v":{"$error":"#N/A"}},{"$f":"IF(AQ865,D865,NA())","v":{"$error":"#N/A"}},{"$error":"#N/A"},{"$error":"#N/A"}]
[834,{"$f":"OFFSET(InputPriceData!B$15,CalculationsAndCharts!$A866+$A$11,0,1,1)","v":"2010-07-21"},{"$f":"OFFSET(InputPriceData!G$15,CalculationsAndCharts!$A866+$A$11,0,1,1)","v":791600},{"$f":"OFFSET(InputPriceData!C$15,CalculationsAndCharts!$A866+$A$11,IF($C$7,7,0),1,1)","v":29.67},{"$f":"OFFSET(InputPriceData!D$15,CalculationsAndCharts!$A866+$A$11,IF($C$7,7,0),1,1)","v":29.67},{"$f":"OFFSET(InputPriceData!E$15,CalculationsAndCharts!$A866+$A$11,IF($C$7,7,0),1,1)","v":28.71},{"$f":"OFFSET(InputPriceData!F$15,CalculationsAndCharts!$A866+$A$11,IF($C$7,7,0),1,1)","v":28.92},{"$error":"#N/A"},{"$error":"#N/A"},{"$error":"#N/A"},30.37405002722447,{"$f":"IF($S$5,K866,NA())","v":30.37405002722447},4.4143985303270714,{"$f":"$F$16*(M866+M867)/2+$F$17*N867+$F$18*N868","v":10.036821459873892},{"$f":"MAX(OFFSET(N866,0,0,$A$22,1))","v":17.238600845037119},3.1758768505525334,0.48788162321981338,0.85830607085929533,null,29.8,27.47,0.6223175965665243,{"$f":"IF($S$18,V866,NA())","v":{"$error":"#N/A"}},{"$f":"$X$32","v":0.2},{"$f":"$Y$32","v":0.8},{"$error":"#N/A"},{"$error":"#N/A"},{"$error":"#N/A"},{"$error":"#N/A"},false,false,{"$f":"IF(AF867,IF(AH867,FALSE,AF867),IF(AE866,TRUE,AF867))","v":0},false,false,{"$error":"#N/A"},{"$error":"#N/A"},{"$error":"#N/A"},{"$error":"#N/A"},false,false,{"$f":"IF(AO867,IF(AP867,FALSE,AO867),IF(AN866,TRUE,AO867))","v":true},false,false,{"$error":"#N/A"},{"$error":"#N/A"},{"$f":"IF($S$5,AR866,NA())","v":{"$error":"#N/A"}},{"$error":"#N/A"}]
[835,{"$f":"OFFSET(InputPriceData!B$15,CalculationsAndCharts!$A867+$A$11,0,1,1)","v":"2010-07-20"},{"$f":"OFFSET(InputPriceData!G$15,CalculationsAndCharts!$A867+$A$11,0,1,1)","v":640600},{"$f":"OFFSET(InputPriceData!C$15,CalculationsAndCharts!$A867+$A$11,IF($C$7,7,0),1,1)","v":29},{"$f":"OFFSET(InputPriceData!D$15,CalculationsAndCharts!$A867+$A$11,IF($C$7,7,0),1,1)","v":29.53},{"$f":"OFFSET(InputPriceData!E$15,CalculationsAndCharts!$A867+$A$11,IF($C$7,7,0),1,1)","v":28.78},{"$f":"OFFSET(InputPriceData!F$15,CalculationsAndCharts!$A867+$A$11,IF($C$7,7,0),1,1)","v":29.52},{"$error":"#N/A"},{"$error":"#N/A"},{"$error":"#N/A"},30.384338620797024,30.384338620797024,6.9768568991605306,12.941101534863321,17.238600845037119,3.1758768505525334,0.6944049167245776,0.97145996609561469,null,29.8,27.47,0.87982832618025708,{"$error":"#N/A"},0.2,0.8,{"$error":"#N/A"},{"$error":"#N/A"},{"$error":"#N/A"},{"$error":"#N/A"},false,false,0,false,false,{"$error":"#N/A"},{"$error":"#N/A"},{"$error":"#N/A"},{"$error":"#N/A"},false,false,true,false,false,{"$error":"#N/A"},{"$error":"#N/A"},{"$error":"#N/A"},{"$error":"#N/A"}]
[836,{"$f":"OFFSET(InputPriceData!B$15,CalculationsAndCharts!$A868+$A$11,0,1,1)","v":"2010-07-19"},{"$f":"OFFSET(InputPriceData!G$15,CalculationsAndCharts!$A868+$A$11,0,1,1)","v":724300},{"$f":"OFFSET(InputPriceData!C$15,CalculationsAndCharts!$A868+$A$11,IF($C$7,7,0),1,1)","v":29.2},{"$f":"OFFSET(InputPriceData!D$15,CalculationsAndCharts!$A868+$A$11,IF($C$7,7,0),1,1)","v":29.57},{"$f":"OFFSET(InputPriceData!E$15,CalculationsAndCharts!$A868+$A$11,IF($C$7,7,0),1,1)","v":29.02},{"$f":"OFFSET(InputPriceData!F$15,CalculationsAndCharts!$A868+$A$11,IF($C$7,7,0),1,1)","v":29.27},{"$error":"#N/A"},{"$error":"#N/A"},{"$error":"#N/A"},29.692753159473156,29.692753159473156,9.0608155330915601,15.54310900548662,17.238600845037119,3.1758768505525334,0.87943361185105584,1.0125066888773395,null,29.8,27.47,0.77253218884120145,{"$error":"#N/A"},0.2,0.8,{"$error":"#N/A"},{"$error":"#N/A"},{"$error":"#N/A"},{"$error":"#N/A"},false,false,0,false,false,{"$error":"#N/A"},{"$error":"#N/A"},{"$error":"#N/A"},{"$error":"#N/A"},false,false,true,false,false,{"$error":"#N/A"},{"$error":"#N/A"},{"$error":"#N/A"},{"$error":"#N/A"}]
[837,{"$f":"OFFSET(InputPriceData!B$15,CalculationsAndCharts!$A869+$A$11,0,1,1)","v":"2010-07-16"},{"$f":"OFFSET(InputPriceData!G$15,CalculationsAndCharts!$A869+$A$11,0,1,1)","v":1425500},{"$f":"OFFSET(InputPriceData!C$15,CalculationsAndCharts!$A869+$A$11,IF($C$7,7,0),1,1)","v":29.78},{"$f":"OFFSET(InputPriceData!D$15,CalculationsAndCharts!$A869+$A$11,IF($C$7,7,0),1,1)","v":29.78},{"$f":"OFFSET(InputPriceData!E$15,CalculationsAndCharts!$A869+$A$11,IF($C$7,7,0),1,1)","v":28.98},{"$f":"OFFSET(InputPriceData!F$15,CalculationsAndCharts!$A869+$A$11,IF($C$7,7,0),1,1)","v":29.09},{"$error":"#N/A"},{"$error":"#N/A"},{"$error":"#N/A"},27.828020961135543,27.828020961135543,11.560686034876806,17.238600845037119,17.238600845037119,3.1758768505525334,1,0.97346574933549346,null,29.8,27.47,0.69527896995708138,{"$error":"#N/A"},0.2,0.8,{"$error":"#N/A"},{"$error":"#N/A"},{"$error":"#N/A"},{"$error":"#N/A"},false,false,0,false,false,{"$error":"#N/A"},{"$error":"#N/A"},{"$error":"#N/A"},{"$error":"#N/A"},false,true,true,false,false,29.78,{"$error":"#N/A"},29.78,{"$error":"#N/A"}]
[838,{"$f":"OFFSET(InputPriceData!B$15,CalculationsAndCharts!$A870+$A$11,0,1,1)","v":"2010-07-15"},{"$f":"OFFSET(InputPriceData!G$15,CalculationsAndCharts!$A870+$A$11,0,1,1)","v":1981600},{"$f":"OFFSET(InputPriceData!C$15,CalculationsAndCharts!$A870+$A$11,IF($C$7,7,0),1,1)","v":28.29},{"$f":"OFFSET(InputPriceData!D$15,CalculationsAndCharts!$A870+$A$11,IF($C$7,7,0),1,1)","v":30.17},{"$f":"OFFSET(InputPriceData!E$15,CalculationsAndCharts!$A870+$A$11,IF($C$7,7,0),1,1)","v":28.17},{"$f":"OFFSET(InputPriceData!F$15,CalculationsAndCharts!$A870+$A$11,IF($C$7,7,0),1,1)","v":29.8},{"$error":"#N/A"},{"$error":"#N/A"},{"$error":"#N/A"},24.126312171445853,24.126312171445853,15.439156387337558,17.097119561617006,17.097119561617006,3.1758768505525334,1,0.8577730083065932,null,29.8,27.47,1,{"$error":"#N/A"},0.2,0.8,{"$error":"#N/A"},{"$error":"#N/A"},{"$error":"#N/A"},{"$error":"#N/A"},false,false,0,false,false,{"$error":"#N/A"},{"$error":"#N/A"},{"$error":"#N/A"},{"$error":"#N/A"},true,false,0,false,false,{"$error":"#N/A"},{"$error":"#N/A"},{"$error":"#N/A"},{"$error":"#N/A"}]
[839,{"$f":"OFFSET(InputPriceData!B$15,CalculationsAndCharts!$A871+$A$11,0,1,1)","v":"2010-07-14"},{"$f":"OFFSET(InputPriceData!G$15,CalculationsAndCharts!$A871+$A$11,0,1,1)","v":1069600},{"$f":"OFFSET(InputPriceData!C$15,CalculationsAndCharts!$A871+$A$11,IF($C$7,7,0),1,1)","v":27.71},{"$f":"OFFSET(InputPriceData!D$15,CalculationsAndCharts!$A871+$A$11,IF($C$7,7,0),1,1)","v":28.46},{"$f":"OFFSET(InputPriceData!E$15,CalculationsAndCharts!$A871+$A$11,IF($C$7,7,0),1,1)","v":27.62},{"$f":"OFFSET(InputPriceData!F$15,CalculationsAndCharts!$A871+$A$11,IF($C$7,7,0),1,1)","v":28.23},{"$error":"#N/A"},{"$error":"#N/A"},{"$error":"#N/A"},18.399631922266344,18.399631922266344,17.455092467665608,14.53920938588594,14.53920938588594,3.1758768505525334,1,0.66401948709922298,null,28.23,27.47,1,{"$error":"#N/A"},0.2,0.8,{"$error":"#N/A"},{"$error":"#N/A"},{"$error":"#N/A"},{"$error":"#N/A"},false,false,0,false,false,{"$error":"#N/A"},{"$error":"#N/A"},{"$error":"#N/A"},{"$error":"#N/A"},false,false,0,false,false,{"$error":"#N/A"},{"$error":"#N/A"},{"$error":"#N/A"},{"$error":"#N/A"}]
[840,{"$f":"OFFSET(InputPriceData!B$15,CalculationsAndCharts!$A872+$A$11,0,1,1)","v":"2010-07-13"},{"$f":"OFFSET(InputPriceData!G$15,CalculationsAndCharts!$A872+$A$11,0,1,1)","v":672600},{"$f":"OFFSET(InputPriceData!C$15,CalculationsAndCharts!$A872+$A$11,IF($C$7,7,0),1,1)","v":27.64},{"$f":"OFFSET(InputPriceData!D$15,CalculationsAndCharts!$A872+$A$11,IF($C$7,7,0),1,1)","v":27.9},{"$f":"OFFSET(InputPriceData!E$15,CalculationsAndCharts!$A872+$A$11,IF($C$7,7,0),1,1)","v":27.43},{"$f":"OFFSET(InputPriceData!F$15,CalculationsAndCharts!$A872+$A$11,IF($C$7,7,0),1,1)","v":27.7},{"$error":"#N/A"},{"$error":"#N/A"},{"$error":"#N/A"},{"$f":"$F$16*(G872+G873)/2+$F$17*K873+$F$18*J874","v":11.009441599295837},11.009441599295837,{"$f":"$D$21*(G872 - 2*G873 + G874) + $D$20*M873 - $F$20*K874","v":20.860410988975598},{"$f":"$F$16*(M872+M873)/2+$F$17*N873+$F$18*L874","v":9.4943055365773734},9.4943055365773734,{"$f":"MIN(OFFSET(N872,0,0,$A$22,1))","v":3.1758768505525334},1,{"$f":"IF($A872>$A$8,0,$F$16*(Q872+Q873)/2+$F$17*R873+$F$18*P874)","v":0.3997208246782159},null,27.7,27.47,1,{"$error":"#N/A"},0.2,0.8,{"$error":"#N/A"},{"$error":"#N/A"},{"$error":"#N/A"},{"$error":"#N/A"},false,false,0,false,false,{"$error":"#N/A"},{"$error":"#N/A"},{"$error":"#N/A"},{"$error":"#N/A"},false,false,0,false,false,{"$error":"#N/A"},{"$error":"#N/A"},{"$error":"#N/A"},{"$error":"#N/A"}]
[841,{"$f":"OFFSET(InputPriceData!B$15,CalculationsAndCharts!$A873+$A$11,0,1,1)","v":"2010-07-12"},{"$f":"OFFSET(InputPriceData!G$15,CalculationsAndCharts!$A873+$A$11,0,1,1)","v":1033200},{"$f":"OFFSET(InputPriceData!C$15,CalculationsAndCharts!$A873+$A$11,IF($C$7,7,0),1,1)","v":28.12},{"$f":"OFFSET(InputPriceData!D$15,CalculationsAndCharts!$A873+$A$11,IF($C$7,7,0),1,1)","v":28.12},{"$f":"OFFSET(InputPriceData!E$15,CalculationsAndCharts!$A873+$A$11,IF($C$7,7,0),1,1)","v":27.28},{"$f":"OFFSET(InputPriceData!F$15,CalculationsAndCharts!$A873+$A$11,IF($C$7,7,0),1,1)","v":27.47},{"$error":"#N/A"},{"$error":"#N/A"},{"$error":"#N/A"},{"$f":"$F$16*(G873+G874)/2+$F$17*J874+$F$18*J875","v":3.4768116597074434},3.4768116597074434,{"$f":"$D$21*(G873 - 2*G874 + G875) + $D$20*K874 - $F$20*K875","v":25.092339080575627},{"$f":"$F$16*(M873+K874)/2+$F$17*L874+$F$18*L875","v":3.1758768505525334},3.1758768505525334,3.1758768505525334,{"$f":"IFERROR(IF($A873>$A$8,0,(N873-P873)/(O873-P873)),1)","v":1},{"$f":"IF($A873>$A$8,0,$F$16*(Q873+O874)/2+$F$17*P874+$F$18*P875)","v":0.12656758863150505},null,27.47,27.47,{"$f":"IFERROR(IF($A873>$A$8,0,(G873-U873)/(T873-U873)),1)","v":1},{"$error":"#N/A"},0.2,0.8,{"$error":"#N/A"},{"$error":"#N/A"},{"$error":"#N/A"},{"$error":"#N/A"},{"$f":"IF(AND(Q874>$X$32,R873<$X$32),TRUE,FALSE)","v":false},null,{"$f":"IF(Q874,IF(S874,FALSE,Q874),IF(AE873,TRUE,Q874))","v":0},{"$f":"IF(AND(AF873,Q874<$Y$32,R873>$Y$32),TRUE,FALSE)","v":false},null,{"$error":"#N/A"},{"$error":"#N/A"},{"$error":"#N/A"},{"$error":"#N/A"},{"$f":"IF(AND(Q874<$Y$32,R873>$Y$32),TRUE,FALSE)","v":false},null,0,{"$f":"IF(AND(AM874,Q874>$X$32,R873<$X$32),TRUE,FALSE)","v":false},null,{"$error":"#N/A"},{"$error":"#N/A"},{"$error":"#N/A"},{"$error":"#N/A"}]

{"sheet":"Transaction Summary","index":3,"n_rows":286,"n_cols":18,"rows_kept":286,"cut":false,"hidden":false,"merged":[[12,7,13,7],[12,8,13,8],[12,16,13,16],[12,17,13,17]]}
[null,"Transaction Summary (using trade size of 1 share)"]
[null,null,{"$f":"CalculationsAndCharts!$A$8","v":841},"Logically Available Bars on the \"CalculationsAndCharts\" tab constitute a "]
[null,null,null,{"$f":"\"Transaction reporting period extending from \" & TEXT(OFFSET(CalculationsAndCharts!$B$32,CalculationsAndCharts!$A$8,0,1,1),\"mm/dd/yyyy\") & \" to \"& TEXT(CalculationsAndCharts!$B$33,\"mm/dd/yyyy\")","v":"Transaction reporting period extending from 07/12/2010 to 11/08/2013"}]
[null,"Summary for LONG trades",null,null,null,null,null,null,null,null,"Summary for SHORT trades"]
[null,{"$f":"COUNT(OFFSET(B15,0,0,C2,1))","v":21},"LONG trades opened in this time period",null,null,null,null,null,null,null,{"$f":"COUNT(OFFSET(K15,0,0,$C$2,1))","v":21},"Short trades opened in this time period"]
[null,{"$f":"COUNTIF(OFFSET(H15,0,0,B5,1),\">0\")","v":12},"Winners","Biggest Win",{"$f":"MAX(OFFSET(H15,0,0,B5,1))","v":3.6599999999999966},null,null,"Sum of Gains",{"$f":"SUMIF(OFFSET(H15,0,0,B5,1),\">0\")","v":20.189999999999998},null,{"$f":"COUNTIF(OFFSET(Q15,0,0,K5,1),\">0\")","v":7},"Winners","Biggest Win",{"$f":"MAX(OFFSET(Q15,0,0,K5,1))","v":3.509999999999998},null,null,"Sum of Gains",{"$f":"SUMIF(OFFSET(Q15,0,0,K5,1),\">0\")","v":8.9200000000000017}]
[null,{"$f":"COUNTIF(OFFSET(H15,0,0,B5,1),\"<0\")","v":9},"Losers","Biggest Loss",{"$f":"MIN(OFFSET(H15,0,0,B5,1))","v":-3.8900000000000006},null,null,"Sum of Losses",{"$f":"SUMIF(OFFSET(H15,0,0,B5,1),\"<0\")","v":-14.360000000000003},null,{"$f":"COUNTIF(OFFSET(Q15,0,0,K5,1),\"<0\")","v":14},"Losers","Biggest Loss",{"$f":"MIN(OFFSET(Q15,0,0,K5,1))","v":-6.6199999999999974},null,null,"Sum of Losses",{"$f":"SUMIF(OFFSET(Q15,0,0,K5,1),\"<0\")","v":-30.590000000000007}]
[null,null,null,null,null,null,null,"NET change for Period",{"$f":"SUM(OFFSET(H15,0,0,B5,1))","v":5.8299999999999947},null,null,null,null,null,null,null,"NET change for Period",{"$f":"SUM(OFFSET(Q15,0,0,K5,1))","v":-21.670000000000005}]
[]
[null,null,null,null,null,null,null,"Largest Negative Account Balance",{"$f":"MIN(OFFSET(I15,0,0,B5,1))","v":-3.8099999999999987},null,null,null,null,null,null,null,"Largest Negative Account Balance",{"$f":"MIN(OFFSET(R15,0,0,K5,1))","v":-22.690000000000008}]
[]
[null,null,null,null,{"$f":"MATCH(TRUE,OFFSET(CalculationsAndCharts!$AH$33,0,0,'Transaction Summary'!C2,1),0)","v":12},{"$f":"IF($E$12>$B$15,\"Open Trade Marked to Close\",\"\")","v":"Open Trade Marked to Close"},null,null,null,null,null,null,null,{"$f":"MATCH(TRUE,OFFSET(CalculationsAndCharts!$AQ$33,0,0,'Transaction Summary'!$C$2,1),0)","v":3},{"$f":"IF($N$12>$K$15,\"Open Trade Marked to Close\",\"\")","v":""}]
[null,null,"Enter Long",null,null,"Exit Long",null,"Trade Result","Running Balance",null,null,"Enter Short",null,null,"Exit Short",null,"Trade Result","Running Balance"]
[null,"Rel Row","Date","$","Rel Row","Date","$",null,null,null,"Rel Row","Date","$","Rel Row","Date","$"]
[null,{"$f":"MATCH(TRUE,OFFSET(CalculationsAndCharts!$AE$33,0,0,'Transaction Summary'!$C$2,1),0)","v":3},{"$f":"OFFSET(CalculationsAndCharts!$B$32,'Transaction Summary'!B15,0,1,1)","v":"2013-11-06"},{"$f":"OFFSET(CalculationsAndCharts!$AI$32,'Transaction Summary'!B15,0,1,1)","v":58.11},{"$f":"IF($E$12>$B$15,\"OPEN\",$E$12)","v":"OPEN"},{"$f":"IF($E$12>$B$15,CalculationsAndCharts!B33,OFFSET(CalculationsAndCharts!$B$32,'Transaction Summary'!E15,0,1,1))","v":"2013-11-08"},{"$f":"IF($E$12>$B$15,CalculationsAndCharts!G33,OFFSET(CalculationsAndCharts!$AJ$32,'Transaction Summary'!E15,0,1,1))","v":57.28},{"$f":"G15-D15","v":-0.82999999999999829},{"$f":"H15+IF(ISNA(I16),0,I16)","v":5.8299999999999947},null,{"$f":"MATCH(TRUE,OFFSET(CalculationsAndCharts!$AN$33,0,0,'Transaction Summary'!$C$2,1),0)","v":12},{"$f":"OFFSET(CalculationsAndCharts!$B$32,'Transaction Summary'!K15,0,1,1)","v":"2013-10-24"},{"$f":"OFFSET(CalculationsAndCharts!$AR$32,'Transaction Summary'!K15,0,1,1)","v":59.13},{"$f":"IF($N$12>$K$15,\"OPEN\",$N$12)","v":3},{"$f":"IF($N$12>$K$15,CalculationsAndCharts!B33,OFFSET(CalculationsAndCharts!$B$32,'Transaction Summary'!N15,0,1,1))","v":"2013-11-06"},{"$f":"IF($N$12>$K$15,CalculationsAndCharts!G33,OFFSET(CalculationsAndCharts!$AS$32,'Transaction Summary'!N15,0,1,1))","v":58.11},{"$f":"M15-P15","v":1.0200000000000031},{"$f":"Q15+IF(ISNA(R16),0,R16)","v":-21.670000000000005}]
[null,{"$f":"IFERROR(MATCH(TRUE,OFFSET(CalculationsAndCharts!$AE$33,B15,0,'Transaction Summary'!$C$2-B15,1),0)+B15,\"\")","v":29},{"$f":"IFERROR(OFFSET(CalculationsAndCharts!$B$32,'Transaction Summary'!B16,0,1,1),\"\")","v":"2013-10-01"},{"$f":"IFERROR(OFFSET(CalculationsAndCharts!$AI$32,'Transaction Summary'!B16,0,1,1),\"\")","v":56.59},{"$f":"IFERROR(IF($E$12>$B$15,$E$12,(MATCH(TRUE,OFFSET(CalculationsAndCharts!$AH$33,E15,0,'Transaction Summary'!$C$2-E15,1),0)+E15)),\"\")","v":12},{"$f":"IFERROR(OFFSET(CalculationsAndCharts!$B$32,'Transaction Summary'!E16,0,1,1),\"\")","v":"2013-10-24"},{"$f":"IFERROR(OFFSET(CalculationsAndCharts!$AJ$32,'Transaction Summary'!E16,0,1,1),\"\")","v":59.13},{"$f":"IFERROR(G16-D16,\"\")","v":2.5399999999999991},{"$f":"IFERROR(H16+IF(\"\"=I17,0,I17),\"\")","v":6.659999999999993},null,{"$f":"IFERROR(MATCH(TRUE,OFFSET(CalculationsAndCharts!$AN$33,K15,0,'Transaction Summary'!$C$2-K15,1),0)+K15,\"\")","v":50},{"$f":"IFERROR(OFFSET(CalculationsAndCharts!$B$32,'Transaction Summary'!K16,0,1,1),\"\")","v":"2013-08-30"},{"$f":"IFERROR(OFFSET(CalculationsAndCharts!$AR$32,'Transaction Summary'!K16,0,1,1),\"\")","v":54.61},{"$f":"IFERROR(IF($N$12>$K$15,$N$12,MATCH(TRUE,OFFSET(CalculationsAndCharts!$AQ$33,N15,0,'Transaction Summary'!$C$2-N15,1),0)+N15),\"\")","v":29},{"$f":"IFERROR(OFFSET(CalculationsAndCharts!$B$32,'Transaction Summary'!N16,0,1,1),\"\")","v":"2013-10-01"},{"$f":"IFERROR(OFFSET(CalculationsAndCharts!$AS$32,'Transaction Summary'!N16,0,1,1),\"\")","v":56.59},{"$f":"IFERROR(M16-P16,\"\")","v":-1.980000000000004},{"$f":"IFERROR(Q16+IF(\"\"=R17,0,R17),\"\")","v":-22.690000000000008}]
[null,{"$f":"IFERROR(MATCH(TRUE,OFFSET(CalculationsAndCharts!$AE$33,B16,0,'Transaction Summary'!$C$2-B16,1),0)+B16,\"\")","v":74},{"$f":"IFERROR(OFFSET(CalculationsAndCharts!$B$32,'Transaction Summary'!B17,0,1,1),\"\")","v":"2013-07-29"},{"$f":"IFERROR(OFFSET(CalculationsAndCharts!$AI$32,'Transaction Summary'!B17,0,1,1),\"\")","v":53.81},{"$f":"IFERROR(MATCH(TRUE,OFFSET(CalculationsAndCharts!$AH$33,E16,0,'Transaction Summary'!$C$2-E16,1),0)+E16,\"\")","v":50},{"$f":"IFERROR(OFFSET(CalculationsAndCharts!$B$32,'Transaction Summary'!E17,0,1,1),\"\")","v":"2013-08-30"},{"$f":"IFERROR(OFFSET(CalculationsAndCharts!$AJ$32,'Transaction Summary'!E17,0,1,1),\"\")","v":54.61},0.79999999999999716,4.1199999999999939,null,{"$f":"IFERROR(MATCH(TRUE,OFFSET(CalculationsAndCharts!$AN$33,K16,0,'Transaction Summary'!$C$2-K16,1),0)+K16,\"\")","v":99},{"$f":"IFERROR(OFFSET(CalculationsAndCharts!$B$32,'Transaction Summary'!K17,0,1,1),\"\")","v":"2013-06-21"},{"$f":"IFERROR(OFFSET(CalculationsAndCharts!$AR$32,'Transaction Summary'!K17,0,1,1),\"\")","v":50.3},{"$f":"IFERROR(MATCH(TRUE,OFFSET(CalculationsAndCharts!$AQ$33,N16,0,'Transaction Summary'!$C$2-N16,1),0)+N16,\"\")","v":74},{"$f":"IFERROR(OFFSET(CalculationsAndCharts!$B$32,'Transaction Summary'!N17,0,1,1),\"\")","v":"2013-07-29"},{"$f":"IFERROR(OFFSET(CalculationsAndCharts!$AS$32,'Transaction Summary'!N17,0,1,1),\"\")","v":53.81},{"$f":"IFERROR(M17-P17,\"\")","v":-3.5100000000000051},{"$f":"IFERROR(Q17+IF(\"\"=R18,0,R18),\"\")","v":-20.710000000000004}]
[null,{"$f":"IFERROR(MATCH(TRUE,OFFSET(CalculationsAndCharts!$AE$33,B17,0,'Transaction Summary'!$C$2-B17,1),0)+B17,\"\")","v":110},{"$f":"IFERROR(OFFSET(CalculationsAndCharts!$B$32,'Transaction Summary'!B18,0,1,1),\"\")","v":"2013-06-06"},{"$f":"IFERROR(OFFSET(CalculationsAndCharts!$AI$32,'Transaction Summary'!B18,0,1,1),\"\")","v":50.43},{"$f":"IFERROR(MATCH(TRUE,OFFSET(CalculationsAndCharts!$AH$33,E17,0,'Transaction Summary'!$C$2-E17,1),0)+E17,\"\")","v":99},{"$f":"IFERROR(OFFSET(CalculationsAndCharts!$B$32,'Transaction Summary'!E18,0,1,1),\"\")","v":"2013-06-21"},{"$f":"IFERROR(OFFSET(CalculationsAndCharts!$AJ$32,'Transaction Summary'!E18,0,1,1),\"\")","v":50.3},-0.13000000000000256,3.3199999999999967,null,{"$f":"IFERROR(MATCH(TRUE,OFFSET(CalculationsAndCharts!$AN$33,K17,0,'Transaction Summary'!$C$2-K17,1),0)+K17,\"\")","v":115},{"$f":"IFERROR(OFFSET(CalculationsAndCharts!$B$32,'Transaction Summary'!K18,0,1,1),\"\")","v":"2013-05-30"},{"$f":"IFERROR(OFFSET(CalculationsAndCharts!$AR$32,'Transaction Summary'!K18,0,1,1),\"\")","v":53.94},{"$f":"IFERROR(MATCH(TRUE,OFFSET(CalculationsAndCharts!$AQ$33,N17,0,'Transaction Summary'!$C$2-N17,1),0)+N17,\"\")","v":110},{"$f":"IFERROR(OFFSET(CalculationsAndCharts!$B$32,'Transaction Summary'!N18,0,1,1),\"\")","v":"2013-06-06"},{"$f":"IFERROR(OFFSET(CalculationsAndCharts!$AS$32,'Transaction Summary'!N18,0,1,1),\"\")","v":50.43},{"$f":"IFERROR(M18-P18,\"\")","v":3.509999999999998},{"$f":"IFERROR(Q18+IF(\"\"=R19,0,R19),\"\")","v":-17.2}]
[null,{"$f":"IFERROR(MATCH(TRUE,OFFSET(CalculationsAndCharts!$AE$33,B18,0,'Transaction Summary'!$C$2-B18,1),0)+B18,\"\")","v":152},{"$f":"IFERROR(OFFSET(CalculationsAndCharts!$B$32,'Transaction Summary'!B19,0,1,1),\"\")","v":"2013-04-08"},{"$f":"IFERROR(OFFSET(CalculationsAndCharts!$AI$32,'Transaction Summary'!B19,0,1,1),\"\")","v":50.28},{"$f":"IFERROR(MATCH(TRUE,OFFSET(CalculationsAndCharts!$AH$33,E18,0,'Transaction Summary'!$C$2-E18,1),0)+E18,\"\")","v":115},{"$f":"IFERROR(OFFSET(CalculationsAndCharts!$B$32,'Transaction Summary'!E19,0,1,1),\"\")","v":"2013-05-30"},{"$f":"IFERROR(OFFSET(CalculationsAndCharts!$AJ$32,'Transaction Summary'!E19,0,1,1),\"\")","v":53.94},3.6599999999999966,3.4499999999999993,null,{"$f":"IFERROR(MATCH(TRUE,OFFSET(CalculationsAndCharts!$AN$33,K18,0,'Transaction Summary'!$C$2-K18,1),0)+K18,\"\")","v":174},{"$f":"IFERROR(OFFSET(CalculationsAndCharts!$B$32,'Transaction Summary'!K19,0,1,1),\"\")","v":"2013-03-06"},{"$f":"IFERROR(OFFSET(CalculationsAndCharts!$AR$32,'Transaction Summary'!K19,0,1,1),\"\")","v":49.09},{"$f":"IFERROR(MATCH(TRUE,OFFSET(CalculationsAndCharts!$AQ$33,N18,0,'Transaction Summary'!$C$2-N18,1),0)+N18,\"\")","v":152},{"$f":"IFERROR(OFFSET(CalculationsAndCharts!$B$32,'Transaction Summary'!N19,0,1,1),\"\")","v":"2013-04-08"},{"$f":"IFERROR(OFFSET(CalculationsAndCharts!$AS$32,'Transaction Summary'!N19,0,1,1),\"\")","v":50.28},{"$f":"IFERROR(M19-P19,\"\")","v":-1.1899999999999977},{"$f":"IFERROR(Q19+IF(\"\"=R20,0,R20),\"\")","v":-20.709999999999997}]
[null,{"$f":"IFERROR(MATCH(TRUE,OFFSET(CalculationsAndCharts!$AE$33,B19,0,'Transaction Summary'!$C$2-B19,1),0)+B19,\"\")","v":191},{"$f":"IFERROR(OFFSET(CalculationsAndCharts!$B$32,'Transaction Summary'!B20,0,1,1),\"\")","v":"2013-02-08"},{"$f":"IFERROR(OFFSET(CalculationsAndCharts!$AI$32,'Transaction Summary'!B20,0,1,1),\"\")","v":45.49},{"$f":"IFERROR(MATCH(TRUE,OFFSET(CalculationsAndCharts!$AH$33,E19,0,'Transaction Summary'!$C$2-E19,1),0)+E19,\"\")","v":174},{"$f":"IFERROR(OFFSET(CalculationsAndCharts!$B$32,'Transaction Summary'!E20,0,1,1),\"\")","v":"2013-03-06"},{"$f":"IFERROR(OFFSET(CalculationsAndCharts!$AJ$32,'Transaction Summary'!E20,0,1,1),\"\")","v":49.09},3.6000000000000014,-0.2099999999999973,null,{"$f":"IFERROR(MATCH(TRUE,OFFSET(CalculationsAndCharts!$AN$33,K19,0,'Transaction Summary'!$C$2-K19,1),0)+K19,\"\")","v":214},{"$f":"IFERROR(OFFSET(CalculationsAndCharts!$B$32,'Transaction Summary'!K20,0,1,1),\"\")","v":"2013-01-07"},{"$f":"IFERROR(OFFSET(CalculationsAndCharts!$AR$32,'Transaction Summary'!K20,0,1,1),\"\")","v":44.44},{"$f":"IFERROR(MATCH(TRUE,OFFSET(CalculationsAndCharts!$AQ$33,N19,0,'Transaction Summary'!$C$2-N19,1),0)+N19,\"\")","v":191},{"$f":"IFERROR(OFFSET(CalculationsAndCharts!$B$32,'Transaction Summary'!N20,0,1,1),\"\")","v":"2013-02-08"},{"$f":"IFERROR(OFFSET(CalculationsAndCharts!$AS$32,'Transaction Summary'!N20,0,1,1),\"\")","v":45.49},-1.0500000000000043,-19.52]
[null,{"$f":"IFERROR(MATCH(TRUE,OFFSET(CalculationsAndCharts!$AE$33,B20,0,'Transaction Summary'!$C$2-B20,1),0)+B20,\"\")","v":231},{"$f":"IFERROR(OFFSET(CalculationsAndCharts!$B$32,'Transaction Summary'!B21,0,1,1),\"\")","v":"2012-12-11"},{"$f":"IFERROR(OFFSET(CalculationsAndCharts!$AI$32,'Transaction Summary'!B21,0,1,1),\"\")","v":45.65},{"$f":"IFERROR(MATCH(TRUE,OFFSET(CalculationsAndCharts!$AH$33,E20,0,'Transaction Summary'!$C$2-E20,1),0)+E20,\"\")","v":214},{"$f":"IFERROR(OFFSET(CalculationsAndCharts!$B$32,'Transaction Summary'!E21,0,1,1),\"\")","v":"2013-01-07"},{"$f":"IFERROR(OFFSET(CalculationsAndCharts!$AJ$32,'Transaction Summary'!E21,0,1,1),\"\")","v":44.44},-1.2100000000000009,-3.8099999999999987,null,{"$f":"IFERROR(MATCH(TRUE,OFFSET(CalculationsAndCharts!$AN$33,K20,0,'Transaction Summary'!$C$2-K20,1),0)+K20,\"\")","v":255},{"$f":"IFERROR(OFFSET(CalculationsAndCharts!$B$32,'Transaction Summary'!K21,0,1,1),\"\")","v":"2012-11-06"},{"$f":"IFERROR(OFFSET(CalculationsAndCharts!$AR$32,'Transaction Summary'!K21,0,1,1),\"\")","v":47.89},{"$f":"IFERROR(MATCH(TRUE,OFFSET(CalculationsAndCharts!$AQ$33,N20,0,'Transaction Summary'!$C$2-N20,1),0)+N20,\"\")","v":231},{"$f":"IFERROR(OFFSET(CalculationsAndCharts!$B$32,'Transaction Summary'!N21,0,1,1),\"\")","v":"2012-12-11"},{"$f":"IFERROR(OFFSET(CalculationsAndCharts!$AS$32,'Transaction Summary'!N21,0,1,1),\"\")","v":45.65},{"$f":"IFERROR(M21-P21,\"\")","v":2.240000000000002},{"$f":"IFERROR(Q21+IF(\"\"=R22,0,R22),\"\")","v":-18.469999999999995}]
[null,{"$f":"IFERROR(MATCH(TRUE,OFFSET(CalculationsAndCharts!$AE$33,B21,0,'Transaction Summary'!$C$2-B21,1),0)+B21,\"\")","v":274},{"$f":"IFERROR(OFFSET(CalculationsAndCharts!$B$32,'Transaction Summary'!B22,0,1,1),\"\")","v":"2012-10-08"},{"$f":"IFERROR(OFFSET(CalculationsAndCharts!$AI$32,'Transaction Summary'!B22,0,1,1),\"\")","v":51.78},{"$f":"IFERROR(MATCH(TRUE,OFFSET(CalculationsAndCharts!$AH$33,E21,0,'Transaction Summary'!$C$2-E21,1),0)+E21,\"\")","v":255},{"$f":"IFERROR(OFFSET(CalculationsAndCharts!$B$32,'Transaction Summary'!E22,0,1,1),\"\")","v":"2012-11-06"},{"$f":"IFERROR(OFFSET(CalculationsAndCharts!$AJ$32,'Transaction Summary'!E22,0,1,1),\"\")","v":47.89},-3.8900000000000006,-2.5999999999999979,null,{"$f":"IFERROR(MATCH(TRUE,OFFSET(CalculationsAndCharts!$AN$33,K21,0,'Transaction Summary'!$C$2-K21,1),0)+K21,\"\")","v":314},{"$f":"IFERROR(OFFSET(CalculationsAndCharts!$B$32,'Transaction Summary'!K22,0,1,1),\"\")","v":"2012-08-10"},{"$f":"IFERROR(OFFSET(CalculationsAndCharts!$AR$32,'Transaction Summary'!K22,0,1,1),\"\")","v":51.16},{"$f":"IFERROR(MATCH(TRUE,OFFSET(CalculationsAndCharts!$AQ$33,N21,0,'Transaction Summary'!$C$2-N21,1),0)+N21,\"\")","v":274},{"$f":"IFERROR(OFFSET(CalculationsAndCharts!$B$32,'Transaction Summary'!N22,0,1,1),\"\")","v":"2012-10-08"},{"$f":"IFERROR(OFFSET(CalculationsAndCharts!$AS$32,'Transaction Summary'!N22,0,1,1),\"\")","v":51.78},-0.62000000000000455,-20.709999999999997]
[null,{"$f":"IFERROR(MATCH(TRUE,OFFSET(CalculationsAndCharts!$AE$33,B22,0,'Transaction Summary'!$C$2-B22,1),0)+B22,\"\")","v":337},{"$f":"IFERROR(OFFSET(CalculationsAndCharts!$B$32,'Transaction Summary'!B23,0,1,1),\"\")","v":"2012-07-10"},{"$f":"IFERROR(OFFSET(CalculationsAndCharts!$AI$32,'Transaction Summary'!B23,0,1,1),\"\")","v":55.04},{"$f":"IFERROR(MATCH(TRUE,OFFSET(CalculationsAndCharts!$AH$33,E22,0,'Transaction Summary'!$C$2-E22,1),0)+E22,\"\")","v":314},{"$f":"IFERROR(OFFSET(CalculationsAndCharts!$B$32,'Transaction Summary'!E23,0,1,1),\"\")","v":"2012-08-10"},{"$f":"IFERROR(OFFSET(CalculationsAndCharts!$AJ$32,'Transaction Summary'!E23,0,1,1),\"\")","v":51.16},-3.8800000000000026,1.2900000000000027,null,{"$f":"IFERROR(MATCH(TRUE,OFFSET(CalculationsAndCharts!$AN$33,K22,0,'Transaction Summary'!$C$2-K22,1),0)+K22,\"\")","v":363},{"$f":"IFERROR(OFFSET(CalculationsAndCharts!$B$32,'Transaction Summary'!K23,0,1,1),\"\")","v":"2012-06-01"},{"$f":"IFERROR(OFFSET(CalculationsAndCharts!$AR$32,'Transaction Summary'!K23,0,1,1),\"\")","v":48.42},{"$f":"IFERROR(MATCH(TRUE,OFFSET(CalculationsAndCharts!$AQ$33,N22,0,'Transaction Summary'!$C$2-N22,1),0)+N22,\"\")","v":337},{"$f":"IFERROR(OFFSET(CalculationsAndCharts!$B$32,'Transaction Summary'!N23,0,1,1),\"\")","v":"2012-07-10"},{"$f":"IFERROR(OFFSET(CalculationsAndCharts!$AS$32,'Transaction Summary'!N23,0,1,1),\"\")","v":55.04},-6.6199999999999974,-20.089999999999993]
[null,{"$f":"IFERROR(MATCH(TRUE,OFFSET(CalculationsAndCharts!$AE$33,B23,0,'Transaction Summary'!$C$2-B23,1),0)+B23,\"\")","v":374},{"$f":"IFERROR(OFFSET(CalculationsAndCharts!$B$32,'Transaction Summary'!B24,0,1,1),\"\")","v":"2012-05-16"},{"$f":"IFERROR(OFFSET(CalculationsAndCharts!$AI$32,'Transaction Summary'!B24,0,1,1),\"\")","v":47},{"$f":"IFERROR(MATCH(TRUE,OFFSET(CalculationsAndCharts!$AH$33,E23,0,'Transaction Summary'!$C$2-E23,1),0)+E23,\"\")","v":363},{"$f":"IFERROR(OFFSET(CalculationsAndCharts!$B$32,'Transaction Summary'!E24,0,1,1),\"\")","v":"2012-06-01"},{"$f":"IFERROR(OFFSET(CalculationsAndCharts!$AJ$32,'Transaction Summary'!E24,0,1,1),\"\")","v":48.42},1.4200000000000017,5.1700000000000053,null,{"$f":"IFERROR(MATCH(TRUE,OFFSET(CalculationsAndCharts!$AN$33,K23,0,'Transaction Summary'!$C$2-K23,1),0)+K23,\"\")","v":382},{"$f":"IFERROR(OFFSET(CalculationsAndCharts!$B$32,'Transaction Summary'!K24,0,1,1),\"\")","v":"2012-05-04"},{"$f":"IFERROR(OFFSET(CalculationsAndCharts!$AR$32,'Transaction Summary'!K24,0,1,1),\"\")","v":48},{"$f":"IFERROR(MATCH(TRUE,OFFSET(CalculationsAndCharts!$AQ$33,N23,0,'Transaction Summary'!$C$2-N23,1),0)+N23,\"\")","v":374},{"$f":"IFERROR(OFFSET(CalculationsAndCharts!$B$32,'Transaction Summary'!N24,0,1,1),\"\")","v":"2012-05-16"},{"$f":"IFERROR(OFFSET(CalculationsAndCharts!$AS$32,'Transaction Summary'!N24,0,1,1),\"\")","v":47},1,-13.469999999999995]
[null,{"$f":"IFERROR(MATCH(TRUE,OFFSET(CalculationsAndCharts!$AE$33,B24,0,'Transaction Summary'!$C$2-B24,1),0)+B24,\"\")","v":403},{"$f":"IFERROR(OFFSET(CalculationsAndCharts!$B$32,'Transaction Summary'!B25,0,1,1),\"\")","v":"2012-04-04"},{"$f":"IFERROR(OFFSET(CalculationsAndCharts!$AI$32,'Transaction Summary'!B25,0,1,1),\"\")","v":46.81},{"$f":"IFERROR(MATCH(TRUE,OFFSET(CalculationsAndCharts!$AH$33,E24,0,'Transaction Summary'!$C$2-E24,1),0)+E24,\"\")","v":382},{"$f":"IFERROR(OFFSET(CalculationsAndCharts!$B$32,'Transaction Summary'!E25,0,1,1),\"\")","v":"2012-05-04"},{"$f":"IFERROR(OFFSET(CalculationsAndCharts!$AJ$32,'Transaction Summary'!E25,0,1,1),\"\")","v":48},1.1899999999999977,3.7500000000000036,null,{"$f":"IFERROR(MATCH(TRUE,OFFSET(CalculationsAndCharts!$AN$33,K24,0,'Transaction Summary'!$C$2-K24,1),0)+K24,\"\")","v":422},{"$f":"IFERROR(OFFSET(CalculationsAndCharts!$B$32,'Transaction Summary'!K25,0,1,1),\"\")","v":"2012-03-08"},{"$f":"IFERROR(OFFSET(CalculationsAndCharts!$AR$32,'Transaction Summary'!K25,0,1,1),\"\")","v":42.6},{"$f":"IFERROR(MATCH(TRUE,OFFSET(CalculationsAndCharts!$AQ$33,N24,0,'Transaction Summary'!$C$2-N24,1),0)+N24,\"\")","v":403},{"$f":"IFERROR(OFFSET(CalculationsAndCharts!$B$32,'Transaction Summary'!N25,0,1,1),\"\")","v":"2012-04-04"},{"$f":"IFERROR(OFFSET(CalculationsAndCharts!$AS$32,'Transaction Summary'!N25,0,1,1),\"\")","v":46.81},{"$f":"IFERROR(M25-P25,\"\")","v":-4.2100000000000009},{"$f":"IFERROR(Q25+IF(\"\"=R26,0,R26),\"\")","v":-14.469999999999995}]
[null,{"$f":"IFERROR(MATCH(TRUE,OFFSET(CalculationsAndCharts!$AE$33,B25,0,'Transaction Summary'!$C$2-B25,1),0)+B25,\"\")","v":435},{"$f":"IFERROR(OFFSET(CalculationsAndCharts!$B$32,'Transaction Summary'!B26,0,1,1),\"\")","v":"2012-02-17"},{"$f":"IFERROR(OFFSET(CalculationsAndCharts!$AI$32,'Transaction Summary'!B26,0,1,1),\"\")","v":42.05},{"$f":"IFERROR(MATCH(TRUE,OFFSET(CalculationsAndCharts!$AH$33,E25,0,'Transaction Summary'!$C$2-E25,1),0)+E25,\"\")","v":422},{"$f":"IFERROR(OFFSET(CalculationsAndCharts!$B$32,'Transaction Summary'!E26,0,1,1),\"\")","v":"2012-03-08"},{"$f":"IFERROR(OFFSET(CalculationsAndCharts!$AJ$32,'Transaction Summary'!E26,0,1,1),\"\")","v":42.6},0.55000000000000426,2.5600000000000058,null,{"$f":"IFERROR(MATCH(TRUE,OFFSET(CalculationsAndCharts!$AN$33,K25,0,'Transaction Summary'!$C$2-K25,1),0)+K25,\"\")","v":452},{"$f":"IFERROR(OFFSET(CalculationsAndCharts!$B$32,'Transaction Summary'!K26,0,1,1),\"\")","v":"2012-01-25"},{"$f":"IFERROR(OFFSET(CalculationsAndCharts!$AR$32,'Transaction Summary'!K26,0,1,1),\"\")","v":41.87},{"$f":"IFERROR(MATCH(TRUE,OFFSET(CalculationsAndCharts!$AQ$33,N25,0,'Transaction Summary'!$C$2-N25,1),0)+N25,\"\")","v":435},{"$f":"IFERROR(OFFSET(CalculationsAndCharts!$B$32,'Transaction Summary'!N26,0,1,1),\"\")","v":"2012-02-17"},{"$f":"IFERROR(OFFSET(CalculationsAndCharts!$AS$32,'Transaction Summary'!N26,0,1,1),\"\")","v":42.05},-0.17999999999999972,-10.259999999999994]
[null,{"$f":"IFERROR(MATCH(TRUE,OFFSET(CalculationsAndCharts!$AE$33,B26,0,'Transaction Summary'!$C$2-B26,1),0)+B26,\"\")","v":464},{"$f":"IFERROR(OFFSET(CalculationsAndCharts!$B$32,'Transaction Summary'!B27,0,1,1),\"\")","v":"2012-01-06"},{"$f":"IFERROR(OFFSET(CalculationsAndCharts!$AI$32,'Transaction Summary'!B27,0,1,1),\"\")","v":41.22},{"$f":"IFERROR(MATCH(TRUE,OFFSET(CalculationsAndCharts!$AH$33,E26,0,'Transaction Summary'!$C$2-E26,1),0)+E26,\"\")","v":452},{"$f":"IFERROR(OFFSET(CalculationsAndCharts!$B$32,'Transaction Summary'!E27,0,1,1),\"\")","v":"2012-01-25"},{"$f":"IFERROR(OFFSET(CalculationsAndCharts!$AJ$32,'Transaction Summary'!E27,0,1,1),\"\")","v":41.87},0.64999999999999858,2.0100000000000016,null,{"$f":"IFERROR(MATCH(TRUE,OFFSET(CalculationsAndCharts!$AN$33,K26,0,'Transaction Summary'!$C$2-K26,1),0)+K26,\"\")","v":485},{"$f":"IFERROR(OFFSET(CalculationsAndCharts!$B$32,'Transaction Summary'!K27,0,1,1),\"\")","v":"2011-12-06"},{"$f":"IFERROR(OFFSET(CalculationsAndCharts!$AR$32,'Transaction Summary'!K27,0,1,1),\"\")","v":40.25},{"$f":"IFERROR(MATCH(TRUE,OFFSET(CalculationsAndCharts!$AQ$33,N26,0,'Transaction Summary'!$C$2-N26,1),0)+N26,\"\")","v":464},{"$f":"IFERROR(OFFSET(CalculationsAndCharts!$B$32,'Transaction Summary'!N27,0,1,1),\"\")","v":"2012-01-06"},{"$f":"IFERROR(OFFSET(CalculationsAndCharts!$AS$32,'Transaction Summary'!N27,0,1,1),\"\")","v":41.22},-0.96999999999999886,-10.079999999999995]
[null,{"$f":"IFERROR(MATCH(TRUE,OFFSET(CalculationsAndCharts!$AE$33,B27,0,'Transaction Summary'!$C$2-B27,1),0)+B27,\"\")","v":508},{"$f":"IFERROR(OFFSET(CalculationsAndCharts!$B$32,'Transaction Summary'!B28,0,1,1),\"\")","v":"2011-11-02"},{"$f":"IFERROR(OFFSET(CalculationsAndCharts!$AI$32,'Transaction Summary'!B28,0,1,1),\"\")","v":39.39},{"$f":"IFERROR(MATCH(TRUE,OFFSET(CalculationsAndCharts!$AH$33,E27,0,'Transaction Summary'!$C$2-E27,1),0)+E27,\"\")","v":485},{"$f":"IFERROR(OFFSET(CalculationsAndCharts!$B$32,'Transaction Summary'!E28,0,1,1),\"\")","v":"2011-12-06"},{"$f":"IFERROR(OFFSET(CalculationsAndCharts!$AJ$32,'Transaction Summary'!E28,0,1,1),\"\")","v":40.25},0.85999999999999943,1.360000000000003,null,{"$f":"IFERROR(MATCH(TRUE,OFFSET(CalculationsAndCharts!$AN$33,K27,0,'Transaction Summary'!$C$2-K27,1),0)+K27,\"\")","v":516},{"$f":"IFERROR(OFFSET(CalculationsAndCharts!$B$32,'Transaction Summary'!K28,0,1,1),\"\")","v":"2011-10-21"},{"$f":"IFERROR(OFFSET(CalculationsAndCharts!$AR$32,'Transaction Summary'!K28,0,1,1),\"\")","v":40.11},{"$f":"IFERROR(MATCH(TRUE,OFFSET(CalculationsAndCharts!$AQ$33,N27,0,'Transaction Summary'!$C$2-N27,1),0)+N27,\"\")","v":508},{"$f":"IFERROR(OFFSET(CalculationsAndCharts!$B$32,'Transaction Summary'!N28,0,1,1),\"\")","v":"2011-11-02"},{"$f":"IFERROR(OFFSET(CalculationsAndCharts!$AS$32,'Transaction Summary'!N28,0,1,1),\"\")","v":39.39},{"$f":"IFERROR(M28-P28,\"\")","v":0.71999999999999886},{"$f":"IFERROR(Q28+IF(\"\"=R29,0,R29),\"\")","v":-9.1099999999999959}]
[null,{"$f":"IFERROR(MATCH(TRUE,OFFSET(CalculationsAndCharts!$AE$33,B28,0,'Transaction Summary'!$C$2-B28,1),0)+B28,\"\")","v":542},{"$f":"IFERROR(OFFSET(CalculationsAndCharts!$B$32,'Transaction Summary'!B29,0,1,1),\"\")","v":"2011-09-15"},{"$f":"IFERROR(OFFSET(CalculationsAndCharts!$AI$32,'Transaction Summary'!B29,0,1,1),\"\")","v":37.25},{"$f":"IFERROR(MATCH(TRUE,OFFSET(CalculationsAndCharts!$AH$33,E28,0,'Transaction Summary'!$C$2-E28,1),0)+E28,\"\")","v":516},{"$f":"IFERROR(OFFSET(CalculationsAndCharts!$B$32,'Transaction Summary'!E29,0,1,1),\"\")","v":"2011-10-21"},{"$f":"IFERROR(OFFSET(CalculationsAndCharts!$AJ$32,'Transaction Summary'!E29,0,1,1),\"\")","v":40.11},2.8599999999999994,0.50000000000000355,null,{"$f":"IFERROR(MATCH(TRUE,OFFSET(CalculationsAndCharts!$AN$33,K28,0,'Transaction Summary'!$C$2-K28,1),0)+K28,\"\")","v":564},{"$f":"IFERROR(OFFSET(CalculationsAndCharts!$B$32,'Transaction Summary'!K29,0,1,1),\"\")","v":"2011-08-15"},{"$f":"IFERROR(OFFSET(CalculationsAndCharts!$AR$32,'Transaction Summary'!K29,0,1,1),\"\")","v":31.87},{"$f":"IFERROR(MATCH(TRUE,OFFSET(CalculationsAndCharts!$AQ$33,N28,0,'Transaction Summary'!$C$2-N28,1),0)+N28,\"\")","v":542},{"$f":"IFERROR(OFFSET(CalculationsAndCharts!$B$32,'Transaction Summary'!N29,0,1,1),\"\")","v":"2011-09-15"},{"$f":"IFERROR(OFFSET(CalculationsAndCharts!$AS$32,'Transaction Summary'!N29,0,1,1),\"\")","v":37.25},-5.379999999999999,-9.8299999999999947]
[null,{"$f":"IFERROR(MATCH(TRUE,OFFSET(CalculationsAndCharts!$AE$33,B29,0,'Transaction Summary'!$C$2-B29,1),0)+B29,\"\")","v":585},{"$f":"IFERROR(OFFSET(CalculationsAndCharts!$B$32,'Transaction Summary'!B30,0,1,1),\"\")","v":"2011-07-15"},{"$f":"IFERROR(OFFSET(CalculationsAndCharts!$AI$32,'Transaction Summary'!B30,0,1,1),\"\")","v":33.409999999999997},{"$f":"IFERROR(MATCH(TRUE,OFFSET(CalculationsAndCharts!$AH$33,E29,0,'Transaction Summary'!$C$2-E29,1),0)+E29,\"\")","v":564},{"$f":"IFERROR(OFFSET(CalculationsAndCharts!$B$32,'Transaction Summary'!E30,0,1,1),\"\")","v":"2011-08-15"},{"$f":"IFERROR(OFFSET(CalculationsAndCharts!$AJ$32,'Transaction Summary'!E30,0,1,1),\"\")","v":31.87},-1.5399999999999956,-2.3599999999999959,null,{"$f":"IFERROR(MATCH(TRUE,OFFSET(CalculationsAndCharts!$AN$33,K29,0,'Transaction Summary'!$C$2-K29,1),0)+K29,\"\")","v":604},{"$f":"IFERROR(OFFSET(CalculationsAndCharts!$B$32,'Transaction Summary'!K30,0,1,1),\"\")","v":"2011-06-17"},{"$f":"IFERROR(OFFSET(CalculationsAndCharts!$AR$32,'Transaction Summary'!K30,0,1,1),\"\")","v":33.28},{"$f":"IFERROR(MATCH(TRUE,OFFSET(CalculationsAndCharts!$AQ$33,N29,0,'Transaction Summary'!$C$2-N29,1),0)+N29,\"\")","v":585},{"$f":"IFERROR(OFFSET(CalculationsAndCharts!$B$32,'Transaction Summary'!N30,0,1,1),\"\")","v":"2011-07-15"},{"$f":"IFERROR(OFFSET(CalculationsAndCharts!$AS$32,'Transaction Summary'!N30,0,1,1),\"\")","v":33.409999999999997},-0.12999999999999545,-4.4499999999999957]
[null,{"$f":"IFERROR(MATCH(TRUE,OFFSET(CalculationsAndCharts!$AE$33,B30,0,'Transaction Summary'!$C$2-B30,1),0)+B30,\"\")","v":618},{"$f":"IFERROR(OFFSET(CalculationsAndCharts!$B$32,'Transaction Summary'!B31,0,1,1),\"\")","v":"2011-05-27"},{"$f":"IFERROR(OFFSET(CalculationsAndCharts!$AI$32,'Transaction Summary'!B31,0,1,1),\"\")","v":34},{"$f":"IFERROR(MATCH(TRUE,OFFSET(CalculationsAndCharts!$AH$33,E30,0,'Transaction Summary'!$C$2-E30,1),0)+E30,\"\")","v":604},{"$f":"IFERROR(OFFSET(CalculationsAndCharts!$B$32,'Transaction Summary'!E31,0,1,1),\"\")","v":"2011-06-17"},{"$f":"IFERROR(OFFSET(CalculationsAndCharts!$AJ$32,'Transaction Summary'!E31,0,1,1),\"\")","v":33.28},-0.71999999999999886,-0.82000000000000028,null,{"$f":"IFERROR(MATCH(TRUE,OFFSET(CalculationsAndCharts!$AN$33,K30,0,'Transaction Summary'!$C$2-K30,1),0)+K30,\"\")","v":635},{"$f":"IFERROR(OFFSET(CalculationsAndCharts!$B$32,'Transaction Summary'!K31,0,1,1),\"\")","v":"2011-05-04"},{"$f":"IFERROR(OFFSET(CalculationsAndCharts!$AR$32,'Transaction Summary'!K31,0,1,1),\"\")","v":33.06},{"$f":"IFERROR(MATCH(TRUE,OFFSET(CalculationsAndCharts!$AQ$33,N30,0,'Transaction Summary'!$C$2-N30,1),0)+N30,\"\")","v":618},{"$f":"IFERROR(OFFSET(CalculationsAndCharts!$B$32,'Transaction Summary'!N31,0,1,1),\"\")","v":"2011-05-27"},{"$f":"IFERROR(OFFSET(CalculationsAndCharts!$AS$32,'Transaction Summary'!N31,0,1,1),\"\")","v":34},-0.93999999999999773,-4.32]
[null,{"$f":"IFERROR(MATCH(TRUE,OFFSET(CalculationsAndCharts!$AE$33,B31,0,'Transaction Summary'!$C$2-B31,1),0)+B31,\"\")","v":650},{"$f":"IFERROR(OFFSET(CalculationsAndCharts!$B$32,'Transaction Summary'!B32,0,1,1),\"\")","v":"2011-04-12"},{"$f":"IFERROR(OFFSET(CalculationsAndCharts!$AI$32,'Transaction Summary'!B32,0,1,1),\"\")","v":31.6},{"$f":"IFERROR(MATCH(TRUE,OFFSET(CalculationsAndCharts!$AH$33,E31,0,'Transaction Summary'!$C$2-E31,1),0)+E31,\"\")","v":635},{"$f":"IFERROR(OFFSET(CalculationsAndCharts!$B$32,'Transaction Summary'!E32,0,1,1),\"\")","v":"2011-05-04"},{"$f":"IFERROR(OFFSET(CalculationsAndCharts!$AJ$32,'Transaction Summary'!E32,0,1,1),\"\")","v":33.06},1.4600000000000009,-0.10000000000000142,null,{"$f":"IFERROR(MATCH(TRUE,OFFSET(CalculationsAndCharts!$AN$33,K31,0,'Transaction Summary'!$C$2-K31,1),0)+K31,\"\")","v":715},{"$f":"IFERROR(OFFSET(CalculationsAndCharts!$B$32,'Transaction Summary'!K32,0,1,1),\"\")","v":"2011-01-07"},{"$f":"IFERROR(OFFSET(CalculationsAndCharts!$AR$32,'Transaction Summary'!K32,0,1,1),\"\")","v":30.2},{"$f":"IFERROR(MATCH(TRUE,OFFSET(CalculationsAndCharts!$AQ$33,N31,0,'Transaction Summary'!$C$2-N31,1),0)+N31,\"\")","v":650},{"$f":"IFERROR(OFFSET(CalculationsAndCharts!$B$32,'Transaction Summary'!N32,0,1,1),\"\")","v":"2011-04-12"},{"$f":"IFERROR(OFFSET(CalculationsAndCharts!$AS$32,'Transaction Summary'!N32,0,1,1),\"\")","v":31.6},-1.4000000000000021,-3.3800000000000026]
[null,{"$f":"IFERROR(MATCH(TRUE,OFFSET(CalculationsAndCharts!$AE$33,B32,0,'Transaction Summary'!$C$2-B32,1),0)+B32,\"\")","v":735},{"$f":"IFERROR(OFFSET(CalculationsAndCharts!$B$32,'Transaction Summary'!B33,0,1,1),\"\")","v":"2010-12-09"},{"$f":"IFERROR(OFFSET(CalculationsAndCharts!$AI$32,'Transaction Summary'!B33,0,1,1),\"\")","v":31.01},{"$f":"IFERROR(MATCH(TRUE,OFFSET(CalculationsAndCharts!$AH$33,E32,0,'Transaction Summary'!$C$2-E32,1),0)+E32,\"\")","v":715},{"$f":"IFERROR(OFFSET(CalculationsAndCharts!$B$32,'Transaction Summary'!E33,0,1,1),\"\")","v":"2011-01-07"},{"$f":"IFERROR(OFFSET(CalculationsAndCharts!$AJ$32,'Transaction Summary'!E33,0,1,1),\"\")","v":30.2},{"$f":"IFERROR(G33-D33,\"\")","v":-0.81000000000000227},{"$f":"IFERROR(H33+IF(\"\"=I34,0,I34),\"\")","v":-1.5600000000000023},null,{"$f":"IFERROR(MATCH(TRUE,OFFSET(CalculationsAndCharts!$AN$33,K32,0,'Transaction Summary'!$C$2-K32,1),0)+K32,\"\")","v":755},{"$f":"IFERROR(OFFSET(CalculationsAndCharts!$B$32,'Transaction Summary'!K33,0,1,1),\"\")","v":"2010-11-10"},{"$f":"IFERROR(OFFSET(CalculationsAndCharts!$AR$32,'Transaction Summary'!K33,0,1,1),\"\")","v":28.6},{"$f":"IFERROR(MATCH(TRUE,OFFSET(CalculationsAndCharts!$AQ$33,N32,0,'Transaction Summary'!$C$2-N32,1),0)+N32,\"\")","v":735},{"$f":"IFERROR(OFFSET(CalculationsAndCharts!$B$32,'Transaction Summary'!N33,0,1,1),\"\")","v":"2010-12-09"},{"$f":"IFERROR(OFFSET(CalculationsAndCharts!$AS$32,'Transaction Summary'!N33,0,1,1),\"\")","v":31.01},-2.41,-1.9800000000000004]
[null,{"$f":"IFERROR(MATCH(TRUE,OFFSET(CalculationsAndCharts!$AE$33,B33,0,'Transaction Summary'!$C$2-B33,1),0)+B33,\"\")","v":768},{"$f":"IFERROR(OFFSET(CalculationsAndCharts!$B$32,'Transaction Summary'!B34,0,1,1),\"\")","v":"2010-10-22"},{"$f":"IFERROR(OFFSET(CalculationsAndCharts!$AI$32,'Transaction Summary'!B34,0,1,1),\"\")","v":28},{"$f":"IFERROR(MATCH(TRUE,OFFSET(CalculationsAndCharts!$AH$33,E33,0,'Transaction Summary'!$C$2-E33,1),0)+E33,\"\")","v":755},{"$f":"IFERROR(OFFSET(CalculationsAndCharts!$B$32,'Transaction Summary'!E34,0,1,1),\"\")","v":"2010-11-10"},{"$f":"IFERROR(OFFSET(CalculationsAndCharts!$AJ$32,'Transaction Summary'!E34,0,1,1),\"\")","v":28.6},{"$f":"IFERROR(G34-D34,\"\")","v":0.60000000000000142},{"$f":"IFERROR(H34+IF(\"\"=I35,0,I35),\"\")","v":-0.75},null,{"$f":"IFERROR(MATCH(TRUE,OFFSET(CalculationsAndCharts!$AN$33,K33,0,'Transaction Summary'!$C$2-K33,1),0)+K33,\"\")","v":801},{"$f":"IFERROR(OFFSET(CalculationsAndCharts!$B$32,'Transaction Summary'!K34,0,1,1),\"\")","v":"2010-09-07"},{"$f":"IFERROR(OFFSET(CalculationsAndCharts!$AR$32,'Transaction Summary'!K34,0,1,1),\"\")","v":28.04},{"$f":"IFERROR(MATCH(TRUE,OFFSET(CalculationsAndCharts!$AQ$33,N33,0,'Transaction Summary'!$C$2-N33,1),0)+N33,\"\")","v":768},{"$f":"IFERROR(OFFSET(CalculationsAndCharts!$B$32,'Transaction Summary'!N34,0,1,1),\"\")","v":"2010-10-22"},{"$f":"IFERROR(OFFSET(CalculationsAndCharts!$AS$32,'Transaction Summary'!N34,0,1,1),\"\")","v":28},{"$f":"IFERROR(M34-P34,\"\")","v":3.9999999999999147E-2},{"$f":"IFERROR(Q34+IF(\"\"=R35,0,R35),\"\")","v":0.42999999999999972}]
[null,{"$f":"IFERROR(MATCH(TRUE,OFFSET(CalculationsAndCharts!$AE$33,B34,0,'Transaction Summary'!$C$2-B34,1),0)+B34,\"\")","v":829},{"$f":"IFERROR(OFFSET(CalculationsAndCharts!$B$32,'Transaction Summary'!B35,0,1,1),\"\")","v":"2010-07-28"},{"$f":"IFERROR(OFFSET(CalculationsAndCharts!$AI$32,'Transaction Summary'!B35,0,1,1),\"\")","v":29.39},{"$f":"IFERROR(MATCH(TRUE,OFFSET(CalculationsAndCharts!$AH$33,E34,0,'Transaction Summary'!$C$2-E34,1),0)+E34,\"\")","v":801},{"$f":"IFERROR(OFFSET(CalculationsAndCharts!$B$32,'Transaction Summary'!E35,0,1,1),\"\")","v":"2010-09-07"},{"$f":"IFERROR(OFFSET(CalculationsAndCharts!$AJ$32,'Transaction Summary'!E35,0,1,1),\"\")","v":28.04},-1.3500000000000014,-1.3500000000000014,null,{"$f":"IFERROR(MATCH(TRUE,OFFSET(CalculationsAndCharts!$AN$33,K34,0,'Transaction Summary'!$C$2-K34,1),0)+K34,\"\")","v":837},{"$f":"IFERROR(OFFSET(CalculationsAndCharts!$B$32,'Transaction Summary'!K35,0,1,1),\"\")","v":"2010-07-16"},{"$f":"IFERROR(OFFSET(CalculationsAndCharts!$AR$32,'Transaction Summary'!K35,0,1,1),\"\")","v":29.78},{"$f":"IFERROR(MATCH(TRUE,OFFSET(CalculationsAndCharts!$AQ$33,N34,0,'Transaction Summary'!$C$2-N34,1),0)+N34,\"\")","v":829},{"$f":"IFERROR(OFFSET(CalculationsAndCharts!$B$32,'Transaction Summary'!N35,0,1,1),\"\")","v":"2010-07-28"},{"$f":"IFERROR(OFFSET(CalculationsAndCharts!$AS$32,'Transaction Summary'!N35,0,1,1),\"\")","v":29.39},{"$f":"IFERROR(M35-P35,\"\")","v":0.39000000000000057},{"$f":"IFERROR(Q35+IF(\"\"=R36,0,R36),\"\")","v":0.39000000000000057}]
[null,{"$f":"IFERROR(MATCH(TRUE,OFFSET(CalculationsAndCharts!$AE$33,B35,0,'Transaction Summary'!$C$2-B35,1),0)+B35,\"\")","v":""},{"$f":"IFERROR(OFFSET(CalculationsAndCharts!$B$32,'Transaction Summary'!B36,0,1,1),\"\")","v":""},{"$f":"IFERROR(OFFSET(CalculationsAndCharts!$AI$32,'Transaction Summary'!B36,0,1,1),\"\")","v":""},{"$f":"IFERROR(MATCH(TRUE,OFFSET(CalculationsAndCharts!$AH$33,E35,0,'Transaction Summary'!$C$2-E35,1),0)+E35,\"\")","v":""},{"$f":"IFERROR(OFFSET(CalculationsAndCharts!$B$32,'Transaction Summary'!E36,0,1,1),\"\")","v":""},{"$f":"IFERROR(OFFSET(CalculationsAndCharts!$AJ$32,'Transaction Summary'!E36,0,1,1),\"\")","v":""},"","",null,{"$f":"IFERROR(MATCH(TRUE,OFFSET(CalculationsAndCharts!$AN$33,K35,0,'Transaction Summary'!$C$2-K35,1),0)+K35,\"\")","v":""},{"$f":"IFERROR(OFFSET(CalculationsAndCharts!$B$32,'Transaction Summary'!K36,0,1,1),\"\")","v":""},{"$f":"IFERROR(OFFSET(CalculationsAndCharts!$AR$32,'Transaction Summary'!K36,0,1,1),\"\")","v":""},{"$f":"IFERROR(MATCH(TRUE,OFFSET(CalculationsAndCharts!$AQ$33,N35,0,'Transaction Summary'!$C$2-N35,1),0)+N35,\"\")","v":""},{"$f":"IFERROR(OFFSET(CalculationsAndCharts!$B$32,'Transaction Summary'!N36,0,1,1),\"\")","v":""},{"$f":"IFERROR(OFFSET(CalculationsAndCharts!$AS$32,'Transaction Summary'!N36,0,1,1),\"\")","v":""},"",""]
[null,{"$f":"IFERROR(MATCH(TRUE,OFFSET(CalculationsAndCharts!$AE$33,B36,0,'Transaction Summary'!$C$2-B36,1),0)+B36,\"\")","v":""},{"$f":"IFERROR(OFFSET(CalculationsAndCharts!$B$32,'Transaction Summary'!B37,0,1,1),\"\")","v":""},{"$f":"IFERROR(OFFSET(CalculationsAndCharts!$AI$32,'Transaction Summary'!B37,0,1,1),\"\")","v":""},{"$f":"IFERROR(MATCH(TRUE,OFFSET(CalculationsAndCharts!$AH$33,E36,0,'Transaction Summary'!$C$2-E36,1),0)+E36,\"\")","v":""},{"$f":"IFERROR(OFFSET(CalculationsAndCharts!$B$32,'Transaction Summary'!E37,0,1,1),\"\")","v":""},{"$f":"IFERROR(OFFSET(CalculationsAndCharts!$AJ$32,'Transaction Summary'!E37,0,1,1),\"\")","v":""},"","",null,{"$f":"IFERROR(MATCH(TRUE,OFFSET(CalculationsAndCharts!$AN$33,K36,0,'Transaction Summary'!$C$2-K36,1),0)+K36,\"\")","v":""},{"$f":"IFERROR(OFFSET(CalculationsAndCharts!$B$32,'Transaction Summary'!K37,0,1,1),\"\")","v":""},{"$f":"IFERROR(OFFSET(CalculationsAndCharts!$AR$32,'Transaction Summary'!K37,0,1,1),\"\")","v":""},{"$f":"IFERROR(MATCH(TRUE,OFFSET(CalculationsAndCharts!$AQ$33,N36,0,'Transaction Summary'!$C$2-N36,1),0)+N36,\"\")","v":""},{"$f":"IFERROR(OFFSET(CalculationsAndCharts!$B$32,'Transaction Summary'!N37,0,1,1),\"\")","v":""},{"$f":"IFERROR(OFFSET(CalculationsAndCharts!$AS$32,'Transaction Summary'!N37,0,1,1),\"\")","v":""},"",""]
[null,{"$f":"IFERROR(MATCH(TRUE,OFFSET(CalculationsAndCharts!$AE$33,B37,0,'Transaction Summary'!$C$2-B37,1),0)+B37,\"\")","v":""},{"$f":"IFERROR(OFFSET(CalculationsAndCharts!$B$32,'Transaction Summary'!B38,0,1,1),\"\")","v":""},{"$f":"IFERROR(OFFSET(CalculationsAndCharts!$AI$32,'Transaction Summary'!B38,0,1,1),\"\")","v":""},{"$f":"IFERROR(MATCH(TRUE,OFFSET(CalculationsAndCharts!$AH$33,E37,0,'Transaction Summary'!$C$2-E37,1),0)+E37,\"\")","v":""},{"$f":"IFERROR(OFFSET(CalculationsAndCharts!$B$32,'Transaction Summary'!E38,0,1,1),\"\")","v":""},{"$f":"IFERROR(OFFSET(CalculationsAndCharts!$AJ$32,'Transaction Summary'!E38,0,1,1),\"\")","v":""},"","",null,{"$f":"IFERROR(MATCH(TRUE,OFFSET(CalculationsAndCharts!$AN$33,K37,0,'Transaction Summary'!$C$2-K37,1),0)+K37,\"\")","v":""},{"$f":"IFERROR(OFFSET(CalculationsAndCharts!$B$32,'Transaction Summary'!K38,0,1,1),\"\")","v":""},{"$f":"IFERROR(OFFSET(CalculationsAndCharts!$AR$32,'Transaction Summary'!K38,0,1,1),\"\")","v":""},{"$f":"IFERROR(MATCH(TRUE,OFFSET(CalculationsAndCharts!$AQ$33,N37,0,'Transaction Summary'!$C$2-N37,1),0)+N37,\"\")","v":""},{"$f":"IFERROR(OFFSET(CalculationsAndCharts!$B$32,'Transaction Summary'!N38,0,1,1),\"\")","v":""},{"$f":"IFERROR(OFFSET(CalculationsAndCharts!$AS$32,'Transaction Summary'!N38,0,1,1),\"\")","v":""},"",""]
[null,{"$f":"IFERROR(MATCH(TRUE,OFFSET(CalculationsAndCharts!$AE$33,B38,0,'Transaction Summary'!$C$2-B38,1),0)+B38,\"\")","v":""},{"$f":"IFERROR(OFFSET(CalculationsAndCharts!$B$32,'Transaction Summary'!B39,0,1,1),\"\")","v":""},{"$f":"IFERROR(OFFSET(CalculationsAndCharts!$AI$32,'Transaction Summary'!B39,0,1,1),\"\")","v":""},{"$f":"IFERROR(MATCH(TRUE,OFFSET(CalculationsAndCharts!$AH$33,E38,0,'Transaction Summary'!$C$2-E38,1),0)+E38,\"\")","v":""},{"$f":"IFERROR(OFFSET(CalculationsAndCharts!$B$32,'Transaction Summary'!E39,0,1,1),\"\")","v":""},{"$f":"IFERROR(OFFSET(CalculationsAndCharts!$AJ$32,'Transaction Summary'!E39,0,1,1),\"\")","v":""},"","",null,{"$f":"IFERROR(MATCH(TRUE,OFFSET(CalculationsAndCharts!$AN$33,K38,0,'Transaction Summary'!$C$2-K38,1),0)+K38,\"\")","v":""},{"$f":"IFERROR(OFFSET(CalculationsAndCharts!$B$32,'Transaction Summary'!K39,0,1,1),\"\")","v":""},{"$f":"IFERROR(OFFSET(CalculationsAndCharts!$AR$32,'Transaction Summary'!K39,0,1,1),\"\")","v":""},{"$f":"IFERROR(MATCH(TRUE,OFFSET(CalculationsAndCharts!$AQ$33,N38,0,'Transaction Summary'!$C$2-N38,1),0)+N38,\"\")","v":""},{"$f":"IFERROR(OFFSET(CalculationsAndCharts!$B$32,'Transaction Summary'!N39,0,1,1),\"\")","v":""},{"$f":"IFERROR(OFFSET(CalculationsAndCharts!$AS$32,'Transaction Summary'!N39,0,1,1),\"\")","v":""},"",""]
[null,{"$f":"IFERROR(MATCH(TRUE,OFFSET(CalculationsAndCharts!$AE$33,B39,0,'Transaction Summary'!$C$2-B39,1),0)+B39,\"\")","v":""},{"$f":"IFERROR(OFFSET(CalculationsAndCharts!$B$32,'Transaction Summary'!B40,0,1,1),\"\")","v":""},{"$f":"IFERROR(OFFSET(CalculationsAndCharts!$AI$32,'Transaction Summary'!B40,0,1,1),\"\")","v":""},{"$f":"IFERROR(MATCH(TRUE,OFFSET(CalculationsAndCharts!$AH$33,E39,0,'Transaction Summary'!$C$2-E39,1),0)+E39,\"\")","v":""},{"$f":"IFERROR(OFFSET(CalculationsAndCharts!$B$32,'Transaction Summary'!E40,0,1,1),\"\")","v":""},{"$f":"IFERROR(OFFSET(CalculationsAndCharts!$AJ$32,'Transaction Summary'!E40,0,1,1),\"\")","v":""},"","",null,{"$f":"IFERROR(MATCH(TRUE,OFFSET(CalculationsAndCharts!$AN$33,K39,0,'Transaction Summary'!$C$2-K39,1),0)+K39,\"\")","v":""},{"$f":"IFERROR(OFFSET(CalculationsAndCharts!$B$32,'Transaction Summary'!K40,0,1,1),\"\")","v":""},{"$f":"IFERROR(OFFSET(CalculationsAndCharts!$AR$32,'Transaction Summary'!K40,0,1,1),\"\")","v":""},{"$f":"IFERROR(MATCH(TRUE,OFFSET(CalculationsAndCharts!$AQ$33,N39,0,'Transaction Summary'!$C$2-N39,1),0)+N39,\"\")","v":""},{"$f":"IFERROR(OFFSET(CalculationsAndCharts!$B$32,'Transaction Summary'!N40,0,1,1),\"\")","v":""},{"$f":"IFERROR(OFFSET(CalculationsAndCharts!$AS$32,'Transaction Summary'!N40,0,1,1),\"\")","v":""},"",""]
[null,{"$f":"IFERROR(MATCH(TRUE,OFFSET(CalculationsAndCharts!$AE$33,B40,0,'Transaction Summary'!$C$2-B40,1),0)+B40,\"\")","v":""},{"$f":"IFERROR(OFFSET(CalculationsAndCharts!$B$32,'Transaction Summary'!B41,0,1,1),\"\")","v":""},{"$f":"IFERROR(OFFSET(CalculationsAndCharts!$AI$32,'Transaction Summary'!B41,0,1,1),\"\")","v":""},{"$f":"IFERROR(MATCH(TRUE,OFFSET(CalculationsAndCharts!$AH$33,E40,0,'Transaction Summary'!$C$2-E40,1),0)+E40,\"\")","v":""},{"$f":"IFERROR(OFFSET(CalculationsAndCharts!$B$32,'Transaction Summary'!E41,0,1,1),\"\")","v":""},{"$f":"IFERROR(OFFSET(CalculationsAndCharts!$AJ$32,'Transaction Summary'!E41,0,1,1),\"\")","v":""},"","",null,{"$f":"IFERROR(MATCH(TRUE,OFFSET(CalculationsAndCharts!$AN$33,K40,0,'Transaction Summary'!$C$2-K40,1),0)+K40,\"\")","v":""},{"$f":"IFERROR(OFFSET(CalculationsAndCharts!$B$32,'Transaction Summary'!K41,0,1,1),\"\")","v":""},{"$f":"IFERROR(OFFSET(CalculationsAndCharts!$AR$32,'Transaction Summary'!K41,0,1,1),\"\")","v":""},{"$f":"IFERROR(MATCH(TRUE,OFFSET(CalculationsAndCharts!$AQ$33,N40,0,'Transaction Summary'!$C$2-N40,1),0)+N40,\"\")","v":""},{"$f":"IFERROR(OFFSET(CalculationsAndCharts!$B$32,'Transaction Summary'!N41,0,1,1),\"\")","v":""},{"$f":"IFERROR(OFFSET(CalculationsAndCharts!$AS$32,'Transaction Summary'!N41,0,1,1),\"\")","v":""},"",""]
[null,{"$f":"IFERROR(MATCH(TRUE,OFFSET(CalculationsAndCharts!$AE$33,B41,0,'Transaction Summary'!$C$2-B41,1),0)+B41,\"\")","v":""},{"$f":"IFERROR(OFFSET(CalculationsAndCharts!$B$32,'Transaction Summary'!B42,0,1,1),\"\")","v":""},{"$f":"IFERROR(OFFSET(CalculationsAndCharts!$AI$32,'Transaction Summary'!B42,0,1,1),\"\")","v":""},{"$f":"IFERROR(MATCH(TRUE,OFFSET(CalculationsAndCharts!$AH$33,E41,0,'Transaction Summary'!$C$2-E41,1),0)+E41,\"\")","v":""},{"$f":"IFERROR(OFFSET(CalculationsAndCharts!$B$32,'Transaction Summary'!E42,0,1,1),\"\")","v":""},{"$f":"IFERROR(OFFSET(CalculationsAndCharts!$AJ$32,'Transaction Summary'!E42,0,1,1),\"\")","v":""},"","",null,{"$f":"IFERROR(MATCH(TRUE,OFFSET(CalculationsAndCharts!$AN$33,K41,0,'Transaction Summary'!$C$2-K41,1),0)+K41,\"\")","v":""},{"$f":"IFERROR(OFFSET(CalculationsAndCharts!$B$32,'Transaction Summary'!K42,0,1,1),\"\")","v":""},{"$f":"IFERROR(OFFSET(CalculationsAndCharts!$AR$32,'Transaction Summary'!K42,0,1,1),\"\")","v":""},{"$f":"IFERROR(MATCH(TRUE,OFFSET(CalculationsAndCharts!$AQ$33,N41,0,'Transaction Summary'!$C$2-N41,1),0)+N41,\"\")","v":""},{"$f":"IFERROR(OFFSET(CalculationsAndCharts!$B$32,'Transaction Summary'!N42,0,1,1),\"\")","v":""},{"$f":"IFERROR(OFFSET(CalculationsAndCharts!$AS$32,'Transaction Summary'!N42,0,1,1),\"\")","v":""},"",""]
[null,{"$f":"IFERROR(MATCH(TRUE,OFFSET(CalculationsAndCharts!$AE$33,B42,0,'Transaction Summary'!$C$2-B42,1),0)+B42,\"\")","v":""},{"$f":"IFERROR(OFFSET(CalculationsAndCharts!$B$32,'Transaction Summary'!B43,0,1,1),\"\")","v":""},{"$f":"IFERROR(OFFSET(CalculationsAndCharts!$AI$32,'Transaction Summary'!B43,0,1,1),\"\")","v":""},{"$f":"IFERROR(MATCH(TRUE,OFFSET(CalculationsAndCharts!$AH$33,E42,0,'Transaction Summary'!$C$2-E42,1),0)+E42,\"\")","v":""},{"$f":"IFERROR(OFFSET(CalculationsAndCharts!$B$32,'Transaction Summary'!E43,0,1,1),\"\")","v":""},{"$f":"IFERROR(OFFSET(CalculationsAndCharts!$AJ$32,'Transaction Summary'!E43,0,1,1),\"\")","v":""},"","",null,{"$f":"IFERROR(MATCH(TRUE,OFFSET(CalculationsAndCharts!$AN$33,K42,0,'Transaction Summary'!$C$2-K42,1),0)+K42,\"\")","v":""},{"$f":"IFERROR(OFFSET(CalculationsAndCharts!$B$32,'Transaction Summary'!K43,0,1,1),\"\")","v":""},{"$f":"IFERROR(OFFSET(CalculationsAndCharts!$AR$32,'Transaction Summary'!K43,0,1,1),\"\")","v":""},{"$f":"IFERROR(MATCH(TRUE,OFFSET(CalculationsAndCharts!$AQ$33,N42,0,'Transaction Summary'!$C$2-N42,1),0)+N42,\"\")","v":""},{"$f":"IFERROR(OFFSET(CalculationsAndCharts!$B$32,'Transaction Summary'!N43,0,1,1),\"\")","v":""},{"$f":"IFERROR(OFFSET(CalculationsAndCharts!$AS$32,'Transaction Summary'!N43,0,1,1),\"\")","v":""},"",""]
[null,{"$f":"IFERROR(MATCH(TRUE,OFFSET(CalculationsAndCharts!$AE$33,B43,0,'Transaction Summary'!$C$2-B43,1),0)+B43,\"\")","v":""},{"$f":"IFERROR(OFFSET(CalculationsAndCharts!$B$32,'Transaction Summary'!B44,0,1,1),\"\")","v":""},{"$f":"IFERROR(OFFSET(CalculationsAndCharts!$AI$32,'Transaction Summary'!B44,0,1,1),\"\")","v":""},{"$f":"IFERROR(MATCH(TRUE,OFFSET(CalculationsAndCharts!$AH$33,E43,0,'Transaction Summary'!$C$2-E43,1),0)+E43,\"\")","v":""},{"$f":"IFERROR(OFFSET(CalculationsAndCharts!$B$32,'Transaction Summary'!E44,0,1,1),\"\")","v":""},{"$f":"IFERROR(OFFSET(CalculationsAndCharts!$AJ$32,'Transaction Summary'!E44,0,1,1),\"\")","v":""},"","",null,{"$f":"IFERROR(MATCH(TRUE,OFFSET(CalculationsAndCharts!$AN$33,K43,0,'Transaction Summary'!$C$2-K43,1),0)+K43,\"\")","v":""},{"$f":"IFERROR(OFFSET(CalculationsAndCharts!$B$32,'Transaction Summary'!K44,0,1,1),\"\")","v":""},{"$f":"IFERROR(OFFSET(CalculationsAndCharts!$AR$32,'Transaction Summary'!K44,0,1,1),\"\")","v":""},{"$f":"IFERROR(MATCH(TRUE,OFFSET(CalculationsAndCharts!$AQ$33,N43,0,'Transaction Summary'!$C$2-N43,1),0)+N43,\"\")","v":""},{"$f":"IFERROR(OFFSET(CalculationsAndCharts!$B$32,'Transaction Summary'!N44,0,1,1),\"\")","v":""},{"$f":"IFERROR(OFFSET(CalculationsAndCharts!$AS$32,'Transaction Summary'!N44,0,1,1),\"\")","v":""},"",""]
[null,{"$f":"IFERROR(MATCH(TRUE,OFFSET(CalculationsAndCharts!$AE$33,B44,0,'Transaction Summary'!$C$2-B44,1),0)+B44,\"\")","v":""},{"$f":"IFERROR(OFFSET(CalculationsAndCharts!$B$32,'Transaction Summary'!B45,0,1,1),\"\")","v":""},{"$f":"IFERROR(OFFSET(CalculationsAndCharts!$AI$32,'Transaction Summary'!B45,0,1,1),\"\")","v":""},{"$f":"IFERROR(MATCH(TRUE,OFFSET(CalculationsAndCharts!$AH$33,E44,0,'Transaction Summary'!$C$2-E44,1),0)+E44,\"\")","v":""},{"$f":"IFERROR(OFFSET(CalculationsAndCharts!$B$32,'Transaction Summary'!E45,0,1,1),\"\")","v":""},{"$f":"IFERROR(OFFSET(CalculationsAndCharts!$AJ$32,'Transaction Summary'!E45,0,1,1),\"\")","v":""},"","",null,{"$f":"IFERROR(MATCH(TRUE,OFFSET(CalculationsAndCharts!$AN$33,K44,0,'Transaction Summary'!$C$2-K44,1),0)+K44,\"\")","v":""},{"$f":"IFERROR(OFFSET(CalculationsAndCharts!$B$32,'Transaction Summary'!K45,0,1,1),\"\")","v":""},{"$f":"IFERROR(OFFSET(CalculationsAndCharts!$AR$32,'Transaction Summary'!K45,0,1,1),\"\")","v":""},{"$f":"IFERROR(MATCH(TRUE,OFFSET(CalculationsAndCharts!$AQ$33,N44,0,'Transaction Summary'!$C$2-N44,1),0)+N44,\"\")","v":""},{"$f":"IFERROR(OFFSET(CalculationsAndCharts!$B$32,'Transaction Summary'!N45,0,1,1),\"\")","v":""},{"$f":"IFERROR(OFFSET(CalculationsAndCharts!$AS$32,'Transaction Summary'!N45,0,1,1),\"\")","v":""},"",""]
[null,{"$f":"IFERROR(MATCH(TRUE,OFFSET(CalculationsAndCharts!$AE$33,B45,0,'Transaction Summary'!$C$2-B45,1),0)+B45,\"\")","v":""},{"$f":"IFERROR(OFFSET(CalculationsAndCharts!$B$32,'Transaction Summary'!B46,0,1,1),\"\")","v":""},{"$f":"IFERROR(OFFSET(CalculationsAndCharts!$AI$32,'Transaction Summary'!B46,0,1,1),\"\")","v":""},{"$f":"IFERROR(MATCH(TRUE,OFFSET(CalculationsAndCharts!$AH$33,E45,0,'Transaction Summary'!$C$2-E45,1),0)+E45,\"\")","v":""},{"$f":"IFERROR(OFFSET(CalculationsAndCharts!$B$32,'Transaction Summary'!E46,0,1,1),\"\")","v":""},{"$f":"IFERROR(OFFSET(CalculationsAndCharts!$AJ$32,'Transaction Summary'!E46,0,1,1),\"\")","v":""},"","",null,{"$f":"IFERROR(MATCH(TRUE,OFFSET(CalculationsAndCharts!$AN$33,K45,0,'Transaction Summary'!$C$2-K45,1),0)+K45,\"\")","v":""},{"$f":"IFERROR(OFFSET(CalculationsAndCharts!$B$32,'Transaction Summary'!K46,0,1,1),\"\")","v":""},{"$f":"IFERROR(OFFSET(CalculationsAndCharts!$AR$32,'Transaction Summary'!K46,0,1,1),\"\")","v":""},{"$f":"IFERROR(MATCH(TRUE,OFFSET(CalculationsAndCharts!$AQ$33,N45,0,'Transaction Summary'!$C$2-N45,1),0)+N45,\"\")","v":""},{"$f":"IFERROR(OFFSET(CalculationsAndCharts!$B$32,'Transaction Summary'!N46,0,1,1),\"\")","v":""},{"$f":"IFERROR(OFFSET(CalculationsAndCharts!$AS$32,'Transaction Summary'!N46,0,1,1),\"\")","v":""},"",""]
[null,{"$f":"IFERROR(MATCH(TRUE,OFFSET(CalculationsAndCharts!$AE$33,B46,0,'Transaction Summary'!$C$2-B46,1),0)+B46,\"\")","v":""},{"$f":"IFERROR(OFFSET(CalculationsAndCharts!$B$32,'Transaction Summary'!B47,0,1,1),\"\")","v":""},{"$f":"IFERROR(OFFSET(CalculationsAndCharts!$AI$32,'Transaction Summary'!B47,0,1,1),\"\")","v":""},{"$f":"IFERROR(MATCH(TRUE,OFFSET(CalculationsAndCharts!$AH$33,E46,0,'Transaction Summary'!$C$2-E46,1),0)+E46,\"\")","v":""},{"$f":"IFERROR(OFFSET(CalculationsAndCharts!$B$32,'Transaction Summary'!E47,0,1,1),\"\")","v":""},{"$f":"IFERROR(OFFSET(CalculationsAndCharts!$AJ$32,'Transaction Summary'!E47,0,1,1),\"\")","v":""},"","",null,{"$f":"IFERROR(MATCH(TRUE,OFFSET(CalculationsAndCharts!$AN$33,K46,0,'Transaction Summary'!$C$2-K46,1),0)+K46,\"\")","v":""},{"$f":"IFERROR(OFFSET(CalculationsAndCharts!$B$32,'Transaction Summary'!K47,0,1,1),\"\")","v":""},{"$f":"IFERROR(OFFSET(CalculationsAndCharts!$AR$32,'Transaction Summary'!K47,0,1,1),\"\")","v":""},{"$f":"IFERROR(MATCH(TRUE,OFFSET(CalculationsAndCharts!$AQ$33,N46,0,'Transaction Summary'!$C$2-N46,1),0)+N46,\"\")","v":""},{"$f":"IFERROR(OFFSET(CalculationsAndCharts!$B$32,'Transaction Summary'!N47,0,1,1),\"\")","v":""},{"$f":"IFERROR(OFFSET(CalculationsAndCharts!$AS$32,'Transaction Summary'!N47,0,1,1),\"\")","v":""},"",""]
[null,{"$f":"IFERROR(MATCH(TRUE,OFFSET(CalculationsAndCharts!$AE$33,B47,0,'Transaction Summary'!$C$2-B47,1),0)+B47,\"\")","v":""},{"$f":"IFERROR(OFFSET(CalculationsAndCharts!$B$32,'Transaction Summary'!B48,0,1,1),\"\")","v":""},{"$f":"IFERROR(OFFSET(CalculationsAndCharts!$AI$32,'Transaction Summary'!B48,0,1,1),\"\")","v":""},{"$f":"IFERROR(MATCH(TRUE,OFFSET(CalculationsAndCharts!$AH$33,E47,0,'Transaction Summary'!$C$2-E47,1),0)+E47,\"\")","v":""},{"$f":"IFERROR(OFFSET(CalculationsAndCharts!$B$32,'Transaction Summary'!E48,0,1,1),\"\")","v":""},{"$f":"IFERROR(OFFSET(CalculationsAndCharts!$AJ$32,'Transaction Summary'!E48,0,1,1),\"\")","v":""},"","",null,{"$f":"IFERROR(MATCH(TRUE,OFFSET(CalculationsAndCharts!$AN$33,K47,0,'Transaction Summary'!$C$2-K47,1),0)+K47,\"\")","v":""},{"$f":"IFERROR(OFFSET(CalculationsAndCharts!$B$32,'Transaction Summary'!K48,0,1,1),\"\")","v":""},{"$f":"IFERROR(OFFSET(CalculationsAndCharts!$AR$32,'Transaction Summary'!K48,0,1,1),\"\")","v":""},{"$f":"IFERROR(MATCH(TRUE,OFFSET(CalculationsAndCharts!$AQ$33,N47,0,'Transaction Summary'!$C$2-N47,1),0)+N47,\"\")","v":""},{"$f":"IFERROR(OFFSET(CalculationsAndCharts!$B$32,'Transaction Summary'!N48,0,1,1),\"\")","v":""},{"$f":"IFERROR(OFFSET(CalculationsAndCharts!$AS$32,'Transaction Summary'!N48,0,1,1),\"\")","v":""},"",""]
[null,{"$f":"IFERROR(MATCH(TRUE,OFFSET(CalculationsAndCharts!$AE$33,B48,0,'Transaction Summary'!$C$2-B48,1),0)+B48,\"\")","v":""},{"$f":"IFERROR(OFFSET(CalculationsAndCharts!$B$32,'Transaction Summary'!B49,0,1,1),\"\")","v":""},{"$f":"IFERROR(OFFSET(CalculationsAndCharts!$AI$32,'Transaction Summary'!B49,0,1,1),\"\")","v":""},{"$f":"IFERROR(MATCH(TRUE,OFFSET(CalculationsAndCharts!$AH$33,E48,0,'Transaction Summary'!$C$2-E48,1),0)+E48,\"\")","v":""},{"$f":"IFERROR(OFFSET(CalculationsAndCharts!$B$32,'Transaction Summary'!E49,0,1,1),\"\")","v":""},{"$f":"IFERROR(OFFSET(CalculationsAndCharts!$AJ$32,'Transaction Summary'!E49,0,1,1),\"\")","v":""},"","",null,{"$f":"IFERROR(MATCH(TRUE,OFFSET(CalculationsAndCharts!$AN$33,K48,0,'Transaction Summary'!$C$2-K48,1),0)+K48,\"\")","v":""},{"$f":"IFERROR(OFFSET(CalculationsAndCharts!$B$32,'Transaction Summary'!K49,0,1,1),\"\")","v":""},{"$f":"IFERROR(OFFSET(CalculationsAndCharts!$AR$32,'Transaction Summary'!K49,0,1,1),\"\")","v":""},{"$f":"IFERROR(MATCH(TRUE,OFFSET(CalculationsAndCharts!$AQ$33,N48,0,'Transaction Summary'!$C$2-N48,1),0)+N48,\"\")","v":""},{"$f":"IFERROR(OFFSET(CalculationsAndCharts!$B$32,'Transaction Summary'!N49,0,1,1),\"\")","v":""},{"$f":"IFERROR(OFFSET(CalculationsAndCharts!$AS$32,'Transaction Summary'!N49,0,1,1),\"\")","v":""},"",""]
[null,{"$f":"IFERROR(MATCH(TRUE,OFFSET(CalculationsAndCharts!$AE$33,B49,0,'Transaction Summary'!$C$2-B49,1),0)+B49,\"\")","v":""},{"$f":"IFERROR(OFFSET(CalculationsAndCharts!$B$32,'Transaction Summary'!B50,0,1,1),\"\")","v":""},{"$f":"IFERROR(OFFSET(CalculationsAndCharts!$AI$32,'Transaction Summary'!B50,0,1,1),\"\")","v":""},{"$f":"IFERROR(MATCH(TRUE,OFFSET(CalculationsAndCharts!$AH$33,E49,0,'Transaction Summary'!$C$2-E49,1),0)+E49,\"\")","v":""},{"$f":"IFERROR(OFFSET(CalculationsAndCharts!$B$32,'Transaction Summary'!E50,0,1,1),\"\")","v":""},{"$f":"IFERROR(OFFSET(CalculationsAndCharts!$AJ$32,'Transaction Summary'!E50,0,1,1),\"\")","v":""},"","",null,{"$f":"IFERROR(MATCH(TRUE,OFFSET(CalculationsAndCharts!$AN$33,K49,0,'Transaction Summary'!$C$2-K49,1),0)+K49,\"\")","v":""},{"$f":"IFERROR(OFFSET(CalculationsAndCharts!$B$32,'Transaction Summary'!K50,0,1,1),\"\")","v":""},{"$f":"IFERROR(OFFSET(CalculationsAndCharts!$AR$32,'Transaction Summary'!K50,0,1,1),\"\")","v":""},{"$f":"IFERROR(MATCH(TRUE,OFFSET(CalculationsAndCharts!$AQ$33,N49,0,'Transaction Summary'!$C$2-N49,1),0)+N49,\"\")","v":""},{"$f":"IFERROR(OFFSET(CalculationsAndCharts!$B$32,'Transaction Summary'!N50,0,1,1),\"\")","v":""},{"$f":"IFERROR(OFFSET(CalculationsAndCharts!$AS$32,'Transaction Summary'!N50,0,1,1),\"\")","v":""},"",""]
[null,{"$f":"IFERROR(MATCH(TRUE,OFFSET(CalculationsAndCharts!$AE$33,B50,0,'Transaction Summary'!$C$2-B50,1),0)+B50,\"\")","v":""},{"$f":"IFERROR(OFFSET(CalculationsAndCharts!$B$32,'Transaction Summary'!B51,0,1,1),\"\")","v":""},{"$f":"IFERROR(OFFSET(CalculationsAndCharts!$AI$32,'Transaction Summary'!B51,0,1,1),\"\")","v":""},{"$f":"IFERROR(MATCH(TRUE,OFFSET(CalculationsAndCharts!$AH$33,E50,0,'Transaction Summary'!$C$2-E50,1),0)+E50,\"\")","v":""},{"$f":"IFERROR(OFFSET(CalculationsAndCharts!$B$32,'Transaction Summary'!E51,0,1,1),\"\")","v":""},{"$f":"IFERROR(OFFSET(CalculationsAndCharts!$AJ$32,'Transaction Summary'!E51,0,1,1),\"\")","v":""},"","",null,{"$f":"IFERROR(MATCH(TRUE,OFFSET(CalculationsAndCharts!$AN$33,K50,0,'Transaction Summary'!$C$2-K50,1),0)+K50,\"\")","v":""},{"$f":"IFERROR(OFFSET(CalculationsAndCharts!$B$32,'Transaction Summary'!K51,0,1,1),\"\")","v":""},{"$f":"IFERROR(OFFSET(CalculationsAndCharts!$AR$32,'Transaction Summary'!K51,0,1,1),\"\")","v":""},{"$f":"IFERROR(MATCH(TRUE,OFFSET(CalculationsAndCharts!$AQ$33,N50,0,'Transaction Summary'!$C$2-N50,1),0)+N50,\"\")","v":""},{"$f":"IFERROR(OFFSET(CalculationsAndCharts!$B$32,'Transaction Summary'!N51,0,1,1),\"\")","v":""},{"$f":"IFERROR(OFFSET(CalculationsAndCharts!$AS$32,'Transaction Summary'!N51,0,1,1),\"\")","v":""},"",""]
[null,{"$f":"IFERROR(MATCH(TRUE,OFFSET(CalculationsAndCharts!$AE$33,B51,0,'Transaction Summary'!$C$2-B51,1),0)+B51,\"\")","v":""},{"$f":"IFERROR(OFFSET(CalculationsAndCharts!$B$32,'Transaction Summary'!B52,0,1,1),\"\")","v":""},{"$f":"IFERROR(OFFSET(CalculationsAndCharts!$AI$32,'Transaction Summary'!B52,0,1,1),\"\")","v":""},{"$f":"IFERROR(MATCH(TRUE,OFFSET(CalculationsAndCharts!$AH$33,E51,0,'Transaction Summary'!$C$2-E51,1),0)+E51,\"\")","v":""},{"$f":"IFERROR(OFFSET(CalculationsAndCharts!$B$32,'Transaction Summary'!E52,0,1,1),\"\")","v":""},{"$f":"IFERROR(OFFSET(CalculationsAndCharts!$AJ$32,'Transaction Summary'!E52,0,1,1),\"\")","v":""},"","",null,{"$f":"IFERROR(MATCH(TRUE,OFFSET(CalculationsAndCharts!$AN$33,K51,0,'Transaction Summary'!$C$2-K51,1),0)+K51,\"\")","v":""},{"$f":"IFERROR(OFFSET(CalculationsAndCharts!$B$32,'Transaction Summary'!K52,0,1,1),\"\")","v":""},{"$f":"IFERROR(OFFSET(CalculationsAndCharts!$AR$32,'Transaction Summary'!K52,0,1,1),\"\")","v":""},{"$f":"IFERROR(MATCH(TRUE,OFFSET(CalculationsAndCharts!$AQ$33,N51,0,'Transaction Summary'!$C$2-N51,1),0)+N51,\"\")","v":""},{"$f":"IFERROR(OFFSET(CalculationsAndCharts!$B$32,'Transaction Summary'!N52,0,1,1),\"\")","v":""},{"$f":"IFERROR(OFFSET(CalculationsAndCharts!$AS$32,'Transaction Summary'!N52,0,1,1),\"\")","v":""},"",""]
[null,{"$f":"IFERROR(MATCH(TRUE,OFFSET(CalculationsAndCharts!$AE$33,B52,0,'Transaction Summary'!$C$2-B52,1),0)+B52,\"\")","v":""},{"$f":"IFERROR(OFFSET(CalculationsAndCharts!$B$32,'Transaction Summary'!B53,0,1,1),\"\")","v":""},{"$f":"IFERROR(OFFSET(CalculationsAndCharts!$AI$32,'Transaction Summary'!B53,0,1,1),\"\")","v":""},{"$f":"IFERROR(MATCH(TRUE,OFFSET(CalculationsAndCharts!$AH$33,E52,0,'Transaction Summary'!$C$2-E52,1),0)+E52,\"\")","v":""},{"$f":"IFERROR(OFFSET(CalculationsAndCharts!$B$32,'Transaction Summary'!E53,0,1,1),\"\")","v":""},{"$f":"IFERROR(OFFSET(CalculationsAndCharts!$AJ$32,'Transaction Summary'!E53,0,1,1),\"\")","v":""},"","",null,{"$f":"IFERROR(MATCH(TRUE,OFFSET(CalculationsAndCharts!$AN$33,K52,0,'Transaction Summary'!$C$2-K52,1),0)+K52,\"\")","v":""},{"$f":"IFERROR(OFFSET(CalculationsAndCharts!$B$32,'Transaction Summary'!K53,0,1,1),\"\")","v":""},{"$f":"IFERROR(OFFSET(CalculationsAndCharts!$AR$32,'Transaction Summary'!K53,0,1,1),\"\")","v":""},{"$f":"IFERROR(MATCH(TRUE,OFFSET(CalculationsAndCharts!$AQ$33,N52,0,'Transaction Summary'!$C$2-N52,1),0)+N52,\"\")","v":""},{"$f":"IFERROR(OFFSET(CalculationsAndCharts!$B$32,'Transaction Summary'!N53,0,1,1),\"\")","v":""},{"$f":"IFERROR(OFFSET(CalculationsAndCharts!$AS$32,'Transaction Summary'!N53,0,1,1),\"\")","v":""},"",""]
[null,{"$f":"IFERROR(MATCH(TRUE,OFFSET(CalculationsAndCharts!$AE$33,B53,0,'Transaction Summary'!$C$2-B53,1),0)+B53,\"\")","v":""},{"$f":"IFERROR(OFFSET(CalculationsAndCharts!$B$32,'Transaction Summary'!B54,0,1,1),\"\")","v":""},{"$f":"IFERROR(OFFSET(CalculationsAndCharts!$AI$32,'Transaction Summary'!B54,0,1,1),\"\")","v":""},{"$f":"IFERROR(MATCH(TRUE,OFFSET(CalculationsAndCharts!$AH$33,E53,0,'Transaction Summary'!$C$2-E53,1),0)+E53,\"\")","v":""},{"$f":"IFERROR(OFFSET(CalculationsAndCharts!$B$32,'Transaction Summary'!E54,0,1,1),\"\")","v":""},{"$f":"IFERROR(OFFSET(CalculationsAndCharts!$AJ$32,'Transaction Summary'!E54,0,1,1),\"\")","v":""},"","",null,{"$f":"IFERROR(MATCH(TRUE,OFFSET(CalculationsAndCharts!$AN$33,K53,0,'Transaction Summary'!$C$2-K53,1),0)+K53,\"\")","v":""},{"$f":"IFERROR(OFFSET(CalculationsAndCharts!$B$32,'Transaction Summary'!K54,0,1,1),\"\")","v":""},{"$f":"IFERROR(OFFSET(CalculationsAndCharts!$AR$32,'Transaction Summary'!K54,0,1,1),\"\")","v":""},{"$f":"IFERROR(MATCH(TRUE,OFFSET(CalculationsAndCharts!$AQ$33,N53,0,'Transaction Summary'!$C$2-N53,1),0)+N53,\"\")","v":""},{"$f":"IFERROR(OFFSET(CalculationsAndCharts!$B$32,'Transaction Summary'!N54,0,1,1),\"\")","v":""},{"$f":"IFERROR(OFFSET(CalculationsAndCharts!$AS$32,'Transaction Summary'!N54,0,1,1),\"\")","v":""},"",""]
[null,{"$f":"IFERROR(MATCH(TRUE,OFFSET(CalculationsAndCharts!$AE$33,B54,0,'Transaction Summary'!$C$2-B54,1),0)+B54,\"\")","v":""},{"$f":"IFERROR(OFFSET(CalculationsAndCharts!$B$32,'Transaction Summary'!B55,0,1,1),\"\")","v":""},{"$f":"IFERROR(OFFSET(CalculationsAndCharts!$AI$32,'Transaction Summary'!B55,0,1,1),\"\")","v":""},{"$f":"IFERROR(MATCH(TRUE,OFFSET(CalculationsAndCharts!$AH$33,E54,0,'Transaction Summary'!$C$2-E54,1),0)+E54,\"\")","v":""},{"$f":"IFERROR(OFFSET(CalculationsAndCharts!$B$32,'Transaction Summary'!E55,0,1,1),\"\")","v":""},{"$f":"IFERROR(OFFSET(CalculationsAndCharts!$AJ$32,'Transaction Summary'!E55,0,1,1),\"\")","v":""},"","",null,{"$f":"IFERROR(MATCH(TRUE,OFFSET(CalculationsAndCharts!$AN$33,K54,0,'Transaction Summary'!$C$2-K54,1),0)+K54,\"\")","v":""},{"$f":"IFERROR(OFFSET(CalculationsAndCharts!$B$32,'Transaction Summary'!K55,0,1,1),\"\")","v":""},{"$f":"IFERROR(OFFSET(CalculationsAndCharts!$AR$32,'Transaction Summary'!K55,0,1,1),\"\")","v":""},{"$f":"IFERROR(MATCH(TRUE,OFFSET(CalculationsAndCharts!$AQ$33,N54,0,'Transaction Summary'!$C$2-N54,1),0)+N54,\"\")","v":""},{"$f":"IFERROR(OFFSET(CalculationsAndCharts!$B$32,'Transaction Summary'!N55,0,1,1),\"\")","v":""},{"$f":"IFERROR(OFFSET(CalculationsAndCharts!$AS$32,'Transaction Summary'!N55,0,1,1),\"\")","v":""},"",""]
[null,{"$f":"IFERROR(MATCH(TRUE,OFFSET(CalculationsAndCharts!$AE$33,B55,0,'Transaction Summary'!$C$2-B55,1),0)+B55,\"\")","v":""},{"$f":"IFERROR(OFFSET(CalculationsAndCharts!$B$32,'Transaction Summary'!B56,0,1,1),\"\")","v":""},{"$f":"IFERROR(OFFSET(CalculationsAndCharts!$AI$32,'Transaction Summary'!B56,0,1,1),\"\")","v":""},{"$f":"IFERROR(MATCH(TRUE,OFFSET(CalculationsAndCharts!$AH$33,E55,0,'Transaction Summary'!$C$2-E55,1),0)+E55,\"\")","v":""},{"$f":"IFERROR(OFFSET(CalculationsAndCharts!$B$32,'Transaction Summary'!E56,0,1,1),\"\")","v":""},{"$f":"IFERROR(OFFSET(CalculationsAndCharts!$AJ$32,'Transaction Summary'!E56,0,1,1),\"\")","v":""},"","",null,{"$f":"IFERROR(MATCH(TRUE,OFFSET(CalculationsAndCharts!$AN$33,K55,0,'Transaction Summary'!$C$2-K55,1),0)+K55,\"\")","v":""},{"$f":"IFERROR(OFFSET(CalculationsAndCharts!$B$32,'Transaction Summary'!K56,0,1,1),\"\")","v":""},{"$f":"IFERROR(OFFSET(CalculationsAndCharts!$AR$32,'Transaction Summary'!K56,0,1,1),\"\")","v":""},{"$f":"IFERROR(MATCH(TRUE,OFFSET(CalculationsAndCharts!$AQ$33,N55,0,'Transaction Summary'!$C$2-N55,1),0)+N55,\"\")","v":""},{"$f":"IFERROR(OFFSET(CalculationsAndCharts!$B$32,'Transaction Summary'!N56,0,1,1),\"\")","v":""},{"$f":"IFERROR(OFFSET(CalculationsAndCharts!$AS$32,'Transaction Summary'!N56,0,1,1),\"\")","v":""},"",""]
[null,{"$f":"IFERROR(MATCH(TRUE,OFFSET(CalculationsAndCharts!$AE$33,B56,0,'Transaction Summary'!$C$2-B56,1),0)+B56,\"\")","v":""},{"$f":"IFERROR(OFFSET(CalculationsAndCharts!$B$32,'Transaction Summary'!B57,0,1,1),\"\")","v":""},{"$f":"IFERROR(OFFSET(CalculationsAndCharts!$AI$32,'Transaction Summary'!B57,0,1,1),\"\")","v":""},{"$f":"IFERROR(MATCH(TRUE,OFFSET(CalculationsAndCharts!$AH$33,E56,0,'Transaction Summary'!$C$2-E56,1),0)+E56,\"\")","v":""},{"$f":"IFERROR(OFFSET(CalculationsAndCharts!$B$32,'Transaction Summary'!E57,0,1,1),\"\")","v":""},{"$f":"IFERROR(OFFSET(CalculationsAndCharts!$AJ$32,'Transaction Summary'!E57,0,1,1),\"\")","v":""},"","",null,{"$f":"IFERROR(MATCH(TRUE,OFFSET(CalculationsAndCharts!$AN$33,K56,0,'Transaction Summary'!$C$2-K56,1),0)+K56,\"\")","v":""},{"$f":"IFERROR(OFFSET(CalculationsAndCharts!$B$32,'Transaction Summary'!K57,0,1,1),\"\")","v":""},{"$f":"IFERROR(OFFSET(CalculationsAndCharts!$AR$32,'Transaction Summary'!K57,0,1,1),\"\")","v":""},{"$f":"IFERROR(MATCH(TRUE,OFFSET(CalculationsAndCharts!$AQ$33,N56,0,'Transaction Summary'!$C$2-N56,1),0)+N56,\"\")","v":""},{"$f":"IFERROR(OFFSET(CalculationsAndCharts!$B$32,'Transaction Summary'!N57,0,1,1),\"\")","v":""},{"$f":"IFERROR(OFFSET(CalculationsAndCharts!$AS$32,'Transaction Summary'!N57,0,1,1),\"\")","v":""},"",""]
[null,{"$f":"IFERROR(MATCH(TRUE,OFFSET(CalculationsAndCharts!$AE$33,B57,0,'Transaction Summary'!$C$2-B57,1),0)+B57,\"\")","v":""},{"$f":"IFERROR(OFFSET(CalculationsAndCharts!$B$32,'Transaction Summary'!B58,0,1,1),\"\")","v":""},{"$f":"IFERROR(OFFSET(CalculationsAndCharts!$AI$32,'Transaction Summary'!B58,0,1,1),\"\")","v":""},{"$f":"IFERROR(MATCH(TRUE,OFFSET(CalculationsAndCharts!$AH$33,E57,0,'Transaction Summary'!$C$2-E57,1),0)+E57,\"\")","v":""},{"$f":"IFERROR(OFFSET(CalculationsAndCharts!$B$32,'Transaction Summary'!E58,0,1,1),\"\")","v":""},{"$f":"IFERROR(OFFSET(CalculationsAndCharts!$AJ$32,'Transaction Summary'!E58,0,1,1),\"\")","v":""},"","",null,{"$f":"IFERROR(MATCH(TRUE,OFFSET(CalculationsAndCharts!$AN$33,K57,0,'Transaction Summary'!$C$2-K57,1),0)+K57,\"\")","v":""},{"$f":"IFERROR(OFFSET(CalculationsAndCharts!$B$32,'Transaction Summary'!K58,0,1,1),\"\")","v":""},{"$f":"IFERROR(OFFSET(CalculationsAndCharts!$AR$32,'Transaction Summary'!K58,0,1,1),\"\")","v":""},{"$f":"IFERROR(MATCH(TRUE,OFFSET(CalculationsAndCharts!$AQ$33,N57,0,'Transaction Summary'!$C$2-N57,1),0)+N57,\"\")","v":""},{"$f":"IFERROR(OFFSET(CalculationsAndCharts!$B$32,'Transaction Summary'!N58,0,1,1),\"\")","v":""},{"$f":"IFERROR(OFFSET(CalculationsAndCharts!$AS$32,'Transaction Summary'!N58,0,1,1),\"\")","v":""},"",""]
[null,{"$f":"IFERROR(MATCH(TRUE,OFFSET(CalculationsAndCharts!$AE$33,B58,0,'Transaction Summary'!$C$2-B58,1),0)+B58,\"\")","v":""},{"$f":"IFERROR(OFFSET(CalculationsAndCharts!$B$32,'Transaction Summary'!B59,0,1,1),\"\")","v":""},{"$f":"IFERROR(OFFSET(CalculationsAndCharts!$AI$32,'Transaction Summary'!B59,0,1,1),\"\")","v":""},{"$f":"IFERROR(MATCH(TRUE,OFFSET(CalculationsAndCharts!$AH$33,E58,0,'Transaction Summary'!$C$2-E58,1),0)+E58,\"\")","v":""},{"$f":"IFERROR(OFFSET(CalculationsAndCharts!$B$32,'Transaction Summary'!E59,0,1,1),\"\")","v":""},{"$f":"IFERROR(OFFSET(CalculationsAndCharts!$AJ$32,'Transaction Summary'!E59,0,1,1),\"\")","v":""},"","",null,{"$f":"IFERROR(MATCH(TRUE,OFFSET(CalculationsAndCharts!$AN$33,K58,0,'Transaction Summary'!$C$2-K58,1),0)+K58,\"\")","v":""},{"$f":"IFERROR(OFFSET(CalculationsAndCharts!$B$32,'Transaction Summary'!K59,0,1,1),\"\")","v":""},{"$f":"IFERROR(OFFSET(CalculationsAndCharts!$AR$32,'Transaction Summary'!K59,0,1,1),\"\")","v":""},{"$f":"IFERROR(MATCH(TRUE,OFFSET(CalculationsAndCharts!$AQ$33,N58,0,'Transaction Summary'!$C$2-N58,1),0)+N58,\"\")","v":""},{"$f":"IFERROR(OFFSET(CalculationsAndCharts!$B$32,'Transaction Summary'!N59,0,1,1),\"\")","v":""},{"$f":"IFERROR(OFFSET(CalculationsAndCharts!$AS$32,'Transaction Summary'!N59,0,1,1),\"\")","v":""},"",""]
[null,{"$f":"IFERROR(MATCH(TRUE,OFFSET(CalculationsAndCharts!$AE$33,B59,0,'Transaction Summary'!$C$2-B59,1),0)+B59,\"\")","v":""},{"$f":"IFERROR(OFFSET(CalculationsAndCharts!$B$32,'Transaction Summary'!B60,0,1,1),\"\")","v":""},{"$f":"IFERROR(OFFSET(CalculationsAndCharts!$AI$32,'Transaction Summary'!B60,0,1,1),\"\")","v":""},{"$f":"IFERROR(MATCH(TRUE,OFFSET(CalculationsAndCharts!$AH$33,E59,0,'Transaction Summary'!$C$2-E59,1),0)+E59,\"\")","v":""},{"$f":"IFERROR(OFFSET(CalculationsAndCharts!$B$32,'Transaction Summary'!E60,0,1,1),\"\")","v":""},{"$f":"IFERROR(OFFSET(CalculationsAndCharts!$AJ$32,'Transaction Summary'!E60,0,1,1),\"\")","v":""},"","",null,{"$f":"IFERROR(MATCH(TRUE,OFFSET(CalculationsAndCharts!$AN$33,K59,0,'Transaction Summary'!$C$2-K59,1),0)+K59,\"\")","v":""},{"$f":"IFERROR(OFFSET(CalculationsAndCharts!$B$32,'Transaction Summary'!K60,0,1,1),\"\")","v":""},{"$f":"IFERROR(OFFSET(CalculationsAndCharts!$AR$32,'Transaction Summary'!K60,0,1,1),\"\")","v":""},{"$f":"IFERROR(MATCH(TRUE,OFFSET(CalculationsAndCharts!$AQ$33,N59,0,'Transaction Summary'!$C$2-N59,1),0)+N59,\"\")","v":""},{"$f":"IFERROR(OFFSET(CalculationsAndCharts!$B$32,'Transaction Summary'!N60,0,1,1),\"\")","v":""},{"$f":"IFERROR(OFFSET(CalculationsAndCharts!$AS$32,'Transaction Summary'!N60,0,1,1),\"\")","v":""},"",""]
[null,{"$f":"IFERROR(MATCH(TRUE,OFFSET(CalculationsAndCharts!$AE$33,B60,0,'Transaction Summary'!$C$2-B60,1),0)+B60,\"\")","v":""},{"$f":"IFERROR(OFFSET(CalculationsAndCharts!$B$32,'Transaction Summary'!B61,0,1,1),\"\")","v":""},{"$f":"IFERROR(OFFSET(CalculationsAndCharts!$AI$32,'Transaction Summary'!B61,0,1,1),\"\")","v":""},{"$f":"IFERROR(MATCH(TRUE,OFFSET(CalculationsAndCharts!$AH$33,E60,0,'Transaction Summary'!$C$2-E60,1),0)+E60,\"\")","v":""},{"$f":"IFERROR(OFFSET(CalculationsAndCharts!$B$32,'Transaction Summary'!E61,0,1,1),\"\")","v":""},{"$f":"IFERROR(OFFSET(CalculationsAndCharts!$AJ$32,'Transaction Summary'!E61,0,1,1),\"\")","v":""},"","",null,{"$f":"IFERROR(MATCH(TRUE,OFFSET(CalculationsAndCharts!$AN$33,K60,0,'Transaction Summary'!$C$2-K60,1),0)+K60,\"\")","v":""},{"$f":"IFERROR(OFFSET(CalculationsAndCharts!$B$32,'Transaction Summary'!K61,0,1,1),\"\")","v":""},{"$f":"IFERROR(OFFSET(CalculationsAndCharts!$AR$32,'Transaction Summary'!K61,0,1,1),\"\")","v":""},{"$f":"IFERROR(MATCH(TRUE,OFFSET(CalculationsAndCharts!$AQ$33,N60,0,'Transaction Summary'!$C$2-N60,1),0)+N60,\"\")","v":""},{"$f":"IFERROR(OFFSET(CalculationsAndCharts!$B$32,'Transaction Summary'!N61,0,1,1),\"\")","v":""},{"$f":"IFERROR(OFFSET(CalculationsAndCharts!$AS$32,'Transaction Summary'!N61,0,1,1),\"\")","v":""},"",""]
[null,{"$f":"IFERROR(MATCH(TRUE,OFFSET(CalculationsAndCharts!$AE$33,B61,0,'Transaction Summary'!$C$2-B61,1),0)+B61,\"\")","v":""},{"$f":"IFERROR(OFFSET(CalculationsAndCharts!$B$32,'Transaction Summary'!B62,0,1,1),\"\")","v":""},{"$f":"IFERROR(OFFSET(CalculationsAndCharts!$AI$32,'Transaction Summary'!B62,0,1,1),\"\")","v":""},{"$f":"IFERROR(MATCH(TRUE,OFFSET(CalculationsAndCharts!$AH$33,E61,0,'Transaction Summary'!$C$2-E61,1),0)+E61,\"\")","v":""},{"$f":"IFERROR(OFFSET(CalculationsAndCharts!$B$32,'Transaction Summary'!E62,0,1,1),\"\")","v":""},{"$f":"IFERROR(OFFSET(CalculationsAndCharts!$AJ$32,'Transaction Summary'!E62,0,1,1),\"\")","v":""},"","",null,{"$f":"IFERROR(MATCH(TRUE,OFFSET(CalculationsAndCharts!$AN$33,K61,0,'Transaction Summary'!$C$2-K61,1),0)+K61,\"\")","v":""},{"$f":"IFERROR(OFFSET(CalculationsAndCharts!$B$32,'Transaction Summary'!K62,0,1,1),\"\")","v":""},{"$f":"IFERROR(OFFSET(CalculationsAndCharts!$AR$32,'Transaction Summary'!K62,0,1,1),\"\")","v":""},{"$f":"IFERROR(MATCH(TRUE,OFFSET(CalculationsAndCharts!$AQ$33,N61,0,'Transaction Summary'!$C$2-N61,1),0)+N61,\"\")","v":""},{"$f":"IFERROR(OFFSET(CalculationsAndCharts!$B$32,'Transaction Summary'!N62,0,1,1),\"\")","v":""},{"$f":"IFERROR(OFFSET(CalculationsAndCharts!$AS$32,'Transaction Summary'!N62,0,1,1),\"\")","v":""},"",""]
[null,{"$f":"IFERROR(MATCH(TRUE,OFFSET(CalculationsAndCharts!$AE$33,B62,0,'Transaction Summary'!$C$2-B62,1),0)+B62,\"\")","v":""},{"$f":"IFERROR(OFFSET(CalculationsAndCharts!$B$32,'Transaction Summary'!B63,0,1,1),\"\")","v":""},{"$f":"IFERROR(OFFSET(CalculationsAndCharts!$AI$32,'Transaction Summary'!B63,0,1,1),\"\")","v":""},{"$f":"IFERROR(MATCH(TRUE,OFFSET(CalculationsAndCharts!$AH$33,E62,0,'Transaction Summary'!$C$2-E62,1),0)+E62,\"\")","v":""},{"$f":"IFERROR(OFFSET(CalculationsAndCharts!$B$32,'Transaction Summary'!E63,0,1,1),\"\")","v":""},{"$f":"IFERROR(OFFSET(CalculationsAndCharts!$AJ$32,'Transaction Summary'!E63,0,1,1),\"\")","v":""},"","",null,{"$f":"IFERROR(MATCH(TRUE,OFFSET(CalculationsAndCharts!$AN$33,K62,0,'Transaction Summary'!$C$2-K62,1),0)+K62,\"\")","v":""},{"$f":"IFERROR(OFFSET(CalculationsAndCharts!$B$32,'Transaction Summary'!K63,0,1,1),\"\")","v":""},{"$f":"IFERROR(OFFSET(CalculationsAndCharts!$AR$32,'Transaction Summary'!K63,0,1,1),\"\")","v":""},{"$f":"IFERROR(MATCH(TRUE,OFFSET(CalculationsAndCharts!$AQ$33,N62,0,'Transaction Summary'!$C$2-N62,1),0)+N62,\"\")","v":""},{"$f":"IFERROR(OFFSET(CalculationsAndCharts!$B$32,'Transaction Summary'!N63,0,1,1),\"\")","v":""},{"$f":"IFERROR(OFFSET(CalculationsAndCharts!$AS$32,'Transaction Summary'!N63,0,1,1),\"\")","v":""},"",""]
[null,{"$f":"IFERROR(MATCH(TRUE,OFFSET(CalculationsAndCharts!$AE$33,B63,0,'Transaction Summary'!$C$2-B63,1),0)+B63,\"\")","v":""},{"$f":"IFERROR(OFFSET(CalculationsAndCharts!$B$32,'Transaction Summary'!B64,0,1,1),\"\")","v":""},{"$f":"IFERROR(OFFSET(CalculationsAndCharts!$AI$32,'Transaction Summary'!B64,0,1,1),\"\")","v":""},{"$f":"IFERROR(MATCH(TRUE,OFFSET(CalculationsAndCharts!$AH$33,E63,0,'Transaction Summary'!$C$2-E63,1),0)+E63,\"\")","v":""},{"$f":"IFERROR(OFFSET(CalculationsAndCharts!$B$32,'Transaction Summary'!E64,0,1,1),\"\")","v":""},{"$f":"IFERROR(OFFSET(CalculationsAndCharts!$AJ$32,'Transaction Summary'!E64,0,1,1),\"\")","v":""},"","",null,{"$f":"IFERROR(MATCH(TRUE,OFFSET(CalculationsAndCharts!$AN$33,K63,0,'Transaction Summary'!$C$2-K63,1),0)+K63,\"\")","v":""},{"$f":"IFERROR(OFFSET(CalculationsAndCharts!$B$32,'Transaction Summary'!K64,0,1,1),\"\")","v":""},{"$f":"IFERROR(OFFSET(CalculationsAndCharts!$AR$32,'Transaction Summary'!K64,0,1,1),\"\")","v":""},{"$f":"IFERROR(MATCH(TRUE,OFFSET(CalculationsAndCharts!$AQ$33,N63,0,'Transaction Summary'!$C$2-N63,1),0)+N63,\"\")","v":""},{"$f":"IFERROR(OFFSET(CalculationsAndCharts!$B$32,'Transaction Summary'!N64,0,1,1),\"\")","v":""},{"$f":"IFERROR(OFFSET(CalculationsAndCharts!$AS$32,'Transaction Summary'!N64,0,1,1),\"\")","v":""},"",""]
[null,{"$f":"IFERROR(MATCH(TRUE,OFFSET(CalculationsAndCharts!$AE$33,B64,0,'Transaction Summary'!$C$2-B64,1),0)+B64,\"\")","v":""},{"$f":"IFERROR(OFFSET(CalculationsAndCharts!$B$32,'Transaction Summary'!B65,0,1,1),\"\")","v":""},{"$f":"IFERROR(OFFSET(CalculationsAndCharts!$AI$32,'Transaction Summary'!B65,0,1,1),\"\")","v":""},{"$f":"IFERROR(MATCH(TRUE,OFFSET(CalculationsAndCharts!$AH$33,E64,0,'Transaction Summary'!$C$2-E64,1),0)+E64,\"\")","v":""},{"$f":"IFERROR(OFFSET(CalculationsAndCharts!$B$32,'Transaction Summary'!E65,0,1,1),\"\")","v":""},{"$f":"IFERROR(OFFSET(CalculationsAndCharts!$AJ$32,'Transaction Summary'!E65,0,1,1),\"\")","v":""},"","",null,{"$f":"IFERROR(MATCH(TRUE,OFFSET(CalculationsAndCharts!$AN$33,K64,0,'Transaction Summary'!$C$2-K64,1),0)+K64,\"\")","v":""},{"$f":"IFERROR(OFFSET(CalculationsAndCharts!$B$32,'Transaction Summary'!K65,0,1,1),\"\")","v":""},{"$f":"IFERROR(OFFSET(CalculationsAndCharts!$AR$32,'Transaction Summary'!K65,0,1,1),\"\")","v":""},{"$f":"IFERROR(MATCH(TRUE,OFFSET(CalculationsAndCharts!$AQ$33,N64,0,'Transaction Summary'!$C$2-N64,1),0)+N64,\"\")","v":""},{"$f":"IFERROR(OFFSET(CalculationsAndCharts!$B$32,'Transaction Summary'!N65,0,1,1),\"\")","v":""},{"$f":"IFERROR(OFFSET(CalculationsAndCharts!$AS$32,'Transaction Summary'!N65,0,1,1),\"\")","v":""},"",""]
[null,{"$f":"IFERROR(MATCH(TRUE,OFFSET(CalculationsAndCharts!$AE$33,B65,0,'Transaction Summary'!$C$2-B65,1),0)+B65,\"\")","v":""},{"$f":"IFERROR(OFFSET(CalculationsAndCharts!$B$32,'Transaction Summary'!B66,0,1,1),\"\")","v":""},{"$f":"IFERROR(OFFSET(CalculationsAndCharts!$AI$32,'Transaction Summary'!B66,0,1,1),\"\")","v":""},{"$f":"IFERROR(MATCH(TRUE,OFFSET(CalculationsAndCharts!$AH$33,E65,0,'Transaction Summary'!$C$2-E65,1),0)+E65,\"\")","v":""},{"$f":"IFERROR(OFFSET(CalculationsAndCharts!$B$32,'Transaction Summary'!E66,0,1,1),\"\")","v":""},{"$f":"IFERROR(OFFSET(CalculationsAndCharts!$AJ$32,'Transaction Summary'!E66,0,1,1),\"\")","v":""},"","",null,{"$f":"IFERROR(MATCH(TRUE,OFFSET(CalculationsAndCharts!$AN$33,K65,0,'Transaction Summary'!$C$2-K65,1),0)+K65,\"\")","v":""},{"$f":"IFERROR(OFFSET(CalculationsAndCharts!$B$32,'Transaction Summary'!K66,0,1,1),\"\")","v":""},{"$f":"IFERROR(OFFSET(CalculationsAndCharts!$AR$32,'Transaction Summary'!K66,0,1,1),\"\")","v":""},{"$f":"IFERROR(MATCH(TRUE,OFFSET(CalculationsAndCharts!$AQ$33,N65,0,'Transaction Summary'!$C$2-N65,1),0)+N65,\"\")","v":""},{"$f":"IFERROR(OFFSET(CalculationsAndCharts!$B$32,'Transaction Summary'!N66,0,1,1),\"\")","v":""},{"$f":"IFERROR(OFFSET(CalculationsAndCharts!$AS$32,'Transaction Summary'!N66,0,1,1),\"\")","v":""},"",""]
[null,{"$f":"IFERROR(MATCH(TRUE,OFFSET(CalculationsAndCharts!$AE$33,B66,0,'Transaction Summary'!$C$2-B66,1),0)+B66,\"\")","v":""},{"$f":"IFERROR(OFFSET(CalculationsAndCharts!$B$32,'Transaction Summary'!B67,0,1,1),\"\")","v":""},{"$f":"IFERROR(OFFSET(CalculationsAndCharts!$AI$32,'Transaction Summary'!B67,0,1,1),\"\")","v":""},{"$f":"IFERROR(MATCH(TRUE,OFFSET(CalculationsAndCharts!$AH$33,E66,0,'Transaction Summary'!$C$2-E66,1),0)+E66,\"\")","v":""},{"$f":"IFERROR(OFFSET(CalculationsAndCharts!$B$32,'Transaction Summary'!E67,0,1,1),\"\")","v":""},{"$f":"IFERROR(OFFSET(CalculationsAndCharts!$AJ$32,'Transaction Summary'!E67,0,1,1),\"\")","v":""},"","",null,{"$f":"IFERROR(MATCH(TRUE,OFFSET(CalculationsAndCharts!$AN$33,K66,0,'Transaction Summary'!$C$2-K66,1),0)+K66,\"\")","v":""},{"$f":"IFERROR(OFFSET(CalculationsAndCharts!$B$32,'Transaction Summary'!K67,0,1,1),\"\")","v":""},{"$f":"IFERROR(OFFSET(CalculationsAndCharts!$AR$32,'Transaction Summary'!K67,0,1,1),\"\")","v":""},{"$f":"IFERROR(MATCH(TRUE,OFFSET(CalculationsAndCharts!$AQ$33,N66,0,'Transaction Summary'!$C$2-N66,1),0)+N66,\"\")","v":""},{"$f":"IFERROR(OFFSET(CalculationsAndCharts!$B$32,'Transaction Summary'!N67,0,1,1),\"\")","v":""},{"$f":"IFERROR(OFFSET(CalculationsAndCharts!$AS$32,'Transaction Summary'!N67,0,1,1),\"\")","v":""},"",""]
[null,{"$f":"IFERROR(MATCH(TRUE,OFFSET(CalculationsAndCharts!$AE$33,B67,0,'Transaction Summary'!$C$2-B67,1),0)+B67,\"\")","v":""},{"$f":"IFERROR(OFFSET(CalculationsAndCharts!$B$32,'Transaction Summary'!B68,0,1,1),\"\")","v":""},{"$f":"IFERROR(OFFSET(CalculationsAndCharts!$AI$32,'Transaction Summary'!B68,0,1,1),\"\")","v":""},{"$f":"IFERROR(MATCH(TRUE,OFFSET(CalculationsAndCharts!$AH$33,E67,0,'Transaction Summary'!$C$2-E67,1),0)+E67,\"\")","v":""},{"$f":"IFERROR(OFFSET(CalculationsAndCharts!$B$32,'Transaction Summary'!E68,0,1,1),\"\")","v":""},{"$f":"IFERROR(OFFSET(CalculationsAndCharts!$AJ$32,'Transaction Summary'!E68,0,1,1),\"\")","v":""},"","",null,{"$f":"IFERROR(MATCH(TRUE,OFFSET(CalculationsAndCharts!$AN$33,K67,0,'Transaction Summary'!$C$2-K67,1),0)+K67,\"\")","v":""},{"$f":"IFERROR(OFFSET(CalculationsAndCharts!$B$32,'Transaction Summary'!K68,0,1,1),\"\")","v":""},{"$f":"IFERROR(OFFSET(CalculationsAndCharts!$AR$32,'Transaction Summary'!K68,0,1,1),\"\")","v":""},{"$f":"IFERROR(MATCH(TRUE,OFFSET(CalculationsAndCharts!$AQ$33,N67,0,'Transaction Summary'!$C$2-N67,1),0)+N67,\"\")","v":""},{"$f":"IFERROR(OFFSET(CalculationsAndCharts!$B$32,'Transaction Summary'!N68,0,1,1),\"\")","v":""},{"$f":"IFERROR(OFFSET(CalculationsAndCharts!$AS$32,'Transaction Summary'!N68,0,1,1),\"\")","v":""},"",""]
[null,{"$f":"IFERROR(MATCH(TRUE,OFFSET(CalculationsAndCharts!$AE$33,B68,0,'Transaction Summary'!$C$2-B68,1),0)+B68,\"\")","v":""},{"$f":"IFERROR(OFFSET(CalculationsAndCharts!$B$32,'Transaction Summary'!B69,0,1,1),\"\")","v":""},{"$f":"IFERROR(OFFSET(CalculationsAndCharts!$AI$32,'Transaction Summary'!B69,0,1,1),\"\")","v":""},{"$f":"IFERROR(MATCH(TRUE,OFFSET(CalculationsAndCharts!$AH$33,E68,0,'Transaction Summary'!$C$2-E68,1),0)+E68,\"\")","v":""},{"$f":"IFERROR(OFFSET(CalculationsAndCharts!$B$32,'Transaction Summary'!E69,0,1,1),\"\")","v":""},{"$f":"IFERROR(OFFSET(CalculationsAndCharts!$AJ$32,'Transaction Summary'!E69,0,1,1),\"\")","v":""},"","",null,{"$f":"IFERROR(MATCH(TRUE,OFFSET(CalculationsAndCharts!$AN$33,K68,0,'Transaction Summary'!$C$2-K68,1),0)+K68,\"\")","v":""},{"$f":"IFERROR(OFFSET(CalculationsAndCharts!$B$32,'Transaction Summary'!K69,0,1,1),\"\")","v":""},{"$f":"IFERROR(OFFSET(CalculationsAndCharts!$AR$32,'Transaction Summary'!K69,0,1,1),\"\")","v":""},{"$f":"IFERROR(MATCH(TRUE,OFFSET(CalculationsAndCharts!$AQ$33,N68,0,'Transaction Summary'!$C$2-N68,1),0)+N68,\"\")","v":""},{"$f":"IFERROR(OFFSET(CalculationsAndCharts!$B$32,'Transaction Summary'!N69,0,1,1),\"\")","v":""},{"$f":"IFERROR(OFFSET(CalculationsAndCharts!$AS$32,'Transaction Summary'!N69,0,1,1),\"\")","v":""},"",""]
[null,{"$f":"IFERROR(MATCH(TRUE,OFFSET(CalculationsAndCharts!$AE$33,B69,0,'Transaction Summary'!$C$2-B69,1),0)+B69,\"\")","v":""},{"$f":"IFERROR(OFFSET(CalculationsAndCharts!$B$32,'Transaction Summary'!B70,0,1,1),\"\")","v":""},{"$f":"IFERROR(OFFSET(CalculationsAndCharts!$AI$32,'Transaction Summary'!B70,0,1,1),\"\")","v":""},{"$f":"IFERROR(MATCH(TRUE,OFFSET(CalculationsAndCharts!$AH$33,E69,0,'Transaction Summary'!$C$2-E69,1),0)+E69,\"\")","v":""},{"$f":"IFERROR(OFFSET(CalculationsAndCharts!$B$32,'Transaction Summary'!E70,0,1,1),\"\")","v":""},{"$f":"IFERROR(OFFSET(CalculationsAndCharts!$AJ$32,'Transaction Summary'!E70,0,1,1),\"\")","v":""},"","",null,{"$f":"IFERROR(MATCH(TRUE,OFFSET(CalculationsAndCharts!$AN$33,K69,0,'Transaction Summary'!$C$2-K69,1),0)+K69,\"\")","v":""},{"$f":"IFERROR(OFFSET(CalculationsAndCharts!$B$32,'Transaction Summary'!K70,0,1,1),\"\")","v":""},{"$f":"IFERROR(OFFSET(CalculationsAndCharts!$AR$32,'Transaction Summary'!K70,0,1,1),\"\")","v":""},{"$f":"IFERROR(MATCH(TRUE,OFFSET(CalculationsAndCharts!$AQ$33,N69,0,'Transaction Summary'!$C$2-N69,1),0)+N69,\"\")","v":""},{"$f":"IFERROR(OFFSET(CalculationsAndCharts!$B$32,'Transaction Summary'!N70,0,1,1),\"\")","v":""},{"$f":"IFERROR(OFFSET(CalculationsAndCharts!$AS$32,'Transaction Summary'!N70,0,1,1),\"\")","v":""},"",""]
[null,{"$f":"IFERROR(MATCH(TRUE,OFFSET(CalculationsAndCharts!$AE$33,B70,0,'Transaction Summary'!$C$2-B70,1),0)+B70,\"\")","v":""},{"$f":"IFERROR(OFFSET(CalculationsAndCharts!$B$32,'Transaction Summary'!B71,0,1,1),\"\")","v":""},{"$f":"IFERROR(OFFSET(CalculationsAndCharts!$AI$32,'Transaction Summary'!B71,0,1,1),\"\")","v":""},{"$f":"IFERROR(MATCH(TRUE,OFFSET(CalculationsAndCharts!$AH$33,E70,0,'Transaction Summary'!$C$2-E70,1),0)+E70,\"\")","v":""},{"$f":"IFERROR(OFFSET(CalculationsAndCharts!$B$32,'Transaction Summary'!E71,0,1,1),\"\")","v":""},{"$f":"IFERROR(OFFSET(CalculationsAndCharts!$AJ$32,'Transaction Summary'!E71,0,1,1),\"\")","v":""},"","",null,{"$f":"IFERROR(MATCH(TRUE,OFFSET(CalculationsAndCharts!$AN$33,K70,0,'Transaction Summary'!$C$2-K70,1),0)+K70,\"\")","v":""},{"$f":"IFERROR(OFFSET(CalculationsAndCharts!$B$32,'Transaction Summary'!K71,0,1,1),\"\")","v":""},{"$f":"IFERROR(OFFSET(CalculationsAndCharts!$AR$32,'Transaction Summary'!K71,0,1,1),\"\")","v":""},{"$f":"IFERROR(MATCH(TRUE,OFFSET(CalculationsAndCharts!$AQ$33,N70,0,'Transaction Summary'!$C$2-N70,1),0)+N70,\"\")","v":""},{"$f":"IFERROR(OFFSET(CalculationsAndCharts!$B$32,'Transaction Summary'!N71,0,1,1),\"\")","v":""},{"$f":"IFERROR(OFFSET(CalculationsAndCharts!$AS$32,'Transaction Summary'!N71,0,1,1),\"\")","v":""},"",""]
[null,{"$f":"IFERROR(MATCH(TRUE,OFFSET(CalculationsAndCharts!$AE$33,B71,0,'Transaction Summary'!$C$2-B71,1),0)+B71,\"\")","v":""},{"$f":"IFERROR(OFFSET(CalculationsAndCharts!$B$32,'Transaction Summary'!B72,0,1,1),\"\")","v":""},{"$f":"IFERROR(OFFSET(CalculationsAndCharts!$AI$32,'Transaction Summary'!B72,0,1,1),\"\")","v":""},{"$f":"IFERROR(MATCH(TRUE,OFFSET(CalculationsAndCharts!$AH$33,E71,0,'Transaction Summary'!$C$2-E71,1),0)+E71,\"\")","v":""},{"$f":"IFERROR(OFFSET(CalculationsAndCharts!$B$32,'Transaction Summary'!E72,0,1,1),\"\")","v":""},{"$f":"IFERROR(OFFSET(CalculationsAndCharts!$AJ$32,'Transaction Summary'!E72,0,1,1),\"\")","v":""},"","",null,{"$f":"IFERROR(MATCH(TRUE,OFFSET(CalculationsAndCharts!$AN$33,K71,0,'Transaction Summary'!$C$2-K71,1),0)+K71,\"\")","v":""},{"$f":"IFERROR(OFFSET(CalculationsAndCharts!$B$32,'Transaction Summary'!K72,0,1,1),\"\")","v":""},{"$f":"IFERROR(OFFSET(CalculationsAndCharts!$AR$32,'Transaction Summary'!K72,0,1,1),\"\")","v":""},{"$f":"IFERROR(MATCH(TRUE,OFFSET(CalculationsAndCharts!$AQ$33,N71,0,'Transaction Summary'!$C$2-N71,1),0)+N71,\"\")","v":""},{"$f":"IFERROR(OFFSET(CalculationsAndCharts!$B$32,'Transaction Summary'!N72,0,1,1),\"\")","v":""},{"$f":"IFERROR(OFFSET(CalculationsAndCharts!$AS$32,'Transaction Summary'!N72,0,1,1),\"\")","v":""},"",""]
[null,{"$f":"IFERROR(MATCH(TRUE,OFFSET(CalculationsAndCharts!$AE$33,B72,0,'Transaction Summary'!$C$2-B72,1),0)+B72,\"\")","v":""},{"$f":"IFERROR(OFFSET(CalculationsAndCharts!$B$32,'Transaction Summary'!B73,0,1,1),\"\")","v":""},{"$f":"IFERROR(OFFSET(CalculationsAndCharts!$AI$32,'Transaction Summary'!B73,0,1,1),\"\")","v":""},{"$f":"IFERROR(MATCH(TRUE,OFFSET(CalculationsAndCharts!$AH$33,E72,0,'Transaction Summary'!$C$2-E72,1),0)+E72,\"\")","v":""},{"$f":"IFERROR(OFFSET(CalculationsAndCharts!$B$32,'Transaction Summary'!E73,0,1,1),\"\")","v":""},{"$f":"IFERROR(OFFSET(CalculationsAndCharts!$AJ$32,'Transaction Summary'!E73,0,1,1),\"\")","v":""},"","",null,{"$f":"IFERROR(MATCH(TRUE,OFFSET(CalculationsAndCharts!$AN$33,K72,0,'Transaction Summary'!$C$2-K72,1),0)+K72,\"\")","v":""},{"$f":"IFERROR(OFFSET(CalculationsAndCharts!$B$32,'Transaction Summary'!K73,0,1,1),\"\")","v":""},{"$f":"IFERROR(OFFSET(CalculationsAndCharts!$AR$32,'Transaction Summary'!K73,0,1,1),\"\")","v":""},{"$f":"IFERROR(MATCH(TRUE,OFFSET(CalculationsAndCharts!$AQ$33,N72,0,'Transaction Summary'!$C$2-N72,1),0)+N72,\"\")","v":""},{"$f":"IFERROR(OFFSET(CalculationsAndCharts!$B$32,'Transaction Summary'!N73,0,1,1),\"\")","v":""},{"$f":"IFERROR(OFFSET(CalculationsAndCharts!$AS$32,'Transaction Summary'!N73,0,1,1),\"\")","v":""},"",""]
[null,{"$f":"IFERROR(MATCH(TRUE,OFFSET(CalculationsAndCharts!$AE$33,B73,0,'Transaction Summary'!$C$2-B73,1),0)+B73,\"\")","v":""},{"$f":"IFERROR(OFFSET(CalculationsAndCharts!$B$32,'Transaction Summary'!B74,0,1,1),\"\")","v":""},{"$f":"IFERROR(OFFSET(CalculationsAndCharts!$AI$32,'Transaction Summary'!B74,0,1,1),\"\")","v":""},{"$f":"IFERROR(MATCH(TRUE,OFFSET(CalculationsAndCharts!$AH$33,E73,0,'Transaction Summary'!$C$2-E73,1),0)+E73,\"\")","v":""},{"$f":"IFERROR(OFFSET(CalculationsAndCharts!$B$32,'Transaction Summary'!E74,0,1,1),\"\")","v":""},{"$f":"IFERROR(OFFSET(CalculationsAndCharts!$AJ$32,'Transaction Summary'!E74,0,1,1),\"\")","v":""},"","",null,{"$f":"IFERROR(MATCH(TRUE,OFFSET(CalculationsAndCharts!$AN$33,K73,0,'Transaction Summary'!$C$2-K73,1),0)+K73,\"\")","v":""},{"$f":"IFERROR(OFFSET(CalculationsAndCharts!$B$32,'Transaction Summary'!K74,0,1,1),\"\")","v":""},{"$f":"IFERROR(OFFSET(CalculationsAndCharts!$AR$32,'Transaction Summary'!K74,0,1,1),\"\")","v":""},{"$f":"IFERROR(MATCH(TRUE,OFFSET(CalculationsAndCharts!$AQ$33,N73,0,'Transaction Summary'!$C$2-N73,1),0)+N73,\"\")","v":""},{"$f":"IFERROR(OFFSET(CalculationsAndCharts!$B$32,'Transaction Summary'!N74,0,1,1),\"\")","v":""},{"$f":"IFERROR(OFFSET(CalculationsAndCharts!$AS$32,'Transaction Summary'!N74,0,1,1),\"\")","v":""},"",""]
[null,{"$f":"IFERROR(MATCH(TRUE,OFFSET(CalculationsAndCharts!$AE$33,B74,0,'Transaction Summary'!$C$2-B74,1),0)+B74,\"\")","v":""},{"$f":"IFERROR(OFFSET(CalculationsAndCharts!$B$32,'Transaction Summary'!B75,0,1,1),\"\")","v":""},{"$f":"IFERROR(OFFSET(CalculationsAndCharts!$AI$32,'Transaction Summary'!B75,0,1,1),\"\")","v":""},{"$f":"IFERROR(MATCH(TRUE,OFFSET(CalculationsAndCharts!$AH$33,E74,0,'Transaction Summary'!$C$2-E74,1),0)+E74,\"\")","v":""},{"$f":"IFERROR(OFFSET(CalculationsAndCharts!$B$32,'Transaction Summary'!E75,0,1,1),\"\")","v":""},{"$f":"IFERROR(OFFSET(CalculationsAndCharts!$AJ$32,'Transaction Summary'!E75,0,1,1),\"\")","v":""},"","",null,{"$f":"IFERROR(MATCH(TRUE,OFFSET(CalculationsAndCharts!$AN$33,K74,0,'Transaction Summary'!$C$2-K74,1),0)+K74,\"\")","v":""},{"$f":"IFERROR(OFFSET(CalculationsAndCharts!$B$32,'Transaction Summary'!K75,0,1,1),\"\")","v":""},{"$f":"IFERROR(OFFSET(CalculationsAndCharts!$AR$32,'Transaction Summary'!K75,0,1,1),\"\")","v":""},{"$f":"IFERROR(MATCH(TRUE,OFFSET(CalculationsAndCharts!$AQ$33,N74,0,'Transaction Summary'!$C$2-N74,1),0)+N74,\"\")","v":""},{"$f":"IFERROR(OFFSET(CalculationsAndCharts!$B$32,'Transaction Summary'!N75,0,1,1),\"\")","v":""},{"$f":"IFERROR(OFFSET(CalculationsAndCharts!$AS$32,'Transaction Summary'!N75,0,1,1),\"\")","v":""},"",""]
[null,{"$f":"IFERROR(MATCH(TRUE,OFFSET(CalculationsAndCharts!$AE$33,B75,0,'Transaction Summary'!$C$2-B75,1),0)+B75,\"\")","v":""},{"$f":"IFERROR(OFFSET(CalculationsAndCharts!$B$32,'Transaction Summary'!B76,0,1,1),\"\")","v":""},{"$f":"IFERROR(OFFSET(CalculationsAndCharts!$AI$32,'Transaction Summary'!B76,0,1,1),\"\")","v":""},{"$f":"IFERROR(MATCH(TRUE,OFFSET(CalculationsAndCharts!$AH$33,E75,0,'Transaction Summary'!$C$2-E75,1),0)+E75,\"\")","v":""},{"$f":"IFERROR(OFFSET(CalculationsAndCharts!$B$32,'Transaction Summary'!E76,0,1,1),\"\")","v":""},{"$f":"IFERROR(OFFSET(CalculationsAndCharts!$AJ$32,'Transaction Summary'!E76,0,1,1),\"\")","v":""},"","",null,{"$f":"IFERROR(MATCH(TRUE,OFFSET(CalculationsAndCharts!$AN$33,K75,0,'Transaction Summary'!$C$2-K75,1),0)+K75,\"\")","v":""},{"$f":"IFERROR(OFFSET(CalculationsAndCharts!$B$32,'Transaction Summary'!K76,0,1,1),\"\")","v":""},{"$f":"IFERROR(OFFSET(CalculationsAndCharts!$AR$32,'Transaction Summary'!K76,0,1,1),\"\")","v":""},{"$f":"IFERROR(MATCH(TRUE,OFFSET(CalculationsAndCharts!$AQ$33,N75,0,'Transaction Summary'!$C$2-N75,1),0)+N75,\"\")","v":""},{"$f":"IFERROR(OFFSET(CalculationsAndCharts!$B$32,'Transaction Summary'!N76,0,1,1),\"\")","v":""},{"$f":"IFERROR(OFFSET(CalculationsAndCharts!$AS$32,'Transaction Summary'!N76,0,1,1),\"\")","v":""},"",""]
[null,{"$f":"IFERROR(MATCH(TRUE,OFFSET(CalculationsAndCharts!$AE$33,B76,0,'Transaction Summary'!$C$2-B76,1),0)+B76,\"\")","v":""},{"$f":"IFERROR(OFFSET(CalculationsAndCharts!$B$32,'Transaction Summary'!B77,0,1,1),\"\")","v":""},{"$f":"IFERROR(OFFSET(CalculationsAndCharts!$AI$32,'Transaction Summary'!B77,0,1,1),\"\")","v":""},{"$f":"IFERROR(MATCH(TRUE,OFFSET(CalculationsAndCharts!$AH$33,E76,0,'Transaction Summary'!$C$2-E76,1),0)+E76,\"\")","v":""},{"$f":"IFERROR(OFFSET(CalculationsAndCharts!$B$32,'Transaction Summary'!E77,0,1,1),\"\")","v":""},{"$f":"IFERROR(OFFSET(CalculationsAndCharts!$AJ$32,'Transaction Summary'!E77,0,1,1),\"\")","v":""},"","",null,{"$f":"IFERROR(MATCH(TRUE,OFFSET(CalculationsAndCharts!$AN$33,K76,0,'Transaction Summary'!$C$2-K76,1),0)+K76,\"\")","v":""},{"$f":"IFERROR(OFFSET(CalculationsAndCharts!$B$32,'Transaction Summary'!K77,0,1,1),\"\")","v":""},{"$f":"IFERROR(OFFSET(CalculationsAndCharts!$AR$32,'Transaction Summary'!K77,0,1,1),\"\")","v":""},{"$f":"IFERROR(MATCH(TRUE,OFFSET(CalculationsAndCharts!$AQ$33,N76,0,'Transaction Summary'!$C$2-N76,1),0)+N76,\"\")","v":""},{"$f":"IFERROR(OFFSET(CalculationsAndCharts!$B$32,'Transaction Summary'!N77,0,1,1),\"\")","v":""},{"$f":"IFERROR(OFFSET(CalculationsAndCharts!$AS$32,'Transaction Summary'!N77,0,1,1),\"\")","v":""},"",""]
[null,{"$f":"IFERROR(MATCH(TRUE,OFFSET(CalculationsAndCharts!$AE$33,B77,0,'Transaction Summary'!$C$2-B77,1),0)+B77,\"\")","v":""},{"$f":"IFERROR(OFFSET(CalculationsAndCharts!$B$32,'Transaction Summary'!B78,0,1,1),\"\")","v":""},{"$f":"IFERROR(OFFSET(CalculationsAndCharts!$AI$32,'Transaction Summary'!B78,0,1,1),\"\")","v":""},{"$f":"IFERROR(MATCH(TRUE,OFFSET(CalculationsAndCharts!$AH$33,E77,0,'Transaction Summary'!$C$2-E77,1),0)+E77,\"\")","v":""},{"$f":"IFERROR(OFFSET(CalculationsAndCharts!$B$32,'Transaction Summary'!E78,0,1,1),\"\")","v":""},{"$f":"IFERROR(OFFSET(CalculationsAndCharts!$AJ$32,'Transaction Summary'!E78,0,1,1),\"\")","v":""},"","",null,{"$f":"IFERROR(MATCH(TRUE,OFFSET(CalculationsAndCharts!$AN$33,K77,0,'Transaction Summary'!$C$2-K77,1),0)+K77,\"\")","v":""},{"$f":"IFERROR(OFFSET(CalculationsAndCharts!$B$32,'Transaction Summary'!K78,0,1,1),\"\")","v":""},{"$f":"IFERROR(OFFSET(CalculationsAndCharts!$AR$32,'Transaction Summary'!K78,0,1,1),\"\")","v":""},{"$f":"IFERROR(MATCH(TRUE,OFFSET(CalculationsAndCharts!$AQ$33,N77,0,'Transaction Summary'!$C$2-N77,1),0)+N77,\"\")","v":""},{"$f":"IFERROR(OFFSET(CalculationsAndCharts!$B$32,'Transaction Summary'!N78,0,1,1),\"\")","v":""},{"$f":"IFERROR(OFFSET(CalculationsAndCharts!$AS$32,'Transaction Summary'!N78,0,1,1),\"\")","v":""},"",""]
[null,{"$f":"IFERROR(MATCH(TRUE,OFFSET(CalculationsAndCharts!$AE$33,B78,0,'Transaction Summary'!$C$2-B78,1),0)+B78,\"\")","v":""},{"$f":"IFERROR(OFFSET(CalculationsAndCharts!$B$32,'Transaction Summary'!B79,0,1,1),\"\")","v":""},{"$f":"IFERROR(OFFSET(CalculationsAndCharts!$AI$32,'Transaction Summary'!B79,0,1,1),\"\")","v":""},{"$f":"IFERROR(MATCH(TRUE,OFFSET(CalculationsAndCharts!$AH$33,E78,0,'Transaction Summary'!$C$2-E78,1),0)+E78,\"\")","v":""},{"$f":"IFERROR(OFFSET(CalculationsAndCharts!$B$32,'Transaction Summary'!E79,0,1,1),\"\")","v":""},{"$f":"IFERROR(OFFSET(CalculationsAndCharts!$AJ$32,'Transaction Summary'!E79,0,1,1),\"\")","v":""},"","",null,{"$f":"IFERROR(MATCH(TRUE,OFFSET(CalculationsAndCharts!$AN$33,K78,0,'Transaction Summary'!$C$2-K78,1),0)+K78,\"\")","v":""},{"$f":"IFERROR(OFFSET(CalculationsAndCharts!$B$32,'Transaction Summary'!K79,0,1,1),\"\")","v":""},{"$f":"IFERROR(OFFSET(CalculationsAndCharts!$AR$32,'Transaction Summary'!K79,0,1,1),\"\")","v":""},{"$f":"IFERROR(MATCH(TRUE,OFFSET(CalculationsAndCharts!$AQ$33,N78,0,'Transaction Summary'!$C$2-N78,1),0)+N78,\"\")","v":""},{"$f":"IFERROR(OFFSET(CalculationsAndCharts!$B$32,'Transaction Summary'!N79,0,1,1),\"\")","v":""},{"$f":"IFERROR(OFFSET(CalculationsAndCharts!$AS$32,'Transaction Summary'!N79,0,1,1),\"\")","v":""},"",""]
[null,{"$f":"IFERROR(MATCH(TRUE,OFFSET(CalculationsAndCharts!$AE$33,B79,0,'Transaction Summary'!$C$2-B79,1),0)+B79,\"\")","v":""},{"$f":"IFERROR(OFFSET(CalculationsAndCharts!$B$32,'Transaction Summary'!B80,0,1,1),\"\")","v":""},{"$f":"IFERROR(OFFSET(CalculationsAndCharts!$AI$32,'Transaction Summary'!B80,0,1,1),\"\")","v":""},{"$f":"IFERROR(MATCH(TRUE,OFFSET(CalculationsAndCharts!$AH$33,E79,0,'Transaction Summary'!$C$2-E79,1),0)+E79,\"\")","v":""},{"$f":"IFERROR(OFFSET(CalculationsAndCharts!$B$32,'Transaction Summary'!E80,0,1,1),\"\")","v":""},{"$f":"IFERROR(OFFSET(CalculationsAndCharts!$AJ$32,'Transaction Summary'!E80,0,1,1),\"\")","v":""},"","",null,{"$f":"IFERROR(MATCH(TRUE,OFFSET(CalculationsAndCharts!$AN$33,K79,0,'Transaction Summary'!$C$2-K79,1),0)+K79,\"\")","v":""},{"$f":"IFERROR(OFFSET(CalculationsAndCharts!$B$32,'Transaction Summary'!K80,0,1,1),\"\")","v":""},{"$f":"IFERROR(OFFSET(CalculationsAndCharts!$AR$32,'Transaction Summary'!K80,0,1,1),\"\")","v":""},{"$f":"IFERROR(MATCH(TRUE,OFFSET(CalculationsAndCharts!$AQ$33,N79,0,'Transaction Summary'!$C$2-N79,1),0)+N79,\"\")","v":""},{"$f":"IFERROR(OFFSET(CalculationsAndCharts!$B$32,'Transaction Summary'!N80,0,1,1),\"\")","v":""},{"$f":"IFERROR(OFFSET(CalculationsAndCharts!$AS$32,'Transaction Summary'!N80,0,1,1),\"\")","v":""},"",""]
[null,{"$f":"IFERROR(MATCH(TRUE,OFFSET(CalculationsAndCharts!$AE$33,B80,0,'Transaction Summary'!$C$2-B80,1),0)+B80,\"\")","v":""},{"$f":"IFERROR(OFFSET(CalculationsAndCharts!$B$32,'Transaction Summary'!B81,0,1,1),\"\")","v":""},{"$f":"IFERROR(OFFSET(CalculationsAndCharts!$AI$32,'Transaction Summary'!B81,0,1,1),\"\")","v":""},{"$f":"IFERROR(MATCH(TRUE,OFFSET(CalculationsAndCharts!$AH$33,E80,0,'Transaction Summary'!$C$2-E80,1),0)+E80,\"\")","v":""},{"$f":"IFERROR(OFFSET(CalculationsAndCharts!$B$32,'Transaction Summary'!E81,0,1,1),\"\")","v":""},{"$f":"IFERROR(OFFSET(CalculationsAndCharts!$AJ$32,'Transaction Summary'!E81,0,1,1),\"\")","v":""},"","",null,{"$f":"IFERROR(MATCH(TRUE,OFFSET(CalculationsAndCharts!$AN$33,K80,0,'Transaction Summary'!$C$2-K80,1),0)+K80,\"\")","v":""},{"$f":"IFERROR(OFFSET(CalculationsAndCharts!$B$32,'Transaction Summary'!K81,0,1,1),\"\")","v":""},{"$f":"IFERROR(OFFSET(CalculationsAndCharts!$AR$32,'Transaction Summary'!K81,0,1,1),\"\")","v":""},{"$f":"IFERROR(MATCH(TRUE,OFFSET(CalculationsAndCharts!$AQ$33,N80,0,'Transaction Summary'!$C$2-N80,1),0)+N80,\"\")","v":""},{"$f":"IFERROR(OFFSET(CalculationsAndCharts!$B$32,'Transaction Summary'!N81,0,1,1),\"\")","v":""},{"$f":"IFERROR(OFFSET(CalculationsAndCharts!$AS$32,'Transaction Summary'!N81,0,1,1),\"\")","v":""},"",""]
[null,{"$f":"IFERROR(MATCH(TRUE,OFFSET(CalculationsAndCharts!$AE$33,B81,0,'Transaction Summary'!$C$2-B81,1),0)+B81,\"\")","v":""},{"$f":"IFERROR(OFFSET(CalculationsAndCharts!$B$32,'Transaction Summary'!B82,0,1,1),\"\")","v":""},{"$f":"IFERROR(OFFSET(CalculationsAndCharts!$AI$32,'Transaction Summary'!B82,0,1,1),\"\")","v":""},{"$f":"IFERROR(MATCH(TRUE,OFFSET(CalculationsAndCharts!$AH$33,E81,0,'Transaction Summary'!$C$2-E81,1),0)+E81,\"\")","v":""},{"$f":"IFERROR(OFFSET(CalculationsAndCharts!$B$32,'Transaction Summary'!E82,0,1,1),\"\")","v":""},{"$f":"IFERROR(OFFSET(CalculationsAndCharts!$AJ$32,'Transaction Summary'!E82,0,1,1),\"\")","v":""},"","",null,{"$f":"IFERROR(MATCH(TRUE,OFFSET(CalculationsAndCharts!$AN$33,K81,0,'Transaction Summary'!$C$2-K81,1),0)+K81,\"\")","v":""},{"$f":"IFERROR(OFFSET(CalculationsAndCharts!$B$32,'Transaction Summary'!K82,0,1,1),\"\")","v":""},{"$f":"IFERROR(OFFSET(CalculationsAndCharts!$AR$32,'Transaction Summary'!K82,0,1,1),\"\")","v":""},{"$f":"IFERROR(MATCH(TRUE,OFFSET(CalculationsAndCharts!$AQ$33,N81,0,'Transaction Summary'!$C$2-N81,1),0)+N81,\"\")","v":""},{"$f":"IFERROR(OFFSET(CalculationsAndCharts!$B$32,'Transaction Summary'!N82,0,1,1),\"\")","v":""},{"$f":"IFERROR(OFFSET(CalculationsAndCharts!$AS$32,'Transaction Summary'!N82,0,1,1),\"\")","v":""},"",""]
[null,{"$f":"IFERROR(MATCH(TRUE,OFFSET(CalculationsAndCharts!$AE$33,B82,0,'Transaction Summary'!$C$2-B82,1),0)+B82,\"\")","v":""},{"$f":"IFERROR(OFFSET(CalculationsAndCharts!$B$32,'Transaction Summary'!B83,0,1,1),\"\")","v":""},{"$f":"IFERROR(OFFSET(CalculationsAndCharts!$AI$32,'Transaction Summary'!B83,0,1,1),\"\")","v":""},{"$f":"IFERROR(MATCH(TRUE,OFFSET(CalculationsAndCharts!$AH$33,E82,0,'Transaction Summary'!$C$2-E82,1),0)+E82,\"\")","v":""},{"$f":"IFERROR(OFFSET(CalculationsAndCharts!$B$32,'Transaction Summary'!E83,0,1,1),\"\")","v":""},{"$f":"IFERROR(OFFSET(CalculationsAndCharts!$AJ$32,'Transaction Summary'!E83,0,1,1),\"\")","v":""},"","",null,{"$f":"IFERROR(MATCH(TRUE,OFFSET(CalculationsAndCharts!$AN$33,K82,0,'Transaction Summary'!$C$2-K82,1),0)+K82,\"\")","v":""},{"$f":"IFERROR(OFFSET(CalculationsAndCharts!$B$32,'Transaction Summary'!K83,0,1,1),\"\")","v":""},{"$f":"IFERROR(OFFSET(CalculationsAndCharts!$AR$32,'Transaction Summary'!K83,0,1,1),\"\")","v":""},{"$f":"IFERROR(MATCH(TRUE,OFFSET(CalculationsAndCharts!$AQ$33,N82,0,'Transaction Summary'!$C$2-N82,1),0)+N82,\"\")","v":""},{"$f":"IFERROR(OFFSET(CalculationsAndCharts!$B$32,'Transaction Summary'!N83,0,1,1),\"\")","v":""},{"$f":"IFERROR(OFFSET(CalculationsAndCharts!$AS$32,'Transaction Summary'!N83,0,1,1),\"\")","v":""},"",""]
[null,{"$f":"IFERROR(MATCH(TRUE,OFFSET(CalculationsAndCharts!$AE$33,B83,0,'Transaction Summary'!$C$2-B83,1),0)+B83,\"\")","v":""},{"$f":"IFERROR(OFFSET(CalculationsAndCharts!$B$32,'Transaction Summary'!B84,0,1,1),\"\")","v":""},{"$f":"IFERROR(OFFSET(CalculationsAndCharts!$AI$32,'Transaction Summary'!B84,0,1,1),\"\")","v":""},{"$f":"IFERROR(MATCH(TRUE,OFFSET(CalculationsAndCharts!$AH$33,E83,0,'Transaction Summary'!$C$2-E83,1),0)+E83,\"\")","v":""},{"$f":"IFERROR(OFFSET(CalculationsAndCharts!$B$32,'Transaction Summary'!E84,0,1,1),\"\")","v":""},{"$f":"IFERROR(OFFSET(CalculationsAndCharts!$AJ$32,'Transaction Summary'!E84,0,1,1),\"\")","v":""},"","",null,{"$f":"IFERROR(MATCH(TRUE,OFFSET(CalculationsAndCharts!$AN$33,K83,0,'Transaction Summary'!$C$2-K83,1),0)+K83,\"\")","v":""},{"$f":"IFERROR(OFFSET(CalculationsAndCharts!$B$32,'Transaction Summary'!K84,0,1,1),\"\")","v":""},{"$f":"IFERROR(OFFSET(CalculationsAndCharts!$AR$32,'Transaction Summary'!K84,0,1,1),\"\")","v":""},{"$f":"IFERROR(MATCH(TRUE,OFFSET(CalculationsAndCharts!$AQ$33,N83,0,'Transaction Summary'!$C$2-N83,1),0)+N83,\"\")","v":""},{"$f":"IFERROR(OFFSET(CalculationsAndCharts!$B$32,'Transaction Summary'!N84,0,1,1),\"\")","v":""},{"$f":"IFERROR(OFFSET(CalculationsAndCharts!$AS$32,'Transaction Summary'!N84,0,1,1),\"\")","v":""},"",""]
[null,{"$f":"IFERROR(MATCH(TRUE,OFFSET(CalculationsAndCharts!$AE$33,B84,0,'Transaction Summary'!$C$2-B84,1),0)+B84,\"\")","v":""},{"$f":"IFERROR(OFFSET(CalculationsAndCharts!$B$32,'Transaction Summary'!B85,0,1,1),\"\")","v":""},{"$f":"IFERROR(OFFSET(CalculationsAndCharts!$AI$32,'Transaction Summary'!B85,0,1,1),\"\")","v":""},{"$f":"IFERROR(MATCH(TRUE,OFFSET(CalculationsAndCharts!$AH$33,E84,0,'Transaction Summary'!$C$2-E84,1),0)+E84,\"\")","v":""},{"$f":"IFERROR(OFFSET(CalculationsAndCharts!$B$32,'Transaction Summary'!E85,0,1,1),\"\")","v":""},{"$f":"IFERROR(OFFSET(CalculationsAndCharts!$AJ$32,'Transaction Summary'!E85,0,1,1),\"\")","v":""},"","",null,{"$f":"IFERROR(MATCH(TRUE,OFFSET(CalculationsAndCharts!$AN$33,K84,0,'Transaction Summary'!$C$2-K84,1),0)+K84,\"\")","v":""},{"$f":"IFERROR(OFFSET(CalculationsAndCharts!$B$32,'Transaction Summary'!K85,0,1,1),\"\")","v":""},{"$f":"IFERROR(OFFSET(CalculationsAndCharts!$AR$32,'Transaction Summary'!K85,0,1,1),\"\")","v":""},{"$f":"IFERROR(MATCH(TRUE,OFFSET(CalculationsAndCharts!$AQ$33,N84,0,'Transaction Summary'!$C$2-N84,1),0)+N84,\"\")","v":""},{"$f":"IFERROR(OFFSET(CalculationsAndCharts!$B$32,'Transaction Summary'!N85,0,1,1),\"\")","v":""},{"$f":"IFERROR(OFFSET(CalculationsAndCharts!$AS$32,'Transaction Summary'!N85,0,1,1),\"\")","v":""},"",""]
[null,{"$f":"IFERROR(MATCH(TRUE,OFFSET(CalculationsAndCharts!$AE$33,B85,0,'Transaction Summary'!$C$2-B85,1),0)+B85,\"\")","v":""},{"$f":"IFERROR(OFFSET(CalculationsAndCharts!$B$32,'Transaction Summary'!B86,0,1,1),\"\")","v":""},{"$f":"IFERROR(OFFSET(CalculationsAndCharts!$AI$32,'Transaction Summary'!B86,0,1,1),\"\")","v":""},{"$f":"IFERROR(MATCH(TRUE,OFFSET(CalculationsAndCharts!$AH$33,E85,0,'Transaction Summary'!$C$2-E85,1),0)+E85,\"\")","v":""},{"$f":"IFERROR(OFFSET(CalculationsAndCharts!$B$32,'Transaction Summary'!E86,0,1,1),\"\")","v":""},{"$f":"IFERROR(OFFSET(CalculationsAndCharts!$AJ$32,'Transaction Summary'!E86,0,1,1),\"\")","v":""},"","",null,{"$f":"IFERROR(MATCH(TRUE,OFFSET(CalculationsAndCharts!$AN$33,K85,0,'Transaction Summary'!$C$2-K85,1),0)+K85,\"\")","v":""},{"$f":"IFERROR(OFFSET(CalculationsAndCharts!$B$32,'Transaction Summary'!K86,0,1,1),\"\")","v":""},{"$f":"IFERROR(OFFSET(CalculationsAndCharts!$AR$32,'Transaction Summary'!K86,0,1,1),\"\")","v":""},{"$f":"IFERROR(MATCH(TRUE,OFFSET(CalculationsAndCharts!$AQ$33,N85,0,'Transaction Summary'!$C$2-N85,1),0)+N85,\"\")","v":""},{"$f":"IFERROR(OFFSET(CalculationsAndCharts!$B$32,'Transaction Summary'!N86,0,1,1),\"\")","v":""},{"$f":"IFERROR(OFFSET(CalculationsAndCharts!$AS$32,'Transaction Summary'!N86,0,1,1),\"\")","v":""},"",""]
[null,{"$f":"IFERROR(MATCH(TRUE,OFFSET(CalculationsAndCharts!$AE$33,B86,0,'Transaction Summary'!$C$2-B86,1),0)+B86,\"\")","v":""},{"$f":"IFERROR(OFFSET(CalculationsAndCharts!$B$32,'Transaction Summary'!B87,0,1,1),\"\")","v":""},{"$f":"IFERROR(OFFSET(CalculationsAndCharts!$AI$32,'Transaction Summary'!B87,0,1,1),\"\")","v":""},{"$f":"IFERROR(MATCH(TRUE,OFFSET(CalculationsAndCharts!$AH$33,E86,0,'Transaction Summary'!$C$2-E86,1),0)+E86,\"\")","v":""},{"$f":"IFERROR(OFFSET(CalculationsAndCharts!$B$32,'Transaction Summary'!E87,0,1,1),\"\")","v":""},{"$f":"IFERROR(OFFSET(CalculationsAndCharts!$AJ$32,'Transaction Summary'!E87,0,1,1),\"\")","v":""},"","",null,{"$f":"IFERROR(MATCH(TRUE,OFFSET(CalculationsAndCharts!$AN$33,K86,0,'Transaction Summary'!$C$2-K86,1),0)+K86,\"\")","v":""},{"$f":"IFERROR(OFFSET(CalculationsAndCharts!$B$32,'Transaction Summary'!K87,0,1,1),\"\")","v":""},{"$f":"IFERROR(OFFSET(CalculationsAndCharts!$AR$32,'Transaction Summary'!K87,0,1,1),\"\")","v":""},{"$f":"IFERROR(MATCH(TRUE,OFFSET(CalculationsAndCharts!$AQ$33,N86,0,'Transaction Summary'!$C$2-N86,1),0)+N86,\"\")","v":""},{"$f":"IFERROR(OFFSET(CalculationsAndCharts!$B$32,'Transaction Summary'!N87,0,1,1),\"\")","v":""},{"$f":"IFERROR(OFFSET(CalculationsAndCharts!$AS$32,'Transaction Summary'!N87,0,1,1),\"\")","v":""},"",""]
[null,{"$f":"IFERROR(MATCH(TRUE,OFFSET(CalculationsAndCharts!$AE$33,B87,0,'Transaction Summary'!$C$2-B87,1),0)+B87,\"\")","v":""},{"$f":"IFERROR(OFFSET(CalculationsAndCharts!$B$32,'Transaction Summary'!B88,0,1,1),\"\")","v":""},{"$f":"IFERROR(OFFSET(CalculationsAndCharts!$AI$32,'Transaction Summary'!B88,0,1,1),\"\")","v":""},{"$f":"IFERROR(MATCH(TRUE,OFFSET(CalculationsAndCharts!$AH$33,E87,0,'Transaction Summary'!$C$2-E87,1),0)+E87,\"\")","v":""},{"$f":"IFERROR(OFFSET(CalculationsAndCharts!$B$32,'Transaction Summary'!E88,0,1,1),\"\")","v":""},{"$f":"IFERROR(OFFSET(CalculationsAndCharts!$AJ$32,'Transaction Summary'!E88,0,1,1),\"\")","v":""},"","",null,{"$f":"IFERROR(MATCH(TRUE,OFFSET(CalculationsAndCharts!$AN$33,K87,0,'Transaction Summary'!$C$2-K87,1),0)+K87,\"\")","v":""},{"$f":"IFERROR(OFFSET(CalculationsAndCharts!$B$32,'Transaction Summary'!K88,0,1,1),\"\")","v":""},{"$f":"IFERROR(OFFSET(CalculationsAndCharts!$AR$32,'Transaction Summary'!K88,0,1,1),\"\")","v":""},{"$f":"IFERROR(MATCH(TRUE,OFFSET(CalculationsAndCharts!$AQ$33,N87,0,'Transaction Summary'!$C$2-N87,1),0)+N87,\"\")","v":""},{"$f":"IFERROR(OFFSET(CalculationsAndCharts!$B$32,'Transaction Summary'!N88,0,1,1),\"\")","v":""},{"$f":"IFERROR(OFFSET(CalculationsAndCharts!$AS$32,'Transaction Summary'!N88,0,1,1),\"\")","v":""},"",""]
[null,{"$f":"IFERROR(MATCH(TRUE,OFFSET(CalculationsAndCharts!$AE$33,B88,0,'Transaction Summary'!$C$2-B88,1),0)+B88,\"\")","v":""},{"$f":"IFERROR(OFFSET(CalculationsAndCharts!$B$32,'Transaction Summary'!B89,0,1,1),\"\")","v":""},{"$f":"IFERROR(OFFSET(CalculationsAndCharts!$AI$32,'Transaction Summary'!B89,0,1,1),\"\")","v":""},{"$f":"IFERROR(MATCH(TRUE,OFFSET(CalculationsAndCharts!$AH$33,E88,0,'Transaction Summary'!$C$2-E88,1),0)+E88,\"\")","v":""},{"$f":"IFERROR(OFFSET(CalculationsAndCharts!$B$32,'Transaction Summary'!E89,0,1,1),\"\")","v":""},{"$f":"IFERROR(OFFSET(CalculationsAndCharts!$AJ$32,'Transaction Summary'!E89,0,1,1),\"\")","v":""},"","",null,{"$f":"IFERROR(MATCH(TRUE,OFFSET(CalculationsAndCharts!$AN$33,K88,0,'Transaction Summary'!$C$2-K88,1),0)+K88,\"\")","v":""},{"$f":"IFERROR(OFFSET(CalculationsAndCharts!$B$32,'Transaction Summary'!K89,0,1,1),\"\")","v":""},{"$f":"IFERROR(OFFSET(CalculationsAndCharts!$AR$32,'Transaction Summary'!K89,0,1,1),\"\")","v":""},{"$f":"IFERROR(MATCH(TRUE,OFFSET(CalculationsAndCharts!$AQ$33,N88,0,'Transaction Summary'!$C$2-N88,1),0)+N88,\"\")","v":""},{"$f":"IFERROR(OFFSET(CalculationsAndCharts!$B$32,'Transaction Summary'!N89,0,1,1),\"\")","v":""},{"$f":"IFERROR(OFFSET(CalculationsAndCharts!$AS$32,'Transaction Summary'!N89,0,1,1),\"\")","v":""},"",""]
[null,{"$f":"IFERROR(MATCH(TRUE,OFFSET(CalculationsAndCharts!$AE$33,B89,0,'Transaction Summary'!$C$2-B89,1),0)+B89,\"\")","v":""},{"$f":"IFERROR(OFFSET(CalculationsAndCharts!$B$32,'Transaction Summary'!B90,0,1,1),\"\")","v":""},{"$f":"IFERROR(OFFSET(CalculationsAndCharts!$AI$32,'Transaction Summary'!B90,0,1,1),\"\")","v":""},{"$f":"IFERROR(MATCH(TRUE,OFFSET(CalculationsAndCharts!$AH$33,E89,0,'Transaction Summary'!$C$2-E89,1),0)+E89,\"\")","v":""},{"$f":"IFERROR(OFFSET(CalculationsAndCharts!$B$32,'Transaction Summary'!E90,0,1,1),\"\")","v":""},{"$f":"IFERROR(OFFSET(CalculationsAndCharts!$AJ$32,'Transaction Summary'!E90,0,1,1),\"\")","v":""},"","",null,{"$f":"IFERROR(MATCH(TRUE,OFFSET(CalculationsAndCharts!$AN$33,K89,0,'Transaction Summary'!$C$2-K89,1),0)+K89,\"\")","v":""},{"$f":"IFERROR(OFFSET(CalculationsAndCharts!$B$32,'Transaction Summary'!K90,0,1,1),\"\")","v":""},{"$f":"IFERROR(OFFSET(CalculationsAndCharts!$AR$32,'Transaction Summary'!K90,0,1,1),\"\")","v":""},{"$f":"IFERROR(MATCH(TRUE,OFFSET(CalculationsAndCharts!$AQ$33,N89,0,'Transaction Summary'!$C$2-N89,1),0)+N89,\"\")","v":""},{"$f":"IFERROR(OFFSET(CalculationsAndCharts!$B$32,'Transaction Summary'!N90,0,1,1),\"\")","v":""},{"$f":"IFERROR(OFFSET(CalculationsAndCharts!$AS$32,'Transaction Summary'!N90,0,1,1),\"\")","v":""},"",""]
[null,{"$f":"IFERROR(MATCH(TRUE,OFFSET(CalculationsAndCharts!$AE$33,B90,0,'Transaction Summary'!$C$2-B90,1),0)+B90,\"\")","v":""},{"$f":"IFERROR(OFFSET(CalculationsAndCharts!$B$32,'Transaction Summary'!B91,0,1,1),\"\")","v":""},{"$f":"IFERROR(OFFSET(CalculationsAndCharts!$AI$32,'Transaction Summary'!B91,0,1,1),\"\")","v":""},{"$f":"IFERROR(MATCH(TRUE,OFFSET(CalculationsAndCharts!$AH$33,E90,0,'Transaction Summary'!$C$2-E90,1),0)+E90,\"\")","v":""},{"$f":"IFERROR(OFFSET(CalculationsAndCharts!$B$32,'Transaction Summary'!E91,0,1,1),\"\")","v":""},{"$f":"IFERROR(OFFSET(CalculationsAndCharts!$AJ$32,'Transaction Summary'!E91,0,1,1),\"\")","v":""},"","",null,{"$f":"IFERROR(MATCH(TRUE,OFFSET(CalculationsAndCharts!$AN$33,K90,0,'Transaction Summary'!$C$2-K90,1),0)+K90,\"\")","v":""},{"$f":"IFERROR(OFFSET(CalculationsAndCharts!$B$32,'Transaction Summary'!K91,0,1,1),\"\")","v":""},{"$f":"IFERROR(OFFSET(CalculationsAndCharts!$AR$32,'Transaction Summary'!K91,0,1,1),\"\")","v":""},{"$f":"IFERROR(MATCH(TRUE,OFFSET(CalculationsAndCharts!$AQ$33,N90,0,'Transaction Summary'!$C$2-N90,1),0)+N90,\"\")","v":""},{"$f":"IFERROR(OFFSET(CalculationsAndCharts!$B$32,'Transaction Summary'!N91,0,1,1),\"\")","v":""},{"$f":"IFERROR(OFFSET(CalculationsAndCharts!$AS$32,'Transaction Summary'!N91,0,1,1),\"\")","v":""},"",""]
[null,{"$f":"IFERROR(MATCH(TRUE,OFFSET(CalculationsAndCharts!$AE$33,B91,0,'Transaction Summary'!$C$2-B91,1),0)+B91,\"\")","v":""},{"$f":"IFERROR(OFFSET(CalculationsAndCharts!$B$32,'Transaction Summary'!B92,0,1,1),\"\")","v":""},{"$f":"IFERROR(OFFSET(CalculationsAndCharts!$AI$32,'Transaction Summary'!B92,0,1,1),\"\")","v":""},{"$f":"IFERROR(MATCH(TRUE,OFFSET(CalculationsAndCharts!$AH$33,E91,0,'Transaction Summary'!$C$2-E91,1),0)+E91,\"\")","v":""},{"$f":"IFERROR(OFFSET(CalculationsAndCharts!$B$32,'Transaction Summary'!E92,0,1,1),\"\")","v":""},{"$f":"IFERROR(OFFSET(CalculationsAndCharts!$AJ$32,'Transaction Summary'!E92,0,1,1),\"\")","v":""},"","",null,{"$f":"IFERROR(MATCH(TRUE,OFFSET(CalculationsAndCharts!$AN$33,K91,0,'Transaction Summary'!$C$2-K91,1),0)+K91,\"\")","v":""},{"$f":"IFERROR(OFFSET(CalculationsAndCharts!$B$32,'Transaction Summary'!K92,0,1,1),\"\")","v":""},{"$f":"IFERROR(OFFSET(CalculationsAndCharts!$AR$32,'Transaction Summary'!K92,0,1,1),\"\")","v":""},{"$f":"IFERROR(MATCH(TRUE,OFFSET(CalculationsAndCharts!$AQ$33,N91,0,'Transaction Summary'!$C$2-N91,1),0)+N91,\"\")","v":""},{"$f":"IFERROR(OFFSET(CalculationsAndCharts!$B$32,'Transaction Summary'!N92,0,1,1),\"\")","v":""},{"$f":"IFERROR(OFFSET(CalculationsAndCharts!$AS$32,'Transaction Summary'!N92,0,1,1),\"\")","v":""},"",""]
[null,{"$f":"IFERROR(MATCH(TRUE,OFFSET(CalculationsAndCharts!$AE$33,B92,0,'Transaction Summary'!$C$2-B92,1),0)+B92,\"\")","v":""},{"$f":"IFERROR(OFFSET(CalculationsAndCharts!$B$32,'Transaction Summary'!B93,0,1,1),\"\")","v":""},{"$f":"IFERROR(OFFSET(CalculationsAndCharts!$AI$32,'Transaction Summary'!B93,0,1,1),\"\")","v":""},{"$f":"IFERROR(MATCH(TRUE,OFFSET(CalculationsAndCharts!$AH$33,E92,0,'Transaction Summary'!$C$2-E92,1),0)+E92,\"\")","v":""},{"$f":"IFERROR(OFFSET(CalculationsAndCharts!$B$32,'Transaction Summary'!E93,0,1,1),\"\")","v":""},{"$f":"IFERROR(OFFSET(CalculationsAndCharts!$AJ$32,'Transaction Summary'!E93,0,1,1),\"\")","v":""},"","",null,{"$f":"IFERROR(MATCH(TRUE,OFFSET(CalculationsAndCharts!$AN$33,K92,0,'Transaction Summary'!$C$2-K92,1),0)+K92,\"\")","v":""},{"$f":"IFERROR(OFFSET(CalculationsAndCharts!$B$32,'Transaction Summary'!K93,0,1,1),\"\")","v":""},{"$f":"IFERROR(OFFSET(CalculationsAndCharts!$AR$32,'Transaction Summary'!K93,0,1,1),\"\")","v":""},{"$f":"IFERROR(MATCH(TRUE,OFFSET(CalculationsAndCharts!$AQ$33,N92,0,'Transaction Summary'!$C$2-N92,1),0)+N92,\"\")","v":""},{"$f":"IFERROR(OFFSET(CalculationsAndCharts!$B$32,'Transaction Summary'!N93,0,1,1),\"\")","v":""},{"$f":"IFERROR(OFFSET(CalculationsAndCharts!$AS$32,'Transaction Summary'!N93,0,1,1),\"\")","v":""},"",""]
[null,{"$f":"IFERROR(MATCH(TRUE,OFFSET(CalculationsAndCharts!$AE$33,B93,0,'Transaction Summary'!$C$2-B93,1),0)+B93,\"\")","v":""},{"$f":"IFERROR(OFFSET(CalculationsAndCharts!$B$32,'Transaction Summary'!B94,0,1,1),\"\")","v":""},{"$f":"IFERROR(OFFSET(CalculationsAndCharts!$AI$32,'Transaction Summary'!B94,0,1,1),\"\")","v":""},{"$f":"IFERROR(MATCH(TRUE,OFFSET(CalculationsAndCharts!$AH$33,E93,0,'Transaction Summary'!$C$2-E93,1),0)+E93,\"\")","v":""},{"$f":"IFERROR(OFFSET(CalculationsAndCharts!$B$32,'Transaction Summary'!E94,0,1,1),\"\")","v":""},{"$f":"IFERROR(OFFSET(CalculationsAndCharts!$AJ$32,'Transaction Summary'!E94,0,1,1),\"\")","v":""},"","",null,{"$f":"IFERROR(MATCH(TRUE,OFFSET(CalculationsAndCharts!$AN$33,K93,0,'Transaction Summary'!$C$2-K93,1),0)+K93,\"\")","v":""},{"$f":"IFERROR(OFFSET(CalculationsAndCharts!$B$32,'Transaction Summary'!K94,0,1,1),\"\")","v":""},{"$f":"IFERROR(OFFSET(CalculationsAndCharts!$AR$32,'Transaction Summary'!K94,0,1,1),\"\")","v":""},{"$f":"IFERROR(MATCH(TRUE,OFFSET(CalculationsAndCharts!$AQ$33,N93,0,'Transaction Summary'!$C$2-N93,1),0)+N93,\"\")","v":""},{"$f":"IFERROR(OFFSET(CalculationsAndCharts!$B$32,'Transaction Summary'!N94,0,1,1),\"\")","v":""},{"$f":"IFERROR(OFFSET(CalculationsAndCharts!$AS$32,'Transaction Summary'!N94,0,1,1),\"\")","v":""},"",""]
[null,{"$f":"IFERROR(MATCH(TRUE,OFFSET(CalculationsAndCharts!$AE$33,B94,0,'Transaction Summary'!$C$2-B94,1),0)+B94,\"\")","v":""},{"$f":"IFERROR(OFFSET(CalculationsAndCharts!$B$32,'Transaction Summary'!B95,0,1,1),\"\")","v":""},{"$f":"IFERROR(OFFSET(CalculationsAndCharts!$AI$32,'Transaction Summary'!B95,0,1,1),\"\")","v":""},{"$f":"IFERROR(MATCH(TRUE,OFFSET(CalculationsAndCharts!$AH$33,E94,0,'Transaction Summary'!$C$2-E94,1),0)+E94,\"\")","v":""},{"$f":"IFERROR(OFFSET(CalculationsAndCharts!$B$32,'Transaction Summary'!E95,0,1,1),\"\")","v":""},{"$f":"IFERROR(OFFSET(CalculationsAndCharts!$AJ$32,'Transaction Summary'!E95,0,1,1),\"\")","v":""},"","",null,{"$f":"IFERROR(MATCH(TRUE,OFFSET(CalculationsAndCharts!$AN$33,K94,0,'Transaction Summary'!$C$2-K94,1),0)+K94,\"\")","v":""},{"$f":"IFERROR(OFFSET(CalculationsAndCharts!$B$32,'Transaction Summary'!K95,0,1,1),\"\")","v":""},{"$f":"IFERROR(OFFSET(CalculationsAndCharts!$AR$32,'Transaction Summary'!K95,0,1,1),\"\")","v":""},{"$f":"IFERROR(MATCH(TRUE,OFFSET(CalculationsAndCharts!$AQ$33,N94,0,'Transaction Summary'!$C$2-N94,1),0)+N94,\"\")","v":""},{"$f":"IFERROR(OFFSET(CalculationsAndCharts!$B$32,'Transaction Summary'!N95,0,1,1),\"\")","v":""},{"$f":"IFERROR(OFFSET(CalculationsAndCharts!$AS$32,'Transaction Summary'!N95,0,1,1),\"\")","v":""},"",""]
[null,{"$f":"IFERROR(MATCH(TRUE,OFFSET(CalculationsAndCharts!$AE$33,B95,0,'Transaction Summary'!$C$2-B95,1),0)+B95,\"\")","v":""},{"$f":"IFERROR(OFFSET(CalculationsAndCharts!$B$32,'Transaction Summary'!B96,0,1,1),\"\")","v":""},{"$f":"IFERROR(OFFSET(CalculationsAndCharts!$AI$32,'Transaction Summary'!B96,0,1,1),\"\")","v":""},{"$f":"IFERROR(MATCH(TRUE,OFFSET(CalculationsAndCharts!$AH$33,E95,0,'Transaction Summary'!$C$2-E95,1),0)+E95,\"\")","v":""},{"$f":"IFERROR(OFFSET(CalculationsAndCharts!$B$32,'Transaction Summary'!E96,0,1,1),\"\")","v":""},{"$f":"IFERROR(OFFSET(CalculationsAndCharts!$AJ$32,'Transaction Summary'!E96,0,1,1),\"\")","v":""},"","",null,{"$f":"IFERROR(MATCH(TRUE,OFFSET(CalculationsAndCharts!$AN$33,K95,0,'Transaction Summary'!$C$2-K95,1),0)+K95,\"\")","v":""},{"$f":"IFERROR(OFFSET(CalculationsAndCharts!$B$32,'Transaction Summary'!K96,0,1,1),\"\")","v":""},{"$f":"IFERROR(OFFSET(CalculationsAndCharts!$AR$32,'Transaction Summary'!K96,0,1,1),\"\")","v":""},{"$f":"IFERROR(MATCH(TRUE,OFFSET(CalculationsAndCharts!$AQ$33,N95,0,'Transaction Summary'!$C$2-N95,1),0)+N95,\"\")","v":""},{"$f":"IFERROR(OFFSET(CalculationsAndCharts!$B$32,'Transaction Summary'!N96,0,1,1),\"\")","v":""},{"$f":"IFERROR(OFFSET(CalculationsAndCharts!$AS$32,'Transaction Summary'!N96,0,1,1),\"\")","v":""},"",""]
[null,{"$f":"IFERROR(MATCH(TRUE,OFFSET(CalculationsAndCharts!$AE$33,B96,0,'Transaction Summary'!$C$2-B96,1),0)+B96,\"\")","v":""},{"$f":"IFERROR(OFFSET(CalculationsAndCharts!$B$32,'Transaction Summary'!B97,0,1,1),\"\")","v":""},{"$f":"IFERROR(OFFSET(CalculationsAndCharts!$AI$32,'Transaction Summary'!B97,0,1,1),\"\")","v":""},{"$f":"IFERROR(MATCH(TRUE,OFFSET(CalculationsAndCharts!$AH$33,E96,0,'Transaction Summary'!$C$2-E96,1),0)+E96,\"\")","v":""},{"$f":"IFERROR(OFFSET(CalculationsAndCharts!$B$32,'Transaction Summary'!E97,0,1,1),\"\")","v":""},{"$f":"IFERROR(OFFSET(CalculationsAndCharts!$AJ$32,'Transaction Summary'!E97,0,1,1),\"\")","v":""},"","",null,{"$f":"IFERROR(MATCH(TRUE,OFFSET(CalculationsAndCharts!$AN$33,K96,0,'Transaction Summary'!$C$2-K96,1),0)+K96,\"\")","v":""},{"$f":"IFERROR(OFFSET(CalculationsAndCharts!$B$32,'Transaction Summary'!K97,0,1,1),\"\")","v":""},{"$f":"IFERROR(OFFSET(CalculationsAndCharts!$AR$32,'Transaction Summary'!K97,0,1,1),\"\")","v":""},{"$f":"IFERROR(MATCH(TRUE,OFFSET(CalculationsAndCharts!$AQ$33,N96,0,'Transaction Summary'!$C$2-N96,1),0)+N96,\"\")","v":""},{"$f":"IFERROR(OFFSET(CalculationsAndCharts!$B$32,'Transaction Summary'!N97,0,1,1),\"\")","v":""},{"$f":"IFERROR(OFFSET(CalculationsAndCharts!$AS$32,'Transaction Summary'!N97,0,1,1),\"\")","v":""},"",""]
[null,{"$f":"IFERROR(MATCH(TRUE,OFFSET(CalculationsAndCharts!$AE$33,B97,0,'Transaction Summary'!$C$2-B97,1),0)+B97,\"\")","v":""},{"$f":"IFERROR(OFFSET(CalculationsAndCharts!$B$32,'Transaction Summary'!B98,0,1,1),\"\")","v":""},{"$f":"IFERROR(OFFSET(CalculationsAndCharts!$AI$32,'Transaction Summary'!B98,0,1,1),\"\")","v":""},{"$f":"IFERROR(MATCH(TRUE,OFFSET(CalculationsAndCharts!$AH$33,E97,0,'Transaction Summary'!$C$2-E97,1),0)+E97,\"\")","v":""},{"$f":"IFERROR(OFFSET(CalculationsAndCharts!$B$32,'Transaction Summary'!E98,0,1,1),\"\")","v":""},{"$f":"IFERROR(OFFSET(CalculationsAndCharts!$AJ$32,'Transaction Summary'!E98,0,1,1),\"\")","v":""},{"$f":"IFERROR(G98-D98,\"\")","v":""},{"$f":"IFERROR(H98+IF(\"\"=I99,0,I99),\"\")","v":""},null,{"$f":"IFERROR(MATCH(TRUE,OFFSET(CalculationsAndCharts!$AN$33,K97,0,'Transaction Summary'!$C$2-K97,1),0)+K97,\"\")","v":""},{"$f":"IFERROR(OFFSET(CalculationsAndCharts!$B$32,'Transaction Summary'!K98,0,1,1),\"\")","v":""},{"$f":"IFERROR(OFFSET(CalculationsAndCharts!$AR$32,'Transaction Summary'!K98,0,1,1),\"\")","v":""},{"$f":"IFERROR(MATCH(TRUE,OFFSET(CalculationsAndCharts!$AQ$33,N97,0,'Transaction Summary'!$C$2-N97,1),0)+N97,\"\")","v":""},{"$f":"IFERROR(OFFSET(CalculationsAndCharts!$B$32,'Transaction Summary'!N98,0,1,1),\"\")","v":""},{"$f":"IFERROR(OFFSET(CalculationsAndCharts!$AS$32,'Transaction Summary'!N98,0,1,1),\"\")","v":""},"",""]
[null,{"$f":"IFERROR(MATCH(TRUE,OFFSET(CalculationsAndCharts!$AE$33,B98,0,'Transaction Summary'!$C$2-B98,1),0)+B98,\"\")","v":""},{"$f":"IFERROR(OFFSET(CalculationsAndCharts!$B$32,'Transaction Summary'!B99,0,1,1),\"\")","v":""},{"$f":"IFERROR(OFFSET(CalculationsAndCharts!$AI$32,'Transaction Summary'!B99,0,1,1),\"\")","v":""},{"$f":"IFERROR(MATCH(TRUE,OFFSET(CalculationsAndCharts!$AH$33,E98,0,'Transaction Summary'!$C$2-E98,1),0)+E98,\"\")","v":""},{"$f":"IFERROR(OFFSET(CalculationsAndCharts!$B$32,'Transaction Summary'!E99,0,1,1),\"\")","v":""},{"$f":"IFERROR(OFFSET(CalculationsAndCharts!$AJ$32,'Transaction Summary'!E99,0,1,1),\"\")","v":""},"","",null,{"$f":"IFERROR(MATCH(TRUE,OFFSET(CalculationsAndCharts!$AN$33,K98,0,'Transaction Summary'!$C$2-K98,1),0)+K98,\"\")","v":""},{"$f":"IFERROR(OFFSET(CalculationsAndCharts!$B$32,'Transaction Summary'!K99,0,1,1),\"\")","v":""},{"$f":"IFERROR(OFFSET(CalculationsAndCharts!$AR$32,'Transaction Summary'!K99,0,1,1),\"\")","v":""},{"$f":"IFERROR(MATCH(TRUE,OFFSET(CalculationsAndCharts!$AQ$33,N98,0,'Transaction Summary'!$C$2-N98,1),0)+N98,\"\")","v":""},{"$f":"IFERROR(OFFSET(CalculationsAndCharts!$B$32,'Transaction Summary'!N99,0,1,1),\"\")","v":""},{"$f":"IFERROR(OFFSET(CalculationsAndCharts!$AS$32,'Transaction Summary'!N99,0,1,1),\"\")","v":""},{"$f":"IFERROR(M99-P99,\"\")","v":""},{"$f":"IFERROR(Q99+IF(\"\"=R100,0,R100),\"\")","v":""}]
[null,{"$f":"IFERROR(MATCH(TRUE,OFFSET(CalculationsAndCharts!$AE$33,B99,0,'Transaction Summary'!$C$2-B99,1),0)+B99,\"\")","v":""},{"$f":"IFERROR(OFFSET(CalculationsAndCharts!$B$32,'Transaction Summary'!B100,0,1,1),\"\")","v":""},{"$f":"IFERROR(OFFSET(CalculationsAndCharts!$AI$32,'Transaction Summary'!B100,0,1,1),\"\")","v":""},{"$f":"IFERROR(MATCH(TRUE,OFFSET(CalculationsAndCharts!$AH$33,E99,0,'Transaction Summary'!$C$2-E99,1),0)+E99,\"\")","v":""},{"$f":"IFERROR(OFFSET(CalculationsAndCharts!$B$32,'Transaction Summary'!E100,0,1,1),\"\")","v":""},{"$f":"IFERROR(OFFSET(CalculationsAndCharts!$AJ$32,'Transaction Summary'!E100,0,1,1),\"\")","v":""},"","",null,{"$f":"IFERROR(MATCH(TRUE,OFFSET(CalculationsAndCharts!$AN$33,K99,0,'Transaction Summary'!$C$2-K99,1),0)+K99,\"\")","v":""},{"$f":"IFERROR(OFFSET(CalculationsAndCharts!$B$32,'Transaction Summary'!K100,0,1,1),\"\")","v":""},{"$f":"IFERROR(OFFSET(CalculationsAndCharts!$AR$32,'Transaction Summary'!K100,0,1,1),\"\")","v":""},{"$f":"IFERROR(MATCH(TRUE,OFFSET(CalculationsAndCharts!$AQ$33,N99,0,'Transaction Summary'!$C$2-N99,1),0)+N99,\"\")","v":""},{"$f":"IFERROR(OFFSET(CalculationsAndCharts!$B$32,'Transaction Summary'!N100,0,1,1),\"\")","v":""},{"$f":"IFERROR(OFFSET(CalculationsAndCharts!$AS$32,'Transaction Summary'!N100,0,1,1),\"\")","v":""},"",""]
[null,{"$f":"IFERROR(MATCH(TRUE,OFFSET(CalculationsAndCharts!$AE$33,B100,0,'Transaction Summary'!$C$2-B100,1),0)+B100,\"\")","v":""},{"$f":"IFERROR(OFFSET(CalculationsAndCharts!$B$32,'Transaction Summary'!B101,0,1,1),\"\")","v":""},{"$f":"IFERROR(OFFSET(CalculationsAndCharts!$AI$32,'Transaction Summary'!B101,0,1,1),\"\")","v":""},{"$f":"IFERROR(MATCH(TRUE,OFFSET(CalculationsAndCharts!$AH$33,E100,0,'Transaction Summary'!$C$2-E100,1),0)+E100,\"\")","v":""},{"$f":"IFERROR(OFFSET(CalculationsAndCharts!$B$32,'Transaction Summary'!E101,0,1,1),\"\")","v":""},{"$f":"IFERROR(OFFSET(CalculationsAndCharts!$AJ$32,'Transaction Summary'!E101,0,1,1),\"\")","v":""},"","",null,{"$f":"IFERROR(MATCH(TRUE,OFFSET(CalculationsAndCharts!$AN$33,K100,0,'Transaction Summary'!$C$2-K100,1),0)+K100,\"\")","v":""},{"$f":"IFERROR(OFFSET(CalculationsAndCharts!$B$32,'Transaction Summary'!K101,0,1,1),\"\")","v":""},{"$f":"IFERROR(OFFSET(CalculationsAndCharts!$AR$32,'Transaction Summary'!K101,0,1,1),\"\")","v":""},{"$f":"IFERROR(MATCH(TRUE,OFFSET(CalculationsAndCharts!$AQ$33,N100,0,'Transaction Summary'!$C$2-N100,1),0)+N100,\"\")","v":""},{"$f":"IFERROR(OFFSET(CalculationsAndCharts!$B$32,'Transaction Summary'!N101,0,1,1),\"\")","v":""},{"$f":"IFERROR(OFFSET(CalculationsAndCharts!$AS$32,'Transaction Summary'!N101,0,1,1),\"\")","v":""},"",""]
[null,{"$f":"IFERROR(MATCH(TRUE,OFFSET(CalculationsAndCharts!$AE$33,B101,0,'Transaction Summary'!$C$2-B101,1),0)+B101,\"\")","v":""},{"$f":"IFERROR(OFFSET(CalculationsAndCharts!$B$32,'Transaction Summary'!B102,0,1,1),\"\")","v":""},{"$f":"IFERROR(OFFSET(CalculationsAndCharts!$AI$32,'Transaction Summary'!B102,0,1,1),\"\")","v":""},{"$f":"IFERROR(MATCH(TRUE,OFFSET(CalculationsAndCharts!$AH$33,E101,0,'Transaction Summary'!$C$2-E101,1),0)+E101,\"\")","v":""},{"$f":"IFERROR(OFFSET(CalculationsAndCharts!$B$32,'Transaction Summary'!E102,0,1,1),\"\")","v":""},{"$f":"IFERROR(OFFSET(CalculationsAndCharts!$AJ$32,'Transaction Summary'!E102,0,1,1),\"\")","v":""},"","",null,{"$f":"IFERROR(MATCH(TRUE,OFFSET(CalculationsAndCharts!$AN$33,K101,0,'Transaction Summary'!$C$2-K101,1),0)+K101,\"\")","v":""},{"$f":"IFERROR(OFFSET(CalculationsAndCharts!$B$32,'Transaction Summary'!K102,0,1,1),\"\")","v":""},{"$f":"IFERROR(OFFSET(CalculationsAndCharts!$AR$32,'Transaction Summary'!K102,0,1,1),\"\")","v":""},{"$f":"IFERROR(MATCH(TRUE,OFFSET(CalculationsAndCharts!$AQ$33,N101,0,'Transaction Summary'!$C$2-N101,1),0)+N101,\"\")","v":""},{"$f":"IFERROR(OFFSET(CalculationsAndCharts!$B$32,'Transaction Summary'!N102,0,1,1),\"\")","v":""},{"$f":"IFERROR(OFFSET(CalculationsAndCharts!$AS$32,'Transaction Summary'!N102,0,1,1),\"\")","v":""},"",""]
[null,{"$f":"IFERROR(MATCH(TRUE,OFFSET(CalculationsAndCharts!$AE$33,B102,0,'Transaction Summary'!$C$2-B102,1),0)+B102,\"\")","v":""},{"$f":"IFERROR(OFFSET(CalculationsAndCharts!$B$32,'Transaction Summary'!B103,0,1,1),\"\")","v":""},{"$f":"IFERROR(OFFSET(CalculationsAndCharts!$AI$32,'Transaction Summary'!B103,0,1,1),\"\")","v":""},{"$f":"IFERROR(MATCH(TRUE,OFFSET(CalculationsAndCharts!$AH$33,E102,0,'Transaction Summary'!$C$2-E102,1),0)+E102,\"\")","v":""},{"$f":"IFERROR(OFFSET(CalculationsAndCharts!$B$32,'Transaction Summary'!E103,0,1,1),\"\")","v":""},{"$f":"IFERROR(OFFSET(CalculationsAndCharts!$AJ$32,'Transaction Summary'!E103,0,1,1),\"\")","v":""},"","",null,{"$f":"IFERROR(MATCH(TRUE,OFFSET(CalculationsAndCharts!$AN$33,K102,0,'Transaction Summary'!$C$2-K102,1),0)+K102,\"\")","v":""},{"$f":"IFERROR(OFFSET(CalculationsAndCharts!$B$32,'Transaction Summary'!K103,0,1,1),\"\")","v":""},{"$f":"IFERROR(OFFSET(CalculationsAndCharts!$AR$32,'Transaction Summary'!K103,0,1,1),\"\")","v":""},{"$f":"IFERROR(MATCH(TRUE,OFFSET(CalculationsAndCharts!$AQ$33,N102,0,'Transaction Summary'!$C$2-N102,1),0)+N102,\"\")","v":""},{"$f":"IFERROR(OFFSET(CalculationsAndCharts!$B$32,'Transaction Summary'!N103,0,1,1),\"\")","v":""},{"$f":"IFERROR(OFFSET(CalculationsAndCharts!$AS$32,'Transaction Summary'!N103,0,1,1),\"\")","v":""},"",""]
[null,{"$f":"IFERROR(MATCH(TRUE,OFFSET(CalculationsAndCharts!$AE$33,B103,0,'Transaction Summary'!$C$2-B103,1),0)+B103,\"\")","v":""},{"$f":"IFERROR(OFFSET(CalculationsAndCharts!$B$32,'Transaction Summary'!B104,0,1,1),\"\")","v":""},{"$f":"IFERROR(OFFSET(CalculationsAndCharts!$AI$32,'Transaction Summary'!B104,0,1,1),\"\")","v":""},{"$f":"IFERROR(MATCH(TRUE,OFFSET(CalculationsAndCharts!$AH$33,E103,0,'Transaction Summary'!$C$2-E103,1),0)+E103,\"\")","v":""},{"$f":"IFERROR(OFFSET(CalculationsAndCharts!$B$32,'Transaction Summary'!E104,0,1,1),\"\")","v":""},{"$f":"IFERROR(OFFSET(CalculationsAndCharts!$AJ$32,'Transaction Summary'!E104,0,1,1),\"\")","v":""},"","",null,{"$f":"IFERROR(MATCH(TRUE,OFFSET(CalculationsAndCharts!$AN$33,K103,0,'Transaction Summary'!$C$2-K103,1),0)+K103,\"\")","v":""},{"$f":"IFERROR(OFFSET(CalculationsAndCharts!$B$32,'Transaction Summary'!K104,0,1,1),\"\")","v":""},{"$f":"IFERROR(OFFSET(CalculationsAndCharts!$AR$32,'Transaction Summary'!K104,0,1,1),\"\")","v":""},{"$f":"IFERROR(MATCH(TRUE,OFFSET(CalculationsAndCharts!$AQ$33,N103,0,'Transaction Summary'!$C$2-N103,1),0)+N103,\"\")","v":""},{"$f":"IFERROR(OFFSET(CalculationsAndCharts!$B$32,'Transaction Summary'!N104,0,1,1),\"\")","v":""},{"$f":"IFERROR(OFFSET(CalculationsAndCharts!$AS$32,'Transaction Summary'!N104,0,1,1),\"\")","v":""},"",""]
[null,{"$f":"IFERROR(MATCH(TRUE,OFFSET(CalculationsAndCharts!$AE$33,B104,0,'Transaction Summary'!$C$2-B104,1),0)+B104,\"\")","v":""},{"$f":"IFERROR(OFFSET(CalculationsAndCharts!$B$32,'Transaction Summary'!B105,0,1,1),\"\")","v":""},{"$f":"IFERROR(OFFSET(CalculationsAndCharts!$AI$32,'Transaction Summary'!B105,0,1,1),\"\")","v":""},{"$f":"IFERROR(MATCH(TRUE,OFFSET(CalculationsAndCharts!$AH$33,E104,0,'Transaction Summary'!$C$2-E104,1),0)+E104,\"\")","v":""},{"$f":"IFERROR(OFFSET(CalculationsAndCharts!$B$32,'Transaction Summary'!E105,0,1,1),\"\")","v":""},{"$f":"IFERROR(OFFSET(CalculationsAndCharts!$AJ$32,'Transaction Summary'!E105,0,1,1),\"\")","v":""},"","",null,{"$f":"IFERROR(MATCH(TRUE,OFFSET(CalculationsAndCharts!$AN$33,K104,0,'Transaction Summary'!$C$2-K104,1),0)+K104,\"\")","v":""},{"$f":"IFERROR(OFFSET(CalculationsAndCharts!$B$32,'Transaction Summary'!K105,0,1,1),\"\")","v":""},{"$f":"IFERROR(OFFSET(CalculationsAndCharts!$AR$32,'Transaction Summary'!K105,0,1,1),\"\")","v":""},{"$f":"IFERROR(MATCH(TRUE,OFFSET(CalculationsAndCharts!$AQ$33,N104,0,'Transaction Summary'!$C$2-N104,1),0)+N104,\"\")","v":""},{"$f":"IFERROR(OFFSET(CalculationsAndCharts!$B$32,'Transaction Summary'!N105,0,1,1),\"\")","v":""},{"$f":"IFERROR(OFFSET(CalculationsAndCharts!$AS$32,'Transaction Summary'!N105,0,1,1),\"\")","v":""},"",""]
[null,{"$f":"IFERROR(MATCH(TRUE,OFFSET(CalculationsAndCharts!$AE$33,B105,0,'Transaction Summary'!$C$2-B105,1),0)+B105,\"\")","v":""},{"$f":"IFERROR(OFFSET(CalculationsAndCharts!$B$32,'Transaction Summary'!B106,0,1,1),\"\")","v":""},{"$f":"IFERROR(OFFSET(CalculationsAndCharts!$AI$32,'Transaction Summary'!B106,0,1,1),\"\")","v":""},{"$f":"IFERROR(MATCH(TRUE,OFFSET(CalculationsAndCharts!$AH$33,E105,0,'Transaction Summary'!$C$2-E105,1),0)+E105,\"\")","v":""},{"$f":"IFERROR(OFFSET(CalculationsAndCharts!$B$32,'Transaction Summary'!E106,0,1,1),\"\")","v":""},{"$f":"IFERROR(OFFSET(CalculationsAndCharts!$AJ$32,'Transaction Summary'!E106,0,1,1),\"\")","v":""},"","",null,{"$f":"IFERROR(MATCH(TRUE,OFFSET(CalculationsAndCharts!$AN$33,K105,0,'Transaction Summary'!$C$2-K105,1),0)+K105,\"\")","v":""},{"$f":"IFERROR(OFFSET(CalculationsAndCharts!$B$32,'Transaction Summary'!K106,0,1,1),\"\")","v":""},{"$f":"IFERROR(OFFSET(CalculationsAndCharts!$AR$32,'Transaction Summary'!K106,0,1,1),\"\")","v":""},{"$f":"IFERROR(MATCH(TRUE,OFFSET(CalculationsAndCharts!$AQ$33,N105,0,'Transaction Summary'!$C$2-N105,1),0)+N105,\"\")","v":""},{"$f":"IFERROR(OFFSET(CalculationsAndCharts!$B$32,'Transaction Summary'!N106,0,1,1),\"\")","v":""},{"$f":"IFERROR(OFFSET(CalculationsAndCharts!$AS$32,'Transaction Summary'!N106,0,1,1),\"\")","v":""},"",""]
[null,{"$f":"IFERROR(MATCH(TRUE,OFFSET(CalculationsAndCharts!$AE$33,B106,0,'Transaction Summary'!$C$2-B106,1),0)+B106,\"\")","v":""},{"$f":"IFERROR(OFFSET(CalculationsAndCharts!$B$32,'Transaction Summary'!B107,0,1,1),\"\")","v":""},{"$f":"IFERROR(OFFSET(CalculationsAndCharts!$AI$32,'Transaction Summary'!B107,0,1,1),\"\")","v":""},{"$f":"IFERROR(MATCH(TRUE,OFFSET(CalculationsAndCharts!$AH$33,E106,0,'Transaction Summary'!$C$2-E106,1),0)+E106,\"\")","v":""},{"$f":"IFERROR(OFFSET(CalculationsAndCharts!$B$32,'Transaction Summary'!E107,0,1,1),\"\")","v":""},{"$f":"IFERROR(OFFSET(CalculationsAndCharts!$AJ$32,'Transaction Summary'!E107,0,1,1),\"\")","v":""},"","",null,{"$f":"IFERROR(MATCH(TRUE,OFFSET(CalculationsAndCharts!$AN$33,K106,0,'Transaction Summary'!$C$2-K106,1),0)+K106,\"\")","v":""},{"$f":"IFERROR(OFFSET(CalculationsAndCharts!$B$32,'Transaction Summary'!K107,0,1,1),\"\")","v":""},{"$f":"IFERROR(OFFSET(CalculationsAndCharts!$AR$32,'Transaction Summary'!K107,0,1,1),\"\")","v":""},{"$f":"IFERROR(MATCH(TRUE,OFFSET(CalculationsAndCharts!$AQ$33,N106,0,'Transaction Summary'!$C$2-N106,1),0)+N106,\"\")","v":""},{"$f":"IFERROR(OFFSET(CalculationsAndCharts!$B$32,'Transaction Summary'!N107,0,1,1),\"\")","v":""},{"$f":"IFERROR(OFFSET(CalculationsAndCharts!$AS$32,'Transaction Summary'!N107,0,1,1),\"\")","v":""},"",""]
[null,{"$f":"IFERROR(MATCH(TRUE,OFFSET(CalculationsAndCharts!$AE$33,B107,0,'Transaction Summary'!$C$2-B107,1),0)+B107,\"\")","v":""},{"$f":"IFERROR(OFFSET(CalculationsAndCharts!$B$32,'Transaction Summary'!B108,0,1,1),\"\")","v":""},{"$f":"IFERROR(OFFSET(CalculationsAndCharts!$AI$32,'Transaction Summary'!B108,0,1,1),\"\")","v":""},{"$f":"IFERROR(MATCH(TRUE,OFFSET(CalculationsAndCharts!$AH$33,E107,0,'Transaction Summary'!$C$2-E107,1),0)+E107,\"\")","v":""},{"$f":"IFERROR(OFFSET(CalculationsAndCharts!$B$32,'Transaction Summary'!E108,0,1,1),\"\")","v":""},{"$f":"IFERROR(OFFSET(CalculationsAndCharts!$AJ$32,'Transaction Summary'!E108,0,1,1),\"\")","v":""},"","",null,{"$f":"IFERROR(MATCH(TRUE,OFFSET(CalculationsAndCharts!$AN$33,K107,0,'Transaction Summary'!$C$2-K107,1),0)+K107,\"\")","v":""},{"$f":"IFERROR(OFFSET(CalculationsAndCharts!$B$32,'Transaction Summary'!K108,0,1,1),\"\")","v":""},{"$f":"IFERROR(OFFSET(CalculationsAndCharts!$AR$32,'Transaction Summary'!K108,0,1,1),\"\")","v":""},{"$f":"IFERROR(MATCH(TRUE,OFFSET(CalculationsAndCharts!$AQ$33,N107,0,'Transaction Summary'!$C$2-N107,1),0)+N107,\"\")","v":""},{"$f":"IFERROR(OFFSET(CalculationsAndCharts!$B$32,'Transaction Summary'!N108,0,1,1),\"\")","v":""},{"$f":"IFERROR(OFFSET(CalculationsAndCharts!$AS$32,'Transaction Summary'!N108,0,1,1),\"\")","v":""},"",""]
[null,{"$f":"IFERROR(MATCH(TRUE,OFFSET(CalculationsAndCharts!$AE$33,B108,0,'Transaction Summary'!$C$2-B108,1),0)+B108,\"\")","v":""},{"$f":"IFERROR(OFFSET(CalculationsAndCharts!$B$32,'Transaction Summary'!B109,0,1,1),\"\")","v":""},{"$f":"IFERROR(OFFSET(CalculationsAndCharts!$AI$32,'Transaction Summary'!B109,0,1,1),\"\")","v":""},{"$f":"IFERROR(MATCH(TRUE,OFFSET(CalculationsAndCharts!$AH$33,E108,0,'Transaction Summary'!$C$2-E108,1),0)+E108,\"\")","v":""},{"$f":"IFERROR(OFFSET(CalculationsAndCharts!$B$32,'Transaction Summary'!E109,0,1,1),\"\")","v":""},{"$f":"IFERROR(OFFSET(CalculationsAndCharts!$AJ$32,'Transaction Summary'!E109,0,1,1),\"\")","v":""},"","",null,{"$f":"IFERROR(MATCH(TRUE,OFFSET(CalculationsAndCharts!$AN$33,K108,0,'Transaction Summary'!$C$2-K108,1),0)+K108,\"\")","v":""},{"$f":"IFERROR(OFFSET(CalculationsAndCharts!$B$32,'Transaction Summary'!K109,0,1,1),\"\")","v":""},{"$f":"IFERROR(OFFSET(CalculationsAndCharts!$AR$32,'Transaction Summary'!K109,0,1,1),\"\")","v":""},{"$f":"IFERROR(MATCH(TRUE,OFFSET(CalculationsAndCharts!$AQ$33,N108,0,'Transaction Summary'!$C$2-N108,1),0)+N108,\"\")","v":""},{"$f":"IFERROR(OFFSET(CalculationsAndCharts!$B$32,'Transaction Summary'!N109,0,1,1),\"\")","v":""},{"$f":"IFERROR(OFFSET(CalculationsAndCharts!$AS$32,'Transaction Summary'!N109,0,1,1),\"\")","v":""},"",""]
[null,{"$f":"IFERROR(MATCH(TRUE,OFFSET(CalculationsAndCharts!$AE$33,B109,0,'Transaction Summary'!$C$2-B109,1),0)+B109,\"\")","v":""},{"$f":"IFERROR(OFFSET(CalculationsAndCharts!$B$32,'Transaction Summary'!B110,0,1,1),\"\")","v":""},{"$f":"IFERROR(OFFSET(CalculationsAndCharts!$AI$32,'Transaction Summary'!B110,0,1,1),\"\")","v":""},{"$f":"IFERROR(MATCH(TRUE,OFFSET(CalculationsAndCharts!$AH$33,E109,0,'Transaction Summary'!$C$2-E109,1),0)+E109,\"\")","v":""},{"$f":"IFERROR(OFFSET(CalculationsAndCharts!$B$32,'Transaction Summary'!E110,0,1,1),\"\")","v":""},{"$f":"IFERROR(OFFSET(CalculationsAndCharts!$AJ$32,'Transaction Summary'!E110,0,1,1),\"\")","v":""},"","",null,{"$f":"IFERROR(MATCH(TRUE,OFFSET(CalculationsAndCharts!$AN$33,K109,0,'Transaction Summary'!$C$2-K109,1),0)+K109,\"\")","v":""},{"$f":"IFERROR(OFFSET(CalculationsAndCharts!$B$32,'Transaction Summary'!K110,0,1,1),\"\")","v":""},{"$f":"IFERROR(OFFSET(CalculationsAndCharts!$AR$32,'Transaction Summary'!K110,0,1,1),\"\")","v":""},{"$f":"IFERROR(MATCH(TRUE,OFFSET(CalculationsAndCharts!$AQ$33,N109,0,'Transaction Summary'!$C$2-N109,1),0)+N109,\"\")","v":""},{"$f":"IFERROR(OFFSET(CalculationsAndCharts!$B$32,'Transaction Summary'!N110,0,1,1),\"\")","v":""},{"$f":"IFERROR(OFFSET(CalculationsAndCharts!$AS$32,'Transaction Summary'!N110,0,1,1),\"\")","v":""},"",""]
[null,{"$f":"IFERROR(MATCH(TRUE,OFFSET(CalculationsAndCharts!$AE$33,B110,0,'Transaction Summary'!$C$2-B110,1),0)+B110,\"\")","v":""},{"$f":"IFERROR(OFFSET(CalculationsAndCharts!$B$32,'Transaction Summary'!B111,0,1,1),\"\")","v":""},{"$f":"IFERROR(OFFSET(CalculationsAndCharts!$AI$32,'Transaction Summary'!B111,0,1,1),\"\")","v":""},{"$f":"IFERROR(MATCH(TRUE,OFFSET(CalculationsAndCharts!$AH$33,E110,0,'Transaction Summary'!$C$2-E110,1),0)+E110,\"\")","v":""},{"$f":"IFERROR(OFFSET(CalculationsAndCharts!$B$32,'Transaction Summary'!E111,0,1,1),\"\")","v":""},{"$f":"IFERROR(OFFSET(CalculationsAndCharts!$AJ$32,'Transaction Summary'!E111,0,1,1),\"\")","v":""},"","",null,{"$f":"IFERROR(MATCH(TRUE,OFFSET(CalculationsAndCharts!$AN$33,K110,0,'Transaction Summary'!$C$2-K110,1),0)+K110,\"\")","v":""},{"$f":"IFERROR(OFFSET(CalculationsAndCharts!$B$32,'Transaction Summary'!K111,0,1,1),\"\")","v":""},{"$f":"IFERROR(OFFSET(CalculationsAndCharts!$AR$32,'Transaction Summary'!K111,0,1,1),\"\")","v":""},{"$f":"IFERROR(MATCH(TRUE,OFFSET(CalculationsAndCharts!$AQ$33,N110,0,'Transaction Summary'!$C$2-N110,1),0)+N110,\"\")","v":""},{"$f":"IFERROR(OFFSET(CalculationsAndCharts!$B$32,'Transaction Summary'!N111,0,1,1),\"\")","v":""},{"$f":"IFERROR(OFFSET(CalculationsAndCharts!$AS$32,'Transaction Summary'!N111,0,1,1),\"\")","v":""},"",""]
[null,{"$f":"IFERROR(MATCH(TRUE,OFFSET(CalculationsAndCharts!$AE$33,B111,0,'Transaction Summary'!$C$2-B111,1),0)+B111,\"\")","v":""},{"$f":"IFERROR(OFFSET(CalculationsAndCharts!$B$32,'Transaction Summary'!B112,0,1,1),\"\")","v":""},{"$f":"IFERROR(OFFSET(CalculationsAndCharts!$AI$32,'Transaction Summary'!B112,0,1,1),\"\")","v":""},{"$f":"IFERROR(MATCH(TRUE,OFFSET(CalculationsAndCharts!$AH$33,E111,0,'Transaction Summary'!$C$2-E111,1),0)+E111,\"\")","v":""},{"$f":"IFERROR(OFFSET(CalculationsAndCharts!$B$32,'Transaction Summary'!E112,0,1,1),\"\")","v":""},{"$f":"IFERROR(OFFSET(CalculationsAndCharts!$AJ$32,'Transaction Summary'!E112,0,1,1),\"\")","v":""},"","",null,{"$f":"IFERROR(MATCH(TRUE,OFFSET(CalculationsAndCharts!$AN$33,K111,0,'Transaction Summary'!$C$2-K111,1),0)+K111,\"\")","v":""},{"$f":"IFERROR(OFFSET(CalculationsAndCharts!$B$32,'Transaction Summary'!K112,0,1,1),\"\")","v":""},{"$f":"IFERROR(OFFSET(CalculationsAndCharts!$AR$32,'Transaction Summary'!K112,0,1,1),\"\")","v":""},{"$f":"IFERROR(MATCH(TRUE,OFFSET(CalculationsAndCharts!$AQ$33,N111,0,'Transaction Summary'!$C$2-N111,1),0)+N111,\"\")","v":""},{"$f":"IFERROR(OFFSET(CalculationsAndCharts!$B$32,'Transaction Summary'!N112,0,1,1),\"\")","v":""},{"$f":"IFERROR(OFFSET(CalculationsAndCharts!$AS$32,'Transaction Summary'!N112,0,1,1),\"\")","v":""},"",""]
[null,{"$f":"IFERROR(MATCH(TRUE,OFFSET(CalculationsAndCharts!$AE$33,B112,0,'Transaction Summary'!$C$2-B112,1),0)+B112,\"\")","v":""},{"$f":"IFERROR(OFFSET(CalculationsAndCharts!$B$32,'Transaction Summary'!B113,0,1,1),\"\")","v":""},{"$f":"IFERROR(OFFSET(CalculationsAndCharts!$AI$32,'Transaction Summary'!B113,0,1,1),\"\")","v":""},{"$f":"IFERROR(MATCH(TRUE,OFFSET(CalculationsAndCharts!$AH$33,E112,0,'Transaction Summary'!$C$2-E112,1),0)+E112,\"\")","v":""},{"$f":"IFERROR(OFFSET(CalculationsAndCharts!$B$32,'Transaction Summary'!E113,0,1,1),\"\")","v":""},{"$f":"IFERROR(OFFSET(CalculationsAndCharts!$AJ$32,'Transaction Summary'!E113,0,1,1),\"\")","v":""},"","",null,{"$f":"IFERROR(MATCH(TRUE,OFFSET(CalculationsAndCharts!$AN$33,K112,0,'Transaction Summary'!$C$2-K112,1),0)+K112,\"\")","v":""},{"$f":"IFERROR(OFFSET(CalculationsAndCharts!$B$32,'Transaction Summary'!K113,0,1,1),\"\")","v":""},{"$f":"IFERROR(OFFSET(CalculationsAndCharts!$AR$32,'Transaction Summary'!K113,0,1,1),\"\")","v":""},{"$f":"IFERROR(MATCH(TRUE,OFFSET(CalculationsAndCharts!$AQ$33,N112,0,'Transaction Summary'!$C$2-N112,1),0)+N112,\"\")","v":""},{"$f":"IFERROR(OFFSET(CalculationsAndCharts!$B$32,'Transaction Summary'!N113,0,1,1),\"\")","v":""},{"$f":"IFERROR(OFFSET(CalculationsAndCharts!$AS$32,'Transaction Summary'!N113,0,1,1),\"\")","v":""},"",""]
[null,{"$f":"IFERROR(MATCH(TRUE,OFFSET(CalculationsAndCharts!$AE$33,B113,0,'Transaction Summary'!$C$2-B113,1),0)+B113,\"\")","v":""},{"$f":"IFERROR(OFFSET(CalculationsAndCharts!$B$32,'Transaction Summary'!B114,0,1,1),\"\")","v":""},{"$f":"IFERROR(OFFSET(CalculationsAndCharts!$AI$32,'Transaction Summary'!B114,0,1,1),\"\")","v":""},{"$f":"IFERROR(MATCH(TRUE,OFFSET(CalculationsAndCharts!$AH$33,E113,0,'Transaction Summary'!$C$2-E113,1),0)+E113,\"\")","v":""},{"$f":"IFERROR(OFFSET(CalculationsAndCharts!$B$32,'Transaction Summary'!E114,0,1,1),\"\")","v":""},{"$f":"IFERROR(OFFSET(CalculationsAndCharts!$AJ$32,'Transaction Summary'!E114,0,1,1),\"\")","v":""},"","",null,{"$f":"IFERROR(MATCH(TRUE,OFFSET(CalculationsAndCharts!$AN$33,K113,0,'Transaction Summary'!$C$2-K113,1),0)+K113,\"\")","v":""},{"$f":"IFERROR(OFFSET(CalculationsAndCharts!$B$32,'Transaction Summary'!K114,0,1,1),\"\")","v":""},{"$f":"IFERROR(OFFSET(CalculationsAndCharts!$AR$32,'Transaction Summary'!K114,0,1,1),\"\")","v":""},{"$f":"IFERROR(MATCH(TRUE,OFFSET(CalculationsAndCharts!$AQ$33,N113,0,'Transaction Summary'!$C$2-N113,1),0)+N113,\"\")","v":""},{"$f":"IFERROR(OFFSET(CalculationsAndCharts!$B$32,'Transaction Summary'!N114,0,1,1),\"\")","v":""},{"$f":"IFERROR(OFFSET(CalculationsAndCharts!$AS$32,'Transaction Summary'!N114,0,1,1),\"\")","v":""},"",""]
[null,{"$f":"IFERROR(MATCH(TRUE,OFFSET(CalculationsAndCharts!$AE$33,B114,0,'Transaction Summary'!$C$2-B114,1),0)+B114,\"\")","v":""},{"$f":"IFERROR(OFFSET(CalculationsAndCharts!$B$32,'Transaction Summary'!B115,0,1,1),\"\")","v":""},{"$f":"IFERROR(OFFSET(CalculationsAndCharts!$AI$32,'Transaction Summary'!B115,0,1,1),\"\")","v":""},{"$f":"IFERROR(MATCH(TRUE,OFFSET(CalculationsAndCharts!$AH$33,E114,0,'Transaction Summary'!$C$2-E114,1),0)+E114,\"\")","v":""},{"$f":"IFERROR(OFFSET(CalculationsAndCharts!$B$32,'Transaction Summary'!E115,0,1,1),\"\")","v":""},{"$f":"IFERROR(OFFSET(CalculationsAndCharts!$AJ$32,'Transaction Summary'!E115,0,1,1),\"\")","v":""},"","",null,{"$f":"IFERROR(MATCH(TRUE,OFFSET(CalculationsAndCharts!$AN$33,K114,0,'Transaction Summary'!$C$2-K114,1),0)+K114,\"\")","v":""},{"$f":"IFERROR(OFFSET(CalculationsAndCharts!$B$32,'Transaction Summary'!K115,0,1,1),\"\")","v":""},{"$f":"IFERROR(OFFSET(CalculationsAndCharts!$AR$32,'Transaction Summary'!K115,0,1,1),\"\")","v":""},{"$f":"IFERROR(MATCH(TRUE,OFFSET(CalculationsAndCharts!$AQ$33,N114,0,'Transaction Summary'!$C$2-N114,1),0)+N114,\"\")","v":""},{"$f":"IFERROR(OFFSET(CalculationsAndCharts!$B$32,'Transaction Summary'!N115,0,1,1),\"\")","v":""},{"$f":"IFERROR(OFFSET(CalculationsAndCharts!$AS$32,'Transaction Summary'!N115,0,1,1),\"\")","v":""},"",""]
[null,{"$f":"IFERROR(MATCH(TRUE,OFFSET(CalculationsAndCharts!$AE$33,B115,0,'Transaction Summary'!$C$2-B115,1),0)+B115,\"\")","v":""},{"$f":"IFERROR(OFFSET(CalculationsAndCharts!$B$32,'Transaction Summary'!B116,0,1,1),\"\")","v":""},{"$f":"IFERROR(OFFSET(CalculationsAndCharts!$AI$32,'Transaction Summary'!B116,0,1,1),\"\")","v":""},{"$f":"IFERROR(MATCH(TRUE,OFFSET(CalculationsAndCharts!$AH$33,E115,0,'Transaction Summary'!$C$2-E115,1),0)+E115,\"\")","v":""},{"$f":"IFERROR(OFFSET(CalculationsAndCharts!$B$32,'Transaction Summary'!E116,0,1,1),\"\")","v":""},{"$f":"IFERROR(OFFSET(CalculationsAndCharts!$AJ$32,'Transaction Summary'!E116,0,1,1),\"\")","v":""},"","",null,{"$f":"IFERROR(MATCH(TRUE,OFFSET(CalculationsAndCharts!$AN$33,K115,0,'Transaction Summary'!$C$2-K115,1),0)+K115,\"\")","v":""},{"$f":"IFERROR(OFFSET(CalculationsAndCharts!$B$32,'Transaction Summary'!K116,0,1,1),\"\")","v":""},{"$f":"IFERROR(OFFSET(CalculationsAndCharts!$AR$32,'Transaction Summary'!K116,0,1,1),\"\")","v":""},{"$f":"IFERROR(MATCH(TRUE,OFFSET(CalculationsAndCharts!$AQ$33,N115,0,'Transaction Summary'!$C$2-N115,1),0)+N115,\"\")","v":""},{"$f":"IFERROR(OFFSET(CalculationsAndCharts!$B$32,'Transaction Summary'!N116,0,1,1),\"\")","v":""},{"$f":"IFERROR(OFFSET(CalculationsAndCharts!$AS$32,'Transaction Summary'!N116,0,1,1),\"\")","v":""},"",""]
[null,{"$f":"IFERROR(MATCH(TRUE,OFFSET(CalculationsAndCharts!$AE$33,B116,0,'Transaction Summary'!$C$2-B116,1),0)+B116,\"\")","v":""},{"$f":"IFERROR(OFFSET(CalculationsAndCharts!$B$32,'Transaction Summary'!B117,0,1,1),\"\")","v":""},{"$f":"IFERROR(OFFSET(CalculationsAndCharts!$AI$32,'Transaction Summary'!B117,0,1,1),\"\")","v":""},{"$f":"IFERROR(MATCH(TRUE,OFFSET(CalculationsAndCharts!$AH$33,E116,0,'Transaction Summary'!$C$2-E116,1),0)+E116,\"\")","v":""},{"$f":"IFERROR(OFFSET(CalculationsAndCharts!$B$32,'Transaction Summary'!E117,0,1,1),\"\")","v":""},{"$f":"IFERROR(OFFSET(CalculationsAndCharts!$AJ$32,'Transaction Summary'!E117,0,1,1),\"\")","v":""},"","",null,{"$f":"IFERROR(MATCH(TRUE,OFFSET(CalculationsAndCharts!$AN$33,K116,0,'Transaction Summary'!$C$2-K116,1),0)+K116,\"\")","v":""},{"$f":"IFERROR(OFFSET(CalculationsAndCharts!$B$32,'Transaction Summary'!K117,0,1,1),\"\")","v":""},{"$f":"IFERROR(OFFSET(CalculationsAndCharts!$AR$32,'Transaction Summary'!K117,0,1,1),\"\")","v":""},{"$f":"IFERROR(MATCH(TRUE,OFFSET(CalculationsAndCharts!$AQ$33,N116,0,'Transaction Summary'!$C$2-N116,1),0)+N116,\"\")","v":""},{"$f":"IFERROR(OFFSET(CalculationsAndCharts!$B$32,'Transaction Summary'!N117,0,1,1),\"\")","v":""},{"$f":"IFERROR(OFFSET(CalculationsAndCharts!$AS$32,'Transaction Summary'!N117,0,1,1),\"\")","v":""},"",""]
[null,{"$f":"IFERROR(MATCH(TRUE,OFFSET(CalculationsAndCharts!$AE$33,B117,0,'Transaction Summary'!$C$2-B117,1),0)+B117,\"\")","v":""},{"$f":"IFERROR(OFFSET(CalculationsAndCharts!$B$32,'Transaction Summary'!B118,0,1,1),\"\")","v":""},{"$f":"IFERROR(OFFSET(CalculationsAndCharts!$AI$32,'Transaction Summary'!B118,0,1,1),\"\")","v":""},{"$f":"IFERROR(MATCH(TRUE,OFFSET(CalculationsAndCharts!$AH$33,E117,0,'Transaction Summary'!$C$2-E117,1),0)+E117,\"\")","v":""},{"$f":"IFERROR(OFFSET(CalculationsAndCharts!$B$32,'Transaction Summary'!E118,0,1,1),\"\")","v":""},{"$f":"IFERROR(OFFSET(CalculationsAndCharts!$AJ$32,'Transaction Summary'!E118,0,1,1),\"\")","v":""},"","",null,{"$f":"IFERROR(MATCH(TRUE,OFFSET(CalculationsAndCharts!$AN$33,K117,0,'Transaction Summary'!$C$2-K117,1),0)+K117,\"\")","v":""},{"$f":"IFERROR(OFFSET(CalculationsAndCharts!$B$32,'Transaction Summary'!K118,0,1,1),\"\")","v":""},{"$f":"IFERROR(OFFSET(CalculationsAndCharts!$AR$32,'Transaction Summary'!K118,0,1,1),\"\")","v":""},{"$f":"IFERROR(MATCH(TRUE,OFFSET(CalculationsAndCharts!$AQ$33,N117,0,'Transaction Summary'!$C$2-N117,1),0)+N117,\"\")","v":""},{"$f":"IFERROR(OFFSET(CalculationsAndCharts!$B$32,'Transaction Summary'!N118,0,1,1),\"\")","v":""},{"$f":"IFERROR(OFFSET(CalculationsAndCharts!$AS$32,'Transaction Summary'!N118,0,1,1),\"\")","v":""},"",""]
[null,{"$f":"IFERROR(MATCH(TRUE,OFFSET(CalculationsAndCharts!$AE$33,B118,0,'Transaction Summary'!$C$2-B118,1),0)+B118,\"\")","v":""},{"$f":"IFERROR(OFFSET(CalculationsAndCharts!$B$32,'Transaction Summary'!B119,0,1,1),\"\")","v":""},{"$f":"IFERROR(OFFSET(CalculationsAndCharts!$AI$32,'Transaction Summary'!B119,0,1,1),\"\")","v":""},{"$f":"IFERROR(MATCH(TRUE,OFFSET(CalculationsAndCharts!$AH$33,E118,0,'Transaction Summary'!$C$2-E118,1),0)+E118,\"\")","v":""},{"$f":"IFERROR(OFFSET(CalculationsAndCharts!$B$32,'Transaction Summary'!E119,0,1,1),\"\")","v":""},{"$f":"IFERROR(OFFSET(CalculationsAndCharts!$AJ$32,'Transaction Summary'!E119,0,1,1),\"\")","v":""},"","",null,{"$f":"IFERROR(MATCH(TRUE,OFFSET(CalculationsAndCharts!$AN$33,K118,0,'Transaction Summary'!$C$2-K118,1),0)+K118,\"\")","v":""},{"$f":"IFERROR(OFFSET(CalculationsAndCharts!$B$32,'Transaction Summary'!K119,0,1,1),\"\")","v":""},{"$f":"IFERROR(OFFSET(CalculationsAndCharts!$AR$32,'Transaction Summary'!K119,0,1,1),\"\")","v":""},{"$f":"IFERROR(MATCH(TRUE,OFFSET(CalculationsAndCharts!$AQ$33,N118,0,'Transaction Summary'!$C$2-N118,1),0)+N118,\"\")","v":""},{"$f":"IFERROR(OFFSET(CalculationsAndCharts!$B$32,'Transaction Summary'!N119,0,1,1),\"\")","v":""},{"$f":"IFERROR(OFFSET(CalculationsAndCharts!$AS$32,'Transaction Summary'!N119,0,1,1),\"\")","v":""},"",""]
[null,{"$f":"IFERROR(MATCH(TRUE,OFFSET(CalculationsAndCharts!$AE$33,B119,0,'Transaction Summary'!$C$2-B119,1),0)+B119,\"\")","v":""},{"$f":"IFERROR(OFFSET(CalculationsAndCharts!$B$32,'Transaction Summary'!B120,0,1,1),\"\")","v":""},{"$f":"IFERROR(OFFSET(CalculationsAndCharts!$AI$32,'Transaction Summary'!B120,0,1,1),\"\")","v":""},{"$f":"IFERROR(MATCH(TRUE,OFFSET(CalculationsAndCharts!$AH$33,E119,0,'Transaction Summary'!$C$2-E119,1),0)+E119,\"\")","v":""},{"$f":"IFERROR(OFFSET(CalculationsAndCharts!$B$32,'Transaction Summary'!E120,0,1,1),\"\")","v":""},{"$f":"IFERROR(OFFSET(CalculationsAndCharts!$AJ$32,'Transaction Summary'!E120,0,1,1),\"\")","v":""},"","",null,{"$f":"IFERROR(MATCH(TRUE,OFFSET(CalculationsAndCharts!$AN$33,K119,0,'Transaction Summary'!$C$2-K119,1),0)+K119,\"\")","v":""},{"$f":"IFERROR(OFFSET(CalculationsAndCharts!$B$32,'Transaction Summary'!K120,0,1,1),\"\")","v":""},{"$f":"IFERROR(OFFSET(CalculationsAndCharts!$AR$32,'Transaction Summary'!K120,0,1,1),\"\")","v":""},{"$f":"IFERROR(MATCH(TRUE,OFFSET(CalculationsAndCharts!$AQ$33,N119,0,'Transaction Summary'!$C$2-N119,1),0)+N119,\"\")","v":""},{"$f":"IFERROR(OFFSET(CalculationsAndCharts!$B$32,'Transaction Summary'!N120,0,1,1),\"\")","v":""},{"$f":"IFERROR(OFFSET(CalculationsAndCharts!$AS$32,'Transaction Summary'!N120,0,1,1),\"\")","v":""},"",""]
[null,{"$f":"IFERROR(MATCH(TRUE,OFFSET(CalculationsAndCharts!$AE$33,B120,0,'Transaction Summary'!$C$2-B120,1),0)+B120,\"\")","v":""},{"$f":"IFERROR(OFFSET(CalculationsAndCharts!$B$32,'Transaction Summary'!B121,0,1,1),\"\")","v":""},{"$f":"IFERROR(OFFSET(CalculationsAndCharts!$AI$32,'Transaction Summary'!B121,0,1,1),\"\")","v":""},{"$f":"IFERROR(MATCH(TRUE,OFFSET(CalculationsAndCharts!$AH$33,E120,0,'Transaction Summary'!$C$2-E120,1),0)+E120,\"\")","v":""},{"$f":"IFERROR(OFFSET(CalculationsAndCharts!$B$32,'Transaction Summary'!E121,0,1,1),\"\")","v":""},{"$f":"IFERROR(OFFSET(CalculationsAndCharts!$AJ$32,'Transaction Summary'!E121,0,1,1),\"\")","v":""},"","",null,{"$f":"IFERROR(MATCH(TRUE,OFFSET(CalculationsAndCharts!$AN$33,K120,0,'Transaction Summary'!$C$2-K120,1),0)+K120,\"\")","v":""},{"$f":"IFERROR(OFFSET(CalculationsAndCharts!$B$32,'Transaction Summary'!K121,0,1,1),\"\")","v":""},{"$f":"IFERROR(OFFSET(CalculationsAndCharts!$AR$32,'Transaction Summary'!K121,0,1,1),\"\")","v":""},{"$f":"IFERROR(MATCH(TRUE,OFFSET(CalculationsAndCharts!$AQ$33,N120,0,'Transaction Summary'!$C$2-N120,1),0)+N120,\"\")","v":""},{"$f":"IFERROR(OFFSET(CalculationsAndCharts!$B$32,'Transaction Summary'!N121,0,1,1),\"\")","v":""},{"$f":"IFERROR(OFFSET(CalculationsAndCharts!$AS$32,'Transaction Summary'!N121,0,1,1),\"\")","v":""},"",""]
[null,{"$f":"IFERROR(MATCH(TRUE,OFFSET(CalculationsAndCharts!$AE$33,B121,0,'Transaction Summary'!$C$2-B121,1),0)+B121,\"\")","v":""},{"$f":"IFERROR(OFFSET(CalculationsAndCharts!$B$32,'Transaction Summary'!B122,0,1,1),\"\")","v":""},{"$f":"IFERROR(OFFSET(CalculationsAndCharts!$AI$32,'Transaction Summary'!B122,0,1,1),\"\")","v":""},{"$f":"IFERROR(MATCH(TRUE,OFFSET(CalculationsAndCharts!$AH$33,E121,0,'Transaction Summary'!$C$2-E121,1),0)+E121,\"\")","v":""},{"$f":"IFERROR(OFFSET(CalculationsAndCharts!$B$32,'Transaction Summary'!E122,0,1,1),\"\")","v":""},{"$f":"IFERROR(OFFSET(CalculationsAndCharts!$AJ$32,'Transaction Summary'!E122,0,1,1),\"\")","v":""},"","",null,{"$f":"IFERROR(MATCH(TRUE,OFFSET(CalculationsAndCharts!$AN$33,K121,0,'Transaction Summary'!$C$2-K121,1),0)+K121,\"\")","v":""},{"$f":"IFERROR(OFFSET(CalculationsAndCharts!$B$32,'Transaction Summary'!K122,0,1,1),\"\")","v":""},{"$f":"IFERROR(OFFSET(CalculationsAndCharts!$AR$32,'Transaction Summary'!K122,0,1,1),\"\")","v":""},{"$f":"IFERROR(MATCH(TRUE,OFFSET(CalculationsAndCharts!$AQ$33,N121,0,'Transaction Summary'!$C$2-N121,1),0)+N121,\"\")","v":""},{"$f":"IFERROR(OFFSET(CalculationsAndCharts!$B$32,'Transaction Summary'!N122,0,1,1),\"\")","v":""},{"$f":"IFERROR(OFFSET(CalculationsAndCharts!$AS$32,'Transaction Summary'!N122,0,1,1),\"\")","v":""},"",""]
[null,{"$f":"IFERROR(MATCH(TRUE,OFFSET(CalculationsAndCharts!$AE$33,B122,0,'Transaction Summary'!$C$2-B122,1),0)+B122,\"\")","v":""},{"$f":"IFERROR(OFFSET(CalculationsAndCharts!$B$32,'Transaction Summary'!B123,0,1,1),\"\")","v":""},{"$f":"IFERROR(OFFSET(CalculationsAndCharts!$AI$32,'Transaction Summary'!B123,0,1,1),\"\")","v":""},{"$f":"IFERROR(MATCH(TRUE,OFFSET(CalculationsAndCharts!$AH$33,E122,0,'Transaction Summary'!$C$2-E122,1),0)+E122,\"\")","v":""},{"$f":"IFERROR(OFFSET(CalculationsAndCharts!$B$32,'Transaction Summary'!E123,0,1,1),\"\")","v":""},{"$f":"IFERROR(OFFSET(CalculationsAndCharts!$AJ$32,'Transaction Summary'!E123,0,1,1),\"\")","v":""},"","",null,{"$f":"IFERROR(MATCH(TRUE,OFFSET(CalculationsAndCharts!$AN$33,K122,0,'Transaction Summary'!$C$2-K122,1),0)+K122,\"\")","v":""},{"$f":"IFERROR(OFFSET(CalculationsAndCharts!$B$32,'Transaction Summary'!K123,0,1,1),\"\")","v":""},{"$f":"IFERROR(OFFSET(CalculationsAndCharts!$AR$32,'Transaction Summary'!K123,0,1,1),\"\")","v":""},{"$f":"IFERROR(MATCH(TRUE,OFFSET(CalculationsAndCharts!$AQ$33,N122,0,'Transaction Summary'!$C$2-N122,1),0)+N122,\"\")","v":""},{"$f":"IFERROR(OFFSET(CalculationsAndCharts!$B$32,'Transaction Summary'!N123,0,1,1),\"\")","v":""},{"$f":"IFERROR(OFFSET(CalculationsAndCharts!$AS$32,'Transaction Summary'!N123,0,1,1),\"\")","v":""},"",""]
[null,{"$f":"IFERROR(MATCH(TRUE,OFFSET(CalculationsAndCharts!$AE$33,B123,0,'Transaction Summary'!$C$2-B123,1),0)+B123,\"\")","v":""},{"$f":"IFERROR(OFFSET(CalculationsAndCharts!$B$32,'Transaction Summary'!B124,0,1,1),\"\")","v":""},{"$f":"IFERROR(OFFSET(CalculationsAndCharts!$AI$32,'Transaction Summary'!B124,0,1,1),\"\")","v":""},{"$f":"IFERROR(MATCH(TRUE,OFFSET(CalculationsAndCharts!$AH$33,E123,0,'Transaction Summary'!$C$2-E123,1),0)+E123,\"\")","v":""},{"$f":"IFERROR(OFFSET(CalculationsAndCharts!$B$32,'Transaction Summary'!E124,0,1,1),\"\")","v":""},{"$f":"IFERROR(OFFSET(CalculationsAndCharts!$AJ$32,'Transaction Summary'!E124,0,1,1),\"\")","v":""},"","",null,{"$f":"IFERROR(MATCH(TRUE,OFFSET(CalculationsAndCharts!$AN$33,K123,0,'Transaction Summary'!$C$2-K123,1),0)+K123,\"\")","v":""},{"$f":"IFERROR(OFFSET(CalculationsAndCharts!$B$32,'Transaction Summary'!K124,0,1,1),\"\")","v":""},{"$f":"IFERROR(OFFSET(CalculationsAndCharts!$AR$32,'Transaction Summary'!K124,0,1,1),\"\")","v":""},{"$f":"IFERROR(MATCH(TRUE,OFFSET(CalculationsAndCharts!$AQ$33,N123,0,'Transaction Summary'!$C$2-N123,1),0)+N123,\"\")","v":""},{"$f":"IFERROR(OFFSET(CalculationsAndCharts!$B$32,'Transaction Summary'!N124,0,1,1),\"\")","v":""},{"$f":"IFERROR(OFFSET(CalculationsAndCharts!$AS$32,'Transaction Summary'!N124,0,1,1),\"\")","v":""},"",""]
[null,{"$f":"IFERROR(MATCH(TRUE,OFFSET(CalculationsAndCharts!$AE$33,B124,0,'Transaction Summary'!$C$2-B124,1),0)+B124,\"\")","v":""},{"$f":"IFERROR(OFFSET(CalculationsAndCharts!$B$32,'Transaction Summary'!B125,0,1,1),\"\")","v":""},{"$f":"IFERROR(OFFSET(CalculationsAndCharts!$AI$32,'Transaction Summary'!B125,0,1,1),\"\")","v":""},{"$f":"IFERROR(MATCH(TRUE,OFFSET(CalculationsAndCharts!$AH$33,E124,0,'Transaction Summary'!$C$2-E124,1),0)+E124,\"\")","v":""},{"$f":"IFERROR(OFFSET(CalculationsAndCharts!$B$32,'Transaction Summary'!E125,0,1,1),\"\")","v":""},{"$f":"IFERROR(OFFSET(CalculationsAndCharts!$AJ$32,'Transaction Summary'!E125,0,1,1),\"\")","v":""},"","",null,{"$f":"IFERROR(MATCH(TRUE,OFFSET(CalculationsAndCharts!$AN$33,K124,0,'Transaction Summary'!$C$2-K124,1),0)+K124,\"\")","v":""},{"$f":"IFERROR(OFFSET(CalculationsAndCharts!$B$32,'Transaction Summary'!K125,0,1,1),\"\")","v":""},{"$f":"IFERROR(OFFSET(CalculationsAndCharts!$AR$32,'Transaction Summary'!K125,0,1,1),\"\")","v":""},{"$f":"IFERROR(MATCH(TRUE,OFFSET(CalculationsAndCharts!$AQ$33,N124,0,'Transaction Summary'!$C$2-N124,1),0)+N124,\"\")","v":""},{"$f":"IFERROR(OFFSET(CalculationsAndCharts!$B$32,'Transaction Summary'!N125,0,1,1),\"\")","v":""},{"$f":"IFERROR(OFFSET(CalculationsAndCharts!$AS$32,'Transaction Summary'!N125,0,1,1),\"\")","v":""},"",""]
[null,{"$f":"IFERROR(MATCH(TRUE,OFFSET(CalculationsAndCharts!$AE$33,B125,0,'Transaction Summary'!$C$2-B125,1),0)+B125,\"\")","v":""},{"$f":"IFERROR(OFFSET(CalculationsAndCharts!$B$32,'Transaction Summary'!B126,0,1,1),\"\")","v":""},{"$f":"IFERROR(OFFSET(CalculationsAndCharts!$AI$32,'Transaction Summary'!B126,0,1,1),\"\")","v":""},{"$f":"IFERROR(MATCH(TRUE,OFFSET(CalculationsAndCharts!$AH$33,E125,0,'Transaction Summary'!$C$2-E125,1),0)+E125,\"\")","v":""},{"$f":"IFERROR(OFFSET(CalculationsAndCharts!$B$32,'Transaction Summary'!E126,0,1,1),\"\")","v":""},{"$f":"IFERROR(OFFSET(CalculationsAndCharts!$AJ$32,'Transaction Summary'!E126,0,1,1),\"\")","v":""},"","",null,{"$f":"IFERROR(MATCH(TRUE,OFFSET(CalculationsAndCharts!$AN$33,K125,0,'Transaction Summary'!$C$2-K125,1),0)+K125,\"\")","v":""},{"$f":"IFERROR(OFFSET(CalculationsAndCharts!$B$32,'Transaction Summary'!K126,0,1,1),\"\")","v":""},{"$f":"IFERROR(OFFSET(CalculationsAndCharts!$AR$32,'Transaction Summary'!K126,0,1,1),\"\")","v":""},{"$f":"IFERROR(MATCH(TRUE,OFFSET(CalculationsAndCharts!$AQ$33,N125,0,'Transaction Summary'!$C$2-N125,1),0)+N125,\"\")","v":""},{"$f":"IFERROR(OFFSET(CalculationsAndCharts!$B$32,'Transaction Summary'!N126,0,1,1),\"\")","v":""},{"$f":"IFERROR(OFFSET(CalculationsAndCharts!$AS$32,'Transaction Summary'!N126,0,1,1),\"\")","v":""},"",""]
[null,{"$f":"IFERROR(MATCH(TRUE,OFFSET(CalculationsAndCharts!$AE$33,B126,0,'Transaction Summary'!$C$2-B126,1),0)+B126,\"\")","v":""},{"$f":"IFERROR(OFFSET(CalculationsAndCharts!$B$32,'Transaction Summary'!B127,0,1,1),\"\")","v":""},{"$f":"IFERROR(OFFSET(CalculationsAndCharts!$AI$32,'Transaction Summary'!B127,0,1,1),\"\")","v":""},{"$f":"IFERROR(MATCH(TRUE,OFFSET(CalculationsAndCharts!$AH$33,E126,0,'Transaction Summary'!$C$2-E126,1),0)+E126,\"\")","v":""},{"$f":"IFERROR(OFFSET(CalculationsAndCharts!$B$32,'Transaction Summary'!E127,0,1,1),\"\")","v":""},{"$f":"IFERROR(OFFSET(CalculationsAndCharts!$AJ$32,'Transaction Summary'!E127,0,1,1),\"\")","v":""},"","",null,{"$f":"IFERROR(MATCH(TRUE,OFFSET(CalculationsAndCharts!$AN$33,K126,0,'Transaction Summary'!$C$2-K126,1),0)+K126,\"\")","v":""},{"$f":"IFERROR(OFFSET(CalculationsAndCharts!$B$32,'Transaction Summary'!K127,0,1,1),\"\")","v":""},{"$f":"IFERROR(OFFSET(CalculationsAndCharts!$AR$32,'Transaction Summary'!K127,0,1,1),\"\")","v":""},{"$f":"IFERROR(MATCH(TRUE,OFFSET(CalculationsAndCharts!$AQ$33,N126,0,'Transaction Summary'!$C$2-N126,1),0)+N126,\"\")","v":""},{"$f":"IFERROR(OFFSET(CalculationsAndCharts!$B$32,'Transaction Summary'!N127,0,1,1),\"\")","v":""},{"$f":"IFERROR(OFFSET(CalculationsAndCharts!$AS$32,'Transaction Summary'!N127,0,1,1),\"\")","v":""},"",""]
[null,{"$f":"IFERROR(MATCH(TRUE,OFFSET(CalculationsAndCharts!$AE$33,B127,0,'Transaction Summary'!$C$2-B127,1),0)+B127,\"\")","v":""},{"$f":"IFERROR(OFFSET(CalculationsAndCharts!$B$32,'Transaction Summary'!B128,0,1,1),\"\")","v":""},{"$f":"IFERROR(OFFSET(CalculationsAndCharts!$AI$32,'Transaction Summary'!B128,0,1,1),\"\")","v":""},{"$f":"IFERROR(MATCH(TRUE,OFFSET(CalculationsAndCharts!$AH$33,E127,0,'Transaction Summary'!$C$2-E127,1),0)+E127,\"\")","v":""},{"$f":"IFERROR(OFFSET(CalculationsAndCharts!$B$32,'Transaction Summary'!E128,0,1,1),\"\")","v":""},{"$f":"IFERROR(OFFSET(CalculationsAndCharts!$AJ$32,'Transaction Summary'!E128,0,1,1),\"\")","v":""},"","",null,{"$f":"IFERROR(MATCH(TRUE,OFFSET(CalculationsAndCharts!$AN$33,K127,0,'Transaction Summary'!$C$2-K127,1),0)+K127,\"\")","v":""},{"$f":"IFERROR(OFFSET(CalculationsAndCharts!$B$32,'Transaction Summary'!K128,0,1,1),\"\")","v":""},{"$f":"IFERROR(OFFSET(CalculationsAndCharts!$AR$32,'Transaction Summary'!K128,0,1,1),\"\")","v":""},{"$f":"IFERROR(MATCH(TRUE,OFFSET(CalculationsAndCharts!$AQ$33,N127,0,'Transaction Summary'!$C$2-N127,1),0)+N127,\"\")","v":""},{"$f":"IFERROR(OFFSET(CalculationsAndCharts!$B$32,'Transaction Summary'!N128,0,1,1),\"\")","v":""},{"$f":"IFERROR(OFFSET(CalculationsAndCharts!$AS$32,'Transaction Summary'!N128,0,1,1),\"\")","v":""},"",""]
[null,{"$f":"IFERROR(MATCH(TRUE,OFFSET(CalculationsAndCharts!$AE$33,B128,0,'Transaction Summary'!$C$2-B128,1),0)+B128,\"\")","v":""},{"$f":"IFERROR(OFFSET(CalculationsAndCharts!$B$32,'Transaction Summary'!B129,0,1,1),\"\")","v":""},{"$f":"IFERROR(OFFSET(CalculationsAndCharts!$AI$32,'Transaction Summary'!B129,0,1,1),\"\")","v":""},{"$f":"IFERROR(MATCH(TRUE,OFFSET(CalculationsAndCharts!$AH$33,E128,0,'Transaction Summary'!$C$2-E128,1),0)+E128,\"\")","v":""},{"$f":"IFERROR(OFFSET(CalculationsAndCharts!$B$32,'Transaction Summary'!E129,0,1,1),\"\")","v":""},{"$f":"IFERROR(OFFSET(CalculationsAndCharts!$AJ$32,'Transaction Summary'!E129,0,1,1),\"\")","v":""},"","",null,{"$f":"IFERROR(MATCH(TRUE,OFFSET(CalculationsAndCharts!$AN$33,K128,0,'Transaction Summary'!$C$2-K128,1),0)+K128,\"\")","v":""},{"$f":"IFERROR(OFFSET(CalculationsAndCharts!$B$32,'Transaction Summary'!K129,0,1,1),\"\")","v":""},{"$f":"IFERROR(OFFSET(CalculationsAndCharts!$AR$32,'Transaction Summary'!K129,0,1,1),\"\")","v":""},{"$f":"IFERROR(MATCH(TRUE,OFFSET(CalculationsAndCharts!$AQ$33,N128,0,'Transaction Summary'!$C$2-N128,1),0)+N128,\"\")","v":""},{"$f":"IFERROR(OFFSET(CalculationsAndCharts!$B$32,'Transaction Summary'!N129,0,1,1),\"\")","v":""},{"$f":"IFERROR(OFFSET(CalculationsAndCharts!$AS$32,'Transaction Summary'!N129,0,1,1),\"\")","v":""},"",""]
[null,{"$f":"IFERROR(MATCH(TRUE,OFFSET(CalculationsAndCharts!$AE$33,B129,0,'Transaction Summary'!$C$2-B129,1),0)+B129,\"\")","v":""},{"$f":"IFERROR(OFFSET(CalculationsAndCharts!$B$32,'Transaction Summary'!B130,0,1,1),\"\")","v":""},{"$f":"IFERROR(OFFSET(CalculationsAndCharts!$AI$32,'Transaction Summary'!B130,0,1,1),\"\")","v":""},{"$f":"IFERROR(MATCH(TRUE,OFFSET(CalculationsAndCharts!$AH$33,E129,0,'Transaction Summary'!$C$2-E129,1),0)+E129,\"\")","v":""},{"$f":"IFERROR(OFFSET(CalculationsAndCharts!$B$32,'Transaction Summary'!E130,0,1,1),\"\")","v":""},{"$f":"IFERROR(OFFSET(CalculationsAndCharts!$AJ$32,'Transaction Summary'!E130,0,1,1),\"\")","v":""},"","",null,{"$f":"IFERROR(MATCH(TRUE,OFFSET(CalculationsAndCharts!$AN$33,K129,0,'Transaction Summary'!$C$2-K129,1),0)+K129,\"\")","v":""},{"$f":"IFERROR(OFFSET(CalculationsAndCharts!$B$32,'Transaction Summary'!K130,0,1,1),\"\")","v":""},{"$f":"IFERROR(OFFSET(CalculationsAndCharts!$AR$32,'Transaction Summary'!K130,0,1,1),\"\")","v":""},{"$f":"IFERROR(MATCH(TRUE,OFFSET(CalculationsAndCharts!$AQ$33,N129,0,'Transaction Summary'!$C$2-N129,1),0)+N129,\"\")","v":""},{"$f":"IFERROR(OFFSET(CalculationsAndCharts!$B$32,'Transaction Summary'!N130,0,1,1),\"\")","v":""},{"$f":"IFERROR(OFFSET(CalculationsAndCharts!$AS$32,'Transaction Summary'!N130,0,1,1),\"\")","v":""},"",""]
[null,{"$f":"IFERROR(MATCH(TRUE,OFFSET(CalculationsAndCharts!$AE$33,B130,0,'Transaction Summary'!$C$2-B130,1),0)+B130,\"\")","v":""},{"$f":"IFERROR(OFFSET(CalculationsAndCharts!$B$32,'Transaction Summary'!B131,0,1,1),\"\")","v":""},{"$f":"IFERROR(OFFSET(CalculationsAndCharts!$AI$32,'Transaction Summary'!B131,0,1,1),\"\")","v":""},{"$f":"IFERROR(MATCH(TRUE,OFFSET(CalculationsAndCharts!$AH$33,E130,0,'Transaction Summary'!$C$2-E130,1),0)+E130,\"\")","v":""},{"$f":"IFERROR(OFFSET(CalculationsAndCharts!$B$32,'Transaction Summary'!E131,0,1,1),\"\")","v":""},{"$f":"IFERROR(OFFSET(CalculationsAndCharts!$AJ$32,'Transaction Summary'!E131,0,1,1),\"\")","v":""},"","",null,{"$f":"IFERROR(MATCH(TRUE,OFFSET(CalculationsAndCharts!$AN$33,K130,0,'Transaction Summary'!$C$2-K130,1),0)+K130,\"\")","v":""},{"$f":"IFERROR(OFFSET(CalculationsAndCharts!$B$32,'Transaction Summary'!K131,0,1,1),\"\")","v":""},{"$f":"IFERROR(OFFSET(CalculationsAndCharts!$AR$32,'Transaction Summary'!K131,0,1,1),\"\")","v":""},{"$f":"IFERROR(MATCH(TRUE,OFFSET(CalculationsAndCharts!$AQ$33,N130,0,'Transaction Summary'!$C$2-N130,1),0)+N130,\"\")","v":""},{"$f":"IFERROR(OFFSET(CalculationsAndCharts!$B$32,'Transaction Summary'!N131,0,1,1),\"\")","v":""},{"$f":"IFERROR(OFFSET(CalculationsAndCharts!$AS$32,'Transaction Summary'!N131,0,1,1),\"\")","v":""},"",""]
[null,{"$f":"IFERROR(MATCH(TRUE,OFFSET(CalculationsAndCharts!$AE$33,B131,0,'Transaction Summary'!$C$2-B131,1),0)+B131,\"\")","v":""},{"$f":"IFERROR(OFFSET(CalculationsAndCharts!$B$32,'Transaction Summary'!B132,0,1,1),\"\")","v":""},{"$f":"IFERROR(OFFSET(CalculationsAndCharts!$AI$32,'Transaction Summary'!B132,0,1,1),\"\")","v":""},{"$f":"IFERROR(MATCH(TRUE,OFFSET(CalculationsAndCharts!$AH$33,E131,0,'Transaction Summary'!$C$2-E131,1),0)+E131,\"\")","v":""},{"$f":"IFERROR(OFFSET(CalculationsAndCharts!$B$32,'Transaction Summary'!E132,0,1,1),\"\")","v":""},{"$f":"IFERROR(OFFSET(CalculationsAndCharts!$AJ$32,'Transaction Summary'!E132,0,1,1),\"\")","v":""},"","",null,{"$f":"IFERROR(MATCH(TRUE,OFFSET(CalculationsAndCharts!$AN$33,K131,0,'Transaction Summary'!$C$2-K131,1),0)+K131,\"\")","v":""},{"$f":"IFERROR(OFFSET(CalculationsAndCharts!$B$32,'Transaction Summary'!K132,0,1,1),\"\")","v":""},{"$f":"IFERROR(OFFSET(CalculationsAndCharts!$AR$32,'Transaction Summary'!K132,0,1,1),\"\")","v":""},{"$f":"IFERROR(MATCH(TRUE,OFFSET(CalculationsAndCharts!$AQ$33,N131,0,'Transaction Summary'!$C$2-N131,1),0)+N131,\"\")","v":""},{"$f":"IFERROR(OFFSET(CalculationsAndCharts!$B$32,'Transaction Summary'!N132,0,1,1),\"\")","v":""},{"$f":"IFERROR(OFFSET(CalculationsAndCharts!$AS$32,'Transaction Summary'!N132,0,1,1),\"\")","v":""},"",""]
[null,{"$f":"IFERROR(MATCH(TRUE,OFFSET(CalculationsAndCharts!$AE$33,B132,0,'Transaction Summary'!$C$2-B132,1),0)+B132,\"\")","v":""},{"$f":"IFERROR(OFFSET(CalculationsAndCharts!$B$32,'Transaction Summary'!B133,0,1,1),\"\")","v":""},{"$f":"IFERROR(OFFSET(CalculationsAndCharts!$AI$32,'Transaction Summary'!B133,0,1,1),\"\")","v":""},{"$f":"IFERROR(MATCH(TRUE,OFFSET(CalculationsAndCharts!$AH$33,E132,0,'Transaction Summary'!$C$2-E132,1),0)+E132,\"\")","v":""},{"$f":"IFERROR(OFFSET(CalculationsAndCharts!$B$32,'Transaction Summary'!E133,0,1,1),\"\")","v":""},{"$f":"IFERROR(OFFSET(CalculationsAndCharts!$AJ$32,'Transaction Summary'!E133,0,1,1),\"\")","v":""},"","",null,{"$f":"IFERROR(MATCH(TRUE,OFFSET(CalculationsAndCharts!$AN$33,K132,0,'Transaction Summary'!$C$2-K132,1),0)+K132,\"\")","v":""},{"$f":"IFERROR(OFFSET(CalculationsAndCharts!$B$32,'Transaction Summary'!K133,0,1,1),\"\")","v":""},{"$f":"IFERROR(OFFSET(CalculationsAndCharts!$AR$32,'Transaction Summary'!K133,0,1,1),\"\")","v":""},{"$f":"IFERROR(MATCH(TRUE,OFFSET(CalculationsAndCharts!$AQ$33,N132,0,'Transaction Summary'!$C$2-N132,1),0)+N132,\"\")","v":""},{"$f":"IFERROR(OFFSET(CalculationsAndCharts!$B$32,'Transaction Summary'!N133,0,1,1),\"\")","v":""},{"$f":"IFERROR(OFFSET(CalculationsAndCharts!$AS$32,'Transaction Summary'!N133,0,1,1),\"\")","v":""},"",""]
[null,{"$f":"IFERROR(MATCH(TRUE,OFFSET(CalculationsAndCharts!$AE$33,B133,0,'Transaction Summary'!$C$2-B133,1),0)+B133,\"\")","v":""},{"$f":"IFERROR(OFFSET(CalculationsAndCharts!$B$32,'Transaction Summary'!B134,0,1,1),\"\")","v":""},{"$f":"IFERROR(OFFSET(CalculationsAndCharts!$AI$32,'Transaction Summary'!B134,0,1,1),\"\")","v":""},{"$f":"IFERROR(MATCH(TRUE,OFFSET(CalculationsAndCharts!$AH$33,E133,0,'Transaction Summary'!$C$2-E133,1),0)+E133,\"\")","v":""},{"$f":"IFERROR(OFFSET(CalculationsAndCharts!$B$32,'Transaction Summary'!E134,0,1,1),\"\")","v":""},{"$f":"IFERROR(OFFSET(CalculationsAndCharts!$AJ$32,'Transaction Summary'!E134,0,1,1),\"\")","v":""},"","",null,{"$f":"IFERROR(MATCH(TRUE,OFFSET(CalculationsAndCharts!$AN$33,K133,0,'Transaction Summary'!$C$2-K133,1),0)+K133,\"\")","v":""},{"$f":"IFERROR(OFFSET(CalculationsAndCharts!$B$32,'Transaction Summary'!K134,0,1,1),\"\")","v":""},{"$f":"IFERROR(OFFSET(CalculationsAndCharts!$AR$32,'Transaction Summary'!K134,0,1,1),\"\")","v":""},{"$f":"IFERROR(MATCH(TRUE,OFFSET(CalculationsAndCharts!$AQ$33,N133,0,'Transaction Summary'!$C$2-N133,1),0)+N133,\"\")","v":""},{"$f":"IFERROR(OFFSET(CalculationsAndCharts!$B$32,'Transaction Summary'!N134,0,1,1),\"\")","v":""},{"$f":"IFERROR(OFFSET(CalculationsAndCharts!$AS$32,'Transaction Summary'!N134,0,1,1),\"\")","v":""},"",""]
[null,{"$f":"IFERROR(MATCH(TRUE,OFFSET(CalculationsAndCharts!$AE$33,B134,0,'Transaction Summary'!$C$2-B134,1),0)+B134,\"\")","v":""},{"$f":"IFERROR(OFFSET(CalculationsAndCharts!$B$32,'Transaction Summary'!B135,0,1,1),\"\")","v":""},{"$f":"IFERROR(OFFSET(CalculationsAndCharts!$AI$32,'Transaction Summary'!B135,0,1,1),\"\")","v":""},{"$f":"IFERROR(MATCH(TRUE,OFFSET(CalculationsAndCharts!$AH$33,E134,0,'Transaction Summary'!$C$2-E134,1),0)+E134,\"\")","v":""},{"$f":"IFERROR(OFFSET(CalculationsAndCharts!$B$32,'Transaction Summary'!E135,0,1,1),\"\")","v":""},{"$f":"IFERROR(OFFSET(CalculationsAndCharts!$AJ$32,'Transaction Summary'!E135,0,1,1),\"\")","v":""},"","",null,{"$f":"IFERROR(MATCH(TRUE,OFFSET(CalculationsAndCharts!$AN$33,K134,0,'Transaction Summary'!$C$2-K134,1),0)+K134,\"\")","v":""},{"$f":"IFERROR(OFFSET(CalculationsAndCharts!$B$32,'Transaction Summary'!K135,0,1,1),\"\")","v":""},{"$f":"IFERROR(OFFSET(CalculationsAndCharts!$AR$32,'Transaction Summary'!K135,0,1,1),\"\")","v":""},{"$f":"IFERROR(MATCH(TRUE,OFFSET(CalculationsAndCharts!$AQ$33,N134,0,'Transaction Summary'!$C$2-N134,1),0)+N134,\"\")","v":""},{"$f":"IFERROR(OFFSET(CalculationsAndCharts!$B$32,'Transaction Summary'!N135,0,1,1),\"\")","v":""},{"$f":"IFERROR(OFFSET(CalculationsAndCharts!$AS$32,'Transaction Summary'!N135,0,1,1),\"\")","v":""},"",""]
[null,{"$f":"IFERROR(MATCH(TRUE,OFFSET(CalculationsAndCharts!$AE$33,B135,0,'Transaction Summary'!$C$2-B135,1),0)+B135,\"\")","v":""},{"$f":"IFERROR(OFFSET(CalculationsAndCharts!$B$32,'Transaction Summary'!B136,0,1,1),\"\")","v":""},{"$f":"IFERROR(OFFSET(CalculationsAndCharts!$AI$32,'Transaction Summary'!B136,0,1,1),\"\")","v":""},{"$f":"IFERROR(MATCH(TRUE,OFFSET(CalculationsAndCharts!$AH$33,E135,0,'Transaction Summary'!$C$2-E135,1),0)+E135,\"\")","v":""},{"$f":"IFERROR(OFFSET(CalculationsAndCharts!$B$32,'Transaction Summary'!E136,0,1,1),\"\")","v":""},{"$f":"IFERROR(OFFSET(CalculationsAndCharts!$AJ$32,'Transaction Summary'!E136,0,1,1),\"\")","v":""},"","",null,{"$f":"IFERROR(MATCH(TRUE,OFFSET(CalculationsAndCharts!$AN$33,K135,0,'Transaction Summary'!$C$2-K135,1),0)+K135,\"\")","v":""},{"$f":"IFERROR(OFFSET(CalculationsAndCharts!$B$32,'Transaction Summary'!K136,0,1,1),\"\")","v":""},{"$f":"IFERROR(OFFSET(CalculationsAndCharts!$AR$32,'Transaction Summary'!K136,0,1,1),\"\")","v":""},{"$f":"IFERROR(MATCH(TRUE,OFFSET(CalculationsAndCharts!$AQ$33,N135,0,'Transaction Summary'!$C$2-N135,1),0)+N135,\"\")","v":""},{"$f":"IFERROR(OFFSET(CalculationsAndCharts!$B$32,'Transaction Summary'!N136,0,1,1),\"\")","v":""},{"$f":"IFERROR(OFFSET(CalculationsAndCharts!$AS$32,'Transaction Summary'!N136,0,1,1),\"\")","v":""},"",""]
[null,{"$f":"IFERROR(MATCH(TRUE,OFFSET(CalculationsAndCharts!$AE$33,B136,0,'Transaction Summary'!$C$2-B136,1),0)+B136,\"\")","v":""},{"$f":"IFERROR(OFFSET(CalculationsAndCharts!$B$32,'Transaction Summary'!B137,0,1,1),\"\")","v":""},{"$f":"IFERROR(OFFSET(CalculationsAndCharts!$AI$32,'Transaction Summary'!B137,0,1,1),\"\")","v":""},{"$f":"IFERROR(MATCH(TRUE,OFFSET(CalculationsAndCharts!$AH$33,E136,0,'Transaction Summary'!$C$2-E136,1),0)+E136,\"\")","v":""},{"$f":"IFERROR(OFFSET(CalculationsAndCharts!$B$32,'Transaction Summary'!E137,0,1,1),\"\")","v":""},{"$f":"IFERROR(OFFSET(CalculationsAndCharts!$AJ$32,'Transaction Summary'!E137,0,1,1),\"\")","v":""},"","",null,{"$f":"IFERROR(MATCH(TRUE,OFFSET(CalculationsAndCharts!$AN$33,K136,0,'Transaction Summary'!$C$2-K136,1),0)+K136,\"\")","v":""},{"$f":"IFERROR(OFFSET(CalculationsAndCharts!$B$32,'Transaction Summary'!K137,0,1,1),\"\")","v":""},{"$f":"IFERROR(OFFSET(CalculationsAndCharts!$AR$32,'Transaction Summary'!K137,0,1,1),\"\")","v":""},{"$f":"IFERROR(MATCH(TRUE,OFFSET(CalculationsAndCharts!$AQ$33,N136,0,'Transaction Summary'!$C$2-N136,1),0)+N136,\"\")","v":""},{"$f":"IFERROR(OFFSET(CalculationsAndCharts!$B$32,'Transaction Summary'!N137,0,1,1),\"\")","v":""},{"$f":"IFERROR(OFFSET(CalculationsAndCharts!$AS$32,'Transaction Summary'!N137,0,1,1),\"\")","v":""},"",""]
[null,{"$f":"IFERROR(MATCH(TRUE,OFFSET(CalculationsAndCharts!$AE$33,B137,0,'Transaction Summary'!$C$2-B137,1),0)+B137,\"\")","v":""},{"$f":"IFERROR(OFFSET(CalculationsAndCharts!$B$32,'Transaction Summary'!B138,0,1,1),\"\")","v":""},{"$f":"IFERROR(OFFSET(CalculationsAndCharts!$AI$32,'Transaction Summary'!B138,0,1,1),\"\")","v":""},{"$f":"IFERROR(MATCH(TRUE,OFFSET(CalculationsAndCharts!$AH$33,E137,0,'Transaction Summary'!$C$2-E137,1),0)+E137,\"\")","v":""},{"$f":"IFERROR(OFFSET(CalculationsAndCharts!$B$32,'Transaction Summary'!E138,0,1,1),\"\")","v":""},{"$f":"IFERROR(OFFSET(CalculationsAndCharts!$AJ$32,'Transaction Summary'!E138,0,1,1),\"\")","v":""},"","",null,{"$f":"IFERROR(MATCH(TRUE,OFFSET(CalculationsAndCharts!$AN$33,K137,0,'Transaction Summary'!$C$2-K137,1),0)+K137,\"\")","v":""},{"$f":"IFERROR(OFFSET(CalculationsAndCharts!$B$32,'Transaction Summary'!K138,0,1,1),\"\")","v":""},{"$f":"IFERROR(OFFSET(CalculationsAndCharts!$AR$32,'Transaction Summary'!K138,0,1,1),\"\")","v":""},{"$f":"IFERROR(MATCH(TRUE,OFFSET(CalculationsAndCharts!$AQ$33,N137,0,'Transaction Summary'!$C$2-N137,1),0)+N137,\"\")","v":""},{"$f":"IFERROR(OFFSET(CalculationsAndCharts!$B$32,'Transaction Summary'!N138,0,1,1),\"\")","v":""},{"$f":"IFERROR(OFFSET(CalculationsAndCharts!$AS$32,'Transaction Summary'!N138,0,1,1),\"\")","v":""},"",""]
[null,{"$f":"IFERROR(MATCH(TRUE,OFFSET(CalculationsAndCharts!$AE$33,B138,0,'Transaction Summary'!$C$2-B138,1),0)+B138,\"\")","v":""},{"$f":"IFERROR(OFFSET(CalculationsAndCharts!$B$32,'Transaction Summary'!B139,0,1,1),\"\")","v":""},{"$f":"IFERROR(OFFSET(CalculationsAndCharts!$AI$32,'Transaction Summary'!B139,0,1,1),\"\")","v":""},{"$f":"IFERROR(MATCH(TRUE,OFFSET(CalculationsAndCharts!$AH$33,E138,0,'Transaction Summary'!$C$2-E138,1),0)+E138,\"\")","v":""},{"$f":"IFERROR(OFFSET(CalculationsAndCharts!$B$32,'Transaction Summary'!E139,0,1,1),\"\")","v":""},{"$f":"IFERROR(OFFSET(CalculationsAndCharts!$AJ$32,'Transaction Summary'!E139,0,1,1),\"\")","v":""},"","",null,{"$f":"IFERROR(MATCH(TRUE,OFFSET(CalculationsAndCharts!$AN$33,K138,0,'Transaction Summary'!$C$2-K138,1),0)+K138,\"\")","v":""},{"$f":"IFERROR(OFFSET(CalculationsAndCharts!$B$32,'Transaction Summary'!K139,0,1,1),\"\")","v":""},{"$f":"IFERROR(OFFSET(CalculationsAndCharts!$AR$32,'Transaction Summary'!K139,0,1,1),\"\")","v":""},{"$f":"IFERROR(MATCH(TRUE,OFFSET(CalculationsAndCharts!$AQ$33,N138,0,'Transaction Summary'!$C$2-N138,1),0)+N138,\"\")","v":""},{"$f":"IFERROR(OFFSET(CalculationsAndCharts!$B$32,'Transaction Summary'!N139,0,1,1),\"\")","v":""},{"$f":"IFERROR(OFFSET(CalculationsAndCharts!$AS$32,'Transaction Summary'!N139,0,1,1),\"\")","v":""},"",""]
[null,{"$f":"IFERROR(MATCH(TRUE,OFFSET(CalculationsAndCharts!$AE$33,B139,0,'Transaction Summary'!$C$2-B139,1),0)+B139,\"\")","v":""},{"$f":"IFERROR(OFFSET(CalculationsAndCharts!$B$32,'Transaction Summary'!B140,0,1,1),\"\")","v":""},{"$f":"IFERROR(OFFSET(CalculationsAndCharts!$AI$32,'Transaction Summary'!B140,0,1,1),\"\")","v":""},{"$f":"IFERROR(MATCH(TRUE,OFFSET(CalculationsAndCharts!$AH$33,E139,0,'Transaction Summary'!$C$2-E139,1),0)+E139,\"\")","v":""},{"$f":"IFERROR(OFFSET(CalculationsAndCharts!$B$32,'Transaction Summary'!E140,0,1,1),\"\")","v":""},{"$f":"IFERROR(OFFSET(CalculationsAndCharts!$AJ$32,'Transaction Summary'!E140,0,1,1),\"\")","v":""},"","",null,{"$f":"IFERROR(MATCH(TRUE,OFFSET(CalculationsAndCharts!$AN$33,K139,0,'Transaction Summary'!$C$2-K139,1),0)+K139,\"\")","v":""},{"$f":"IFERROR(OFFSET(CalculationsAndCharts!$B$32,'Transaction Summary'!K140,0,1,1),\"\")","v":""},{"$f":"IFERROR(OFFSET(CalculationsAndCharts!$AR$32,'Transaction Summary'!K140,0,1,1),\"\")","v":""},{"$f":"IFERROR(MATCH(TRUE,OFFSET(CalculationsAndCharts!$AQ$33,N139,0,'Transaction Summary'!$C$2-N139,1),0)+N139,\"\")","v":""},{"$f":"IFERROR(OFFSET(CalculationsAndCharts!$B$32,'Transaction Summary'!N140,0,1,1),\"\")","v":""},{"$f":"IFERROR(OFFSET(CalculationsAndCharts!$AS$32,'Transaction Summary'!N140,0,1,1),\"\")","v":""},"",""]
[null,{"$f":"IFERROR(MATCH(TRUE,OFFSET(CalculationsAndCharts!$AE$33,B140,0,'Transaction Summary'!$C$2-B140,1),0)+B140,\"\")","v":""},{"$f":"IFERROR(OFFSET(CalculationsAndCharts!$B$32,'Transaction Summary'!B141,0,1,1),\"\")","v":""},{"$f":"IFERROR(OFFSET(CalculationsAndCharts!$AI$32,'Transaction Summary'!B141,0,1,1),\"\")","v":""},{"$f":"IFERROR(MATCH(TRUE,OFFSET(CalculationsAndCharts!$AH$33,E140,0,'Transaction Summary'!$C$2-E140,1),0)+E140,\"\")","v":""},{"$f":"IFERROR(OFFSET(CalculationsAndCharts!$B$32,'Transaction Summary'!E141,0,1,1),\"\")","v":""},{"$f":"IFERROR(OFFSET(CalculationsAndCharts!$AJ$32,'Transaction Summary'!E141,0,1,1),\"\")","v":""},"","",null,{"$f":"IFERROR(MATCH(TRUE,OFFSET(CalculationsAndCharts!$AN$33,K140,0,'Transaction Summary'!$C$2-K140,1),0)+K140,\"\")","v":""},{"$f":"IFERROR(OFFSET(CalculationsAndCharts!$B$32,'Transaction Summary'!K141,0,1,1),\"\")","v":""},{"$f":"IFERROR(OFFSET(CalculationsAndCharts!$AR$32,'Transaction Summary'!K141,0,1,1),\"\")","v":""},{"$f":"IFERROR(MATCH(TRUE,OFFSET(CalculationsAndCharts!$AQ$33,N140,0,'Transaction Summary'!$C$2-N140,1),0)+N140,\"\")","v":""},{"$f":"IFERROR(OFFSET(CalculationsAndCharts!$B$32,'Transaction Summary'!N141,0,1,1),\"\")","v":""},{"$f":"IFERROR(OFFSET(CalculationsAndCharts!$AS$32,'Transaction Summary'!N141,0,1,1),\"\")","v":""},"",""]
[null,{"$f":"IFERROR(MATCH(TRUE,OFFSET(CalculationsAndCharts!$AE$33,B141,0,'Transaction Summary'!$C$2-B141,1),0)+B141,\"\")","v":""},{"$f":"IFERROR(OFFSET(CalculationsAndCharts!$B$32,'Transaction Summary'!B142,0,1,1),\"\")","v":""},{"$f":"IFERROR(OFFSET(CalculationsAndCharts!$AI$32,'Transaction Summary'!B142,0,1,1),\"\")","v":""},{"$f":"IFERROR(MATCH(TRUE,OFFSET(CalculationsAndCharts!$AH$33,E141,0,'Transaction Summary'!$C$2-E141,1),0)+E141,\"\")","v":""},{"$f":"IFERROR(OFFSET(CalculationsAndCharts!$B$32,'Transaction Summary'!E142,0,1,1),\"\")","v":""},{"$f":"IFERROR(OFFSET(CalculationsAndCharts!$AJ$32,'Transaction Summary'!E142,0,1,1),\"\")","v":""},"","",null,{"$f":"IFERROR(MATCH(TRUE,OFFSET(CalculationsAndCharts!$AN$33,K141,0,'Transaction Summary'!$C$2-K141,1),0)+K141,\"\")","v":""},{"$f":"IFERROR(OFFSET(CalculationsAndCharts!$B$32,'Transaction Summary'!K142,0,1,1),\"\")","v":""},{"$f":"IFERROR(OFFSET(CalculationsAndCharts!$AR$32,'Transaction Summary'!K142,0,1,1),\"\")","v":""},{"$f":"IFERROR(MATCH(TRUE,OFFSET(CalculationsAndCharts!$AQ$33,N141,0,'Transaction Summary'!$C$2-N141,1),0)+N141,\"\")","v":""},{"$f":"IFERROR(OFFSET(CalculationsAndCharts!$B$32,'Transaction Summary'!N142,0,1,1),\"\")","v":""},{"$f":"IFERROR(OFFSET(CalculationsAndCharts!$AS$32,'Transaction Summary'!N142,0,1,1),\"\")","v":""},"",""]
[null,{"$f":"IFERROR(MATCH(TRUE,OFFSET(CalculationsAndCharts!$AE$33,B142,0,'Transaction Summary'!$C$2-B142,1),0)+B142,\"\")","v":""},{"$f":"IFERROR(OFFSET(CalculationsAndCharts!$B$32,'Transaction Summary'!B143,0,1,1),\"\")","v":""},{"$f":"IFERROR(OFFSET(CalculationsAndCharts!$AI$32,'Transaction Summary'!B143,0,1,1),\"\")","v":""},{"$f":"IFERROR(MATCH(TRUE,OFFSET(CalculationsAndCharts!$AH$33,E142,0,'Transaction Summary'!$C$2-E142,1),0)+E142,\"\")","v":""},{"$f":"IFERROR(OFFSET(CalculationsAndCharts!$B$32,'Transaction Summary'!E143,0,1,1),\"\")","v":""},{"$f":"IFERROR(OFFSET(CalculationsAndCharts!$AJ$32,'Transaction Summary'!E143,0,1,1),\"\")","v":""},"","",null,{"$f":"IFERROR(MATCH(TRUE,OFFSET(CalculationsAndCharts!$AN$33,K142,0,'Transaction Summary'!$C$2-K142,1),0)+K142,\"\")","v":""},{"$f":"IFERROR(OFFSET(CalculationsAndCharts!$B$32,'Transaction Summary'!K143,0,1,1),\"\")","v":""},{"$f":"IFERROR(OFFSET(CalculationsAndCharts!$AR$32,'Transaction Summary'!K143,0,1,1),\"\")","v":""},{"$f":"IFERROR(MATCH(TRUE,OFFSET(CalculationsAndCharts!$AQ$33,N142,0,'Transaction Summary'!$C$2-N142,1),0)+N142,\"\")","v":""},{"$f":"IFERROR(OFFSET(CalculationsAndCharts!$B$32,'Transaction Summary'!N143,0,1,1),\"\")","v":""},{"$f":"IFERROR(OFFSET(CalculationsAndCharts!$AS$32,'Transaction Summary'!N143,0,1,1),\"\")","v":""},"",""]
[null,{"$f":"IFERROR(MATCH(TRUE,OFFSET(CalculationsAndCharts!$AE$33,B143,0,'Transaction Summary'!$C$2-B143,1),0)+B143,\"\")","v":""},{"$f":"IFERROR(OFFSET(CalculationsAndCharts!$B$32,'Transaction Summary'!B144,0,1,1),\"\")","v":""},{"$f":"IFERROR(OFFSET(CalculationsAndCharts!$AI$32,'Transaction Summary'!B144,0,1,1),\"\")","v":""},{"$f":"IFERROR(MATCH(TRUE,OFFSET(CalculationsAndCharts!$AH$33,E143,0,'Transaction Summary'!$C$2-E143,1),0)+E143,\"\")","v":""},{"$f":"IFERROR(OFFSET(CalculationsAndCharts!$B$32,'Transaction Summary'!E144,0,1,1),\"\")","v":""},{"$f":"IFERROR(OFFSET(CalculationsAndCharts!$AJ$32,'Transaction Summary'!E144,0,1,1),\"\")","v":""},"","",null,{"$f":"IFERROR(MATCH(TRUE,OFFSET(CalculationsAndCharts!$AN$33,K143,0,'Transaction Summary'!$C$2-K143,1),0)+K143,\"\")","v":""},{"$f":"IFERROR(OFFSET(CalculationsAndCharts!$B$32,'Transaction Summary'!K144,0,1,1),\"\")","v":""},{"$f":"IFERROR(OFFSET(CalculationsAndCharts!$AR$32,'Transaction Summary'!K144,0,1,1),\"\")","v":""},{"$f":"IFERROR(MATCH(TRUE,OFFSET(CalculationsAndCharts!$AQ$33,N143,0,'Transaction Summary'!$C$2-N143,1),0)+N143,\"\")","v":""},{"$f":"IFERROR(OFFSET(CalculationsAndCharts!$B$32,'Transaction Summary'!N144,0,1,1),\"\")","v":""},{"$f":"IFERROR(OFFSET(CalculationsAndCharts!$AS$32,'Transaction Summary'!N144,0,1,1),\"\")","v":""},"",""]
[null,{"$f":"IFERROR(MATCH(TRUE,OFFSET(CalculationsAndCharts!$AE$33,B144,0,'Transaction Summary'!$C$2-B144,1),0)+B144,\"\")","v":""},{"$f":"IFERROR(OFFSET(CalculationsAndCharts!$B$32,'Transaction Summary'!B145,0,1,1),\"\")","v":""},{"$f":"IFERROR(OFFSET(CalculationsAndCharts!$AI$32,'Transaction Summary'!B145,0,1,1),\"\")","v":""},{"$f":"IFERROR(MATCH(TRUE,OFFSET(CalculationsAndCharts!$AH$33,E144,0,'Transaction Summary'!$C$2-E144,1),0)+E144,\"\")","v":""},{"$f":"IFERROR(OFFSET(CalculationsAndCharts!$B$32,'Transaction Summary'!E145,0,1,1),\"\")","v":""},{"$f":"IFERROR(OFFSET(CalculationsAndCharts!$AJ$32,'Transaction Summary'!E145,0,1,1),\"\")","v":""},"","",null,{"$f":"IFERROR(MATCH(TRUE,OFFSET(CalculationsAndCharts!$AN$33,K144,0,'Transaction Summary'!$C$2-K144,1),0)+K144,\"\")","v":""},{"$f":"IFERROR(OFFSET(CalculationsAndCharts!$B$32,'Transaction Summary'!K145,0,1,1),\"\")","v":""},{"$f":"IFERROR(OFFSET(CalculationsAndCharts!$AR$32,'Transaction Summary'!K145,0,1,1),\"\")","v":""},{"$f":"IFERROR(MATCH(TRUE,OFFSET(CalculationsAndCharts!$AQ$33,N144,0,'Transaction Summary'!$C$2-N144,1),0)+N144,\"\")","v":""},{"$f":"IFERROR(OFFSET(CalculationsAndCharts!$B$32,'Transaction Summary'!N145,0,1,1),\"\")","v":""},{"$f":"IFERROR(OFFSET(CalculationsAndCharts!$AS$32,'Transaction Summary'!N145,0,1,1),\"\")","v":""},"",""]
[null,{"$f":"IFERROR(MATCH(TRUE,OFFSET(CalculationsAndCharts!$AE$33,B145,0,'Transaction Summary'!$C$2-B145,1),0)+B145,\"\")","v":""},{"$f":"IFERROR(OFFSET(CalculationsAndCharts!$B$32,'Transaction Summary'!B146,0,1,1),\"\")","v":""},{"$f":"IFERROR(OFFSET(CalculationsAndCharts!$AI$32,'Transaction Summary'!B146,0,1,1),\"\")","v":""},{"$f":"IFERROR(MATCH(TRUE,OFFSET(CalculationsAndCharts!$AH$33,E145,0,'Transaction Summary'!$C$2-E145,1),0)+E145,\"\")","v":""},{"$f":"IFERROR(OFFSET(CalculationsAndCharts!$B$32,'Transaction Summary'!E146,0,1,1),\"\")","v":""},{"$f":"IFERROR(OFFSET(CalculationsAndCharts!$AJ$32,'Transaction Summary'!E146,0,1,1),\"\")","v":""},"","",null,{"$f":"IFERROR(MATCH(TRUE,OFFSET(CalculationsAndCharts!$AN$33,K145,0,'Transaction Summary'!$C$2-K145,1),0)+K145,\"\")","v":""},{"$f":"IFERROR(OFFSET(CalculationsAndCharts!$B$32,'Transaction Summary'!K146,0,1,1),\"\")","v":""},{"$f":"IFERROR(OFFSET(CalculationsAndCharts!$AR$32,'Transaction Summary'!K146,0,1,1),\"\")","v":""},{"$f":"IFERROR(MATCH(TRUE,OFFSET(CalculationsAndCharts!$AQ$33,N145,0,'Transaction Summary'!$C$2-N145,1),0)+N145,\"\")","v":""},{"$f":"IFERROR(OFFSET(CalculationsAndCharts!$B$32,'Transaction Summary'!N146,0,1,1),\"\")","v":""},{"$f":"IFERROR(OFFSET(CalculationsAndCharts!$AS$32,'Transaction Summary'!N146,0,1,1),\"\")","v":""},"",""]
[null,{"$f":"IFERROR(MATCH(TRUE,OFFSET(CalculationsAndCharts!$AE$33,B146,0,'Transaction Summary'!$C$2-B146,1),0)+B146,\"\")","v":""},{"$f":"IFERROR(OFFSET(CalculationsAndCharts!$B$32,'Transaction Summary'!B147,0,1,1),\"\")","v":""},{"$f":"IFERROR(OFFSET(CalculationsAndCharts!$AI$32,'Transaction Summary'!B147,0,1,1),\"\")","v":""},{"$f":"IFERROR(MATCH(TRUE,OFFSET(CalculationsAndCharts!$AH$33,E146,0,'Transaction Summary'!$C$2-E146,1),0)+E146,\"\")","v":""},{"$f":"IFERROR(OFFSET(CalculationsAndCharts!$B$32,'Transaction Summary'!E147,0,1,1),\"\")","v":""},{"$f":"IFERROR(OFFSET(CalculationsAndCharts!$AJ$32,'Transaction Summary'!E147,0,1,1),\"\")","v":""},"","",null,{"$f":"IFERROR(MATCH(TRUE,OFFSET(CalculationsAndCharts!$AN$33,K146,0,'Transaction Summary'!$C$2-K146,1),0)+K146,\"\")","v":""},{"$f":"IFERROR(OFFSET(CalculationsAndCharts!$B$32,'Transaction Summary'!K147,0,1,1),\"\")","v":""},{"$f":"IFERROR(OFFSET(CalculationsAndCharts!$AR$32,'Transaction Summary'!K147,0,1,1),\"\")","v":""},{"$f":"IFERROR(MATCH(TRUE,OFFSET(CalculationsAndCharts!$AQ$33,N146,0,'Transaction Summary'!$C$2-N146,1),0)+N146,\"\")","v":""},{"$f":"IFERROR(OFFSET(CalculationsAndCharts!$B$32,'Transaction Summary'!N147,0,1,1),\"\")","v":""},{"$f":"IFERROR(OFFSET(CalculationsAndCharts!$AS$32,'Transaction Summary'!N147,0,1,1),\"\")","v":""},"",""]
[null,{"$f":"IFERROR(MATCH(TRUE,OFFSET(CalculationsAndCharts!$AE$33,B147,0,'Transaction Summary'!$C$2-B147,1),0)+B147,\"\")","v":""},{"$f":"IFERROR(OFFSET(CalculationsAndCharts!$B$32,'Transaction Summary'!B148,0,1,1),\"\")","v":""},{"$f":"IFERROR(OFFSET(CalculationsAndCharts!$AI$32,'Transaction Summary'!B148,0,1,1),\"\")","v":""},{"$f":"IFERROR(MATCH(TRUE,OFFSET(CalculationsAndCharts!$AH$33,E147,0,'Transaction Summary'!$C$2-E147,1),0)+E147,\"\")","v":""},{"$f":"IFERROR(OFFSET(CalculationsAndCharts!$B$32,'Transaction Summary'!E148,0,1,1),\"\")","v":""},{"$f":"IFERROR(OFFSET(CalculationsAndCharts!$AJ$32,'Transaction Summary'!E148,0,1,1),\"\")","v":""},"","",null,{"$f":"IFERROR(MATCH(TRUE,OFFSET(CalculationsAndCharts!$AN$33,K147,0,'Transaction Summary'!$C$2-K147,1),0)+K147,\"\")","v":""},{"$f":"IFERROR(OFFSET(CalculationsAndCharts!$B$32,'Transaction Summary'!K148,0,1,1),\"\")","v":""},{"$f":"IFERROR(OFFSET(CalculationsAndCharts!$AR$32,'Transaction Summary'!K148,0,1,1),\"\")","v":""},{"$f":"IFERROR(MATCH(TRUE,OFFSET(CalculationsAndCharts!$AQ$33,N147,0,'Transaction Summary'!$C$2-N147,1),0)+N147,\"\")","v":""},{"$f":"IFERROR(OFFSET(CalculationsAndCharts!$B$32,'Transaction Summary'!N148,0,1,1),\"\")","v":""},{"$f":"IFERROR(OFFSET(CalculationsAndCharts!$AS$32,'Transaction Summary'!N148,0,1,1),\"\")","v":""},"",""]
[null,{"$f":"IFERROR(MATCH(TRUE,OFFSET(CalculationsAndCharts!$AE$33,B148,0,'Transaction Summary'!$C$2-B148,1),0)+B148,\"\")","v":""},{"$f":"IFERROR(OFFSET(CalculationsAndCharts!$B$32,'Transaction Summary'!B149,0,1,1),\"\")","v":""},{"$f":"IFERROR(OFFSET(CalculationsAndCharts!$AI$32,'Transaction Summary'!B149,0,1,1),\"\")","v":""},{"$f":"IFERROR(MATCH(TRUE,OFFSET(CalculationsAndCharts!$AH$33,E148,0,'Transaction Summary'!$C$2-E148,1),0)+E148,\"\")","v":""},{"$f":"IFERROR(OFFSET(CalculationsAndCharts!$B$32,'Transaction Summary'!E149,0,1,1),\"\")","v":""},{"$f":"IFERROR(OFFSET(CalculationsAndCharts!$AJ$32,'Transaction Summary'!E149,0,1,1),\"\")","v":""},"","",null,{"$f":"IFERROR(MATCH(TRUE,OFFSET(CalculationsAndCharts!$AN$33,K148,0,'Transaction Summary'!$C$2-K148,1),0)+K148,\"\")","v":""},{"$f":"IFERROR(OFFSET(CalculationsAndCharts!$B$32,'Transaction Summary'!K149,0,1,1),\"\")","v":""},{"$f":"IFERROR(OFFSET(CalculationsAndCharts!$AR$32,'Transaction Summary'!K149,0,1,1),\"\")","v":""},{"$f":"IFERROR(MATCH(TRUE,OFFSET(CalculationsAndCharts!$AQ$33,N148,0,'Transaction Summary'!$C$2-N148,1),0)+N148,\"\")","v":""},{"$f":"IFERROR(OFFSET(CalculationsAndCharts!$B$32,'Transaction Summary'!N149,0,1,1),\"\")","v":""},{"$f":"IFERROR(OFFSET(CalculationsAndCharts!$AS$32,'Transaction Summary'!N149,0,1,1),\"\")","v":""},"",""]
[null,{"$f":"IFERROR(MATCH(TRUE,OFFSET(CalculationsAndCharts!$AE$33,B149,0,'Transaction Summary'!$C$2-B149,1),0)+B149,\"\")","v":""},{"$f":"IFERROR(OFFSET(CalculationsAndCharts!$B$32,'Transaction Summary'!B150,0,1,1),\"\")","v":""},{"$f":"IFERROR(OFFSET(CalculationsAndCharts!$AI$32,'Transaction Summary'!B150,0,1,1),\"\")","v":""},{"$f":"IFERROR(MATCH(TRUE,OFFSET(CalculationsAndCharts!$AH$33,E149,0,'Transaction Summary'!$C$2-E149,1),0)+E149,\"\")","v":""},{"$f":"IFERROR(OFFSET(CalculationsAndCharts!$B$32,'Transaction Summary'!E150,0,1,1),\"\")","v":""},{"$f":"IFERROR(OFFSET(CalculationsAndCharts!$AJ$32,'Transaction Summary'!E150,0,1,1),\"\")","v":""},"","",null,{"$f":"IFERROR(MATCH(TRUE,OFFSET(CalculationsAndCharts!$AN$33,K149,0,'Transaction Summary'!$C$2-K149,1),0)+K149,\"\")","v":""},{"$f":"IFERROR(OFFSET(CalculationsAndCharts!$B$32,'Transaction Summary'!K150,0,1,1),\"\")","v":""},{"$f":"IFERROR(OFFSET(CalculationsAndCharts!$AR$32,'Transaction Summary'!K150,0,1,1),\"\")","v":""},{"$f":"IFERROR(MATCH(TRUE,OFFSET(CalculationsAndCharts!$AQ$33,N149,0,'Transaction Summary'!$C$2-N149,1),0)+N149,\"\")","v":""},{"$f":"IFERROR(OFFSET(CalculationsAndCharts!$B$32,'Transaction Summary'!N150,0,1,1),\"\")","v":""},{"$f":"IFERROR(OFFSET(CalculationsAndCharts!$AS$32,'Transaction Summary'!N150,0,1,1),\"\")","v":""},"",""]
[null,{"$f":"IFERROR(MATCH(TRUE,OFFSET(CalculationsAndCharts!$AE$33,B150,0,'Transaction Summary'!$C$2-B150,1),0)+B150,\"\")","v":""},{"$f":"IFERROR(OFFSET(CalculationsAndCharts!$B$32,'Transaction Summary'!B151,0,1,1),\"\")","v":""},{"$f":"IFERROR(OFFSET(CalculationsAndCharts!$AI$32,'Transaction Summary'!B151,0,1,1),\"\")","v":""},{"$f":"IFERROR(MATCH(TRUE,OFFSET(CalculationsAndCharts!$AH$33,E150,0,'Transaction Summary'!$C$2-E150,1),0)+E150,\"\")","v":""},{"$f":"IFERROR(OFFSET(CalculationsAndCharts!$B$32,'Transaction Summary'!E151,0,1,1),\"\")","v":""},{"$f":"IFERROR(OFFSET(CalculationsAndCharts!$AJ$32,'Transaction Summary'!E151,0,1,1),\"\")","v":""},"","",null,{"$f":"IFERROR(MATCH(TRUE,OFFSET(CalculationsAndCharts!$AN$33,K150,0,'Transaction Summary'!$C$2-K150,1),0)+K150,\"\")","v":""},{"$f":"IFERROR(OFFSET(CalculationsAndCharts!$B$32,'Transaction Summary'!K151,0,1,1),\"\")","v":""},{"$f":"IFERROR(OFFSET(CalculationsAndCharts!$AR$32,'Transaction Summary'!K151,0,1,1),\"\")","v":""},{"$f":"IFERROR(MATCH(TRUE,OFFSET(CalculationsAndCharts!$AQ$33,N150,0,'Transaction Summary'!$C$2-N150,1),0)+N150,\"\")","v":""},{"$f":"IFERROR(OFFSET(CalculationsAndCharts!$B$32,'Transaction Summary'!N151,0,1,1),\"\")","v":""},{"$f":"IFERROR(OFFSET(CalculationsAndCharts!$AS$32,'Transaction Summary'!N151,0,1,1),\"\")","v":""},"",""]
[null,{"$f":"IFERROR(MATCH(TRUE,OFFSET(CalculationsAndCharts!$AE$33,B151,0,'Transaction Summary'!$C$2-B151,1),0)+B151,\"\")","v":""},{"$f":"IFERROR(OFFSET(CalculationsAndCharts!$B$32,'Transaction Summary'!B152,0,1,1),\"\")","v":""},{"$f":"IFERROR(OFFSET(CalculationsAndCharts!$AI$32,'Transaction Summary'!B152,0,1,1),\"\")","v":""},{"$f":"IFERROR(MATCH(TRUE,OFFSET(CalculationsAndCharts!$AH$33,E151,0,'Transaction Summary'!$C$2-E151,1),0)+E151,\"\")","v":""},{"$f":"IFERROR(OFFSET(CalculationsAndCharts!$B$32,'Transaction Summary'!E152,0,1,1),\"\")","v":""},{"$f":"IFERROR(OFFSET(CalculationsAndCharts!$AJ$32,'Transaction Summary'!E152,0,1,1),\"\")","v":""},"","",null,{"$f":"IFERROR(MATCH(TRUE,OFFSET(CalculationsAndCharts!$AN$33,K151,0,'Transaction Summary'!$C$2-K151,1),0)+K151,\"\")","v":""},{"$f":"IFERROR(OFFSET(CalculationsAndCharts!$B$32,'Transaction Summary'!K152,0,1,1),\"\")","v":""},{"$f":"IFERROR(OFFSET(CalculationsAndCharts!$AR$32,'Transaction Summary'!K152,0,1,1),\"\")","v":""},{"$f":"IFERROR(MATCH(TRUE,OFFSET(CalculationsAndCharts!$AQ$33,N151,0,'Transaction Summary'!$C$2-N151,1),0)+N151,\"\")","v":""},{"$f":"IFERROR(OFFSET(CalculationsAndCharts!$B$32,'Transaction Summary'!N152,0,1,1),\"\")","v":""},{"$f":"IFERROR(OFFSET(CalculationsAndCharts!$AS$32,'Transaction Summary'!N152,0,1,1),\"\")","v":""},"",""]
[null,{"$f":"IFERROR(MATCH(TRUE,OFFSET(CalculationsAndCharts!$AE$33,B152,0,'Transaction Summary'!$C$2-B152,1),0)+B152,\"\")","v":""},{"$f":"IFERROR(OFFSET(CalculationsAndCharts!$B$32,'Transaction Summary'!B153,0,1,1),\"\")","v":""},{"$f":"IFERROR(OFFSET(CalculationsAndCharts!$AI$32,'Transaction Summary'!B153,0,1,1),\"\")","v":""},{"$f":"IFERROR(MATCH(TRUE,OFFSET(CalculationsAndCharts!$AH$33,E152,0,'Transaction Summary'!$C$2-E152,1),0)+E152,\"\")","v":""},{"$f":"IFERROR(OFFSET(CalculationsAndCharts!$B$32,'Transaction Summary'!E153,0,1,1),\"\")","v":""},{"$f":"IFERROR(OFFSET(CalculationsAndCharts!$AJ$32,'Transaction Summary'!E153,0,1,1),\"\")","v":""},"","",null,{"$f":"IFERROR(MATCH(TRUE,OFFSET(CalculationsAndCharts!$AN$33,K152,0,'Transaction Summary'!$C$2-K152,1),0)+K152,\"\")","v":""},{"$f":"IFERROR(OFFSET(CalculationsAndCharts!$B$32,'Transaction Summary'!K153,0,1,1),\"\")","v":""},{"$f":"IFERROR(OFFSET(CalculationsAndCharts!$AR$32,'Transaction Summary'!K153,0,1,1),\"\")","v":""},{"$f":"IFERROR(MATCH(TRUE,OFFSET(CalculationsAndCharts!$AQ$33,N152,0,'Transaction Summary'!$C$2-N152,1),0)+N152,\"\")","v":""},{"$f":"IFERROR(OFFSET(CalculationsAndCharts!$B$32,'Transaction Summary'!N153,0,1,1),\"\")","v":""},{"$f":"IFERROR(OFFSET(CalculationsAndCharts!$AS$32,'Transaction Summary'!N153,0,1,1),\"\")","v":""},"",""]
[null,{"$f":"IFERROR(MATCH(TRUE,OFFSET(CalculationsAndCharts!$AE$33,B153,0,'Transaction Summary'!$C$2-B153,1),0)+B153,\"\")","v":""},{"$f":"IFERROR(OFFSET(CalculationsAndCharts!$B$32,'Transaction Summary'!B154,0,1,1),\"\")","v":""},{"$f":"IFERROR(OFFSET(CalculationsAndCharts!$AI$32,'Transaction Summary'!B154,0,1,1),\"\")","v":""},{"$f":"IFERROR(MATCH(TRUE,OFFSET(CalculationsAndCharts!$AH$33,E153,0,'Transaction Summary'!$C$2-E153,1),0)+E153,\"\")","v":""},{"$f":"IFERROR(OFFSET(CalculationsAndCharts!$B$32,'Transaction Summary'!E154,0,1,1),\"\")","v":""},{"$f":"IFERROR(OFFSET(CalculationsAndCharts!$AJ$32,'Transaction Summary'!E154,0,1,1),\"\")","v":""},"","",null,{"$f":"IFERROR(MATCH(TRUE,OFFSET(CalculationsAndCharts!$AN$33,K153,0,'Transaction Summary'!$C$2-K153,1),0)+K153,\"\")","v":""},{"$f":"IFERROR(OFFSET(CalculationsAndCharts!$B$32,'Transaction Summary'!K154,0,1,1),\"\")","v":""},{"$f":"IFERROR(OFFSET(CalculationsAndCharts!$AR$32,'Transaction Summary'!K154,0,1,1),\"\")","v":""},{"$f":"IFERROR(MATCH(TRUE,OFFSET(CalculationsAndCharts!$AQ$33,N153,0,'Transaction Summary'!$C$2-N153,1),0)+N153,\"\")","v":""},{"$f":"IFERROR(OFFSET(CalculationsAndCharts!$B$32,'Transaction Summary'!N154,0,1,1),\"\")","v":""},{"$f":"IFERROR(OFFSET(CalculationsAndCharts!$AS$32,'Transaction Summary'!N154,0,1,1),\"\")","v":""},"",""]
[null,{"$f":"IFERROR(MATCH(TRUE,OFFSET(CalculationsAndCharts!$AE$33,B154,0,'Transaction Summary'!$C$2-B154,1),0)+B154,\"\")","v":""},{"$f":"IFERROR(OFFSET(CalculationsAndCharts!$B$32,'Transaction Summary'!B155,0,1,1),\"\")","v":""},{"$f":"IFERROR(OFFSET(CalculationsAndCharts!$AI$32,'Transaction Summary'!B155,0,1,1),\"\")","v":""},{"$f":"IFERROR(MATCH(TRUE,OFFSET(CalculationsAndCharts!$AH$33,E154,0,'Transaction Summary'!$C$2-E154,1),0)+E154,\"\")","v":""},{"$f":"IFERROR(OFFSET(CalculationsAndCharts!$B$32,'Transaction Summary'!E155,0,1,1),\"\")","v":""},{"$f":"IFERROR(OFFSET(CalculationsAndCharts!$AJ$32,'Transaction Summary'!E155,0,1,1),\"\")","v":""},"","",null,{"$f":"IFERROR(MATCH(TRUE,OFFSET(CalculationsAndCharts!$AN$33,K154,0,'Transaction Summary'!$C$2-K154,1),0)+K154,\"\")","v":""},{"$f":"IFERROR(OFFSET(CalculationsAndCharts!$B$32,'Transaction Summary'!K155,0,1,1),\"\")","v":""},{"$f":"IFERROR(OFFSET(CalculationsAndCharts!$AR$32,'Transaction Summary'!K155,0,1,1),\"\")","v":""},{"$f":"IFERROR(MATCH(TRUE,OFFSET(CalculationsAndCharts!$AQ$33,N154,0,'Transaction Summary'!$C$2-N154,1),0)+N154,\"\")","v":""},{"$f":"IFERROR(OFFSET(CalculationsAndCharts!$B$32,'Transaction Summary'!N155,0,1,1),\"\")","v":""},{"$f":"IFERROR(OFFSET(CalculationsAndCharts!$AS$32,'Transaction Summary'!N155,0,1,1),\"\")","v":""},"",""]
[null,{"$f":"IFERROR(MATCH(TRUE,OFFSET(CalculationsAndCharts!$AE$33,B155,0,'Transaction Summary'!$C$2-B155,1),0)+B155,\"\")","v":""},{"$f":"IFERROR(OFFSET(CalculationsAndCharts!$B$32,'Transaction Summary'!B156,0,1,1),\"\")","v":""},{"$f":"IFERROR(OFFSET(CalculationsAndCharts!$AI$32,'Transaction Summary'!B156,0,1,1),\"\")","v":""},{"$f":"IFERROR(MATCH(TRUE,OFFSET(CalculationsAndCharts!$AH$33,E155,0,'Transaction Summary'!$C$2-E155,1),0)+E155,\"\")","v":""},{"$f":"IFERROR(OFFSET(CalculationsAndCharts!$B$32,'Transaction Summary'!E156,0,1,1),\"\")","v":""},{"$f":"IFERROR(OFFSET(CalculationsAndCharts!$AJ$32,'Transaction Summary'!E156,0,1,1),\"\")","v":""},"","",null,{"$f":"IFERROR(MATCH(TRUE,OFFSET(CalculationsAndCharts!$AN$33,K155,0,'Transaction Summary'!$C$2-K155,1),0)+K155,\"\")","v":""},{"$f":"IFERROR(OFFSET(CalculationsAndCharts!$B$32,'Transaction Summary'!K156,0,1,1),\"\")","v":""},{"$f":"IFERROR(OFFSET(CalculationsAndCharts!$AR$32,'Transaction Summary'!K156,0,1,1),\"\")","v":""},{"$f":"IFERROR(MATCH(TRUE,OFFSET(CalculationsAndCharts!$AQ$33,N155,0,'Transaction Summary'!$C$2-N155,1),0)+N155,\"\")","v":""},{"$f":"IFERROR(OFFSET(CalculationsAndCharts!$B$32,'Transaction Summary'!N156,0,1,1),\"\")","v":""},{"$f":"IFERROR(OFFSET(CalculationsAndCharts!$AS$32,'Transaction Summary'!N156,0,1,1),\"\")","v":""},"",""]
[null,{"$f":"IFERROR(MATCH(TRUE,OFFSET(CalculationsAndCharts!$AE$33,B156,0,'Transaction Summary'!$C$2-B156,1),0)+B156,\"\")","v":""},{"$f":"IFERROR(OFFSET(CalculationsAndCharts!$B$32,'Transaction Summary'!B157,0,1,1),\"\")","v":""},{"$f":"IFERROR(OFFSET(CalculationsAndCharts!$AI$32,'Transaction Summary'!B157,0,1,1),\"\")","v":""},{"$f":"IFERROR(MATCH(TRUE,OFFSET(CalculationsAndCharts!$AH$33,E156,0,'Transaction Summary'!$C$2-E156,1),0)+E156,\"\")","v":""},{"$f":"IFERROR(OFFSET(CalculationsAndCharts!$B$32,'Transaction Summary'!E157,0,1,1),\"\")","v":""},{"$f":"IFERROR(OFFSET(CalculationsAndCharts!$AJ$32,'Transaction Summary'!E157,0,1,1),\"\")","v":""},"","",null,{"$f":"IFERROR(MATCH(TRUE,OFFSET(CalculationsAndCharts!$AN$33,K156,0,'Transaction Summary'!$C$2-K156,1),0)+K156,\"\")","v":""},{"$f":"IFERROR(OFFSET(CalculationsAndCharts!$B$32,'Transaction Summary'!K157,0,1,1),\"\")","v":""},{"$f":"IFERROR(OFFSET(CalculationsAndCharts!$AR$32,'Transaction Summary'!K157,0,1,1),\"\")","v":""},{"$f":"IFERROR(MATCH(TRUE,OFFSET(CalculationsAndCharts!$AQ$33,N156,0,'Transaction Summary'!$C$2-N156,1),0)+N156,\"\")","v":""},{"$f":"IFERROR(OFFSET(CalculationsAndCharts!$B$32,'Transaction Summary'!N157,0,1,1),\"\")","v":""},{"$f":"IFERROR(OFFSET(CalculationsAndCharts!$AS$32,'Transaction Summary'!N157,0,1,1),\"\")","v":""},"",""]
[null,{"$f":"IFERROR(MATCH(TRUE,OFFSET(CalculationsAndCharts!$AE$33,B157,0,'Transaction Summary'!$C$2-B157,1),0)+B157,\"\")","v":""},{"$f":"IFERROR(OFFSET(CalculationsAndCharts!$B$32,'Transaction Summary'!B158,0,1,1),\"\")","v":""},{"$f":"IFERROR(OFFSET(CalculationsAndCharts!$AI$32,'Transaction Summary'!B158,0,1,1),\"\")","v":""},{"$f":"IFERROR(MATCH(TRUE,OFFSET(CalculationsAndCharts!$AH$33,E157,0,'Transaction Summary'!$C$2-E157,1),0)+E157,\"\")","v":""},{"$f":"IFERROR(OFFSET(CalculationsAndCharts!$B$32,'Transaction Summary'!E158,0,1,1),\"\")","v":""},{"$f":"IFERROR(OFFSET(CalculationsAndCharts!$AJ$32,'Transaction Summary'!E158,0,1,1),\"\")","v":""},"","",null,{"$f":"IFERROR(MATCH(TRUE,OFFSET(CalculationsAndCharts!$AN$33,K157,0,'Transaction Summary'!$C$2-K157,1),0)+K157,\"\")","v":""},{"$f":"IFERROR(OFFSET(CalculationsAndCharts!$B$32,'Transaction Summary'!K158,0,1,1),\"\")","v":""},{"$f":"IFERROR(OFFSET(CalculationsAndCharts!$AR$32,'Transaction Summary'!K158,0,1,1),\"\")","v":""},{"$f":"IFERROR(MATCH(TRUE,OFFSET(CalculationsAndCharts!$AQ$33,N157,0,'Transaction Summary'!$C$2-N157,1),0)+N157,\"\")","v":""},{"$f":"IFERROR(OFFSET(CalculationsAndCharts!$B$32,'Transaction Summary'!N158,0,1,1),\"\")","v":""},{"$f":"IFERROR(OFFSET(CalculationsAndCharts!$AS$32,'Transaction Summary'!N158,0,1,1),\"\")","v":""},"",""]
[null,{"$f":"IFERROR(MATCH(TRUE,OFFSET(CalculationsAndCharts!$AE$33,B158,0,'Transaction Summary'!$C$2-B158,1),0)+B158,\"\")","v":""},{"$f":"IFERROR(OFFSET(CalculationsAndCharts!$B$32,'Transaction Summary'!B159,0,1,1),\"\")","v":""},{"$f":"IFERROR(OFFSET(CalculationsAndCharts!$AI$32,'Transaction Summary'!B159,0,1,1),\"\")","v":""},{"$f":"IFERROR(MATCH(TRUE,OFFSET(CalculationsAndCharts!$AH$33,E158,0,'Transaction Summary'!$C$2-E158,1),0)+E158,\"\")","v":""},{"$f":"IFERROR(OFFSET(CalculationsAndCharts!$B$32,'Transaction Summary'!E159,0,1,1),\"\")","v":""},{"$f":"IFERROR(OFFSET(CalculationsAndCharts!$AJ$32,'Transaction Summary'!E159,0,1,1),\"\")","v":""},"","",null,{"$f":"IFERROR(MATCH(TRUE,OFFSET(CalculationsAndCharts!$AN$33,K158,0,'Transaction Summary'!$C$2-K158,1),0)+K158,\"\")","v":""},{"$f":"IFERROR(OFFSET(CalculationsAndCharts!$B$32,'Transaction Summary'!K159,0,1,1),\"\")","v":""},{"$f":"IFERROR(OFFSET(CalculationsAndCharts!$AR$32,'Transaction Summary'!K159,0,1,1),\"\")","v":""},{"$f":"IFERROR(MATCH(TRUE,OFFSET(CalculationsAndCharts!$AQ$33,N158,0,'Transaction Summary'!$C$2-N158,1),0)+N158,\"\")","v":""},{"$f":"IFERROR(OFFSET(CalculationsAndCharts!$B$32,'Transaction Summary'!N159,0,1,1),\"\")","v":""},{"$f":"IFERROR(OFFSET(CalculationsAndCharts!$AS$32,'Transaction Summary'!N159,0,1,1),\"\")","v":""},"",""]
[null,{"$f":"IFERROR(MATCH(TRUE,OFFSET(CalculationsAndCharts!$AE$33,B159,0,'Transaction Summary'!$C$2-B159,1),0)+B159,\"\")","v":""},{"$f":"IFERROR(OFFSET(CalculationsAndCharts!$B$32,'Transaction Summary'!B160,0,1,1),\"\")","v":""},{"$f":"IFERROR(OFFSET(CalculationsAndCharts!$AI$32,'Transaction Summary'!B160,0,1,1),\"\")","v":""},{"$f":"IFERROR(MATCH(TRUE,OFFSET(CalculationsAndCharts!$AH$33,E159,0,'Transaction Summary'!$C$2-E159,1),0)+E159,\"\")","v":""},{"$f":"IFERROR(OFFSET(CalculationsAndCharts!$B$32,'Transaction Summary'!E160,0,1,1),\"\")","v":""},{"$f":"IFERROR(OFFSET(CalculationsAndCharts!$AJ$32,'Transaction Summary'!E160,0,1,1),\"\")","v":""},"","",null,{"$f":"IFERROR(MATCH(TRUE,OFFSET(CalculationsAndCharts!$AN$33,K159,0,'Transaction Summary'!$C$2-K159,1),0)+K159,\"\")","v":""},{"$f":"IFERROR(OFFSET(CalculationsAndCharts!$B$32,'Transaction Summary'!K160,0,1,1),\"\")","v":""},{"$f":"IFERROR(OFFSET(CalculationsAndCharts!$AR$32,'Transaction Summary'!K160,0,1,1),\"\")","v":""},{"$f":"IFERROR(MATCH(TRUE,OFFSET(CalculationsAndCharts!$AQ$33,N159,0,'Transaction Summary'!$C$2-N159,1),0)+N159,\"\")","v":""},{"$f":"IFERROR(OFFSET(CalculationsAndCharts!$B$32,'Transaction Summary'!N160,0,1,1),\"\")","v":""},{"$f":"IFERROR(OFFSET(CalculationsAndCharts!$AS$32,'Transaction Summary'!N160,0,1,1),\"\")","v":""},"",""]
[null,{"$f":"IFERROR(MATCH(TRUE,OFFSET(CalculationsAndCharts!$AE$33,B160,0,'Transaction Summary'!$C$2-B160,1),0)+B160,\"\")","v":""},{"$f":"IFERROR(OFFSET(CalculationsAndCharts!$B$32,'Transaction Summary'!B161,0,1,1),\"\")","v":""},{"$f":"IFERROR(OFFSET(CalculationsAndCharts!$AI$32,'Transaction Summary'!B161,0,1,1),\"\")","v":""},{"$f":"IFERROR(MATCH(TRUE,OFFSET(CalculationsAndCharts!$AH$33,E160,0,'Transaction Summary'!$C$2-E160,1),0)+E160,\"\")","v":""},{"$f":"IFERROR(OFFSET(CalculationsAndCharts!$B$32,'Transaction Summary'!E161,0,1,1),\"\")","v":""},{"$f":"IFERROR(OFFSET(CalculationsAndCharts!$AJ$32,'Transaction Summary'!E161,0,1,1),\"\")","v":""},"","",null,{"$f":"IFERROR(MATCH(TRUE,OFFSET(CalculationsAndCharts!$AN$33,K160,0,'Transaction Summary'!$C$2-K160,1),0)+K160,\"\")","v":""},{"$f":"IFERROR(OFFSET(CalculationsAndCharts!$B$32,'Transaction Summary'!K161,0,1,1),\"\")","v":""},{"$f":"IFERROR(OFFSET(CalculationsAndCharts!$AR$32,'Transaction Summary'!K161,0,1,1),\"\")","v":""},{"$f":"IFERROR(MATCH(TRUE,OFFSET(CalculationsAndCharts!$AQ$33,N160,0,'Transaction Summary'!$C$2-N160,1),0)+N160,\"\")","v":""},{"$f":"IFERROR(OFFSET(CalculationsAndCharts!$B$32,'Transaction Summary'!N161,0,1,1),\"\")","v":""},{"$f":"IFERROR(OFFSET(CalculationsAndCharts!$AS$32,'Transaction Summary'!N161,0,1,1),\"\")","v":""},"",""]
[null,{"$f":"IFERROR(MATCH(TRUE,OFFSET(CalculationsAndCharts!$AE$33,B161,0,'Transaction Summary'!$C$2-B161,1),0)+B161,\"\")","v":""},{"$f":"IFERROR(OFFSET(CalculationsAndCharts!$B$32,'Transaction Summary'!B162,0,1,1),\"\")","v":""},{"$f":"IFERROR(OFFSET(CalculationsAndCharts!$AI$32,'Transaction Summary'!B162,0,1,1),\"\")","v":""},{"$f":"IFERROR(MATCH(TRUE,OFFSET(CalculationsAndCharts!$AH$33,E161,0,'Transaction Summary'!$C$2-E161,1),0)+E161,\"\")","v":""},{"$f":"IFERROR(OFFSET(CalculationsAndCharts!$B$32,'Transaction Summary'!E162,0,1,1),\"\")","v":""},{"$f":"IFERROR(OFFSET(CalculationsAndCharts!$AJ$32,'Transaction Summary'!E162,0,1,1),\"\")","v":""},{"$f":"IFERROR(G162-D162,\"\")","v":""},{"$f":"IFERROR(H162+IF(\"\"=I163,0,I163),\"\")","v":""},null,{"$f":"IFERROR(MATCH(TRUE,OFFSET(CalculationsAndCharts!$AN$33,K161,0,'Transaction Summary'!$C$2-K161,1),0)+K161,\"\")","v":""},{"$f":"IFERROR(OFFSET(CalculationsAndCharts!$B$32,'Transaction Summary'!K162,0,1,1),\"\")","v":""},{"$f":"IFERROR(OFFSET(CalculationsAndCharts!$AR$32,'Transaction Summary'!K162,0,1,1),\"\")","v":""},{"$f":"IFERROR(MATCH(TRUE,OFFSET(CalculationsAndCharts!$AQ$33,N161,0,'Transaction Summary'!$C$2-N161,1),0)+N161,\"\")","v":""},{"$f":"IFERROR(OFFSET(CalculationsAndCharts!$B$32,'Transaction Summary'!N162,0,1,1),\"\")","v":""},{"$f":"IFERROR(OFFSET(CalculationsAndCharts!$AS$32,'Transaction Summary'!N162,0,1,1),\"\")","v":""},"",""]
[null,{"$f":"IFERROR(MATCH(TRUE,OFFSET(CalculationsAndCharts!$AE$33,B162,0,'Transaction Summary'!$C$2-B162,1),0)+B162,\"\")","v":""},{"$f":"IFERROR(OFFSET(CalculationsAndCharts!$B$32,'Transaction Summary'!B163,0,1,1),\"\")","v":""},{"$f":"IFERROR(OFFSET(CalculationsAndCharts!$AI$32,'Transaction Summary'!B163,0,1,1),\"\")","v":""},{"$f":"IFERROR(MATCH(TRUE,OFFSET(CalculationsAndCharts!$AH$33,E162,0,'Transaction Summary'!$C$2-E162,1),0)+E162,\"\")","v":""},{"$f":"IFERROR(OFFSET(CalculationsAndCharts!$B$32,'Transaction Summary'!E163,0,1,1),\"\")","v":""},{"$f":"IFERROR(OFFSET(CalculationsAndCharts!$AJ$32,'Transaction Summary'!E163,0,1,1),\"\")","v":""},"","",null,{"$f":"IFERROR(MATCH(TRUE,OFFSET(CalculationsAndCharts!$AN$33,K162,0,'Transaction Summary'!$C$2-K162,1),0)+K162,\"\")","v":""},{"$f":"IFERROR(OFFSET(CalculationsAndCharts!$B$32,'Transaction Summary'!K163,0,1,1),\"\")","v":""},{"$f":"IFERROR(OFFSET(CalculationsAndCharts!$AR$32,'Transaction Summary'!K163,0,1,1),\"\")","v":""},{"$f":"IFERROR(MATCH(TRUE,OFFSET(CalculationsAndCharts!$AQ$33,N162,0,'Transaction Summary'!$C$2-N162,1),0)+N162,\"\")","v":""},{"$f":"IFERROR(OFFSET(CalculationsAndCharts!$B$32,'Transaction Summary'!N163,0,1,1),\"\")","v":""},{"$f":"IFERROR(OFFSET(CalculationsAndCharts!$AS$32,'Transaction Summary'!N163,0,1,1),\"\")","v":""},{"$f":"IFERROR(M163-P163,\"\")","v":""},{"$f":"IFERROR(Q163+IF(\"\"=R164,0,R164),\"\")","v":""}]
[null,{"$f":"IFERROR(MATCH(TRUE,OFFSET(CalculationsAndCharts!$AE$33,B163,0,'Transaction Summary'!$C$2-B163,1),0)+B163,\"\")","v":""},{"$f":"IFERROR(OFFSET(CalculationsAndCharts!$B$32,'Transaction Summary'!B164,0,1,1),\"\")","v":""},{"$f":"IFERROR(OFFSET(CalculationsAndCharts!$AI$32,'Transaction Summary'!B164,0,1,1),\"\")","v":""},{"$f":"IFERROR(MATCH(TRUE,OFFSET(CalculationsAndCharts!$AH$33,E163,0,'Transaction Summary'!$C$2-E163,1),0)+E163,\"\")","v":""},{"$f":"IFERROR(OFFSET(CalculationsAndCharts!$B$32,'Transaction Summary'!E164,0,1,1),\"\")","v":""},{"$f":"IFERROR(OFFSET(CalculationsAndCharts!$AJ$32,'Transaction Summary'!E164,0,1,1),\"\")","v":""},"","",null,{"$f":"IFERROR(MATCH(TRUE,OFFSET(CalculationsAndCharts!$AN$33,K163,0,'Transaction Summary'!$C$2-K163,1),0)+K163,\"\")","v":""},{"$f":"IFERROR(OFFSET(CalculationsAndCharts!$B$32,'Transaction Summary'!K164,0,1,1),\"\")","v":""},{"$f":"IFERROR(OFFSET(CalculationsAndCharts!$AR$32,'Transaction Summary'!K164,0,1,1),\"\")","v":""},{"$f":"IFERROR(MATCH(TRUE,OFFSET(CalculationsAndCharts!$AQ$33,N163,0,'Transaction Summary'!$C$2-N163,1),0)+N163,\"\")","v":""},{"$f":"IFERROR(OFFSET(CalculationsAndCharts!$B$32,'Transaction Summary'!N164,0,1,1),\"\")","v":""},{"$f":"IFERROR(OFFSET(CalculationsAndCharts!$AS$32,'Transaction Summary'!N164,0,1,1),\"\")","v":""},"",""]
[null,{"$f":"IFERROR(MATCH(TRUE,OFFSET(CalculationsAndCharts!$AE$33,B164,0,'Transaction Summary'!$C$2-B164,1),0)+B164,\"\")","v":""},{"$f":"IFERROR(OFFSET(CalculationsAndCharts!$B$32,'Transaction Summary'!B165,0,1,1),\"\")","v":""},{"$f":"IFERROR(OFFSET(CalculationsAndCharts!$AI$32,'Transaction Summary'!B165,0,1,1),\"\")","v":""},{"$f":"IFERROR(MATCH(TRUE,OFFSET(CalculationsAndCharts!$AH$33,E164,0,'Transaction Summary'!$C$2-E164,1),0)+E164,\"\")","v":""},{"$f":"IFERROR(OFFSET(CalculationsAndCharts!$B$32,'Transaction Summary'!E165,0,1,1),\"\")","v":""},{"$f":"IFERROR(OFFSET(CalculationsAndCharts!$AJ$32,'Transaction Summary'!E165,0,1,1),\"\")","v":""},"","",null,{"$f":"IFERROR(MATCH(TRUE,OFFSET(CalculationsAndCharts!$AN$33,K164,0,'Transaction Summary'!$C$2-K164,1),0)+K164,\"\")","v":""},{"$f":"IFERROR(OFFSET(CalculationsAndCharts!$B$32,'Transaction Summary'!K165,0,1,1),\"\")","v":""},{"$f":"IFERROR(OFFSET(CalculationsAndCharts!$AR$32,'Transaction Summary'!K165,0,1,1),\"\")","v":""},{"$f":"IFERROR(MATCH(TRUE,OFFSET(CalculationsAndCharts!$AQ$33,N164,0,'Transaction Summary'!$C$2-N164,1),0)+N164,\"\")","v":""},{"$f":"IFERROR(OFFSET(CalculationsAndCharts!$B$32,'Transaction Summary'!N165,0,1,1),\"\")","v":""},{"$f":"IFERROR(OFFSET(CalculationsAndCharts!$AS$32,'Transaction Summary'!N165,0,1,1),\"\")","v":""},"",""]
[null,{"$f":"IFERROR(MATCH(TRUE,OFFSET(CalculationsAndCharts!$AE$33,B165,0,'Transaction Summary'!$C$2-B165,1),0)+B165,\"\")","v":""},{"$f":"IFERROR(OFFSET(CalculationsAndCharts!$B$32,'Transaction Summary'!B166,0,1,1),\"\")","v":""},{"$f":"IFERROR(OFFSET(CalculationsAndCharts!$AI$32,'Transaction Summary'!B166,0,1,1),\"\")","v":""},{"$f":"IFERROR(MATCH(TRUE,OFFSET(CalculationsAndCharts!$AH$33,E165,0,'Transaction Summary'!$C$2-E165,1),0)+E165,\"\")","v":""},{"$f":"IFERROR(OFFSET(CalculationsAndCharts!$B$32,'Transaction Summary'!E166,0,1,1),\"\")","v":""},{"$f":"IFERROR(OFFSET(CalculationsAndCharts!$AJ$32,'Transaction Summary'!E166,0,1,1),\"\")","v":""},"","",null,{"$f":"IFERROR(MATCH(TRUE,OFFSET(CalculationsAndCharts!$AN$33,K165,0,'Transaction Summary'!$C$2-K165,1),0)+K165,\"\")","v":""},{"$f":"IFERROR(OFFSET(CalculationsAndCharts!$B$32,'Transaction Summary'!K166,0,1,1),\"\")","v":""},{"$f":"IFERROR(OFFSET(CalculationsAndCharts!$AR$32,'Transaction Summary'!K166,0,1,1),\"\")","v":""},{"$f":"IFERROR(MATCH(TRUE,OFFSET(CalculationsAndCharts!$AQ$33,N165,0,'Transaction Summary'!$C$2-N165,1),0)+N165,\"\")","v":""},{"$f":"IFERROR(OFFSET(CalculationsAndCharts!$B$32,'Transaction Summary'!N166,0,1,1),\"\")","v":""},{"$f":"IFERROR(OFFSET(CalculationsAndCharts!$AS$32,'Transaction Summary'!N166,0,1,1),\"\")","v":""},"",""]
[null,{"$f":"IFERROR(MATCH(TRUE,OFFSET(CalculationsAndCharts!$AE$33,B166,0,'Transaction Summary'!$C$2-B166,1),0)+B166,\"\")","v":""},{"$f":"IFERROR(OFFSET(CalculationsAndCharts!$B$32,'Transaction Summary'!B167,0,1,1),\"\")","v":""},{"$f":"IFERROR(OFFSET(CalculationsAndCharts!$AI$32,'Transaction Summary'!B167,0,1,1),\"\")","v":""},{"$f":"IFERROR(MATCH(TRUE,OFFSET(CalculationsAndCharts!$AH$33,E166,0,'Transaction Summary'!$C$2-E166,1),0)+E166,\"\")","v":""},{"$f":"IFERROR(OFFSET(CalculationsAndCharts!$B$32,'Transaction Summary'!E167,0,1,1),\"\")","v":""},{"$f":"IFERROR(OFFSET(CalculationsAndCharts!$AJ$32,'Transaction Summary'!E167,0,1,1),\"\")","v":""},"","",null,{"$f":"IFERROR(MATCH(TRUE,OFFSET(CalculationsAndCharts!$AN$33,K166,0,'Transaction Summary'!$C$2-K166,1),0)+K166,\"\")","v":""},{"$f":"IFERROR(OFFSET(CalculationsAndCharts!$B$32,'Transaction Summary'!K167,0,1,1),\"\")","v":""},{"$f":"IFERROR(OFFSET(CalculationsAndCharts!$AR$32,'Transaction Summary'!K167,0,1,1),\"\")","v":""},{"$f":"IFERROR(MATCH(TRUE,OFFSET(CalculationsAndCharts!$AQ$33,N166,0,'Transaction Summary'!$C$2-N166,1),0)+N166,\"\")","v":""},{"$f":"IFERROR(OFFSET(CalculationsAndCharts!$B$32,'Transaction Summary'!N167,0,1,1),\"\")","v":""},{"$f":"IFERROR(OFFSET(CalculationsAndCharts!$AS$32,'Transaction Summary'!N167,0,1,1),\"\")","v":""},"",""]
[null,{"$f":"IFERROR(MATCH(TRUE,OFFSET(CalculationsAndCharts!$AE$33,B167,0,'Transaction Summary'!$C$2-B167,1),0)+B167,\"\")","v":""},{"$f":"IFERROR(OFFSET(CalculationsAndCharts!$B$32,'Transaction Summary'!B168,0,1,1),\"\")","v":""},{"$f":"IFERROR(OFFSET(CalculationsAndCharts!$AI$32,'Transaction Summary'!B168,0,1,1),\"\")","v":""},{"$f":"IFERROR(MATCH(TRUE,OFFSET(CalculationsAndCharts!$AH$33,E167,0,'Transaction Summary'!$C$2-E167,1),0)+E167,\"\")","v":""},{"$f":"IFERROR(OFFSET(CalculationsAndCharts!$B$32,'Transaction Summary'!E168,0,1,1),\"\")","v":""},{"$f":"IFERROR(OFFSET(CalculationsAndCharts!$AJ$32,'Transaction Summary'!E168,0,1,1),\"\")","v":""},"","",null,{"$f":"IFERROR(MATCH(TRUE,OFFSET(CalculationsAndCharts!$AN$33,K167,0,'Transaction Summary'!$C$2-K167,1),0)+K167,\"\")","v":""},{"$f":"IFERROR(OFFSET(CalculationsAndCharts!$B$32,'Transaction Summary'!K168,0,1,1),\"\")","v":""},{"$f":"IFERROR(OFFSET(CalculationsAndCharts!$AR$32,'Transaction Summary'!K168,0,1,1),\"\")","v":""},{"$f":"IFERROR(MATCH(TRUE,OFFSET(CalculationsAndCharts!$AQ$33,N167,0,'Transaction Summary'!$C$2-N167,1),0)+N167,\"\")","v":""},{"$f":"IFERROR(OFFSET(CalculationsAndCharts!$B$32,'Transaction Summary'!N168,0,1,1),\"\")","v":""},{"$f":"IFERROR(OFFSET(CalculationsAndCharts!$AS$32,'Transaction Summary'!N168,0,1,1),\"\")","v":""},"",""]
[null,{"$f":"IFERROR(MATCH(TRUE,OFFSET(CalculationsAndCharts!$AE$33,B168,0,'Transaction Summary'!$C$2-B168,1),0)+B168,\"\")","v":""},{"$f":"IFERROR(OFFSET(CalculationsAndCharts!$B$32,'Transaction Summary'!B169,0,1,1),\"\")","v":""},{"$f":"IFERROR(OFFSET(CalculationsAndCharts!$AI$32,'Transaction Summary'!B169,0,1,1),\"\")","v":""},{"$f":"IFERROR(MATCH(TRUE,OFFSET(CalculationsAndCharts!$AH$33,E168,0,'Transaction Summary'!$C$2-E168,1),0)+E168,\"\")","v":""},{"$f":"IFERROR(OFFSET(CalculationsAndCharts!$B$32,'Transaction Summary'!E169,0,1,1),\"\")","v":""},{"$f":"IFERROR(OFFSET(CalculationsAndCharts!$AJ$32,'Transaction Summary'!E169,0,1,1),\"\")","v":""},"","",null,{"$f":"IFERROR(MATCH(TRUE,OFFSET(CalculationsAndCharts!$AN$33,K168,0,'Transaction Summary'!$C$2-K168,1),0)+K168,\"\")","v":""},{"$f":"IFERROR(OFFSET(CalculationsAndCharts!$B$32,'Transaction Summary'!K169,0,1,1),\"\")","v":""},{"$f":"IFERROR(OFFSET(CalculationsAndCharts!$AR$32,'Transaction Summary'!K169,0,1,1),\"\")","v":""},{"$f":"IFERROR(MATCH(TRUE,OFFSET(CalculationsAndCharts!$AQ$33,N168,0,'Transaction Summary'!$C$2-N168,1),0)+N168,\"\")","v":""},{"$f":"IFERROR(OFFSET(CalculationsAndCharts!$B$32,'Transaction Summary'!N169,0,1,1),\"\")","v":""},{"$f":"IFERROR(OFFSET(CalculationsAndCharts!$AS$32,'Transaction Summary'!N169,0,1,1),\"\")","v":""},"",""]
[null,{"$f":"IFERROR(MATCH(TRUE,OFFSET(CalculationsAndCharts!$AE$33,B169,0,'Transaction Summary'!$C$2-B169,1),0)+B169,\"\")","v":""},{"$f":"IFERROR(OFFSET(CalculationsAndCharts!$B$32,'Transaction Summary'!B170,0,1,1),\"\")","v":""},{"$f":"IFERROR(OFFSET(CalculationsAndCharts!$AI$32,'Transaction Summary'!B170,0,1,1),\"\")","v":""},{"$f":"IFERROR(MATCH(TRUE,OFFSET(CalculationsAndCharts!$AH$33,E169,0,'Transaction Summary'!$C$2-E169,1),0)+E169,\"\")","v":""},{"$f":"IFERROR(OFFSET(CalculationsAndCharts!$B$32,'Transaction Summary'!E170,0,1,1),\"\")","v":""},{"$f":"IFERROR(OFFSET(CalculationsAndCharts!$AJ$32,'Transaction Summary'!E170,0,1,1),\"\")","v":""},"","",null,{"$f":"IFERROR(MATCH(TRUE,OFFSET(CalculationsAndCharts!$AN$33,K169,0,'Transaction Summary'!$C$2-K169,1),0)+K169,\"\")","v":""},{"$f":"IFERROR(OFFSET(CalculationsAndCharts!$B$32,'Transaction Summary'!K170,0,1,1),\"\")","v":""},{"$f":"IFERROR(OFFSET(CalculationsAndCharts!$AR$32,'Transaction Summary'!K170,0,1,1),\"\")","v":""},{"$f":"IFERROR(MATCH(TRUE,OFFSET(CalculationsAndCharts!$AQ$33,N169,0,'Transaction Summary'!$C$2-N169,1),0)+N169,\"\")","v":""},{"$f":"IFERROR(OFFSET(CalculationsAndCharts!$B$32,'Transaction Summary'!N170,0,1,1),\"\")","v":""},{"$f":"IFERROR(OFFSET(CalculationsAndCharts!$AS$32,'Transaction Summary'!N170,0,1,1),\"\")","v":""},"",""]
[null,{"$f":"IFERROR(MATCH(TRUE,OFFSET(CalculationsAndCharts!$AE$33,B170,0,'Transaction Summary'!$C$2-B170,1),0)+B170,\"\")","v":""},{"$f":"IFERROR(OFFSET(CalculationsAndCharts!$B$32,'Transaction Summary'!B171,0,1,1),\"\")","v":""},{"$f":"IFERROR(OFFSET(CalculationsAndCharts!$AI$32,'Transaction Summary'!B171,0,1,1),\"\")","v":""},{"$f":"IFERROR(MATCH(TRUE,OFFSET(CalculationsAndCharts!$AH$33,E170,0,'Transaction Summary'!$C$2-E170,1),0)+E170,\"\")","v":""},{"$f":"IFERROR(OFFSET(CalculationsAndCharts!$B$32,'Transaction Summary'!E171,0,1,1),\"\")","v":""},{"$f":"IFERROR(OFFSET(CalculationsAndCharts!$AJ$32,'Transaction Summary'!E171,0,1,1),\"\")","v":""},"","",null,{"$f":"IFERROR(MATCH(TRUE,OFFSET(CalculationsAndCharts!$AN$33,K170,0,'Transaction Summary'!$C$2-K170,1),0)+K170,\"\")","v":""},{"$f":"IFERROR(OFFSET(CalculationsAndCharts!$B$32,'Transaction Summary'!K171,0,1,1),\"\")","v":""},{"$f":"IFERROR(OFFSET(CalculationsAndCharts!$AR$32,'Transaction Summary'!K171,0,1,1),\"\")","v":""},{"$f":"IFERROR(MATCH(TRUE,OFFSET(CalculationsAndCharts!$AQ$33,N170,0,'Transaction Summary'!$C$2-N170,1),0)+N170,\"\")","v":""},{"$f":"IFERROR(OFFSET(CalculationsAndCharts!$B$32,'Transaction Summary'!N171,0,1,1),\"\")","v":""},{"$f":"IFERROR(OFFSET(CalculationsAndCharts!$AS$32,'Transaction Summary'!N171,0,1,1),\"\")","v":""},"",""]
[null,{"$f":"IFERROR(MATCH(TRUE,OFFSET(CalculationsAndCharts!$AE$33,B171,0,'Transaction Summary'!$C$2-B171,1),0)+B171,\"\")","v":""},{"$f":"IFERROR(OFFSET(CalculationsAndCharts!$B$32,'Transaction Summary'!B172,0,1,1),\"\")","v":""},{"$f":"IFERROR(OFFSET(CalculationsAndCharts!$AI$32,'Transaction Summary'!B172,0,1,1),\"\")","v":""},{"$f":"IFERROR(MATCH(TRUE,OFFSET(CalculationsAndCharts!$AH$33,E171,0,'Transaction Summary'!$C$2-E171,1),0)+E171,\"\")","v":""},{"$f":"IFERROR(OFFSET(CalculationsAndCharts!$B$32,'Transaction Summary'!E172,0,1,1),\"\")","v":""},{"$f":"IFERROR(OFFSET(CalculationsAndCharts!$AJ$32,'Transaction Summary'!E172,0,1,1),\"\")","v":""},"","",null,{"$f":"IFERROR(MATCH(TRUE,OFFSET(CalculationsAndCharts!$AN$33,K171,0,'Transaction Summary'!$C$2-K171,1),0)+K171,\"\")","v":""},{"$f":"IFERROR(OFFSET(CalculationsAndCharts!$B$32,'Transaction Summary'!K172,0,1,1),\"\")","v":""},{"$f":"IFERROR(OFFSET(CalculationsAndCharts!$AR$32,'Transaction Summary'!K172,0,1,1),\"\")","v":""},{"$f":"IFERROR(MATCH(TRUE,OFFSET(CalculationsAndCharts!$AQ$33,N171,0,'Transaction Summary'!$C$2-N171,1),0)+N171,\"\")","v":""},{"$f":"IFERROR(OFFSET(CalculationsAndCharts!$B$32,'Transaction Summary'!N172,0,1,1),\"\")","v":""},{"$f":"IFERROR(OFFSET(CalculationsAndCharts!$AS$32,'Transaction Summary'!N172,0,1,1),\"\")","v":""},"",""]
[null,{"$f":"IFERROR(MATCH(TRUE,OFFSET(CalculationsAndCharts!$AE$33,B172,0,'Transaction Summary'!$C$2-B172,1),0)+B172,\"\")","v":""},{"$f":"IFERROR(OFFSET(CalculationsAndCharts!$B$32,'Transaction Summary'!B173,0,1,1),\"\")","v":""},{"$f":"IFERROR(OFFSET(CalculationsAndCharts!$AI$32,'Transaction Summary'!B173,0,1,1),\"\")","v":""},{"$f":"IFERROR(MATCH(TRUE,OFFSET(CalculationsAndCharts!$AH$33,E172,0,'Transaction Summary'!$C$2-E172,1),0)+E172,\"\")","v":""},{"$f":"IFERROR(OFFSET(CalculationsAndCharts!$B$32,'Transaction Summary'!E173,0,1,1),\"\")","v":""},{"$f":"IFERROR(OFFSET(CalculationsAndCharts!$AJ$32,'Transaction Summary'!E173,0,1,1),\"\")","v":""},"","",null,{"$f":"IFERROR(MATCH(TRUE,OFFSET(CalculationsAndCharts!$AN$33,K172,0,'Transaction Summary'!$C$2-K172,1),0)+K172,\"\")","v":""},{"$f":"IFERROR(OFFSET(CalculationsAndCharts!$B$32,'Transaction Summary'!K173,0,1,1),\"\")","v":""},{"$f":"IFERROR(OFFSET(CalculationsAndCharts!$AR$32,'Transaction Summary'!K173,0,1,1),\"\")","v":""},{"$f":"IFERROR(MATCH(TRUE,OFFSET(CalculationsAndCharts!$AQ$33,N172,0,'Transaction Summary'!$C$2-N172,1),0)+N172,\"\")","v":""},{"$f":"IFERROR(OFFSET(CalculationsAndCharts!$B$32,'Transaction Summary'!N173,0,1,1),\"\")","v":""},{"$f":"IFERROR(OFFSET(CalculationsAndCharts!$AS$32,'Transaction Summary'!N173,0,1,1),\"\")","v":""},"",""]
[null,{"$f":"IFERROR(MATCH(TRUE,OFFSET(CalculationsAndCharts!$AE$33,B173,0,'Transaction Summary'!$C$2-B173,1),0)+B173,\"\")","v":""},{"$f":"IFERROR(OFFSET(CalculationsAndCharts!$B$32,'Transaction Summary'!B174,0,1,1),\"\")","v":""},{"$f":"IFERROR(OFFSET(CalculationsAndCharts!$AI$32,'Transaction Summary'!B174,0,1,1),\"\")","v":""},{"$f":"IFERROR(MATCH(TRUE,OFFSET(CalculationsAndCharts!$AH$33,E173,0,'Transaction Summary'!$C$2-E173,1),0)+E173,\"\")","v":""},{"$f":"IFERROR(OFFSET(CalculationsAndCharts!$B$32,'Transaction Summary'!E174,0,1,1),\"\")","v":""},{"$f":"IFERROR(OFFSET(CalculationsAndCharts!$AJ$32,'Transaction Summary'!E174,0,1,1),\"\")","v":""},"","",null,{"$f":"IFERROR(MATCH(TRUE,OFFSET(CalculationsAndCharts!$AN$33,K173,0,'Transaction Summary'!$C$2-K173,1),0)+K173,\"\")","v":""},{"$f":"IFERROR(OFFSET(CalculationsAndCharts!$B$32,'Transaction Summary'!K174,0,1,1),\"\")","v":""},{"$f":"IFERROR(OFFSET(CalculationsAndCharts!$AR$32,'Transaction Summary'!K174,0,1,1),\"\")","v":""},{"$f":"IFERROR(MATCH(TRUE,OFFSET(CalculationsAndCharts!$AQ$33,N173,0,'Transaction Summary'!$C$2-N173,1),0)+N173,\"\")","v":""},{"$f":"IFERROR(OFFSET(CalculationsAndCharts!$B$32,'Transaction Summary'!N174,0,1,1),\"\")","v":""},{"$f":"IFERROR(OFFSET(CalculationsAndCharts!$AS$32,'Transaction Summary'!N174,0,1,1),\"\")","v":""},"",""]
[null,{"$f":"IFERROR(MATCH(TRUE,OFFSET(CalculationsAndCharts!$AE$33,B174,0,'Transaction Summary'!$C$2-B174,1),0)+B174,\"\")","v":""},{"$f":"IFERROR(OFFSET(CalculationsAndCharts!$B$32,'Transaction Summary'!B175,0,1,1),\"\")","v":""},{"$f":"IFERROR(OFFSET(CalculationsAndCharts!$AI$32,'Transaction Summary'!B175,0,1,1),\"\")","v":""},{"$f":"IFERROR(MATCH(TRUE,OFFSET(CalculationsAndCharts!$AH$33,E174,0,'Transaction Summary'!$C$2-E174,1),0)+E174,\"\")","v":""},{"$f":"IFERROR(OFFSET(CalculationsAndCharts!$B$32,'Transaction Summary'!E175,0,1,1),\"\")","v":""},{"$f":"IFERROR(OFFSET(CalculationsAndCharts!$AJ$32,'Transaction Summary'!E175,0,1,1),\"\")","v":""},"","",null,{"$f":"IFERROR(MATCH(TRUE,OFFSET(CalculationsAndCharts!$AN$33,K174,0,'Transaction Summary'!$C$2-K174,1),0)+K174,\"\")","v":""},{"$f":"IFERROR(OFFSET(CalculationsAndCharts!$B$32,'Transaction Summary'!K175,0,1,1),\"\")","v":""},{"$f":"IFERROR(OFFSET(CalculationsAndCharts!$AR$32,'Transaction Summary'!K175,0,1,1),\"\")","v":""},{"$f":"IFERROR(MATCH(TRUE,OFFSET(CalculationsAndCharts!$AQ$33,N174,0,'Transaction Summary'!$C$2-N174,1),0)+N174,\"\")","v":""},{"$f":"IFERROR(OFFSET(CalculationsAndCharts!$B$32,'Transaction Summary'!N175,0,1,1),\"\")","v":""},{"$f":"IFERROR(OFFSET(CalculationsAndCharts!$AS$32,'Transaction Summary'!N175,0,1,1),\"\")","v":""},"",""]
[null,{"$f":"IFERROR(MATCH(TRUE,OFFSET(CalculationsAndCharts!$AE$33,B175,0,'Transaction Summary'!$C$2-B175,1),0)+B175,\"\")","v":""},{"$f":"IFERROR(OFFSET(CalculationsAndCharts!$B$32,'Transaction Summary'!B176,0,1,1),\"\")","v":""},{"$f":"IFERROR(OFFSET(CalculationsAndCharts!$AI$32,'Transaction Summary'!B176,0,1,1),\"\")","v":""},{"$f":"IFERROR(MATCH(TRUE,OFFSET(CalculationsAndCharts!$AH$33,E175,0,'Transaction Summary'!$C$2-E175,1),0)+E175,\"\")","v":""},{"$f":"IFERROR(OFFSET(CalculationsAndCharts!$B$32,'Transaction Summary'!E176,0,1,1),\"\")","v":""},{"$f":"IFERROR(OFFSET(CalculationsAndCharts!$AJ$32,'Transaction Summary'!E176,0,1,1),\"\")","v":""},"","",null,{"$f":"IFERROR(MATCH(TRUE,OFFSET(CalculationsAndCharts!$AN$33,K175,0,'Transaction Summary'!$C$2-K175,1),0)+K175,\"\")","v":""},{"$f":"IFERROR(OFFSET(CalculationsAndCharts!$B$32,'Transaction Summary'!K176,0,1,1),\"\")","v":""},{"$f":"IFERROR(OFFSET(CalculationsAndCharts!$AR$32,'Transaction Summary'!K176,0,1,1),\"\")","v":""},{"$f":"IFERROR(MATCH(TRUE,OFFSET(CalculationsAndCharts!$AQ$33,N175,0,'Transaction Summary'!$C$2-N175,1),0)+N175,\"\")","v":""},{"$f":"IFERROR(OFFSET(CalculationsAndCharts!$B$32,'Transaction Summary'!N176,0,1,1),\"\")","v":""},{"$f":"IFERROR(OFFSET(CalculationsAndCharts!$AS$32,'Transaction Summary'!N176,0,1,1),\"\")","v":""},"",""]
[null,{"$f":"IFERROR(MATCH(TRUE,OFFSET(CalculationsAndCharts!$AE$33,B176,0,'Transaction Summary'!$C$2-B176,1),0)+B176,\"\")","v":""},{"$f":"IFERROR(OFFSET(CalculationsAndCharts!$B$32,'Transaction Summary'!B177,0,1,1),\"\")","v":""},{"$f":"IFERROR(OFFSET(CalculationsAndCharts!$AI$32,'Transaction Summary'!B177,0,1,1),\"\")","v":""},{"$f":"IFERROR(MATCH(TRUE,OFFSET(CalculationsAndCharts!$AH$33,E176,0,'Transaction Summary'!$C$2-E176,1),0)+E176,\"\")","v":""},{"$f":"IFERROR(OFFSET(CalculationsAndCharts!$B$32,'Transaction Summary'!E177,0,1,1),\"\")","v":""},{"$f":"IFERROR(OFFSET(CalculationsAndCharts!$AJ$32,'Transaction Summary'!E177,0,1,1),\"\")","v":""},"","",null,{"$f":"IFERROR(MATCH(TRUE,OFFSET(CalculationsAndCharts!$AN$33,K176,0,'Transaction Summary'!$C$2-K176,1),0)+K176,\"\")","v":""},{"$f":"IFERROR(OFFSET(CalculationsAndCharts!$B$32,'Transaction Summary'!K177,0,1,1),\"\")","v":""},{"$f":"IFERROR(OFFSET(CalculationsAndCharts!$AR$32,'Transaction Summary'!K177,0,1,1),\"\")","v":""},{"$f":"IFERROR(MATCH(TRUE,OFFSET(CalculationsAndCharts!$AQ$33,N176,0,'Transaction Summary'!$C$2-N176,1),0)+N176,\"\")","v":""},{"$f":"IFERROR(OFFSET(CalculationsAndCharts!$B$32,'Transaction Summary'!N177,0,1,1),\"\")","v":""},{"$f":"IFERROR(OFFSET(CalculationsAndCharts!$AS$32,'Transaction Summary'!N177,0,1,1),\"\")","v":""},"",""]
[null,{"$f":"IFERROR(MATCH(TRUE,OFFSET(CalculationsAndCharts!$AE$33,B177,0,'Transaction Summary'!$C$2-B177,1),0)+B177,\"\")","v":""},{"$f":"IFERROR(OFFSET(CalculationsAndCharts!$B$32,'Transaction Summary'!B178,0,1,1),\"\")","v":""},{"$f":"IFERROR(OFFSET(CalculationsAndCharts!$AI$32,'Transaction Summary'!B178,0,1,1),\"\")","v":""},{"$f":"IFERROR(MATCH(TRUE,OFFSET(CalculationsAndCharts!$AH$33,E177,0,'Transaction Summary'!$C$2-E177,1),0)+E177,\"\")","v":""},{"$f":"IFERROR(OFFSET(CalculationsAndCharts!$B$32,'Transaction Summary'!E178,0,1,1),\"\")","v":""},{"$f":"IFERROR(OFFSET(CalculationsAndCharts!$AJ$32,'Transaction Summary'!E178,0,1,1),\"\")","v":""},"","",null,{"$f":"IFERROR(MATCH(TRUE,OFFSET(CalculationsAndCharts!$AN$33,K177,0,'Transaction Summary'!$C$2-K177,1),0)+K177,\"\")","v":""},{"$f":"IFERROR(OFFSET(CalculationsAndCharts!$B$32,'Transaction Summary'!K178,0,1,1),\"\")","v":""},{"$f":"IFERROR(OFFSET(CalculationsAndCharts!$AR$32,'Transaction Summary'!K178,0,1,1),\"\")","v":""},{"$f":"IFERROR(MATCH(TRUE,OFFSET(CalculationsAndCharts!$AQ$33,N177,0,'Transaction Summary'!$C$2-N177,1),0)+N177,\"\")","v":""},{"$f":"IFERROR(OFFSET(CalculationsAndCharts!$B$32,'Transaction Summary'!N178,0,1,1),\"\")","v":""},{"$f":"IFERROR(OFFSET(CalculationsAndCharts!$AS$32,'Transaction Summary'!N178,0,1,1),\"\")","v":""},"",""]
[null,{"$f":"IFERROR(MATCH(TRUE,OFFSET(CalculationsAndCharts!$AE$33,B178,0,'Transaction Summary'!$C$2-B178,1),0)+B178,\"\")","v":""},{"$f":"IFERROR(OFFSET(CalculationsAndCharts!$B$32,'Transaction Summary'!B179,0,1,1),\"\")","v":""},{"$f":"IFERROR(OFFSET(CalculationsAndCharts!$AI$32,'Transaction Summary'!B179,0,1,1),\"\")","v":""},{"$f":"IFERROR(MATCH(TRUE,OFFSET(CalculationsAndCharts!$AH$33,E178,0,'Transaction Summary'!$C$2-E178,1),0)+E178,\"\")","v":""},{"$f":"IFERROR(OFFSET(CalculationsAndCharts!$B$32,'Transaction Summary'!E179,0,1,1),\"\")","v":""},{"$f":"IFERROR(OFFSET(CalculationsAndCharts!$AJ$32,'Transaction Summary'!E179,0,1,1),\"\")","v":""},"","",null,{"$f":"IFERROR(MATCH(TRUE,OFFSET(CalculationsAndCharts!$AN$33,K178,0,'Transaction Summary'!$C$2-K178,1),0)+K178,\"\")","v":""},{"$f":"IFERROR(OFFSET(CalculationsAndCharts!$B$32,'Transaction Summary'!K179,0,1,1),\"\")","v":""},{"$f":"IFERROR(OFFSET(CalculationsAndCharts!$AR$32,'Transaction Summary'!K179,0,1,1),\"\")","v":""},{"$f":"IFERROR(MATCH(TRUE,OFFSET(CalculationsAndCharts!$AQ$33,N178,0,'Transaction Summary'!$C$2-N178,1),0)+N178,\"\")","v":""},{"$f":"IFERROR(OFFSET(CalculationsAndCharts!$B$32,'Transaction Summary'!N179,0,1,1),\"\")","v":""},{"$f":"IFERROR(OFFSET(CalculationsAndCharts!$AS$32,'Transaction Summary'!N179,0,1,1),\"\")","v":""},"",""]
[null,{"$f":"IFERROR(MATCH(TRUE,OFFSET(CalculationsAndCharts!$AE$33,B179,0,'Transaction Summary'!$C$2-B179,1),0)+B179,\"\")","v":""},{"$f":"IFERROR(OFFSET(CalculationsAndCharts!$B$32,'Transaction Summary'!B180,0,1,1),\"\")","v":""},{"$f":"IFERROR(OFFSET(CalculationsAndCharts!$AI$32,'Transaction Summary'!B180,0,1,1),\"\")","v":""},{"$f":"IFERROR(MATCH(TRUE,OFFSET(CalculationsAndCharts!$AH$33,E179,0,'Transaction Summary'!$C$2-E179,1),0)+E179,\"\")","v":""},{"$f":"IFERROR(OFFSET(CalculationsAndCharts!$B$32,'Transaction Summary'!E180,0,1,1),\"\")","v":""},{"$f":"IFERROR(OFFSET(CalculationsAndCharts!$AJ$32,'Transaction Summary'!E180,0,1,1),\"\")","v":""},"","",null,{"$f":"IFERROR(MATCH(TRUE,OFFSET(CalculationsAndCharts!$AN$33,K179,0,'Transaction Summary'!$C$2-K179,1),0)+K179,\"\")","v":""},{"$f":"IFERROR(OFFSET(CalculationsAndCharts!$B$32,'Transaction Summary'!K180,0,1,1),\"\")","v":""},{"$f":"IFERROR(OFFSET(CalculationsAndCharts!$AR$32,'Transaction Summary'!K180,0,1,1),\"\")","v":""},{"$f":"IFERROR(MATCH(TRUE,OFFSET(CalculationsAndCharts!$AQ$33,N179,0,'Transaction Summary'!$C$2-N179,1),0)+N179,\"\")","v":""},{"$f":"IFERROR(OFFSET(CalculationsAndCharts!$B$32,'Transaction Summary'!N180,0,1,1),\"\")","v":""},{"$f":"IFERROR(OFFSET(CalculationsAndCharts!$AS$32,'Transaction Summary'!N180,0,1,1),\"\")","v":""},"",""]
[null,{"$f":"IFERROR(MATCH(TRUE,OFFSET(CalculationsAndCharts!$AE$33,B180,0,'Transaction Summary'!$C$2-B180,1),0)+B180,\"\")","v":""},{"$f":"IFERROR(OFFSET(CalculationsAndCharts!$B$32,'Transaction Summary'!B181,0,1,1),\"\")","v":""},{"$f":"IFERROR(OFFSET(CalculationsAndCharts!$AI$32,'Transaction Summary'!B181,0,1,1),\"\")","v":""},{"$f":"IFERROR(MATCH(TRUE,OFFSET(CalculationsAndCharts!$AH$33,E180,0,'Transaction Summary'!$C$2-E180,1),0)+E180,\"\")","v":""},{"$f":"IFERROR(OFFSET(CalculationsAndCharts!$B$32,'Transaction Summary'!E181,0,1,1),\"\")","v":""},{"$f":"IFERROR(OFFSET(CalculationsAndCharts!$AJ$32,'Transaction Summary'!E181,0,1,1),\"\")","v":""},"","",null,{"$f":"IFERROR(MATCH(TRUE,OFFSET(CalculationsAndCharts!$AN$33,K180,0,'Transaction Summary'!$C$2-K180,1),0)+K180,\"\")","v":""},{"$f":"IFERROR(OFFSET(CalculationsAndCharts!$B$32,'Transaction Summary'!K181,0,1,1),\"\")","v":""},{"$f":"IFERROR(OFFSET(CalculationsAndCharts!$AR$32,'Transaction Summary'!K181,0,1,1),\"\")","v":""},{"$f":"IFERROR(MATCH(TRUE,OFFSET(CalculationsAndCharts!$AQ$33,N180,0,'Transaction Summary'!$C$2-N180,1),0)+N180,\"\")","v":""},{"$f":"IFERROR(OFFSET(CalculationsAndCharts!$B$32,'Transaction Summary'!N181,0,1,1),\"\")","v":""},{"$f":"IFERROR(OFFSET(CalculationsAndCharts!$AS$32,'Transaction Summary'!N181,0,1,1),\"\")","v":""},"",""]
[null,{"$f":"IFERROR(MATCH(TRUE,OFFSET(CalculationsAndCharts!$AE$33,B181,0,'Transaction Summary'!$C$2-B181,1),0)+B181,\"\")","v":""},{"$f":"IFERROR(OFFSET(CalculationsAndCharts!$B$32,'Transaction Summary'!B182,0,1,1),\"\")","v":""},{"$f":"IFERROR(OFFSET(CalculationsAndCharts!$AI$32,'Transaction Summary'!B182,0,1,1),\"\")","v":""},{"$f":"IFERROR(MATCH(TRUE,OFFSET(CalculationsAndCharts!$AH$33,E181,0,'Transaction Summary'!$C$2-E181,1),0)+E181,\"\")","v":""},{"$f":"IFERROR(OFFSET(CalculationsAndCharts!$B$32,'Transaction Summary'!E182,0,1,1),\"\")","v":""},{"$f":"IFERROR(OFFSET(CalculationsAndCharts!$AJ$32,'Transaction Summary'!E182,0,1,1),\"\")","v":""},"","",null,{"$f":"IFERROR(MATCH(TRUE,OFFSET(CalculationsAndCharts!$AN$33,K181,0,'Transaction Summary'!$C$2-K181,1),0)+K181,\"\")","v":""},{"$f":"IFERROR(OFFSET(CalculationsAndCharts!$B$32,'Transaction Summary'!K182,0,1,1),\"\")","v":""},{"$f":"IFERROR(OFFSET(CalculationsAndCharts!$AR$32,'Transaction Summary'!K182,0,1,1),\"\")","v":""},{"$f":"IFERROR(MATCH(TRUE,OFFSET(CalculationsAndCharts!$AQ$33,N181,0,'Transaction Summary'!$C$2-N181,1),0)+N181,\"\")","v":""},{"$f":"IFERROR(OFFSET(CalculationsAndCharts!$B$32,'Transaction Summary'!N182,0,1,1),\"\")","v":""},{"$f":"IFERROR(OFFSET(CalculationsAndCharts!$AS$32,'Transaction Summary'!N182,0,1,1),\"\")","v":""},"",""]
[null,{"$f":"IFERROR(MATCH(TRUE,OFFSET(CalculationsAndCharts!$AE$33,B182,0,'Transaction Summary'!$C$2-B182,1),0)+B182,\"\")","v":""},{"$f":"IFERROR(OFFSET(CalculationsAndCharts!$B$32,'Transaction Summary'!B183,0,1,1),\"\")","v":""},{"$f":"IFERROR(OFFSET(CalculationsAndCharts!$AI$32,'Transaction Summary'!B183,0,1,1),\"\")","v":""},{"$f":"IFERROR(MATCH(TRUE,OFFSET(CalculationsAndCharts!$AH$33,E182,0,'Transaction Summary'!$C$2-E182,1),0)+E182,\"\")","v":""},{"$f":"IFERROR(OFFSET(CalculationsAndCharts!$B$32,'Transaction Summary'!E183,0,1,1),\"\")","v":""},{"$f":"IFERROR(OFFSET(CalculationsAndCharts!$AJ$32,'Transaction Summary'!E183,0,1,1),\"\")","v":""},"","",null,{"$f":"IFERROR(MATCH(TRUE,OFFSET(CalculationsAndCharts!$AN$33,K182,0,'Transaction Summary'!$C$2-K182,1),0)+K182,\"\")","v":""},{"$f":"IFERROR(OFFSET(CalculationsAndCharts!$B$32,'Transaction Summary'!K183,0,1,1),\"\")","v":""},{"$f":"IFERROR(OFFSET(CalculationsAndCharts!$AR$32,'Transaction Summary'!K183,0,1,1),\"\")","v":""},{"$f":"IFERROR(MATCH(TRUE,OFFSET(CalculationsAndCharts!$AQ$33,N182,0,'Transaction Summary'!$C$2-N182,1),0)+N182,\"\")","v":""},{"$f":"IFERROR(OFFSET(CalculationsAndCharts!$B$32,'Transaction Summary'!N183,0,1,1),\"\")","v":""},{"$f":"IFERROR(OFFSET(CalculationsAndCharts!$AS$32,'Transaction Summary'!N183,0,1,1),\"\")","v":""},"",""]
[null,{"$f":"IFERROR(MATCH(TRUE,OFFSET(CalculationsAndCharts!$AE$33,B183,0,'Transaction Summary'!$C$2-B183,1),0)+B183,\"\")","v":""},{"$f":"IFERROR(OFFSET(CalculationsAndCharts!$B$32,'Transaction Summary'!B184,0,1,1),\"\")","v":""},{"$f":"IFERROR(OFFSET(CalculationsAndCharts!$AI$32,'Transaction Summary'!B184,0,1,1),\"\")","v":""},{"$f":"IFERROR(MATCH(TRUE,OFFSET(CalculationsAndCharts!$AH$33,E183,0,'Transaction Summary'!$C$2-E183,1),0)+E183,\"\")","v":""},{"$f":"IFERROR(OFFSET(CalculationsAndCharts!$B$32,'Transaction Summary'!E184,0,1,1),\"\")","v":""},{"$f":"IFERROR(OFFSET(CalculationsAndCharts!$AJ$32,'Transaction Summary'!E184,0,1,1),\"\")","v":""},"","",null,{"$f":"IFERROR(MATCH(TRUE,OFFSET(CalculationsAndCharts!$AN$33,K183,0,'Transaction Summary'!$C$2-K183,1),0)+K183,\"\")","v":""},{"$f":"IFERROR(OFFSET(CalculationsAndCharts!$B$32,'Transaction Summary'!K184,0,1,1),\"\")","v":""},{"$f":"IFERROR(OFFSET(CalculationsAndCharts!$AR$32,'Transaction Summary'!K184,0,1,1),\"\")","v":""},{"$f":"IFERROR(MATCH(TRUE,OFFSET(CalculationsAndCharts!$AQ$33,N183,0,'Transaction Summary'!$C$2-N183,1),0)+N183,\"\")","v":""},{"$f":"IFERROR(OFFSET(CalculationsAndCharts!$B$32,'Transaction Summary'!N184,0,1,1),\"\")","v":""},{"$f":"IFERROR(OFFSET(CalculationsAndCharts!$AS$32,'Transaction Summary'!N184,0,1,1),\"\")","v":""},"",""]
[null,{"$f":"IFERROR(MATCH(TRUE,OFFSET(CalculationsAndCharts!$AE$33,B184,0,'Transaction Summary'!$C$2-B184,1),0)+B184,\"\")","v":""},{"$f":"IFERROR(OFFSET(CalculationsAndCharts!$B$32,'Transaction Summary'!B185,0,1,1),\"\")","v":""},{"$f":"IFERROR(OFFSET(CalculationsAndCharts!$AI$32,'Transaction Summary'!B185,0,1,1),\"\")","v":""},{"$f":"IFERROR(MATCH(TRUE,OFFSET(CalculationsAndCharts!$AH$33,E184,0,'Transaction Summary'!$C$2-E184,1),0)+E184,\"\")","v":""},{"$f":"IFERROR(OFFSET(CalculationsAndCharts!$B$32,'Transaction Summary'!E185,0,1,1),\"\")","v":""},{"$f":"IFERROR(OFFSET(CalculationsAndCharts!$AJ$32,'Transaction Summary'!E185,0,1,1),\"\")","v":""},"","",null,{"$f":"IFERROR(MATCH(TRUE,OFFSET(CalculationsAndCharts!$AN$33,K184,0,'Transaction Summary'!$C$2-K184,1),0)+K184,\"\")","v":""},{"$f":"IFERROR(OFFSET(CalculationsAndCharts!$B$32,'Transaction Summary'!K185,0,1,1),\"\")","v":""},{"$f":"IFERROR(OFFSET(CalculationsAndCharts!$AR$32,'Transaction Summary'!K185,0,1,1),\"\")","v":""},{"$f":"IFERROR(MATCH(TRUE,OFFSET(CalculationsAndCharts!$AQ$33,N184,0,'Transaction Summary'!$C$2-N184,1),0)+N184,\"\")","v":""},{"$f":"IFERROR(OFFSET(CalculationsAndCharts!$B$32,'Transaction Summary'!N185,0,1,1),\"\")","v":""},{"$f":"IFERROR(OFFSET(CalculationsAndCharts!$AS$32,'Transaction Summary'!N185,0,1,1),\"\")","v":""},"",""]
[null,{"$f":"IFERROR(MATCH(TRUE,OFFSET(CalculationsAndCharts!$AE$33,B185,0,'Transaction Summary'!$C$2-B185,1),0)+B185,\"\")","v":""},{"$f":"IFERROR(OFFSET(CalculationsAndCharts!$B$32,'Transaction Summary'!B186,0,1,1),\"\")","v":""},{"$f":"IFERROR(OFFSET(CalculationsAndCharts!$AI$32,'Transaction Summary'!B186,0,1,1),\"\")","v":""},{"$f":"IFERROR(MATCH(TRUE,OFFSET(CalculationsAndCharts!$AH$33,E185,0,'Transaction Summary'!$C$2-E185,1),0)+E185,\"\")","v":""},{"$f":"IFERROR(OFFSET(CalculationsAndCharts!$B$32,'Transaction Summary'!E186,0,1,1),\"\")","v":""},{"$f":"IFERROR(OFFSET(CalculationsAndCharts!$AJ$32,'Transaction Summary'!E186,0,1,1),\"\")","v":""},"","",null,{"$f":"IFERROR(MATCH(TRUE,OFFSET(CalculationsAndCharts!$AN$33,K185,0,'Transaction Summary'!$C$2-K185,1),0)+K185,\"\")","v":""},{"$f":"IFERROR(OFFSET(CalculationsAndCharts!$B$32,'Transaction Summary'!K186,0,1,1),\"\")","v":""},{"$f":"IFERROR(OFFSET(CalculationsAndCharts!$AR$32,'Transaction Summary'!K186,0,1,1),\"\")","v":""},{"$f":"IFERROR(MATCH(TRUE,OFFSET(CalculationsAndCharts!$AQ$33,N185,0,'Transaction Summary'!$C$2-N185,1),0)+N185,\"\")","v":""},{"$f":"IFERROR(OFFSET(CalculationsAndCharts!$B$32,'Transaction Summary'!N186,0,1,1),\"\")","v":""},{"$f":"IFERROR(OFFSET(CalculationsAndCharts!$AS$32,'Transaction Summary'!N186,0,1,1),\"\")","v":""},"",""]
[null,{"$f":"IFERROR(MATCH(TRUE,OFFSET(CalculationsAndCharts!$AE$33,B186,0,'Transaction Summary'!$C$2-B186,1),0)+B186,\"\")","v":""},{"$f":"IFERROR(OFFSET(CalculationsAndCharts!$B$32,'Transaction Summary'!B187,0,1,1),\"\")","v":""},{"$f":"IFERROR(OFFSET(CalculationsAndCharts!$AI$32,'Transaction Summary'!B187,0,1,1),\"\")","v":""},{"$f":"IFERROR(MATCH(TRUE,OFFSET(CalculationsAndCharts!$AH$33,E186,0,'Transaction Summary'!$C$2-E186,1),0)+E186,\"\")","v":""},{"$f":"IFERROR(OFFSET(CalculationsAndCharts!$B$32,'Transaction Summary'!E187,0,1,1),\"\")","v":""},{"$f":"IFERROR(OFFSET(CalculationsAndCharts!$AJ$32,'Transaction Summary'!E187,0,1,1),\"\")","v":""},"","",null,{"$f":"IFERROR(MATCH(TRUE,OFFSET(CalculationsAndCharts!$AN$33,K186,0,'Transaction Summary'!$C$2-K186,1),0)+K186,\"\")","v":""},{"$f":"IFERROR(OFFSET(CalculationsAndCharts!$B$32,'Transaction Summary'!K187,0,1,1),\"\")","v":""},{"$f":"IFERROR(OFFSET(CalculationsAndCharts!$AR$32,'Transaction Summary'!K187,0,1,1),\"\")","v":""},{"$f":"IFERROR(MATCH(TRUE,OFFSET(CalculationsAndCharts!$AQ$33,N186,0,'Transaction Summary'!$C$2-N186,1),0)+N186,\"\")","v":""},{"$f":"IFERROR(OFFSET(CalculationsAndCharts!$B$32,'Transaction Summary'!N187,0,1,1),\"\")","v":""},{"$f":"IFERROR(OFFSET(CalculationsAndCharts!$AS$32,'Transaction Summary'!N187,0,1,1),\"\")","v":""},"",""]
[null,{"$f":"IFERROR(MATCH(TRUE,OFFSET(CalculationsAndCharts!$AE$33,B187,0,'Transaction Summary'!$C$2-B187,1),0)+B187,\"\")","v":""},{"$f":"IFERROR(OFFSET(CalculationsAndCharts!$B$32,'Transaction Summary'!B188,0,1,1),\"\")","v":""},{"$f":"IFERROR(OFFSET(CalculationsAndCharts!$AI$32,'Transaction Summary'!B188,0,1,1),\"\")","v":""},{"$f":"IFERROR(MATCH(TRUE,OFFSET(CalculationsAndCharts!$AH$33,E187,0,'Transaction Summary'!$C$2-E187,1),0)+E187,\"\")","v":""},{"$f":"IFERROR(OFFSET(CalculationsAndCharts!$B$32,'Transaction Summary'!E188,0,1,1),\"\")","v":""},{"$f":"IFERROR(OFFSET(CalculationsAndCharts!$AJ$32,'Transaction Summary'!E188,0,1,1),\"\")","v":""},"","",null,{"$f":"IFERROR(MATCH(TRUE,OFFSET(CalculationsAndCharts!$AN$33,K187,0,'Transaction Summary'!$C$2-K187,1),0)+K187,\"\")","v":""},{"$f":"IFERROR(OFFSET(CalculationsAndCharts!$B$32,'Transaction Summary'!K188,0,1,1),\"\")","v":""},{"$f":"IFERROR(OFFSET(CalculationsAndCharts!$AR$32,'Transaction Summary'!K188,0,1,1),\"\")","v":""},{"$f":"IFERROR(MATCH(TRUE,OFFSET(CalculationsAndCharts!$AQ$33,N187,0,'Transaction Summary'!$C$2-N187,1),0)+N187,\"\")","v":""},{"$f":"IFERROR(OFFSET(CalculationsAndCharts!$B$32,'Transaction Summary'!N188,0,1,1),\"\")","v":""},{"$f":"IFERROR(OFFSET(CalculationsAndCharts!$AS$32,'Transaction Summary'!N188,0,1,1),\"\")","v":""},"",""]
[null,{"$f":"IFERROR(MATCH(TRUE,OFFSET(CalculationsAndCharts!$AE$33,B188,0,'Transaction Summary'!$C$2-B188,1),0)+B188,\"\")","v":""},{"$f":"IFERROR(OFFSET(CalculationsAndCharts!$B$32,'Transaction Summary'!B189,0,1,1),\"\")","v":""},{"$f":"IFERROR(OFFSET(CalculationsAndCharts!$AI$32,'Transaction Summary'!B189,0,1,1),\"\")","v":""},{"$f":"IFERROR(MATCH(TRUE,OFFSET(CalculationsAndCharts!$AH$33,E188,0,'Transaction Summary'!$C$2-E188,1),0)+E188,\"\")","v":""},{"$f":"IFERROR(OFFSET(CalculationsAndCharts!$B$32,'Transaction Summary'!E189,0,1,1),\"\")","v":""},{"$f":"IFERROR(OFFSET(CalculationsAndCharts!$AJ$32,'Transaction Summary'!E189,0,1,1),\"\")","v":""},"","",null,{"$f":"IFERROR(MATCH(TRUE,OFFSET(CalculationsAndCharts!$AN$33,K188,0,'Transaction Summary'!$C$2-K188,1),0)+K188,\"\")","v":""},{"$f":"IFERROR(OFFSET(CalculationsAndCharts!$B$32,'Transaction Summary'!K189,0,1,1),\"\")","v":""},{"$f":"IFERROR(OFFSET(CalculationsAndCharts!$AR$32,'Transaction Summary'!K189,0,1,1),\"\")","v":""},{"$f":"IFERROR(MATCH(TRUE,OFFSET(CalculationsAndCharts!$AQ$33,N188,0,'Transaction Summary'!$C$2-N188,1),0)+N188,\"\")","v":""},{"$f":"IFERROR(OFFSET(CalculationsAndCharts!$B$32,'Transaction Summary'!N189,0,1,1),\"\")","v":""},{"$f":"IFERROR(OFFSET(CalculationsAndCharts!$AS$32,'Transaction Summary'!N189,0,1,1),\"\")","v":""},"",""]
[null,{"$f":"IFERROR(MATCH(TRUE,OFFSET(CalculationsAndCharts!$AE$33,B189,0,'Transaction Summary'!$C$2-B189,1),0)+B189,\"\")","v":""},{"$f":"IFERROR(OFFSET(CalculationsAndCharts!$B$32,'Transaction Summary'!B190,0,1,1),\"\")","v":""},{"$f":"IFERROR(OFFSET(CalculationsAndCharts!$AI$32,'Transaction Summary'!B190,0,1,1),\"\")","v":""},{"$f":"IFERROR(MATCH(TRUE,OFFSET(CalculationsAndCharts!$AH$33,E189,0,'Transaction Summary'!$C$2-E189,1),0)+E189,\"\")","v":""},{"$f":"IFERROR(OFFSET(CalculationsAndCharts!$B$32,'Transaction Summary'!E190,0,1,1),\"\")","v":""},{"$f":"IFERROR(OFFSET(CalculationsAndCharts!$AJ$32,'Transaction Summary'!E190,0,1,1),\"\")","v":""},"","",null,{"$f":"IFERROR(MATCH(TRUE,OFFSET(CalculationsAndCharts!$AN$33,K189,0,'Transaction Summary'!$C$2-K189,1),0)+K189,\"\")","v":""},{"$f":"IFERROR(OFFSET(CalculationsAndCharts!$B$32,'Transaction Summary'!K190,0,1,1),\"\")","v":""},{"$f":"IFERROR(OFFSET(CalculationsAndCharts!$AR$32,'Transaction Summary'!K190,0,1,1),\"\")","v":""},{"$f":"IFERROR(MATCH(TRUE,OFFSET(CalculationsAndCharts!$AQ$33,N189,0,'Transaction Summary'!$C$2-N189,1),0)+N189,\"\")","v":""},{"$f":"IFERROR(OFFSET(CalculationsAndCharts!$B$32,'Transaction Summary'!N190,0,1,1),\"\")","v":""},{"$f":"IFERROR(OFFSET(CalculationsAndCharts!$AS$32,'Transaction Summary'!N190,0,1,1),\"\")","v":""},"",""]
[null,{"$f":"IFERROR(MATCH(TRUE,OFFSET(CalculationsAndCharts!$AE$33,B190,0,'Transaction Summary'!$C$2-B190,1),0)+B190,\"\")","v":""},{"$f":"IFERROR(OFFSET(CalculationsAndCharts!$B$32,'Transaction Summary'!B191,0,1,1),\"\")","v":""},{"$f":"IFERROR(OFFSET(CalculationsAndCharts!$AI$32,'Transaction Summary'!B191,0,1,1),\"\")","v":""},{"$f":"IFERROR(MATCH(TRUE,OFFSET(CalculationsAndCharts!$AH$33,E190,0,'Transaction Summary'!$C$2-E190,1),0)+E190,\"\")","v":""},{"$f":"IFERROR(OFFSET(CalculationsAndCharts!$B$32,'Transaction Summary'!E191,0,1,1),\"\")","v":""},{"$f":"IFERROR(OFFSET(CalculationsAndCharts!$AJ$32,'Transaction Summary'!E191,0,1,1),\"\")","v":""},"","",null,{"$f":"IFERROR(MATCH(TRUE,OFFSET(CalculationsAndCharts!$AN$33,K190,0,'Transaction Summary'!$C$2-K190,1),0)+K190,\"\")","v":""},{"$f":"IFERROR(OFFSET(CalculationsAndCharts!$B$32,'Transaction Summary'!K191,0,1,1),\"\")","v":""},{"$f":"IFERROR(OFFSET(CalculationsAndCharts!$AR$32,'Transaction Summary'!K191,0,1,1),\"\")","v":""},{"$f":"IFERROR(MATCH(TRUE,OFFSET(CalculationsAndCharts!$AQ$33,N190,0,'Transaction Summary'!$C$2-N190,1),0)+N190,\"\")","v":""},{"$f":"IFERROR(OFFSET(CalculationsAndCharts!$B$32,'Transaction Summary'!N191,0,1,1),\"\")","v":""},{"$f":"IFERROR(OFFSET(CalculationsAndCharts!$AS$32,'Transaction Summary'!N191,0,1,1),\"\")","v":""},"",""]
[null,{"$f":"IFERROR(MATCH(TRUE,OFFSET(CalculationsAndCharts!$AE$33,B191,0,'Transaction Summary'!$C$2-B191,1),0)+B191,\"\")","v":""},{"$f":"IFERROR(OFFSET(CalculationsAndCharts!$B$32,'Transaction Summary'!B192,0,1,1),\"\")","v":""},{"$f":"IFERROR(OFFSET(CalculationsAndCharts!$AI$32,'Transaction Summary'!B192,0,1,1),\"\")","v":""},{"$f":"IFERROR(MATCH(TRUE,OFFSET(CalculationsAndCharts!$AH$33,E191,0,'Transaction Summary'!$C$2-E191,1),0)+E191,\"\")","v":""},{"$f":"IFERROR(OFFSET(CalculationsAndCharts!$B$32,'Transaction Summary'!E192,0,1,1),\"\")","v":""},{"$f":"IFERROR(OFFSET(CalculationsAndCharts!$AJ$32,'Transaction Summary'!E192,0,1,1),\"\")","v":""},"","",null,{"$f":"IFERROR(MATCH(TRUE,OFFSET(CalculationsAndCharts!$AN$33,K191,0,'Transaction Summary'!$C$2-K191,1),0)+K191,\"\")","v":""},{"$f":"IFERROR(OFFSET(CalculationsAndCharts!$B$32,'Transaction Summary'!K192,0,1,1),\"\")","v":""},{"$f":"IFERROR(OFFSET(CalculationsAndCharts!$AR$32,'Transaction Summary'!K192,0,1,1),\"\")","v":""},{"$f":"IFERROR(MATCH(TRUE,OFFSET(CalculationsAndCharts!$AQ$33,N191,0,'Transaction Summary'!$C$2-N191,1),0)+N191,\"\")","v":""},{"$f":"IFERROR(OFFSET(CalculationsAndCharts!$B$32,'Transaction Summary'!N192,0,1,1),\"\")","v":""},{"$f":"IFERROR(OFFSET(CalculationsAndCharts!$AS$32,'Transaction Summary'!N192,0,1,1),\"\")","v":""},"",""]
[null,{"$f":"IFERROR(MATCH(TRUE,OFFSET(CalculationsAndCharts!$AE$33,B192,0,'Transaction Summary'!$C$2-B192,1),0)+B192,\"\")","v":""},{"$f":"IFERROR(OFFSET(CalculationsAndCharts!$B$32,'Transaction Summary'!B193,0,1,1),\"\")","v":""},{"$f":"IFERROR(OFFSET(CalculationsAndCharts!$AI$32,'Transaction Summary'!B193,0,1,1),\"\")","v":""},{"$f":"IFERROR(MATCH(TRUE,OFFSET(CalculationsAndCharts!$AH$33,E192,0,'Transaction Summary'!$C$2-E192,1),0)+E192,\"\")","v":""},{"$f":"IFERROR(OFFSET(CalculationsAndCharts!$B$32,'Transaction Summary'!E193,0,1,1),\"\")","v":""},{"$f":"IFERROR(OFFSET(CalculationsAndCharts!$AJ$32,'Transaction Summary'!E193,0,1,1),\"\")","v":""},"","",null,{"$f":"IFERROR(MATCH(TRUE,OFFSET(CalculationsAndCharts!$AN$33,K192,0,'Transaction Summary'!$C$2-K192,1),0)+K192,\"\")","v":""},{"$f":"IFERROR(OFFSET(CalculationsAndCharts!$B$32,'Transaction Summary'!K193,0,1,1),\"\")","v":""},{"$f":"IFERROR(OFFSET(CalculationsAndCharts!$AR$32,'Transaction Summary'!K193,0,1,1),\"\")","v":""},{"$f":"IFERROR(MATCH(TRUE,OFFSET(CalculationsAndCharts!$AQ$33,N192,0,'Transaction Summary'!$C$2-N192,1),0)+N192,\"\")","v":""},{"$f":"IFERROR(OFFSET(CalculationsAndCharts!$B$32,'Transaction Summary'!N193,0,1,1),\"\")","v":""},{"$f":"IFERROR(OFFSET(CalculationsAndCharts!$AS$32,'Transaction Summary'!N193,0,1,1),\"\")","v":""},"",""]
[null,{"$f":"IFERROR(MATCH(TRUE,OFFSET(CalculationsAndCharts!$AE$33,B193,0,'Transaction Summary'!$C$2-B193,1),0)+B193,\"\")","v":""},{"$f":"IFERROR(OFFSET(CalculationsAndCharts!$B$32,'Transaction Summary'!B194,0,1,1),\"\")","v":""},{"$f":"IFERROR(OFFSET(CalculationsAndCharts!$AI$32,'Transaction Summary'!B194,0,1,1),\"\")","v":""},{"$f":"IFERROR(MATCH(TRUE,OFFSET(CalculationsAndCharts!$AH$33,E193,0,'Transaction Summary'!$C$2-E193,1),0)+E193,\"\")","v":""},{"$f":"IFERROR(OFFSET(CalculationsAndCharts!$B$32,'Transaction Summary'!E194,0,1,1),\"\")","v":""},{"$f":"IFERROR(OFFSET(CalculationsAndCharts!$AJ$32,'Transaction Summary'!E194,0,1,1),\"\")","v":""},"","",null,{"$f":"IFERROR(MATCH(TRUE,OFFSET(CalculationsAndCharts!$AN$33,K193,0,'Transaction Summary'!$C$2-K193,1),0)+K193,\"\")","v":""},{"$f":"IFERROR(OFFSET(CalculationsAndCharts!$B$32,'Transaction Summary'!K194,0,1,1),\"\")","v":""},{"$f":"IFERROR(OFFSET(CalculationsAndCharts!$AR$32,'Transaction Summary'!K194,0,1,1),\"\")","v":""},{"$f":"IFERROR(MATCH(TRUE,OFFSET(CalculationsAndCharts!$AQ$33,N193,0,'Transaction Summary'!$C$2-N193,1),0)+N193,\"\")","v":""},{"$f":"IFERROR(OFFSET(CalculationsAndCharts!$B$32,'Transaction Summary'!N194,0,1,1),\"\")","v":""},{"$f":"IFERROR(OFFSET(CalculationsAndCharts!$AS$32,'Transaction Summary'!N194,0,1,1),\"\")","v":""},"",""]
[null,{"$f":"IFERROR(MATCH(TRUE,OFFSET(CalculationsAndCharts!$AE$33,B194,0,'Transaction Summary'!$C$2-B194,1),0)+B194,\"\")","v":""},{"$f":"IFERROR(OFFSET(CalculationsAndCharts!$B$32,'Transaction Summary'!B195,0,1,1),\"\")","v":""},{"$f":"IFERROR(OFFSET(CalculationsAndCharts!$AI$32,'Transaction Summary'!B195,0,1,1),\"\")","v":""},{"$f":"IFERROR(MATCH(TRUE,OFFSET(CalculationsAndCharts!$AH$33,E194,0,'Transaction Summary'!$C$2-E194,1),0)+E194,\"\")","v":""},{"$f":"IFERROR(OFFSET(CalculationsAndCharts!$B$32,'Transaction Summary'!E195,0,1,1),\"\")","v":""},{"$f":"IFERROR(OFFSET(CalculationsAndCharts!$AJ$32,'Transaction Summary'!E195,0,1,1),\"\")","v":""},"","",null,{"$f":"IFERROR(MATCH(TRUE,OFFSET(CalculationsAndCharts!$AN$33,K194,0,'Transaction Summary'!$C$2-K194,1),0)+K194,\"\")","v":""},{"$f":"IFERROR(OFFSET(CalculationsAndCharts!$B$32,'Transaction Summary'!K195,0,1,1),\"\")","v":""},{"$f":"IFERROR(OFFSET(CalculationsAndCharts!$AR$32,'Transaction Summary'!K195,0,1,1),\"\")","v":""},{"$f":"IFERROR(MATCH(TRUE,OFFSET(CalculationsAndCharts!$AQ$33,N194,0,'Transaction Summary'!$C$2-N194,1),0)+N194,\"\")","v":""},{"$f":"IFERROR(OFFSET(CalculationsAndCharts!$B$32,'Transaction Summary'!N195,0,1,1),\"\")","v":""},{"$f":"IFERROR(OFFSET(CalculationsAndCharts!$AS$32,'Transaction Summary'!N195,0,1,1),\"\")","v":""},"",""]
[null,{"$f":"IFERROR(MATCH(TRUE,OFFSET(CalculationsAndCharts!$AE$33,B195,0,'Transaction Summary'!$C$2-B195,1),0)+B195,\"\")","v":""},{"$f":"IFERROR(OFFSET(CalculationsAndCharts!$B$32,'Transaction Summary'!B196,0,1,1),\"\")","v":""},{"$f":"IFERROR(OFFSET(CalculationsAndCharts!$AI$32,'Transaction Summary'!B196,0,1,1),\"\")","v":""},{"$f":"IFERROR(MATCH(TRUE,OFFSET(CalculationsAndCharts!$AH$33,E195,0,'Transaction Summary'!$C$2-E195,1),0)+E195,\"\")","v":""},{"$f":"IFERROR(OFFSET(CalculationsAndCharts!$B$32,'Transaction Summary'!E196,0,1,1),\"\")","v":""},{"$f":"IFERROR(OFFSET(CalculationsAndCharts!$AJ$32,'Transaction Summary'!E196,0,1,1),\"\")","v":""},"","",null,{"$f":"IFERROR(MATCH(TRUE,OFFSET(CalculationsAndCharts!$AN$33,K195,0,'Transaction Summary'!$C$2-K195,1),0)+K195,\"\")","v":""},{"$f":"IFERROR(OFFSET(CalculationsAndCharts!$B$32,'Transaction Summary'!K196,0,1,1),\"\")","v":""},{"$f":"IFERROR(OFFSET(CalculationsAndCharts!$AR$32,'Transaction Summary'!K196,0,1,1),\"\")","v":""},{"$f":"IFERROR(MATCH(TRUE,OFFSET(CalculationsAndCharts!$AQ$33,N195,0,'Transaction Summary'!$C$2-N195,1),0)+N195,\"\")","v":""},{"$f":"IFERROR(OFFSET(CalculationsAndCharts!$B$32,'Transaction Summary'!N196,0,1,1),\"\")","v":""},{"$f":"IFERROR(OFFSET(CalculationsAndCharts!$AS$32,'Transaction Summary'!N196,0,1,1),\"\")","v":""},"",""]
[null,{"$f":"IFERROR(MATCH(TRUE,OFFSET(CalculationsAndCharts!$AE$33,B196,0,'Transaction Summary'!$C$2-B196,1),0)+B196,\"\")","v":""},{"$f":"IFERROR(OFFSET(CalculationsAndCharts!$B$32,'Transaction Summary'!B197,0,1,1),\"\")","v":""},{"$f":"IFERROR(OFFSET(CalculationsAndCharts!$AI$32,'Transaction Summary'!B197,0,1,1),\"\")","v":""},{"$f":"IFERROR(MATCH(TRUE,OFFSET(CalculationsAndCharts!$AH$33,E196,0,'Transaction Summary'!$C$2-E196,1),0)+E196,\"\")","v":""},{"$f":"IFERROR(OFFSET(CalculationsAndCharts!$B$32,'Transaction Summary'!E197,0,1,1),\"\")","v":""},{"$f":"IFERROR(OFFSET(CalculationsAndCharts!$AJ$32,'Transaction Summary'!E197,0,1,1),\"\")","v":""},"","",null,{"$f":"IFERROR(MATCH(TRUE,OFFSET(CalculationsAndCharts!$AN$33,K196,0,'Transaction Summary'!$C$2-K196,1),0)+K196,\"\")","v":""},{"$f":"IFERROR(OFFSET(CalculationsAndCharts!$B$32,'Transaction Summary'!K197,0,1,1),\"\")","v":""},{"$f":"IFERROR(OFFSET(CalculationsAndCharts!$AR$32,'Transaction Summary'!K197,0,1,1),\"\")","v":""},{"$f":"IFERROR(MATCH(TRUE,OFFSET(CalculationsAndCharts!$AQ$33,N196,0,'Transaction Summary'!$C$2-N196,1),0)+N196,\"\")","v":""},{"$f":"IFERROR(OFFSET(CalculationsAndCharts!$B$32,'Transaction Summary'!N197,0,1,1),\"\")","v":""},{"$f":"IFERROR(OFFSET(CalculationsAndCharts!$AS$32,'Transaction Summary'!N197,0,1,1),\"\")","v":""},"",""]
[null,{"$f":"IFERROR(MATCH(TRUE,OFFSET(CalculationsAndCharts!$AE$33,B197,0,'Transaction Summary'!$C$2-B197,1),0)+B197,\"\")","v":""},{"$f":"IFERROR(OFFSET(CalculationsAndCharts!$B$32,'Transaction Summary'!B198,0,1,1),\"\")","v":""},{"$f":"IFERROR(OFFSET(CalculationsAndCharts!$AI$32,'Transaction Summary'!B198,0,1,1),\"\")","v":""},{"$f":"IFERROR(MATCH(TRUE,OFFSET(CalculationsAndCharts!$AH$33,E197,0,'Transaction Summary'!$C$2-E197,1),0)+E197,\"\")","v":""},{"$f":"IFERROR(OFFSET(CalculationsAndCharts!$B$32,'Transaction Summary'!E198,0,1,1),\"\")","v":""},{"$f":"IFERROR(OFFSET(CalculationsAndCharts!$AJ$32,'Transaction Summary'!E198,0,1,1),\"\")","v":""},"","",null,{"$f":"IFERROR(MATCH(TRUE,OFFSET(CalculationsAndCharts!$AN$33,K197,0,'Transaction Summary'!$C$2-K197,1),0)+K197,\"\")","v":""},{"$f":"IFERROR(OFFSET(CalculationsAndCharts!$B$32,'Transaction Summary'!K198,0,1,1),\"\")","v":""},{"$f":"IFERROR(OFFSET(CalculationsAndCharts!$AR$32,'Transaction Summary'!K198,0,1,1),\"\")","v":""},{"$f":"IFERROR(MATCH(TRUE,OFFSET(CalculationsAndCharts!$AQ$33,N197,0,'Transaction Summary'!$C$2-N197,1),0)+N197,\"\")","v":""},{"$f":"IFERROR(OFFSET(CalculationsAndCharts!$B$32,'Transaction Summary'!N198,0,1,1),\"\")","v":""},{"$f":"IFERROR(OFFSET(CalculationsAndCharts!$AS$32,'Transaction Summary'!N198,0,1,1),\"\")","v":""},"",""]
[null,{"$f":"IFERROR(MATCH(TRUE,OFFSET(CalculationsAndCharts!$AE$33,B198,0,'Transaction Summary'!$C$2-B198,1),0)+B198,\"\")","v":""},{"$f":"IFERROR(OFFSET(CalculationsAndCharts!$B$32,'Transaction Summary'!B199,0,1,1),\"\")","v":""},{"$f":"IFERROR(OFFSET(CalculationsAndCharts!$AI$32,'Transaction Summary'!B199,0,1,1),\"\")","v":""},{"$f":"IFERROR(MATCH(TRUE,OFFSET(CalculationsAndCharts!$AH$33,E198,0,'Transaction Summary'!$C$2-E198,1),0)+E198,\"\")","v":""},{"$f":"IFERROR(OFFSET(CalculationsAndCharts!$B$32,'Transaction Summary'!E199,0,1,1),\"\")","v":""},{"$f":"IFERROR(OFFSET(CalculationsAndCharts!$AJ$32,'Transaction Summary'!E199,0,1,1),\"\")","v":""},"","",null,{"$f":"IFERROR(MATCH(TRUE,OFFSET(CalculationsAndCharts!$AN$33,K198,0,'Transaction Summary'!$C$2-K198,1),0)+K198,\"\")","v":""},{"$f":"IFERROR(OFFSET(CalculationsAndCharts!$B$32,'Transaction Summary'!K199,0,1,1),\"\")","v":""},{"$f":"IFERROR(OFFSET(CalculationsAndCharts!$AR$32,'Transaction Summary'!K199,0,1,1),\"\")","v":""},{"$f":"IFERROR(MATCH(TRUE,OFFSET(CalculationsAndCharts!$AQ$33,N198,0,'Transaction Summary'!$C$2-N198,1),0)+N198,\"\")","v":""},{"$f":"IFERROR(OFFSET(CalculationsAndCharts!$B$32,'Transaction Summary'!N199,0,1,1),\"\")","v":""},{"$f":"IFERROR(OFFSET(CalculationsAndCharts!$AS$32,'Transaction Summary'!N199,0,1,1),\"\")","v":""},"",""]
[null,{"$f":"IFERROR(MATCH(TRUE,OFFSET(CalculationsAndCharts!$AE$33,B199,0,'Transaction Summary'!$C$2-B199,1),0)+B199,\"\")","v":""},{"$f":"IFERROR(OFFSET(CalculationsAndCharts!$B$32,'Transaction Summary'!B200,0,1,1),\"\")","v":""},{"$f":"IFERROR(OFFSET(CalculationsAndCharts!$AI$32,'Transaction Summary'!B200,0,1,1),\"\")","v":""},{"$f":"IFERROR(MATCH(TRUE,OFFSET(CalculationsAndCharts!$AH$33,E199,0,'Transaction Summary'!$C$2-E199,1),0)+E199,\"\")","v":""},{"$f":"IFERROR(OFFSET(CalculationsAndCharts!$B$32,'Transaction Summary'!E200,0,1,1),\"\")","v":""},{"$f":"IFERROR(OFFSET(CalculationsAndCharts!$AJ$32,'Transaction Summary'!E200,0,1,1),\"\")","v":""},"","",null,{"$f":"IFERROR(MATCH(TRUE,OFFSET(CalculationsAndCharts!$AN$33,K199,0,'Transaction Summary'!$C$2-K199,1),0)+K199,\"\")","v":""},{"$f":"IFERROR(OFFSET(CalculationsAndCharts!$B$32,'Transaction Summary'!K200,0,1,1),\"\")","v":""},{"$f":"IFERROR(OFFSET(CalculationsAndCharts!$AR$32,'Transaction Summary'!K200,0,1,1),\"\")","v":""},{"$f":"IFERROR(MATCH(TRUE,OFFSET(CalculationsAndCharts!$AQ$33,N199,0,'Transaction Summary'!$C$2-N199,1),0)+N199,\"\")","v":""},{"$f":"IFERROR(OFFSET(CalculationsAndCharts!$B$32,'Transaction Summary'!N200,0,1,1),\"\")","v":""},{"$f":"IFERROR(OFFSET(CalculationsAndCharts!$AS$32,'Transaction Summary'!N200,0,1,1),\"\")","v":""},"",""]
[null,{"$f":"IFERROR(MATCH(TRUE,OFFSET(CalculationsAndCharts!$AE$33,B200,0,'Transaction Summary'!$C$2-B200,1),0)+B200,\"\")","v":""},{"$f":"IFERROR(OFFSET(CalculationsAndCharts!$B$32,'Transaction Summary'!B201,0,1,1),\"\")","v":""},{"$f":"IFERROR(OFFSET(CalculationsAndCharts!$AI$32,'Transaction Summary'!B201,0,1,1),\"\")","v":""},{"$f":"IFERROR(MATCH(TRUE,OFFSET(CalculationsAndCharts!$AH$33,E200,0,'Transaction Summary'!$C$2-E200,1),0)+E200,\"\")","v":""},{"$f":"IFERROR(OFFSET(CalculationsAndCharts!$B$32,'Transaction Summary'!E201,0,1,1),\"\")","v":""},{"$f":"IFERROR(OFFSET(CalculationsAndCharts!$AJ$32,'Transaction Summary'!E201,0,1,1),\"\")","v":""},"","",null,{"$f":"IFERROR(MATCH(TRUE,OFFSET(CalculationsAndCharts!$AN$33,K200,0,'Transaction Summary'!$C$2-K200,1),0)+K200,\"\")","v":""},{"$f":"IFERROR(OFFSET(CalculationsAndCharts!$B$32,'Transaction Summary'!K201,0,1,1),\"\")","v":""},{"$f":"IFERROR(OFFSET(CalculationsAndCharts!$AR$32,'Transaction Summary'!K201,0,1,1),\"\")","v":""},{"$f":"IFERROR(MATCH(TRUE,OFFSET(CalculationsAndCharts!$AQ$33,N200,0,'Transaction Summary'!$C$2-N200,1),0)+N200,\"\")","v":""},{"$f":"IFERROR(OFFSET(CalculationsAndCharts!$B$32,'Transaction Summary'!N201,0,1,1),\"\")","v":""},{"$f":"IFERROR(OFFSET(CalculationsAndCharts!$AS$32,'Transaction Summary'!N201,0,1,1),\"\")","v":""},"",""]
[null,{"$f":"IFERROR(MATCH(TRUE,OFFSET(CalculationsAndCharts!$AE$33,B201,0,'Transaction Summary'!$C$2-B201,1),0)+B201,\"\")","v":""},{"$f":"IFERROR(OFFSET(CalculationsAndCharts!$B$32,'Transaction Summary'!B202,0,1,1),\"\")","v":""},{"$f":"IFERROR(OFFSET(CalculationsAndCharts!$AI$32,'Transaction Summary'!B202,0,1,1),\"\")","v":""},{"$f":"IFERROR(MATCH(TRUE,OFFSET(CalculationsAndCharts!$AH$33,E201,0,'Transaction Summary'!$C$2-E201,1),0)+E201,\"\")","v":""},{"$f":"IFERROR(OFFSET(CalculationsAndCharts!$B$32,'Transaction Summary'!E202,0,1,1),\"\")","v":""},{"$f":"IFERROR(OFFSET(CalculationsAndCharts!$AJ$32,'Transaction Summary'!E202,0,1,1),\"\")","v":""},"","",null,{"$f":"IFERROR(MATCH(TRUE,OFFSET(CalculationsAndCharts!$AN$33,K201,0,'Transaction Summary'!$C$2-K201,1),0)+K201,\"\")","v":""},{"$f":"IFERROR(OFFSET(CalculationsAndCharts!$B$32,'Transaction Summary'!K202,0,1,1),\"\")","v":""},{"$f":"IFERROR(OFFSET(CalculationsAndCharts!$AR$32,'Transaction Summary'!K202,0,1,1),\"\")","v":""},{"$f":"IFERROR(MATCH(TRUE,OFFSET(CalculationsAndCharts!$AQ$33,N201,0,'Transaction Summary'!$C$2-N201,1),0)+N201,\"\")","v":""},{"$f":"IFERROR(OFFSET(CalculationsAndCharts!$B$32,'Transaction Summary'!N202,0,1,1),\"\")","v":""},{"$f":"IFERROR(OFFSET(CalculationsAndCharts!$AS$32,'Transaction Summary'!N202,0,1,1),\"\")","v":""},"",""]
[null,{"$f":"IFERROR(MATCH(TRUE,OFFSET(CalculationsAndCharts!$AE$33,B202,0,'Transaction Summary'!$C$2-B202,1),0)+B202,\"\")","v":""},{"$f":"IFERROR(OFFSET(CalculationsAndCharts!$B$32,'Transaction Summary'!B203,0,1,1),\"\")","v":""},{"$f":"IFERROR(OFFSET(CalculationsAndCharts!$AI$32,'Transaction Summary'!B203,0,1,1),\"\")","v":""},{"$f":"IFERROR(MATCH(TRUE,OFFSET(CalculationsAndCharts!$AH$33,E202,0,'Transaction Summary'!$C$2-E202,1),0)+E202,\"\")","v":""},{"$f":"IFERROR(OFFSET(CalculationsAndCharts!$B$32,'Transaction Summary'!E203,0,1,1),\"\")","v":""},{"$f":"IFERROR(OFFSET(CalculationsAndCharts!$AJ$32,'Transaction Summary'!E203,0,1,1),\"\")","v":""},"","",null,{"$f":"IFERROR(MATCH(TRUE,OFFSET(CalculationsAndCharts!$AN$33,K202,0,'Transaction Summary'!$C$2-K202,1),0)+K202,\"\")","v":""},{"$f":"IFERROR(OFFSET(CalculationsAndCharts!$B$32,'Transaction Summary'!K203,0,1,1),\"\")","v":""},{"$f":"IFERROR(OFFSET(CalculationsAndCharts!$AR$32,'Transaction Summary'!K203,0,1,1),\"\")","v":""},{"$f":"IFERROR(MATCH(TRUE,OFFSET(CalculationsAndCharts!$AQ$33,N202,0,'Transaction Summary'!$C$2-N202,1),0)+N202,\"\")","v":""},{"$f":"IFERROR(OFFSET(CalculationsAndCharts!$B$32,'Transaction Summary'!N203,0,1,1),\"\")","v":""},{"$f":"IFERROR(OFFSET(CalculationsAndCharts!$AS$32,'Transaction Summary'!N203,0,1,1),\"\")","v":""},"",""]
[null,{"$f":"IFERROR(MATCH(TRUE,OFFSET(CalculationsAndCharts!$AE$33,B203,0,'Transaction Summary'!$C$2-B203,1),0)+B203,\"\")","v":""},{"$f":"IFERROR(OFFSET(CalculationsAndCharts!$B$32,'Transaction Summary'!B204,0,1,1),\"\")","v":""},{"$f":"IFERROR(OFFSET(CalculationsAndCharts!$AI$32,'Transaction Summary'!B204,0,1,1),\"\")","v":""},{"$f":"IFERROR(MATCH(TRUE,OFFSET(CalculationsAndCharts!$AH$33,E203,0,'Transaction Summary'!$C$2-E203,1),0)+E203,\"\")","v":""},{"$f":"IFERROR(OFFSET(CalculationsAndCharts!$B$32,'Transaction Summary'!E204,0,1,1),\"\")","v":""},{"$f":"IFERROR(OFFSET(CalculationsAndCharts!$AJ$32,'Transaction Summary'!E204,0,1,1),\"\")","v":""},"","",null,{"$f":"IFERROR(MATCH(TRUE,OFFSET(CalculationsAndCharts!$AN$33,K203,0,'Transaction Summary'!$C$2-K203,1),0)+K203,\"\")","v":""},{"$f":"IFERROR(OFFSET(CalculationsAndCharts!$B$32,'Transaction Summary'!K204,0,1,1),\"\")","v":""},{"$f":"IFERROR(OFFSET(CalculationsAndCharts!$AR$32,'Transaction Summary'!K204,0,1,1),\"\")","v":""},{"$f":"IFERROR(MATCH(TRUE,OFFSET(CalculationsAndCharts!$AQ$33,N203,0,'Transaction Summary'!$C$2-N203,1),0)+N203,\"\")","v":""},{"$f":"IFERROR(OFFSET(CalculationsAndCharts!$B$32,'Transaction Summary'!N204,0,1,1),\"\")","v":""},{"$f":"IFERROR(OFFSET(CalculationsAndCharts!$AS$32,'Transaction Summary'!N204,0,1,1),\"\")","v":""},"",""]
[null,{"$f":"IFERROR(MATCH(TRUE,OFFSET(CalculationsAndCharts!$AE$33,B204,0,'Transaction Summary'!$C$2-B204,1),0)+B204,\"\")","v":""},{"$f":"IFERROR(OFFSET(CalculationsAndCharts!$B$32,'Transaction Summary'!B205,0,1,1),\"\")","v":""},{"$f":"IFERROR(OFFSET(CalculationsAndCharts!$AI$32,'Transaction Summary'!B205,0,1,1),\"\")","v":""},{"$f":"IFERROR(MATCH(TRUE,OFFSET(CalculationsAndCharts!$AH$33,E204,0,'Transaction Summary'!$C$2-E204,1),0)+E204,\"\")","v":""},{"$f":"IFERROR(OFFSET(CalculationsAndCharts!$B$32,'Transaction Summary'!E205,0,1,1),\"\")","v":""},{"$f":"IFERROR(OFFSET(CalculationsAndCharts!$AJ$32,'Transaction Summary'!E205,0,1,1),\"\")","v":""},"","",null,{"$f":"IFERROR(MATCH(TRUE,OFFSET(CalculationsAndCharts!$AN$33,K204,0,'Transaction Summary'!$C$2-K204,1),0)+K204,\"\")","v":""},{"$f":"IFERROR(OFFSET(CalculationsAndCharts!$B$32,'Transaction Summary'!K205,0,1,1),\"\")","v":""},{"$f":"IFERROR(OFFSET(CalculationsAndCharts!$AR$32,'Transaction Summary'!K205,0,1,1),\"\")","v":""},{"$f":"IFERROR(MATCH(TRUE,OFFSET(CalculationsAndCharts!$AQ$33,N204,0,'Transaction Summary'!$C$2-N204,1),0)+N204,\"\")","v":""},{"$f":"IFERROR(OFFSET(CalculationsAndCharts!$B$32,'Transaction Summary'!N205,0,1,1),\"\")","v":""},{"$f":"IFERROR(OFFSET(CalculationsAndCharts!$AS$32,'Transaction Summary'!N205,0,1,1),\"\")","v":""},"",""]
[null,{"$f":"IFERROR(MATCH(TRUE,OFFSET(CalculationsAndCharts!$AE$33,B205,0,'Transaction Summary'!$C$2-B205,1),0)+B205,\"\")","v":""},{"$f":"IFERROR(OFFSET(CalculationsAndCharts!$B$32,'Transaction Summary'!B206,0,1,1),\"\")","v":""},{"$f":"IFERROR(OFFSET(CalculationsAndCharts!$AI$32,'Transaction Summary'!B206,0,1,1),\"\")","v":""},{"$f":"IFERROR(MATCH(TRUE,OFFSET(CalculationsAndCharts!$AH$33,E205,0,'Transaction Summary'!$C$2-E205,1),0)+E205,\"\")","v":""},{"$f":"IFERROR(OFFSET(CalculationsAndCharts!$B$32,'Transaction Summary'!E206,0,1,1),\"\")","v":""},{"$f":"IFERROR(OFFSET(CalculationsAndCharts!$AJ$32,'Transaction Summary'!E206,0,1,1),\"\")","v":""},"","",null,{"$f":"IFERROR(MATCH(TRUE,OFFSET(CalculationsAndCharts!$AN$33,K205,0,'Transaction Summary'!$C$2-K205,1),0)+K205,\"\")","v":""},{"$f":"IFERROR(OFFSET(CalculationsAndCharts!$B$32,'Transaction Summary'!K206,0,1,1),\"\")","v":""},{"$f":"IFERROR(OFFSET(CalculationsAndCharts!$AR$32,'Transaction Summary'!K206,0,1,1),\"\")","v":""},{"$f":"IFERROR(MATCH(TRUE,OFFSET(CalculationsAndCharts!$AQ$33,N205,0,'Transaction Summary'!$C$2-N205,1),0)+N205,\"\")","v":""},{"$f":"IFERROR(OFFSET(CalculationsAndCharts!$B$32,'Transaction Summary'!N206,0,1,1),\"\")","v":""},{"$f":"IFERROR(OFFSET(CalculationsAndCharts!$AS$32,'Transaction Summary'!N206,0,1,1),\"\")","v":""},"",""]
[null,{"$f":"IFERROR(MATCH(TRUE,OFFSET(CalculationsAndCharts!$AE$33,B206,0,'Transaction Summary'!$C$2-B206,1),0)+B206,\"\")","v":""},{"$f":"IFERROR(OFFSET(CalculationsAndCharts!$B$32,'Transaction Summary'!B207,0,1,1),\"\")","v":""},{"$f":"IFERROR(OFFSET(CalculationsAndCharts!$AI$32,'Transaction Summary'!B207,0,1,1),\"\")","v":""},{"$f":"IFERROR(MATCH(TRUE,OFFSET(CalculationsAndCharts!$AH$33,E206,0,'Transaction Summary'!$C$2-E206,1),0)+E206,\"\")","v":""},{"$f":"IFERROR(OFFSET(CalculationsAndCharts!$B$32,'Transaction Summary'!E207,0,1,1),\"\")","v":""},{"$f":"IFERROR(OFFSET(CalculationsAndCharts!$AJ$32,'Transaction Summary'!E207,0,1,1),\"\")","v":""},"","",null,{"$f":"IFERROR(MATCH(TRUE,OFFSET(CalculationsAndCharts!$AN$33,K206,0,'Transaction Summary'!$C$2-K206,1),0)+K206,\"\")","v":""},{"$f":"IFERROR(OFFSET(CalculationsAndCharts!$B$32,'Transaction Summary'!K207,0,1,1),\"\")","v":""},{"$f":"IFERROR(OFFSET(CalculationsAndCharts!$AR$32,'Transaction Summary'!K207,0,1,1),\"\")","v":""},{"$f":"IFERROR(MATCH(TRUE,OFFSET(CalculationsAndCharts!$AQ$33,N206,0,'Transaction Summary'!$C$2-N206,1),0)+N206,\"\")","v":""},{"$f":"IFERROR(OFFSET(CalculationsAndCharts!$B$32,'Transaction Summary'!N207,0,1,1),\"\")","v":""},{"$f":"IFERROR(OFFSET(CalculationsAndCharts!$AS$32,'Transaction Summary'!N207,0,1,1),\"\")","v":""},"",""]
[null,{"$f":"IFERROR(MATCH(TRUE,OFFSET(CalculationsAndCharts!$AE$33,B207,0,'Transaction Summary'!$C$2-B207,1),0)+B207,\"\")","v":""},{"$f":"IFERROR(OFFSET(CalculationsAndCharts!$B$32,'Transaction Summary'!B208,0,1,1),\"\")","v":""},{"$f":"IFERROR(OFFSET(CalculationsAndCharts!$AI$32,'Transaction Summary'!B208,0,1,1),\"\")","v":""},{"$f":"IFERROR(MATCH(TRUE,OFFSET(CalculationsAndCharts!$AH$33,E207,0,'Transaction Summary'!$C$2-E207,1),0)+E207,\"\")","v":""},{"$f":"IFERROR(OFFSET(CalculationsAndCharts!$B$32,'Transaction Summary'!E208,0,1,1),\"\")","v":""},{"$f":"IFERROR(OFFSET(CalculationsAndCharts!$AJ$32,'Transaction Summary'!E208,0,1,1),\"\")","v":""},"","",null,{"$f":"IFERROR(MATCH(TRUE,OFFSET(CalculationsAndCharts!$AN$33,K207,0,'Transaction Summary'!$C$2-K207,1),0)+K207,\"\")","v":""},{"$f":"IFERROR(OFFSET(CalculationsAndCharts!$B$32,'Transaction Summary'!K208,0,1,1),\"\")","v":""},{"$f":"IFERROR(OFFSET(CalculationsAndCharts!$AR$32,'Transaction Summary'!K208,0,1,1),\"\")","v":""},{"$f":"IFERROR(MATCH(TRUE,OFFSET(CalculationsAndCharts!$AQ$33,N207,0,'Transaction Summary'!$C$2-N207,1),0)+N207,\"\")","v":""},{"$f":"IFERROR(OFFSET(CalculationsAndCharts!$B$32,'Transaction Summary'!N208,0,1,1),\"\")","v":""},{"$f":"IFERROR(OFFSET(CalculationsAndCharts!$AS$32,'Transaction Summary'!N208,0,1,1),\"\")","v":""},"",""]
[null,{"$f":"IFERROR(MATCH(TRUE,OFFSET(CalculationsAndCharts!$AE$33,B208,0,'Transaction Summary'!$C$2-B208,1),0)+B208,\"\")","v":""},{"$f":"IFERROR(OFFSET(CalculationsAndCharts!$B$32,'Transaction Summary'!B209,0,1,1),\"\")","v":""},{"$f":"IFERROR(OFFSET(CalculationsAndCharts!$AI$32,'Transaction Summary'!B209,0,1,1),\"\")","v":""},{"$f":"IFERROR(MATCH(TRUE,OFFSET(CalculationsAndCharts!$AH$33,E208,0,'Transaction Summary'!$C$2-E208,1),0)+E208,\"\")","v":""},{"$f":"IFERROR(OFFSET(CalculationsAndCharts!$B$32,'Transaction Summary'!E209,0,1,1),\"\")","v":""},{"$f":"IFERROR(OFFSET(CalculationsAndCharts!$AJ$32,'Transaction Summary'!E209,0,1,1),\"\")","v":""},"","",null,{"$f":"IFERROR(MATCH(TRUE,OFFSET(CalculationsAndCharts!$AN$33,K208,0,'Transaction Summary'!$C$2-K208,1),0)+K208,\"\")","v":""},{"$f":"IFERROR(OFFSET(CalculationsAndCharts!$B$32,'Transaction Summary'!K209,0,1,1),\"\")","v":""},{"$f":"IFERROR(OFFSET(CalculationsAndCharts!$AR$32,'Transaction Summary'!K209,0,1,1),\"\")","v":""},{"$f":"IFERROR(MATCH(TRUE,OFFSET(CalculationsAndCharts!$AQ$33,N208,0,'Transaction Summary'!$C$2-N208,1),0)+N208,\"\")","v":""},{"$f":"IFERROR(OFFSET(CalculationsAndCharts!$B$32,'Transaction Summary'!N209,0,1,1),\"\")","v":""},{"$f":"IFERROR(OFFSET(CalculationsAndCharts!$AS$32,'Transaction Summary'!N209,0,1,1),\"\")","v":""},"",""]
[null,{"$f":"IFERROR(MATCH(TRUE,OFFSET(CalculationsAndCharts!$AE$33,B209,0,'Transaction Summary'!$C$2-B209,1),0)+B209,\"\")","v":""},{"$f":"IFERROR(OFFSET(CalculationsAndCharts!$B$32,'Transaction Summary'!B210,0,1,1),\"\")","v":""},{"$f":"IFERROR(OFFSET(CalculationsAndCharts!$AI$32,'Transaction Summary'!B210,0,1,1),\"\")","v":""},{"$f":"IFERROR(MATCH(TRUE,OFFSET(CalculationsAndCharts!$AH$33,E209,0,'Transaction Summary'!$C$2-E209,1),0)+E209,\"\")","v":""},{"$f":"IFERROR(OFFSET(CalculationsAndCharts!$B$32,'Transaction Summary'!E210,0,1,1),\"\")","v":""},{"$f":"IFERROR(OFFSET(CalculationsAndCharts!$AJ$32,'Transaction Summary'!E210,0,1,1),\"\")","v":""},"","",null,{"$f":"IFERROR(MATCH(TRUE,OFFSET(CalculationsAndCharts!$AN$33,K209,0,'Transaction Summary'!$C$2-K209,1),0)+K209,\"\")","v":""},{"$f":"IFERROR(OFFSET(CalculationsAndCharts!$B$32,'Transaction Summary'!K210,0,1,1),\"\")","v":""},{"$f":"IFERROR(OFFSET(CalculationsAndCharts!$AR$32,'Transaction Summary'!K210,0,1,1),\"\")","v":""},{"$f":"IFERROR(MATCH(TRUE,OFFSET(CalculationsAndCharts!$AQ$33,N209,0,'Transaction Summary'!$C$2-N209,1),0)+N209,\"\")","v":""},{"$f":"IFERROR(OFFSET(CalculationsAndCharts!$B$32,'Transaction Summary'!N210,0,1,1),\"\")","v":""},{"$f":"IFERROR(OFFSET(CalculationsAndCharts!$AS$32,'Transaction Summary'!N210,0,1,1),\"\")","v":""},"",""]
[null,{"$f":"IFERROR(MATCH(TRUE,OFFSET(CalculationsAndCharts!$AE$33,B210,0,'Transaction Summary'!$C$2-B210,1),0)+B210,\"\")","v":""},{"$f":"IFERROR(OFFSET(CalculationsAndCharts!$B$32,'Transaction Summary'!B211,0,1,1),\"\")","v":""},{"$f":"IFERROR(OFFSET(CalculationsAndCharts!$AI$32,'Transaction Summary'!B211,0,1,1),\"\")","v":""},{"$f":"IFERROR(MATCH(TRUE,OFFSET(CalculationsAndCharts!$AH$33,E210,0,'Transaction Summary'!$C$2-E210,1),0)+E210,\"\")","v":""},{"$f":"IFERROR(OFFSET(CalculationsAndCharts!$B$32,'Transaction Summary'!E211,0,1,1),\"\")","v":""},{"$f":"IFERROR(OFFSET(CalculationsAndCharts!$AJ$32,'Transaction Summary'!E211,0,1,1),\"\")","v":""},"","",null,{"$f":"IFERROR(MATCH(TRUE,OFFSET(CalculationsAndCharts!$AN$33,K210,0,'Transaction Summary'!$C$2-K210,1),0)+K210,\"\")","v":""},{"$f":"IFERROR(OFFSET(CalculationsAndCharts!$B$32,'Transaction Summary'!K211,0,1,1),\"\")","v":""},{"$f":"IFERROR(OFFSET(CalculationsAndCharts!$AR$32,'Transaction Summary'!K211,0,1,1),\"\")","v":""},{"$f":"IFERROR(MATCH(TRUE,OFFSET(CalculationsAndCharts!$AQ$33,N210,0,'Transaction Summary'!$C$2-N210,1),0)+N210,\"\")","v":""},{"$f":"IFERROR(OFFSET(CalculationsAndCharts!$B$32,'Transaction Summary'!N211,0,1,1),\"\")","v":""},{"$f":"IFERROR(OFFSET(CalculationsAndCharts!$AS$32,'Transaction Summary'!N211,0,1,1),\"\")","v":""},"",""]
[null,{"$f":"IFERROR(MATCH(TRUE,OFFSET(CalculationsAndCharts!$AE$33,B211,0,'Transaction Summary'!$C$2-B211,1),0)+B211,\"\")","v":""},{"$f":"IFERROR(OFFSET(CalculationsAndCharts!$B$32,'Transaction Summary'!B212,0,1,1),\"\")","v":""},{"$f":"IFERROR(OFFSET(CalculationsAndCharts!$AI$32,'Transaction Summary'!B212,0,1,1),\"\")","v":""},{"$f":"IFERROR(MATCH(TRUE,OFFSET(CalculationsAndCharts!$AH$33,E211,0,'Transaction Summary'!$C$2-E211,1),0)+E211,\"\")","v":""},{"$f":"IFERROR(OFFSET(CalculationsAndCharts!$B$32,'Transaction Summary'!E212,0,1,1),\"\")","v":""},{"$f":"IFERROR(OFFSET(CalculationsAndCharts!$AJ$32,'Transaction Summary'!E212,0,1,1),\"\")","v":""},"","",null,{"$f":"IFERROR(MATCH(TRUE,OFFSET(CalculationsAndCharts!$AN$33,K211,0,'Transaction Summary'!$C$2-K211,1),0)+K211,\"\")","v":""},{"$f":"IFERROR(OFFSET(CalculationsAndCharts!$B$32,'Transaction Summary'!K212,0,1,1),\"\")","v":""},{"$f":"IFERROR(OFFSET(CalculationsAndCharts!$AR$32,'Transaction Summary'!K212,0,1,1),\"\")","v":""},{"$f":"IFERROR(MATCH(TRUE,OFFSET(CalculationsAndCharts!$AQ$33,N211,0,'Transaction Summary'!$C$2-N211,1),0)+N211,\"\")","v":""},{"$f":"IFERROR(OFFSET(CalculationsAndCharts!$B$32,'Transaction Summary'!N212,0,1,1),\"\")","v":""},{"$f":"IFERROR(OFFSET(CalculationsAndCharts!$AS$32,'Transaction Summary'!N212,0,1,1),\"\")","v":""},"",""]
[null,{"$f":"IFERROR(MATCH(TRUE,OFFSET(CalculationsAndCharts!$AE$33,B212,0,'Transaction Summary'!$C$2-B212,1),0)+B212,\"\")","v":""},{"$f":"IFERROR(OFFSET(CalculationsAndCharts!$B$32,'Transaction Summary'!B213,0,1,1),\"\")","v":""},{"$f":"IFERROR(OFFSET(CalculationsAndCharts!$AI$32,'Transaction Summary'!B213,0,1,1),\"\")","v":""},{"$f":"IFERROR(MATCH(TRUE,OFFSET(CalculationsAndCharts!$AH$33,E212,0,'Transaction Summary'!$C$2-E212,1),0)+E212,\"\")","v":""},{"$f":"IFERROR(OFFSET(CalculationsAndCharts!$B$32,'Transaction Summary'!E213,0,1,1),\"\")","v":""},{"$f":"IFERROR(OFFSET(CalculationsAndCharts!$AJ$32,'Transaction Summary'!E213,0,1,1),\"\")","v":""},"","",null,{"$f":"IFERROR(MATCH(TRUE,OFFSET(CalculationsAndCharts!$AN$33,K212,0,'Transaction Summary'!$C$2-K212,1),0)+K212,\"\")","v":""},{"$f":"IFERROR(OFFSET(CalculationsAndCharts!$B$32,'Transaction Summary'!K213,0,1,1),\"\")","v":""},{"$f":"IFERROR(OFFSET(CalculationsAndCharts!$AR$32,'Transaction Summary'!K213,0,1,1),\"\")","v":""},{"$f":"IFERROR(MATCH(TRUE,OFFSET(CalculationsAndCharts!$AQ$33,N212,0,'Transaction Summary'!$C$2-N212,1),0)+N212,\"\")","v":""},{"$f":"IFERROR(OFFSET(CalculationsAndCharts!$B$32,'Transaction Summary'!N213,0,1,1),\"\")","v":""},{"$f":"IFERROR(OFFSET(CalculationsAndCharts!$AS$32,'Transaction Summary'!N213,0,1,1),\"\")","v":""},"",""]
[null,{"$f":"IFERROR(MATCH(TRUE,OFFSET(CalculationsAndCharts!$AE$33,B213,0,'Transaction Summary'!$C$2-B213,1),0)+B213,\"\")","v":""},{"$f":"IFERROR(OFFSET(CalculationsAndCharts!$B$32,'Transaction Summary'!B214,0,1,1),\"\")","v":""},{"$f":"IFERROR(OFFSET(CalculationsAndCharts!$AI$32,'Transaction Summary'!B214,0,1,1),\"\")","v":""},{"$f":"IFERROR(MATCH(TRUE,OFFSET(CalculationsAndCharts!$AH$33,E213,0,'Transaction Summary'!$C$2-E213,1),0)+E213,\"\")","v":""},{"$f":"IFERROR(OFFSET(CalculationsAndCharts!$B$32,'Transaction Summary'!E214,0,1,1),\"\")","v":""},{"$f":"IFERROR(OFFSET(CalculationsAndCharts!$AJ$32,'Transaction Summary'!E214,0,1,1),\"\")","v":""},"","",null,{"$f":"IFERROR(MATCH(TRUE,OFFSET(CalculationsAndCharts!$AN$33,K213,0,'Transaction Summary'!$C$2-K213,1),0)+K213,\"\")","v":""},{"$f":"IFERROR(OFFSET(CalculationsAndCharts!$B$32,'Transaction Summary'!K214,0,1,1),\"\")","v":""},{"$f":"IFERROR(OFFSET(CalculationsAndCharts!$AR$32,'Transaction Summary'!K214,0,1,1),\"\")","v":""},{"$f":"IFERROR(MATCH(TRUE,OFFSET(CalculationsAndCharts!$AQ$33,N213,0,'Transaction Summary'!$C$2-N213,1),0)+N213,\"\")","v":""},{"$f":"IFERROR(OFFSET(CalculationsAndCharts!$B$32,'Transaction Summary'!N214,0,1,1),\"\")","v":""},{"$f":"IFERROR(OFFSET(CalculationsAndCharts!$AS$32,'Transaction Summary'!N214,0,1,1),\"\")","v":""},"",""]
[null,{"$f":"IFERROR(MATCH(TRUE,OFFSET(CalculationsAndCharts!$AE$33,B214,0,'Transaction Summary'!$C$2-B214,1),0)+B214,\"\")","v":""},{"$f":"IFERROR(OFFSET(CalculationsAndCharts!$B$32,'Transaction Summary'!B215,0,1,1),\"\")","v":""},{"$f":"IFERROR(OFFSET(CalculationsAndCharts!$AI$32,'Transaction Summary'!B215,0,1,1),\"\")","v":""},{"$f":"IFERROR(MATCH(TRUE,OFFSET(CalculationsAndCharts!$AH$33,E214,0,'Transaction Summary'!$C$2-E214,1),0)+E214,\"\")","v":""},{"$f":"IFERROR(OFFSET(CalculationsAndCharts!$B$32,'Transaction Summary'!E215,0,1,1),\"\")","v":""},{"$f":"IFERROR(OFFSET(CalculationsAndCharts!$AJ$32,'Transaction Summary'!E215,0,1,1),\"\")","v":""},"","",null,{"$f":"IFERROR(MATCH(TRUE,OFFSET(CalculationsAndCharts!$AN$33,K214,0,'Transaction Summary'!$C$2-K214,1),0)+K214,\"\")","v":""},{"$f":"IFERROR(OFFSET(CalculationsAndCharts!$B$32,'Transaction Summary'!K215,0,1,1),\"\")","v":""},{"$f":"IFERROR(OFFSET(CalculationsAndCharts!$AR$32,'Transaction Summary'!K215,0,1,1),\"\")","v":""},{"$f":"IFERROR(MATCH(TRUE,OFFSET(CalculationsAndCharts!$AQ$33,N214,0,'Transaction Summary'!$C$2-N214,1),0)+N214,\"\")","v":""},{"$f":"IFERROR(OFFSET(CalculationsAndCharts!$B$32,'Transaction Summary'!N215,0,1,1),\"\")","v":""},{"$f":"IFERROR(OFFSET(CalculationsAndCharts!$AS$32,'Transaction Summary'!N215,0,1,1),\"\")","v":""},"",""]
[null,{"$f":"IFERROR(MATCH(TRUE,OFFSET(CalculationsAndCharts!$AE$33,B215,0,'Transaction Summary'!$C$2-B215,1),0)+B215,\"\")","v":""},{"$f":"IFERROR(OFFSET(CalculationsAndCharts!$B$32,'Transaction Summary'!B216,0,1,1),\"\")","v":""},{"$f":"IFERROR(OFFSET(CalculationsAndCharts!$AI$32,'Transaction Summary'!B216,0,1,1),\"\")","v":""},{"$f":"IFERROR(MATCH(TRUE,OFFSET(CalculationsAndCharts!$AH$33,E215,0,'Transaction Summary'!$C$2-E215,1),0)+E215,\"\")","v":""},{"$f":"IFERROR(OFFSET(CalculationsAndCharts!$B$32,'Transaction Summary'!E216,0,1,1),\"\")","v":""},{"$f":"IFERROR(OFFSET(CalculationsAndCharts!$AJ$32,'Transaction Summary'!E216,0,1,1),\"\")","v":""},"","",null,{"$f":"IFERROR(MATCH(TRUE,OFFSET(CalculationsAndCharts!$AN$33,K215,0,'Transaction Summary'!$C$2-K215,1),0)+K215,\"\")","v":""},{"$f":"IFERROR(OFFSET(CalculationsAndCharts!$B$32,'Transaction Summary'!K216,0,1,1),\"\")","v":""},{"$f":"IFERROR(OFFSET(CalculationsAndCharts!$AR$32,'Transaction Summary'!K216,0,1,1),\"\")","v":""},{"$f":"IFERROR(MATCH(TRUE,OFFSET(CalculationsAndCharts!$AQ$33,N215,0,'Transaction Summary'!$C$2-N215,1),0)+N215,\"\")","v":""},{"$f":"IFERROR(OFFSET(CalculationsAndCharts!$B$32,'Transaction Summary'!N216,0,1,1),\"\")","v":""},{"$f":"IFERROR(OFFSET(CalculationsAndCharts!$AS$32,'Transaction Summary'!N216,0,1,1),\"\")","v":""},"",""]
[null,{"$f":"IFERROR(MATCH(TRUE,OFFSET(CalculationsAndCharts!$AE$33,B216,0,'Transaction Summary'!$C$2-B216,1),0)+B216,\"\")","v":""},{"$f":"IFERROR(OFFSET(CalculationsAndCharts!$B$32,'Transaction Summary'!B217,0,1,1),\"\")","v":""},{"$f":"IFERROR(OFFSET(CalculationsAndCharts!$AI$32,'Transaction Summary'!B217,0,1,1),\"\")","v":""},{"$f":"IFERROR(MATCH(TRUE,OFFSET(CalculationsAndCharts!$AH$33,E216,0,'Transaction Summary'!$C$2-E216,1),0)+E216,\"\")","v":""},{"$f":"IFERROR(OFFSET(CalculationsAndCharts!$B$32,'Transaction Summary'!E217,0,1,1),\"\")","v":""},{"$f":"IFERROR(OFFSET(CalculationsAndCharts!$AJ$32,'Transaction Summary'!E217,0,1,1),\"\")","v":""},"","",null,{"$f":"IFERROR(MATCH(TRUE,OFFSET(CalculationsAndCharts!$AN$33,K216,0,'Transaction Summary'!$C$2-K216,1),0)+K216,\"\")","v":""},{"$f":"IFERROR(OFFSET(CalculationsAndCharts!$B$32,'Transaction Summary'!K217,0,1,1),\"\")","v":""},{"$f":"IFERROR(OFFSET(CalculationsAndCharts!$AR$32,'Transaction Summary'!K217,0,1,1),\"\")","v":""},{"$f":"IFERROR(MATCH(TRUE,OFFSET(CalculationsAndCharts!$AQ$33,N216,0,'Transaction Summary'!$C$2-N216,1),0)+N216,\"\")","v":""},{"$f":"IFERROR(OFFSET(CalculationsAndCharts!$B$32,'Transaction Summary'!N217,0,1,1),\"\")","v":""},{"$f":"IFERROR(OFFSET(CalculationsAndCharts!$AS$32,'Transaction Summary'!N217,0,1,1),\"\")","v":""},"",""]
[null,{"$f":"IFERROR(MATCH(TRUE,OFFSET(CalculationsAndCharts!$AE$33,B217,0,'Transaction Summary'!$C$2-B217,1),0)+B217,\"\")","v":""},{"$f":"IFERROR(OFFSET(CalculationsAndCharts!$B$32,'Transaction Summary'!B218,0,1,1),\"\")","v":""},{"$f":"IFERROR(OFFSET(CalculationsAndCharts!$AI$32,'Transaction Summary'!B218,0,1,1),\"\")","v":""},{"$f":"IFERROR(MATCH(TRUE,OFFSET(CalculationsAndCharts!$AH$33,E217,0,'Transaction Summary'!$C$2-E217,1),0)+E217,\"\")","v":""},{"$f":"IFERROR(OFFSET(CalculationsAndCharts!$B$32,'Transaction Summary'!E218,0,1,1),\"\")","v":""},{"$f":"IFERROR(OFFSET(CalculationsAndCharts!$AJ$32,'Transaction Summary'!E218,0,1,1),\"\")","v":""},"","",null,{"$f":"IFERROR(MATCH(TRUE,OFFSET(CalculationsAndCharts!$AN$33,K217,0,'Transaction Summary'!$C$2-K217,1),0)+K217,\"\")","v":""},{"$f":"IFERROR(OFFSET(CalculationsAndCharts!$B$32,'Transaction Summary'!K218,0,1,1),\"\")","v":""},{"$f":"IFERROR(OFFSET(CalculationsAndCharts!$AR$32,'Transaction Summary'!K218,0,1,1),\"\")","v":""},{"$f":"IFERROR(MATCH(TRUE,OFFSET(CalculationsAndCharts!$AQ$33,N217,0,'Transaction Summary'!$C$2-N217,1),0)+N217,\"\")","v":""},{"$f":"IFERROR(OFFSET(CalculationsAndCharts!$B$32,'Transaction Summary'!N218,0,1,1),\"\")","v":""},{"$f":"IFERROR(OFFSET(CalculationsAndCharts!$AS$32,'Transaction Summary'!N218,0,1,1),\"\")","v":""},"",""]
[null,{"$f":"IFERROR(MATCH(TRUE,OFFSET(CalculationsAndCharts!$AE$33,B218,0,'Transaction Summary'!$C$2-B218,1),0)+B218,\"\")","v":""},{"$f":"IFERROR(OFFSET(CalculationsAndCharts!$B$32,'Transaction Summary'!B219,0,1,1),\"\")","v":""},{"$f":"IFERROR(OFFSET(CalculationsAndCharts!$AI$32,'Transaction Summary'!B219,0,1,1),\"\")","v":""},{"$f":"IFERROR(MATCH(TRUE,OFFSET(CalculationsAndCharts!$AH$33,E218,0,'Transaction Summary'!$C$2-E218,1),0)+E218,\"\")","v":""},{"$f":"IFERROR(OFFSET(CalculationsAndCharts!$B$32,'Transaction Summary'!E219,0,1,1),\"\")","v":""},{"$f":"IFERROR(OFFSET(CalculationsAndCharts!$AJ$32,'Transaction Summary'!E219,0,1,1),\"\")","v":""},"","",null,{"$f":"IFERROR(MATCH(TRUE,OFFSET(CalculationsAndCharts!$AN$33,K218,0,'Transaction Summary'!$C$2-K218,1),0)+K218,\"\")","v":""},{"$f":"IFERROR(OFFSET(CalculationsAndCharts!$B$32,'Transaction Summary'!K219,0,1,1),\"\")","v":""},{"$f":"IFERROR(OFFSET(CalculationsAndCharts!$AR$32,'Transaction Summary'!K219,0,1,1),\"\")","v":""},{"$f":"IFERROR(MATCH(TRUE,OFFSET(CalculationsAndCharts!$AQ$33,N218,0,'Transaction Summary'!$C$2-N218,1),0)+N218,\"\")","v":""},{"$f":"IFERROR(OFFSET(CalculationsAndCharts!$B$32,'Transaction Summary'!N219,0,1,1),\"\")","v":""},{"$f":"IFERROR(OFFSET(CalculationsAndCharts!$AS$32,'Transaction Summary'!N219,0,1,1),\"\")","v":""},"",""]
[null,{"$f":"IFERROR(MATCH(TRUE,OFFSET(CalculationsAndCharts!$AE$33,B219,0,'Transaction Summary'!$C$2-B219,1),0)+B219,\"\")","v":""},{"$f":"IFERROR(OFFSET(CalculationsAndCharts!$B$32,'Transaction Summary'!B220,0,1,1),\"\")","v":""},{"$f":"IFERROR(OFFSET(CalculationsAndCharts!$AI$32,'Transaction Summary'!B220,0,1,1),\"\")","v":""},{"$f":"IFERROR(MATCH(TRUE,OFFSET(CalculationsAndCharts!$AH$33,E219,0,'Transaction Summary'!$C$2-E219,1),0)+E219,\"\")","v":""},{"$f":"IFERROR(OFFSET(CalculationsAndCharts!$B$32,'Transaction Summary'!E220,0,1,1),\"\")","v":""},{"$f":"IFERROR(OFFSET(CalculationsAndCharts!$AJ$32,'Transaction Summary'!E220,0,1,1),\"\")","v":""},"","",null,{"$f":"IFERROR(MATCH(TRUE,OFFSET(CalculationsAndCharts!$AN$33,K219,0,'Transaction Summary'!$C$2-K219,1),0)+K219,\"\")","v":""},{"$f":"IFERROR(OFFSET(CalculationsAndCharts!$B$32,'Transaction Summary'!K220,0,1,1),\"\")","v":""},{"$f":"IFERROR(OFFSET(CalculationsAndCharts!$AR$32,'Transaction Summary'!K220,0,1,1),\"\")","v":""},{"$f":"IFERROR(MATCH(TRUE,OFFSET(CalculationsAndCharts!$AQ$33,N219,0,'Transaction Summary'!$C$2-N219,1),0)+N219,\"\")","v":""},{"$f":"IFERROR(OFFSET(CalculationsAndCharts!$B$32,'Transaction Summary'!N220,0,1,1),\"\")","v":""},{"$f":"IFERROR(OFFSET(CalculationsAndCharts!$AS$32,'Transaction Summary'!N220,0,1,1),\"\")","v":""},"",""]
[null,{"$f":"IFERROR(MATCH(TRUE,OFFSET(CalculationsAndCharts!$AE$33,B220,0,'Transaction Summary'!$C$2-B220,1),0)+B220,\"\")","v":""},{"$f":"IFERROR(OFFSET(CalculationsAndCharts!$B$32,'Transaction Summary'!B221,0,1,1),\"\")","v":""},{"$f":"IFERROR(OFFSET(CalculationsAndCharts!$AI$32,'Transaction Summary'!B221,0,1,1),\"\")","v":""},{"$f":"IFERROR(MATCH(TRUE,OFFSET(CalculationsAndCharts!$AH$33,E220,0,'Transaction Summary'!$C$2-E220,1),0)+E220,\"\")","v":""},{"$f":"IFERROR(OFFSET(CalculationsAndCharts!$B$32,'Transaction Summary'!E221,0,1,1),\"\")","v":""},{"$f":"IFERROR(OFFSET(CalculationsAndCharts!$AJ$32,'Transaction Summary'!E221,0,1,1),\"\")","v":""},"","",null,{"$f":"IFERROR(MATCH(TRUE,OFFSET(CalculationsAndCharts!$AN$33,K220,0,'Transaction Summary'!$C$2-K220,1),0)+K220,\"\")","v":""},{"$f":"IFERROR(OFFSET(CalculationsAndCharts!$B$32,'Transaction Summary'!K221,0,1,1),\"\")","v":""},{"$f":"IFERROR(OFFSET(CalculationsAndCharts!$AR$32,'Transaction Summary'!K221,0,1,1),\"\")","v":""},{"$f":"IFERROR(MATCH(TRUE,OFFSET(CalculationsAndCharts!$AQ$33,N220,0,'Transaction Summary'!$C$2-N220,1),0)+N220,\"\")","v":""},{"$f":"IFERROR(OFFSET(CalculationsAndCharts!$B$32,'Transaction Summary'!N221,0,1,1),\"\")","v":""},{"$f":"IFERROR(OFFSET(CalculationsAndCharts!$AS$32,'Transaction Summary'!N221,0,1,1),\"\")","v":""},"",""]
[null,{"$f":"IFERROR(MATCH(TRUE,OFFSET(CalculationsAndCharts!$AE$33,B221,0,'Transaction Summary'!$C$2-B221,1),0)+B221,\"\")","v":""},{"$f":"IFERROR(OFFSET(CalculationsAndCharts!$B$32,'Transaction Summary'!B222,0,1,1),\"\")","v":""},{"$f":"IFERROR(OFFSET(CalculationsAndCharts!$AI$32,'Transaction Summary'!B222,0,1,1),\"\")","v":""},{"$f":"IFERROR(MATCH(TRUE,OFFSET(CalculationsAndCharts!$AH$33,E221,0,'Transaction Summary'!$C$2-E221,1),0)+E221,\"\")","v":""},{"$f":"IFERROR(OFFSET(CalculationsAndCharts!$B$32,'Transaction Summary'!E222,0,1,1),\"\")","v":""},{"$f":"IFERROR(OFFSET(CalculationsAndCharts!$AJ$32,'Transaction Summary'!E222,0,1,1),\"\")","v":""},"","",null,{"$f":"IFERROR(MATCH(TRUE,OFFSET(CalculationsAndCharts!$AN$33,K221,0,'Transaction Summary'!$C$2-K221,1),0)+K221,\"\")","v":""},{"$f":"IFERROR(OFFSET(CalculationsAndCharts!$B$32,'Transaction Summary'!K222,0,1,1),\"\")","v":""},{"$f":"IFERROR(OFFSET(CalculationsAndCharts!$AR$32,'Transaction Summary'!K222,0,1,1),\"\")","v":""},{"$f":"IFERROR(MATCH(TRUE,OFFSET(CalculationsAndCharts!$AQ$33,N221,0,'Transaction Summary'!$C$2-N221,1),0)+N221,\"\")","v":""},{"$f":"IFERROR(OFFSET(CalculationsAndCharts!$B$32,'Transaction Summary'!N222,0,1,1),\"\")","v":""},{"$f":"IFERROR(OFFSET(CalculationsAndCharts!$AS$32,'Transaction Summary'!N222,0,1,1),\"\")","v":""},"",""]
[null,{"$f":"IFERROR(MATCH(TRUE,OFFSET(CalculationsAndCharts!$AE$33,B222,0,'Transaction Summary'!$C$2-B222,1),0)+B222,\"\")","v":""},{"$f":"IFERROR(OFFSET(CalculationsAndCharts!$B$32,'Transaction Summary'!B223,0,1,1),\"\")","v":""},{"$f":"IFERROR(OFFSET(CalculationsAndCharts!$AI$32,'Transaction Summary'!B223,0,1,1),\"\")","v":""},{"$f":"IFERROR(MATCH(TRUE,OFFSET(CalculationsAndCharts!$AH$33,E222,0,'Transaction Summary'!$C$2-E222,1),0)+E222,\"\")","v":""},{"$f":"IFERROR(OFFSET(CalculationsAndCharts!$B$32,'Transaction Summary'!E223,0,1,1),\"\")","v":""},{"$f":"IFERROR(OFFSET(CalculationsAndCharts!$AJ$32,'Transaction Summary'!E223,0,1,1),\"\")","v":""},"","",null,{"$f":"IFERROR(MATCH(TRUE,OFFSET(CalculationsAndCharts!$AN$33,K222,0,'Transaction Summary'!$C$2-K222,1),0)+K222,\"\")","v":""},{"$f":"IFERROR(OFFSET(CalculationsAndCharts!$B$32,'Transaction Summary'!K223,0,1,1),\"\")","v":""},{"$f":"IFERROR(OFFSET(CalculationsAndCharts!$AR$32,'Transaction Summary'!K223,0,1,1),\"\")","v":""},{"$f":"IFERROR(MATCH(TRUE,OFFSET(CalculationsAndCharts!$AQ$33,N222,0,'Transaction Summary'!$C$2-N222,1),0)+N222,\"\")","v":""},{"$f":"IFERROR(OFFSET(CalculationsAndCharts!$B$32,'Transaction Summary'!N223,0,1,1),\"\")","v":""},{"$f":"IFERROR(OFFSET(CalculationsAndCharts!$AS$32,'Transaction Summary'!N223,0,1,1),\"\")","v":""},"",""]
[null,{"$f":"IFERROR(MATCH(TRUE,OFFSET(CalculationsAndCharts!$AE$33,B223,0,'Transaction Summary'!$C$2-B223,1),0)+B223,\"\")","v":""},{"$f":"IFERROR(OFFSET(CalculationsAndCharts!$B$32,'Transaction Summary'!B224,0,1,1),\"\")","v":""},{"$f":"IFERROR(OFFSET(CalculationsAndCharts!$AI$32,'Transaction Summary'!B224,0,1,1),\"\")","v":""},{"$f":"IFERROR(MATCH(TRUE,OFFSET(CalculationsAndCharts!$AH$33,E223,0,'Transaction Summary'!$C$2-E223,1),0)+E223,\"\")","v":""},{"$f":"IFERROR(OFFSET(CalculationsAndCharts!$B$32,'Transaction Summary'!E224,0,1,1),\"\")","v":""},{"$f":"IFERROR(OFFSET(CalculationsAndCharts!$AJ$32,'Transaction Summary'!E224,0,1,1),\"\")","v":""},"","",null,{"$f":"IFERROR(MATCH(TRUE,OFFSET(CalculationsAndCharts!$AN$33,K223,0,'Transaction Summary'!$C$2-K223,1),0)+K223,\"\")","v":""},{"$f":"IFERROR(OFFSET(CalculationsAndCharts!$B$32,'Transaction Summary'!K224,0,1,1),\"\")","v":""},{"$f":"IFERROR(OFFSET(CalculationsAndCharts!$AR$32,'Transaction Summary'!K224,0,1,1),\"\")","v":""},{"$f":"IFERROR(MATCH(TRUE,OFFSET(CalculationsAndCharts!$AQ$33,N223,0,'Transaction Summary'!$C$2-N223,1),0)+N223,\"\")","v":""},{"$f":"IFERROR(OFFSET(CalculationsAndCharts!$B$32,'Transaction Summary'!N224,0,1,1),\"\")","v":""},{"$f":"IFERROR(OFFSET(CalculationsAndCharts!$AS$32,'Transaction Summary'!N224,0,1,1),\"\")","v":""},"",""]
[null,{"$f":"IFERROR(MATCH(TRUE,OFFSET(CalculationsAndCharts!$AE$33,B224,0,'Transaction Summary'!$C$2-B224,1),0)+B224,\"\")","v":""},{"$f":"IFERROR(OFFSET(CalculationsAndCharts!$B$32,'Transaction Summary'!B225,0,1,1),\"\")","v":""},{"$f":"IFERROR(OFFSET(CalculationsAndCharts!$AI$32,'Transaction Summary'!B225,0,1,1),\"\")","v":""},{"$f":"IFERROR(MATCH(TRUE,OFFSET(CalculationsAndCharts!$AH$33,E224,0,'Transaction Summary'!$C$2-E224,1),0)+E224,\"\")","v":""},{"$f":"IFERROR(OFFSET(CalculationsAndCharts!$B$32,'Transaction Summary'!E225,0,1,1),\"\")","v":""},{"$f":"IFERROR(OFFSET(CalculationsAndCharts!$AJ$32,'Transaction Summary'!E225,0,1,1),\"\")","v":""},"","",null,{"$f":"IFERROR(MATCH(TRUE,OFFSET(CalculationsAndCharts!$AN$33,K224,0,'Transaction Summary'!$C$2-K224,1),0)+K224,\"\")","v":""},{"$f":"IFERROR(OFFSET(CalculationsAndCharts!$B$32,'Transaction Summary'!K225,0,1,1),\"\")","v":""},{"$f":"IFERROR(OFFSET(CalculationsAndCharts!$AR$32,'Transaction Summary'!K225,0,1,1),\"\")","v":""},{"$f":"IFERROR(MATCH(TRUE,OFFSET(CalculationsAndCharts!$AQ$33,N224,0,'Transaction Summary'!$C$2-N224,1),0)+N224,\"\")","v":""},{"$f":"IFERROR(OFFSET(CalculationsAndCharts!$B$32,'Transaction Summary'!N225,0,1,1),\"\")","v":""},{"$f":"IFERROR(OFFSET(CalculationsAndCharts!$AS$32,'Transaction Summary'!N225,0,1,1),\"\")","v":""},"",""]
[null,{"$f":"IFERROR(MATCH(TRUE,OFFSET(CalculationsAndCharts!$AE$33,B225,0,'Transaction Summary'!$C$2-B225,1),0)+B225,\"\")","v":""},{"$f":"IFERROR(OFFSET(CalculationsAndCharts!$B$32,'Transaction Summary'!B226,0,1,1),\"\")","v":""},{"$f":"IFERROR(OFFSET(CalculationsAndCharts!$AI$32,'Transaction Summary'!B226,0,1,1),\"\")","v":""},{"$f":"IFERROR(MATCH(TRUE,OFFSET(CalculationsAndCharts!$AH$33,E225,0,'Transaction Summary'!$C$2-E225,1),0)+E225,\"\")","v":""},{"$f":"IFERROR(OFFSET(CalculationsAndCharts!$B$32,'Transaction Summary'!E226,0,1,1),\"\")","v":""},{"$f":"IFERROR(OFFSET(CalculationsAndCharts!$AJ$32,'Transaction Summary'!E226,0,1,1),\"\")","v":""},{"$f":"IFERROR(G226-D226,\"\")","v":""},{"$f":"IFERROR(H226+IF(\"\"=I227,0,I227),\"\")","v":""},null,{"$f":"IFERROR(MATCH(TRUE,OFFSET(CalculationsAndCharts!$AN$33,K225,0,'Transaction Summary'!$C$2-K225,1),0)+K225,\"\")","v":""},{"$f":"IFERROR(OFFSET(CalculationsAndCharts!$B$32,'Transaction Summary'!K226,0,1,1),\"\")","v":""},{"$f":"IFERROR(OFFSET(CalculationsAndCharts!$AR$32,'Transaction Summary'!K226,0,1,1),\"\")","v":""},{"$f":"IFERROR(MATCH(TRUE,OFFSET(CalculationsAndCharts!$AQ$33,N225,0,'Transaction Summary'!$C$2-N225,1),0)+N225,\"\")","v":""},{"$f":"IFERROR(OFFSET(CalculationsAndCharts!$B$32,'Transaction Summary'!N226,0,1,1),\"\")","v":""},{"$f":"IFERROR(OFFSET(CalculationsAndCharts!$AS$32,'Transaction Summary'!N226,0,1,1),\"\")","v":""},"",""]
[null,{"$f":"IFERROR(MATCH(TRUE,OFFSET(CalculationsAndCharts!$AE$33,B226,0,'Transaction Summary'!$C$2-B226,1),0)+B226,\"\")","v":""},{"$f":"IFERROR(OFFSET(CalculationsAndCharts!$B$32,'Transaction Summary'!B227,0,1,1),\"\")","v":""},{"$f":"IFERROR(OFFSET(CalculationsAndCharts!$AI$32,'Transaction Summary'!B227,0,1,1),\"\")","v":""},{"$f":"IFERROR(MATCH(TRUE,OFFSET(CalculationsAndCharts!$AH$33,E226,0,'Transaction Summary'!$C$2-E226,1),0)+E226,\"\")","v":""},{"$f":"IFERROR(OFFSET(CalculationsAndCharts!$B$32,'Transaction Summary'!E227,0,1,1),\"\")","v":""},{"$f":"IFERROR(OFFSET(CalculationsAndCharts!$AJ$32,'Transaction Summary'!E227,0,1,1),\"\")","v":""},"","",null,{"$f":"IFERROR(MATCH(TRUE,OFFSET(CalculationsAndCharts!$AN$33,K226,0,'Transaction Summary'!$C$2-K226,1),0)+K226,\"\")","v":""},{"$f":"IFERROR(OFFSET(CalculationsAndCharts!$B$32,'Transaction Summary'!K227,0,1,1),\"\")","v":""},{"$f":"IFERROR(OFFSET(CalculationsAndCharts!$AR$32,'Transaction Summary'!K227,0,1,1),\"\")","v":""},{"$f":"IFERROR(MATCH(TRUE,OFFSET(CalculationsAndCharts!$AQ$33,N226,0,'Transaction Summary'!$C$2-N226,1),0)+N226,\"\")","v":""},{"$f":"IFERROR(OFFSET(CalculationsAndCharts!$B$32,'Transaction Summary'!N227,0,1,1),\"\")","v":""},{"$f":"IFERROR(OFFSET(CalculationsAndCharts!$AS$32,'Transaction Summary'!N227,0,1,1),\"\")","v":""},{"$f":"IFERROR(M227-P227,\"\")","v":""},{"$f":"IFERROR(Q227+IF(\"\"=R228,0,R228),\"\")","v":""}]
[null,{"$f":"IFERROR(MATCH(TRUE,OFFSET(CalculationsAndCharts!$AE$33,B227,0,'Transaction Summary'!$C$2-B227,1),0)+B227,\"\")","v":""},{"$f":"IFERROR(OFFSET(CalculationsAndCharts!$B$32,'Transaction Summary'!B228,0,1,1),\"\")","v":""},{"$f":"IFERROR(OFFSET(CalculationsAndCharts!$AI$32,'Transaction Summary'!B228,0,1,1),\"\")","v":""},{"$f":"IFERROR(MATCH(TRUE,OFFSET(CalculationsAndCharts!$AH$33,E227,0,'Transaction Summary'!$C$2-E227,1),0)+E227,\"\")","v":""},{"$f":"IFERROR(OFFSET(CalculationsAndCharts!$B$32,'Transaction Summary'!E228,0,1,1),\"\")","v":""},{"$f":"IFERROR(OFFSET(CalculationsAndCharts!$AJ$32,'Transaction Summary'!E228,0,1,1),\"\")","v":""},"","",null,{"$f":"IFERROR(MATCH(TRUE,OFFSET(CalculationsAndCharts!$AN$33,K227,0,'Transaction Summary'!$C$2-K227,1),0)+K227,\"\")","v":""},{"$f":"IFERROR(OFFSET(CalculationsAndCharts!$B$32,'Transaction Summary'!K228,0,1,1),\"\")","v":""},{"$f":"IFERROR(OFFSET(CalculationsAndCharts!$AR$32,'Transaction Summary'!K228,0,1,1),\"\")","v":""},{"$f":"IFERROR(MATCH(TRUE,OFFSET(CalculationsAndCharts!$AQ$33,N227,0,'Transaction Summary'!$C$2-N227,1),0)+N227,\"\")","v":""},{"$f":"IFERROR(OFFSET(CalculationsAndCharts!$B$32,'Transaction Summary'!N228,0,1,1),\"\")","v":""},{"$f":"IFERROR(OFFSET(CalculationsAndCharts!$AS$32,'Transaction Summary'!N228,0,1,1),\"\")","v":""},"",""]
[null,{"$f":"IFERROR(MATCH(TRUE,OFFSET(CalculationsAndCharts!$AE$33,B228,0,'Transaction Summary'!$C$2-B228,1),0)+B228,\"\")","v":""},{"$f":"IFERROR(OFFSET(CalculationsAndCharts!$B$32,'Transaction Summary'!B229,0,1,1),\"\")","v":""},{"$f":"IFERROR(OFFSET(CalculationsAndCharts!$AI$32,'Transaction Summary'!B229,0,1,1),\"\")","v":""},{"$f":"IFERROR(MATCH(TRUE,OFFSET(CalculationsAndCharts!$AH$33,E228,0,'Transaction Summary'!$C$2-E228,1),0)+E228,\"\")","v":""},{"$f":"IFERROR(OFFSET(CalculationsAndCharts!$B$32,'Transaction Summary'!E229,0,1,1),\"\")","v":""},{"$f":"IFERROR(OFFSET(CalculationsAndCharts!$AJ$32,'Transaction Summary'!E229,0,1,1),\"\")","v":""},"","",null,{"$f":"IFERROR(MATCH(TRUE,OFFSET(CalculationsAndCharts!$AN$33,K228,0,'Transaction Summary'!$C$2-K228,1),0)+K228,\"\")","v":""},{"$f":"IFERROR(OFFSET(CalculationsAndCharts!$B$32,'Transaction Summary'!K229,0,1,1),\"\")","v":""},{"$f":"IFERROR(OFFSET(CalculationsAndCharts!$AR$32,'Transaction Summary'!K229,0,1,1),\"\")","v":""},{"$f":"IFERROR(MATCH(TRUE,OFFSET(CalculationsAndCharts!$AQ$33,N228,0,'Transaction Summary'!$C$2-N228,1),0)+N228,\"\")","v":""},{"$f":"IFERROR(OFFSET(CalculationsAndCharts!$B$32,'Transaction Summary'!N229,0,1,1),\"\")","v":""},{"$f":"IFERROR(OFFSET(CalculationsAndCharts!$AS$32,'Transaction Summary'!N229,0,1,1),\"\")","v":""},"",""]
[null,{"$f":"IFERROR(MATCH(TRUE,OFFSET(CalculationsAndCharts!$AE$33,B229,0,'Transaction Summary'!$C$2-B229,1),0)+B229,\"\")","v":""},{"$f":"IFERROR(OFFSET(CalculationsAndCharts!$B$32,'Transaction Summary'!B230,0,1,1),\"\")","v":""},{"$f":"IFERROR(OFFSET(CalculationsAndCharts!$AI$32,'Transaction Summary'!B230,0,1,1),\"\")","v":""},{"$f":"IFERROR(MATCH(TRUE,OFFSET(CalculationsAndCharts!$AH$33,E229,0,'Transaction Summary'!$C$2-E229,1),0)+E229,\"\")","v":""},{"$f":"IFERROR(OFFSET(CalculationsAndCharts!$B$32,'Transaction Summary'!E230,0,1,1),\"\")","v":""},{"$f":"IFERROR(OFFSET(CalculationsAndCharts!$AJ$32,'Transaction Summary'!E230,0,1,1),\"\")","v":""},"","",null,{"$f":"IFERROR(MATCH(TRUE,OFFSET(CalculationsAndCharts!$AN$33,K229,0,'Transaction Summary'!$C$2-K229,1),0)+K229,\"\")","v":""},{"$f":"IFERROR(OFFSET(CalculationsAndCharts!$B$32,'Transaction Summary'!K230,0,1,1),\"\")","v":""},{"$f":"IFERROR(OFFSET(CalculationsAndCharts!$AR$32,'Transaction Summary'!K230,0,1,1),\"\")","v":""},{"$f":"IFERROR(MATCH(TRUE,OFFSET(CalculationsAndCharts!$AQ$33,N229,0,'Transaction Summary'!$C$2-N229,1),0)+N229,\"\")","v":""},{"$f":"IFERROR(OFFSET(CalculationsAndCharts!$B$32,'Transaction Summary'!N230,0,1,1),\"\")","v":""},{"$f":"IFERROR(OFFSET(CalculationsAndCharts!$AS$32,'Transaction Summary'!N230,0,1,1),\"\")","v":""},"",""]
[null,{"$f":"IFERROR(MATCH(TRUE,OFFSET(CalculationsAndCharts!$AE$33,B230,0,'Transaction Summary'!$C$2-B230,1),0)+B230,\"\")","v":""},{"$f":"IFERROR(OFFSET(CalculationsAndCharts!$B$32,'Transaction Summary'!B231,0,1,1),\"\")","v":""},{"$f":"IFERROR(OFFSET(CalculationsAndCharts!$AI$32,'Transaction Summary'!B231,0,1,1),\"\")","v":""},{"$f":"IFERROR(MATCH(TRUE,OFFSET(CalculationsAndCharts!$AH$33,E230,0,'Transaction Summary'!$C$2-E230,1),0)+E230,\"\")","v":""},{"$f":"IFERROR(OFFSET(CalculationsAndCharts!$B$32,'Transaction Summary'!E231,0,1,1),\"\")","v":""},{"$f":"IFERROR(OFFSET(CalculationsAndCharts!$AJ$32,'Transaction Summary'!E231,0,1,1),\"\")","v":""},"","",null,{"$f":"IFERROR(MATCH(TRUE,OFFSET(CalculationsAndCharts!$AN$33,K230,0,'Transaction Summary'!$C$2-K230,1),0)+K230,\"\")","v":""},{"$f":"IFERROR(OFFSET(CalculationsAndCharts!$B$32,'Transaction Summary'!K231,0,1,1),\"\")","v":""},{"$f":"IFERROR(OFFSET(CalculationsAndCharts!$AR$32,'Transaction Summary'!K231,0,1,1),\"\")","v":""},{"$f":"IFERROR(MATCH(TRUE,OFFSET(CalculationsAndCharts!$AQ$33,N230,0,'Transaction Summary'!$C$2-N230,1),0)+N230,\"\")","v":""},{"$f":"IFERROR(OFFSET(CalculationsAndCharts!$B$32,'Transaction Summary'!N231,0,1,1),\"\")","v":""},{"$f":"IFERROR(OFFSET(CalculationsAndCharts!$AS$32,'Transaction Summary'!N231,0,1,1),\"\")","v":""},"",""]
[null,{"$f":"IFERROR(MATCH(TRUE,OFFSET(CalculationsAndCharts!$AE$33,B231,0,'Transaction Summary'!$C$2-B231,1),0)+B231,\"\")","v":""},{"$f":"IFERROR(OFFSET(CalculationsAndCharts!$B$32,'Transaction Summary'!B232,0,1,1),\"\")","v":""},{"$f":"IFERROR(OFFSET(CalculationsAndCharts!$AI$32,'Transaction Summary'!B232,0,1,1),\"\")","v":""},{"$f":"IFERROR(MATCH(TRUE,OFFSET(CalculationsAndCharts!$AH$33,E231,0,'Transaction Summary'!$C$2-E231,1),0)+E231,\"\")","v":""},{"$f":"IFERROR(OFFSET(CalculationsAndCharts!$B$32,'Transaction Summary'!E232,0,1,1),\"\")","v":""},{"$f":"IFERROR(OFFSET(CalculationsAndCharts!$AJ$32,'Transaction Summary'!E232,0,1,1),\"\")","v":""},"","",null,{"$f":"IFERROR(MATCH(TRUE,OFFSET(CalculationsAndCharts!$AN$33,K231,0,'Transaction Summary'!$C$2-K231,1),0)+K231,\"\")","v":""},{"$f":"IFERROR(OFFSET(CalculationsAndCharts!$B$32,'Transaction Summary'!K232,0,1,1),\"\")","v":""},{"$f":"IFERROR(OFFSET(CalculationsAndCharts!$AR$32,'Transaction Summary'!K232,0,1,1),\"\")","v":""},{"$f":"IFERROR(MATCH(TRUE,OFFSET(CalculationsAndCharts!$AQ$33,N231,0,'Transaction Summary'!$C$2-N231,1),0)+N231,\"\")","v":""},{"$f":"IFERROR(OFFSET(CalculationsAndCharts!$B$32,'Transaction Summary'!N232,0,1,1),\"\")","v":""},{"$f":"IFERROR(OFFSET(CalculationsAndCharts!$AS$32,'Transaction Summary'!N232,0,1,1),\"\")","v":""},"",""]
[null,{"$f":"IFERROR(MATCH(TRUE,OFFSET(CalculationsAndCharts!$AE$33,B232,0,'Transaction Summary'!$C$2-B232,1),0)+B232,\"\")","v":""},{"$f":"IFERROR(OFFSET(CalculationsAndCharts!$B$32,'Transaction Summary'!B233,0,1,1),\"\")","v":""},{"$f":"IFERROR(OFFSET(CalculationsAndCharts!$AI$32,'Transaction Summary'!B233,0,1,1),\"\")","v":""},{"$f":"IFERROR(MATCH(TRUE,OFFSET(CalculationsAndCharts!$AH$33,E232,0,'Transaction Summary'!$C$2-E232,1),0)+E232,\"\")","v":""},{"$f":"IFERROR(OFFSET(CalculationsAndCharts!$B$32,'Transaction Summary'!E233,0,1,1),\"\")","v":""},{"$f":"IFERROR(OFFSET(CalculationsAndCharts!$AJ$32,'Transaction Summary'!E233,0,1,1),\"\")","v":""},"","",null,{"$f":"IFERROR(MATCH(TRUE,OFFSET(CalculationsAndCharts!$AN$33,K232,0,'Transaction Summary'!$C$2-K232,1),0)+K232,\"\")","v":""},{"$f":"IFERROR(OFFSET(CalculationsAndCharts!$B$32,'Transaction Summary'!K233,0,1,1),\"\")","v":""},{"$f":"IFERROR(OFFSET(CalculationsAndCharts!$AR$32,'Transaction Summary'!K233,0,1,1),\"\")","v":""},{"$f":"IFERROR(MATCH(TRUE,OFFSET(CalculationsAndCharts!$AQ$33,N232,0,'Transaction Summary'!$C$2-N232,1),0)+N232,\"\")","v":""},{"$f":"IFERROR(OFFSET(CalculationsAndCharts!$B$32,'Transaction Summary'!N233,0,1,1),\"\")","v":""},{"$f":"IFERROR(OFFSET(CalculationsAndCharts!$AS$32,'Transaction Summary'!N233,0,1,1),\"\")","v":""},"",""]
[null,{"$f":"IFERROR(MATCH(TRUE,OFFSET(CalculationsAndCharts!$AE$33,B233,0,'Transaction Summary'!$C$2-B233,1),0)+B233,\"\")","v":""},{"$f":"IFERROR(OFFSET(CalculationsAndCharts!$B$32,'Transaction Summary'!B234,0,1,1),\"\")","v":""},{"$f":"IFERROR(OFFSET(CalculationsAndCharts!$AI$32,'Transaction Summary'!B234,0,1,1),\"\")","v":""},{"$f":"IFERROR(MATCH(TRUE,OFFSET(CalculationsAndCharts!$AH$33,E233,0,'Transaction Summary'!$C$2-E233,1),0)+E233,\"\")","v":""},{"$f":"IFERROR(OFFSET(CalculationsAndCharts!$B$32,'Transaction Summary'!E234,0,1,1),\"\")","v":""},{"$f":"IFERROR(OFFSET(CalculationsAndCharts!$AJ$32,'Transaction Summary'!E234,0,1,1),\"\")","v":""},"","",null,{"$f":"IFERROR(MATCH(TRUE,OFFSET(CalculationsAndCharts!$AN$33,K233,0,'Transaction Summary'!$C$2-K233,1),0)+K233,\"\")","v":""},{"$f":"IFERROR(OFFSET(CalculationsAndCharts!$B$32,'Transaction Summary'!K234,0,1,1),\"\")","v":""},{"$f":"IFERROR(OFFSET(CalculationsAndCharts!$AR$32,'Transaction Summary'!K234,0,1,1),\"\")","v":""},{"$f":"IFERROR(MATCH(TRUE,OFFSET(CalculationsAndCharts!$AQ$33,N233,0,'Transaction Summary'!$C$2-N233,1),0)+N233,\"\")","v":""},{"$f":"IFERROR(OFFSET(CalculationsAndCharts!$B$32,'Transaction Summary'!N234,0,1,1),\"\")","v":""},{"$f":"IFERROR(OFFSET(CalculationsAndCharts!$AS$32,'Transaction Summary'!N234,0,1,1),\"\")","v":""},"",""]
[null,{"$f":"IFERROR(MATCH(TRUE,OFFSET(CalculationsAndCharts!$AE$33,B234,0,'Transaction Summary'!$C$2-B234,1),0)+B234,\"\")","v":""},{"$f":"IFERROR(OFFSET(CalculationsAndCharts!$B$32,'Transaction Summary'!B235,0,1,1),\"\")","v":""},{"$f":"IFERROR(OFFSET(CalculationsAndCharts!$AI$32,'Transaction Summary'!B235,0,1,1),\"\")","v":""},{"$f":"IFERROR(MATCH(TRUE,OFFSET(CalculationsAndCharts!$AH$33,E234,0,'Transaction Summary'!$C$2-E234,1),0)+E234,\"\")","v":""},{"$f":"IFERROR(OFFSET(CalculationsAndCharts!$B$32,'Transaction Summary'!E235,0,1,1),\"\")","v":""},{"$f":"IFERROR(OFFSET(CalculationsAndCharts!$AJ$32,'Transaction Summary'!E235,0,1,1),\"\")","v":""},"","",null,{"$f":"IFERROR(MATCH(TRUE,OFFSET(CalculationsAndCharts!$AN$33,K234,0,'Transaction Summary'!$C$2-K234,1),0)+K234,\"\")","v":""},{"$f":"IFERROR(OFFSET(CalculationsAndCharts!$B$32,'Transaction Summary'!K235,0,1,1),\"\")","v":""},{"$f":"IFERROR(OFFSET(CalculationsAndCharts!$AR$32,'Transaction Summary'!K235,0,1,1),\"\")","v":""},{"$f":"IFERROR(MATCH(TRUE,OFFSET(CalculationsAndCharts!$AQ$33,N234,0,'Transaction Summary'!$C$2-N234,1),0)+N234,\"\")","v":""},{"$f":"IFERROR(OFFSET(CalculationsAndCharts!$B$32,'Transaction Summary'!N235,0,1,1),\"\")","v":""},{"$f":"IFERROR(OFFSET(CalculationsAndCharts!$AS$32,'Transaction Summary'!N235,0,1,1),\"\")","v":""},"",""]
[null,{"$f":"IFERROR(MATCH(TRUE,OFFSET(CalculationsAndCharts!$AE$33,B235,0,'Transaction Summary'!$C$2-B235,1),0)+B235,\"\")","v":""},{"$f":"IFERROR(OFFSET(CalculationsAndCharts!$B$32,'Transaction Summary'!B236,0,1,1),\"\")","v":""},{"$f":"IFERROR(OFFSET(CalculationsAndCharts!$AI$32,'Transaction Summary'!B236,0,1,1),\"\")","v":""},{"$f":"IFERROR(MATCH(TRUE,OFFSET(CalculationsAndCharts!$AH$33,E235,0,'Transaction Summary'!$C$2-E235,1),0)+E235,\"\")","v":""},{"$f":"IFERROR(OFFSET(CalculationsAndCharts!$B$32,'Transaction Summary'!E236,0,1,1),\"\")","v":""},{"$f":"IFERROR(OFFSET(CalculationsAndCharts!$AJ$32,'Transaction Summary'!E236,0,1,1),\"\")","v":""},"","",null,{"$f":"IFERROR(MATCH(TRUE,OFFSET(CalculationsAndCharts!$AN$33,K235,0,'Transaction Summary'!$C$2-K235,1),0)+K235,\"\")","v":""},{"$f":"IFERROR(OFFSET(CalculationsAndCharts!$B$32,'Transaction Summary'!K236,0,1,1),\"\")","v":""},{"$f":"IFERROR(OFFSET(CalculationsAndCharts!$AR$32,'Transaction Summary'!K236,0,1,1),\"\")","v":""},{"$f":"IFERROR(MATCH(TRUE,OFFSET(CalculationsAndCharts!$AQ$33,N235,0,'Transaction Summary'!$C$2-N235,1),0)+N235,\"\")","v":""},{"$f":"IFERROR(OFFSET(CalculationsAndCharts!$B$32,'Transaction Summary'!N236,0,1,1),\"\")","v":""},{"$f":"IFERROR(OFFSET(CalculationsAndCharts!$AS$32,'Transaction Summary'!N236,0,1,1),\"\")","v":""},"",""]
[null,{"$f":"IFERROR(MATCH(TRUE,OFFSET(CalculationsAndCharts!$AE$33,B236,0,'Transaction Summary'!$C$2-B236,1),0)+B236,\"\")","v":""},{"$f":"IFERROR(OFFSET(CalculationsAndCharts!$B$32,'Transaction Summary'!B237,0,1,1),\"\")","v":""},{"$f":"IFERROR(OFFSET(CalculationsAndCharts!$AI$32,'Transaction Summary'!B237,0,1,1),\"\")","v":""},{"$f":"IFERROR(MATCH(TRUE,OFFSET(CalculationsAndCharts!$AH$33,E236,0,'Transaction Summary'!$C$2-E236,1),0)+E236,\"\")","v":""},{"$f":"IFERROR(OFFSET(CalculationsAndCharts!$B$32,'Transaction Summary'!E237,0,1,1),\"\")","v":""},{"$f":"IFERROR(OFFSET(CalculationsAndCharts!$AJ$32,'Transaction Summary'!E237,0,1,1),\"\")","v":""},"","",null,{"$f":"IFERROR(MATCH(TRUE,OFFSET(CalculationsAndCharts!$AN$33,K236,0,'Transaction Summary'!$C$2-K236,1),0)+K236,\"\")","v":""},{"$f":"IFERROR(OFFSET(CalculationsAndCharts!$B$32,'Transaction Summary'!K237,0,1,1),\"\")","v":""},{"$f":"IFERROR(OFFSET(CalculationsAndCharts!$AR$32,'Transaction Summary'!K237,0,1,1),\"\")","v":""},{"$f":"IFERROR(MATCH(TRUE,OFFSET(CalculationsAndCharts!$AQ$33,N236,0,'Transaction Summary'!$C$2-N236,1),0)+N236,\"\")","v":""},{"$f":"IFERROR(OFFSET(CalculationsAndCharts!$B$32,'Transaction Summary'!N237,0,1,1),\"\")","v":""},{"$f":"IFERROR(OFFSET(CalculationsAndCharts!$AS$32,'Transaction Summary'!N237,0,1,1),\"\")","v":""},"",""]
[null,{"$f":"IFERROR(MATCH(TRUE,OFFSET(CalculationsAndCharts!$AE$33,B237,0,'Transaction Summary'!$C$2-B237,1),0)+B237,\"\")","v":""},{"$f":"IFERROR(OFFSET(CalculationsAndCharts!$B$32,'Transaction Summary'!B238,0,1,1),\"\")","v":""},{"$f":"IFERROR(OFFSET(CalculationsAndCharts!$AI$32,'Transaction Summary'!B238,0,1,1),\"\")","v":""},{"$f":"IFERROR(MATCH(TRUE,OFFSET(CalculationsAndCharts!$AH$33,E237,0,'Transaction Summary'!$C$2-E237,1),0)+E237,\"\")","v":""},{"$f":"IFERROR(OFFSET(CalculationsAndCharts!$B$32,'Transaction Summary'!E238,0,1,1),\"\")","v":""},{"$f":"IFERROR(OFFSET(CalculationsAndCharts!$AJ$32,'Transaction Summary'!E238,0,1,1),\"\")","v":""},"","",null,{"$f":"IFERROR(MATCH(TRUE,OFFSET(CalculationsAndCharts!$AN$33,K237,0,'Transaction Summary'!$C$2-K237,1),0)+K237,\"\")","v":""},{"$f":"IFERROR(OFFSET(CalculationsAndCharts!$B$32,'Transaction Summary'!K238,0,1,1),\"\")","v":""},{"$f":"IFERROR(OFFSET(CalculationsAndCharts!$AR$32,'Transaction Summary'!K238,0,1,1),\"\")","v":""},{"$f":"IFERROR(MATCH(TRUE,OFFSET(CalculationsAndCharts!$AQ$33,N237,0,'Transaction Summary'!$C$2-N237,1),0)+N237,\"\")","v":""},{"$f":"IFERROR(OFFSET(CalculationsAndCharts!$B$32,'Transaction Summary'!N238,0,1,1),\"\")","v":""},{"$f":"IFERROR(OFFSET(CalculationsAndCharts!$AS$32,'Transaction Summary'!N238,0,1,1),\"\")","v":""},"",""]
[null,{"$f":"IFERROR(MATCH(TRUE,OFFSET(CalculationsAndCharts!$AE$33,B238,0,'Transaction Summary'!$C$2-B238,1),0)+B238,\"\")","v":""},{"$f":"IFERROR(OFFSET(CalculationsAndCharts!$B$32,'Transaction Summary'!B239,0,1,1),\"\")","v":""},{"$f":"IFERROR(OFFSET(CalculationsAndCharts!$AI$32,'Transaction Summary'!B239,0,1,1),\"\")","v":""},{"$f":"IFERROR(MATCH(TRUE,OFFSET(CalculationsAndCharts!$AH$33,E238,0,'Transaction Summary'!$C$2-E238,1),0)+E238,\"\")","v":""},{"$f":"IFERROR(OFFSET(CalculationsAndCharts!$B$32,'Transaction Summary'!E239,0,1,1),\"\")","v":""},{"$f":"IFERROR(OFFSET(CalculationsAndCharts!$AJ$32,'Transaction Summary'!E239,0,1,1),\"\")","v":""},"","",null,{"$f":"IFERROR(MATCH(TRUE,OFFSET(CalculationsAndCharts!$AN$33,K238,0,'Transaction Summary'!$C$2-K238,1),0)+K238,\"\")","v":""},{"$f":"IFERROR(OFFSET(CalculationsAndCharts!$B$32,'Transaction Summary'!K239,0,1,1),\"\")","v":""},{"$f":"IFERROR(OFFSET(CalculationsAndCharts!$AR$32,'Transaction Summary'!K239,0,1,1),\"\")","v":""},{"$f":"IFERROR(MATCH(TRUE,OFFSET(CalculationsAndCharts!$AQ$33,N238,0,'Transaction Summary'!$C$2-N238,1),0)+N238,\"\")","v":""},{"$f":"IFERROR(OFFSET(CalculationsAndCharts!$B$32,'Transaction Summary'!N239,0,1,1),\"\")","v":""},{"$f":"IFERROR(OFFSET(CalculationsAndCharts!$AS$32,'Transaction Summary'!N239,0,1,1),\"\")","v":""},"",""]
[null,{"$f":"IFERROR(MATCH(TRUE,OFFSET(CalculationsAndCharts!$AE$33,B239,0,'Transaction Summary'!$C$2-B239,1),0)+B239,\"\")","v":""},{"$f":"IFERROR(OFFSET(CalculationsAndCharts!$B$32,'Transaction Summary'!B240,0,1,1),\"\")","v":""},{"$f":"IFERROR(OFFSET(CalculationsAndCharts!$AI$32,'Transaction Summary'!B240,0,1,1),\"\")","v":""},{"$f":"IFERROR(MATCH(TRUE,OFFSET(CalculationsAndCharts!$AH$33,E239,0,'Transaction Summary'!$C$2-E239,1),0)+E239,\"\")","v":""},{"$f":"IFERROR(OFFSET(CalculationsAndCharts!$B$32,'Transaction Summary'!E240,0,1,1),\"\")","v":""},{"$f":"IFERROR(OFFSET(CalculationsAndCharts!$AJ$32,'Transaction Summary'!E240,0,1,1),\"\")","v":""},"","",null,{"$f":"IFERROR(MATCH(TRUE,OFFSET(CalculationsAndCharts!$AN$33,K239,0,'Transaction Summary'!$C$2-K239,1),0)+K239,\"\")","v":""},{"$f":"IFERROR(OFFSET(CalculationsAndCharts!$B$32,'Transaction Summary'!K240,0,1,1),\"\")","v":""},{"$f":"IFERROR(OFFSET(CalculationsAndCharts!$AR$32,'Transaction Summary'!K240,0,1,1),\"\")","v":""},{"$f":"IFERROR(MATCH(TRUE,OFFSET(CalculationsAndCharts!$AQ$33,N239,0,'Transaction Summary'!$C$2-N239,1),0)+N239,\"\")","v":""},{"$f":"IFERROR(OFFSET(CalculationsAndCharts!$B$32,'Transaction Summary'!N240,0,1,1),\"\")","v":""},{"$f":"IFERROR(OFFSET(CalculationsAndCharts!$AS$32,'Transaction Summary'!N240,0,1,1),\"\")","v":""},"",""]
[null,{"$f":"IFERROR(MATCH(TRUE,OFFSET(CalculationsAndCharts!$AE$33,B240,0,'Transaction Summary'!$C$2-B240,1),0)+B240,\"\")","v":""},{"$f":"IFERROR(OFFSET(CalculationsAndCharts!$B$32,'Transaction Summary'!B241,0,1,1),\"\")","v":""},{"$f":"IFERROR(OFFSET(CalculationsAndCharts!$AI$32,'Transaction Summary'!B241,0,1,1),\"\")","v":""},{"$f":"IFERROR(MATCH(TRUE,OFFSET(CalculationsAndCharts!$AH$33,E240,0,'Transaction Summary'!$C$2-E240,1),0)+E240,\"\")","v":""},{"$f":"IFERROR(OFFSET(CalculationsAndCharts!$B$32,'Transaction Summary'!E241,0,1,1),\"\")","v":""},{"$f":"IFERROR(OFFSET(CalculationsAndCharts!$AJ$32,'Transaction Summary'!E241,0,1,1),\"\")","v":""},"","",null,{"$f":"IFERROR(MATCH(TRUE,OFFSET(CalculationsAndCharts!$AN$33,K240,0,'Transaction Summary'!$C$2-K240,1),0)+K240,\"\")","v":""},{"$f":"IFERROR(OFFSET(CalculationsAndCharts!$B$32,'Transaction Summary'!K241,0,1,1),\"\")","v":""},{"$f":"IFERROR(OFFSET(CalculationsAndCharts!$AR$32,'Transaction Summary'!K241,0,1,1),\"\")","v":""},{"$f":"IFERROR(MATCH(TRUE,OFFSET(CalculationsAndCharts!$AQ$33,N240,0,'Transaction Summary'!$C$2-N240,1),0)+N240,\"\")","v":""},{"$f":"IFERROR(OFFSET(CalculationsAndCharts!$B$32,'Transaction Summary'!N241,0,1,1),\"\")","v":""},{"$f":"IFERROR(OFFSET(CalculationsAndCharts!$AS$32,'Transaction Summary'!N241,0,1,1),\"\")","v":""},"",""]
[null,{"$f":"IFERROR(MATCH(TRUE,OFFSET(CalculationsAndCharts!$AE$33,B241,0,'Transaction Summary'!$C$2-B241,1),0)+B241,\"\")","v":""},{"$f":"IFERROR(OFFSET(CalculationsAndCharts!$B$32,'Transaction Summary'!B242,0,1,1),\"\")","v":""},{"$f":"IFERROR(OFFSET(CalculationsAndCharts!$AI$32,'Transaction Summary'!B242,0,1,1),\"\")","v":""},{"$f":"IFERROR(MATCH(TRUE,OFFSET(CalculationsAndCharts!$AH$33,E241,0,'Transaction Summary'!$C$2-E241,1),0)+E241,\"\")","v":""},{"$f":"IFERROR(OFFSET(CalculationsAndCharts!$B$32,'Transaction Summary'!E242,0,1,1),\"\")","v":""},{"$f":"IFERROR(OFFSET(CalculationsAndCharts!$AJ$32,'Transaction Summary'!E242,0,1,1),\"\")","v":""},"","",null,{"$f":"IFERROR(MATCH(TRUE,OFFSET(CalculationsAndCharts!$AN$33,K241,0,'Transaction Summary'!$C$2-K241,1),0)+K241,\"\")","v":""},{"$f":"IFERROR(OFFSET(CalculationsAndCharts!$B$32,'Transaction Summary'!K242,0,1,1),\"\")","v":""},{"$f":"IFERROR(OFFSET(CalculationsAndCharts!$AR$32,'Transaction Summary'!K242,0,1,1),\"\")","v":""},{"$f":"IFERROR(MATCH(TRUE,OFFSET(CalculationsAndCharts!$AQ$33,N241,0,'Transaction Summary'!$C$2-N241,1),0)+N241,\"\")","v":""},{"$f":"IFERROR(OFFSET(CalculationsAndCharts!$B$32,'Transaction Summary'!N242,0,1,1),\"\")","v":""},{"$f":"IFERROR(OFFSET(CalculationsAndCharts!$AS$32,'Transaction Summary'!N242,0,1,1),\"\")","v":""},"",""]
[null,{"$f":"IFERROR(MATCH(TRUE,OFFSET(CalculationsAndCharts!$AE$33,B242,0,'Transaction Summary'!$C$2-B242,1),0)+B242,\"\")","v":""},{"$f":"IFERROR(OFFSET(CalculationsAndCharts!$B$32,'Transaction Summary'!B243,0,1,1),\"\")","v":""},{"$f":"IFERROR(OFFSET(CalculationsAndCharts!$AI$32,'Transaction Summary'!B243,0,1,1),\"\")","v":""},{"$f":"IFERROR(MATCH(TRUE,OFFSET(CalculationsAndCharts!$AH$33,E242,0,'Transaction Summary'!$C$2-E242,1),0)+E242,\"\")","v":""},{"$f":"IFERROR(OFFSET(CalculationsAndCharts!$B$32,'Transaction Summary'!E243,0,1,1),\"\")","v":""},{"$f":"IFERROR(OFFSET(CalculationsAndCharts!$AJ$32,'Transaction Summary'!E243,0,1,1),\"\")","v":""},"","",null,{"$f":"IFERROR(MATCH(TRUE,OFFSET(CalculationsAndCharts!$AN$33,K242,0,'Transaction Summary'!$C$2-K242,1),0)+K242,\"\")","v":""},{"$f":"IFERROR(OFFSET(CalculationsAndCharts!$B$32,'Transaction Summary'!K243,0,1,1),\"\")","v":""},{"$f":"IFERROR(OFFSET(CalculationsAndCharts!$AR$32,'Transaction Summary'!K243,0,1,1),\"\")","v":""},{"$f":"IFERROR(MATCH(TRUE,OFFSET(CalculationsAndCharts!$AQ$33,N242,0,'Transaction Summary'!$C$2-N242,1),0)+N242,\"\")","v":""},{"$f":"IFERROR(OFFSET(CalculationsAndCharts!$B$32,'Transaction Summary'!N243,0,1,1),\"\")","v":""},{"$f":"IFERROR(OFFSET(CalculationsAndCharts!$AS$32,'Transaction Summary'!N243,0,1,1),\"\")","v":""},"",""]
[null,{"$f":"IFERROR(MATCH(TRUE,OFFSET(CalculationsAndCharts!$AE$33,B243,0,'Transaction Summary'!$C$2-B243,1),0)+B243,\"\")","v":""},{"$f":"IFERROR(OFFSET(CalculationsAndCharts!$B$32,'Transaction Summary'!B244,0,1,1),\"\")","v":""},{"$f":"IFERROR(OFFSET(CalculationsAndCharts!$AI$32,'Transaction Summary'!B244,0,1,1),\"\")","v":""},{"$f":"IFERROR(MATCH(TRUE,OFFSET(CalculationsAndCharts!$AH$33,E243,0,'Transaction Summary'!$C$2-E243,1),0)+E243,\"\")","v":""},{"$f":"IFERROR(OFFSET(CalculationsAndCharts!$B$32,'Transaction Summary'!E244,0,1,1),\"\")","v":""},{"$f":"IFERROR(OFFSET(CalculationsAndCharts!$AJ$32,'Transaction Summary'!E244,0,1,1),\"\")","v":""},"","",null,{"$f":"IFERROR(MATCH(TRUE,OFFSET(CalculationsAndCharts!$AN$33,K243,0,'Transaction Summary'!$C$2-K243,1),0)+K243,\"\")","v":""},{"$f":"IFERROR(OFFSET(CalculationsAndCharts!$B$32,'Transaction Summary'!K244,0,1,1),\"\")","v":""},{"$f":"IFERROR(OFFSET(CalculationsAndCharts!$AR$32,'Transaction Summary'!K244,0,1,1),\"\")","v":""},{"$f":"IFERROR(MATCH(TRUE,OFFSET(CalculationsAndCharts!$AQ$33,N243,0,'Transaction Summary'!$C$2-N243,1),0)+N243,\"\")","v":""},{"$f":"IFERROR(OFFSET(CalculationsAndCharts!$B$32,'Transaction Summary'!N244,0,1,1),\"\")","v":""},{"$f":"IFERROR(OFFSET(CalculationsAndCharts!$AS$32,'Transaction Summary'!N244,0,1,1),\"\")","v":""},"",""]
[null,{"$f":"IFERROR(MATCH(TRUE,OFFSET(CalculationsAndCharts!$AE$33,B244,0,'Transaction Summary'!$C$2-B244,1),0)+B244,\"\")","v":""},{"$f":"IFERROR(OFFSET(CalculationsAndCharts!$B$32,'Transaction Summary'!B245,0,1,1),\"\")","v":""},{"$f":"IFERROR(OFFSET(CalculationsAndCharts!$AI$32,'Transaction Summary'!B245,0,1,1),\"\")","v":""},{"$f":"IFERROR(MATCH(TRUE,OFFSET(CalculationsAndCharts!$AH$33,E244,0,'Transaction Summary'!$C$2-E244,1),0)+E244,\"\")","v":""},{"$f":"IFERROR(OFFSET(CalculationsAndCharts!$B$32,'Transaction Summary'!E245,0,1,1),\"\")","v":""},{"$f":"IFERROR(OFFSET(CalculationsAndCharts!$AJ$32,'Transaction Summary'!E245,0,1,1),\"\")","v":""},"","",null,{"$f":"IFERROR(MATCH(TRUE,OFFSET(CalculationsAndCharts!$AN$33,K244,0,'Transaction Summary'!$C$2-K244,1),0)+K244,\"\")","v":""},{"$f":"IFERROR(OFFSET(CalculationsAndCharts!$B$32,'Transaction Summary'!K245,0,1,1),\"\")","v":""},{"$f":"IFERROR(OFFSET(CalculationsAndCharts!$AR$32,'Transaction Summary'!K245,0,1,1),\"\")","v":""},{"$f":"IFERROR(MATCH(TRUE,OFFSET(CalculationsAndCharts!$AQ$33,N244,0,'Transaction Summary'!$C$2-N244,1),0)+N244,\"\")","v":""},{"$f":"IFERROR(OFFSET(CalculationsAndCharts!$B$32,'Transaction Summary'!N245,0,1,1),\"\")","v":""},{"$f":"IFERROR(OFFSET(CalculationsAndCharts!$AS$32,'Transaction Summary'!N245,0,1,1),\"\")","v":""},"",""]
[null,{"$f":"IFERROR(MATCH(TRUE,OFFSET(CalculationsAndCharts!$AE$33,B245,0,'Transaction Summary'!$C$2-B245,1),0)+B245,\"\")","v":""},{"$f":"IFERROR(OFFSET(CalculationsAndCharts!$B$32,'Transaction Summary'!B246,0,1,1),\"\")","v":""},{"$f":"IFERROR(OFFSET(CalculationsAndCharts!$AI$32,'Transaction Summary'!B246,0,1,1),\"\")","v":""},{"$f":"IFERROR(MATCH(TRUE,OFFSET(CalculationsAndCharts!$AH$33,E245,0,'Transaction Summary'!$C$2-E245,1),0)+E245,\"\")","v":""},{"$f":"IFERROR(OFFSET(CalculationsAndCharts!$B$32,'Transaction Summary'!E246,0,1,1),\"\")","v":""},{"$f":"IFERROR(OFFSET(CalculationsAndCharts!$AJ$32,'Transaction Summary'!E246,0,1,1),\"\")","v":""},"","",null,{"$f":"IFERROR(MATCH(TRUE,OFFSET(CalculationsAndCharts!$AN$33,K245,0,'Transaction Summary'!$C$2-K245,1),0)+K245,\"\")","v":""},{"$f":"IFERROR(OFFSET(CalculationsAndCharts!$B$32,'Transaction Summary'!K246,0,1,1),\"\")","v":""},{"$f":"IFERROR(OFFSET(CalculationsAndCharts!$AR$32,'Transaction Summary'!K246,0,1,1),\"\")","v":""},{"$f":"IFERROR(MATCH(TRUE,OFFSET(CalculationsAndCharts!$AQ$33,N245,0,'Transaction Summary'!$C$2-N245,1),0)+N245,\"\")","v":""},{"$f":"IFERROR(OFFSET(CalculationsAndCharts!$B$32,'Transaction Summary'!N246,0,1,1),\"\")","v":""},{"$f":"IFERROR(OFFSET(CalculationsAndCharts!$AS$32,'Transaction Summary'!N246,0,1,1),\"\")","v":""},"",""]
[null,{"$f":"IFERROR(MATCH(TRUE,OFFSET(CalculationsAndCharts!$AE$33,B246,0,'Transaction Summary'!$C$2-B246,1),0)+B246,\"\")","v":""},{"$f":"IFERROR(OFFSET(CalculationsAndCharts!$B$32,'Transaction Summary'!B247,0,1,1),\"\")","v":""},{"$f":"IFERROR(OFFSET(CalculationsAndCharts!$AI$32,'Transaction Summary'!B247,0,1,1),\"\")","v":""},{"$f":"IFERROR(MATCH(TRUE,OFFSET(CalculationsAndCharts!$AH$33,E246,0,'Transaction Summary'!$C$2-E246,1),0)+E246,\"\")","v":""},{"$f":"IFERROR(OFFSET(CalculationsAndCharts!$B$32,'Transaction Summary'!E247,0,1,1),\"\")","v":""},{"$f":"IFERROR(OFFSET(CalculationsAndCharts!$AJ$32,'Transaction Summary'!E247,0,1,1),\"\")","v":""},"","",null,{"$f":"IFERROR(MATCH(TRUE,OFFSET(CalculationsAndCharts!$AN$33,K246,0,'Transaction Summary'!$C$2-K246,1),0)+K246,\"\")","v":""},{"$f":"IFERROR(OFFSET(CalculationsAndCharts!$B$32,'Transaction Summary'!K247,0,1,1),\"\")","v":""},{"$f":"IFERROR(OFFSET(CalculationsAndCharts!$AR$32,'Transaction Summary'!K247,0,1,1),\"\")","v":""},{"$f":"IFERROR(MATCH(TRUE,OFFSET(CalculationsAndCharts!$AQ$33,N246,0,'Transaction Summary'!$C$2-N246,1),0)+N246,\"\")","v":""},{"$f":"IFERROR(OFFSET(CalculationsAndCharts!$B$32,'Transaction Summary'!N247,0,1,1),\"\")","v":""},{"$f":"IFERROR(OFFSET(CalculationsAndCharts!$AS$32,'Transaction Summary'!N247,0,1,1),\"\")","v":""},"",""]
[null,{"$f":"IFERROR(MATCH(TRUE,OFFSET(CalculationsAndCharts!$AE$33,B247,0,'Transaction Summary'!$C$2-B247,1),0)+B247,\"\")","v":""},{"$f":"IFERROR(OFFSET(CalculationsAndCharts!$B$32,'Transaction Summary'!B248,0,1,1),\"\")","v":""},{"$f":"IFERROR(OFFSET(CalculationsAndCharts!$AI$32,'Transaction Summary'!B248,0,1,1),\"\")","v":""},{"$f":"IFERROR(MATCH(TRUE,OFFSET(CalculationsAndCharts!$AH$33,E247,0,'Transaction Summary'!$C$2-E247,1),0)+E247,\"\")","v":""},{"$f":"IFERROR(OFFSET(CalculationsAndCharts!$B$32,'Transaction Summary'!E248,0,1,1),\"\")","v":""},{"$f":"IFERROR(OFFSET(CalculationsAndCharts!$AJ$32,'Transaction Summary'!E248,0,1,1),\"\")","v":""},"","",null,{"$f":"IFERROR(MATCH(TRUE,OFFSET(CalculationsAndCharts!$AN$33,K247,0,'Transaction Summary'!$C$2-K247,1),0)+K247,\"\")","v":""},{"$f":"IFERROR(OFFSET(CalculationsAndCharts!$B$32,'Transaction Summary'!K248,0,1,1),\"\")","v":""},{"$f":"IFERROR(OFFSET(CalculationsAndCharts!$AR$32,'Transaction Summary'!K248,0,1,1),\"\")","v":""},{"$f":"IFERROR(MATCH(TRUE,OFFSET(CalculationsAndCharts!$AQ$33,N247,0,'Transaction Summary'!$C$2-N247,1),0)+N247,\"\")","v":""},{"$f":"IFERROR(OFFSET(CalculationsAndCharts!$B$32,'Transaction Summary'!N248,0,1,1),\"\")","v":""},{"$f":"IFERROR(OFFSET(CalculationsAndCharts!$AS$32,'Transaction Summary'!N248,0,1,1),\"\")","v":""},"",""]
[null,{"$f":"IFERROR(MATCH(TRUE,OFFSET(CalculationsAndCharts!$AE$33,B248,0,'Transaction Summary'!$C$2-B248,1),0)+B248,\"\")","v":""},{"$f":"IFERROR(OFFSET(CalculationsAndCharts!$B$32,'Transaction Summary'!B249,0,1,1),\"\")","v":""},{"$f":"IFERROR(OFFSET(CalculationsAndCharts!$AI$32,'Transaction Summary'!B249,0,1,1),\"\")","v":""},{"$f":"IFERROR(MATCH(TRUE,OFFSET(CalculationsAndCharts!$AH$33,E248,0,'Transaction Summary'!$C$2-E248,1),0)+E248,\"\")","v":""},{"$f":"IFERROR(OFFSET(CalculationsAndCharts!$B$32,'Transaction Summary'!E249,0,1,1),\"\")","v":""},{"$f":"IFERROR(OFFSET(CalculationsAndCharts!$AJ$32,'Transaction Summary'!E249,0,1,1),\"\")","v":""},"","",null,{"$f":"IFERROR(MATCH(TRUE,OFFSET(CalculationsAndCharts!$AN$33,K248,0,'Transaction Summary'!$C$2-K248,1),0)+K248,\"\")","v":""},{"$f":"IFERROR(OFFSET(CalculationsAndCharts!$B$32,'Transaction Summary'!K249,0,1,1),\"\")","v":""},{"$f":"IFERROR(OFFSET(CalculationsAndCharts!$AR$32,'Transaction Summary'!K249,0,1,1),\"\")","v":""},{"$f":"IFERROR(MATCH(TRUE,OFFSET(CalculationsAndCharts!$AQ$33,N248,0,'Transaction Summary'!$C$2-N248,1),0)+N248,\"\")","v":""},{"$f":"IFERROR(OFFSET(CalculationsAndCharts!$B$32,'Transaction Summary'!N249,0,1,1),\"\")","v":""},{"$f":"IFERROR(OFFSET(CalculationsAndCharts!$AS$32,'Transaction Summary'!N249,0,1,1),\"\")","v":""},"",""]
[null,{"$f":"IFERROR(MATCH(TRUE,OFFSET(CalculationsAndCharts!$AE$33,B249,0,'Transaction Summary'!$C$2-B249,1),0)+B249,\"\")","v":""},{"$f":"IFERROR(OFFSET(CalculationsAndCharts!$B$32,'Transaction Summary'!B250,0,1,1),\"\")","v":""},{"$f":"IFERROR(OFFSET(CalculationsAndCharts!$AI$32,'Transaction Summary'!B250,0,1,1),\"\")","v":""},{"$f":"IFERROR(MATCH(TRUE,OFFSET(CalculationsAndCharts!$AH$33,E249,0,'Transaction Summary'!$C$2-E249,1),0)+E249,\"\")","v":""},{"$f":"IFERROR(OFFSET(CalculationsAndCharts!$B$32,'Transaction Summary'!E250,0,1,1),\"\")","v":""},{"$f":"IFERROR(OFFSET(CalculationsAndCharts!$AJ$32,'Transaction Summary'!E250,0,1,1),\"\")","v":""},"","",null,{"$f":"IFERROR(MATCH(TRUE,OFFSET(CalculationsAndCharts!$AN$33,K249,0,'Transaction Summary'!$C$2-K249,1),0)+K249,\"\")","v":""},{"$f":"IFERROR(OFFSET(CalculationsAndCharts!$B$32,'Transaction Summary'!K250,0,1,1),\"\")","v":""},{"$f":"IFERROR(OFFSET(CalculationsAndCharts!$AR$32,'Transaction Summary'!K250,0,1,1),\"\")","v":""},{"$f":"IFERROR(MATCH(TRUE,OFFSET(CalculationsAndCharts!$AQ$33,N249,0,'Transaction Summary'!$C$2-N249,1),0)+N249,\"\")","v":""},{"$f":"IFERROR(OFFSET(CalculationsAndCharts!$B$32,'Transaction Summary'!N250,0,1,1),\"\")","v":""},{"$f":"IFERROR(OFFSET(CalculationsAndCharts!$AS$32,'Transaction Summary'!N250,0,1,1),\"\")","v":""},"",""]
[null,{"$f":"IFERROR(MATCH(TRUE,OFFSET(CalculationsAndCharts!$AE$33,B250,0,'Transaction Summary'!$C$2-B250,1),0)+B250,\"\")","v":""},{"$f":"IFERROR(OFFSET(CalculationsAndCharts!$B$32,'Transaction Summary'!B251,0,1,1),\"\")","v":""},{"$f":"IFERROR(OFFSET(CalculationsAndCharts!$AI$32,'Transaction Summary'!B251,0,1,1),\"\")","v":""},{"$f":"IFERROR(MATCH(TRUE,OFFSET(CalculationsAndCharts!$AH$33,E250,0,'Transaction Summary'!$C$2-E250,1),0)+E250,\"\")","v":""},{"$f":"IFERROR(OFFSET(CalculationsAndCharts!$B$32,'Transaction Summary'!E251,0,1,1),\"\")","v":""},{"$f":"IFERROR(OFFSET(CalculationsAndCharts!$AJ$32,'Transaction Summary'!E251,0,1,1),\"\")","v":""},"","",null,{"$f":"IFERROR(MATCH(TRUE,OFFSET(CalculationsAndCharts!$AN$33,K250,0,'Transaction Summary'!$C$2-K250,1),0)+K250,\"\")","v":""},{"$f":"IFERROR(OFFSET(CalculationsAndCharts!$B$32,'Transaction Summary'!K251,0,1,1),\"\")","v":""},{"$f":"IFERROR(OFFSET(CalculationsAndCharts!$AR$32,'Transaction Summary'!K251,0,1,1),\"\")","v":""},{"$f":"IFERROR(MATCH(TRUE,OFFSET(CalculationsAndCharts!$AQ$33,N250,0,'Transaction Summary'!$C$2-N250,1),0)+N250,\"\")","v":""},{"$f":"IFERROR(OFFSET(CalculationsAndCharts!$B$32,'Transaction Summary'!N251,0,1,1),\"\")","v":""},{"$f":"IFERROR(OFFSET(CalculationsAndCharts!$AS$32,'Transaction Summary'!N251,0,1,1),\"\")","v":""},"",""]
[null,{"$f":"IFERROR(MATCH(TRUE,OFFSET(CalculationsAndCharts!$AE$33,B251,0,'Transaction Summary'!$C$2-B251,1),0)+B251,\"\")","v":""},{"$f":"IFERROR(OFFSET(CalculationsAndCharts!$B$32,'Transaction Summary'!B252,0,1,1),\"\")","v":""},{"$f":"IFERROR(OFFSET(CalculationsAndCharts!$AI$32,'Transaction Summary'!B252,0,1,1),\"\")","v":""},{"$f":"IFERROR(MATCH(TRUE,OFFSET(CalculationsAndCharts!$AH$33,E251,0,'Transaction Summary'!$C$2-E251,1),0)+E251,\"\")","v":""},{"$f":"IFERROR(OFFSET(CalculationsAndCharts!$B$32,'Transaction Summary'!E252,0,1,1),\"\")","v":""},{"$f":"IFERROR(OFFSET(CalculationsAndCharts!$AJ$32,'Transaction Summary'!E252,0,1,1),\"\")","v":""},"","",null,{"$f":"IFERROR(MATCH(TRUE,OFFSET(CalculationsAndCharts!$AN$33,K251,0,'Transaction Summary'!$C$2-K251,1),0)+K251,\"\")","v":""},{"$f":"IFERROR(OFFSET(CalculationsAndCharts!$B$32,'Transaction Summary'!K252,0,1,1),\"\")","v":""},{"$f":"IFERROR(OFFSET(CalculationsAndCharts!$AR$32,'Transaction Summary'!K252,0,1,1),\"\")","v":""},{"$f":"IFERROR(MATCH(TRUE,OFFSET(CalculationsAndCharts!$AQ$33,N251,0,'Transaction Summary'!$C$2-N251,1),0)+N251,\"\")","v":""},{"$f":"IFERROR(OFFSET(CalculationsAndCharts!$B$32,'Transaction Summary'!N252,0,1,1),\"\")","v":""},{"$f":"IFERROR(OFFSET(CalculationsAndCharts!$AS$32,'Transaction Summary'!N252,0,1,1),\"\")","v":""},"",""]
[null,{"$f":"IFERROR(MATCH(TRUE,OFFSET(CalculationsAndCharts!$AE$33,B252,0,'Transaction Summary'!$C$2-B252,1),0)+B252,\"\")","v":""},{"$f":"IFERROR(OFFSET(CalculationsAndCharts!$B$32,'Transaction Summary'!B253,0,1,1),\"\")","v":""},{"$f":"IFERROR(OFFSET(CalculationsAndCharts!$AI$32,'Transaction Summary'!B253,0,1,1),\"\")","v":""},{"$f":"IFERROR(MATCH(TRUE,OFFSET(CalculationsAndCharts!$AH$33,E252,0,'Transaction Summary'!$C$2-E252,1),0)+E252,\"\")","v":""},{"$f":"IFERROR(OFFSET(CalculationsAndCharts!$B$32,'Transaction Summary'!E253,0,1,1),\"\")","v":""},{"$f":"IFERROR(OFFSET(CalculationsAndCharts!$AJ$32,'Transaction Summary'!E253,0,1,1),\"\")","v":""},"","",null,{"$f":"IFERROR(MATCH(TRUE,OFFSET(CalculationsAndCharts!$AN$33,K252,0,'Transaction Summary'!$C$2-K252,1),0)+K252,\"\")","v":""},{"$f":"IFERROR(OFFSET(CalculationsAndCharts!$B$32,'Transaction Summary'!K253,0,1,1),\"\")","v":""},{"$f":"IFERROR(OFFSET(CalculationsAndCharts!$AR$32,'Transaction Summary'!K253,0,1,1),\"\")","v":""},{"$f":"IFERROR(MATCH(TRUE,OFFSET(CalculationsAndCharts!$AQ$33,N252,0,'Transaction Summary'!$C$2-N252,1),0)+N252,\"\")","v":""},{"$f":"IFERROR(OFFSET(CalculationsAndCharts!$B$32,'Transaction Summary'!N253,0,1,1),\"\")","v":""},{"$f":"IFERROR(OFFSET(CalculationsAndCharts!$AS$32,'Transaction Summary'!N253,0,1,1),\"\")","v":""},"",""]
[null,{"$f":"IFERROR(MATCH(TRUE,OFFSET(CalculationsAndCharts!$AE$33,B253,0,'Transaction Summary'!$C$2-B253,1),0)+B253,\"\")","v":""},{"$f":"IFERROR(OFFSET(CalculationsAndCharts!$B$32,'Transaction Summary'!B254,0,1,1),\"\")","v":""},{"$f":"IFERROR(OFFSET(CalculationsAndCharts!$AI$32,'Transaction Summary'!B254,0,1,1),\"\")","v":""},{"$f":"IFERROR(MATCH(TRUE,OFFSET(CalculationsAndCharts!$AH$33,E253,0,'Transaction Summary'!$C$2-E253,1),0)+E253,\"\")","v":""},{"$f":"IFERROR(OFFSET(CalculationsAndCharts!$B$32,'Transaction Summary'!E254,0,1,1),\"\")","v":""},{"$f":"IFERROR(OFFSET(CalculationsAndCharts!$AJ$32,'Transaction Summary'!E254,0,1,1),\"\")","v":""},"","",null,{"$f":"IFERROR(MATCH(TRUE,OFFSET(CalculationsAndCharts!$AN$33,K253,0,'Transaction Summary'!$C$2-K253,1),0)+K253,\"\")","v":""},{"$f":"IFERROR(OFFSET(CalculationsAndCharts!$B$32,'Transaction Summary'!K254,0,1,1),\"\")","v":""},{"$f":"IFERROR(OFFSET(CalculationsAndCharts!$AR$32,'Transaction Summary'!K254,0,1,1),\"\")","v":""},{"$f":"IFERROR(MATCH(TRUE,OFFSET(CalculationsAndCharts!$AQ$33,N253,0,'Transaction Summary'!$C$2-N253,1),0)+N253,\"\")","v":""},{"$f":"IFERROR(OFFSET(CalculationsAndCharts!$B$32,'Transaction Summary'!N254,0,1,1),\"\")","v":""},{"$f":"IFERROR(OFFSET(CalculationsAndCharts!$AS$32,'Transaction Summary'!N254,0,1,1),\"\")","v":""},"",""]
[null,{"$f":"IFERROR(MATCH(TRUE,OFFSET(CalculationsAndCharts!$AE$33,B254,0,'Transaction Summary'!$C$2-B254,1),0)+B254,\"\")","v":""},{"$f":"IFERROR(OFFSET(CalculationsAndCharts!$B$32,'Transaction Summary'!B255,0,1,1),\"\")","v":""},{"$f":"IFERROR(OFFSET(CalculationsAndCharts!$AI$32,'Transaction Summary'!B255,0,1,1),\"\")","v":""},{"$f":"IFERROR(MATCH(TRUE,OFFSET(CalculationsAndCharts!$AH$33,E254,0,'Transaction Summary'!$C$2-E254,1),0)+E254,\"\")","v":""},{"$f":"IFERROR(OFFSET(CalculationsAndCharts!$B$32,'Transaction Summary'!E255,0,1,1),\"\")","v":""},{"$f":"IFERROR(OFFSET(CalculationsAndCharts!$AJ$32,'Transaction Summary'!E255,0,1,1),\"\")","v":""},"","",null,{"$f":"IFERROR(MATCH(TRUE,OFFSET(CalculationsAndCharts!$AN$33,K254,0,'Transaction Summary'!$C$2-K254,1),0)+K254,\"\")","v":""},{"$f":"IFERROR(OFFSET(CalculationsAndCharts!$B$32,'Transaction Summary'!K255,0,1,1),\"\")","v":""},{"$f":"IFERROR(OFFSET(CalculationsAndCharts!$AR$32,'Transaction Summary'!K255,0,1,1),\"\")","v":""},{"$f":"IFERROR(MATCH(TRUE,OFFSET(CalculationsAndCharts!$AQ$33,N254,0,'Transaction Summary'!$C$2-N254,1),0)+N254,\"\")","v":""},{"$f":"IFERROR(OFFSET(CalculationsAndCharts!$B$32,'Transaction Summary'!N255,0,1,1),\"\")","v":""},{"$f":"IFERROR(OFFSET(CalculationsAndCharts!$AS$32,'Transaction Summary'!N255,0,1,1),\"\")","v":""},"",""]
[null,{"$f":"IFERROR(MATCH(TRUE,OFFSET(CalculationsAndCharts!$AE$33,B255,0,'Transaction Summary'!$C$2-B255,1),0)+B255,\"\")","v":""},{"$f":"IFERROR(OFFSET(CalculationsAndCharts!$B$32,'Transaction Summary'!B256,0,1,1),\"\")","v":""},{"$f":"IFERROR(OFFSET(CalculationsAndCharts!$AI$32,'Transaction Summary'!B256,0,1,1),\"\")","v":""},{"$f":"IFERROR(MATCH(TRUE,OFFSET(CalculationsAndCharts!$AH$33,E255,0,'Transaction Summary'!$C$2-E255,1),0)+E255,\"\")","v":""},{"$f":"IFERROR(OFFSET(CalculationsAndCharts!$B$32,'Transaction Summary'!E256,0,1,1),\"\")","v":""},{"$f":"IFERROR(OFFSET(CalculationsAndCharts!$AJ$32,'Transaction Summary'!E256,0,1,1),\"\")","v":""},"","",null,{"$f":"IFERROR(MATCH(TRUE,OFFSET(CalculationsAndCharts!$AN$33,K255,0,'Transaction Summary'!$C$2-K255,1),0)+K255,\"\")","v":""},{"$f":"IFERROR(OFFSET(CalculationsAndCharts!$B$32,'Transaction Summary'!K256,0,1,1),\"\")","v":""},{"$f":"IFERROR(OFFSET(CalculationsAndCharts!$AR$32,'Transaction Summary'!K256,0,1,1),\"\")","v":""},{"$f":"IFERROR(MATCH(TRUE,OFFSET(CalculationsAndCharts!$AQ$33,N255,0,'Transaction Summary'!$C$2-N255,1),0)+N255,\"\")","v":""},{"$f":"IFERROR(OFFSET(CalculationsAndCharts!$B$32,'Transaction Summary'!N256,0,1,1),\"\")","v":""},{"$f":"IFERROR(OFFSET(CalculationsAndCharts!$AS$32,'Transaction Summary'!N256,0,1,1),\"\")","v":""},"",""]
[null,{"$f":"IFERROR(MATCH(TRUE,OFFSET(CalculationsAndCharts!$AE$33,B256,0,'Transaction Summary'!$C$2-B256,1),0)+B256,\"\")","v":""},{"$f":"IFERROR(OFFSET(CalculationsAndCharts!$B$32,'Transaction Summary'!B257,0,1,1),\"\")","v":""},{"$f":"IFERROR(OFFSET(CalculationsAndCharts!$AI$32,'Transaction Summary'!B257,0,1,1),\"\")","v":""},{"$f":"IFERROR(MATCH(TRUE,OFFSET(CalculationsAndCharts!$AH$33,E256,0,'Transaction Summary'!$C$2-E256,1),0)+E256,\"\")","v":""},{"$f":"IFERROR(OFFSET(CalculationsAndCharts!$B$32,'Transaction Summary'!E257,0,1,1),\"\")","v":""},{"$f":"IFERROR(OFFSET(CalculationsAndCharts!$AJ$32,'Transaction Summary'!E257,0,1,1),\"\")","v":""},"","",null,{"$f":"IFERROR(MATCH(TRUE,OFFSET(CalculationsAndCharts!$AN$33,K256,0,'Transaction Summary'!$C$2-K256,1),0)+K256,\"\")","v":""},{"$f":"IFERROR(OFFSET(CalculationsAndCharts!$B$32,'Transaction Summary'!K257,0,1,1),\"\")","v":""},{"$f":"IFERROR(OFFSET(CalculationsAndCharts!$AR$32,'Transaction Summary'!K257,0,1,1),\"\")","v":""},{"$f":"IFERROR(MATCH(TRUE,OFFSET(CalculationsAndCharts!$AQ$33,N256,0,'Transaction Summary'!$C$2-N256,1),0)+N256,\"\")","v":""},{"$f":"IFERROR(OFFSET(CalculationsAndCharts!$B$32,'Transaction Summary'!N257,0,1,1),\"\")","v":""},{"$f":"IFERROR(OFFSET(CalculationsAndCharts!$AS$32,'Transaction Summary'!N257,0,1,1),\"\")","v":""},"",""]
[null,{"$f":"IFERROR(MATCH(TRUE,OFFSET(CalculationsAndCharts!$AE$33,B257,0,'Transaction Summary'!$C$2-B257,1),0)+B257,\"\")","v":""},{"$f":"IFERROR(OFFSET(CalculationsAndCharts!$B$32,'Transaction Summary'!B258,0,1,1),\"\")","v":""},{"$f":"IFERROR(OFFSET(CalculationsAndCharts!$AI$32,'Transaction Summary'!B258,0,1,1),\"\")","v":""},{"$f":"IFERROR(MATCH(TRUE,OFFSET(CalculationsAndCharts!$AH$33,E257,0,'Transaction Summary'!$C$2-E257,1),0)+E257,\"\")","v":""},{"$f":"IFERROR(OFFSET(CalculationsAndCharts!$B$32,'Transaction Summary'!E258,0,1,1),\"\")","v":""},{"$f":"IFERROR(OFFSET(CalculationsAndCharts!$AJ$32,'Transaction Summary'!E258,0,1,1),\"\")","v":""},"","",null,{"$f":"IFERROR(MATCH(TRUE,OFFSET(CalculationsAndCharts!$AN$33,K257,0,'Transaction Summary'!$C$2-K257,1),0)+K257,\"\")","v":""},{"$f":"IFERROR(OFFSET(CalculationsAndCharts!$B$32,'Transaction Summary'!K258,0,1,1),\"\")","v":""},{"$f":"IFERROR(OFFSET(CalculationsAndCharts!$AR$32,'Transaction Summary'!K258,0,1,1),\"\")","v":""},{"$f":"IFERROR(MATCH(TRUE,OFFSET(CalculationsAndCharts!$AQ$33,N257,0,'Transaction Summary'!$C$2-N257,1),0)+N257,\"\")","v":""},{"$f":"IFERROR(OFFSET(CalculationsAndCharts!$B$32,'Transaction Summary'!N258,0,1,1),\"\")","v":""},{"$f":"IFERROR(OFFSET(CalculationsAndCharts!$AS$32,'Transaction Summary'!N258,0,1,1),\"\")","v":""},"",""]
[null,{"$f":"IFERROR(MATCH(TRUE,OFFSET(CalculationsAndCharts!$AE$33,B258,0,'Transaction Summary'!$C$2-B258,1),0)+B258,\"\")","v":""},{"$f":"IFERROR(OFFSET(CalculationsAndCharts!$B$32,'Transaction Summary'!B259,0,1,1),\"\")","v":""},{"$f":"IFERROR(OFFSET(CalculationsAndCharts!$AI$32,'Transaction Summary'!B259,0,1,1),\"\")","v":""},{"$f":"IFERROR(MATCH(TRUE,OFFSET(CalculationsAndCharts!$AH$33,E258,0,'Transaction Summary'!$C$2-E258,1),0)+E258,\"\")","v":""},{"$f":"IFERROR(OFFSET(CalculationsAndCharts!$B$32,'Transaction Summary'!E259,0,1,1),\"\")","v":""},{"$f":"IFERROR(OFFSET(CalculationsAndCharts!$AJ$32,'Transaction Summary'!E259,0,1,1),\"\")","v":""},"","",null,{"$f":"IFERROR(MATCH(TRUE,OFFSET(CalculationsAndCharts!$AN$33,K258,0,'Transaction Summary'!$C$2-K258,1),0)+K258,\"\")","v":""},{"$f":"IFERROR(OFFSET(CalculationsAndCharts!$B$32,'Transaction Summary'!K259,0,1,1),\"\")","v":""},{"$f":"IFERROR(OFFSET(CalculationsAndCharts!$AR$32,'Transaction Summary'!K259,0,1,1),\"\")","v":""},{"$f":"IFERROR(MATCH(TRUE,OFFSET(CalculationsAndCharts!$AQ$33,N258,0,'Transaction Summary'!$C$2-N258,1),0)+N258,\"\")","v":""},{"$f":"IFERROR(OFFSET(CalculationsAndCharts!$B$32,'Transaction Summary'!N259,0,1,1),\"\")","v":""},{"$f":"IFERROR(OFFSET(CalculationsAndCharts!$AS$32,'Transaction Summary'!N259,0,1,1),\"\")","v":""},"",""]
[null,{"$f":"IFERROR(MATCH(TRUE,OFFSET(CalculationsAndCharts!$AE$33,B259,0,'Transaction Summary'!$C$2-B259,1),0)+B259,\"\")","v":""},{"$f":"IFERROR(OFFSET(CalculationsAndCharts!$B$32,'Transaction Summary'!B260,0,1,1),\"\")","v":""},{"$f":"IFERROR(OFFSET(CalculationsAndCharts!$AI$32,'Transaction Summary'!B260,0,1,1),\"\")","v":""},{"$f":"IFERROR(MATCH(TRUE,OFFSET(CalculationsAndCharts!$AH$33,E259,0,'Transaction Summary'!$C$2-E259,1),0)+E259,\"\")","v":""},{"$f":"IFERROR(OFFSET(CalculationsAndCharts!$B$32,'Transaction Summary'!E260,0,1,1),\"\")","v":""},{"$f":"IFERROR(OFFSET(CalculationsAndCharts!$AJ$32,'Transaction Summary'!E260,0,1,1),\"\")","v":""},"","",null,{"$f":"IFERROR(MATCH(TRUE,OFFSET(CalculationsAndCharts!$AN$33,K259,0,'Transaction Summary'!$C$2-K259,1),0)+K259,\"\")","v":""},{"$f":"IFERROR(OFFSET(CalculationsAndCharts!$B$32,'Transaction Summary'!K260,0,1,1),\"\")","v":""},{"$f":"IFERROR(OFFSET(CalculationsAndCharts!$AR$32,'Transaction Summary'!K260,0,1,1),\"\")","v":""},{"$f":"IFERROR(MATCH(TRUE,OFFSET(CalculationsAndCharts!$AQ$33,N259,0,'Transaction Summary'!$C$2-N259,1),0)+N259,\"\")","v":""},{"$f":"IFERROR(OFFSET(CalculationsAndCharts!$B$32,'Transaction Summary'!N260,0,1,1),\"\")","v":""},{"$f":"IFERROR(OFFSET(CalculationsAndCharts!$AS$32,'Transaction Summary'!N260,0,1,1),\"\")","v":""},"",""]
[null,{"$f":"IFERROR(MATCH(TRUE,OFFSET(CalculationsAndCharts!$AE$33,B260,0,'Transaction Summary'!$C$2-B260,1),0)+B260,\"\")","v":""},{"$f":"IFERROR(OFFSET(CalculationsAndCharts!$B$32,'Transaction Summary'!B261,0,1,1),\"\")","v":""},{"$f":"IFERROR(OFFSET(CalculationsAndCharts!$AI$32,'Transaction Summary'!B261,0,1,1),\"\")","v":""},{"$f":"IFERROR(MATCH(TRUE,OFFSET(CalculationsAndCharts!$AH$33,E260,0,'Transaction Summary'!$C$2-E260,1),0)+E260,\"\")","v":""},{"$f":"IFERROR(OFFSET(CalculationsAndCharts!$B$32,'Transaction Summary'!E261,0,1,1),\"\")","v":""},{"$f":"IFERROR(OFFSET(CalculationsAndCharts!$AJ$32,'Transaction Summary'!E261,0,1,1),\"\")","v":""},"","",null,{"$f":"IFERROR(MATCH(TRUE,OFFSET(CalculationsAndCharts!$AN$33,K260,0,'Transaction Summary'!$C$2-K260,1),0)+K260,\"\")","v":""},{"$f":"IFERROR(OFFSET(CalculationsAndCharts!$B$32,'Transaction Summary'!K261,0,1,1),\"\")","v":""},{"$f":"IFERROR(OFFSET(CalculationsAndCharts!$AR$32,'Transaction Summary'!K261,0,1,1),\"\")","v":""},{"$f":"IFERROR(MATCH(TRUE,OFFSET(CalculationsAndCharts!$AQ$33,N260,0,'Transaction Summary'!$C$2-N260,1),0)+N260,\"\")","v":""},{"$f":"IFERROR(OFFSET(CalculationsAndCharts!$B$32,'Transaction Summary'!N261,0,1,1),\"\")","v":""},{"$f":"IFERROR(OFFSET(CalculationsAndCharts!$AS$32,'Transaction Summary'!N261,0,1,1),\"\")","v":""},"",""]
[null,{"$f":"IFERROR(MATCH(TRUE,OFFSET(CalculationsAndCharts!$AE$33,B261,0,'Transaction Summary'!$C$2-B261,1),0)+B261,\"\")","v":""},{"$f":"IFERROR(OFFSET(CalculationsAndCharts!$B$32,'Transaction Summary'!B262,0,1,1),\"\")","v":""},{"$f":"IFERROR(OFFSET(CalculationsAndCharts!$AI$32,'Transaction Summary'!B262,0,1,1),\"\")","v":""},{"$f":"IFERROR(MATCH(TRUE,OFFSET(CalculationsAndCharts!$AH$33,E261,0,'Transaction Summary'!$C$2-E261,1),0)+E261,\"\")","v":""},{"$f":"IFERROR(OFFSET(CalculationsAndCharts!$B$32,'Transaction Summary'!E262,0,1,1),\"\")","v":""},{"$f":"IFERROR(OFFSET(CalculationsAndCharts!$AJ$32,'Transaction Summary'!E262,0,1,1),\"\")","v":""},"","",null,{"$f":"IFERROR(MATCH(TRUE,OFFSET(CalculationsAndCharts!$AN$33,K261,0,'Transaction Summary'!$C$2-K261,1),0)+K261,\"\")","v":""},{"$f":"IFERROR(OFFSET(CalculationsAndCharts!$B$32,'Transaction Summary'!K262,0,1,1),\"\")","v":""},{"$f":"IFERROR(OFFSET(CalculationsAndCharts!$AR$32,'Transaction Summary'!K262,0,1,1),\"\")","v":""},{"$f":"IFERROR(MATCH(TRUE,OFFSET(CalculationsAndCharts!$AQ$33,N261,0,'Transaction Summary'!$C$2-N261,1),0)+N261,\"\")","v":""},{"$f":"IFERROR(OFFSET(CalculationsAndCharts!$B$32,'Transaction Summary'!N262,0,1,1),\"\")","v":""},{"$f":"IFERROR(OFFSET(CalculationsAndCharts!$AS$32,'Transaction Summary'!N262,0,1,1),\"\")","v":""},"",""]
[null,{"$f":"IFERROR(MATCH(TRUE,OFFSET(CalculationsAndCharts!$AE$33,B262,0,'Transaction Summary'!$C$2-B262,1),0)+B262,\"\")","v":""},{"$f":"IFERROR(OFFSET(CalculationsAndCharts!$B$32,'Transaction Summary'!B263,0,1,1),\"\")","v":""},{"$f":"IFERROR(OFFSET(CalculationsAndCharts!$AI$32,'Transaction Summary'!B263,0,1,1),\"\")","v":""},{"$f":"IFERROR(MATCH(TRUE,OFFSET(CalculationsAndCharts!$AH$33,E262,0,'Transaction Summary'!$C$2-E262,1),0)+E262,\"\")","v":""},{"$f":"IFERROR(OFFSET(CalculationsAndCharts!$B$32,'Transaction Summary'!E263,0,1,1),\"\")","v":""},{"$f":"IFERROR(OFFSET(CalculationsAndCharts!$AJ$32,'Transaction Summary'!E263,0,1,1),\"\")","v":""},"","",null,{"$f":"IFERROR(MATCH(TRUE,OFFSET(CalculationsAndCharts!$AN$33,K262,0,'Transaction Summary'!$C$2-K262,1),0)+K262,\"\")","v":""},{"$f":"IFERROR(OFFSET(CalculationsAndCharts!$B$32,'Transaction Summary'!K263,0,1,1),\"\")","v":""},{"$f":"IFERROR(OFFSET(CalculationsAndCharts!$AR$32,'Transaction Summary'!K263,0,1,1),\"\")","v":""},{"$f":"IFERROR(MATCH(TRUE,OFFSET(CalculationsAndCharts!$AQ$33,N262,0,'Transaction Summary'!$C$2-N262,1),0)+N262,\"\")","v":""},{"$f":"IFERROR(OFFSET(CalculationsAndCharts!$B$32,'Transaction Summary'!N263,0,1,1),\"\")","v":""},{"$f":"IFERROR(OFFSET(CalculationsAndCharts!$AS$32,'Transaction Summary'!N263,0,1,1),\"\")","v":""},"",""]
[null,{"$f":"IFERROR(MATCH(TRUE,OFFSET(CalculationsAndCharts!$AE$33,B263,0,'Transaction Summary'!$C$2-B263,1),0)+B263,\"\")","v":""},{"$f":"IFERROR(OFFSET(CalculationsAndCharts!$B$32,'Transaction Summary'!B264,0,1,1),\"\")","v":""},{"$f":"IFERROR(OFFSET(CalculationsAndCharts!$AI$32,'Transaction Summary'!B264,0,1,1),\"\")","v":""},{"$f":"IFERROR(MATCH(TRUE,OFFSET(CalculationsAndCharts!$AH$33,E263,0,'Transaction Summary'!$C$2-E263,1),0)+E263,\"\")","v":""},{"$f":"IFERROR(OFFSET(CalculationsAndCharts!$B$32,'Transaction Summary'!E264,0,1,1),\"\")","v":""},{"$f":"IFERROR(OFFSET(CalculationsAndCharts!$AJ$32,'Transaction Summary'!E264,0,1,1),\"\")","v":""},"","",null,{"$f":"IFERROR(MATCH(TRUE,OFFSET(CalculationsAndCharts!$AN$33,K263,0,'Transaction Summary'!$C$2-K263,1),0)+K263,\"\")","v":""},{"$f":"IFERROR(OFFSET(CalculationsAndCharts!$B$32,'Transaction Summary'!K264,0,1,1),\"\")","v":""},{"$f":"IFERROR(OFFSET(CalculationsAndCharts!$AR$32,'Transaction Summary'!K264,0,1,1),\"\")","v":""},{"$f":"IFERROR(MATCH(TRUE,OFFSET(CalculationsAndCharts!$AQ$33,N263,0,'Transaction Summary'!$C$2-N263,1),0)+N263,\"\")","v":""},{"$f":"IFERROR(OFFSET(CalculationsAndCharts!$B$32,'Transaction Summary'!N264,0,1,1),\"\")","v":""},{"$f":"IFERROR(OFFSET(CalculationsAndCharts!$AS$32,'Transaction Summary'!N264,0,1,1),\"\")","v":""},"",""]
[null,{"$f":"IFERROR(MATCH(TRUE,OFFSET(CalculationsAndCharts!$AE$33,B264,0,'Transaction Summary'!$C$2-B264,1),0)+B264,\"\")","v":""},{"$f":"IFERROR(OFFSET(CalculationsAndCharts!$B$32,'Transaction Summary'!B265,0,1,1),\"\")","v":""},{"$f":"IFERROR(OFFSET(CalculationsAndCharts!$AI$32,'Transaction Summary'!B265,0,1,1),\"\")","v":""},{"$f":"IFERROR(MATCH(TRUE,OFFSET(CalculationsAndCharts!$AH$33,E264,0,'Transaction Summary'!$C$2-E264,1),0)+E264,\"\")","v":""},{"$f":"IFERROR(OFFSET(CalculationsAndCharts!$B$32,'Transaction Summary'!E265,0,1,1),\"\")","v":""},{"$f":"IFERROR(OFFSET(CalculationsAndCharts!$AJ$32,'Transaction Summary'!E265,0,1,1),\"\")","v":""},"","",null,{"$f":"IFERROR(MATCH(TRUE,OFFSET(CalculationsAndCharts!$AN$33,K264,0,'Transaction Summary'!$C$2-K264,1),0)+K264,\"\")","v":""},{"$f":"IFERROR(OFFSET(CalculationsAndCharts!$B$32,'Transaction Summary'!K265,0,1,1),\"\")","v":""},{"$f":"IFERROR(OFFSET(CalculationsAndCharts!$AR$32,'Transaction Summary'!K265,0,1,1),\"\")","v":""},{"$f":"IFERROR(MATCH(TRUE,OFFSET(CalculationsAndCharts!$AQ$33,N264,0,'Transaction Summary'!$C$2-N264,1),0)+N264,\"\")","v":""},{"$f":"IFERROR(OFFSET(CalculationsAndCharts!$B$32,'Transaction Summary'!N265,0,1,1),\"\")","v":""},{"$f":"IFERROR(OFFSET(CalculationsAndCharts!$AS$32,'Transaction Summary'!N265,0,1,1),\"\")","v":""},"",""]
[null,{"$f":"IFERROR(MATCH(TRUE,OFFSET(CalculationsAndCharts!$AE$33,B265,0,'Transaction Summary'!$C$2-B265,1),0)+B265,\"\")","v":""},{"$f":"IFERROR(OFFSET(CalculationsAndCharts!$B$32,'Transaction Summary'!B266,0,1,1),\"\")","v":""},{"$f":"IFERROR(OFFSET(CalculationsAndCharts!$AI$32,'Transaction Summary'!B266,0,1,1),\"\")","v":""},{"$f":"IFERROR(MATCH(TRUE,OFFSET(CalculationsAndCharts!$AH$33,E265,0,'Transaction Summary'!$C$2-E265,1),0)+E265,\"\")","v":""},{"$f":"IFERROR(OFFSET(CalculationsAndCharts!$B$32,'Transaction Summary'!E266,0,1,1),\"\")","v":""},{"$f":"IFERROR(OFFSET(CalculationsAndCharts!$AJ$32,'Transaction Summary'!E266,0,1,1),\"\")","v":""},"","",null,{"$f":"IFERROR(MATCH(TRUE,OFFSET(CalculationsAndCharts!$AN$33,K265,0,'Transaction Summary'!$C$2-K265,1),0)+K265,\"\")","v":""},{"$f":"IFERROR(OFFSET(CalculationsAndCharts!$B$32,'Transaction Summary'!K266,0,1,1),\"\")","v":""},{"$f":"IFERROR(OFFSET(CalculationsAndCharts!$AR$32,'Transaction Summary'!K266,0,1,1),\"\")","v":""},{"$f":"IFERROR(MATCH(TRUE,OFFSET(CalculationsAndCharts!$AQ$33,N265,0,'Transaction Summary'!$C$2-N265,1),0)+N265,\"\")","v":""},{"$f":"IFERROR(OFFSET(CalculationsAndCharts!$B$32,'Transaction Summary'!N266,0,1,1),\"\")","v":""},{"$f":"IFERROR(OFFSET(CalculationsAndCharts!$AS$32,'Transaction Summary'!N266,0,1,1),\"\")","v":""},"",""]
[null,{"$f":"IFERROR(MATCH(TRUE,OFFSET(CalculationsAndCharts!$AE$33,B266,0,'Transaction Summary'!$C$2-B266,1),0)+B266,\"\")","v":""},{"$f":"IFERROR(OFFSET(CalculationsAndCharts!$B$32,'Transaction Summary'!B267,0,1,1),\"\")","v":""},{"$f":"IFERROR(OFFSET(CalculationsAndCharts!$AI$32,'Transaction Summary'!B267,0,1,1),\"\")","v":""},{"$f":"IFERROR(MATCH(TRUE,OFFSET(CalculationsAndCharts!$AH$33,E266,0,'Transaction Summary'!$C$2-E266,1),0)+E266,\"\")","v":""},{"$f":"IFERROR(OFFSET(CalculationsAndCharts!$B$32,'Transaction Summary'!E267,0,1,1),\"\")","v":""},{"$f":"IFERROR(OFFSET(CalculationsAndCharts!$AJ$32,'Transaction Summary'!E267,0,1,1),\"\")","v":""},"","",null,{"$f":"IFERROR(MATCH(TRUE,OFFSET(CalculationsAndCharts!$AN$33,K266,0,'Transaction Summary'!$C$2-K266,1),0)+K266,\"\")","v":""},{"$f":"IFERROR(OFFSET(CalculationsAndCharts!$B$32,'Transaction Summary'!K267,0,1,1),\"\")","v":""},{"$f":"IFERROR(OFFSET(CalculationsAndCharts!$AR$32,'Transaction Summary'!K267,0,1,1),\"\")","v":""},{"$f":"IFERROR(MATCH(TRUE,OFFSET(CalculationsAndCharts!$AQ$33,N266,0,'Transaction Summary'!$C$2-N266,1),0)+N266,\"\")","v":""},{"$f":"IFERROR(OFFSET(CalculationsAndCharts!$B$32,'Transaction Summary'!N267,0,1,1),\"\")","v":""},{"$f":"IFERROR(OFFSET(CalculationsAndCharts!$AS$32,'Transaction Summary'!N267,0,1,1),\"\")","v":""},"",""]
[null,{"$f":"IFERROR(MATCH(TRUE,OFFSET(CalculationsAndCharts!$AE$33,B267,0,'Transaction Summary'!$C$2-B267,1),0)+B267,\"\")","v":""},{"$f":"IFERROR(OFFSET(CalculationsAndCharts!$B$32,'Transaction Summary'!B268,0,1,1),\"\")","v":""},{"$f":"IFERROR(OFFSET(CalculationsAndCharts!$AI$32,'Transaction Summary'!B268,0,1,1),\"\")","v":""},{"$f":"IFERROR(MATCH(TRUE,OFFSET(CalculationsAndCharts!$AH$33,E267,0,'Transaction Summary'!$C$2-E267,1),0)+E267,\"\")","v":""},{"$f":"IFERROR(OFFSET(CalculationsAndCharts!$B$32,'Transaction Summary'!E268,0,1,1),\"\")","v":""},{"$f":"IFERROR(OFFSET(CalculationsAndCharts!$AJ$32,'Transaction Summary'!E268,0,1,1),\"\")","v":""},"","",null,{"$f":"IFERROR(MATCH(TRUE,OFFSET(CalculationsAndCharts!$AN$33,K267,0,'Transaction Summary'!$C$2-K267,1),0)+K267,\"\")","v":""},{"$f":"IFERROR(OFFSET(CalculationsAndCharts!$B$32,'Transaction Summary'!K268,0,1,1),\"\")","v":""},{"$f":"IFERROR(OFFSET(CalculationsAndCharts!$AR$32,'Transaction Summary'!K268,0,1,1),\"\")","v":""},{"$f":"IFERROR(MATCH(TRUE,OFFSET(CalculationsAndCharts!$AQ$33,N267,0,'Transaction Summary'!$C$2-N267,1),0)+N267,\"\")","v":""},{"$f":"IFERROR(OFFSET(CalculationsAndCharts!$B$32,'Transaction Summary'!N268,0,1,1),\"\")","v":""},{"$f":"IFERROR(OFFSET(CalculationsAndCharts!$AS$32,'Transaction Summary'!N268,0,1,1),\"\")","v":""},"",""]
[null,{"$f":"IFERROR(MATCH(TRUE,OFFSET(CalculationsAndCharts!$AE$33,B268,0,'Transaction Summary'!$C$2-B268,1),0)+B268,\"\")","v":""},{"$f":"IFERROR(OFFSET(CalculationsAndCharts!$B$32,'Transaction Summary'!B269,0,1,1),\"\")","v":""},{"$f":"IFERROR(OFFSET(CalculationsAndCharts!$AI$32,'Transaction Summary'!B269,0,1,1),\"\")","v":""},{"$f":"IFERROR(MATCH(TRUE,OFFSET(CalculationsAndCharts!$AH$33,E268,0,'Transaction Summary'!$C$2-E268,1),0)+E268,\"\")","v":""},{"$f":"IFERROR(OFFSET(CalculationsAndCharts!$B$32,'Transaction Summary'!E269,0,1,1),\"\")","v":""},{"$f":"IFERROR(OFFSET(CalculationsAndCharts!$AJ$32,'Transaction Summary'!E269,0,1,1),\"\")","v":""},"","",null,{"$f":"IFERROR(MATCH(TRUE,OFFSET(CalculationsAndCharts!$AN$33,K268,0,'Transaction Summary'!$C$2-K268,1),0)+K268,\"\")","v":""},{"$f":"IFERROR(OFFSET(CalculationsAndCharts!$B$32,'Transaction Summary'!K269,0,1,1),\"\")","v":""},{"$f":"IFERROR(OFFSET(CalculationsAndCharts!$AR$32,'Transaction Summary'!K269,0,1,1),\"\")","v":""},{"$f":"IFERROR(MATCH(TRUE,OFFSET(CalculationsAndCharts!$AQ$33,N268,0,'Transaction Summary'!$C$2-N268,1),0)+N268,\"\")","v":""},{"$f":"IFERROR(OFFSET(CalculationsAndCharts!$B$32,'Transaction Summary'!N269,0,1,1),\"\")","v":""},{"$f":"IFERROR(OFFSET(CalculationsAndCharts!$AS$32,'Transaction Summary'!N269,0,1,1),\"\")","v":""},"",""]
[null,{"$f":"IFERROR(MATCH(TRUE,OFFSET(CalculationsAndCharts!$AE$33,B269,0,'Transaction Summary'!$C$2-B269,1),0)+B269,\"\")","v":""},{"$f":"IFERROR(OFFSET(CalculationsAndCharts!$B$32,'Transaction Summary'!B270,0,1,1),\"\")","v":""},{"$f":"IFERROR(OFFSET(CalculationsAndCharts!$AI$32,'Transaction Summary'!B270,0,1,1),\"\")","v":""},{"$f":"IFERROR(MATCH(TRUE,OFFSET(CalculationsAndCharts!$AH$33,E269,0,'Transaction Summary'!$C$2-E269,1),0)+E269,\"\")","v":""},{"$f":"IFERROR(OFFSET(CalculationsAndCharts!$B$32,'Transaction Summary'!E270,0,1,1),\"\")","v":""},{"$f":"IFERROR(OFFSET(CalculationsAndCharts!$AJ$32,'Transaction Summary'!E270,0,1,1),\"\")","v":""},"","",null,{"$f":"IFERROR(MATCH(TRUE,OFFSET(CalculationsAndCharts!$AN$33,K269,0,'Transaction Summary'!$C$2-K269,1),0)+K269,\"\")","v":""},{"$f":"IFERROR(OFFSET(CalculationsAndCharts!$B$32,'Transaction Summary'!K270,0,1,1),\"\")","v":""},{"$f":"IFERROR(OFFSET(CalculationsAndCharts!$AR$32,'Transaction Summary'!K270,0,1,1),\"\")","v":""},{"$f":"IFERROR(MATCH(TRUE,OFFSET(CalculationsAndCharts!$AQ$33,N269,0,'Transaction Summary'!$C$2-N269,1),0)+N269,\"\")","v":""},{"$f":"IFERROR(OFFSET(CalculationsAndCharts!$B$32,'Transaction Summary'!N270,0,1,1),\"\")","v":""},{"$f":"IFERROR(OFFSET(CalculationsAndCharts!$AS$32,'Transaction Summary'!N270,0,1,1),\"\")","v":""},"",""]
[null,{"$f":"IFERROR(MATCH(TRUE,OFFSET(CalculationsAndCharts!$AE$33,B270,0,'Transaction Summary'!$C$2-B270,1),0)+B270,\"\")","v":""},{"$f":"IFERROR(OFFSET(CalculationsAndCharts!$B$32,'Transaction Summary'!B271,0,1,1),\"\")","v":""},{"$f":"IFERROR(OFFSET(CalculationsAndCharts!$AI$32,'Transaction Summary'!B271,0,1,1),\"\")","v":""},{"$f":"IFERROR(MATCH(TRUE,OFFSET(CalculationsAndCharts!$AH$33,E270,0,'Transaction Summary'!$C$2-E270,1),0)+E270,\"\")","v":""},{"$f":"IFERROR(OFFSET(CalculationsAndCharts!$B$32,'Transaction Summary'!E271,0,1,1),\"\")","v":""},{"$f":"IFERROR(OFFSET(CalculationsAndCharts!$AJ$32,'Transaction Summary'!E271,0,1,1),\"\")","v":""},"","",null,{"$f":"IFERROR(MATCH(TRUE,OFFSET(CalculationsAndCharts!$AN$33,K270,0,'Transaction Summary'!$C$2-K270,1),0)+K270,\"\")","v":""},{"$f":"IFERROR(OFFSET(CalculationsAndCharts!$B$32,'Transaction Summary'!K271,0,1,1),\"\")","v":""},{"$f":"IFERROR(OFFSET(CalculationsAndCharts!$AR$32,'Transaction Summary'!K271,0,1,1),\"\")","v":""},{"$f":"IFERROR(MATCH(TRUE,OFFSET(CalculationsAndCharts!$AQ$33,N270,0,'Transaction Summary'!$C$2-N270,1),0)+N270,\"\")","v":""},{"$f":"IFERROR(OFFSET(CalculationsAndCharts!$B$32,'Transaction Summary'!N271,0,1,1),\"\")","v":""},{"$f":"IFERROR(OFFSET(CalculationsAndCharts!$AS$32,'Transaction Summary'!N271,0,1,1),\"\")","v":""},"",""]
[null,{"$f":"IFERROR(MATCH(TRUE,OFFSET(CalculationsAndCharts!$AE$33,B271,0,'Transaction Summary'!$C$2-B271,1),0)+B271,\"\")","v":""},{"$f":"IFERROR(OFFSET(CalculationsAndCharts!$B$32,'Transaction Summary'!B272,0,1,1),\"\")","v":""},{"$f":"IFERROR(OFFSET(CalculationsAndCharts!$AI$32,'Transaction Summary'!B272,0,1,1),\"\")","v":""},{"$f":"IFERROR(MATCH(TRUE,OFFSET(CalculationsAndCharts!$AH$33,E271,0,'Transaction Summary'!$C$2-E271,1),0)+E271,\"\")","v":""},{"$f":"IFERROR(OFFSET(CalculationsAndCharts!$B$32,'Transaction Summary'!E272,0,1,1),\"\")","v":""},{"$f":"IFERROR(OFFSET(CalculationsAndCharts!$AJ$32,'Transaction Summary'!E272,0,1,1),\"\")","v":""},"","",null,{"$f":"IFERROR(MATCH(TRUE,OFFSET(CalculationsAndCharts!$AN$33,K271,0,'Transaction Summary'!$C$2-K271,1),0)+K271,\"\")","v":""},{"$f":"IFERROR(OFFSET(CalculationsAndCharts!$B$32,'Transaction Summary'!K272,0,1,1),\"\")","v":""},{"$f":"IFERROR(OFFSET(CalculationsAndCharts!$AR$32,'Transaction Summary'!K272,0,1,1),\"\")","v":""},{"$f":"IFERROR(MATCH(TRUE,OFFSET(CalculationsAndCharts!$AQ$33,N271,0,'Transaction Summary'!$C$2-N271,1),0)+N271,\"\")","v":""},{"$f":"IFERROR(OFFSET(CalculationsAndCharts!$B$32,'Transaction Summary'!N272,0,1,1),\"\")","v":""},{"$f":"IFERROR(OFFSET(CalculationsAndCharts!$AS$32,'Transaction Summary'!N272,0,1,1),\"\")","v":""},"",""]
[null,{"$f":"IFERROR(MATCH(TRUE,OFFSET(CalculationsAndCharts!$AE$33,B272,0,'Transaction Summary'!$C$2-B272,1),0)+B272,\"\")","v":""},{"$f":"IFERROR(OFFSET(CalculationsAndCharts!$B$32,'Transaction Summary'!B273,0,1,1),\"\")","v":""},{"$f":"IFERROR(OFFSET(CalculationsAndCharts!$AI$32,'Transaction Summary'!B273,0,1,1),\"\")","v":""},{"$f":"IFERROR(MATCH(TRUE,OFFSET(CalculationsAndCharts!$AH$33,E272,0,'Transaction Summary'!$C$2-E272,1),0)+E272,\"\")","v":""},{"$f":"IFERROR(OFFSET(CalculationsAndCharts!$B$32,'Transaction Summary'!E273,0,1,1),\"\")","v":""},{"$f":"IFERROR(OFFSET(CalculationsAndCharts!$AJ$32,'Transaction Summary'!E273,0,1,1),\"\")","v":""},"","",null,{"$f":"IFERROR(MATCH(TRUE,OFFSET(CalculationsAndCharts!$AN$33,K272,0,'Transaction Summary'!$C$2-K272,1),0)+K272,\"\")","v":""},{"$f":"IFERROR(OFFSET(CalculationsAndCharts!$B$32,'Transaction Summary'!K273,0,1,1),\"\")","v":""},{"$f":"IFERROR(OFFSET(CalculationsAndCharts!$AR$32,'Transaction Summary'!K273,0,1,1),\"\")","v":""},{"$f":"IFERROR(MATCH(TRUE,OFFSET(CalculationsAndCharts!$AQ$33,N272,0,'Transaction Summary'!$C$2-N272,1),0)+N272,\"\")","v":""},{"$f":"IFERROR(OFFSET(CalculationsAndCharts!$B$32,'Transaction Summary'!N273,0,1,1),\"\")","v":""},{"$f":"IFERROR(OFFSET(CalculationsAndCharts!$AS$32,'Transaction Summary'!N273,0,1,1),\"\")","v":""},"",""]
[null,{"$f":"IFERROR(MATCH(TRUE,OFFSET(CalculationsAndCharts!$AE$33,B273,0,'Transaction Summary'!$C$2-B273,1),0)+B273,\"\")","v":""},{"$f":"IFERROR(OFFSET(CalculationsAndCharts!$B$32,'Transaction Summary'!B274,0,1,1),\"\")","v":""},{"$f":"IFERROR(OFFSET(CalculationsAndCharts!$AI$32,'Transaction Summary'!B274,0,1,1),\"\")","v":""},{"$f":"IFERROR(MATCH(TRUE,OFFSET(CalculationsAndCharts!$AH$33,E273,0,'Transaction Summary'!$C$2-E273,1),0)+E273,\"\")","v":""},{"$f":"IFERROR(OFFSET(CalculationsAndCharts!$B$32,'Transaction Summary'!E274,0,1,1),\"\")","v":""},{"$f":"IFERROR(OFFSET(CalculationsAndCharts!$AJ$32,'Transaction Summary'!E274,0,1,1),\"\")","v":""},"","",null,{"$f":"IFERROR(MATCH(TRUE,OFFSET(CalculationsAndCharts!$AN$33,K273,0,'Transaction Summary'!$C$2-K273,1),0)+K273,\"\")","v":""},{"$f":"IFERROR(OFFSET(CalculationsAndCharts!$B$32,'Transaction Summary'!K274,0,1,1),\"\")","v":""},{"$f":"IFERROR(OFFSET(CalculationsAndCharts!$AR$32,'Transaction Summary'!K274,0,1,1),\"\")","v":""},{"$f":"IFERROR(MATCH(TRUE,OFFSET(CalculationsAndCharts!$AQ$33,N273,0,'Transaction Summary'!$C$2-N273,1),0)+N273,\"\")","v":""},{"$f":"IFERROR(OFFSET(CalculationsAndCharts!$B$32,'Transaction Summary'!N274,0,1,1),\"\")","v":""},{"$f":"IFERROR(OFFSET(CalculationsAndCharts!$AS$32,'Transaction Summary'!N274,0,1,1),\"\")","v":""},"",""]
[null,{"$f":"IFERROR(MATCH(TRUE,OFFSET(CalculationsAndCharts!$AE$33,B274,0,'Transaction Summary'!$C$2-B274,1),0)+B274,\"\")","v":""},{"$f":"IFERROR(OFFSET(CalculationsAndCharts!$B$32,'Transaction Summary'!B275,0,1,1),\"\")","v":""},{"$f":"IFERROR(OFFSET(CalculationsAndCharts!$AI$32,'Transaction Summary'!B275,0,1,1),\"\")","v":""},{"$f":"IFERROR(MATCH(TRUE,OFFSET(CalculationsAndCharts!$AH$33,E274,0,'Transaction Summary'!$C$2-E274,1),0)+E274,\"\")","v":""},{"$f":"IFERROR(OFFSET(CalculationsAndCharts!$B$32,'Transaction Summary'!E275,0,1,1),\"\")","v":""},{"$f":"IFERROR(OFFSET(CalculationsAndCharts!$AJ$32,'Transaction Summary'!E275,0,1,1),\"\")","v":""},"","",null,{"$f":"IFERROR(MATCH(TRUE,OFFSET(CalculationsAndCharts!$AN$33,K274,0,'Transaction Summary'!$C$2-K274,1),0)+K274,\"\")","v":""},{"$f":"IFERROR(OFFSET(CalculationsAndCharts!$B$32,'Transaction Summary'!K275,0,1,1),\"\")","v":""},{"$f":"IFERROR(OFFSET(CalculationsAndCharts!$AR$32,'Transaction Summary'!K275,0,1,1),\"\")","v":""},{"$f":"IFERROR(MATCH(TRUE,OFFSET(CalculationsAndCharts!$AQ$33,N274,0,'Transaction Summary'!$C$2-N274,1),0)+N274,\"\")","v":""},{"$f":"IFERROR(OFFSET(CalculationsAndCharts!$B$32,'Transaction Summary'!N275,0,1,1),\"\")","v":""},{"$f":"IFERROR(OFFSET(CalculationsAndCharts!$AS$32,'Transaction Summary'!N275,0,1,1),\"\")","v":""},"",""]
[null,{"$f":"IFERROR(MATCH(TRUE,OFFSET(CalculationsAndCharts!$AE$33,B275,0,'Transaction Summary'!$C$2-B275,1),0)+B275,\"\")","v":""},{"$f":"IFERROR(OFFSET(CalculationsAndCharts!$B$32,'Transaction Summary'!B276,0,1,1),\"\")","v":""},{"$f":"IFERROR(OFFSET(CalculationsAndCharts!$AI$32,'Transaction Summary'!B276,0,1,1),\"\")","v":""},{"$f":"IFERROR(MATCH(TRUE,OFFSET(CalculationsAndCharts!$AH$33,E275,0,'Transaction Summary'!$C$2-E275,1),0)+E275,\"\")","v":""},{"$f":"IFERROR(OFFSET(CalculationsAndCharts!$B$32,'Transaction Summary'!E276,0,1,1),\"\")","v":""},{"$f":"IFERROR(OFFSET(CalculationsAndCharts!$AJ$32,'Transaction Summary'!E276,0,1,1),\"\")","v":""},"","",null,{"$f":"IFERROR(MATCH(TRUE,OFFSET(CalculationsAndCharts!$AN$33,K275,0,'Transaction Summary'!$C$2-K275,1),0)+K275,\"\")","v":""},{"$f":"IFERROR(OFFSET(CalculationsAndCharts!$B$32,'Transaction Summary'!K276,0,1,1),\"\")","v":""},{"$f":"IFERROR(OFFSET(CalculationsAndCharts!$AR$32,'Transaction Summary'!K276,0,1,1),\"\")","v":""},{"$f":"IFERROR(MATCH(TRUE,OFFSET(CalculationsAndCharts!$AQ$33,N275,0,'Transaction Summary'!$C$2-N275,1),0)+N275,\"\")","v":""},{"$f":"IFERROR(OFFSET(CalculationsAndCharts!$B$32,'Transaction Summary'!N276,0,1,1),\"\")","v":""},{"$f":"IFERROR(OFFSET(CalculationsAndCharts!$AS$32,'Transaction Summary'!N276,0,1,1),\"\")","v":""},"",""]
[null,{"$f":"IFERROR(MATCH(TRUE,OFFSET(CalculationsAndCharts!$AE$33,B276,0,'Transaction Summary'!$C$2-B276,1),0)+B276,\"\")","v":""},{"$f":"IFERROR(OFFSET(CalculationsAndCharts!$B$32,'Transaction Summary'!B277,0,1,1),\"\")","v":""},{"$f":"IFERROR(OFFSET(CalculationsAndCharts!$AI$32,'Transaction Summary'!B277,0,1,1),\"\")","v":""},{"$f":"IFERROR(MATCH(TRUE,OFFSET(CalculationsAndCharts!$AH$33,E276,0,'Transaction Summary'!$C$2-E276,1),0)+E276,\"\")","v":""},{"$f":"IFERROR(OFFSET(CalculationsAndCharts!$B$32,'Transaction Summary'!E277,0,1,1),\"\")","v":""},{"$f":"IFERROR(OFFSET(CalculationsAndCharts!$AJ$32,'Transaction Summary'!E277,0,1,1),\"\")","v":""},"","",null,{"$f":"IFERROR(MATCH(TRUE,OFFSET(CalculationsAndCharts!$AN$33,K276,0,'Transaction Summary'!$C$2-K276,1),0)+K276,\"\")","v":""},{"$f":"IFERROR(OFFSET(CalculationsAndCharts!$B$32,'Transaction Summary'!K277,0,1,1),\"\")","v":""},{"$f":"IFERROR(OFFSET(CalculationsAndCharts!$AR$32,'Transaction Summary'!K277,0,1,1),\"\")","v":""},{"$f":"IFERROR(MATCH(TRUE,OFFSET(CalculationsAndCharts!$AQ$33,N276,0,'Transaction Summary'!$C$2-N276,1),0)+N276,\"\")","v":""},{"$f":"IFERROR(OFFSET(CalculationsAndCharts!$B$32,'Transaction Summary'!N277,0,1,1),\"\")","v":""},{"$f":"IFERROR(OFFSET(CalculationsAndCharts!$AS$32,'Transaction Summary'!N277,0,1,1),\"\")","v":""},"",""]
[null,{"$f":"IFERROR(MATCH(TRUE,OFFSET(CalculationsAndCharts!$AE$33,B277,0,'Transaction Summary'!$C$2-B277,1),0)+B277,\"\")","v":""},{"$f":"IFERROR(OFFSET(CalculationsAndCharts!$B$32,'Transaction Summary'!B278,0,1,1),\"\")","v":""},{"$f":"IFERROR(OFFSET(CalculationsAndCharts!$AI$32,'Transaction Summary'!B278,0,1,1),\"\")","v":""},{"$f":"IFERROR(MATCH(TRUE,OFFSET(CalculationsAndCharts!$AH$33,E277,0,'Transaction Summary'!$C$2-E277,1),0)+E277,\"\")","v":""},{"$f":"IFERROR(OFFSET(CalculationsAndCharts!$B$32,'Transaction Summary'!E278,0,1,1),\"\")","v":""},{"$f":"IFERROR(OFFSET(CalculationsAndCharts!$AJ$32,'Transaction Summary'!E278,0,1,1),\"\")","v":""},"","",null,{"$f":"IFERROR(MATCH(TRUE,OFFSET(CalculationsAndCharts!$AN$33,K277,0,'Transaction Summary'!$C$2-K277,1),0)+K277,\"\")","v":""},{"$f":"IFERROR(OFFSET(CalculationsAndCharts!$B$32,'Transaction Summary'!K278,0,1,1),\"\")","v":""},{"$f":"IFERROR(OFFSET(CalculationsAndCharts!$AR$32,'Transaction Summary'!K278,0,1,1),\"\")","v":""},{"$f":"IFERROR(MATCH(TRUE,OFFSET(CalculationsAndCharts!$AQ$33,N277,0,'Transaction Summary'!$C$2-N277,1),0)+N277,\"\")","v":""},{"$f":"IFERROR(OFFSET(CalculationsAndCharts!$B$32,'Transaction Summary'!N278,0,1,1),\"\")","v":""},{"$f":"IFERROR(OFFSET(CalculationsAndCharts!$AS$32,'Transaction Summary'!N278,0,1,1),\"\")","v":""},"",""]
[null,{"$f":"IFERROR(MATCH(TRUE,OFFSET(CalculationsAndCharts!$AE$33,B278,0,'Transaction Summary'!$C$2-B278,1),0)+B278,\"\")","v":""},{"$f":"IFERROR(OFFSET(CalculationsAndCharts!$B$32,'Transaction Summary'!B279,0,1,1),\"\")","v":""},{"$f":"IFERROR(OFFSET(CalculationsAndCharts!$AI$32,'Transaction Summary'!B279,0,1,1),\"\")","v":""},{"$f":"IFERROR(MATCH(TRUE,OFFSET(CalculationsAndCharts!$AH$33,E278,0,'Transaction Summary'!$C$2-E278,1),0)+E278,\"\")","v":""},{"$f":"IFERROR(OFFSET(CalculationsAndCharts!$B$32,'Transaction Summary'!E279,0,1,1),\"\")","v":""},{"$f":"IFERROR(OFFSET(CalculationsAndCharts!$AJ$32,'Transaction Summary'!E279,0,1,1),\"\")","v":""},"","",null,{"$f":"IFERROR(MATCH(TRUE,OFFSET(CalculationsAndCharts!$AN$33,K278,0,'Transaction Summary'!$C$2-K278,1),0)+K278,\"\")","v":""},{"$f":"IFERROR(OFFSET(CalculationsAndCharts!$B$32,'Transaction Summary'!K279,0,1,1),\"\")","v":""},{"$f":"IFERROR(OFFSET(CalculationsAndCharts!$AR$32,'Transaction Summary'!K279,0,1,1),\"\")","v":""},{"$f":"IFERROR(MATCH(TRUE,OFFSET(CalculationsAndCharts!$AQ$33,N278,0,'Transaction Summary'!$C$2-N278,1),0)+N278,\"\")","v":""},{"$f":"IFERROR(OFFSET(CalculationsAndCharts!$B$32,'Transaction Summary'!N279,0,1,1),\"\")","v":""},{"$f":"IFERROR(OFFSET(CalculationsAndCharts!$AS$32,'Transaction Summary'!N279,0,1,1),\"\")","v":""},"",""]
[null,{"$f":"IFERROR(MATCH(TRUE,OFFSET(CalculationsAndCharts!$AE$33,B279,0,'Transaction Summary'!$C$2-B279,1),0)+B279,\"\")","v":""},{"$f":"IFERROR(OFFSET(CalculationsAndCharts!$B$32,'Transaction Summary'!B280,0,1,1),\"\")","v":""},{"$f":"IFERROR(OFFSET(CalculationsAndCharts!$AI$32,'Transaction Summary'!B280,0,1,1),\"\")","v":""},{"$f":"IFERROR(MATCH(TRUE,OFFSET(CalculationsAndCharts!$AH$33,E279,0,'Transaction Summary'!$C$2-E279,1),0)+E279,\"\")","v":""},{"$f":"IFERROR(OFFSET(CalculationsAndCharts!$B$32,'Transaction Summary'!E280,0,1,1),\"\")","v":""},{"$f":"IFERROR(OFFSET(CalculationsAndCharts!$AJ$32,'Transaction Summary'!E280,0,1,1),\"\")","v":""},"","",null,{"$f":"IFERROR(MATCH(TRUE,OFFSET(CalculationsAndCharts!$AN$33,K279,0,'Transaction Summary'!$C$2-K279,1),0)+K279,\"\")","v":""},{"$f":"IFERROR(OFFSET(CalculationsAndCharts!$B$32,'Transaction Summary'!K280,0,1,1),\"\")","v":""},{"$f":"IFERROR(OFFSET(CalculationsAndCharts!$AR$32,'Transaction Summary'!K280,0,1,1),\"\")","v":""},{"$f":"IFERROR(MATCH(TRUE,OFFSET(CalculationsAndCharts!$AQ$33,N279,0,'Transaction Summary'!$C$2-N279,1),0)+N279,\"\")","v":""},{"$f":"IFERROR(OFFSET(CalculationsAndCharts!$B$32,'Transaction Summary'!N280,0,1,1),\"\")","v":""},{"$f":"IFERROR(OFFSET(CalculationsAndCharts!$AS$32,'Transaction Summary'!N280,0,1,1),\"\")","v":""},"",""]
[null,{"$f":"IFERROR(MATCH(TRUE,OFFSET(CalculationsAndCharts!$AE$33,B280,0,'Transaction Summary'!$C$2-B280,1),0)+B280,\"\")","v":""},{"$f":"IFERROR(OFFSET(CalculationsAndCharts!$B$32,'Transaction Summary'!B281,0,1,1),\"\")","v":""},{"$f":"IFERROR(OFFSET(CalculationsAndCharts!$AI$32,'Transaction Summary'!B281,0,1,1),\"\")","v":""},{"$f":"IFERROR(MATCH(TRUE,OFFSET(CalculationsAndCharts!$AH$33,E280,0,'Transaction Summary'!$C$2-E280,1),0)+E280,\"\")","v":""},{"$f":"IFERROR(OFFSET(CalculationsAndCharts!$B$32,'Transaction Summary'!E281,0,1,1),\"\")","v":""},{"$f":"IFERROR(OFFSET(CalculationsAndCharts!$AJ$32,'Transaction Summary'!E281,0,1,1),\"\")","v":""},"","",null,{"$f":"IFERROR(MATCH(TRUE,OFFSET(CalculationsAndCharts!$AN$33,K280,0,'Transaction Summary'!$C$2-K280,1),0)+K280,\"\")","v":""},{"$f":"IFERROR(OFFSET(CalculationsAndCharts!$B$32,'Transaction Summary'!K281,0,1,1),\"\")","v":""},{"$f":"IFERROR(OFFSET(CalculationsAndCharts!$AR$32,'Transaction Summary'!K281,0,1,1),\"\")","v":""},{"$f":"IFERROR(MATCH(TRUE,OFFSET(CalculationsAndCharts!$AQ$33,N280,0,'Transaction Summary'!$C$2-N280,1),0)+N280,\"\")","v":""},{"$f":"IFERROR(OFFSET(CalculationsAndCharts!$B$32,'Transaction Summary'!N281,0,1,1),\"\")","v":""},{"$f":"IFERROR(OFFSET(CalculationsAndCharts!$AS$32,'Transaction Summary'!N281,0,1,1),\"\")","v":""},"",""]
[null,{"$f":"IFERROR(MATCH(TRUE,OFFSET(CalculationsAndCharts!$AE$33,B281,0,'Transaction Summary'!$C$2-B281,1),0)+B281,\"\")","v":""},{"$f":"IFERROR(OFFSET(CalculationsAndCharts!$B$32,'Transaction Summary'!B282,0,1,1),\"\")","v":""},{"$f":"IFERROR(OFFSET(CalculationsAndCharts!$AI$32,'Transaction Summary'!B282,0,1,1),\"\")","v":""},{"$f":"IFERROR(MATCH(TRUE,OFFSET(CalculationsAndCharts!$AH$33,E281,0,'Transaction Summary'!$C$2-E281,1),0)+E281,\"\")","v":""},{"$f":"IFERROR(OFFSET(CalculationsAndCharts!$B$32,'Transaction Summary'!E282,0,1,1),\"\")","v":""},{"$f":"IFERROR(OFFSET(CalculationsAndCharts!$AJ$32,'Transaction Summary'!E282,0,1,1),\"\")","v":""},"","",null,{"$f":"IFERROR(MATCH(TRUE,OFFSET(CalculationsAndCharts!$AN$33,K281,0,'Transaction Summary'!$C$2-K281,1),0)+K281,\"\")","v":""},{"$f":"IFERROR(OFFSET(CalculationsAndCharts!$B$32,'Transaction Summary'!K282,0,1,1),\"\")","v":""},{"$f":"IFERROR(OFFSET(CalculationsAndCharts!$AR$32,'Transaction Summary'!K282,0,1,1),\"\")","v":""},{"$f":"IFERROR(MATCH(TRUE,OFFSET(CalculationsAndCharts!$AQ$33,N281,0,'Transaction Summary'!$C$2-N281,1),0)+N281,\"\")","v":""},{"$f":"IFERROR(OFFSET(CalculationsAndCharts!$B$32,'Transaction Summary'!N282,0,1,1),\"\")","v":""},{"$f":"IFERROR(OFFSET(CalculationsAndCharts!$AS$32,'Transaction Summary'!N282,0,1,1),\"\")","v":""},"",""]
[null,{"$f":"IFERROR(MATCH(TRUE,OFFSET(CalculationsAndCharts!$AE$33,B282,0,'Transaction Summary'!$C$2-B282,1),0)+B282,\"\")","v":""},{"$f":"IFERROR(OFFSET(CalculationsAndCharts!$B$32,'Transaction Summary'!B283,0,1,1),\"\")","v":""},{"$f":"IFERROR(OFFSET(CalculationsAndCharts!$AI$32,'Transaction Summary'!B283,0,1,1),\"\")","v":""},{"$f":"IFERROR(MATCH(TRUE,OFFSET(CalculationsAndCharts!$AH$33,E282,0,'Transaction Summary'!$C$2-E282,1),0)+E282,\"\")","v":""},{"$f":"IFERROR(OFFSET(CalculationsAndCharts!$B$32,'Transaction Summary'!E283,0,1,1),\"\")","v":""},{"$f":"IFERROR(OFFSET(CalculationsAndCharts!$AJ$32,'Transaction Summary'!E283,0,1,1),\"\")","v":""},"","",null,{"$f":"IFERROR(MATCH(TRUE,OFFSET(CalculationsAndCharts!$AN$33,K282,0,'Transaction Summary'!$C$2-K282,1),0)+K282,\"\")","v":""},{"$f":"IFERROR(OFFSET(CalculationsAndCharts!$B$32,'Transaction Summary'!K283,0,1,1),\"\")","v":""},{"$f":"IFERROR(OFFSET(CalculationsAndCharts!$AR$32,'Transaction Summary'!K283,0,1,1),\"\")","v":""},{"$f":"IFERROR(MATCH(TRUE,OFFSET(CalculationsAndCharts!$AQ$33,N282,0,'Transaction Summary'!$C$2-N282,1),0)+N282,\"\")","v":""},{"$f":"IFERROR(OFFSET(CalculationsAndCharts!$B$32,'Transaction Summary'!N283,0,1,1),\"\")","v":""},{"$f":"IFERROR(OFFSET(CalculationsAndCharts!$AS$32,'Transaction Summary'!N283,0,1,1),\"\")","v":""},"",""]
[null,{"$f":"IFERROR(MATCH(TRUE,OFFSET(CalculationsAndCharts!$AE$33,B283,0,'Transaction Summary'!$C$2-B283,1),0)+B283,\"\")","v":""},{"$f":"IFERROR(OFFSET(CalculationsAndCharts!$B$32,'Transaction Summary'!B284,0,1,1),\"\")","v":""},{"$f":"IFERROR(OFFSET(CalculationsAndCharts!$AI$32,'Transaction Summary'!B284,0,1,1),\"\")","v":""},{"$f":"IFERROR(MATCH(TRUE,OFFSET(CalculationsAndCharts!$AH$33,E283,0,'Transaction Summary'!$C$2-E283,1),0)+E283,\"\")","v":""},{"$f":"IFERROR(OFFSET(CalculationsAndCharts!$B$32,'Transaction Summary'!E284,0,1,1),\"\")","v":""},{"$f":"IFERROR(OFFSET(CalculationsAndCharts!$AJ$32,'Transaction Summary'!E284,0,1,1),\"\")","v":""},"","",null,{"$f":"IFERROR(MATCH(TRUE,OFFSET(CalculationsAndCharts!$AN$33,K283,0,'Transaction Summary'!$C$2-K283,1),0)+K283,\"\")","v":""},{"$f":"IFERROR(OFFSET(CalculationsAndCharts!$B$32,'Transaction Summary'!K284,0,1,1),\"\")","v":""},{"$f":"IFERROR(OFFSET(CalculationsAndCharts!$AR$32,'Transaction Summary'!K284,0,1,1),\"\")","v":""},{"$f":"IFERROR(MATCH(TRUE,OFFSET(CalculationsAndCharts!$AQ$33,N283,0,'Transaction Summary'!$C$2-N283,1),0)+N283,\"\")","v":""},{"$f":"IFERROR(OFFSET(CalculationsAndCharts!$B$32,'Transaction Summary'!N284,0,1,1),\"\")","v":""},{"$f":"IFERROR(OFFSET(CalculationsAndCharts!$AS$32,'Transaction Summary'!N284,0,1,1),\"\")","v":""},"",""]
[null,{"$f":"IFERROR(MATCH(TRUE,OFFSET(CalculationsAndCharts!$AE$33,B284,0,'Transaction Summary'!$C$2-B284,1),0)+B284,\"\")","v":""},{"$f":"IFERROR(OFFSET(CalculationsAndCharts!$B$32,'Transaction Summary'!B285,0,1,1),\"\")","v":""},{"$f":"IFERROR(OFFSET(CalculationsAndCharts!$AI$32,'Transaction Summary'!B285,0,1,1),\"\")","v":""},{"$f":"IFERROR(MATCH(TRUE,OFFSET(CalculationsAndCharts!$AH$33,E284,0,'Transaction Summary'!$C$2-E284,1),0)+E284,\"\")","v":""},{"$f":"IFERROR(OFFSET(CalculationsAndCharts!$B$32,'Transaction Summary'!E285,0,1,1),\"\")","v":""},{"$f":"IFERROR(OFFSET(CalculationsAndCharts!$AJ$32,'Transaction Summary'!E285,0,1,1),\"\")","v":""},"","",null,{"$f":"IFERROR(MATCH(TRUE,OFFSET(CalculationsAndCharts!$AN$33,K284,0,'Transaction Summary'!$C$2-K284,1),0)+K284,\"\")","v":""},{"$f":"IFERROR(OFFSET(CalculationsAndCharts!$B$32,'Transaction Summary'!K285,0,1,1),\"\")","v":""},{"$f":"IFERROR(OFFSET(CalculationsAndCharts!$AR$32,'Transaction Summary'!K285,0,1,1),\"\")","v":""},{"$f":"IFERROR(MATCH(TRUE,OFFSET(CalculationsAndCharts!$AQ$33,N284,0,'Transaction Summary'!$C$2-N284,1),0)+N284,\"\")","v":""},{"$f":"IFERROR(OFFSET(CalculationsAndCharts!$B$32,'Transaction Summary'!N285,0,1,1),\"\")","v":""},{"$f":"IFERROR(OFFSET(CalculationsAndCharts!$AS$32,'Transaction Summary'!N285,0,1,1),\"\")","v":""},"",""]
[null,{"$f":"IFERROR(MATCH(TRUE,OFFSET(CalculationsAndCharts!$AE$33,B285,0,'Transaction Summary'!$C$2-B285,1),0)+B285,\"\")","v":""},{"$f":"IFERROR(OFFSET(CalculationsAndCharts!$B$32,'Transaction Summary'!B286,0,1,1),\"\")","v":""},{"$f":"IFERROR(OFFSET(CalculationsAndCharts!$AI$32,'Transaction Summary'!B286,0,1,1),\"\")","v":""},{"$f":"IFERROR(MATCH(TRUE,OFFSET(CalculationsAndCharts!$AH$33,E285,0,'Transaction Summary'!$C$2-E285,1),0)+E285,\"\")","v":""},{"$f":"IFERROR(OFFSET(CalculationsAndCharts!$B$32,'Transaction Summary'!E286,0,1,1),\"\")","v":""},{"$f":"IFERROR(OFFSET(CalculationsAndCharts!$AJ$32,'Transaction Summary'!E286,0,1,1),\"\")","v":""},"","",null,{"$f":"IFERROR(MATCH(TRUE,OFFSET(CalculationsAndCharts!$AN$33,K285,0,'Transaction Summary'!$C$2-K285,1),0)+K285,\"\")","v":""},{"$f":"IFERROR(OFFSET(CalculationsAndCharts!$B$32,'Transaction Summary'!K286,0,1,1),\"\")","v":""},{"$f":"IFERROR(OFFSET(CalculationsAndCharts!$AR$32,'Transaction Summary'!K286,0,1,1),\"\")","v":""},{"$f":"IFERROR(MATCH(TRUE,OFFSET(CalculationsAndCharts!$AQ$33,N285,0,'Transaction Summary'!$C$2-N285,1),0)+N285,\"\")","v":""},{"$f":"IFERROR(OFFSET(CalculationsAndCharts!$B$32,'Transaction Summary'!N286,0,1,1),\"\")","v":""},{"$f":"IFERROR(OFFSET(CalculationsAndCharts!$AS$32,'Transaction Summary'!N286,0,1,1),\"\")","v":""},"",""]