{"text_format":"1","workbook":"xlsx","n_sheets":3,"sheets":["Notes","InputPriceData","CalculationsAndCharts"],"not_rendered":{"charts":1,"images":0,"macros":1,"external_links":0,"defined_names":0,"comments":1,"pivot_tables":0},"unopened":[],"bounds":{"document_bytes":16777216,"sheet_cells":100000,"rows_first":2000,"rows_last":500,"rows_between":2000,"halvings":0,"cell_chars":16384,"cell_head_chars":4096},"cells_cut":0,"cells_raw":0,"read":"whole","date_system":"1900"}

{"sheet":"Notes","index":0,"n_rows":66,"n_cols":3,"rows_kept":66,"cut":false,"hidden":false,"merged":[]}
["TheDMI Stochastic.xlsm"]
["Coded 2013-Jan 09 by Ronald McAllister (rpmac_xltt@sprynet.com)"]
[]
["This Workbook demonstrates an EXCEL version of the ideas presented"]
["by Slawomir Bobrowski in an article titled \"Camarilla Points\""]
["which appears in the March 2013 issue of"]
["\"Technical Analysis of Stocks and Commodities\" magazine."]
[]
["Acknowledgements:"]
[null,"2012-Nov-08   Ron McAllister (rpmac_xltt@sprynet.com)"]
[null,null,"Special thanks to Mr. V. S., a MAC user, who brought to my attention that the green button on the InputPrice tab did not fuction properly on his MAC. "]
[null,null,"This interaction with Mr. S. brought out two problems in the Mac environment: ActiveX controls are not supported, and GetOpenFileName dialog is not supported. "]
[null,null,"Subsequently:"]
[null,null,">  Replaced all green ActiveX buttons throughout the workbook with gray EXCEL FORM buttons which are supported on Mac and adjusted my VBA logic to match."]
[null,null,">  Modified code behind the ImportData button to test for MAC operating system and use a variation of Ron de Bruin's Applescript"]
[null,null,"workaround for the shortcommings of the Windows GetOpenFileName function in the MAC environment."]
[null,null,"See Mr. deBruin's web page: http://www.rondebruin.nl/mac.htm for a thorough treatment of the subject"]
[]
["CalculationsAndCharts construction Notes:"]
[1,null,"The chart presented here attempts to replicate the chart in Figure 1 from the article."]
[2,null,"Price Data is plotted on the primary axis as candlesticks. The various background color areas were created using stacked bars. "]
[null,null,"The floating range box is created with a range series stacked on top of a pillow series where the pillow series is plotted with \"No Color\" and fully transparent. So it disappears."]
[3,null,"All data plotted in reverse order to get dates/times to read ascending left to right."]
[4,null,"Scrolling the Camarilla cursor moves the control bar, and replots the chart to keep all of the Camarilla levels visible. "]
[null,null,"However, it is possible to scroll the range box off the left edge of the plot and the trading days off the right edge of the plot."]
[5,null,"Check boxes are provided to let you select which levels are actually displayed on the chart at any given time."]
[]
["Data for this EXCEL example:"]
[null,"Due to contractual requirements, free data sites, like the Yahoo Finance History page, are allowed to display price history for the Dow Industrial Average "]
[null,"as a series of pages, but these free sites are not allowed to provide history file downloads of the Dow Index. Consequently, the data used in this spreadsheet "]
[null,"was obtained by way of a manual Copy and Paste from several pages of history display at one of the free sites."]
[null,null,"The Yahoo symbol for the Dow Industrial Average is ^DJI. Other sites use variations on the theme such as ^DJIA"]
[]
["Price history for various STOCK symbols and some INDEX symbols can be downloaded as files from Yahoo Finance: http://finance.yahoo.com"]
["Enter a symbol and select \"Historical Prices\" from the left margin. "]
[null,"You might want to copy the name and symbol text from the top of the history page to use as your downloaded file name."]
["Then go to the bottom of the page and click \"Download to Spreadsheet\". "]
["Use the \"Save As\" option to save the file to your drive for later input processing. (See \"Automated data import\" below)"]
["Note: The resulting .csv file is in date-descending sequence (most recent first) and may be used in this spread sheet with out sorting. "]
[]
["Automated data import"]
["The InputPriceData tab now has a button that will automate importing Price History data which you have previously downloaded to your hard drive from Yahoo Finance (.csv format please!)"]
["The VBA macro code behind this button uses the standard EXCEL file open dialog to allow you to navigate to the directory where you have stored the downloaded "]
["history files. You may then select the file you are interested in. "]
["Subsequent processing will adjust the Open, High, Low, and Close prices as indicated by the Adjusted Close values provided in the downloaded file. "]
["Both the Raw and the Adjusted data will be copied to the InputPriceData tab for use in this workbook."]
["However, YOU must enter the symbol and description in cell A1 of the InputPriceData tab after you use the button: YAHOO history files DO NOT contain the symbol or a description!"]
["If you used the name and symbol copied from the top of the history page as your file name you may not need to adjust A1."]
["Note: After the data has been transferred to this workbook, the source history file will be closed with out saving it so that it remains unchanged for future uses."]
[]
["Development Notes:"]
[1,null,"This workbook contains and uses VBA macros."]
[2,null,"Input Data"]
[null,null,"The data in this workbook is sorted date descending (most recent date at the top) and the formulas are built accordingly."]
[]
["Calculation and Chart Worksheet Usage Comments:"]
[1,null,"In General, Items in Bolded BLUE are items you may freely change to play what-if games. "]
[null,null,"Be sure to have a backup copy of the spreadsheet before you alter anything else."]
[2,null,"Several of the column formulas begin with \"IF\" logic that determines when there is sufficient data available for the subsequent calculations to be relevant. The cell will calculate to blank or the result of the calculation."]
[null,null,"In a couple of cases, this \"IF\" logic also sets starter values for subsequent smoothing calculations."]
[3,null,"Data windowing can be performed by changing cell A11. Positive values logically \"Pan\" the data window represented by the Calculation sheet down the input sheet and back in time."]
[null,null,"This can have two side effects: First, data may fall outside of the fixed Y-axis scales and be clipped or fall well inside the Y-axis scales wasting a lot of chart vertical space."]
[null,null,"Second, you may move far enough back that you do not have sufficient data points to fill the left of the chart."]
[4,null,"The VBA macros behind the Gray button address these Data Windowing problems and also resizes and vertically aligns all charts on the work sheet to match the Price chart "]
[null,null,"and then horizontally adjusts the X-axis positions of all charts on the work sheet so that the corresponding data points align vertically."]
[null,null,"The macros behind the green button are sensitive to the user control values in cells A11 and A12, and also uses the computed values in cells A8, F11, and F12"]

{"sheet":"InputPriceData","index":1,"n_rows":370,"n_cols":13,"rows_kept":370,"cut":false,"hidden":false,"merged":[[8,9,8,12],[8,1,8,6]]}
["Dow Jones Industrial Average (^DJIA)"]
[]
[]
[]
[]
[null,"Available Input Data Rows",null,null,null,"Available Date Range:"]
[null,{"$f":"COUNTA(B11:B65000)","v":360},null,null,null,"From",{"$f":"OFFSET(B10,B7,0,1,1)","v":"2011-08-04"}]
[null,null,null,null,null,"To",{"$f":"OFFSET(B10,1,0,1,1)","v":"2013-01-09"}]
[null,"Raw Data Values",null,null,null,null,null,"Adjusted","Adjustment","Adjusted Values"]
["RelRow","Date","Open","High","Low","Close","Volume","Close","Factor","Open","High","Low","Close"]
[1,"2013-01-09",13329.92,13416.55,13329.08,13390.51,123059989,13390.51,1,13329.92,13416.55,13329.08,13390.51]
[2,"2013-01-08",13377.42,13377.42,13293.13,13328.85,129516098,13328.85,1,13377.42,13377.42,13293.13,13328.85]
[3,"2013-01-07",13436.13,13436.13,13343.32,13384.29,113063807,13384.29,1,13436.13,13436.13,13343.32,13384.29]
[4,"2013-01-04",13391.05,13447.11,13376.23,13435.21,107541336,13435.21,1,13391.05,13447.11,13376.23,13435.21]
[5,"2013-01-03",13413.01,13430.6,13358.3,13391.36,129609840,13391.36,1,13413.01,13430.6,13358.3,13391.36]
[6,"2013-01-02",13104.3,13412.71,13104.3,13412.55,160045349,13412.55,1,13104.3,13412.71,13104.3,13412.55]
[7,"2012-12-31",12938.19,13109.13,12883.89,13104.14,145734698,13104.14,1,12938.19,13109.13,12883.89,13104.14]
[8,"2012-12-28",13095.08,13095.46,12926.86,12938.11,85919860,12938.11,1,13095.08,13095.46,12926.86,12938.11]
[9,"2012-12-27",13114.97,13141.74,12964.08,13096.31,100147628,13096.31,1,13114.97,13141.74,12964.08,13096.31]
[10,"2012-12-26",13138.85,13174.88,13076.87,13114.59,79406220,13114.59,1,13138.85,13174.88,13076.87,13114.59]
[11,"2012-12-24",13190.15,13190.38,13128.55,13139.08,47704926,13139.08,1,13190.15,13190.38,13128.55,13139.08]
[12,"2012-12-21",13309.95,13309.95,13122.53,13190.84,413145563,13190.84,1,13309.95,13309.95,13122.53,13190.84]
[13,"2012-12-20",13246.67,13314.64,13216.03,13311.72,119499389,13311.72,1,13246.67,13314.64,13216.03,13311.72]
[14,"2012-12-19",13351.04,13357.7,13251.74,13251.97,149016176,13251.97,1,13351.04,13357.7,13251.74,13251.97]
[15,"2012-12-18",13236.61,13365.86,13232.58,13350.96,152923178,13350.96,1,13236.61,13365.86,13232.58,13350.96]
[16,"2012-12-17",13135.17,13244.33,13134.63,13235.39,142964589,13235.39,1,13135.17,13244.33,13134.63,13235.39]
[17,"2012-12-14",13170.8,13190.41,13118.46,13135.01,117601705,13135.01,1,13170.8,13190.41,13118.46,13135.01]
[18,"2012-12-13",13241.38,13264.41,13147.19,13170.72,101181492,13170.72,1,13241.38,13264.41,13147.19,13170.72]
[19,"2012-12-12",13250.05,13329.44,13227.44,13245.45,126332897,13245.45,1,13250.05,13329.44,13227.44,13245.45]
[20,"2012-12-11",13170.34,13306.57,13170.34,13248.44,124485165,13248.44,1,13170.34,13306.57,13170.34,13248.44]
[21,"2012-12-10",13154.89,13195.35,13139.08,13169.88,118501439,13169.88,1,13154.89,13195.35,13139.08,13169.88]
[22,"2012-12-07",13072.87,13157.28,13072.87,13155.13,124082269,13155.13,1,13072.87,13157.28,13072.87,13155.13]
[23,"2012-12-06",13026.19,13076.88,13007.84,13074.04,115270866,13074.04,1,13026.19,13076.88,13007.84,13074.04]
[24,"2012-12-05",12948.96,13089.11,12923.44,13034.49,161208157,13034.49,1,12948.96,13089.11,12923.44,13034.49]
[25,"2012-12-04",12966.45,13022.51,12940.07,12951.78,125211643,12951.78,1,12966.45,13022.51,12940.07,12951.78]
[26,"2012-12-03",13027.73,13087.32,12959.42,12965.6,112889796,12965.6,1,13027.73,13087.32,12959.42,12965.6]
[27,"2012-11-30",13022.05,13053.74,12988.68,13025.58,171059710,13025.58,1,13022.05,13053.74,12988.68,13025.58]
[28,"2012-11-29",12977.35,13062.56,12961.92,13021.82,113165522,13021.82,1,12977.35,13062.56,12961.92,13021.82]
[29,"2012-11-28",12875.56,12989.1,12765.32,12985.11,130958941,12985.11,1,12875.56,12989.1,12765.32,12985.11]
[30,"2012-11-27",12963.38,12980.19,12868.26,12878.13,117884537,12878.13,1,12963.38,12980.19,12868.26,12878.13]
[31,"2012-11-26",13008.3,13008.45,12900.17,12967.37,114350336,12967.37,1,13008.3,13008.45,12900.17,12967.37]
[32,"2012-11-23",12833.13,13011.45,12832.98,13009.68,61081037,13009.68,1,12833.13,13011.45,12832.98,13009.68]
[33,"2012-11-21",12788.36,12845.99,12786.13,12836.89,96181910,12836.89,1,12788.36,12845.99,12786.13,12836.89]
[34,"2012-11-20",12790.89,12808.56,12701.07,12788.51,133975396,12788.51,1,12790.89,12808.56,12701.07,12788.51]
[35,"2012-11-19",12590.23,12796.19,12590.23,12795.96,136857919,12795.96,1,12590.23,12796.19,12590.23,12795.96]
[36,"2012-11-16",12542.31,12604.17,12471.49,12588.31,197088803,12588.31,1,12542.31,12604.17,12471.49,12588.31]
[37,"2012-11-15",12571.1,12600.59,12496.56,12542.38,129134736,12542.38,1,12571.1,12600.59,12496.56,12542.38]
[38,"2012-11-14",12746.54,12797.73,12542.68,12570.95,162158986,12570.95,1,12746.54,12797.73,12542.68,12570.95]
[39,"2012-11-13",12808.71,12898.25,12748.51,12756.18,140450118,12756.18,1,12808.71,12898.25,12748.51,12756.18]
[40,"2012-11-12",12815.93,12861.28,12783,12815.08,62352821,12815.08,1,12815.93,12861.28,12783,12815.08]
[41,"2012-11-09",12811.17,12890.19,12743.39,12815.39,131659388,12815.39,1,12811.17,12890.19,12743.39,12815.39]
[42,"2012-11-08",12932.81,12980.23,12811.24,12811.32,138309952,12811.32,1,12932.81,12980.23,12811.24,12811.32]
[43,"2012-11-07",13228.24,13228.32,12876.6,12932.73,164229095,12932.73,1,13228.24,13228.32,12876.6,12932.73]
[44,"2012-11-06",13113.89,13290.75,13112.9,13245.68,105704809,13245.68,1,13113.89,13290.75,13112.9,13245.68]
[45,"2012-11-05",13092.28,13140.58,13038.71,13112.44,95039931,13112.44,1,13092.28,13140.58,13038.71,13112.44]
[46,"2012-11-02",13233.39,13289.45,13076.57,13093.16,137628823,13093.16,1,13233.39,13289.45,13076.57,13093.16]
[47,"2012-11-01",13099.19,13273.71,13099.11,13232.62,139224221,13232.62,1,13099.19,13273.71,13099.11,13232.62]
[48,"2012-10-31",13107.44,13189.08,13052.07,13096.46,138139226,13096.46,1,13107.44,13189.08,13052.07,13096.46]
[49,"2012-10-26",13104.22,13151.72,13040.17,13107.21,134642113,13107.21,1,13104.22,13151.72,13040.17,13107.21]
[50,"2012-10-25",13079.64,13164.52,13039.86,13103.68,113657989,13103.68,1,13079.64,13164.52,13039.86,13103.68]
[51,"2012-10-24",13103.53,13155.21,13063.63,13077.34,110626209,13077.34,1,13103.53,13155.21,13063.63,13077.34]
[52,"2012-10-23",13344.9,13344.9,13083.28,13102.53,122214657,13102.53,1,13344.9,13344.9,13083.28,13102.53]
[53,"2012-10-22",13344.28,13368.55,13235.15,13345.89,121570469,13345.89,1,13344.28,13368.55,13235.15,13345.89]
[54,"2012-10-19",13545.33,13545.49,13312.22,13343.51,238951163,13343.51,1,13545.33,13545.49,13312.22,13343.51]
[55,"2012-10-18",13553.24,13588.73,13510.93,13548.94,127752120,13548.94,1,13553.24,13588.73,13510.93,13548.94]
[56,"2012-10-17",13539.63,13561.65,13468.9,13557,135547894,13557,1,13539.63,13561.65,13468.9,13557]
[57,"2012-10-16",13423.84,13556.37,13423.76,13551.78,109793745,13551.78,1,13423.84,13556.37,13423.76,13551.78]
[58,"2012-10-15",13329.54,13437.66,13325.93,13424.23,114823445,13424.23,1,13329.54,13437.66,13325.93,13424.23]
[59,"2012-10-12",13325.62,13401.32,13296.43,13328.85,113188443,13328.85,1,13325.62,13401.32,13296.43,13328.85]
[60,"2012-10-11",13346.28,13428.49,13326.12,13326.39,86566812,13326.39,1,13346.28,13428.49,13326.12,13326.39]
[61,"2012-10-10",13473.53,13478.83,13327.62,13344.97,101115655,13344.97,1,13473.53,13478.83,13327.62,13344.97]
[62,"2012-10-09",13582.88,13592.33,13473.31,13473.53,103593902,13473.53,1,13582.88,13592.33,13473.31,13473.53]
[63,"2012-10-08",13610.38,13610.38,13552.09,13583.65,71181046,13583.65,1,13610.38,13610.38,13552.09,13583.65]
[64,"2012-10-05",13569.18,13661.87,13568.75,13610.15,115443521,13610.15,1,13569.18,13661.87,13568.75,13610.15]
[65,"2012-10-04",13495.18,13594.33,13495.18,13575.36,106377384,13575.36,1,13495.18,13594.33,13495.18,13575.36]
[66,"2012-10-03",13479.21,13536.27,13439.12,13494.61,103856537,13494.61,1,13479.21,13536.27,13439.12,13494.61]
[67,"2012-10-02",13515.3,13567.06,13424.92,13482.36,90703696,13482.36,1,13515.3,13567.06,13424.92,13482.36]
[68,"2012-10-01",13437.66,13598.25,13437.66,13515.11,106118869,13515.11,1,13437.66,13598.25,13437.66,13515.11]
[69,"2012-09-28",13485.89,13487.66,13367.27,13437.13,146737668,13437.13,1,13485.89,13487.66,13367.27,13437.13]
[70,"2012-09-27",13413.47,13522.83,13413.47,13485.97,113951488,13485.97,1,13413.47,13522.83,13413.47,13485.97]
[71,"2012-09-26",13458.63,13480.37,13406.91,13413.51,124334563,13413.51,1,13458.63,13480.37,13406.91,13413.51]
[72,"2012-09-25",13559.92,13620.21,13457.25,13457.55,138479667,13457.55,1,13559.92,13620.21,13457.25,13457.55]
[73,"2012-09-24",13577.85,13601.9,13521.68,13558.92,120328750,13558.92,1,13577.85,13601.9,13521.68,13558.92]
[74,"2012-09-21",13597.24,13647.1,13571.53,13579.47,429592201,13579.47,1,13597.24,13647.1,13571.53,13579.47]
[75,"2012-09-20",13575.17,13599.02,13503,13596.93,117899776,13596.93,1,13575.17,13599.02,13503,13596.93]
[76,"2012-09-19",13565.41,13626.48,13556.74,13577.96,116203041,13577.96,1,13565.41,13626.48,13556.74,13577.96]
[77,"2012-09-18",13552.33,13582.12,13517.81,13564.64,120527119,13564.64,1,13552.33,13582.12,13517.81,13564.64]
[78,"2012-09-17",13588.57,13593.15,13526.67,13553.1,128004490,13553.1,1,13588.57,13593.15,13526.67,13553.1]
[79,"2012-09-14",13540.4,13653.24,13533.94,13593.37,184571677,13593.37,1,13540.4,13653.24,13533.94,13593.37]
[80,"2012-09-13",13329.71,13573.33,13325.11,13539.86,151747046,13539.86,1,13329.71,13573.33,13325.11,13539.86]
[81,"2012-09-12",13321.62,13373.62,13317.52,13333.35,111090714,13333.35,1,13321.62,13373.62,13317.52,13333.35]
[82,"2012-09-11",13254.6,13354.34,13253.21,13323.36,104895689,13323.36,1,13254.6,13354.34,13253.21,13323.36]
[83,"2012-09-10",13308.56,13324.1,13251.39,13254.29,123781470,13254.29,1,13308.56,13324.1,13251.39,13254.29]
[84,"2012-09-07",13289.53,13320.27,13266.22,13306.64,140693615,13306.64,1,13289.53,13320.27,13266.22,13306.64]
[85,"2012-09-06",13045.23,13294.13,13045.08,13292,128623258,13292,1,13045.23,13294.13,13045.08,13292]
[86,"2012-09-05",13036.09,13095.91,13018.74,13047.48,92183235,13047.48,1,13036.09,13095.91,13018.74,13047.48]
[87,"2012-09-04",13092.15,13092.39,12977.09,13035.94,103900590,13035.94,1,13092.15,13092.39,12977.09,13035.94]
[88,"2012-08-31",13002.72,13151.87,13002.64,13090.84,119752154,13090.84,1,13002.72,13151.87,13002.64,13090.84]
[89,"2012-08-30",13101.29,13101.37,12978.91,13000.71,89963994,13000.71,1,13101.29,13101.37,12978.91,13000.71]
[90,"2012-08-29",13103.46,13144.81,13081.27,13107.48,89892260,13107.48,1,13103.46,13144.81,13081.27,13107.48]
[91,"2012-08-28",13122.74,13147.32,13081.12,13102.99,81625855,13102.99,1,13122.74,13147.32,13081.12,13102.99]
[92,"2012-08-27",13157.74,13176.17,13115.46,13124.67,96068237,13124.67,1,13157.74,13176.17,13115.46,13124.67]
[93,"2012-08-24",13052.82,13175.51,13027.2,13157.97,86772375,13157.97,1,13052.82,13175.51,13027.2,13157.97]
[94,"2012-08-23",13171.37,13171.37,13046.46,13057.46,101411074,13057.46,1,13171.37,13171.37,13046.46,13057.46]
[95,"2012-08-22",13198.31,13205.06,13120.34,13172.76,111213843,13172.76,1,13198.31,13205.06,13120.34,13172.76]
[96,"2012-08-21",13272.1,13330.76,13186.6,13203.58,117004724,13203.58,1,13272.1,13330.76,13186.6,13203.58]
[97,"2012-08-20",13274.58,13276.15,13230.06,13271.64,87534968,13271.64,1,13274.58,13276.15,13230.06,13271.64]
[98,"2012-08-17",13251.2,13281.32,13244.85,13275.2,138020795,13275.2,1,13251.2,13281.32,13244.85,13275.2]
[99,"2012-08-16",13163.24,13269.35,13145.85,13250.11,114562583,13250.11,1,13163.24,13269.35,13145.85,13250.11]
[100,"2012-08-15",13157.47,13192.89,13138.23,13164.78,74845587,13164.78,1,13157.47,13192.89,13138.23,13164.78]
[101,"2012-08-14",13168.11,13223.01,13142.1,13172.14,84392838,13172.14,1,13168.11,13223.01,13142.1,13172.14]
[102,"2012-08-13",13204.93,13205.01,13112.94,13169.43,67537123,13169.43,1,13204.93,13205.01,13112.94,13169.43]
[103,"2012-08-10",13163.15,13208.22,13094.96,13207.95,86625628,13207.95,1,13163.15,13208.22,13094.96,13207.95]
[104,"2012-08-09",13174.73,13200.23,13125.09,13165.19,83547970,13165.19,1,13174.73,13200.23,13125.09,13165.19]
[105,"2012-08-08",13158.1,13202.65,13115.24,13175.64,84882333,13175.64,1,13158.1,13202.65,13115.24,13175.64]
[106,"2012-08-07",13118.65,13215.97,13118.42,13168.6,95241397,13168.6,1,13118.65,13215.97,13118.42,13168.6]
[107,"2012-08-06",13099.88,13187.28,13099.72,13117.51,84256674,13117.51,1,13099.88,13187.28,13099.72,13117.51]
[108,"2012-08-03",12884.82,13133.18,12884.82,13096.17,112391986,13096.17,1,12884.82,13133.18,12884.82,13096.17]
[109,"2012-08-02",12969.7,12969.85,12778.9,12878.88,112724676,12878.88,1,12969.7,12969.85,12778.9,12878.88]
[110,"2012-08-01",13007.47,13074.83,12951.16,12971.06,132781673,12971.06,1,13007.47,13074.83,12951.16,12971.06]
[111,"2012-07-31",13071.72,13082.66,13006.48,13008.68,125597835,13008.68,1,13071.72,13082.66,13006.48,13008.68]
[112,"2012-07-30",13075.35,13128.64,13042.85,13073.01,91574327,13073.01,1,13075.35,13128.64,13042.85,13073.01]
[113,"2012-07-27",12888.91,13117.74,12888.53,13075.66,161495423,13075.66,1,12888.91,13117.74,12888.53,13075.66]
[114,"2012-07-26",12680.59,12931.22,12680.59,12887.93,133605095,12887.93,1,12680.59,12931.22,12680.59,12887.93]
[115,"2012-07-25",12617.77,12732.77,12617.62,12676.05,126984523,12676.05,1,12617.77,12732.77,12617.62,12676.05]
[116,"2012-07-24",12720.93,12730.09,12521.84,12617.32,131409746,12617.32,1,12720.93,12730.09,12521.84,12617.32]
[117,"2012-07-23",12820.45,12820.45,12583.41,12721.46,137759645,12721.46,1,12820.45,12820.45,12583.41,12721.46]
[118,"2012-07-20",12942.68,12942.83,12810.35,12822.57,210735664,12822.57,1,12942.68,12942.83,12810.35,12822.57]
[119,"2012-07-19",12909.61,12977.57,12889.93,12943.36,137874680,12943.36,1,12909.61,12977.57,12889.93,12943.36]
[120,"2012-07-18",12796.98,12921.94,12754.61,12908.7,130059770,12908.7,1,12796.98,12921.94,12754.61,12908.7]
[121,"2012-07-17",12728.73,12829.23,12645.1,12805.54,119000691,12805.54,1,12728.73,12829.23,12645.1,12805.54]
[122,"2012-07-16",12776.33,12779.58,12690.05,12727.21,93493918,12727.21,1,12776.33,12779.58,12690.05,12727.21]
[123,"2012-07-13",12573.73,12784.73,12573.04,12777.09,121079336,12777.09,1,12573.73,12784.73,12573.04,12777.09]
[124,"2012-07-12",12602.71,12630.64,12492.25,12573.27,142570033,12573.27,1,12602.71,12630.64,12492.25,12573.27]
[125,"2012-07-11",12653.04,12661.97,12534.33,12604.53,128422157,12604.53,1,12653.04,12661.97,12534.33,12604.53]
[126,"2012-07-10",12733.87,12830.29,12606.91,12653.12,114500727,12653.12,1,12733.87,12830.29,12606.91,12653.12]
[127,"2012-07-09",12772.02,12772.02,12686.57,12736.29,98674148,12736.29,1,12772.02,12772.02,12686.57,12736.29]
[128,"2012-07-06",12889.4,12889.4,12702.99,12772.47,96277887,12772.47,1,12889.4,12889.4,12702.99,12772.47]
[129,"2012-07-05",12941.85,12961.3,12852.24,12896.67,97418925,12896.67,1,12941.85,12961.3,12852.24,12896.67]
[130,"2012-07-03",12868.06,12946.2,12845.28,12943.82,63833360,12943.82,1,12868.06,12946.2,12845.28,12943.82]
[131,"2012-07-02",12879.71,12902.12,12795.48,12871.39,109134047,12871.39,1,12879.71,12902.12,12795.48,12871.39]
[132,"2012-06-29",12604.6,12880.39,12604.53,12880.09,191566814,12880.09,1,12604.6,12880.39,12604.53,12880.09]
[133,"2012-06-28",12626.25,12626.25,12450.17,12602.26,125864695,12602.26,1,12626.25,12626.25,12450.17,12602.26]
[134,"2012-06-27",12532.93,12646.87,12532.71,12627.01,97933787,12627.01,1,12532.93,12646.87,12532.71,12627.01]
[135,"2012-06-26",12503.57,12576.41,12452.03,12534.67,109263881,12534.67,1,12503.57,12576.41,12452.03,12534.67]
[136,"2012-06-25",12639.8,12639.87,12458.01,12502.66,134067966,12502.66,1,12639.8,12639.87,12458.01,12502.66]
[137,"2012-06-22",12574.82,12674.08,12574.67,12640.78,209984909,12640.78,1,12574.82,12674.08,12574.67,12640.78]
[138,"2012-06-21",12823.1,12857.39,12561.46,12573.57,146742705,12573.57,1,12823.1,12857.39,12561.46,12573.57]
[139,"2012-06-20",12837.1,12877.18,12744.92,12824.39,119073026,12824.39,1,12837.1,12877.18,12744.92,12824.39]
[140,"2012-06-19",12744.62,12898.94,12744.47,12837.33,125122945,12837.33,1,12744.62,12898.94,12744.47,12837.33]
[141,"2012-06-18",12767.02,12781.93,12696.18,12741.82,111268385,12741.82,1,12767.02,12781.93,12696.18,12741.82]
[142,"2012-06-15",12652.21,12774.7,12651.38,12767.17,281556832,12767.17,1,12652.21,12774.7,12651.38,12767.17]
[143,"2012-06-14",12497.89,12698.68,12497.66,12651.91,128635556,12651.91,1,12497.89,12698.68,12497.66,12651.91]
[144,"2012-06-13",12566.38,12598.25,12453.69,12496.38,125772145,12496.38,1,12566.38,12598.25,12453.69,12496.38]
[145,"2012-06-12",12412.07,12577.02,12411.91,12573.8,110883749,12573.8,1,12412.07,12577.02,12411.91,12573.8]
[146,"2012-06-11",12553.81,12650.47,12398.48,12411.23,121032997,12411.23,1,12553.81,12650.47,12398.48,12411.23]
[147,"2012-06-08",12460.81,12554.2,12398.44,12554.2,110998035,12554.2,1,12460.81,12554.2,12398.44,12554.2]
[148,"2012-06-07",12416.53,12555.26,12416.53,12460.96,130686683,12460.96,1,12416.53,12555.26,12416.53,12460.96]
[149,"2012-06-06",12125,12414.79,12125,12414.79,140068330,12414.79,1,12125,12414.79,12125,12414.79]
[150,"2012-06-05",12101.08,12147.55,12072.17,12127.95,108935725,12127.95,1,12101.08,12147.55,12072.17,12127.95]
[151,"2012-06-04",12119.85,12143.69,12035.09,12101.46,126436971,12101.46,1,12119.85,12143.69,12035.09,12101.46]
[152,"2012-06-01",12391.56,12391.63,12107.48,12118.57,162644992,12118.57,1,12391.56,12391.63,12107.48,12118.57]
[153,"2012-05-31",12414.41,12489.87,12316.48,12393.45,200423290,12393.45,1,12414.41,12489.87,12316.48,12393.45]
[154,"2012-05-30",12579.02,12579.1,12396.4,12419.86,122819241,12419.86,1,12579.02,12579.1,12396.4,12419.86]
[155,"2012-05-29",12454.83,12611.61,12454.6,12580.69,107482485,12580.69,1,12454.83,12611.61,12454.6,12580.69]
[156,"2012-05-25",12530.74,12533.12,12421.53,12454.83,92314513,12454.83,1,12530.74,12533.12,12421.53,12454.83]
[157,"2012-05-24",12491.91,12539.59,12419.63,12529.75,126800577,12529.75,1,12491.91,12539.59,12419.63,12529.75]
[158,"2012-05-23",12501.52,12508.3,12311.56,12496.15,147829671,12496.15,1,12501.52,12508.3,12311.56,12496.15]
[159,"2012-05-22",12505.38,12575.96,12447.33,12502.81,133599677,12502.81,1,12505.38,12575.96,12447.33,12502.81]
[160,"2012-05-21",12369.15,12508.11,12367.72,12504.48,141624733,12504.48,1,12369.15,12508.11,12367.72,12504.48]
[161,"2012-05-18",12443.02,12492.97,12336.76,12369.38,240509807,12369.38,1,12443.02,12492.97,12336.76,12369.38]
[162,"2012-05-17",12598.32,12611.42,12440.52,12442.49,147332828,12442.49,1,12598.32,12611.42,12440.52,12442.49]
[163,"2012-05-16",12617.32,12722.63,12597.34,12598.55,143125503,12598.55,1,12617.32,12722.63,12597.34,12598.55]
[164,"2012-05-15",12695.05,12758.43,12608.16,12632,155996865,12632,1,12695.05,12758.43,12608.16,12632]
[165,"2012-05-14",12818.49,12818.86,12661.48,12695.35,143168951,12695.35,1,12818.49,12818.86,12661.48,12695.35]
[166,"2012-05-11",12851.79,12918.01,12779.28,12820.6,148347480,12820.6,1,12851.79,12918.01,12779.28,12820.6]
[167,"2012-05-10",12831.58,12931.71,12820.3,12855.04,151572422,12855.04,1,12831.58,12931.71,12820.3,12855.04]
[168,"2012-05-09",12921.81,12921.81,12748.48,12835.06,146364865,12835.06,1,12921.81,12921.81,12748.48,12835.06]
[169,"2012-05-08",13000.73,13000.73,12810.39,12932.09,138603459,12932.09,1,13000.73,13000.73,12810.39,12932.09]
[170,"2012-05-07",13035.85,13049.09,12970,13008.53,110066364,13008.53,1,13035.85,13049.09,12970,13008.53]
[171,"2012-05-04",13204.62,13205,13022.34,13038.27,113750576,13038.27,1,13204.62,13205,13022.34,13038.27]
[172,"2012-05-03",13267.59,13284.09,13175.64,13206.59,102062921,13206.59,1,13267.59,13284.09,13175.64,13206.59]
[173,"2012-05-02",13278.11,13278.11,13192.21,13268.57,100768646,13268.57,1,13278.11,13278.11,13192.21,13268.57]
[174,"2012-05-01",13214.16,13338.66,13174.65,13279.32,123374175,13279.32,1,13214.16,13338.66,13174.65,13279.32]
[175,"2012-04-30",13228.31,13228.76,13176.01,13213.63,127087896,13213.63,1,13228.31,13228.76,13176.01,13213.63]
[176,"2012-04-27",13204.7,13266.68,13192.21,13228.31,108376549,13228.31,1,13204.7,13266.68,13192.21,13228.31]
[177,"2012-04-26",13090.11,13227.82,13075.96,13204.62,107573666,13204.62,1,13090.11,13227.82,13075.96,13204.62]
[178,"2012-04-25",12997.69,13105.7,12993.6,13090.72,135229412,13090.72,1,12997.69,13105.7,12993.6,13090.72]
[179,"2012-04-24",12927.77,13050.3,12926.49,13001.56,132106640,13001.56,1,12927.77,13050.3,12926.49,13001.56]
[180,"2012-04-23",13028.2,13028.2,12845.58,12927.17,139356717,12927.17,1,13028.2,13028.2,12845.58,12927.17]
[181,"2012-04-20",12964.48,13082.54,12964.25,13029.26,212027843,13029.26,1,12964.48,13082.54,12964.25,13029.26]
[182,"2012-04-19",13028.73,13080.2,12896.82,12964.1,139181902,12964.1,1,13028.73,13080.2,12896.82,12964.1]
[183,"2012-04-18",13114.56,13114.56,13027.49,13032.75,113493735,13032.75,1,13114.56,13114.56,13027.49,13032.75]
[184,"2012-04-17",12921.79,13131.36,12921.79,13115.54,113085264,13115.54,1,12921.79,13131.36,12921.79,13115.54]
[185,"2012-04-16",12850.88,12986.77,12850.8,12921.41,120976827,12921.41,1,12850.88,12986.77,12850.8,12921.41]
[186,"2012-04-13",12986.2,12986.35,12845.28,12849.59,140936923,12849.59,1,12986.2,12986.35,12845.28,12849.59]
[187,"2012-04-12",12806.45,12986.96,12806.3,12986.58,119760382,12986.58,1,12806.45,12986.96,12806.3,12986.58]
[188,"2012-04-11",12716.92,12844.82,12716.92,12805.39,125199189,12805.39,1,12716.92,12844.82,12716.92,12805.39]
[189,"2012-04-10",12929.44,12929.59,12710.56,12715.93,159270498,12715.93,1,12929.44,12929.59,12710.56,12715.93]
[190,"2012-04-09",13057.57,13057.72,12903.78,12929.59,105478280,12929.59,1,13057.57,13057.72,12903.78,12929.59]
[191,"2012-04-05",13067.18,13088.11,13012.46,13060.14,109491748,13060.14,1,13067.18,13088.11,13012.46,13060.14]
[192,"2012-04-04",13198.19,13198.19,13020.86,13074.75,124961094,13074.75,1,13198.19,13198.19,13020.86,13074.75]
[193,"2012-04-03",13258.96,13265.36,13131.21,13199.55,123741371,13199.55,1,13258.96,13265.36,13131.21,13199.55]
[194,"2012-04-02",13211.36,13297.11,13153.69,13264.49,106029218,13264.49,1,13211.36,13297.11,13153.69,13264.49]
[195,"2012-03-30",13147.94,13224.49,13147.78,13212.04,171160349,13212.04,1,13147.94,13224.49,13147.78,13212.04]
[196,"2012-03-29",13125.99,13151.57,13032.67,13145.82,136249607,13145.82,1,13125.99,13151.57,13032.67,13145.82]
[197,"2012-03-28",13195.39,13212.64,13069.26,13126.21,141521286,13126.21,1,13195.39,13212.64,13069.26,13126.21]
[198,"2012-03-27",13242.09,13264.98,13194.33,13197.73,129220985,13197.73,1,13242.09,13264.98,13194.33,13197.73]
[199,"2012-03-26",13082.62,13243.86,13082.39,13241.63,122055589,13241.63,1,13082.62,13243.86,13082.39,13241.63]
[200,"2012-03-23",13045.99,13099.91,13002.77,13080.73,129219697,13080.73,1,13045.99,13099.91,13002.77,13080.73]
[201,"2012-03-22",13124.4,13124.47,13017.42,13046.14,121829650,13046.14,1,13124.4,13124.47,13017.42,13046.14]
[202,"2012-03-21",13170.79,13190.02,13112.93,13124.62,124815916,13124.62,1,13170.79,13190.02,13112.93,13124.62]
[203,"2012-03-20",13238.45,13238.45,13123.38,13170.19,131107695,13170.19,1,13238.45,13238.45,13123.38,13170.19]
[204,"2012-03-19",13231.94,13269.71,13208.63,13239.13,147093272,13239.13,1,13231.94,13269.71,13208.63,13239.13]
[205,"2012-03-16",13253.51,13289.08,13231.45,13232.62,392567096,13232.62,1,13253.51,13289.08,13231.45,13232.62]
[206,"2012-03-15",13192.97,13253.51,13170.19,13252.76,161543180,13252.76,1,13192.97,13253.51,13170.19,13252.76]
[207,"2012-03-14",13177.15,13221.27,13166.25,13194.1,162764025,13194.1,1,13177.15,13221.27,13166.25,13194.1]
[208,"2012-03-13",12953.2,13180.4,12953.13,13177.68,161950373,13177.68,1,12953.2,13180.4,12953.13,13177.68]
[209,"2012-03-12",12920.58,12976.36,12919.98,12959.71,99741336,12959.71,1,12920.58,12976.36,12919.98,12959.71]
[210,"2012-03-09",12908.62,12968.79,12906.43,12922.02,103199848,12922.02,1,12908.62,12968.79,12906.43,12922.02]
[211,"2012-03-08",12835.53,12937.19,12835.53,12907.94,103490039,12907.94,1,12835.53,12937.19,12835.53,12907.94]
[212,"2012-03-07",12756.12,12857.73,12751.51,12837.33,175083976,12837.33,1,12756.12,12857.73,12751.51,12837.33]
[213,"2012-03-06",12958.65,12958.73,12734.86,12759.15,142313881,12759.15,1,12958.65,12958.73,12734.86,12759.15]
[214,"2012-03-05",12977.34,12977.34,12883.91,12962.81,108602838,12962.81,1,12977.34,12977.34,12883.91,12962.81]
[215,"2012-03-02",12980.75,12997.51,12927.77,12977.57,93839580,12977.57,1,12980.75,12997.51,12927.77,12977.57]
[216,"2012-03-01",12952.29,13032.67,12943.06,12980.3,139143390,12980.3,1,12952.29,13032.67,12943.06,12980.3]
[217,"2012-02-29",13005.42,13055.75,12929.66,12952.07,182451078,12952.07,1,13005.42,13055.75,12929.66,12952.07]
[218,"2012-02-28",12976.74,13021.51,12952.82,13005.12,114253764,13005.12,1,12976.74,13021.51,12952.82,13005.12]
[219,"2012-02-27",12981.13,13027.52,12882.59,12981.51,143219994,12981.51,1,12981.13,13027.52,12882.59,12981.51]
[220,"2012-02-24",12981.2,13013.82,12950.59,12982.95,89429935,12982.95,1,12981.2,13013.82,12950.59,12982.95]
[221,"2012-02-23",12937.08,12996.08,12882.67,12984.69,120437812,12984.69,1,12937.08,12996.08,12882.67,12984.69]
[222,"2012-02-22",12966.22,12977.91,12914.83,12938.67,124175846,12938.67,1,12966.22,12977.91,12914.83,12938.67]
[223,"2012-02-21",12949.34,13005.04,12926.11,12965.69,164523370,12965.69,1,12949.34,13005.04,12926.11,12965.69]
[224,"2012-02-17",12903.33,12967.92,12903.25,12949.87,234593975,12949.87,1,12903.33,12967.92,12903.25,12949.87]
[225,"2012-02-16",12779.81,12914,12779.58,12904.08,134408951,12904.08,1,12779.81,12914,12779.58,12904.08]
[226,"2012-02-15",12864.65,12899.47,12753.62,12780.95,127540570,12780.95,1,12864.65,12899.47,12753.62,12780.95]
[227,"2012-02-14",12871.77,12878.88,12786.93,12878.28,119201716,12878.28,1,12871.77,12878.88,12786.93,12878.28]
[228,"2012-02-13",12799.11,12887.93,12799.11,12874.04,111737013,12874.04,1,12799.11,12887.93,12799.11,12874.04]
[229,"2012-02-10",12889.55,12889.63,12743.56,12801.23,123580632,12801.23,1,12889.55,12889.63,12743.56,12801.23]
[230,"2012-02-09",12884.41,12924.71,12846.41,12890.46,157048359,12890.46,1,12884.41,12924.71,12846.41,12890.46]
[231,"2012-02-08",12865.79,12893.64,12817.69,12883.95,134086790,12883.95,1,12865.79,12893.64,12817.69,12883.95]
[232,"2012-02-07",12844.37,12903.71,12782.57,12878.2,116150237,12878.2,1,12844.37,12903.71,12782.57,12878.2]
[233,"2012-02-06",12860.72,12860.79,12793.43,12845.13,107322510,12845.13,1,12860.72,12860.79,12793.43,12845.13]
[234,"2012-02-03",12705.04,12869.95,12704.96,12862.23,142815756,12862.23,1,12705.04,12869.95,12704.96,12862.23]
[235,"2012-02-02",12716.54,12741.89,12676.05,12705.41,114355339,12705.41,1,12716.54,12741.89,12676.05,12705.41]
[236,"2012-02-01",12632.76,12784.62,12632.76,12716.46,143468899,12716.46,1,12632.76,12784.62,12632.76,12716.46]
[237,"2012-01-31",12654.78,12720.1,12567.33,12632.91,168043777,12632.91,1,12654.78,12720.1,12567.33,12632.91]
[238,"2012-01-30",12659.17,12659.32,12529.41,12653.72,130316180,12653.72,1,12659.17,12659.32,12529.41,12653.72]
[239,"2012-01-27",12733.95,12733.95,12630.72,12660.46,164396673,12660.46,1,12733.95,12733.95,12630.72,12660.46]
[240,"2012-01-26",12757.33,12841.95,12695.16,12734.63,130775455,12734.63,1,12757.33,12841.95,12695.16,12734.63]
[241,"2012-01-25",12673.63,12778.26,12580.12,12756.96,137541867,12756.96,1,12673.63,12778.26,12580.12,12756.96]
[242,"2012-01-24",12708.37,12708.52,12613.54,12675.75,125418397,12675.75,1,12708.37,12708.52,12613.54,12675.75]
[243,"2012-01-23",12720.25,12764.49,12665.83,12708.82,149541428,12708.82,1,12720.25,12764.49,12665.83,12708.82]
[244,"2012-01-20",12623.83,12720.48,12620.76,12720.48,255034666,12720.48,1,12623.83,12720.48,12620.76,12720.48]
[245,"2012-01-19",12578.19,12625.8,12563.58,12623.98,146005769,12623.98,1,12578.19,12625.8,12563.58,12623.98]
[246,"2012-01-18",12474.69,12582.28,12453.2,12578.95,154105263,12578.95,1,12474.69,12582.28,12453.2,12578.95]
[247,"2012-01-17",12423.12,12573.65,12423.12,12482.07,148002753,12482.07,1,12423.12,12573.65,12423.12,12482.07]
[248,"2012-01-13",12469.96,12470.12,12311.79,12422.06,161376740,12422.06,1,12469.96,12470.12,12311.79,12422.06]
[249,"2012-01-12",12449.91,12483.7,12385.08,12471.02,128218645,12471.02,1,12449.91,12483.7,12385.08,12471.02]
[250,"2012-01-11",12459.52,12462.58,12399.01,12449.45,130232978,12449.45,1,12459.52,12462.58,12399.01,12449.45]
[251,"2012-01-10",12394.51,12514.69,12394.51,12462.47,141004114,12462.47,1,12394.51,12514.69,12394.51,12462.47]
[252,"2012-01-09",12359.31,12409.08,12333.85,12392.69,122020104,12392.69,1,12359.31,12409.08,12333.85,12392.69]
[253,"2012-01-06",12407.45,12415.24,12332.41,12359.92,131073104,12359.92,1,12407.45,12415.24,12332.41,12359.92]
[254,"2012-01-05",12418.42,12435.98,12283.9,12415.7,158405863,12415.7,1,12418.42,12435.98,12283.9,12415.7]
[255,"2012-01-04",12392.46,12430,12337.25,12418.42,145115680,12418.42,1,12392.46,12430,12337.25,12418.42]
[256,"2012-01-03",12221.19,12479.65,12221.19,12397.38,152523087,12397.38,1,12221.19,12479.65,12221.19,12397.38]
[257,"2011-12-30",12286.13,12290.06,12213.78,12217.56,96568135,12217.56,1,12286.13,12290.06,12213.78,12217.56]
[258,"2011-12-29",12152.09,12293.96,12152.09,12287.04,84601369,12287.04,1,12152.09,12293.96,12152.09,12287.04]
[259,"2011-12-28",12288.85,12299.11,12140.17,12151.41,83998561,12151.41,1,12288.85,12299.11,12140.17,12151.41]
[260,"2011-12-27",12293.47,12328.47,12269.97,12291.35,95972285,12291.35,1,12293.47,12328.47,12269.97,12291.35]
[261,"2011-12-23",12169.8,12297.44,12169.8,12294,80413820,12294,1,12169.8,12297.44,12169.8,12294]
[262,"2011-12-22",12107.59,12182.71,12107.37,12169.65,151585350,12169.65,1,12107.59,12182.71,12107.37,12169.65]
[263,"2011-12-21",12103.28,12119.7,11999.44,12107.74,163196618,12107.74,1,12103.28,12119.7,11999.44,12107.74]
[264,"2011-12-20",11769.21,12117.13,11768.83,12103.58,165058835,12103.58,1,11769.21,12117.13,11768.83,12103.58]
[265,"2011-12-19",11866.54,11925.88,11735.19,11766.26,135107381,11766.26,1,11866.54,11925.88,11735.19,11766.26]
[266,"2011-12-16",11870.25,11968.18,11819.31,11866.39,389371109,11866.39,1,11870.25,11968.18,11819.31,11866.39]
[267,"2011-12-15",11825.29,11967.84,11825.22,11868.81,136901087,11868.81,1,11825.29,11967.84,11825.22,11868.81]
[268,"2011-12-14",11949.72,11950.02,11786.47,11823.48,161230044,11823.48,1,11949.72,11950.02,11786.47,11823.48]
[269,"2011-12-13",12018.66,12147.7,11904.38,11954.94,171889954,11954.94,1,12018.66,12147.7,11904.38,11954.94]
[270,"2011-12-12",12181.08,12181.38,11940.86,12021.39,149040470,12021.39,1,12181.08,12181.38,11940.86,12021.39]
[271,"2011-12-09",11996.03,12212.83,11995.51,12184.26,154231192,12184.26,1,11996.03,12212.83,11995.51,12184.26]
[272,"2011-12-08",12195.91,12195.91,11966.22,11997.7,165809169,11997.7,1,12195.91,12195.91,11966.22,11997.7]
[273,"2011-12-07",12144.41,12257.67,12060.37,12196.37,168352901,12196.37,1,12144.41,12257.67,12060.37,12196.37]
[274,"2011-12-06",12097.75,12215.71,12076.71,12150.13,145712201,12150.13,1,12097.75,12215.71,12076.71,12150.13]
[275,"2011-12-05",12021.54,12186.53,12021.46,12097.83,153451003,12097.83,1,12021.54,12186.53,12021.46,12097.83]
[276,"2011-12-02",12022.37,12146.68,12007.12,12019.42,150105995,12019.42,1,12022.37,12146.68,12007.12,12019.42]
[277,"2011-12-01",12046.21,12062.64,11974.62,12020.03,143686738,12020.03,1,12046.21,12062.64,11974.62,12020.03]
[278,"2011-11-30",11559.27,12045.68,11559.27,12045.68,286772086,12045.68,1,11559.27,12045.68,11559.27,12045.68]
[279,"2011-11-29",11523.01,11624.01,11517.04,11555.63,156925134,11555.63,1,11523.01,11624.01,11517.04,11555.63]
[280,"2011-11-28",11232.47,11562.1,11232.16,11523.01,204948981,11523.01,1,11232.47,11562.1,11232.16,11523.01]
[281,"2011-11-25",11251.88,11361.47,11231.56,11231.78,87478602,11231.78,1,11251.88,11361.47,11231.56,11231.78]
[282,"2011-11-23",11492.74,11492.82,11257.55,11257.55,152198114,11257.55,1,11492.74,11492.82,11257.55,11257.55]
[283,"2011-11-22",11542.39,11571.75,11433.97,11493.72,148545707,11493.72,1,11542.39,11571.75,11433.97,11493.72]
[284,"2011-11-21",11795.55,11795.7,11454.07,11547.31,170409663,11547.31,1,11795.55,11795.7,11454.07,11547.31]
[285,"2011-11-18",11768.98,11854.81,11755.82,11796.16,181215931,11796.16,1,11768.98,11854.81,11755.82,11796.16]
[286,"2011-11-17",11905.67,11948.43,11676.35,11770.73,167319169,11770.73,1,11905.67,11948.43,11676.35,11770.73]
[287,"2011-11-16",12084.74,12109.03,11890.57,11905.59,166120763,11905.59,1,12084.74,12109.03,11890.57,11905.59]
[288,"2011-11-15",12077.92,12165.11,12001.26,12096.16,144864916,12096.16,1,12077.92,12165.11,12001.26,12096.16]
[289,"2011-11-14",12153,12170.56,12027.03,12078.98,119533572,12078.98,1,12153,12170.56,12027.03,12078.98]
[290,"2011-11-11",11896.28,12179.72,11896.28,12153.68,134494285,12153.68,1,11896.28,12179.72,11896.28,12153.68]
[291,"2011-11-10",11780.03,11961.14,11779.88,11893.79,165191030,11893.79,1,11780.03,11961.14,11779.88,11893.79]
[292,"2011-11-09",12166.4,12166.4,11736.93,11780.94,179390799,11780.94,1,12166.4,12166.4,11736.93,11780.94]
[293,"2011-11-08",12055.52,12187.51,12002.17,12170.18,144934262,12170.18,1,12055.52,12187.51,12002.17,12170.18]
[294,"2011-11-07",11983.02,12074.44,11880.69,12068.39,122099117,12068.39,1,11983.02,12074.44,11880.69,12068.39]
[295,"2011-11-04",12043.41,12043.49,11850.31,11983.24,125830352,11983.24,1,12043.41,12043.49,11850.31,11983.24]
[296,"2011-11-03",11835.59,12065.93,11835.43,12044.47,158154794,12044.47,1,11835.59,12065.93,11835.43,12044.47]
[297,"2011-11-02",11658.49,11876.83,11658.49,11836.04,154060444,11836.04,1,11658.49,11876.83,11658.49,11836.04]
[298,"2011-11-01",11951.53,11951.76,11630.03,11657.96,218168835,11657.96,1,11951.53,11951.76,11630.03,11657.96]
[299,"2011-10-31",12229.22,12229.29,11954.41,11955.01,185393194,11955.01,1,12229.22,12229.29,11954.41,11955.01]
[300,"2011-10-28",12207.34,12251.92,12164.24,12231.11,163589045,12231.11,1,12207.34,12251.92,12164.24,12231.11]
[301,"2011-10-27",11872.07,12284.31,11872.07,12208.55,251618523,12208.55,1,11872.07,12284.31,11872.07,12208.55]
[302,"2011-10-26",11707.76,11891.21,11694.36,11869.04,183477822,11869.04,1,11707.76,11891.21,11694.36,11869.04]
[303,"2011-10-25",11912.63,11912.86,11682.52,11706.62,161392867,11706.62,1,11912.63,11912.86,11682.52,11706.62]
[304,"2011-10-24",11807.96,11940.75,11805.77,11913.62,161850004,11913.62,1,11807.96,11940.75,11805.77,11913.62]
[305,"2011-10-21",11543.22,11812.46,11542.84,11808.79,263953477,11808.79,1,11543.22,11812.46,11542.84,11808.79]
[306,"2011-10-20",11502.13,11581.25,11391.14,11541.78,164972392,11541.78,1,11502.13,11581.25,11391.14,11541.78]
[307,"2011-10-19",11577.54,11633.7,11469.17,11504.62,169557957,11504.62,1,11577.54,11633.7,11469.17,11504.62]
[308,"2011-10-18",11396.17,11652.74,11296.12,11577.05,197728412,11577.05,1,11396.17,11652.74,11296.12,11577.05]
[309,"2011-10-17",11643.35,11643.35,11378.35,11397,140311257,11397,1,11643.35,11643.35,11378.35,11397]
[310,"2011-10-14",11478.97,11646.83,11478.66,11644.49,129978008,11644.49,1,11478.97,11646.83,11478.66,11644.49]
[311,"2011-10-13",11518.09,11518.09,11377.82,11478.13,143589530,11478.13,1,11518.09,11518.09,11377.82,11478.13]
[312,"2011-10-12",11417.36,11625.3,11417.28,11518.85,188036124,11518.85,1,11417.36,11625.3,11417.28,11518.85]
[313,"2011-10-11",11432.8,11447.86,11365.67,11416.3,133331645,11416.3,1,11432.8,11447.86,11365.67,11416.3]
[314,"2011-10-10",11104.56,11433.33,11104.56,11433.18,144241831,11433.18,1,11104.56,11433.33,11104.56,11433.18]
[315,"2011-10-07",11123.41,11232.05,11051.13,11103.12,187989462,11103.12,1,11123.41,11232.05,11051.13,11103.12]
[316,"2011-10-06",10939.87,11132.6,10858.67,11123.33,189976200,11123.33,1,10939.87,11132.6,10858.67,11123.33]
[317,"2011-10-05",10800.47,10950.89,10738.1,10939.95,225866399,10939.95,1,10800.47,10950.89,10738.1,10939.95]
[318,"2011-10-04",10651.44,10825.44,10404.49,10808.71,266956964,10808.71,1,10651.44,10825.44,10404.49,10808.71]
[319,"2011-10-03",10912.1,10979.19,10653.34,10655.3,242818013,10655.3,1,10912.1,10979.19,10653.34,10655.3]
[320,"2011-09-30",11152.32,11152.39,10909.52,10913.38,212448439,10913.38,1,11152.32,11152.39,10909.52,10913.38]
[321,"2011-09-29",11012.79,11271.14,10965.45,11153.98,191328723,11153.98,1,11012.79,11271.14,10965.45,11153.98]
[322,"2011-09-28",11189.1,11317.08,10996.98,11010.9,172354935,11010.9,1,11189.1,11317.08,10996.98,11010.9]
[323,"2011-09-27",11045.23,11369.3,11045.23,11190.69,212449627,11190.69,1,11045.23,11369.3,11045.23,11190.69]
[324,"2011-09-26",10771.78,11057.49,10771.78,11043.86,225598457,11043.86,1,10771.78,11057.49,10771.78,11043.86]
[325,"2011-09-23",10732.77,10808.49,10638.73,10771.48,223121333,10771.48,1,10732.77,10808.49,10638.73,10771.48]
[326,"2011-09-22",11121.89,11122.12,10597.14,10733.83,306114558,10733.83,1,11121.89,11122.12,10597.14,10733.83]
[327,"2011-09-21",11408.58,11447.86,11117.28,11124.84,221139594,11124.84,1,11408.58,11447.86,11117.28,11124.84]
[328,"2011-09-20",11401.47,11550.22,11373.92,11408.66,157017735,11408.66,1,11401.47,11550.22,11373.92,11408.66]
[329,"2011-09-19",11506.67,11506.82,11255.25,11401.01,157453048,11401.01,1,11506.67,11506.82,11255.25,11401.01]
[330,"2011-09-16",11433.71,11532.47,11407.41,11509.09,425510938,11509.09,1,11433.71,11532.47,11407.41,11509.09]
[331,"2011-09-15",11247.72,11433.4,11247.49,11433.18,172025422,11433.18,1,11247.72,11433.4,11247.49,11433.18]
[332,"2011-09-14",11106.83,11386.78,10993.84,11246.73,192576015,11246.73,1,11106.83,11386.78,10993.84,11246.73]
[333,"2011-09-13",11054.99,11140.85,10987.18,11105.85,189937679,11105.85,1,11054.99,11140.85,10987.18,11105.85]
[334,"2011-09-12",10990.01,11062.03,10824.76,11061.12,197123737,11061.12,1,10990.01,11062.03,10824.76,11061.12]
[335,"2011-09-09",11294.6,11294.83,10935.64,10992.13,227753635,10992.13,1,11294.6,11294.83,10935.64,10992.13]
[336,"2011-09-08",11414.86,11477.3,11283.74,11295.81,172998309,11295.81,1,11414.86,11477.3,11283.74,11295.81]
[337,"2011-09-07",11137.63,11414.86,11137.63,11414.86,166242731,11414.86,1,11137.63,11414.86,11137.63,11414.86]
[338,"2011-09-06",11237.31,11237.46,10932.53,11139.3,217386111,11139.3,1,11237.31,11237.46,10932.53,11139.3]
[339,"2011-09-02",11492.06,11492.14,11211.35,11240.26,174648265,11240.26,1,11492.06,11492.14,11211.35,11240.26]
[340,"2011-09-01",11613.3,11716.84,11488.46,11493.57,178098073,11493.57,1,11613.3,11716.84,11488.46,11493.57]
[341,"2011-08-31",11560.48,11712.6,11528.08,11613.53,229674802,11613.53,1,11560.48,11712.6,11528.08,11613.53]
[342,"2011-08-30",11532.13,11630.07,11429.39,11559.95,181968355,11559.95,1,11532.13,11630.07,11429.39,11559.95]
[343,"2011-08-29",11286.65,11541.78,11286.58,11539.25,177504992,11539.25,1,11286.65,11541.78,11286.58,11539.25]
[344,"2011-08-26",11145.2,11326.43,10929.2,11284.54,244297740,11284.54,1,11145.2,11326.43,10929.2,11284.54]
[345,"2011-08-25",11321.02,11406.39,11106.76,11149.82,254987692,11149.82,1,11321.02,11406.39,11106.76,11149.82]
[346,"2011-08-24",11175.78,11331.57,11113.04,11320.71,227361436,11320.71,1,11175.78,11331.57,11113.04,11320.71]
[347,"2011-08-23",10854.58,11176.84,10854.43,11176.76,244081089,11176.76,1,10854.58,11176.84,10854.43,11176.76]
[348,"2011-08-22",10820.37,11020.55,10820.37,10854.65,226715263,10854.65,1,10820.37,11020.55,10820.37,10854.65]
[349,"2011-08-19",10989.75,11086.4,10801.41,10817.65,336342109,10817.65,1,10989.75,11086.4,10801.41,10817.65]
[350,"2011-08-18",11406.27,11406.5,10881.6,10990.58,308402854,10990.58,1,11406.27,11406.5,10881.6,10990.58]
[351,"2011-08-17",11392.01,11529.67,11322.3,11410.21,171232413,11410.21,1,11392.01,11529.67,11322.3,11410.21]
[352,"2011-08-16",11480.48,11488.01,11292.63,11405.93,187632164,11405.93,1,11480.48,11488.01,11292.63,11405.93]
[353,"2011-08-15",11269.85,11484.6,11269.85,11482.9,187943407,11482.9,1,11269.85,11484.6,11269.85,11482.9]
[354,"2011-08-12",11143.46,11346.67,11142.18,11269.02,227965675,11269.02,1,11143.46,11346.67,11142.18,11269.02]
[355,"2011-08-11",10729.85,11278.9,10729.85,11143.31,393149124,11143.31,1,10729.85,11278.9,10729.85,11143.31]
[356,"2011-08-10",11228,11228,10686.49,10719.94,395587728,10719.94,1,11228,11228,10686.49,10719.94]
[357,"2011-08-09",10810.91,11244.01,10604.07,11239.77,431335962,11239.77,1,10810.91,11244.01,10604.07,11239.77]
[358,"2011-08-08",11433.93,11434.09,10809.85,10809.85,479788587,10809.85,1,11433.93,11434.09,10809.85,10809.85]
[359,"2011-08-05",11383.98,11555.41,11139,11444.61,405448778,11444.61,1,11383.98,11555.41,11139,11444.61]
[360,"2011-08-04",11893.86,11893.94,11372.14,11383.68,300708556,11383.68,1,11893.86,11893.94,11372.14,11383.68]

{"sheet":"CalculationsAndCharts","index":2,"n_rows":872,"n_cols":25,"rows_kept":872,"cut":false,"hidden":false,"merged":[[1,18,1,19],[29,21,29,23],[17,4,18,4],[28,19,29,19],[24,3,25,3],[26,4,26,5],[28,4,28,5],[29,20,30,20],[29,0,30,0],[21,3,21,5],[27,18,27,19],[28,18,29,18],[29,17,30,17]]}
["Camarilla Points"]
[null,"Price Data: ",{"$f":"InputPriceData!A1&\"; \"&C18&\" \"&C17&\", Camarilla Date: \"&TEXT(B18,\"ddd mm/dd/yyyy\")","v":"Dow Jones Industrial Average (^DJIA); 25 Trading Days, Camarilla Date: Tue 04/24/2012"},null,null,null,null,null,null,null,null,null,null,null,null,null,null,null,"Camarilla Levels"]
[null,null,null,null,null,null,null,null,null,null,null,null,null,null,null,null,null,null,"Show","Value"]
["User Charting Controls",null,null,null,null,null,null,null,null,null,null,null,null,null,null,null,null,null,true,{"$f":"$C$20/$D$20*$E$20","v":13523.715829884759}]
["Data Control",null,null,null,null,null,null,null,null,null,null,null,null,null,null,null,null,null,true,{"$f":"$E$20+$F$20*1.1/2","v":13249.772500000001}]
[{"$f":"InputPriceData!$B$7","v":360}," Available Input Data Rows",null,null,"Earliest: ",{"$f":"OFFSET(InputPriceData!B10,CalculationsAndCharts!A6,0,1,1)","v":"2011-08-04"},null,null,null,null,null,null,null,null,null,null,null,null,true,{"$f":"$E$20+$F$20*1.1/4","v":13088.471250000001}]
[null,null,null,null,"Latest: ",{"$f":"OFFSET(InputPriceData!B10,1,0,1,1)","v":"2013-01-09"},null,null,null,null,null,null,null,null,null,null,null,null,false,{"$f":"$E$20+$F$20*1.1/6","v":13034.704166666666}]
[{"$f":"MIN(A6-A11,COUNTA(B32:B9982))","v":310}," Logically Available for Calc / Plot",null,null,null,null,null,null,null,null,null,null,null,null,null,null,null,null,false,{"$f":"$E$20+$F$20*1.1/12","v":12980.937083333334}]
[]
["Price Chart Windowing Controls",null,null,null,null,"Y-axis Range",null,null,null,null,null,null,null,null,null,null,null,null,false,{"$f":"$C$20","v":13297.11}]
[50,"Input Data Offset (Pan)",null,null,"Max High+",{"$f":"CEILING(MAX(OFFSET($E$32,0,0,$A$12,1),($C$20/$D$20*$E$20))+2*F14,0.1)","v":13727},null,null,null,null,null,null,null,null,null,null,null,null,true,{"$f":"$E$20","v":12927.17}]
[160,"Data Points to Plot (Zoom)",null,null,"Min Low-",{"$f":"FLOOR(MIN(OFFSET($F$32,0,0,$A$12,1),(E20-(Q32-E20)))-2*F14,0.1)","v":11970},null,null,null,null,null,null,null,null,null,null,null,null,false,{"$f":"$D$20","v":12710.56}]
[null,"First: ",{"$f":"OFFSET(B31,A12,0,1,1)","v":"2012-03-09"},null,"White space %:",0.02]
[null,"Last: ",{"$f":"B32","v":"2012-10-24"},null,"Allowance:",{"$f":"FLOOR((CEILING(MAX(OFFSET($E$32,0,0,$A$12,1)),1)-FLOOR(MIN(OFFSET($F$32,0,0,$A$12,1)),1))*F13,0.01)","v":32.54},null,null,null,null,null,null,null,null,null,null,null,null,false,{"$f":"$E$20-$F$20*1.1/12","v":12873.402916666666}]
[null,null,null,null,null,null,null,null,null,null,null,null,null,null,null,null,null,null,false,{"$f":"$E$20-$F$20*1.1/6","v":12819.635833333334}]
[null,null,null,null,null,null,null,null,null,null,null,null,null,null,null,null,null,null,true,{"$f":"$E$20-$F$20*1.1/4","v":12765.86875}]
[null,"Camarilla Date","Trading Days",{"$f":"OFFSET($B$31,$B$20+$C$18,0,1,1)","v":"2012-03-19"},{"$f":"OFFSET($B$31,$B$20+1,0,1,1)","v":"2012-04-23"},null,null,null,null,null,null,null,null,null,null,null,null,null,true,{"$f":"$E$20-$F$20*1.1/2","v":12604.567499999999}]
[null,{"$f":"D27","v":"2012-04-24"},25,null,"Range Close",null,null,null,null,null,null,null,null,null,null,null,null,null,true,{"$f":"2*$E$20-($C$20/$D$20*$E$20)","v":12330.624170115241}]
[null,"Offset","Range Hi","Range Lo",null,"Range"]
[null,{"$f":"OFFSET(A31,MATCH(B18,OFFSET(B31,1,0,A8,1),0),0,1,1)","v":129},{"$f":"MAX(OFFSET($E$31,$B$20+1,0,$C$18,1))","v":13297.11},{"$f":"MIN(OFFSET($F$31,$B$20+1,0,$C$18,1))","v":12710.56},{"$f":"OFFSET($G$31,$B$20+1,0,1,1)","v":12927.17},{"$f":"C20-D20","v":586.55000000000109}]
[]
["Help! I would like to plot data",null,null,"Chart Windowing values to use"]
[null,"From","2012-03-12",{"$f":"OFFSET(InputPriceData!$A$10,MATCH(C23,OFFSET(InputPriceData!B10,1,0,InputPriceData!$B$7,1),0),0,1,1)-D24","v":55},"==> for Points to Plot"]
[null,"To","2012-05-29",{"$f":"OFFSET(InputPriceData!$A$10,MATCH(C24,OFFSET(InputPriceData!$B$10,1,0,InputPriceData!$B$7,1),0),0,1,1)-1","v":154},"==> for Offset"]
[null,null,null,"Date at Cursor"]
[]
[32,{"$f":"$A$12-$A$27+1","v":129},null,{"$f":"OFFSET($B$31,B27,0,1,1)","v":"2012-04-24"},"Scroll Cam'la Bar => "]
[71,{"$f":"$A$12-$A$28+1","v":90},null,null,null,null,null,null,null,null,null,null,null,null,null,null,null,null,"Chart Cursors"]
[null,null,null,{"$f":"OFFSET($B$31,B28,0,1,1)","v":"2012-06-19"},"Scroll Price => ",null,null,null,null,null,null,null,null,null,null,null,null,null,"Price Cursor","Camarilla Bar"]
["Rel Row",null,null,"Price Sources",null,null,null,"Support Lines",null,null,null,null,"Resistance Lines",null,null,null,null,{"$f":"$C$18 & \" Range Days\"","v":"25 Range Days"},null,null,{"$f":"$C$18 & \" Trade Days\"","v":"25 Trade Days"},"Camarilla Basis Determinants"]
[null,"Date","Volume","Open","High","Low","Close","S1","S2","S3","S4","S5","R1","R2","R3","R4","R5",null,{"$f":"$F$11","v":13727},{"$f":"$F$11","v":13727},null,"C-High","C-Close","C-Low","Pillow"]
[1,{"$f":"OFFSET(InputPriceData!B$10,CalculationsAndCharts!$A32+$A$11,0,1,1)","v":"2012-10-24"},{"$f":"OFFSET(InputPriceData!G$10,CalculationsAndCharts!$A32+$A$11,0,1,1)","v":110626209},{"$f":"OFFSET(InputPriceData!C$10,CalculationsAndCharts!$A32+$A$11,0,1,1)","v":13103.53},{"$f":"OFFSET(InputPriceData!D$10,CalculationsAndCharts!$A32+$A$11,0,1,1)","v":13155.21},{"$f":"OFFSET(InputPriceData!E$10,CalculationsAndCharts!$A32+$A$11,0,1,1)","v":13063.63},{"$f":"OFFSET(InputPriceData!F$10,CalculationsAndCharts!$A32+$A$11,0,1,1)","v":13077.34},{"$f":"IF(AND(A32<=$B$20,$S$14),$T$14,0)","v":0},{"$f":"IF(AND(A32<=$B$20,$S$15),$T$15,0)","v":0},{"$f":"IF(AND(A32<=$B$20,$S$16),$T$16,0)","v":12765.86875},{"$f":"IF(AND(A32<=$B$20,$S$17),$T$17,0)","v":12604.567499999999},{"$f":"IF(AND(A32<=$B$20,$S$18),$T$18,0)","v":12330.624170115241},{"$f":"IF(AND(A32<=$B$20,$S$8),$T$8,0)","v":0},{"$f":"IF(AND(A32<=$B$20,$S$7),$T$7,0)","v":0},{"$f":"IF(AND(A32<=$B$20,$S$6),$T$6,0)","v":13088.471250000001},{"$f":"IF(AND(A32<=$B$20,$S$5),$T$5,0)","v":13249.772500000001},{"$f":"IF(AND(A32<=$B$20,$S$4),$T$4,0)","v":13523.715829884759},{"$f":"IF(AND(A32>$B$20,A32<=($B$20+$C$18)),$T$10-Y32,0)","v":0},{"$f":"IF($A32=$B$28,S$31,0)","v":0},{"$f":"IF($A32=$B$27,S$31,0)","v":0},{"$f":"IF(AND(A32<=$B$20,A32>($B$20-$C$18)),$F$11,0)","v":0},{"$f":"IF(AND($S$10,A32>$B$20,A32<=($B$20+$C$18)),$T$10,0)","v":0},{"$f":"IF(AND($S$11,A32>$B$20,A32<=($B$20+$C$18)),$T$11,0)","v":0},{"$f":"IF(AND($S$12,A32>$B$20,A32<=($B$20+$C$18)),$T$12,0)","v":0},{"$f":"IF(AND(A32>$B$20,A32<=($B$20+$C$18)),$T$12,0)","v":0}]
[2,{"$f":"OFFSET(InputPriceData!B$10,CalculationsAndCharts!$A33+$A$11,0,1,1)","v":"2012-10-23"},{"$f":"OFFSET(InputPriceData!G$10,CalculationsAndCharts!$A33+$A$11,0,1,1)","v":122214657},{"$f":"OFFSET(InputPriceData!C$10,CalculationsAndCharts!$A33+$A$11,0,1,1)","v":13344.9},{"$f":"OFFSET(InputPriceData!D$10,CalculationsAndCharts!$A33+$A$11,0,1,1)","v":13344.9},{"$f":"OFFSET(InputPriceData!E$10,CalculationsAndCharts!$A33+$A$11,0,1,1)","v":13083.28},{"$f":"OFFSET(InputPriceData!F$10,CalculationsAndCharts!$A33+$A$11,0,1,1)","v":13102.53},{"$f":"IF(AND(A33<=$B$20,$S$14),$T$14,0)","v":0},{"$f":"IF(AND(A33<=$B$20,$S$15),$T$15,0)","v":0},{"$f":"IF(AND(A33<=$B$20,$S$16),$T$16,0)","v":12765.86875},{"$f":"IF(AND(A33<=$B$20,$S$17),$T$17,0)","v":12604.567499999999},{"$f":"IF(AND(A33<=$B$20,$S$18),$T$18,0)","v":12330.624170115241},{"$f":"IF(AND(A33<=$B$20,$S$8),$T$8,0)","v":0},{"$f":"IF(AND(A33<=$B$20,$S$7),$T$7,0)","v":0},{"$f":"IF(AND(A33<=$B$20,$S$6),$T$6,0)","v":13088.471250000001},{"$f":"IF(AND(A33<=$B$20,$S$5),$T$5,0)","v":13249.772500000001},{"$f":"IF(AND(A33<=$B$20,$S$4),$T$4,0)","v":13523.715829884759},{"$f":"IF(AND(A33>$B$20,A33<=($B$20+$C$18)),$T$10-Y33,0)","v":0},0,{"$f":"IF($A33=$B$27,S$31,0)","v":0},{"$f":"IF(AND(A33<=$B$20,A33>($B$20-$C$18)),$F$11,0)","v":0},{"$f":"IF(AND($S$10,A33>$B$20,A33<=($B$20+$C$18)),$T$10,0)","v":0},{"$f":"IF(AND($S$11,A33>$B$20,A33<=($B$20+$C$18)),$T$11,0)","v":0},{"$f":"IF(AND($S$12,A33>$B$20,A33<=($B$20+$C$18)),$T$12,0)","v":0},{"$f":"IF(AND(A33>$B$20,A33<=($B$20+$C$18)),$T$12,0)","v":0}]
[3,{"$f":"OFFSET(InputPriceData!B$10,CalculationsAndCharts!$A34+$A$11,0,1,1)","v":"2012-10-22"},{"$f":"OFFSET(InputPriceData!G$10,CalculationsAndCharts!$A34+$A$11,0,1,1)","v":121570469},{"$f":"OFFSET(InputPriceData!C$10,CalculationsAndCharts!$A34+$A$11,0,1,1)","v":13344.28},{"$f":"OFFSET(InputPriceData!D$10,CalculationsAndCharts!$A34+$A$11,0,1,1)","v":13368.55},{"$f":"OFFSET(InputPriceData!E$10,CalculationsAndCharts!$A34+$A$11,0,1,1)","v":13235.15},{"$f":"OFFSET(InputPriceData!F$10,CalculationsAndCharts!$A34+$A$11,0,1,1)","v":13345.89},{"$f":"IF(AND(A34<=$B$20,$S$14),$T$14,0)","v":0},{"$f":"IF(AND(A34<=$B$20,$S$15),$T$15,0)","v":0},{"$f":"IF(AND(A34<=$B$20,$S$16),$T$16,0)","v":12765.86875},{"$f":"IF(AND(A34<=$B$20,$S$17),$T$17,0)","v":12604.567499999999},{"$f":"IF(AND(A34<=$B$20,$S$18),$T$18,0)","v":12330.624170115241},0,0,13088.471250000001,13249.772500000001,13523.715829884759,0,0,0,0,0,0,0,0]
[4,{"$f":"OFFSET(InputPriceData!B$10,CalculationsAndCharts!$A35+$A$11,0,1,1)","v":"2012-10-19"},{"$f":"OFFSET(InputPriceData!G$10,CalculationsAndCharts!$A35+$A$11,0,1,1)","v":238951163},{"$f":"OFFSET(InputPriceData!C$10,CalculationsAndCharts!$A35+$A$11,0,1,1)","v":13545.33},{"$f":"OFFSET(InputPriceData!D$10,CalculationsAndCharts!$A35+$A$11,0,1,1)","v":13545.49},{"$f":"OFFSET(InputPriceData!E$10,CalculationsAndCharts!$A35+$A$11,0,1,1)","v":13312.22},{"$f":"OFFSET(InputPriceData!F$10,CalculationsAndCharts!$A35+$A$11,0,1,1)","v":13343.51},{"$f":"IF(AND(A35<=$B$20,$S$14),$T$14,0)","v":0},{"$f":"IF(AND(A35<=$B$20,$S$15),$T$15,0)","v":0},{"$f":"IF(AND(A35<=$B$20,$S$16),$T$16,0)","v":12765.86875},{"$f":"IF(AND(A35<=$B$20,$S$17),$T$17,0)","v":12604.567499999999},{"$f":"IF(AND(A35<=$B$20,$S$18),$T$18,0)","v":12330.624170115241},0,0,13088.471250000001,13249.772500000001,13523.715829884759,0,0,0,0,0,0,0,0]
[5,{"$f":"OFFSET(InputPriceData!B$10,CalculationsAndCharts!$A36+$A$11,0,1,1)","v":"2012-10-18"},{"$f":"OFFSET(InputPriceData!G$10,CalculationsAndCharts!$A36+$A$11,0,1,1)","v":127752120},{"$f":"OFFSET(InputPriceData!C$10,CalculationsAndCharts!$A36+$A$11,0,1,1)","v":13553.24},{"$f":"OFFSET(InputPriceData!D$10,CalculationsAndCharts!$A36+$A$11,0,1,1)","v":13588.73},{"$f":"OFFSET(InputPriceData!E$10,CalculationsAndCharts!$A36+$A$11,0,1,1)","v":13510.93},{"$f":"OFFSET(InputPriceData!F$10,CalculationsAndCharts!$A36+$A$11,0,1,1)","v":13548.94},{"$f":"IF(AND(A36<=$B$20,$S$14),$T$14,0)","v":0},{"$f":"IF(AND(A36<=$B$20,$S$15),$T$15,0)","v":0},{"$f":"IF(AND(A36<=$B$20,$S$16),$T$16,0)","v":12765.86875},{"$f":"IF(AND(A36<=$B$20,$S$17),$T$17,0)","v":12604.567499999999},{"$f":"IF(AND(A36<=$B$20,$S$18),$T$18,0)","v":12330.624170115241},0,0,13088.471250000001,13249.772500000001,13523.715829884759,0,0,0,0,0,0,0,0]
[6,{"$f":"OFFSET(InputPriceData!B$10,CalculationsAndCharts!$A37+$A$11,0,1,1)","v":"2012-10-17"},{"$f":"OFFSET(InputPriceData!G$10,CalculationsAndCharts!$A37+$A$11,0,1,1)","v":135547894},{"$f":"OFFSET(InputPriceData!C$10,CalculationsAndCharts!$A37+$A$11,0,1,1)","v":13539.63},{"$f":"OFFSET(InputPriceData!D$10,CalculationsAndCharts!$A37+$A$11,0,1,1)","v":13561.65},{"$f":"OFFSET(InputPriceData!E$10,CalculationsAndCharts!$A37+$A$11,0,1,1)","v":13468.9},{"$f":"OFFSET(InputPriceData!F$10,CalculationsAndCharts!$A37+$A$11,0,1,1)","v":13557},{"$f":"IF(AND(A37<=$B$20,$S$14),$T$14,0)","v":0},{"$f":"IF(AND(A37<=$B$20,$S$15),$T$15,0)","v":0},{"$f":"IF(AND(A37<=$B$20,$S$16),$T$16,0)","v":12765.86875},{"$f":"IF(AND(A37<=$B$20,$S$17),$T$17,0)","v":12604.567499999999},{"$f":"IF(AND(A37<=$B$20,$S$18),$T$18,0)","v":12330.624170115241},0,0,13088.471250000001,13249.772500000001,13523.715829884759,0,0,0,0,0,0,0,0]
[7,{"$f":"OFFSET(InputPriceData!B$10,CalculationsAndCharts!$A38+$A$11,0,1,1)","v":"2012-10-16"},{"$f":"OFFSET(InputPriceData!G$10,CalculationsAndCharts!$A38+$A$11,0,1,1)","v":109793745},{"$f":"OFFSET(InputPriceData!C$10,CalculationsAndCharts!$A38+$A$11,0,1,1)","v":13423.84},{"$f":"OFFSET(InputPriceData!D$10,CalculationsAndCharts!$A38+$A$11,0,1,1)","v":13556.37},{"$f":"OFFSET(InputPriceData!E$10,CalculationsAndCharts!$A38+$A$11,0,1,1)","v":13423.76},{"$f":"OFFSET(InputPriceData!F$10,CalculationsAndCharts!$A38+$A$11,0,1,1)","v":13551.78},{"$f":"IF(AND(A38<=$B$20,$S$14),$T$14,0)","v":0},{"$f":"IF(AND(A38<=$B$20,$S$15),$T$15,0)","v":0},{"$f":"IF(AND(A38<=$B$20,$S$16),$T$16,0)","v":12765.86875},{"$f":"IF(AND(A38<=$B$20,$S$17),$T$17,0)","v":12604.567499999999},{"$f":"IF(AND(A38<=$B$20,$S$18),$T$18,0)","v":12330.624170115241},0,0,13088.471250000001,13249.772500000001,13523.715829884759,0,0,0,0,0,0,0,0]
[8,{"$f":"OFFSET(InputPriceData!B$10,CalculationsAndCharts!$A39+$A$11,0,1,1)","v":"2012-10-15"},{"$f":"OFFSET(InputPriceData!G$10,CalculationsAndCharts!$A39+$A$11,0,1,1)","v":114823445},{"$f":"OFFSET(InputPriceData!C$10,CalculationsAndCharts!$A39+$A$11,0,1,1)","v":13329.54},{"$f":"OFFSET(InputPriceData!D$10,CalculationsAndCharts!$A39+$A$11,0,1,1)","v":13437.66},{"$f":"OFFSET(InputPriceData!E$10,CalculationsAndCharts!$A39+$A$11,0,1,1)","v":13325.93},{"$f":"OFFSET(InputPriceData!F$10,CalculationsAndCharts!$A39+$A$11,0,1,1)","v":13424.23},{"$f":"IF(AND(A39<=$B$20,$S$14),$T$14,0)","v":0},{"$f":"IF(AND(A39<=$B$20,$S$15),$T$15,0)","v":0},{"$f":"IF(AND(A39<=$B$20,$S$16),$T$16,0)","v":12765.86875},{"$f":"IF(AND(A39<=$B$20,$S$17),$T$17,0)","v":12604.567499999999},{"$f":"IF(AND(A39<=$B$20,$S$18),$T$18,0)","v":12330.624170115241},0,0,13088.471250000001,13249.772500000001,13523.715829884759,0,0,0,0,0,0,0,0]
[9,{"$f":"OFFSET(InputPriceData!B$10,CalculationsAndCharts!$A40+$A$11,0,1,1)","v":"2012-10-12"},{"$f":"OFFSET(InputPriceData!G$10,CalculationsAndCharts!$A40+$A$11,0,1,1)","v":113188443},{"$f":"OFFSET(InputPriceData!C$10,CalculationsAndCharts!$A40+$A$11,0,1,1)","v":13325.62},{"$f":"OFFSET(InputPriceData!D$10,CalculationsAndCharts!$A40+$A$11,0,1,1)","v":13401.32},{"$f":"OFFSET(InputPriceData!E$10,CalculationsAndCharts!$A40+$A$11,0,1,1)","v":13296.43},{"$f":"OFFSET(InputPriceData!F$10,CalculationsAndCharts!$A40+$A$11,0,1,1)","v":13328.85},{"$f":"IF(AND(A40<=$B$20,$S$14),$T$14,0)","v":0},{"$f":"IF(AND(A40<=$B$20,$S$15),$T$15,0)","v":0},{"$f":"IF(AND(A40<=$B$20,$S$16),$T$16,0)","v":12765.86875},{"$f":"IF(AND(A40<=$B$20,$S$17),$T$17,0)","v":12604.567499999999},{"$f":"IF(AND(A40<=$B$20,$S$18),$T$18,0)","v":12330.624170115241},0,0,13088.471250000001,13249.772500000001,13523.715829884759,0,0,0,0,0,0,0,0]
[10,{"$f":"OFFSET(InputPriceData!B$10,CalculationsAndCharts!$A41+$A$11,0,1,1)","v":"2012-10-11"},{"$f":"OFFSET(InputPriceData!G$10,CalculationsAndCharts!$A41+$A$11,0,1,1)","v":86566812},{"$f":"OFFSET(InputPriceData!C$10,CalculationsAndCharts!$A41+$A$11,0,1,1)","v":13346.28},{"$f":"OFFSET(InputPriceData!D$10,CalculationsAndCharts!$A41+$A$11,0,1,1)","v":13428.49},{"$f":"OFFSET(InputPriceData!E$10,CalculationsAndCharts!$A41+$A$11,0,1,1)","v":13326.12},{"$f":"OFFSET(InputPriceData!F$10,CalculationsAndCharts!$A41+$A$11,0,1,1)","v":13326.39},{"$f":"IF(AND(A41<=$B$20,$S$14),$T$14,0)","v":0},{"$f":"IF(AND(A41<=$B$20,$S$15),$T$15,0)","v":0},{"$f":"IF(AND(A41<=$B$20,$S$16),$T$16,0)","v":12765.86875},{"$f":"IF(AND(A41<=$B$20,$S$17),$T$17,0)","v":12604.567499999999},{"$f":"IF(AND(A41<=$B$20,$S$18),$T$18,0)","v":12330.624170115241},0,0,13088.471250000001,13249.772500000001,13523.715829884759,0,0,0,0,0,0,0,0]
[11,{"$f":"OFFSET(InputPriceData!B$10,CalculationsAndCharts!$A42+$A$11,0,1,1)","v":"2012-10-10"},{"$f":"OFFSET(InputPriceData!G$10,CalculationsAndCharts!$A42+$A$11,0,1,1)","v":101115655},{"$f":"OFFSET(InputPriceData!C$10,CalculationsAndCharts!$A42+$A$11,0,1,1)","v":13473.53},{"$f":"OFFSET(InputPriceData!D$10,CalculationsAndCharts!$A42+$A$11,0,1,1)","v":13478.83},{"$f":"OFFSET(InputPriceData!E$10,CalculationsAndCharts!$A42+$A$11,0,1,1)","v":13327.62},{"$f":"OFFSET(InputPriceData!F$10,CalculationsAndCharts!$A42+$A$11,0,1,1)","v":13344.97},{"$f":"IF(AND(A42<=$B$20,$S$14),$T$14,0)","v":0},{"$f":"IF(AND(A42<=$B$20,$S$15),$T$15,0)","v":0},{"$f":"IF(AND(A42<=$B$20,$S$16),$T$16,0)","v":12765.86875},{"$f":"IF(AND(A42<=$B$20,$S$17),$T$17,0)","v":12604.567499999999},{"$f":"IF(AND(A42<=$B$20,$S$18),$T$18,0)","v":12330.624170115241},0,0,13088.471250000001,13249.772500000001,13523.715829884759,0,0,0,0,0,0,0,0]
[12,{"$f":"OFFSET(InputPriceData!B$10,CalculationsAndCharts!$A43+$A$11,0,1,1)","v":"2012-10-09"},{"$f":"OFFSET(InputPriceData!G$10,CalculationsAndCharts!$A43+$A$11,0,1,1)","v":103593902},{"$f":"OFFSET(InputPriceData!C$10,CalculationsAndCharts!$A43+$A$11,0,1,1)","v":13582.88},{"$f":"OFFSET(InputPriceData!D$10,CalculationsAndCharts!$A43+$A$11,0,1,1)","v":13592.33},{"$f":"OFFSET(InputPriceData!E$10,CalculationsAndCharts!$A43+$A$11,0,1,1)","v":13473.31},{"$f":"OFFSET(InputPriceData!F$10,CalculationsAndCharts!$A43+$A$11,0,1,1)","v":13473.53},{"$f":"IF(AND(A43<=$B$20,$S$14),$T$14,0)","v":0},{"$f":"IF(AND(A43<=$B$20,$S$15),$T$15,0)","v":0},{"$f":"IF(AND(A43<=$B$20,$S$16),$T$16,0)","v":12765.86875},{"$f":"IF(AND(A43<=$B$20,$S$17),$T$17,0)","v":12604.567499999999},{"$f":"IF(AND(A43<=$B$20,$S$18),$T$18,0)","v":12330.624170115241},0,0,13088.471250000001,13249.772500000001,13523.715829884759,0,0,0,0,0,0,0,0]
[13,{"$f":"OFFSET(InputPriceData!B$10,CalculationsAndCharts!$A44+$A$11,0,1,1)","v":"2012-10-08"},{"$f":"OFFSET(InputPriceData!G$10,CalculationsAndCharts!$A44+$A$11,0,1,1)","v":71181046},{"$f":"OFFSET(InputPriceData!C$10,CalculationsAndCharts!$A44+$A$11,0,1,1)","v":13610.38},{"$f":"OFFSET(InputPriceData!D$10,CalculationsAndCharts!$A44+$A$11,0,1,1)","v":13610.38},{"$f":"OFFSET(InputPriceData!E$10,CalculationsAndCharts!$A44+$A$11,0,1,1)","v":13552.09},{"$f":"OFFSET(InputPriceData!F$10,CalculationsAndCharts!$A44+$A$11,0,1,1)","v":13583.65},{"$f":"IF(AND(A44<=$B$20,$S$14),$T$14,0)","v":0},{"$f":"IF(AND(A44<=$B$20,$S$15),$T$15,0)","v":0},{"$f":"IF(AND(A44<=$B$20,$S$16),$T$16,0)","v":12765.86875},{"$f":"IF(AND(A44<=$B$20,$S$17),$T$17,0)","v":12604.567499999999},{"$f":"IF(AND(A44<=$B$20,$S$18),$T$18,0)","v":12330.624170115241},0,0,13088.471250000001,13249.772500000001,13523.715829884759,0,0,0,0,0,0,0,0]
[14,{"$f":"OFFSET(InputPriceData!B$10,CalculationsAndCharts!$A45+$A$11,0,1,1)","v":"2012-10-05"},{"$f":"OFFSET(InputPriceData!G$10,CalculationsAndCharts!$A45+$A$11,0,1,1)","v":115443521},{"$f":"OFFSET(InputPriceData!C$10,CalculationsAndCharts!$A45+$A$11,0,1,1)","v":13569.18},{"$f":"OFFSET(InputPriceData!D$10,CalculationsAndCharts!$A45+$A$11,0,1,1)","v":13661.87},{"$f":"OFFSET(InputPriceData!E$10,CalculationsAndCharts!$A45+$A$11,0,1,1)","v":13568.75},{"$f":"OFFSET(InputPriceData!F$10,CalculationsAndCharts!$A45+$A$11,0,1,1)","v":13610.15},{"$f":"IF(AND(A45<=$B$20,$S$14),$T$14,0)","v":0},{"$f":"IF(AND(A45<=$B$20,$S$15),$T$15,0)","v":0},{"$f":"IF(AND(A45<=$B$20,$S$16),$T$16,0)","v":12765.86875},{"$f":"IF(AND(A45<=$B$20,$S$17),$T$17,0)","v":12604.567499999999},{"$f":"IF(AND(A45<=$B$20,$S$18),$T$18,0)","v":12330.624170115241},0,0,13088.471250000001,13249.772500000001,13523.715829884759,0,0,0,0,0,0,0,0]
[15,{"$f":"OFFSET(InputPriceData!B$10,CalculationsAndCharts!$A46+$A$11,0,1,1)","v":"2012-10-04"},{"$f":"OFFSET(InputPriceData!G$10,CalculationsAndCharts!$A46+$A$11,0,1,1)","v":106377384},{"$f":"OFFSET(InputPriceData!C$10,CalculationsAndCharts!$A46+$A$11,0,1,1)","v":13495.18},{"$f":"OFFSET(InputPriceData!D$10,CalculationsAndCharts!$A46+$A$11,0,1,1)","v":13594.33},{"$f":"OFFSET(InputPriceData!E$10,CalculationsAndCharts!$A46+$A$11,0,1,1)","v":13495.18},{"$f":"OFFSET(InputPriceData!F$10,CalculationsAndCharts!$A46+$A$11,0,1,1)","v":13575.36},{"$f":"IF(AND(A46<=$B$20,$S$14),$T$14,0)","v":0},{"$f":"IF(AND(A46<=$B$20,$S$15),$T$15,0)","v":0},{"$f":"IF(AND(A46<=$B$20,$S$16),$T$16,0)","v":12765.86875},{"$f":"IF(AND(A46<=$B$20,$S$17),$T$17,0)","v":12604.567499999999},{"$f":"IF(AND(A46<=$B$20,$S$18),$T$18,0)","v":12330.624170115241},0,0,13088.471250000001,13249.772500000001,13523.715829884759,0,0,0,0,0,0,0,0]
[16,{"$f":"OFFSET(InputPriceData!B$10,CalculationsAndCharts!$A47+$A$11,0,1,1)","v":"2012-10-03"},{"$f":"OFFSET(InputPriceData!G$10,CalculationsAndCharts!$A47+$A$11,0,1,1)","v":103856537},{"$f":"OFFSET(InputPriceData!C$10,CalculationsAndCharts!$A47+$A$11,0,1,1)","v":13479.21},{"$f":"OFFSET(InputPriceData!D$10,CalculationsAndCharts!$A47+$A$11,0,1,1)","v":13536.27},{"$f":"OFFSET(InputPriceData!E$10,CalculationsAndCharts!$A47+$A$11,0,1,1)","v":13439.12},{"$f":"OFFSET(InputPriceData!F$10,CalculationsAndCharts!$A47+$A$11,0,1,1)","v":13494.61},{"$f":"IF(AND(A47<=$B$20,$S$14),$T$14,0)","v":0},{"$f":"IF(AND(A47<=$B$20,$S$15),$T$15,0)","v":0},{"$f":"IF(AND(A47<=$B$20,$S$16),$T$16,0)","v":12765.86875},{"$f":"IF(AND(A47<=$B$20,$S$17),$T$17,0)","v":12604.567499999999},{"$f":"IF(AND(A47<=$B$20,$S$18),$T$18,0)","v":12330.624170115241},0,0,13088.471250000001,13249.772500000001,13523.715829884759,0,0,0,0,0,0,0,0]
[17,{"$f":"OFFSET(InputPriceData!B$10,CalculationsAndCharts!$A48+$A$11,0,1,1)","v":"2012-10-02"},{"$f":"OFFSET(InputPriceData!G$10,CalculationsAndCharts!$A48+$A$11,0,1,1)","v":90703696},{"$f":"OFFSET(InputPriceData!C$10,CalculationsAndCharts!$A48+$A$11,0,1,1)","v":13515.3},{"$f":"OFFSET(InputPriceData!D$10,CalculationsAndCharts!$A48+$A$11,0,1,1)","v":13567.06},{"$f":"OFFSET(InputPriceData!E$10,CalculationsAndCharts!$A48+$A$11,0,1,1)","v":13424.92},{"$f":"OFFSET(InputPriceData!F$10,CalculationsAndCharts!$A48+$A$11,0,1,1)","v":13482.36},{"$f":"IF(AND(A48<=$B$20,$S$14),$T$14,0)","v":0},{"$f":"IF(AND(A48<=$B$20,$S$15),$T$15,0)","v":0},{"$f":"IF(AND(A48<=$B$20,$S$16),$T$16,0)","v":12765.86875},{"$f":"IF(AND(A48<=$B$20,$S$17),$T$17,0)","v":12604.567499999999},{"$f":"IF(AND(A48<=$B$20,$S$18),$T$18,0)","v":12330.624170115241},0,0,13088.471250000001,13249.772500000001,13523.715829884759,0,0,0,0,0,0,0,0]
[18,{"$f":"OFFSET(InputPriceData!B$10,CalculationsAndCharts!$A49+$A$11,0,1,1)","v":"2012-10-01"},{"$f":"OFFSET(InputPriceData!G$10,CalculationsAndCharts!$A49+$A$11,0,1,1)","v":106118869},{"$f":"OFFSET(InputPriceData!C$10,CalculationsAndCharts!$A49+$A$11,0,1,1)","v":13437.66},{"$f":"OFFSET(InputPriceData!D$10,CalculationsAndCharts!$A49+$A$11,0,1,1)","v":13598.25},{"$f":"OFFSET(InputPriceData!E$10,CalculationsAndCharts!$A49+$A$11,0,1,1)","v":13437.66},{"$f":"OFFSET(InputPriceData!F$10,CalculationsAndCharts!$A49+$A$11,0,1,1)","v":13515.11},{"$f":"IF(AND(A49<=$B$20,$S$14),$T$14,0)","v":0},{"$f":"IF(AND(A49<=$B$20,$S$15),$T$15,0)","v":0},{"$f":"IF(AND(A49<=$B$20,$S$16),$T$16,0)","v":12765.86875},{"$f":"IF(AND(A49<=$B$20,$S$17),$T$17,0)","v":12604.567499999999},{"$f":"IF(AND(A49<=$B$20,$S$18),$T$18,0)","v":12330.624170115241},0,0,13088.471250000001,13249.772500000001,13523.715829884759,0,0,0,0,0,0,0,0]
[19,{"$f":"OFFSET(InputPriceData!B$10,CalculationsAndCharts!$A50+$A$11,0,1,1)","v":"2012-09-28"},{"$f":"OFFSET(InputPriceData!G$10,CalculationsAndCharts!$A50+$A$11,0,1,1)","v":146737668},{"$f":"OFFSET(InputPriceData!C$10,CalculationsAndCharts!$A50+$A$11,0,1,1)","v":13485.89},{"$f":"OFFSET(InputPriceData!D$10,CalculationsAndCharts!$A50+$A$11,0,1,1)","v":13487.66},{"$f":"OFFSET(InputPriceData!E$10,CalculationsAndCharts!$A50+$A$11,0,1,1)","v":13367.27},{"$f":"OFFSET(InputPriceData!F$10,CalculationsAndCharts!$A50+$A$11,0,1,1)","v":13437.13},{"$f":"IF(AND(A50<=$B$20,$S$14),$T$14,0)","v":0},{"$f":"IF(AND(A50<=$B$20,$S$15),$T$15,0)","v":0},{"$f":"IF(AND(A50<=$B$20,$S$16),$T$16,0)","v":12765.86875},{"$f":"IF(AND(A50<=$B$20,$S$17),$T$17,0)","v":12604.567499999999},{"$f":"IF(AND(A50<=$B$20,$S$18),$T$18,0)","v":12330.624170115241},0,0,13088.471250000001,13249.772500000001,13523.715829884759,0,0,0,0,0,0,0,0]
[20,{"$f":"OFFSET(InputPriceData!B$10,CalculationsAndCharts!$A51+$A$11,0,1,1)","v":"2012-09-27"},{"$f":"OFFSET(InputPriceData!G$10,CalculationsAndCharts!$A51+$A$11,0,1,1)","v":113951488},{"$f":"OFFSET(InputPriceData!C$10,CalculationsAndCharts!$A51+$A$11,0,1,1)","v":13413.47},{"$f":"OFFSET(InputPriceData!D$10,CalculationsAndCharts!$A51+$A$11,0,1,1)","v":13522.83},{"$f":"OFFSET(InputPriceData!E$10,CalculationsAndCharts!$A51+$A$11,0,1,1)","v":13413.47},{"$f":"OFFSET(InputPriceData!F$10,CalculationsAndCharts!$A51+$A$11,0,1,1)","v":13485.97},{"$f":"IF(AND(A51<=$B$20,$S$14),$T$14,0)","v":0},{"$f":"IF(AND(A51<=$B$20,$S$15),$T$15,0)","v":0},{"$f":"IF(AND(A51<=$B$20,$S$16),$T$16,0)","v":12765.86875},{"$f":"IF(AND(A51<=$B$20,$S$17),$T$17,0)","v":12604.567499999999},{"$f":"IF(AND(A51<=$B$20,$S$18),$T$18,0)","v":12330.624170115241},0,0,13088.471250000001,13249.772500000001,13523.715829884759,0,0,0,0,0,0,0,0]
[21,{"$f":"OFFSET(InputPriceData!B$10,CalculationsAndCharts!$A52+$A$11,0,1,1)","v":"2012-09-26"},{"$f":"OFFSET(InputPriceData!G$10,CalculationsAndCharts!$A52+$A$11,0,1,1)","v":124334563},{"$f":"OFFSET(InputPriceData!C$10,CalculationsAndCharts!$A52+$A$11,0,1,1)","v":13458.63},{"$f":"OFFSET(InputPriceData!D$10,CalculationsAndCharts!$A52+$A$11,0,1,1)","v":13480.37},{"$f":"OFFSET(InputPriceData!E$10,CalculationsAndCharts!$A52+$A$11,0,1,1)","v":13406.91},{"$f":"OFFSET(InputPriceData!F$10,CalculationsAndCharts!$A52+$A$11,0,1,1)","v":13413.51},{"$f":"IF(AND(A52<=$B$20,$S$14),$T$14,0)","v":0},{"$f":"IF(AND(A52<=$B$20,$S$15),$T$15,0)","v":0},{"$f":"IF(AND(A52<=$B$20,$S$16),$T$16,0)","v":12765.86875},{"$f":"IF(AND(A52<=$B$20,$S$17),$T$17,0)","v":12604.567499999999},{"$f":"IF(AND(A52<=$B$20,$S$18),$T$18,0)","v":12330.624170115241},0,0,13088.471250000001,13249.772500000001,13523.715829884759,0,0,0,0,0,0,0,0]
[22,{"$f":"OFFSET(InputPriceData!B$10,CalculationsAndCharts!$A53+$A$11,0,1,1)","v":"2012-09-25"},{"$f":"OFFSET(InputPriceData!G$10,CalculationsAndCharts!$A53+$A$11,0,1,1)","v":138479667},{"$f":"OFFSET(InputPriceData!C$10,CalculationsAndCharts!$A53+$A$11,0,1,1)","v":13559.92},{"$f":"OFFSET(InputPriceData!D$10,CalculationsAndCharts!$A53+$A$11,0,1,1)","v":13620.21},{"$f":"OFFSET(InputPriceData!E$10,CalculationsAndCharts!$A53+$A$11,0,1,1)","v":13457.25},{"$f":"OFFSET(InputPriceData!F$10,CalculationsAndCharts!$A53+$A$11,0,1,1)","v":13457.55},{"$f":"IF(AND(A53<=$B$20,$S$14),$T$14,0)","v":0},{"$f":"IF(AND(A53<=$B$20,$S$15),$T$15,0)","v":0},{"$f":"IF(AND(A53<=$B$20,$S$16),$T$16,0)","v":12765.86875},{"$f":"IF(AND(A53<=$B$20,$S$17),$T$17,0)","v":12604.567499999999},{"$f":"IF(AND(A53<=$B$20,$S$18),$T$18,0)","v":12330.624170115241},0,0,13088.471250000001,13249.772500000001,13523.715829884759,0,0,0,0,0,0,0,0]
[23,{"$f":"OFFSET(InputPriceData!B$10,CalculationsAndCharts!$A54+$A$11,0,1,1)","v":"2012-09-24"},{"$f":"OFFSET(InputPriceData!G$10,CalculationsAndCharts!$A54+$A$11,0,1,1)","v":120328750},{"$f":"OFFSET(InputPriceData!C$10,CalculationsAndCharts!$A54+$A$11,0,1,1)","v":13577.85},{"$f":"OFFSET(InputPriceData!D$10,CalculationsAndCharts!$A54+$A$11,0,1,1)","v":13601.9},{"$f":"OFFSET(InputPriceData!E$10,CalculationsAndCharts!$A54+$A$11,0,1,1)","v":13521.68},{"$f":"OFFSET(InputPriceData!F$10,CalculationsAndCharts!$A54+$A$11,0,1,1)","v":13558.92},{"$f":"IF(AND(A54<=$B$20,$S$14),$T$14,0)","v":0},{"$f":"IF(AND(A54<=$B$20,$S$15),$T$15,0)","v":0},{"$f":"IF(AND(A54<=$B$20,$S$16),$T$16,0)","v":12765.86875},{"$f":"IF(AND(A54<=$B$20,$S$17),$T$17,0)","v":12604.567499999999},{"$f":"IF(AND(A54<=$B$20,$S$18),$T$18,0)","v":12330.624170115241},0,0,13088.471250000001,13249.772500000001,13523.715829884759,0,0,0,0,0,0,0,0]
[24,{"$f":"OFFSET(InputPriceData!B$10,CalculationsAndCharts!$A55+$A$11,0,1,1)","v":"2012-09-21"},{"$f":"OFFSET(InputPriceData!G$10,CalculationsAndCharts!$A55+$A$11,0,1,1)","v":429592201},{"$f":"OFFSET(InputPriceData!C$10,CalculationsAndCharts!$A55+$A$11,0,1,1)","v":13597.24},{"$f":"OFFSET(InputPriceData!D$10,CalculationsAndCharts!$A55+$A$11,0,1,1)","v":13647.1},{"$f":"OFFSET(InputPriceData!E$10,CalculationsAndCharts!$A55+$A$11,0,1,1)","v":13571.53},{"$f":"OFFSET(InputPriceData!F$10,CalculationsAndCharts!$A55+$A$11,0,1,1)","v":13579.47},{"$f":"IF(AND(A55<=$B$20,$S$14),$T$14,0)","v":0},{"$f":"IF(AND(A55<=$B$20,$S$15),$T$15,0)","v":0},{"$f":"IF(AND(A55<=$B$20,$S$16),$T$16,0)","v":12765.86875},{"$f":"IF(AND(A55<=$B$20,$S$17),$T$17,0)","v":12604.567499999999},{"$f":"IF(AND(A55<=$B$20,$S$18),$T$18,0)","v":12330.624170115241},0,0,13088.471250000001,13249.772500000001,13523.715829884759,0,0,0,0,0,0,0,0]
[25,{"$f":"OFFSET(InputPriceData!B$10,CalculationsAndCharts!$A56+$A$11,0,1,1)","v":"2012-09-20"},{"$f":"OFFSET(InputPriceData!G$10,CalculationsAndCharts!$A56+$A$11,0,1,1)","v":117899776},{"$f":"OFFSET(InputPriceData!C$10,CalculationsAndCharts!$A56+$A$11,0,1,1)","v":13575.17},{"$f":"OFFSET(InputPriceData!D$10,CalculationsAndCharts!$A56+$A$11,0,1,1)","v":13599.02},{"$f":"OFFSET(InputPriceData!E$10,CalculationsAndCharts!$A56+$A$11,0,1,1)","v":13503},{"$f":"OFFSET(InputPriceData!F$10,CalculationsAndCharts!$A56+$A$11,0,1,1)","v":13596.93},{"$f":"IF(AND(A56<=$B$20,$S$14),$T$14,0)","v":0},{"$f":"IF(AND(A56<=$B$20,$S$15),$T$15,0)","v":0},{"$f":"IF(AND(A56<=$B$20,$S$16),$T$16,0)","v":12765.86875},{"$f":"IF(AND(A56<=$B$20,$S$17),$T$17,0)","v":12604.567499999999},{"$f":"IF(AND(A56<=$B$20,$S$18),$T$18,0)","v":12330.624170115241},0,0,13088.471250000001,13249.772500000001,13523.715829884759,0,0,0,0,0,0,0,0]
[26,{"$f":"OFFSET(InputPriceData!B$10,CalculationsAndCharts!$A57+$A$11,0,1,1)","v":"2012-09-19"},{"$f":"OFFSET(InputPriceData!G$10,CalculationsAndCharts!$A57+$A$11,0,1,1)","v":116203041},{"$f":"OFFSET(InputPriceData!C$10,CalculationsAndCharts!$A57+$A$11,0,1,1)","v":13565.41},{"$f":"OFFSET(InputPriceData!D$10,CalculationsAndCharts!$A57+$A$11,0,1,1)","v":13626.48},{"$f":"OFFSET(InputPriceData!E$10,CalculationsAndCharts!$A57+$A$11,0,1,1)","v":13556.74},{"$f":"OFFSET(InputPriceData!F$10,CalculationsAndCharts!$A57+$A$11,0,1,1)","v":13577.96},{"$f":"IF(AND(A57<=$B$20,$S$14),$T$14,0)","v":0},{"$f":"IF(AND(A57<=$B$20,$S$15),$T$15,0)","v":0},{"$f":"IF(AND(A57<=$B$20,$S$16),$T$16,0)","v":12765.86875},{"$f":"IF(AND(A57<=$B$20,$S$17),$T$17,0)","v":12604.567499999999},{"$f":"IF(AND(A57<=$B$20,$S$18),$T$18,0)","v":12330.624170115241},0,0,13088.471250000001,13249.772500000001,13523.715829884759,0,0,0,0,0,0,0,0]
[27,{"$f":"OFFSET(InputPriceData!B$10,CalculationsAndCharts!$A58+$A$11,0,1,1)","v":"2012-09-18"},{"$f":"OFFSET(InputPriceData!G$10,CalculationsAndCharts!$A58+$A$11,0,1,1)","v":120527119},{"$f":"OFFSET(InputPriceData!C$10,CalculationsAndCharts!$A58+$A$11,0,1,1)","v":13552.33},{"$f":"OFFSET(InputPriceData!D$10,CalculationsAndCharts!$A58+$A$11,0,1,1)","v":13582.12},{"$f":"OFFSET(InputPriceData!E$10,CalculationsAndCharts!$A58+$A$11,0,1,1)","v":13517.81},{"$f":"OFFSET(InputPriceData!F$10,CalculationsAndCharts!$A58+$A$11,0,1,1)","v":13564.64},{"$f":"IF(AND(A58<=$B$20,$S$14),$T$14,0)","v":0},{"$f":"IF(AND(A58<=$B$20,$S$15),$T$15,0)","v":0},{"$f":"IF(AND(A58<=$B$20,$S$16),$T$16,0)","v":12765.86875},{"$f":"IF(AND(A58<=$B$20,$S$17),$T$17,0)","v":12604.567499999999},{"$f":"IF(AND(A58<=$B$20,$S$18),$T$18,0)","v":12330.624170115241},0,0,13088.471250000001,13249.772500000001,13523.715829884759,0,0,0,0,0,0,0,0]
[28,{"$f":"OFFSET(InputPriceData!B$10,CalculationsAndCharts!$A59+$A$11,0,1,1)","v":"2012-09-17"},{"$f":"OFFSET(InputPriceData!G$10,CalculationsAndCharts!$A59+$A$11,0,1,1)","v":128004490},{"$f":"OFFSET(InputPriceData!C$10,CalculationsAndCharts!$A59+$A$11,0,1,1)","v":13588.57},{"$f":"OFFSET(InputPriceData!D$10,CalculationsAndCharts!$A59+$A$11,0,1,1)","v":13593.15},{"$f":"OFFSET(InputPriceData!E$10,CalculationsAndCharts!$A59+$A$11,0,1,1)","v":13526.67},{"$f":"OFFSET(InputPriceData!F$10,CalculationsAndCharts!$A59+$A$11,0,1,1)","v":13553.1},{"$f":"IF(AND(A59<=$B$20,$S$14),$T$14,0)","v":0},{"$f":"IF(AND(A59<=$B$20,$S$15),$T$15,0)","v":0},{"$f":"IF(AND(A59<=$B$20,$S$16),$T$16,0)","v":12765.86875},{"$f":"IF(AND(A59<=$B$20,$S$17),$T$17,0)","v":12604.567499999999},{"$f":"IF(AND(A59<=$B$20,$S$18),$T$18,0)","v":12330.624170115241},0,0,13088.471250000001,13249.772500000001,13523.715829884759,0,0,0,0,0,0,0,0]
[29,{"$f":"OFFSET(InputPriceData!B$10,CalculationsAndCharts!$A60+$A$11,0,1,1)","v":"2012-09-14"},{"$f":"OFFSET(InputPriceData!G$10,CalculationsAndCharts!$A60+$A$11,0,1,1)","v":184571677},{"$f":"OFFSET(InputPriceData!C$10,CalculationsAndCharts!$A60+$A$11,0,1,1)","v":13540.4},{"$f":"OFFSET(InputPriceData!D$10,CalculationsAndCharts!$A60+$A$11,0,1,1)","v":13653.24},{"$f":"OFFSET(InputPriceData!E$10,CalculationsAndCharts!$A60+$A$11,0,1,1)","v":13533.94},{"$f":"OFFSET(InputPriceData!F$10,CalculationsAndCharts!$A60+$A$11,0,1,1)","v":13593.37},{"$f":"IF(AND(A60<=$B$20,$S$14),$T$14,0)","v":0},{"$f":"IF(AND(A60<=$B$20,$S$15),$T$15,0)","v":0},{"$f":"IF(AND(A60<=$B$20,$S$16),$T$16,0)","v":12765.86875},{"$f":"IF(AND(A60<=$B$20,$S$17),$T$17,0)","v":12604.567499999999},{"$f":"IF(AND(A60<=$B$20,$S$18),$T$18,0)","v":12330.624170115241},0,0,13088.471250000001,13249.772500000001,13523.715829884759,0,0,0,0,0,0,0,0]
[30,{"$f":"OFFSET(InputPriceData!B$10,CalculationsAndCharts!$A61+$A$11,0,1,1)","v":"2012-09-13"},{"$f":"OFFSET(InputPriceData!G$10,CalculationsAndCharts!$A61+$A$11,0,1,1)","v":151747046},{"$f":"OFFSET(InputPriceData!C$10,CalculationsAndCharts!$A61+$A$11,0,1,1)","v":13329.71},{"$f":"OFFSET(InputPriceData!D$10,CalculationsAndCharts!$A61+$A$11,0,1,1)","v":13573.33},{"$f":"OFFSET(InputPriceData!E$10,CalculationsAndCharts!$A61+$A$11,0,1,1)","v":13325.11},{"$f":"OFFSET(InputPriceData!F$10,CalculationsAndCharts!$A61+$A$11,0,1,1)","v":13539.86},{"$f":"IF(AND(A61<=$B$20,$S$14),$T$14,0)","v":0},{"$f":"IF(AND(A61<=$B$20,$S$15),$T$15,0)","v":0},{"$f":"IF(AND(A61<=$B$20,$S$16),$T$16,0)","v":12765.86875},{"$f":"IF(AND(A61<=$B$20,$S$17),$T$17,0)","v":12604.567499999999},{"$f":"IF(AND(A61<=$B$20,$S$18),$T$18,0)","v":12330.624170115241},0,0,13088.471250000001,13249.772500000001,13523.715829884759,0,0,0,0,0,0,0,0]
[31,{"$f":"OFFSET(InputPriceData!B$10,CalculationsAndCharts!$A62+$A$11,0,1,1)","v":"2012-09-12"},{"$f":"OFFSET(InputPriceData!G$10,CalculationsAndCharts!$A62+$A$11,0,1,1)","v":111090714},{"$f":"OFFSET(InputPriceData!C$10,CalculationsAndCharts!$A62+$A$11,0,1,1)","v":13321.62},{"$f":"OFFSET(InputPriceData!D$10,CalculationsAndCharts!$A62+$A$11,0,1,1)","v":13373.62},{"$f":"OFFSET(InputPriceData!E$10,CalculationsAndCharts!$A62+$A$11,0,1,1)","v":13317.52},{"$f":"OFFSET(InputPriceData!F$10,CalculationsAndCharts!$A62+$A$11,0,1,1)","v":13333.35},{"$f":"IF(AND(A62<=$B$20,$S$14),$T$14,0)","v":0},{"$f":"IF(AND(A62<=$B$20,$S$15),$T$15,0)","v":0},{"$f":"IF(AND(A62<=$B$20,$S$16),$T$16,0)","v":12765.86875},{"$f":"IF(AND(A62<=$B$20,$S$17),$T$17,0)","v":12604.567499999999},{"$f":"IF(AND(A62<=$B$20,$S$18),$T$18,0)","v":12330.624170115241},0,0,13088.471250000001,13249.772500000001,13523.715829884759,0,0,0,0,0,0,0,0]
[32,{"$f":"OFFSET(InputPriceData!B$10,CalculationsAndCharts!$A63+$A$11,0,1,1)","v":"2012-09-11"},{"$f":"OFFSET(InputPriceData!G$10,CalculationsAndCharts!$A63+$A$11,0,1,1)","v":104895689},{"$f":"OFFSET(InputPriceData!C$10,CalculationsAndCharts!$A63+$A$11,0,1,1)","v":13254.6},{"$f":"OFFSET(InputPriceData!D$10,CalculationsAndCharts!$A63+$A$11,0,1,1)","v":13354.34},{"$f":"OFFSET(InputPriceData!E$10,CalculationsAndCharts!$A63+$A$11,0,1,1)","v":13253.21},{"$f":"OFFSET(InputPriceData!F$10,CalculationsAndCharts!$A63+$A$11,0,1,1)","v":13323.36},{"$f":"IF(AND(A63<=$B$20,$S$14),$T$14,0)","v":0},{"$f":"IF(AND(A63<=$B$20,$S$15),$T$15,0)","v":0},{"$f":"IF(AND(A63<=$B$20,$S$16),$T$16,0)","v":12765.86875},{"$f":"IF(AND(A63<=$B$20,$S$17),$T$17,0)","v":12604.567499999999},{"$f":"IF(AND(A63<=$B$20,$S$18),$T$18,0)","v":12330.624170115241},0,0,13088.471250000001,13249.772500000001,13523.715829884759,0,0,0,0,0,0,0,0]
[33,{"$f":"OFFSET(InputPriceData!B$10,CalculationsAndCharts!$A64+$A$11,0,1,1)","v":"2012-09-10"},{"$f":"OFFSET(InputPriceData!G$10,CalculationsAndCharts!$A64+$A$11,0,1,1)","v":123781470},{"$f":"OFFSET(InputPriceData!C$10,CalculationsAndCharts!$A64+$A$11,0,1,1)","v":13308.56},{"$f":"OFFSET(InputPriceData!D$10,CalculationsAndCharts!$A64+$A$11,0,1,1)","v":13324.1},{"$f":"OFFSET(InputPriceData!E$10,CalculationsAndCharts!$A64+$A$11,0,1,1)","v":13251.39},{"$f":"OFFSET(InputPriceData!F$10,CalculationsAndCharts!$A64+$A$11,0,1,1)","v":13254.29},{"$f":"IF(AND(A64<=$B$20,$S$14),$T$14,0)","v":0},{"$f":"IF(AND(A64<=$B$20,$S$15),$T$15,0)","v":0},{"$f":"IF(AND(A64<=$B$20,$S$16),$T$16,0)","v":12765.86875},{"$f":"IF(AND(A64<=$B$20,$S$17),$T$17,0)","v":12604.567499999999},{"$f":"IF(AND(A64<=$B$20,$S$18),$T$18,0)","v":12330.624170115241},0,0,13088.471250000001,13249.772500000001,13523.715829884759,0,0,0,0,0,0,0,0]
[34,{"$f":"OFFSET(InputPriceData!B$10,CalculationsAndCharts!$A65+$A$11,0,1,1)","v":"2012-09-07"},{"$f":"OFFSET(InputPriceData!G$10,CalculationsAndCharts!$A65+$A$11,0,1,1)","v":140693615},{"$f":"OFFSET(InputPriceData!C$10,CalculationsAndCharts!$A65+$A$11,0,1,1)","v":13289.53},{"$f":"OFFSET(InputPriceData!D$10,CalculationsAndCharts!$A65+$A$11,0,1,1)","v":13320.27},{"$f":"OFFSET(InputPriceData!E$10,CalculationsAndCharts!$A65+$A$11,0,1,1)","v":13266.22},{"$f":"OFFSET(InputPriceData!F$10,CalculationsAndCharts!$A65+$A$11,0,1,1)","v":13306.64},{"$f":"IF(AND(A65<=$B$20,$S$14),$T$14,0)","v":0},{"$f":"IF(AND(A65<=$B$20,$S$15),$T$15,0)","v":0},{"$f":"IF(AND(A65<=$B$20,$S$16),$T$16,0)","v":12765.86875},{"$f":"IF(AND(A65<=$B$20,$S$17),$T$17,0)","v":12604.567499999999},{"$f":"IF(AND(A65<=$B$20,$S$18),$T$18,0)","v":12330.624170115241},0,0,13088.471250000001,13249.772500000001,13523.715829884759,0,0,0,0,0,0,0,0]
[35,{"$f":"OFFSET(InputPriceData!B$10,CalculationsAndCharts!$A66+$A$11,0,1,1)","v":"2012-09-06"},{"$f":"OFFSET(InputPriceData!G$10,CalculationsAndCharts!$A66+$A$11,0,1,1)","v":128623258},{"$f":"OFFSET(InputPriceData!C$10,CalculationsAndCharts!$A66+$A$11,0,1,1)","v":13045.23},{"$f":"OFFSET(InputPriceData!D$10,CalculationsAndCharts!$A66+$A$11,0,1,1)","v":13294.13},{"$f":"OFFSET(InputPriceData!E$10,CalculationsAndCharts!$A66+$A$11,0,1,1)","v":13045.08},{"$f":"OFFSET(InputPriceData!F$10,CalculationsAndCharts!$A66+$A$11,0,1,1)","v":13292},{"$f":"IF(AND(A66<=$B$20,$S$14),$T$14,0)","v":0},{"$f":"IF(AND(A66<=$B$20,$S$15),$T$15,0)","v":0},{"$f":"IF(AND(A66<=$B$20,$S$16),$T$16,0)","v":12765.86875},{"$f":"IF(AND(A66<=$B$20,$S$17),$T$17,0)","v":12604.567499999999},{"$f":"IF(AND(A66<=$B$20,$S$18),$T$18,0)","v":12330.624170115241},0,0,13088.471250000001,13249.772500000001,13523.715829884759,0,0,0,0,0,0,0,0]
[36,{"$f":"OFFSET(InputPriceData!B$10,CalculationsAndCharts!$A67+$A$11,0,1,1)","v":"2012-09-05"},{"$f":"OFFSET(InputPriceData!G$10,CalculationsAndCharts!$A67+$A$11,0,1,1)","v":92183235},{"$f":"OFFSET(InputPriceData!C$10,CalculationsAndCharts!$A67+$A$11,0,1,1)","v":13036.09},{"$f":"OFFSET(InputPriceData!D$10,CalculationsAndCharts!$A67+$A$11,0,1,1)","v":13095.91},{"$f":"OFFSET(InputPriceData!E$10,CalculationsAndCharts!$A67+$A$11,0,1,1)","v":13018.74},{"$f":"OFFSET(InputPriceData!F$10,CalculationsAndCharts!$A67+$A$11,0,1,1)","v":13047.48},{"$f":"IF(AND(A67<=$B$20,$S$14),$T$14,0)","v":0},{"$f":"IF(AND(A67<=$B$20,$S$15),$T$15,0)","v":0},{"$f":"IF(AND(A67<=$B$20,$S$16),$T$16,0)","v":12765.86875},{"$f":"IF(AND(A67<=$B$20,$S$17),$T$17,0)","v":12604.567499999999},{"$f":"IF(AND(A67<=$B$20,$S$18),$T$18,0)","v":12330.624170115241},0,0,13088.471250000001,13249.772500000001,13523.715829884759,0,0,0,0,0,0,0,0]
[37,{"$f":"OFFSET(InputPriceData!B$10,CalculationsAndCharts!$A68+$A$11,0,1,1)","v":"2012-09-04"},{"$f":"OFFSET(InputPriceData!G$10,CalculationsAndCharts!$A68+$A$11,0,1,1)","v":103900590},{"$f":"OFFSET(InputPriceData!C$10,CalculationsAndCharts!$A68+$A$11,0,1,1)","v":13092.15},{"$f":"OFFSET(InputPriceData!D$10,CalculationsAndCharts!$A68+$A$11,0,1,1)","v":13092.39},{"$f":"OFFSET(InputPriceData!E$10,CalculationsAndCharts!$A68+$A$11,0,1,1)","v":12977.09},{"$f":"OFFSET(InputPriceData!F$10,CalculationsAndCharts!$A68+$A$11,0,1,1)","v":13035.94},{"$f":"IF(AND(A68<=$B$20,$S$14),$T$14,0)","v":0},{"$f":"IF(AND(A68<=$B$20,$S$15),$T$15,0)","v":0},{"$f":"IF(AND(A68<=$B$20,$S$16),$T$16,0)","v":12765.86875},{"$f":"IF(AND(A68<=$B$20,$S$17),$T$17,0)","v":12604.567499999999},{"$f":"IF(AND(A68<=$B$20,$S$18),$T$18,0)","v":12330.624170115241},0,0,13088.471250000001,13249.772500000001,13523.715829884759,0,0,0,0,0,0,0,0]
[38,{"$f":"OFFSET(InputPriceData!B$10,CalculationsAndCharts!$A69+$A$11,0,1,1)","v":"2012-08-31"},{"$f":"OFFSET(InputPriceData!G$10,CalculationsAndCharts!$A69+$A$11,0,1,1)","v":119752154},{"$f":"OFFSET(InputPriceData!C$10,CalculationsAndCharts!$A69+$A$11,0,1,1)","v":13002.72},{"$f":"OFFSET(InputPriceData!D$10,CalculationsAndCharts!$A69+$A$11,0,1,1)","v":13151.87},{"$f":"OFFSET(InputPriceData!E$10,CalculationsAndCharts!$A69+$A$11,0,1,1)","v":13002.64},{"$f":"OFFSET(InputPriceData!F$10,CalculationsAndCharts!$A69+$A$11,0,1,1)","v":13090.84},{"$f":"IF(AND(A69<=$B$20,$S$14),$T$14,0)","v":0},{"$f":"IF(AND(A69<=$B$20,$S$15),$T$15,0)","v":0},{"$f":"IF(AND(A69<=$B$20,$S$16),$T$16,0)","v":12765.86875},{"$f":"IF(AND(A69<=$B$20,$S$17),$T$17,0)","v":12604.567499999999},{"$f":"IF(AND(A69<=$B$20,$S$18),$T$18,0)","v":12330.624170115241},0,0,13088.471250000001,13249.772500000001,13523.715829884759,0,0,0,0,0,0,0,0]
[39,{"$f":"OFFSET(InputPriceData!B$10,CalculationsAndCharts!$A70+$A$11,0,1,1)","v":"2012-08-30"},{"$f":"OFFSET(InputPriceData!G$10,CalculationsAndCharts!$A70+$A$11,0,1,1)","v":89963994},{"$f":"OFFSET(InputPriceData!C$10,CalculationsAndCharts!$A70+$A$11,0,1,1)","v":13101.29},{"$f":"OFFSET(InputPriceData!D$10,CalculationsAndCharts!$A70+$A$11,0,1,1)","v":13101.37},{"$f":"OFFSET(InputPriceData!E$10,CalculationsAndCharts!$A70+$A$11,0,1,1)","v":12978.91},{"$f":"OFFSET(InputPriceData!F$10,CalculationsAndCharts!$A70+$A$11,0,1,1)","v":13000.71},{"$f":"IF(AND(A70<=$B$20,$S$14),$T$14,0)","v":0},{"$f":"IF(AND(A70<=$B$20,$S$15),$T$15,0)","v":0},{"$f":"IF(AND(A70<=$B$20,$S$16),$T$16,0)","v":12765.86875},{"$f":"IF(AND(A70<=$B$20,$S$17),$T$17,0)","v":12604.567499999999},{"$f":"IF(AND(A70<=$B$20,$S$18),$T$18,0)","v":12330.624170115241},0,0,13088.471250000001,13249.772500000001,13523.715829884759,0,0,0,0,0,0,0,0]
[40,{"$f":"OFFSET(InputPriceData!B$10,CalculationsAndCharts!$A71+$A$11,0,1,1)","v":"2012-08-29"},{"$f":"OFFSET(InputPriceData!G$10,CalculationsAndCharts!$A71+$A$11,0,1,1)","v":89892260},{"$f":"OFFSET(InputPriceData!C$10,CalculationsAndCharts!$A71+$A$11,0,1,1)","v":13103.46},{"$f":"OFFSET(InputPriceData!D$10,CalculationsAndCharts!$A71+$A$11,0,1,1)","v":13144.81},{"$f":"OFFSET(InputPriceData!E$10,CalculationsAndCharts!$A71+$A$11,0,1,1)","v":13081.27},{"$f":"OFFSET(InputPriceData!F$10,CalculationsAndCharts!$A71+$A$11,0,1,1)","v":13107.48},{"$f":"IF(AND(A71<=$B$20,$S$14),$T$14,0)","v":0},{"$f":"IF(AND(A71<=$B$20,$S$15),$T$15,0)","v":0},{"$f":"IF(AND(A71<=$B$20,$S$16),$T$16,0)","v":12765.86875},{"$f":"IF(AND(A71<=$B$20,$S$17),$T$17,0)","v":12604.567499999999},{"$f":"IF(AND(A71<=$B$20,$S$18),$T$18,0)","v":12330.624170115241},0,0,13088.471250000001,13249.772500000001,13523.715829884759,0,0,0,0,0,0,0,0]
[41,{"$f":"OFFSET(InputPriceData!B$10,CalculationsAndCharts!$A72+$A$11,0,1,1)","v":"2012-08-28"},{"$f":"OFFSET(InputPriceData!G$10,CalculationsAndCharts!$A72+$A$11,0,1,1)","v":81625855},{"$f":"OFFSET(InputPriceData!C$10,CalculationsAndCharts!$A72+$A$11,0,1,1)","v":13122.74},{"$f":"OFFSET(InputPriceData!D$10,CalculationsAndCharts!$A72+$A$11,0,1,1)","v":13147.32},{"$f":"OFFSET(InputPriceData!E$10,CalculationsAndCharts!$A72+$A$11,0,1,1)","v":13081.12},{"$f":"OFFSET(InputPriceData!F$10,CalculationsAndCharts!$A72+$A$11,0,1,1)","v":13102.99},{"$f":"IF(AND(A72<=$B$20,$S$14),$T$14,0)","v":0},{"$f":"IF(AND(A72<=$B$20,$S$15),$T$15,0)","v":0},{"$f":"IF(AND(A72<=$B$20,$S$16),$T$16,0)","v":12765.86875},{"$f":"IF(AND(A72<=$B$20,$S$17),$T$17,0)","v":12604.567499999999},{"$f":"IF(AND(A72<=$B$20,$S$18),$T$18,0)","v":12330.624170115241},0,0,13088.471250000001,13249.772500000001,13523.715829884759,0,0,0,0,0,0,0,0]
[42,{"$f":"OFFSET(InputPriceData!B$10,CalculationsAndCharts!$A73+$A$11,0,1,1)","v":"2012-08-27"},{"$f":"OFFSET(InputPriceData!G$10,CalculationsAndCharts!$A73+$A$11,0,1,1)","v":96068237},{"$f":"OFFSET(InputPriceData!C$10,CalculationsAndCharts!$A73+$A$11,0,1,1)","v":13157.74},{"$f":"OFFSET(InputPriceData!D$10,CalculationsAndCharts!$A73+$A$11,0,1,1)","v":13176.17},{"$f":"OFFSET(InputPriceData!E$10,CalculationsAndCharts!$A73+$A$11,0,1,1)","v":13115.46},{"$f":"OFFSET(InputPriceData!F$10,CalculationsAndCharts!$A73+$A$11,0,1,1)","v":13124.67},{"$f":"IF(AND(A73<=$B$20,$S$14),$T$14,0)","v":0},{"$f":"IF(AND(A73<=$B$20,$S$15),$T$15,0)","v":0},{"$f":"IF(AND(A73<=$B$20,$S$16),$T$16,0)","v":12765.86875},{"$f":"IF(AND(A73<=$B$20,$S$17),$T$17,0)","v":12604.567499999999},{"$f":"IF(AND(A73<=$B$20,$S$18),$T$18,0)","v":12330.624170115241},0,0,13088.471250000001,13249.772500000001,13523.715829884759,0,0,0,0,0,0,0,0]
[43,{"$f":"OFFSET(InputPriceData!B$10,CalculationsAndCharts!$A74+$A$11,0,1,1)","v":"2012-08-24"},{"$f":"OFFSET(InputPriceData!G$10,CalculationsAndCharts!$A74+$A$11,0,1,1)","v":86772375},{"$f":"OFFSET(InputPriceData!C$10,CalculationsAndCharts!$A74+$A$11,0,1,1)","v":13052.82},{"$f":"OFFSET(InputPriceData!D$10,CalculationsAndCharts!$A74+$A$11,0,1,1)","v":13175.51},{"$f":"OFFSET(InputPriceData!E$10,CalculationsAndCharts!$A74+$A$11,0,1,1)","v":13027.2},{"$f":"OFFSET(InputPriceData!F$10,CalculationsAndCharts!$A74+$A$11,0,1,1)","v":13157.97},{"$f":"IF(AND(A74<=$B$20,$S$14),$T$14,0)","v":0},{"$f":"IF(AND(A74<=$B$20,$S$15),$T$15,0)","v":0},{"$f":"IF(AND(A74<=$B$20,$S$16),$T$16,0)","v":12765.86875},{"$f":"IF(AND(A74<=$B$20,$S$17),$T$17,0)","v":12604.567499999999},{"$f":"IF(AND(A74<=$B$20,$S$18),$T$18,0)","v":12330.624170115241},0,0,13088.471250000001,13249.772500000001,13523.715829884759,0,0,0,0,0,0,0,0]
[44,{"$f":"OFFSET(InputPriceData!B$10,CalculationsAndCharts!$A75+$A$11,0,1,1)","v":"2012-08-23"},{"$f":"OFFSET(InputPriceData!G$10,CalculationsAndCharts!$A75+$A$11,0,1,1)","v":101411074},{"$f":"OFFSET(InputPriceData!C$10,CalculationsAndCharts!$A75+$A$11,0,1,1)","v":13171.37},{"$f":"OFFSET(InputPriceData!D$10,CalculationsAndCharts!$A75+$A$11,0,1,1)","v":13171.37},{"$f":"OFFSET(InputPriceData!E$10,CalculationsAndCharts!$A75+$A$11,0,1,1)","v":13046.46},{"$f":"OFFSET(InputPriceData!F$10,CalculationsAndCharts!$A75+$A$11,0,1,1)","v":13057.46},{"$f":"IF(AND(A75<=$B$20,$S$14),$T$14,0)","v":0},{"$f":"IF(AND(A75<=$B$20,$S$15),$T$15,0)","v":0},{"$f":"IF(AND(A75<=$B$20,$S$16),$T$16,0)","v":12765.86875},{"$f":"IF(AND(A75<=$B$20,$S$17),$T$17,0)","v":12604.567499999999},{"$f":"IF(AND(A75<=$B$20,$S$18),$T$18,0)","v":12330.624170115241},0,0,13088.471250000001,13249.772500000001,13523.715829884759,0,0,0,0,0,0,0,0]
[45,{"$f":"OFFSET(InputPriceData!B$10,CalculationsAndCharts!$A76+$A$11,0,1,1)","v":"2012-08-22"},{"$f":"OFFSET(InputPriceData!G$10,CalculationsAndCharts!$A76+$A$11,0,1,1)","v":111213843},{"$f":"OFFSET(InputPriceData!C$10,CalculationsAndCharts!$A76+$A$11,0,1,1)","v":13198.31},{"$f":"OFFSET(InputPriceData!D$10,CalculationsAndCharts!$A76+$A$11,0,1,1)","v":13205.06},{"$f":"OFFSET(InputPriceData!E$10,CalculationsAndCharts!$A76+$A$11,0,1,1)","v":13120.34},{"$f":"OFFSET(InputPriceData!F$10,CalculationsAndCharts!$A76+$A$11,0,1,1)","v":13172.76},{"$f":"IF(AND(A76<=$B$20,$S$14),$T$14,0)","v":0},{"$f":"IF(AND(A76<=$B$20,$S$15),$T$15,0)","v":0},{"$f":"IF(AND(A76<=$B$20,$S$16),$T$16,0)","v":12765.86875},{"$f":"IF(AND(A76<=$B$20,$S$17),$T$17,0)","v":12604.567499999999},{"$f":"IF(AND(A76<=$B$20,$S$18),$T$18,0)","v":12330.624170115241},0,0,13088.471250000001,13249.772500000001,13523.715829884759,0,0,0,0,0,0,0,0]
[46,{"$f":"OFFSET(InputPriceData!B$10,CalculationsAndCharts!$A77+$A$11,0,1,1)","v":"2012-08-21"},{"$f":"OFFSET(InputPriceData!G$10,CalculationsAndCharts!$A77+$A$11,0,1,1)","v":117004724},{"$f":"OFFSET(InputPriceData!C$10,CalculationsAndCharts!$A77+$A$11,0,1,1)","v":13272.1},{"$f":"OFFSET(InputPriceData!D$10,CalculationsAndCharts!$A77+$A$11,0,1,1)","v":13330.76},{"$f":"OFFSET(InputPriceData!E$10,CalculationsAndCharts!$A77+$A$11,0,1,1)","v":13186.6},{"$f":"OFFSET(InputPriceData!F$10,CalculationsAndCharts!$A77+$A$11,0,1,1)","v":13203.58},{"$f":"IF(AND(A77<=$B$20,$S$14),$T$14,0)","v":0},{"$f":"IF(AND(A77<=$B$20,$S$15),$T$15,0)","v":0},{"$f":"IF(AND(A77<=$B$20,$S$16),$T$16,0)","v":12765.86875},{"$f":"IF(AND(A77<=$B$20,$S$17),$T$17,0)","v":12604.567499999999},{"$f":"IF(AND(A77<=$B$20,$S$18),$T$18,0)","v":12330.624170115241},0,0,13088.471250000001,13249.772500000001,13523.715829884759,0,0,0,0,0,0,0,0]
[47,{"$f":"OFFSET(InputPriceData!B$10,CalculationsAndCharts!$A78+$A$11,0,1,1)","v":"2012-08-20"},{"$f":"OFFSET(InputPriceData!G$10,CalculationsAndCharts!$A78+$A$11,0,1,1)","v":87534968},{"$f":"OFFSET(InputPriceData!C$10,CalculationsAndCharts!$A78+$A$11,0,1,1)","v":13274.58},{"$f":"OFFSET(InputPriceData!D$10,CalculationsAndCharts!$A78+$A$11,0,1,1)","v":13276.15},{"$f":"OFFSET(InputPriceData!E$10,CalculationsAndCharts!$A78+$A$11,0,1,1)","v":13230.06},{"$f":"OFFSET(InputPriceData!F$10,CalculationsAndCharts!$A78+$A$11,0,1,1)","v":13271.64},{"$f":"IF(AND(A78<=$B$20,$S$14),$T$14,0)","v":0},{"$f":"IF(AND(A78<=$B$20,$S$15),$T$15,0)","v":0},{"$f":"IF(AND(A78<=$B$20,$S$16),$T$16,0)","v":12765.86875},{"$f":"IF(AND(A78<=$B$20,$S$17),$T$17,0)","v":12604.567499999999},{"$f":"IF(AND(A78<=$B$20,$S$18),$T$18,0)","v":12330.624170115241},0,0,13088.471250000001,13249.772500000001,13523.715829884759,0,0,0,0,0,0,0,0]
[48,{"$f":"OFFSET(InputPriceData!B$10,CalculationsAndCharts!$A79+$A$11,0,1,1)","v":"2012-08-17"},{"$f":"OFFSET(InputPriceData!G$10,CalculationsAndCharts!$A79+$A$11,0,1,1)","v":138020795},{"$f":"OFFSET(InputPriceData!C$10,CalculationsAndCharts!$A79+$A$11,0,1,1)","v":13251.2},{"$f":"OFFSET(InputPriceData!D$10,CalculationsAndCharts!$A79+$A$11,0,1,1)","v":13281.32},{"$f":"OFFSET(InputPriceData!E$10,CalculationsAndCharts!$A79+$A$11,0,1,1)","v":13244.85},{"$f":"OFFSET(InputPriceData!F$10,CalculationsAndCharts!$A79+$A$11,0,1,1)","v":13275.2},{"$f":"IF(AND(A79<=$B$20,$S$14),$T$14,0)","v":0},{"$f":"IF(AND(A79<=$B$20,$S$15),$T$15,0)","v":0},{"$f":"IF(AND(A79<=$B$20,$S$16),$T$16,0)","v":12765.86875},{"$f":"IF(AND(A79<=$B$20,$S$17),$T$17,0)","v":12604.567499999999},{"$f":"IF(AND(A79<=$B$20,$S$18),$T$18,0)","v":12330.624170115241},0,0,13088.471250000001,13249.772500000001,13523.715829884759,0,0,0,0,0,0,0,0]
[49,{"$f":"OFFSET(InputPriceData!B$10,CalculationsAndCharts!$A80+$A$11,0,1,1)","v":"2012-08-16"},{"$f":"OFFSET(InputPriceData!G$10,CalculationsAndCharts!$A80+$A$11,0,1,1)","v":114562583},{"$f":"OFFSET(InputPriceData!C$10,CalculationsAndCharts!$A80+$A$11,0,1,1)","v":13163.24},{"$f":"OFFSET(InputPriceData!D$10,CalculationsAndCharts!$A80+$A$11,0,1,1)","v":13269.35},{"$f":"OFFSET(InputPriceData!E$10,CalculationsAndCharts!$A80+$A$11,0,1,1)","v":13145.85},{"$f":"OFFSET(InputPriceData!F$10,CalculationsAndCharts!$A80+$A$11,0,1,1)","v":13250.11},{"$f":"IF(AND(A80<=$B$20,$S$14),$T$14,0)","v":0},{"$f":"IF(AND(A80<=$B$20,$S$15),$T$15,0)","v":0},{"$f":"IF(AND(A80<=$B$20,$S$16),$T$16,0)","v":12765.86875},{"$f":"IF(AND(A80<=$B$20,$S$17),$T$17,0)","v":12604.567499999999},{"$f":"IF(AND(A80<=$B$20,$S$18),$T$18,0)","v":12330.624170115241},0,0,13088.471250000001,13249.772500000001,13523.715829884759,0,0,0,0,0,0,0,0]
[50,{"$f":"OFFSET(InputPriceData!B$10,CalculationsAndCharts!$A81+$A$11,0,1,1)","v":"2012-08-15"},{"$f":"OFFSET(InputPriceData!G$10,CalculationsAndCharts!$A81+$A$11,0,1,1)","v":74845587},{"$f":"OFFSET(InputPriceData!C$10,CalculationsAndCharts!$A81+$A$11,0,1,1)","v":13157.47},{"$f":"OFFSET(InputPriceData!D$10,CalculationsAndCharts!$A81+$A$11,0,1,1)","v":13192.89},{"$f":"OFFSET(InputPriceData!E$10,CalculationsAndCharts!$A81+$A$11,0,1,1)","v":13138.23},{"$f":"OFFSET(InputPriceData!F$10,CalculationsAndCharts!$A81+$A$11,0,1,1)","v":13164.78},{"$f":"IF(AND(A81<=$B$20,$S$14),$T$14,0)","v":0},{"$f":"IF(AND(A81<=$B$20,$S$15),$T$15,0)","v":0},{"$f":"IF(AND(A81<=$B$20,$S$16),$T$16,0)","v":12765.86875},{"$f":"IF(AND(A81<=$B$20,$S$17),$T$17,0)","v":12604.567499999999},{"$f":"IF(AND(A81<=$B$20,$S$18),$T$18,0)","v":12330.624170115241},0,0,13088.471250000001,13249.772500000001,13523.715829884759,0,0,0,0,0,0,0,0]
[51,{"$f":"OFFSET(InputPriceData!B$10,CalculationsAndCharts!$A82+$A$11,0,1,1)","v":"2012-08-14"},{"$f":"OFFSET(InputPriceData!G$10,CalculationsAndCharts!$A82+$A$11,0,1,1)","v":84392838},{"$f":"OFFSET(InputPriceData!C$10,CalculationsAndCharts!$A82+$A$11,0,1,1)","v":13168.11},{"$f":"OFFSET(InputPriceData!D$10,CalculationsAndCharts!$A82+$A$11,0,1,1)","v":13223.01},{"$f":"OFFSET(InputPriceData!E$10,CalculationsAndCharts!$A82+$A$11,0,1,1)","v":13142.1},{"$f":"OFFSET(InputPriceData!F$10,CalculationsAndCharts!$A82+$A$11,0,1,1)","v":13172.14},{"$f":"IF(AND(A82<=$B$20,$S$14),$T$14,0)","v":0},{"$f":"IF(AND(A82<=$B$20,$S$15),$T$15,0)","v":0},{"$f":"IF(AND(A82<=$B$20,$S$16),$T$16,0)","v":12765.86875},{"$f":"IF(AND(A82<=$B$20,$S$17),$T$17,0)","v":12604.567499999999},{"$f":"IF(AND(A82<=$B$20,$S$18),$T$18,0)","v":12330.624170115241},0,0,13088.471250000001,13249.772500000001,13523.715829884759,0,0,0,0,0,0,0,0]
[52,{"$f":"OFFSET(InputPriceData!B$10,CalculationsAndCharts!$A83+$A$11,0,1,1)","v":"2012-08-13"},{"$f":"OFFSET(InputPriceData!G$10,CalculationsAndCharts!$A83+$A$11,0,1,1)","v":67537123},{"$f":"OFFSET(InputPriceData!C$10,CalculationsAndCharts!$A83+$A$11,0,1,1)","v":13204.93},{"$f":"OFFSET(InputPriceData!D$10,CalculationsAndCharts!$A83+$A$11,0,1,1)","v":13205.01},{"$f":"OFFSET(InputPriceData!E$10,CalculationsAndCharts!$A83+$A$11,0,1,1)","v":13112.94},{"$f":"OFFSET(InputPriceData!F$10,CalculationsAndCharts!$A83+$A$11,0,1,1)","v":13169.43},{"$f":"IF(AND(A83<=$B$20,$S$14),$T$14,0)","v":0},{"$f":"IF(AND(A83<=$B$20,$S$15),$T$15,0)","v":0},{"$f":"IF(AND(A83<=$B$20,$S$16),$T$16,0)","v":12765.86875},{"$f":"IF(AND(A83<=$B$20,$S$17),$T$17,0)","v":12604.567499999999},{"$f":"IF(AND(A83<=$B$20,$S$18),$T$18,0)","v":12330.624170115241},0,0,13088.471250000001,13249.772500000001,13523.715829884759,0,0,0,0,0,0,0,0]
[53,{"$f":"OFFSET(InputPriceData!B$10,CalculationsAndCharts!$A84+$A$11,0,1,1)","v":"2012-08-10"},{"$f":"OFFSET(InputPriceData!G$10,CalculationsAndCharts!$A84+$A$11,0,1,1)","v":86625628},{"$f":"OFFSET(InputPriceData!C$10,CalculationsAndCharts!$A84+$A$11,0,1,1)","v":13163.15},{"$f":"OFFSET(InputPriceData!D$10,CalculationsAndCharts!$A84+$A$11,0,1,1)","v":13208.22},{"$f":"OFFSET(InputPriceData!E$10,CalculationsAndCharts!$A84+$A$11,0,1,1)","v":13094.96},{"$f":"OFFSET(InputPriceData!F$10,CalculationsAndCharts!$A84+$A$11,0,1,1)","v":13207.95},{"$f":"IF(AND(A84<=$B$20,$S$14),$T$14,0)","v":0},{"$f":"IF(AND(A84<=$B$20,$S$15),$T$15,0)","v":0},{"$f":"IF(AND(A84<=$B$20,$S$16),$T$16,0)","v":12765.86875},{"$f":"IF(AND(A84<=$B$20,$S$17),$T$17,0)","v":12604.567499999999},{"$f":"IF(AND(A84<=$B$20,$S$18),$T$18,0)","v":12330.624170115241},0,0,13088.471250000001,13249.772500000001,13523.715829884759,0,0,0,0,0,0,0,0]
[54,{"$f":"OFFSET(InputPriceData!B$10,CalculationsAndCharts!$A85+$A$11,0,1,1)","v":"2012-08-09"},{"$f":"OFFSET(InputPriceData!G$10,CalculationsAndCharts!$A85+$A$11,0,1,1)","v":83547970},{"$f":"OFFSET(InputPriceData!C$10,CalculationsAndCharts!$A85+$A$11,0,1,1)","v":13174.73},{"$f":"OFFSET(InputPriceData!D$10,CalculationsAndCharts!$A85+$A$11,0,1,1)","v":13200.23},{"$f":"OFFSET(InputPriceData!E$10,CalculationsAndCharts!$A85+$A$11,0,1,1)","v":13125.09},{"$f":"OFFSET(InputPriceData!F$10,CalculationsAndCharts!$A85+$A$11,0,1,1)","v":13165.19},{"$f":"IF(AND(A85<=$B$20,$S$14),$T$14,0)","v":0},{"$f":"IF(AND(A85<=$B$20,$S$15),$T$15,0)","v":0},{"$f":"IF(AND(A85<=$B$20,$S$16),$T$16,0)","v":12765.86875},{"$f":"IF(AND(A85<=$B$20,$S$17),$T$17,0)","v":12604.567499999999},{"$f":"IF(AND(A85<=$B$20,$S$18),$T$18,0)","v":12330.624170115241},0,0,13088.471250000001,13249.772500000001,13523.715829884759,0,0,0,0,0,0,0,0]
[55,{"$f":"OFFSET(InputPriceData!B$10,CalculationsAndCharts!$A86+$A$11,0,1,1)","v":"2012-08-08"},{"$f":"OFFSET(InputPriceData!G$10,CalculationsAndCharts!$A86+$A$11,0,1,1)","v":84882333},{"$f":"OFFSET(InputPriceData!C$10,CalculationsAndCharts!$A86+$A$11,0,1,1)","v":13158.1},{"$f":"OFFSET(InputPriceData!D$10,CalculationsAndCharts!$A86+$A$11,0,1,1)","v":13202.65},{"$f":"OFFSET(InputPriceData!E$10,CalculationsAndCharts!$A86+$A$11,0,1,1)","v":13115.24},{"$f":"OFFSET(InputPriceData!F$10,CalculationsAndCharts!$A86+$A$11,0,1,1)","v":13175.64},{"$f":"IF(AND(A86<=$B$20,$S$14),$T$14,0)","v":0},{"$f":"IF(AND(A86<=$B$20,$S$15),$T$15,0)","v":0},{"$f":"IF(AND(A86<=$B$20,$S$16),$T$16,0)","v":12765.86875},{"$f":"IF(AND(A86<=$B$20,$S$17),$T$17,0)","v":12604.567499999999},{"$f":"IF(AND(A86<=$B$20,$S$18),$T$18,0)","v":12330.624170115241},0,0,13088.471250000001,13249.772500000001,13523.715829884759,0,0,0,0,0,0,0,0]
[56,{"$f":"OFFSET(InputPriceData!B$10,CalculationsAndCharts!$A87+$A$11,0,1,1)","v":"2012-08-07"},{"$f":"OFFSET(InputPriceData!G$10,CalculationsAndCharts!$A87+$A$11,0,1,1)","v":95241397},{"$f":"OFFSET(InputPriceData!C$10,CalculationsAndCharts!$A87+$A$11,0,1,1)","v":13118.65},{"$f":"OFFSET(InputPriceData!D$10,CalculationsAndCharts!$A87+$A$11,0,1,1)","v":13215.97},{"$f":"OFFSET(InputPriceData!E$10,CalculationsAndCharts!$A87+$A$11,0,1,1)","v":13118.42},{"$f":"OFFSET(InputPriceData!F$10,CalculationsAndCharts!$A87+$A$11,0,1,1)","v":13168.6},{"$f":"IF(AND(A87<=$B$20,$S$14),$T$14,0)","v":0},{"$f":"IF(AND(A87<=$B$20,$S$15),$T$15,0)","v":0},{"$f":"IF(AND(A87<=$B$20,$S$16),$T$16,0)","v":12765.86875},{"$f":"IF(AND(A87<=$B$20,$S$17),$T$17,0)","v":12604.567499999999},{"$f":"IF(AND(A87<=$B$20,$S$18),$T$18,0)","v":12330.624170115241},0,0,13088.471250000001,13249.772500000001,13523.715829884759,0,0,0,0,0,0,0,0]
[57,{"$f":"OFFSET(InputPriceData!B$10,CalculationsAndCharts!$A88+$A$11,0,1,1)","v":"2012-08-06"},{"$f":"OFFSET(InputPriceData!G$10,CalculationsAndCharts!$A88+$A$11,0,1,1)","v":84256674},{"$f":"OFFSET(InputPriceData!C$10,CalculationsAndCharts!$A88+$A$11,0,1,1)","v":13099.88},{"$f":"OFFSET(InputPriceData!D$10,CalculationsAndCharts!$A88+$A$11,0,1,1)","v":13187.28},{"$f":"OFFSET(InputPriceData!E$10,CalculationsAndCharts!$A88+$A$11,0,1,1)","v":13099.72},{"$f":"OFFSET(InputPriceData!F$10,CalculationsAndCharts!$A88+$A$11,0,1,1)","v":13117.51},{"$f":"IF(AND(A88<=$B$20,$S$14),$T$14,0)","v":0},{"$f":"IF(AND(A88<=$B$20,$S$15),$T$15,0)","v":0},{"$f":"IF(AND(A88<=$B$20,$S$16),$T$16,0)","v":12765.86875},{"$f":"IF(AND(A88<=$B$20,$S$17),$T$17,0)","v":12604.567499999999},{"$f":"IF(AND(A88<=$B$20,$S$18),$T$18,0)","v":12330.624170115241},0,0,13088.471250000001,13249.772500000001,13523.715829884759,0,0,0,0,0,0,0,0]
[58,{"$f":"OFFSET(InputPriceData!B$10,CalculationsAndCharts!$A89+$A$11,0,1,1)","v":"2012-08-03"},{"$f":"OFFSET(InputPriceData!G$10,CalculationsAndCharts!$A89+$A$11,0,1,1)","v":112391986},{"$f":"OFFSET(InputPriceData!C$10,CalculationsAndCharts!$A89+$A$11,0,1,1)","v":12884.82},{"$f":"OFFSET(InputPriceData!D$10,CalculationsAndCharts!$A89+$A$11,0,1,1)","v":13133.18},{"$f":"OFFSET(InputPriceData!E$10,CalculationsAndCharts!$A89+$A$11,0,1,1)","v":12884.82},{"$f":"OFFSET(InputPriceData!F$10,CalculationsAndCharts!$A89+$A$11,0,1,1)","v":13096.17},{"$f":"IF(AND(A89<=$B$20,$S$14),$T$14,0)","v":0},{"$f":"IF(AND(A89<=$B$20,$S$15),$T$15,0)","v":0},{"$f":"IF(AND(A89<=$B$20,$S$16),$T$16,0)","v":12765.86875},{"$f":"IF(AND(A89<=$B$20,$S$17),$T$17,0)","v":12604.567499999999},{"$f":"IF(AND(A89<=$B$20,$S$18),$T$18,0)","v":12330.624170115241},0,0,13088.471250000001,13249.772500000001,13523.715829884759,0,0,0,0,0,0,0,0]
[59,{"$f":"OFFSET(InputPriceData!B$10,CalculationsAndCharts!$A90+$A$11,0,1,1)","v":"2012-08-02"},{"$f":"OFFSET(InputPriceData!G$10,CalculationsAndCharts!$A90+$A$11,0,1,1)","v":112724676},{"$f":"OFFSET(InputPriceData!C$10,CalculationsAndCharts!$A90+$A$11,0,1,1)","v":12969.7},{"$f":"OFFSET(InputPriceData!D$10,CalculationsAndCharts!$A90+$A$11,0,1,1)","v":12969.85},{"$f":"OFFSET(InputPriceData!E$10,CalculationsAndCharts!$A90+$A$11,0,1,1)","v":12778.9},{"$f":"OFFSET(InputPriceData!F$10,CalculationsAndCharts!$A90+$A$11,0,1,1)","v":12878.88},{"$f":"IF(AND(A90<=$B$20,$S$14),$T$14,0)","v":0},{"$f":"IF(AND(A90<=$B$20,$S$15),$T$15,0)","v":0},{"$f":"IF(AND(A90<=$B$20,$S$16),$T$16,0)","v":12765.86875},{"$f":"IF(AND(A90<=$B$20,$S$17),$T$17,0)","v":12604.567499999999},{"$f":"IF(AND(A90<=$B$20,$S$18),$T$18,0)","v":12330.624170115241},0,0,13088.471250000001,13249.772500000001,13523.715829884759,0,0,0,0,0,0,0,0]
[60,{"$f":"OFFSET(InputPriceData!B$10,CalculationsAndCharts!$A91+$A$11,0,1,1)","v":"2012-08-01"},{"$f":"OFFSET(InputPriceData!G$10,CalculationsAndCharts!$A91+$A$11,0,1,1)","v":132781673},{"$f":"OFFSET(InputPriceData!C$10,CalculationsAndCharts!$A91+$A$11,0,1,1)","v":13007.47},{"$f":"OFFSET(InputPriceData!D$10,CalculationsAndCharts!$A91+$A$11,0,1,1)","v":13074.83},{"$f":"OFFSET(InputPriceData!E$10,CalculationsAndCharts!$A91+$A$11,0,1,1)","v":12951.16},{"$f":"OFFSET(InputPriceData!F$10,CalculationsAndCharts!$A91+$A$11,0,1,1)","v":12971.06},{"$f":"IF(AND(A91<=$B$20,$S$14),$T$14,0)","v":0},{"$f":"IF(AND(A91<=$B$20,$S$15),$T$15,0)","v":0},{"$f":"IF(AND(A91<=$B$20,$S$16),$T$16,0)","v":12765.86875},{"$f":"IF(AND(A91<=$B$20,$S$17),$T$17,0)","v":12604.567499999999},{"$f":"IF(AND(A91<=$B$20,$S$18),$T$18,0)","v":12330.624170115241},0,0,13088.471250000001,13249.772500000001,13523.715829884759,0,0,0,0,0,0,0,0]
[61,{"$f":"OFFSET(InputPriceData!B$10,CalculationsAndCharts!$A92+$A$11,0,1,1)","v":"2012-07-31"},{"$f":"OFFSET(InputPriceData!G$10,CalculationsAndCharts!$A92+$A$11,0,1,1)","v":125597835},{"$f":"OFFSET(InputPriceData!C$10,CalculationsAndCharts!$A92+$A$11,0,1,1)","v":13071.72},{"$f":"OFFSET(InputPriceData!D$10,CalculationsAndCharts!$A92+$A$11,0,1,1)","v":13082.66},{"$f":"OFFSET(InputPriceData!E$10,CalculationsAndCharts!$A92+$A$11,0,1,1)","v":13006.48},{"$f":"OFFSET(InputPriceData!F$10,CalculationsAndCharts!$A92+$A$11,0,1,1)","v":13008.68},{"$f":"IF(AND(A92<=$B$20,$S$14),$T$14,0)","v":0},{"$f":"IF(AND(A92<=$B$20,$S$15),$T$15,0)","v":0},{"$f":"IF(AND(A92<=$B$20,$S$16),$T$16,0)","v":12765.86875},{"$f":"IF(AND(A92<=$B$20,$S$17),$T$17,0)","v":12604.567499999999},{"$f":"IF(AND(A92<=$B$20,$S$18),$T$18,0)","v":12330.624170115241},0,0,13088.471250000001,13249.772500000001,13523.715829884759,0,0,0,0,0,0,0,0]
[62,{"$f":"OFFSET(InputPriceData!B$10,CalculationsAndCharts!$A93+$A$11,0,1,1)","v":"2012-07-30"},{"$f":"OFFSET(InputPriceData!G$10,CalculationsAndCharts!$A93+$A$11,0,1,1)","v":91574327},{"$f":"OFFSET(InputPriceData!C$10,CalculationsAndCharts!$A93+$A$11,0,1,1)","v":13075.35},{"$f":"OFFSET(InputPriceData!D$10,CalculationsAndCharts!$A93+$A$11,0,1,1)","v":13128.64},{"$f":"OFFSET(InputPriceData!E$10,CalculationsAndCharts!$A93+$A$11,0,1,1)","v":13042.85},{"$f":"OFFSET(InputPriceData!F$10,CalculationsAndCharts!$A93+$A$11,0,1,1)","v":13073.01},{"$f":"IF(AND(A93<=$B$20,$S$14),$T$14,0)","v":0},{"$f":"IF(AND(A93<=$B$20,$S$15),$T$15,0)","v":0},{"$f":"IF(AND(A93<=$B$20,$S$16),$T$16,0)","v":12765.86875},{"$f":"IF(AND(A93<=$B$20,$S$17),$T$17,0)","v":12604.567499999999},{"$f":"IF(AND(A93<=$B$20,$S$18),$T$18,0)","v":12330.624170115241},0,0,13088.471250000001,13249.772500000001,13523.715829884759,0,0,0,0,0,0,0,0]
[63,{"$f":"OFFSET(InputPriceData!B$10,CalculationsAndCharts!$A94+$A$11,0,1,1)","v":"2012-07-27"},{"$f":"OFFSET(InputPriceData!G$10,CalculationsAndCharts!$A94+$A$11,0,1,1)","v":161495423},{"$f":"OFFSET(InputPriceData!C$10,CalculationsAndCharts!$A94+$A$11,0,1,1)","v":12888.91},{"$f":"OFFSET(InputPriceData!D$10,CalculationsAndCharts!$A94+$A$11,0,1,1)","v":13117.74},{"$f":"OFFSET(InputPriceData!E$10,CalculationsAndCharts!$A94+$A$11,0,1,1)","v":12888.53},{"$f":"OFFSET(InputPriceData!F$10,CalculationsAndCharts!$A94+$A$11,0,1,1)","v":13075.66},{"$f":"IF(AND(A94<=$B$20,$S$14),$T$14,0)","v":0},{"$f":"IF(AND(A94<=$B$20,$S$15),$T$15,0)","v":0},{"$f":"IF(AND(A94<=$B$20,$S$16),$T$16,0)","v":12765.86875},{"$f":"IF(AND(A94<=$B$20,$S$17),$T$17,0)","v":12604.567499999999},{"$f":"IF(AND(A94<=$B$20,$S$18),$T$18,0)","v":12330.624170115241},0,0,13088.471250000001,13249.772500000001,13523.715829884759,0,0,0,0,0,0,0,0]
[64,{"$f":"OFFSET(InputPriceData!B$10,CalculationsAndCharts!$A95+$A$11,0,1,1)","v":"2012-07-26"},{"$f":"OFFSET(InputPriceData!G$10,CalculationsAndCharts!$A95+$A$11,0,1,1)","v":133605095},{"$f":"OFFSET(InputPriceData!C$10,CalculationsAndCharts!$A95+$A$11,0,1,1)","v":12680.59},{"$f":"OFFSET(InputPriceData!D$10,CalculationsAndCharts!$A95+$A$11,0,1,1)","v":12931.22},{"$f":"OFFSET(InputPriceData!E$10,CalculationsAndCharts!$A95+$A$11,0,1,1)","v":12680.59},{"$f":"OFFSET(InputPriceData!F$10,CalculationsAndCharts!$A95+$A$11,0,1,1)","v":12887.93},{"$f":"IF(AND(A95<=$B$20,$S$14),$T$14,0)","v":0},{"$f":"IF(AND(A95<=$B$20,$S$15),$T$15,0)","v":0},{"$f":"IF(AND(A95<=$B$20,$S$16),$T$16,0)","v":12765.86875},{"$f":"IF(AND(A95<=$B$20,$S$17),$T$17,0)","v":12604.567499999999},{"$f":"IF(AND(A95<=$B$20,$S$18),$T$18,0)","v":12330.624170115241},0,0,13088.471250000001,13249.772500000001,13523.715829884759,0,0,0,0,0,0,0,0]
[65,{"$f":"OFFSET(InputPriceData!B$10,CalculationsAndCharts!$A96+$A$11,0,1,1)","v":"2012-07-25"},{"$f":"OFFSET(InputPriceData!G$10,CalculationsAndCharts!$A96+$A$11,0,1,1)","v":126984523},{"$f":"OFFSET(InputPriceData!C$10,CalculationsAndCharts!$A96+$A$11,0,1,1)","v":12617.77},{"$f":"OFFSET(InputPriceData!D$10,CalculationsAndCharts!$A96+$A$11,0,1,1)","v":12732.77},{"$f":"OFFSET(InputPriceData!E$10,CalculationsAndCharts!$A96+$A$11,0,1,1)","v":12617.62},{"$f":"OFFSET(InputPriceData!F$10,CalculationsAndCharts!$A96+$A$11,0,1,1)","v":12676.05},{"$f":"IF(AND(A96<=$B$20,$S$14),$T$14,0)","v":0},{"$f":"IF(AND(A96<=$B$20,$S$15),$T$15,0)","v":0},{"$f":"IF(AND(A96<=$B$20,$S$16),$T$16,0)","v":12765.86875},{"$f":"IF(AND(A96<=$B$20,$S$17),$T$17,0)","v":12604.567499999999},{"$f":"IF(AND(A96<=$B$20,$S$18),$T$18,0)","v":12330.624170115241},0,0,13088.471250000001,13249.772500000001,13523.715829884759,0,{"$f":"IF($A96=$B$28,S$31,0)","v":0},0,0,0,0,0,0]
[66,{"$f":"OFFSET(InputPriceData!B$10,CalculationsAndCharts!$A97+$A$11,0,1,1)","v":"2012-07-24"},{"$f":"OFFSET(InputPriceData!G$10,CalculationsAndCharts!$A97+$A$11,0,1,1)","v":131409746},{"$f":"OFFSET(InputPriceData!C$10,CalculationsAndCharts!$A97+$A$11,0,1,1)","v":12720.93},{"$f":"OFFSET(InputPriceData!D$10,CalculationsAndCharts!$A97+$A$11,0,1,1)","v":12730.09},{"$f":"OFFSET(InputPriceData!E$10,CalculationsAndCharts!$A97+$A$11,0,1,1)","v":12521.84},{"$f":"OFFSET(InputPriceData!F$10,CalculationsAndCharts!$A97+$A$11,0,1,1)","v":12617.32},{"$f":"IF(AND(A97<=$B$20,$S$14),$T$14,0)","v":0},{"$f":"IF(AND(A97<=$B$20,$S$15),$T$15,0)","v":0},{"$f":"IF(AND(A97<=$B$20,$S$16),$T$16,0)","v":12765.86875},{"$f":"IF(AND(A97<=$B$20,$S$17),$T$17,0)","v":12604.567499999999},{"$f":"IF(AND(A97<=$B$20,$S$18),$T$18,0)","v":12330.624170115241},{"$f":"IF(AND(A97<=$B$20,$S$8),$T$8,0)","v":0},{"$f":"IF(AND(A97<=$B$20,$S$7),$T$7,0)","v":0},{"$f":"IF(AND(A97<=$B$20,$S$6),$T$6,0)","v":13088.471250000001},{"$f":"IF(AND(A97<=$B$20,$S$5),$T$5,0)","v":13249.772500000001},{"$f":"IF(AND(A97<=$B$20,$S$4),$T$4,0)","v":13523.715829884759},{"$f":"IF(AND(A97>$B$20,A97<=($B$20+$C$18)),$T$10-Y97,0)","v":0},0,{"$f":"IF($A97=$B$27,S$31,0)","v":0},{"$f":"IF(AND(A97<=$B$20,A97>($B$20-$C$18)),$F$11,0)","v":0},{"$f":"IF(AND($S$10,A97>$B$20,A97<=($B$20+$C$18)),$T$10,0)","v":0},{"$f":"IF(AND($S$11,A97>$B$20,A97<=($B$20+$C$18)),$T$11,0)","v":0},{"$f":"IF(AND($S$12,A97>$B$20,A97<=($B$20+$C$18)),$T$12,0)","v":0},{"$f":"IF(AND(A97>$B$20,A97<=($B$20+$C$18)),$T$12,0)","v":0}]
[67,{"$f":"OFFSET(InputPriceData!B$10,CalculationsAndCharts!$A98+$A$11,0,1,1)","v":"2012-07-23"},{"$f":"OFFSET(InputPriceData!G$10,CalculationsAndCharts!$A98+$A$11,0,1,1)","v":137759645},{"$f":"OFFSET(InputPriceData!C$10,CalculationsAndCharts!$A98+$A$11,0,1,1)","v":12820.45},{"$f":"OFFSET(InputPriceData!D$10,CalculationsAndCharts!$A98+$A$11,0,1,1)","v":12820.45},{"$f":"OFFSET(InputPriceData!E$10,CalculationsAndCharts!$A98+$A$11,0,1,1)","v":12583.41},{"$f":"OFFSET(InputPriceData!F$10,CalculationsAndCharts!$A98+$A$11,0,1,1)","v":12721.46},{"$f":"IF(AND(A98<=$B$20,$S$14),$T$14,0)","v":0},{"$f":"IF(AND(A98<=$B$20,$S$15),$T$15,0)","v":0},{"$f":"IF(AND(A98<=$B$20,$S$16),$T$16,0)","v":12765.86875},{"$f":"IF(AND(A98<=$B$20,$S$17),$T$17,0)","v":12604.567499999999},{"$f":"IF(AND(A98<=$B$20,$S$18),$T$18,0)","v":12330.624170115241},0,0,13088.471250000001,13249.772500000001,13523.715829884759,0,0,0,0,0,0,0,0]
[68,{"$f":"OFFSET(InputPriceData!B$10,CalculationsAndCharts!$A99+$A$11,0,1,1)","v":"2012-07-20"},{"$f":"OFFSET(InputPriceData!G$10,CalculationsAndCharts!$A99+$A$11,0,1,1)","v":210735664},{"$f":"OFFSET(InputPriceData!C$10,CalculationsAndCharts!$A99+$A$11,0,1,1)","v":12942.68},{"$f":"OFFSET(InputPriceData!D$10,CalculationsAndCharts!$A99+$A$11,0,1,1)","v":12942.83},{"$f":"OFFSET(InputPriceData!E$10,CalculationsAndCharts!$A99+$A$11,0,1,1)","v":12810.35},{"$f":"OFFSET(InputPriceData!F$10,CalculationsAndCharts!$A99+$A$11,0,1,1)","v":12822.57},{"$f":"IF(AND(A99<=$B$20,$S$14),$T$14,0)","v":0},{"$f":"IF(AND(A99<=$B$20,$S$15),$T$15,0)","v":0},{"$f":"IF(AND(A99<=$B$20,$S$16),$T$16,0)","v":12765.86875},{"$f":"IF(AND(A99<=$B$20,$S$17),$T$17,0)","v":12604.567499999999},{"$f":"IF(AND(A99<=$B$20,$S$18),$T$18,0)","v":12330.624170115241},0,0,13088.471250000001,13249.772500000001,13523.715829884759,0,0,0,0,0,0,0,0]
[69,{"$f":"OFFSET(InputPriceData!B$10,CalculationsAndCharts!$A100+$A$11,0,1,1)","v":"2012-07-19"},{"$f":"OFFSET(InputPriceData!G$10,CalculationsAndCharts!$A100+$A$11,0,1,1)","v":137874680},{"$f":"OFFSET(InputPriceData!C$10,CalculationsAndCharts!$A100+$A$11,0,1,1)","v":12909.61},{"$f":"OFFSET(InputPriceData!D$10,CalculationsAndCharts!$A100+$A$11,0,1,1)","v":12977.57},{"$f":"OFFSET(InputPriceData!E$10,CalculationsAndCharts!$A100+$A$11,0,1,1)","v":12889.93},{"$f":"OFFSET(InputPriceData!F$10,CalculationsAndCharts!$A100+$A$11,0,1,1)","v":12943.36},{"$f":"IF(AND(A100<=$B$20,$S$14),$T$14,0)","v":0},{"$f":"IF(AND(A100<=$B$20,$S$15),$T$15,0)","v":0},{"$f":"IF(AND(A100<=$B$20,$S$16),$T$16,0)","v":12765.86875},{"$f":"IF(AND(A100<=$B$20,$S$17),$T$17,0)","v":12604.567499999999},{"$f":"IF(AND(A100<=$B$20,$S$18),$T$18,0)","v":12330.624170115241},0,0,13088.471250000001,13249.772500000001,13523.715829884759,0,0,0,0,0,0,0,0]
[70,{"$f":"OFFSET(InputPriceData!B$10,CalculationsAndCharts!$A101+$A$11,0,1,1)","v":"2012-07-18"},{"$f":"OFFSET(InputPriceData!G$10,CalculationsAndCharts!$A101+$A$11,0,1,1)","v":130059770},{"$f":"OFFSET(InputPriceData!C$10,CalculationsAndCharts!$A101+$A$11,0,1,1)","v":12796.98},{"$f":"OFFSET(InputPriceData!D$10,CalculationsAndCharts!$A101+$A$11,0,1,1)","v":12921.94},{"$f":"OFFSET(InputPriceData!E$10,CalculationsAndCharts!$A101+$A$11,0,1,1)","v":12754.61},{"$f":"OFFSET(InputPriceData!F$10,CalculationsAndCharts!$A101+$A$11,0,1,1)","v":12908.7},{"$f":"IF(AND(A101<=$B$20,$S$14),$T$14,0)","v":0},{"$f":"IF(AND(A101<=$B$20,$S$15),$T$15,0)","v":0},{"$f":"IF(AND(A101<=$B$20,$S$16),$T$16,0)","v":12765.86875},{"$f":"IF(AND(A101<=$B$20,$S$17),$T$17,0)","v":12604.567499999999},{"$f":"IF(AND(A101<=$B$20,$S$18),$T$18,0)","v":12330.624170115241},0,0,13088.471250000001,13249.772500000001,13523.715829884759,0,0,0,0,0,0,0,0]
[71,{"$f":"OFFSET(InputPriceData!B$10,CalculationsAndCharts!$A102+$A$11,0,1,1)","v":"2012-07-17"},{"$f":"OFFSET(InputPriceData!G$10,CalculationsAndCharts!$A102+$A$11,0,1,1)","v":119000691},{"$f":"OFFSET(InputPriceData!C$10,CalculationsAndCharts!$A102+$A$11,0,1,1)","v":12728.73},{"$f":"OFFSET(InputPriceData!D$10,CalculationsAndCharts!$A102+$A$11,0,1,1)","v":12829.23},{"$f":"OFFSET(InputPriceData!E$10,CalculationsAndCharts!$A102+$A$11,0,1,1)","v":12645.1},{"$f":"OFFSET(InputPriceData!F$10,CalculationsAndCharts!$A102+$A$11,0,1,1)","v":12805.54},{"$f":"IF(AND(A102<=$B$20,$S$14),$T$14,0)","v":0},{"$f":"IF(AND(A102<=$B$20,$S$15),$T$15,0)","v":0},{"$f":"IF(AND(A102<=$B$20,$S$16),$T$16,0)","v":12765.86875},{"$f":"IF(AND(A102<=$B$20,$S$17),$T$17,0)","v":12604.567499999999},{"$f":"IF(AND(A102<=$B$20,$S$18),$T$18,0)","v":12330.624170115241},0,0,13088.471250000001,13249.772500000001,13523.715829884759,0,0,0,0,0,0,0,0]
[72,{"$f":"OFFSET(InputPriceData!B$10,CalculationsAndCharts!$A103+$A$11,0,1,1)","v":"2012-07-16"},{"$f":"OFFSET(InputPriceData!G$10,CalculationsAndCharts!$A103+$A$11,0,1,1)","v":93493918},{"$f":"OFFSET(InputPriceData!C$10,CalculationsAndCharts!$A103+$A$11,0,1,1)","v":12776.33},{"$f":"OFFSET(InputPriceData!D$10,CalculationsAndCharts!$A103+$A$11,0,1,1)","v":12779.58},{"$f":"OFFSET(InputPriceData!E$10,CalculationsAndCharts!$A103+$A$11,0,1,1)","v":12690.05},{"$f":"OFFSET(InputPriceData!F$10,CalculationsAndCharts!$A103+$A$11,0,1,1)","v":12727.21},{"$f":"IF(AND(A103<=$B$20,$S$14),$T$14,0)","v":0},{"$f":"IF(AND(A103<=$B$20,$S$15),$T$15,0)","v":0},{"$f":"IF(AND(A103<=$B$20,$S$16),$T$16,0)","v":12765.86875},{"$f":"IF(AND(A103<=$B$20,$S$17),$T$17,0)","v":12604.567499999999},{"$f":"IF(AND(A103<=$B$20,$S$18),$T$18,0)","v":12330.624170115241},0,0,13088.471250000001,13249.772500000001,13523.715829884759,0,0,0,0,0,0,0,0]
[73,{"$f":"OFFSET(InputPriceData!B$10,CalculationsAndCharts!$A104+$A$11,0,1,1)","v":"2012-07-13"},{"$f":"OFFSET(InputPriceData!G$10,CalculationsAndCharts!$A104+$A$11,0,1,1)","v":121079336},{"$f":"OFFSET(InputPriceData!C$10,CalculationsAndCharts!$A104+$A$11,0,1,1)","v":12573.73},{"$f":"OFFSET(InputPriceData!D$10,CalculationsAndCharts!$A104+$A$11,0,1,1)","v":12784.73},{"$f":"OFFSET(InputPriceData!E$10,CalculationsAndCharts!$A104+$A$11,0,1,1)","v":12573.04},{"$f":"OFFSET(InputPriceData!F$10,CalculationsAndCharts!$A104+$A$11,0,1,1)","v":12777.09},{"$f":"IF(AND(A104<=$B$20,$S$14),$T$14,0)","v":0},{"$f":"IF(AND(A104<=$B$20,$S$15),$T$15,0)","v":0},{"$f":"IF(AND(A104<=$B$20,$S$16),$T$16,0)","v":12765.86875},{"$f":"IF(AND(A104<=$B$20,$S$17),$T$17,0)","v":12604.567499999999},{"$f":"IF(AND(A104<=$B$20,$S$18),$T$18,0)","v":12330.624170115241},0,0,13088.471250000001,13249.772500000001,13523.715829884759,0,0,0,0,0,0,0,0]
[74,{"$f":"OFFSET(InputPriceData!B$10,CalculationsAndCharts!$A105+$A$11,0,1,1)","v":"2012-07-12"},{"$f":"OFFSET(InputPriceData!G$10,CalculationsAndCharts!$A105+$A$11,0,1,1)","v":142570033},{"$f":"OFFSET(InputPriceData!C$10,CalculationsAndCharts!$A105+$A$11,0,1,1)","v":12602.71},{"$f":"OFFSET(InputPriceData!D$10,CalculationsAndCharts!$A105+$A$11,0,1,1)","v":12630.64},{"$f":"OFFSET(InputPriceData!E$10,CalculationsAndCharts!$A105+$A$11,0,1,1)","v":12492.25},{"$f":"OFFSET(InputPriceData!F$10,CalculationsAndCharts!$A105+$A$11,0,1,1)","v":12573.27},{"$f":"IF(AND(A105<=$B$20,$S$14),$T$14,0)","v":0},{"$f":"IF(AND(A105<=$B$20,$S$15),$T$15,0)","v":0},{"$f":"IF(AND(A105<=$B$20,$S$16),$T$16,0)","v":12765.86875},{"$f":"IF(AND(A105<=$B$20,$S$17),$T$17,0)","v":12604.567499999999},{"$f":"IF(AND(A105<=$B$20,$S$18),$T$18,0)","v":12330.624170115241},0,0,13088.471250000001,13249.772500000001,13523.715829884759,0,0,0,0,0,0,0,0]
[75,{"$f":"OFFSET(InputPriceData!B$10,CalculationsAndCharts!$A106+$A$11,0,1,1)","v":"2012-07-11"},{"$f":"OFFSET(InputPriceData!G$10,CalculationsAndCharts!$A106+$A$11,0,1,1)","v":128422157},{"$f":"OFFSET(InputPriceData!C$10,CalculationsAndCharts!$A106+$A$11,0,1,1)","v":12653.04},{"$f":"OFFSET(InputPriceData!D$10,CalculationsAndCharts!$A106+$A$11,0,1,1)","v":12661.97},{"$f":"OFFSET(InputPriceData!E$10,CalculationsAndCharts!$A106+$A$11,0,1,1)","v":12534.33},{"$f":"OFFSET(InputPriceData!F$10,CalculationsAndCharts!$A106+$A$11,0,1,1)","v":12604.53},{"$f":"IF(AND(A106<=$B$20,$S$14),$T$14,0)","v":0},{"$f":"IF(AND(A106<=$B$20,$S$15),$T$15,0)","v":0},{"$f":"IF(AND(A106<=$B$20,$S$16),$T$16,0)","v":12765.86875},{"$f":"IF(AND(A106<=$B$20,$S$17),$T$17,0)","v":12604.567499999999},{"$f":"IF(AND(A106<=$B$20,$S$18),$T$18,0)","v":12330.624170115241},0,0,13088.471250000001,13249.772500000001,13523.715829884759,0,0,0,0,0,0,0,0]
[76,{"$f":"OFFSET(InputPriceData!B$10,CalculationsAndCharts!$A107+$A$11,0,1,1)","v":"2012-07-10"},{"$f":"OFFSET(InputPriceData!G$10,CalculationsAndCharts!$A107+$A$11,0,1,1)","v":114500727},{"$f":"OFFSET(InputPriceData!C$10,CalculationsAndCharts!$A107+$A$11,0,1,1)","v":12733.87},{"$f":"OFFSET(InputPriceData!D$10,CalculationsAndCharts!$A107+$A$11,0,1,1)","v":12830.29},{"$f":"OFFSET(InputPriceData!E$10,CalculationsAndCharts!$A107+$A$11,0,1,1)","v":12606.91},{"$f":"OFFSET(InputPriceData!F$10,CalculationsAndCharts!$A107+$A$11,0,1,1)","v":12653.12},{"$f":"IF(AND(A107<=$B$20,$S$14),$T$14,0)","v":0},{"$f":"IF(AND(A107<=$B$20,$S$15),$T$15,0)","v":0},{"$f":"IF(AND(A107<=$B$20,$S$16),$T$16,0)","v":12765.86875},{"$f":"IF(AND(A107<=$B$20,$S$17),$T$17,0)","v":12604.567499999999},{"$f":"IF(AND(A107<=$B$20,$S$18),$T$18,0)","v":12330.624170115241},0,0,13088.471250000001,13249.772500000001,13523.715829884759,0,0,0,0,0,0,0,0]
[77,{"$f":"OFFSET(InputPriceData!B$10,CalculationsAndCharts!$A108+$A$11,0,1,1)","v":"2012-07-09"},{"$f":"OFFSET(InputPriceData!G$10,CalculationsAndCharts!$A108+$A$11,0,1,1)","v":98674148},{"$f":"OFFSET(InputPriceData!C$10,CalculationsAndCharts!$A108+$A$11,0,1,1)","v":12772.02},{"$f":"OFFSET(InputPriceData!D$10,CalculationsAndCharts!$A108+$A$11,0,1,1)","v":12772.02},{"$f":"OFFSET(InputPriceData!E$10,CalculationsAndCharts!$A108+$A$11,0,1,1)","v":12686.57},{"$f":"OFFSET(InputPriceData!F$10,CalculationsAndCharts!$A108+$A$11,0,1,1)","v":12736.29},{"$f":"IF(AND(A108<=$B$20,$S$14),$T$14,0)","v":0},{"$f":"IF(AND(A108<=$B$20,$S$15),$T$15,0)","v":0},{"$f":"IF(AND(A108<=$B$20,$S$16),$T$16,0)","v":12765.86875},{"$f":"IF(AND(A108<=$B$20,$S$17),$T$17,0)","v":12604.567499999999},{"$f":"IF(AND(A108<=$B$20,$S$18),$T$18,0)","v":12330.624170115241},0,0,13088.471250000001,13249.772500000001,13523.715829884759,0,0,0,0,0,0,0,0]
[78,{"$f":"OFFSET(InputPriceData!B$10,CalculationsAndCharts!$A109+$A$11,0,1,1)","v":"2012-07-06"},{"$f":"OFFSET(InputPriceData!G$10,CalculationsAndCharts!$A109+$A$11,0,1,1)","v":96277887},{"$f":"OFFSET(InputPriceData!C$10,CalculationsAndCharts!$A109+$A$11,0,1,1)","v":12889.4},{"$f":"OFFSET(InputPriceData!D$10,CalculationsAndCharts!$A109+$A$11,0,1,1)","v":12889.4},{"$f":"OFFSET(InputPriceData!E$10,CalculationsAndCharts!$A109+$A$11,0,1,1)","v":12702.99},{"$f":"OFFSET(InputPriceData!F$10,CalculationsAndCharts!$A109+$A$11,0,1,1)","v":12772.47},{"$f":"IF(AND(A109<=$B$20,$S$14),$T$14,0)","v":0},{"$f":"IF(AND(A109<=$B$20,$S$15),$T$15,0)","v":0},{"$f":"IF(AND(A109<=$B$20,$S$16),$T$16,0)","v":12765.86875},{"$f":"IF(AND(A109<=$B$20,$S$17),$T$17,0)","v":12604.567499999999},{"$f":"IF(AND(A109<=$B$20,$S$18),$T$18,0)","v":12330.624170115241},0,0,13088.471250000001,13249.772500000001,13523.715829884759,0,0,0,0,0,0,0,0]
[79,{"$f":"OFFSET(InputPriceData!B$10,CalculationsAndCharts!$A110+$A$11,0,1,1)","v":"2012-07-05"},{"$f":"OFFSET(InputPriceData!G$10,CalculationsAndCharts!$A110+$A$11,0,1,1)","v":97418925},{"$f":"OFFSET(InputPriceData!C$10,CalculationsAndCharts!$A110+$A$11,0,1,1)","v":12941.85},{"$f":"OFFSET(InputPriceData!D$10,CalculationsAndCharts!$A110+$A$11,0,1,1)","v":12961.3},{"$f":"OFFSET(InputPriceData!E$10,CalculationsAndCharts!$A110+$A$11,0,1,1)","v":12852.24},{"$f":"OFFSET(InputPriceData!F$10,CalculationsAndCharts!$A110+$A$11,0,1,1)","v":12896.67},{"$f":"IF(AND(A110<=$B$20,$S$14),$T$14,0)","v":0},{"$f":"IF(AND(A110<=$B$20,$S$15),$T$15,0)","v":0},{"$f":"IF(AND(A110<=$B$20,$S$16),$T$16,0)","v":12765.86875},{"$f":"IF(AND(A110<=$B$20,$S$17),$T$17,0)","v":12604.567499999999},{"$f":"IF(AND(A110<=$B$20,$S$18),$T$18,0)","v":12330.624170115241},0,0,13088.471250000001,13249.772500000001,13523.715829884759,0,0,0,0,0,0,0,0]
[80,{"$f":"OFFSET(InputPriceData!B$10,CalculationsAndCharts!$A111+$A$11,0,1,1)","v":"2012-07-03"},{"$f":"OFFSET(InputPriceData!G$10,CalculationsAndCharts!$A111+$A$11,0,1,1)","v":63833360},{"$f":"OFFSET(InputPriceData!C$10,CalculationsAndCharts!$A111+$A$11,0,1,1)","v":12868.06},{"$f":"OFFSET(InputPriceData!D$10,CalculationsAndCharts!$A111+$A$11,0,1,1)","v":12946.2},{"$f":"OFFSET(InputPriceData!E$10,CalculationsAndCharts!$A111+$A$11,0,1,1)","v":12845.28},{"$f":"OFFSET(InputPriceData!F$10,CalculationsAndCharts!$A111+$A$11,0,1,1)","v":12943.82},{"$f":"IF(AND(A111<=$B$20,$S$14),$T$14,0)","v":0},{"$f":"IF(AND(A111<=$B$20,$S$15),$T$15,0)","v":0},{"$f":"IF(AND(A111<=$B$20,$S$16),$T$16,0)","v":12765.86875},{"$f":"IF(AND(A111<=$B$20,$S$17),$T$17,0)","v":12604.567499999999},{"$f":"IF(AND(A111<=$B$20,$S$18),$T$18,0)","v":12330.624170115241},0,0,13088.471250000001,13249.772500000001,13523.715829884759,0,0,0,0,0,0,0,0]
[81,{"$f":"OFFSET(InputPriceData!B$10,CalculationsAndCharts!$A112+$A$11,0,1,1)","v":"2012-07-02"},{"$f":"OFFSET(InputPriceData!G$10,CalculationsAndCharts!$A112+$A$11,0,1,1)","v":109134047},{"$f":"OFFSET(InputPriceData!C$10,CalculationsAndCharts!$A112+$A$11,0,1,1)","v":12879.71},{"$f":"OFFSET(InputPriceData!D$10,CalculationsAndCharts!$A112+$A$11,0,1,1)","v":12902.12},{"$f":"OFFSET(InputPriceData!E$10,CalculationsAndCharts!$A112+$A$11,0,1,1)","v":12795.48},{"$f":"OFFSET(InputPriceData!F$10,CalculationsAndCharts!$A112+$A$11,0,1,1)","v":12871.39},{"$f":"IF(AND(A112<=$B$20,$S$14),$T$14,0)","v":0},{"$f":"IF(AND(A112<=$B$20,$S$15),$T$15,0)","v":0},{"$f":"IF(AND(A112<=$B$20,$S$16),$T$16,0)","v":12765.86875},{"$f":"IF(AND(A112<=$B$20,$S$17),$T$17,0)","v":12604.567499999999},{"$f":"IF(AND(A112<=$B$20,$S$18),$T$18,0)","v":12330.624170115241},0,0,13088.471250000001,13249.772500000001,13523.715829884759,0,0,0,0,0,0,0,0]
[82,{"$f":"OFFSET(InputPriceData!B$10,CalculationsAndCharts!$A113+$A$11,0,1,1)","v":"2012-06-29"},{"$f":"OFFSET(InputPriceData!G$10,CalculationsAndCharts!$A113+$A$11,0,1,1)","v":191566814},{"$f":"OFFSET(InputPriceData!C$10,CalculationsAndCharts!$A113+$A$11,0,1,1)","v":12604.6},{"$f":"OFFSET(InputPriceData!D$10,CalculationsAndCharts!$A113+$A$11,0,1,1)","v":12880.39},{"$f":"OFFSET(InputPriceData!E$10,CalculationsAndCharts!$A113+$A$11,0,1,1)","v":12604.53},{"$f":"OFFSET(InputPriceData!F$10,CalculationsAndCharts!$A113+$A$11,0,1,1)","v":12880.09},{"$f":"IF(AND(A113<=$B$20,$S$14),$T$14,0)","v":0},{"$f":"IF(AND(A113<=$B$20,$S$15),$T$15,0)","v":0},{"$f":"IF(AND(A113<=$B$20,$S$16),$T$16,0)","v":12765.86875},{"$f":"IF(AND(A113<=$B$20,$S$17),$T$17,0)","v":12604.567499999999},{"$f":"IF(AND(A113<=$B$20,$S$18),$T$18,0)","v":12330.624170115241},0,0,13088.471250000001,13249.772500000001,13523.715829884759,0,0,0,0,0,0,0,0]
[83,{"$f":"OFFSET(InputPriceData!B$10,CalculationsAndCharts!$A114+$A$11,0,1,1)","v":"2012-06-28"},{"$f":"OFFSET(InputPriceData!G$10,CalculationsAndCharts!$A114+$A$11,0,1,1)","v":125864695},{"$f":"OFFSET(InputPriceData!C$10,CalculationsAndCharts!$A114+$A$11,0,1,1)","v":12626.25},{"$f":"OFFSET(InputPriceData!D$10,CalculationsAndCharts!$A114+$A$11,0,1,1)","v":12626.25},{"$f":"OFFSET(InputPriceData!E$10,CalculationsAndCharts!$A114+$A$11,0,1,1)","v":12450.17},{"$f":"OFFSET(InputPriceData!F$10,CalculationsAndCharts!$A114+$A$11,0,1,1)","v":12602.26},{"$f":"IF(AND(A114<=$B$20,$S$14),$T$14,0)","v":0},{"$f":"IF(AND(A114<=$B$20,$S$15),$T$15,0)","v":0},{"$f":"IF(AND(A114<=$B$20,$S$16),$T$16,0)","v":12765.86875},{"$f":"IF(AND(A114<=$B$20,$S$17),$T$17,0)","v":12604.567499999999},{"$f":"IF(AND(A114<=$B$20,$S$18),$T$18,0)","v":12330.624170115241},0,0,13088.471250000001,13249.772500000001,13523.715829884759,0,0,0,0,0,0,0,0]
[84,{"$f":"OFFSET(InputPriceData!B$10,CalculationsAndCharts!$A115+$A$11,0,1,1)","v":"2012-06-27"},{"$f":"OFFSET(InputPriceData!G$10,CalculationsAndCharts!$A115+$A$11,0,1,1)","v":97933787},{"$f":"OFFSET(InputPriceData!C$10,CalculationsAndCharts!$A115+$A$11,0,1,1)","v":12532.93},{"$f":"OFFSET(InputPriceData!D$10,CalculationsAndCharts!$A115+$A$11,0,1,1)","v":12646.87},{"$f":"OFFSET(InputPriceData!E$10,CalculationsAndCharts!$A115+$A$11,0,1,1)","v":12532.71},{"$f":"OFFSET(InputPriceData!F$10,CalculationsAndCharts!$A115+$A$11,0,1,1)","v":12627.01},{"$f":"IF(AND(A115<=$B$20,$S$14),$T$14,0)","v":0},{"$f":"IF(AND(A115<=$B$20,$S$15),$T$15,0)","v":0},{"$f":"IF(AND(A115<=$B$20,$S$16),$T$16,0)","v":12765.86875},{"$f":"IF(AND(A115<=$B$20,$S$17),$T$17,0)","v":12604.567499999999},{"$f":"IF(AND(A115<=$B$20,$S$18),$T$18,0)","v":12330.624170115241},0,0,13088.471250000001,13249.772500000001,13523.715829884759,0,0,0,0,0,0,0,0]
[85,{"$f":"OFFSET(InputPriceData!B$10,CalculationsAndCharts!$A116+$A$11,0,1,1)","v":"2012-06-26"},{"$f":"OFFSET(InputPriceData!G$10,CalculationsAndCharts!$A116+$A$11,0,1,1)","v":109263881},{"$f":"OFFSET(InputPriceData!C$10,CalculationsAndCharts!$A116+$A$11,0,1,1)","v":12503.57},{"$f":"OFFSET(InputPriceData!D$10,CalculationsAndCharts!$A116+$A$11,0,1,1)","v":12576.41},{"$f":"OFFSET(InputPriceData!E$10,CalculationsAndCharts!$A116+$A$11,0,1,1)","v":12452.03},{"$f":"OFFSET(InputPriceData!F$10,CalculationsAndCharts!$A116+$A$11,0,1,1)","v":12534.67},{"$f":"IF(AND(A116<=$B$20,$S$14),$T$14,0)","v":0},{"$f":"IF(AND(A116<=$B$20,$S$15),$T$15,0)","v":0},{"$f":"IF(AND(A116<=$B$20,$S$16),$T$16,0)","v":12765.86875},{"$f":"IF(AND(A116<=$B$20,$S$17),$T$17,0)","v":12604.567499999999},{"$f":"IF(AND(A116<=$B$20,$S$18),$T$18,0)","v":12330.624170115241},0,0,13088.471250000001,13249.772500000001,13523.715829884759,0,0,0,0,0,0,0,0]
[86,{"$f":"OFFSET(InputPriceData!B$10,CalculationsAndCharts!$A117+$A$11,0,1,1)","v":"2012-06-25"},{"$f":"OFFSET(InputPriceData!G$10,CalculationsAndCharts!$A117+$A$11,0,1,1)","v":134067966},{"$f":"OFFSET(InputPriceData!C$10,CalculationsAndCharts!$A117+$A$11,0,1,1)","v":12639.8},{"$f":"OFFSET(InputPriceData!D$10,CalculationsAndCharts!$A117+$A$11,0,1,1)","v":12639.87},{"$f":"OFFSET(InputPriceData!E$10,CalculationsAndCharts!$A117+$A$11,0,1,1)","v":12458.01},{"$f":"OFFSET(InputPriceData!F$10,CalculationsAndCharts!$A117+$A$11,0,1,1)","v":12502.66},{"$f":"IF(AND(A117<=$B$20,$S$14),$T$14,0)","v":0},{"$f":"IF(AND(A117<=$B$20,$S$15),$T$15,0)","v":0},{"$f":"IF(AND(A117<=$B$20,$S$16),$T$16,0)","v":12765.86875},{"$f":"IF(AND(A117<=$B$20,$S$17),$T$17,0)","v":12604.567499999999},{"$f":"IF(AND(A117<=$B$20,$S$18),$T$18,0)","v":12330.624170115241},0,0,13088.471250000001,13249.772500000001,13523.715829884759,0,0,0,0,0,0,0,0]
[87,{"$f":"OFFSET(InputPriceData!B$10,CalculationsAndCharts!$A118+$A$11,0,1,1)","v":"2012-06-22"},{"$f":"OFFSET(InputPriceData!G$10,CalculationsAndCharts!$A118+$A$11,0,1,1)","v":209984909},{"$f":"OFFSET(InputPriceData!C$10,CalculationsAndCharts!$A118+$A$11,0,1,1)","v":12574.82},{"$f":"OFFSET(InputPriceData!D$10,CalculationsAndCharts!$A118+$A$11,0,1,1)","v":12674.08},{"$f":"OFFSET(InputPriceData!E$10,CalculationsAndCharts!$A118+$A$11,0,1,1)","v":12574.67},{"$f":"OFFSET(InputPriceData!F$10,CalculationsAndCharts!$A118+$A$11,0,1,1)","v":12640.78},{"$f":"IF(AND(A118<=$B$20,$S$14),$T$14,0)","v":0},{"$f":"IF(AND(A118<=$B$20,$S$15),$T$15,0)","v":0},{"$f":"IF(AND(A118<=$B$20,$S$16),$T$16,0)","v":12765.86875},{"$f":"IF(AND(A118<=$B$20,$S$17),$T$17,0)","v":12604.567499999999},{"$f":"IF(AND(A118<=$B$20,$S$18),$T$18,0)","v":12330.624170115241},0,0,13088.471250000001,13249.772500000001,13523.715829884759,0,0,0,0,0,0,0,0]
[88,{"$f":"OFFSET(InputPriceData!B$10,CalculationsAndCharts!$A119+$A$11,0,1,1)","v":"2012-06-21"},{"$f":"OFFSET(InputPriceData!G$10,CalculationsAndCharts!$A119+$A$11,0,1,1)","v":146742705},{"$f":"OFFSET(InputPriceData!C$10,CalculationsAndCharts!$A119+$A$11,0,1,1)","v":12823.1},{"$f":"OFFSET(InputPriceData!D$10,CalculationsAndCharts!$A119+$A$11,0,1,1)","v":12857.39},{"$f":"OFFSET(InputPriceData!E$10,CalculationsAndCharts!$A119+$A$11,0,1,1)","v":12561.46},{"$f":"OFFSET(InputPriceData!F$10,CalculationsAndCharts!$A119+$A$11,0,1,1)","v":12573.57},{"$f":"IF(AND(A119<=$B$20,$S$14),$T$14,0)","v":0},{"$f":"IF(AND(A119<=$B$20,$S$15),$T$15,0)","v":0},{"$f":"IF(AND(A119<=$B$20,$S$16),$T$16,0)","v":12765.86875},{"$f":"IF(AND(A119<=$B$20,$S$17),$T$17,0)","v":12604.567499999999},{"$f":"IF(AND(A119<=$B$20,$S$18),$T$18,0)","v":12330.624170115241},0,0,13088.471250000001,13249.772500000001,13523.715829884759,0,0,0,0,0,0,0,0]
[89,{"$f":"OFFSET(InputPriceData!B$10,CalculationsAndCharts!$A120+$A$11,0,1,1)","v":"2012-06-20"},{"$f":"OFFSET(InputPriceData!G$10,CalculationsAndCharts!$A120+$A$11,0,1,1)","v":119073026},{"$f":"OFFSET(InputPriceData!C$10,CalculationsAndCharts!$A120+$A$11,0,1,1)","v":12837.1},{"$f":"OFFSET(InputPriceData!D$10,CalculationsAndCharts!$A120+$A$11,0,1,1)","v":12877.18},{"$f":"OFFSET(InputPriceData!E$10,CalculationsAndCharts!$A120+$A$11,0,1,1)","v":12744.92},{"$f":"OFFSET(InputPriceData!F$10,CalculationsAndCharts!$A120+$A$11,0,1,1)","v":12824.39},{"$f":"IF(AND(A120<=$B$20,$S$14),$T$14,0)","v":0},{"$f":"IF(AND(A120<=$B$20,$S$15),$T$15,0)","v":0},{"$f":"IF(AND(A120<=$B$20,$S$16),$T$16,0)","v":12765.86875},{"$f":"IF(AND(A120<=$B$20,$S$17),$T$17,0)","v":12604.567499999999},{"$f":"IF(AND(A120<=$B$20,$S$18),$T$18,0)","v":12330.624170115241},0,0,13088.471250000001,13249.772500000001,13523.715829884759,0,0,0,0,0,0,0,0]
[90,{"$f":"OFFSET(InputPriceData!B$10,CalculationsAndCharts!$A121+$A$11,0,1,1)","v":"2012-06-19"},{"$f":"OFFSET(InputPriceData!G$10,CalculationsAndCharts!$A121+$A$11,0,1,1)","v":125122945},{"$f":"OFFSET(InputPriceData!C$10,CalculationsAndCharts!$A121+$A$11,0,1,1)","v":12744.62},{"$f":"OFFSET(InputPriceData!D$10,CalculationsAndCharts!$A121+$A$11,0,1,1)","v":12898.94},{"$f":"OFFSET(InputPriceData!E$10,CalculationsAndCharts!$A121+$A$11,0,1,1)","v":12744.47},{"$f":"OFFSET(InputPriceData!F$10,CalculationsAndCharts!$A121+$A$11,0,1,1)","v":12837.33},{"$f":"IF(AND(A121<=$B$20,$S$14),$T$14,0)","v":0},{"$f":"IF(AND(A121<=$B$20,$S$15),$T$15,0)","v":0},{"$f":"IF(AND(A121<=$B$20,$S$16),$T$16,0)","v":12765.86875},{"$f":"IF(AND(A121<=$B$20,$S$17),$T$17,0)","v":12604.567499999999},{"$f":"IF(AND(A121<=$B$20,$S$18),$T$18,0)","v":12330.624170115241},0,0,13088.471250000001,13249.772500000001,13523.715829884759,0,13727,0,0,0,0,0,0]
[91,{"$f":"OFFSET(InputPriceData!B$10,CalculationsAndCharts!$A122+$A$11,0,1,1)","v":"2012-06-18"},{"$f":"OFFSET(InputPriceData!G$10,CalculationsAndCharts!$A122+$A$11,0,1,1)","v":111268385},{"$f":"OFFSET(InputPriceData!C$10,CalculationsAndCharts!$A122+$A$11,0,1,1)","v":12767.02},{"$f":"OFFSET(InputPriceData!D$10,CalculationsAndCharts!$A122+$A$11,0,1,1)","v":12781.93},{"$f":"OFFSET(InputPriceData!E$10,CalculationsAndCharts!$A122+$A$11,0,1,1)","v":12696.18},{"$f":"OFFSET(InputPriceData!F$10,CalculationsAndCharts!$A122+$A$11,0,1,1)","v":12741.82},{"$f":"IF(AND(A122<=$B$20,$S$14),$T$14,0)","v":0},{"$f":"IF(AND(A122<=$B$20,$S$15),$T$15,0)","v":0},{"$f":"IF(AND(A122<=$B$20,$S$16),$T$16,0)","v":12765.86875},{"$f":"IF(AND(A122<=$B$20,$S$17),$T$17,0)","v":12604.567499999999},{"$f":"IF(AND(A122<=$B$20,$S$18),$T$18,0)","v":12330.624170115241},0,0,13088.471250000001,13249.772500000001,13523.715829884759,0,0,0,0,0,0,0,0]
[92,{"$f":"OFFSET(InputPriceData!B$10,CalculationsAndCharts!$A123+$A$11,0,1,1)","v":"2012-06-15"},{"$f":"OFFSET(InputPriceData!G$10,CalculationsAndCharts!$A123+$A$11,0,1,1)","v":281556832},{"$f":"OFFSET(InputPriceData!C$10,CalculationsAndCharts!$A123+$A$11,0,1,1)","v":12652.21},{"$f":"OFFSET(InputPriceData!D$10,CalculationsAndCharts!$A123+$A$11,0,1,1)","v":12774.7},{"$f":"OFFSET(InputPriceData!E$10,CalculationsAndCharts!$A123+$A$11,0,1,1)","v":12651.38},{"$f":"OFFSET(InputPriceData!F$10,CalculationsAndCharts!$A123+$A$11,0,1,1)","v":12767.17},{"$f":"IF(AND(A123<=$B$20,$S$14),$T$14,0)","v":0},{"$f":"IF(AND(A123<=$B$20,$S$15),$T$15,0)","v":0},{"$f":"IF(AND(A123<=$B$20,$S$16),$T$16,0)","v":12765.86875},{"$f":"IF(AND(A123<=$B$20,$S$17),$T$17,0)","v":12604.567499999999},{"$f":"IF(AND(A123<=$B$20,$S$18),$T$18,0)","v":12330.624170115241},0,0,13088.471250000001,13249.772500000001,13523.715829884759,0,0,0,0,0,0,0,0]
[93,{"$f":"OFFSET(InputPriceData!B$10,CalculationsAndCharts!$A124+$A$11,0,1,1)","v":"2012-06-14"},{"$f":"OFFSET(InputPriceData!G$10,CalculationsAndCharts!$A124+$A$11,0,1,1)","v":128635556},{"$f":"OFFSET(InputPriceData!C$10,CalculationsAndCharts!$A124+$A$11,0,1,1)","v":12497.89},{"$f":"OFFSET(InputPriceData!D$10,CalculationsAndCharts!$A124+$A$11,0,1,1)","v":12698.68},{"$f":"OFFSET(InputPriceData!E$10,CalculationsAndCharts!$A124+$A$11,0,1,1)","v":12497.66},{"$f":"OFFSET(InputPriceData!F$10,CalculationsAndCharts!$A124+$A$11,0,1,1)","v":12651.91},{"$f":"IF(AND(A124<=$B$20,$S$14),$T$14,0)","v":0},{"$f":"IF(AND(A124<=$B$20,$S$15),$T$15,0)","v":0},{"$f":"IF(AND(A124<=$B$20,$S$16),$T$16,0)","v":12765.86875},{"$f":"IF(AND(A124<=$B$20,$S$17),$T$17,0)","v":12604.567499999999},{"$f":"IF(AND(A124<=$B$20,$S$18),$T$18,0)","v":12330.624170115241},0,0,13088.471250000001,13249.772500000001,13523.715829884759,0,0,0,0,0,0,0,0]
[94,{"$f":"OFFSET(InputPriceData!B$10,CalculationsAndCharts!$A125+$A$11,0,1,1)","v":"2012-06-13"},{"$f":"OFFSET(InputPriceData!G$10,CalculationsAndCharts!$A125+$A$11,0,1,1)","v":125772145},{"$f":"OFFSET(InputPriceData!C$10,CalculationsAndCharts!$A125+$A$11,0,1,1)","v":12566.38},{"$f":"OFFSET(InputPriceData!D$10,CalculationsAndCharts!$A125+$A$11,0,1,1)","v":12598.25},{"$f":"OFFSET(InputPriceData!E$10,CalculationsAndCharts!$A125+$A$11,0,1,1)","v":12453.69},{"$f":"OFFSET(InputPriceData!F$10,CalculationsAndCharts!$A125+$A$11,0,1,1)","v":12496.38},{"$f":"IF(AND(A125<=$B$20,$S$14),$T$14,0)","v":0},{"$f":"IF(AND(A125<=$B$20,$S$15),$T$15,0)","v":0},{"$f":"IF(AND(A125<=$B$20,$S$16),$T$16,0)","v":12765.86875},{"$f":"IF(AND(A125<=$B$20,$S$17),$T$17,0)","v":12604.567499999999},{"$f":"IF(AND(A125<=$B$20,$S$18),$T$18,0)","v":12330.624170115241},0,0,13088.471250000001,13249.772500000001,13523.715829884759,0,0,0,0,0,0,0,0]
[95,{"$f":"OFFSET(InputPriceData!B$10,CalculationsAndCharts!$A126+$A$11,0,1,1)","v":"2012-06-12"},{"$f":"OFFSET(InputPriceData!G$10,CalculationsAndCharts!$A126+$A$11,0,1,1)","v":110883749},{"$f":"OFFSET(InputPriceData!C$10,CalculationsAndCharts!$A126+$A$11,0,1,1)","v":12412.07},{"$f":"OFFSET(InputPriceData!D$10,CalculationsAndCharts!$A126+$A$11,0,1,1)","v":12577.02},{"$f":"OFFSET(InputPriceData!E$10,CalculationsAndCharts!$A126+$A$11,0,1,1)","v":12411.91},{"$f":"OFFSET(InputPriceData!F$10,CalculationsAndCharts!$A126+$A$11,0,1,1)","v":12573.8},{"$f":"IF(AND(A126<=$B$20,$S$14),$T$14,0)","v":0},{"$f":"IF(AND(A126<=$B$20,$S$15),$T$15,0)","v":0},{"$f":"IF(AND(A126<=$B$20,$S$16),$T$16,0)","v":12765.86875},{"$f":"IF(AND(A126<=$B$20,$S$17),$T$17,0)","v":12604.567499999999},{"$f":"IF(AND(A126<=$B$20,$S$18),$T$18,0)","v":12330.624170115241},0,0,13088.471250000001,13249.772500000001,13523.715829884759,0,0,0,0,0,0,0,0]
[96,{"$f":"OFFSET(InputPriceData!B$10,CalculationsAndCharts!$A127+$A$11,0,1,1)","v":"2012-06-11"},{"$f":"OFFSET(InputPriceData!G$10,CalculationsAndCharts!$A127+$A$11,0,1,1)","v":121032997},{"$f":"OFFSET(InputPriceData!C$10,CalculationsAndCharts!$A127+$A$11,0,1,1)","v":12553.81},{"$f":"OFFSET(InputPriceData!D$10,CalculationsAndCharts!$A127+$A$11,0,1,1)","v":12650.47},{"$f":"OFFSET(InputPriceData!E$10,CalculationsAndCharts!$A127+$A$11,0,1,1)","v":12398.48},{"$f":"OFFSET(InputPriceData!F$10,CalculationsAndCharts!$A127+$A$11,0,1,1)","v":12411.23},{"$f":"IF(AND(A127<=$B$20,$S$14),$T$14,0)","v":0},{"$f":"IF(AND(A127<=$B$20,$S$15),$T$15,0)","v":0},{"$f":"IF(AND(A127<=$B$20,$S$16),$T$16,0)","v":12765.86875},{"$f":"IF(AND(A127<=$B$20,$S$17),$T$17,0)","v":12604.567499999999},{"$f":"IF(AND(A127<=$B$20,$S$18),$T$18,0)","v":12330.624170115241},0,0,13088.471250000001,13249.772500000001,13523.715829884759,0,0,0,0,0,0,0,0]
[97,{"$f":"OFFSET(InputPriceData!B$10,CalculationsAndCharts!$A128+$A$11,0,1,1)","v":"2012-06-08"},{"$f":"OFFSET(InputPriceData!G$10,CalculationsAndCharts!$A128+$A$11,0,1,1)","v":110998035},{"$f":"OFFSET(InputPriceData!C$10,CalculationsAndCharts!$A128+$A$11,0,1,1)","v":12460.81},{"$f":"OFFSET(InputPriceData!D$10,CalculationsAndCharts!$A128+$A$11,0,1,1)","v":12554.2},{"$f":"OFFSET(InputPriceData!E$10,CalculationsAndCharts!$A128+$A$11,0,1,1)","v":12398.44},{"$f":"OFFSET(InputPriceData!F$10,CalculationsAndCharts!$A128+$A$11,0,1,1)","v":12554.2},{"$f":"IF(AND(A128<=$B$20,$S$14),$T$14,0)","v":0},{"$f":"IF(AND(A128<=$B$20,$S$15),$T$15,0)","v":0},{"$f":"IF(AND(A128<=$B$20,$S$16),$T$16,0)","v":12765.86875},{"$f":"IF(AND(A128<=$B$20,$S$17),$T$17,0)","v":12604.567499999999},{"$f":"IF(AND(A128<=$B$20,$S$18),$T$18,0)","v":12330.624170115241},0,0,13088.471250000001,13249.772500000001,13523.715829884759,0,0,0,0,0,0,0,0]
[98,{"$f":"OFFSET(InputPriceData!B$10,CalculationsAndCharts!$A129+$A$11,0,1,1)","v":"2012-06-07"},{"$f":"OFFSET(InputPriceData!G$10,CalculationsAndCharts!$A129+$A$11,0,1,1)","v":130686683},{"$f":"OFFSET(InputPriceData!C$10,CalculationsAndCharts!$A129+$A$11,0,1,1)","v":12416.53},{"$f":"OFFSET(InputPriceData!D$10,CalculationsAndCharts!$A129+$A$11,0,1,1)","v":12555.26},{"$f":"OFFSET(InputPriceData!E$10,CalculationsAndCharts!$A129+$A$11,0,1,1)","v":12416.53},{"$f":"OFFSET(InputPriceData!F$10,CalculationsAndCharts!$A129+$A$11,0,1,1)","v":12460.96},{"$f":"IF(AND(A129<=$B$20,$S$14),$T$14,0)","v":0},{"$f":"IF(AND(A129<=$B$20,$S$15),$T$15,0)","v":0},{"$f":"IF(AND(A129<=$B$20,$S$16),$T$16,0)","v":12765.86875},{"$f":"IF(AND(A129<=$B$20,$S$17),$T$17,0)","v":12604.567499999999},{"$f":"IF(AND(A129<=$B$20,$S$18),$T$18,0)","v":12330.624170115241},0,0,13088.471250000001,13249.772500000001,13523.715829884759,0,0,0,0,0,0,0,0]
[99,{"$f":"OFFSET(InputPriceData!B$10,CalculationsAndCharts!$A130+$A$11,0,1,1)","v":"2012-06-06"},{"$f":"OFFSET(InputPriceData!G$10,CalculationsAndCharts!$A130+$A$11,0,1,1)","v":140068330},{"$f":"OFFSET(InputPriceData!C$10,CalculationsAndCharts!$A130+$A$11,0,1,1)","v":12125},{"$f":"OFFSET(InputPriceData!D$10,CalculationsAndCharts!$A130+$A$11,0,1,1)","v":12414.79},{"$f":"OFFSET(InputPriceData!E$10,CalculationsAndCharts!$A130+$A$11,0,1,1)","v":12125},{"$f":"OFFSET(InputPriceData!F$10,CalculationsAndCharts!$A130+$A$11,0,1,1)","v":12414.79},{"$f":"IF(AND(A130<=$B$20,$S$14),$T$14,0)","v":0},{"$f":"IF(AND(A130<=$B$20,$S$15),$T$15,0)","v":0},{"$f":"IF(AND(A130<=$B$20,$S$16),$T$16,0)","v":12765.86875},{"$f":"IF(AND(A130<=$B$20,$S$17),$T$17,0)","v":12604.567499999999},{"$f":"IF(AND(A130<=$B$20,$S$18),$T$18,0)","v":12330.624170115241},0,0,13088.471250000001,13249.772500000001,13523.715829884759,0,0,0,0,0,0,0,0]
[100,{"$f":"OFFSET(InputPriceData!B$10,CalculationsAndCharts!$A131+$A$11,0,1,1)","v":"2012-06-05"},{"$f":"OFFSET(InputPriceData!G$10,CalculationsAndCharts!$A131+$A$11,0,1,1)","v":108935725},{"$f":"OFFSET(InputPriceData!C$10,CalculationsAndCharts!$A131+$A$11,0,1,1)","v":12101.08},{"$f":"OFFSET(InputPriceData!D$10,CalculationsAndCharts!$A131+$A$11,0,1,1)","v":12147.55},{"$f":"OFFSET(InputPriceData!E$10,CalculationsAndCharts!$A131+$A$11,0,1,1)","v":12072.17},{"$f":"OFFSET(InputPriceData!F$10,CalculationsAndCharts!$A131+$A$11,0,1,1)","v":12127.95},{"$f":"IF(AND(A131<=$B$20,$S$14),$T$14,0)","v":0},{"$f":"IF(AND(A131<=$B$20,$S$15),$T$15,0)","v":0},{"$f":"IF(AND(A131<=$B$20,$S$16),$T$16,0)","v":12765.86875},{"$f":"IF(AND(A131<=$B$20,$S$17),$T$17,0)","v":12604.567499999999},{"$f":"IF(AND(A131<=$B$20,$S$18),$T$18,0)","v":12330.624170115241},0,0,13088.471250000001,13249.772500000001,13523.715829884759,0,0,0,0,0,0,0,0]
[101,{"$f":"OFFSET(InputPriceData!B$10,CalculationsAndCharts!$A132+$A$11,0,1,1)","v":"2012-06-04"},{"$f":"OFFSET(InputPriceData!G$10,CalculationsAndCharts!$A132+$A$11,0,1,1)","v":126436971},{"$f":"OFFSET(InputPriceData!C$10,CalculationsAndCharts!$A132+$A$11,0,1,1)","v":12119.85},{"$f":"OFFSET(InputPriceData!D$10,CalculationsAndCharts!$A132+$A$11,0,1,1)","v":12143.69},{"$f":"OFFSET(InputPriceData!E$10,CalculationsAndCharts!$A132+$A$11,0,1,1)","v":12035.09},{"$f":"OFFSET(InputPriceData!F$10,CalculationsAndCharts!$A132+$A$11,0,1,1)","v":12101.46},{"$f":"IF(AND(A132<=$B$20,$S$14),$T$14,0)","v":0},{"$f":"IF(AND(A132<=$B$20,$S$15),$T$15,0)","v":0},{"$f":"IF(AND(A132<=$B$20,$S$16),$T$16,0)","v":12765.86875},{"$f":"IF(AND(A132<=$B$20,$S$17),$T$17,0)","v":12604.567499999999},{"$f":"IF(AND(A132<=$B$20,$S$18),$T$18,0)","v":12330.624170115241},0,0,13088.471250000001,13249.772500000001,13523.715829884759,0,0,0,0,0,0,0,0]
[102,{"$f":"OFFSET(InputPriceData!B$10,CalculationsAndCharts!$A133+$A$11,0,1,1)","v":"2012-06-01"},{"$f":"OFFSET(InputPriceData!G$10,CalculationsAndCharts!$A133+$A$11,0,1,1)","v":162644992},{"$f":"OFFSET(InputPriceData!C$10,CalculationsAndCharts!$A133+$A$11,0,1,1)","v":12391.56},{"$f":"OFFSET(InputPriceData!D$10,CalculationsAndCharts!$A133+$A$11,0,1,1)","v":12391.63},{"$f":"OFFSET(InputPriceData!E$10,CalculationsAndCharts!$A133+$A$11,0,1,1)","v":12107.48},{"$f":"OFFSET(InputPriceData!F$10,CalculationsAndCharts!$A133+$A$11,0,1,1)","v":12118.57},{"$f":"IF(AND(A133<=$B$20,$S$14),$T$14,0)","v":0},{"$f":"IF(AND(A133<=$B$20,$S$15),$T$15,0)","v":0},{"$f":"IF(AND(A133<=$B$20,$S$16),$T$16,0)","v":12765.86875},{"$f":"IF(AND(A133<=$B$20,$S$17),$T$17,0)","v":12604.567499999999},{"$f":"IF(AND(A133<=$B$20,$S$18),$T$18,0)","v":12330.624170115241},0,0,13088.471250000001,13249.772500000001,13523.715829884759,0,0,0,0,0,0,0,0]
[103,{"$f":"OFFSET(InputPriceData!B$10,CalculationsAndCharts!$A134+$A$11,0,1,1)","v":"2012-05-31"},{"$f":"OFFSET(InputPriceData!G$10,CalculationsAndCharts!$A134+$A$11,0,1,1)","v":200423290},{"$f":"OFFSET(InputPriceData!C$10,CalculationsAndCharts!$A134+$A$11,0,1,1)","v":12414.41},{"$f":"OFFSET(InputPriceData!D$10,CalculationsAndCharts!$A134+$A$11,0,1,1)","v":12489.87},{"$f":"OFFSET(InputPriceData!E$10,CalculationsAndCharts!$A134+$A$11,0,1,1)","v":12316.48},{"$f":"OFFSET(InputPriceData!F$10,CalculationsAndCharts!$A134+$A$11,0,1,1)","v":12393.45},{"$f":"IF(AND(A134<=$B$20,$S$14),$T$14,0)","v":0},{"$f":"IF(AND(A134<=$B$20,$S$15),$T$15,0)","v":0},{"$f":"IF(AND(A134<=$B$20,$S$16),$T$16,0)","v":12765.86875},{"$f":"IF(AND(A134<=$B$20,$S$17),$T$17,0)","v":12604.567499999999},{"$f":"IF(AND(A134<=$B$20,$S$18),$T$18,0)","v":12330.624170115241},0,0,13088.471250000001,13249.772500000001,13523.715829884759,0,0,0,0,0,0,0,0]
[104,{"$f":"OFFSET(InputPriceData!B$10,CalculationsAndCharts!$A135+$A$11,0,1,1)","v":"2012-05-30"},{"$f":"OFFSET(InputPriceData!G$10,CalculationsAndCharts!$A135+$A$11,0,1,1)","v":122819241},{"$f":"OFFSET(InputPriceData!C$10,CalculationsAndCharts!$A135+$A$11,0,1,1)","v":12579.02},{"$f":"OFFSET(InputPriceData!D$10,CalculationsAndCharts!$A135+$A$11,0,1,1)","v":12579.1},{"$f":"OFFSET(InputPriceData!E$10,CalculationsAndCharts!$A135+$A$11,0,1,1)","v":12396.4},{"$f":"OFFSET(InputPriceData!F$10,CalculationsAndCharts!$A135+$A$11,0,1,1)","v":12419.86},{"$f":"IF(AND(A135<=$B$20,$S$14),$T$14,0)","v":0},{"$f":"IF(AND(A135<=$B$20,$S$15),$T$15,0)","v":0},{"$f":"IF(AND(A135<=$B$20,$S$16),$T$16,0)","v":12765.86875},{"$f":"IF(AND(A135<=$B$20,$S$17),$T$17,0)","v":12604.567499999999},{"$f":"IF(AND(A135<=$B$20,$S$18),$T$18,0)","v":12330.624170115241},0,0,13088.471250000001,13249.772500000001,13523.715829884759,0,0,0,0,0,0,0,0]
[105,{"$f":"OFFSET(InputPriceData!B$10,CalculationsAndCharts!$A136+$A$11,0,1,1)","v":"2012-05-29"},{"$f":"OFFSET(InputPriceData!G$10,CalculationsAndCharts!$A136+$A$11,0,1,1)","v":107482485},{"$f":"OFFSET(InputPriceData!C$10,CalculationsAndCharts!$A136+$A$11,0,1,1)","v":12454.83},{"$f":"OFFSET(InputPriceData!D$10,CalculationsAndCharts!$A136+$A$11,0,1,1)","v":12611.61},{"$f":"OFFSET(InputPriceData!E$10,CalculationsAndCharts!$A136+$A$11,0,1,1)","v":12454.6},{"$f":"OFFSET(InputPriceData!F$10,CalculationsAndCharts!$A136+$A$11,0,1,1)","v":12580.69},{"$f":"IF(AND(A136<=$B$20,$S$14),$T$14,0)","v":0},{"$f":"IF(AND(A136<=$B$20,$S$15),$T$15,0)","v":0},{"$f":"IF(AND(A136<=$B$20,$S$16),$T$16,0)","v":12765.86875},{"$f":"IF(AND(A136<=$B$20,$S$17),$T$17,0)","v":12604.567499999999},{"$f":"IF(AND(A136<=$B$20,$S$18),$T$18,0)","v":12330.624170115241},0,0,13088.471250000001,13249.772500000001,13523.715829884759,0,0,0,13727,0,0,0,0]
[106,{"$f":"OFFSET(InputPriceData!B$10,CalculationsAndCharts!$A137+$A$11,0,1,1)","v":"2012-05-25"},{"$f":"OFFSET(InputPriceData!G$10,CalculationsAndCharts!$A137+$A$11,0,1,1)","v":92314513},{"$f":"OFFSET(InputPriceData!C$10,CalculationsAndCharts!$A137+$A$11,0,1,1)","v":12530.74},{"$f":"OFFSET(InputPriceData!D$10,CalculationsAndCharts!$A137+$A$11,0,1,1)","v":12533.12},{"$f":"OFFSET(InputPriceData!E$10,CalculationsAndCharts!$A137+$A$11,0,1,1)","v":12421.53},{"$f":"OFFSET(InputPriceData!F$10,CalculationsAndCharts!$A137+$A$11,0,1,1)","v":12454.83},{"$f":"IF(AND(A137<=$B$20,$S$14),$T$14,0)","v":0},{"$f":"IF(AND(A137<=$B$20,$S$15),$T$15,0)","v":0},{"$f":"IF(AND(A137<=$B$20,$S$16),$T$16,0)","v":12765.86875},{"$f":"IF(AND(A137<=$B$20,$S$17),$T$17,0)","v":12604.567499999999},{"$f":"IF(AND(A137<=$B$20,$S$18),$T$18,0)","v":12330.624170115241},0,0,13088.471250000001,13249.772500000001,13523.715829884759,0,0,0,13727,0,0,0,0]
[107,{"$f":"OFFSET(InputPriceData!B$10,CalculationsAndCharts!$A138+$A$11,0,1,1)","v":"2012-05-24"},{"$f":"OFFSET(InputPriceData!G$10,CalculationsAndCharts!$A138+$A$11,0,1,1)","v":126800577},{"$f":"OFFSET(InputPriceData!C$10,CalculationsAndCharts!$A138+$A$11,0,1,1)","v":12491.91},{"$f":"OFFSET(InputPriceData!D$10,CalculationsAndCharts!$A138+$A$11,0,1,1)","v":12539.59},{"$f":"OFFSET(InputPriceData!E$10,CalculationsAndCharts!$A138+$A$11,0,1,1)","v":12419.63},{"$f":"OFFSET(InputPriceData!F$10,CalculationsAndCharts!$A138+$A$11,0,1,1)","v":12529.75},{"$f":"IF(AND(A138<=$B$20,$S$14),$T$14,0)","v":0},{"$f":"IF(AND(A138<=$B$20,$S$15),$T$15,0)","v":0},{"$f":"IF(AND(A138<=$B$20,$S$16),$T$16,0)","v":12765.86875},{"$f":"IF(AND(A138<=$B$20,$S$17),$T$17,0)","v":12604.567499999999},{"$f":"IF(AND(A138<=$B$20,$S$18),$T$18,0)","v":12330.624170115241},0,0,13088.471250000001,13249.772500000001,13523.715829884759,0,0,0,13727,0,0,0,0]
[108,{"$f":"OFFSET(InputPriceData!B$10,CalculationsAndCharts!$A139+$A$11,0,1,1)","v":"2012-05-23"},{"$f":"OFFSET(InputPriceData!G$10,CalculationsAndCharts!$A139+$A$11,0,1,1)","v":147829671},{"$f":"OFFSET(InputPriceData!C$10,CalculationsAndCharts!$A139+$A$11,0,1,1)","v":12501.52},{"$f":"OFFSET(InputPriceData!D$10,CalculationsAndCharts!$A139+$A$11,0,1,1)","v":12508.3},{"$f":"OFFSET(InputPriceData!E$10,CalculationsAndCharts!$A139+$A$11,0,1,1)","v":12311.56},{"$f":"OFFSET(InputPriceData!F$10,CalculationsAndCharts!$A139+$A$11,0,1,1)","v":12496.15},{"$f":"IF(AND(A139<=$B$20,$S$14),$T$14,0)","v":0},{"$f":"IF(AND(A139<=$B$20,$S$15),$T$15,0)","v":0},{"$f":"IF(AND(A139<=$B$20,$S$16),$T$16,0)","v":12765.86875},{"$f":"IF(AND(A139<=$B$20,$S$17),$T$17,0)","v":12604.567499999999},{"$f":"IF(AND(A139<=$B$20,$S$18),$T$18,0)","v":12330.624170115241},0,0,13088.471250000001,13249.772500000001,13523.715829884759,0,0,0,13727,0,0,0,0]
[109,{"$f":"OFFSET(InputPriceData!B$10,CalculationsAndCharts!$A140+$A$11,0,1,1)","v":"2012-05-22"},{"$f":"OFFSET(InputPriceData!G$10,CalculationsAndCharts!$A140+$A$11,0,1,1)","v":133599677},{"$f":"OFFSET(InputPriceData!C$10,CalculationsAndCharts!$A140+$A$11,0,1,1)","v":12505.38},{"$f":"OFFSET(InputPriceData!D$10,CalculationsAndCharts!$A140+$A$11,0,1,1)","v":12575.96},{"$f":"OFFSET(InputPriceData!E$10,CalculationsAndCharts!$A140+$A$11,0,1,1)","v":12447.33},{"$f":"OFFSET(InputPriceData!F$10,CalculationsAndCharts!$A140+$A$11,0,1,1)","v":12502.81},{"$f":"IF(AND(A140<=$B$20,$S$14),$T$14,0)","v":0},{"$f":"IF(AND(A140<=$B$20,$S$15),$T$15,0)","v":0},{"$f":"IF(AND(A140<=$B$20,$S$16),$T$16,0)","v":12765.86875},{"$f":"IF(AND(A140<=$B$20,$S$17),$T$17,0)","v":12604.567499999999},{"$f":"IF(AND(A140<=$B$20,$S$18),$T$18,0)","v":12330.624170115241},0,0,13088.471250000001,13249.772500000001,13523.715829884759,0,0,0,13727,0,0,0,0]
[110,{"$f":"OFFSET(InputPriceData!B$10,CalculationsAndCharts!$A141+$A$11,0,1,1)","v":"2012-05-21"},{"$f":"OFFSET(InputPriceData!G$10,CalculationsAndCharts!$A141+$A$11,0,1,1)","v":141624733},{"$f":"OFFSET(InputPriceData!C$10,CalculationsAndCharts!$A141+$A$11,0,1,1)","v":12369.15},{"$f":"OFFSET(InputPriceData!D$10,CalculationsAndCharts!$A141+$A$11,0,1,1)","v":12508.11},{"$f":"OFFSET(InputPriceData!E$10,CalculationsAndCharts!$A141+$A$11,0,1,1)","v":12367.72},{"$f":"OFFSET(InputPriceData!F$10,CalculationsAndCharts!$A141+$A$11,0,1,1)","v":12504.48},{"$f":"IF(AND(A141<=$B$20,$S$14),$T$14,0)","v":0},{"$f":"IF(AND(A141<=$B$20,$S$15),$T$15,0)","v":0},{"$f":"IF(AND(A141<=$B$20,$S$16),$T$16,0)","v":12765.86875},{"$f":"IF(AND(A141<=$B$20,$S$17),$T$17,0)","v":12604.567499999999},{"$f":"IF(AND(A141<=$B$20,$S$18),$T$18,0)","v":12330.624170115241},0,0,13088.471250000001,13249.772500000001,13523.715829884759,0,0,0,13727,0,0,0,0]
[111,{"$f":"OFFSET(InputPriceData!B$10,CalculationsAndCharts!$A142+$A$11,0,1,1)","v":"2012-05-18"},{"$f":"OFFSET(InputPriceData!G$10,CalculationsAndCharts!$A142+$A$11,0,1,1)","v":240509807},{"$f":"OFFSET(InputPriceData!C$10,CalculationsAndCharts!$A142+$A$11,0,1,1)","v":12443.02},{"$f":"OFFSET(InputPriceData!D$10,CalculationsAndCharts!$A142+$A$11,0,1,1)","v":12492.97},{"$f":"OFFSET(InputPriceData!E$10,CalculationsAndCharts!$A142+$A$11,0,1,1)","v":12336.76},{"$f":"OFFSET(InputPriceData!F$10,CalculationsAndCharts!$A142+$A$11,0,1,1)","v":12369.38},{"$f":"IF(AND(A142<=$B$20,$S$14),$T$14,0)","v":0},{"$f":"IF(AND(A142<=$B$20,$S$15),$T$15,0)","v":0},{"$f":"IF(AND(A142<=$B$20,$S$16),$T$16,0)","v":12765.86875},{"$f":"IF(AND(A142<=$B$20,$S$17),$T$17,0)","v":12604.567499999999},{"$f":"IF(AND(A142<=$B$20,$S$18),$T$18,0)","v":12330.624170115241},0,0,13088.471250000001,13249.772500000001,13523.715829884759,0,0,0,13727,0,0,0,0]
[112,{"$f":"OFFSET(InputPriceData!B$10,CalculationsAndCharts!$A143+$A$11,0,1,1)","v":"2012-05-17"},{"$f":"OFFSET(InputPriceData!G$10,CalculationsAndCharts!$A143+$A$11,0,1,1)","v":147332828},{"$f":"OFFSET(InputPriceData!C$10,CalculationsAndCharts!$A143+$A$11,0,1,1)","v":12598.32},{"$f":"OFFSET(InputPriceData!D$10,CalculationsAndCharts!$A143+$A$11,0,1,1)","v":12611.42},{"$f":"OFFSET(InputPriceData!E$10,CalculationsAndCharts!$A143+$A$11,0,1,1)","v":12440.52},{"$f":"OFFSET(InputPriceData!F$10,CalculationsAndCharts!$A143+$A$11,0,1,1)","v":12442.49},{"$f":"IF(AND(A143<=$B$20,$S$14),$T$14,0)","v":0},{"$f":"IF(AND(A143<=$B$20,$S$15),$T$15,0)","v":0},{"$f":"IF(AND(A143<=$B$20,$S$16),$T$16,0)","v":12765.86875},{"$f":"IF(AND(A143<=$B$20,$S$17),$T$17,0)","v":12604.567499999999},{"$f":"IF(AND(A143<=$B$20,$S$18),$T$18,0)","v":12330.624170115241},0,0,13088.471250000001,13249.772500000001,13523.715829884759,0,0,0,13727,0,0,0,0]
[113,{"$f":"OFFSET(InputPriceData!B$10,CalculationsAndCharts!$A144+$A$11,0,1,1)","v":"2012-05-16"},{"$f":"OFFSET(InputPriceData!G$10,CalculationsAndCharts!$A144+$A$11,0,1,1)","v":143125503},{"$f":"OFFSET(InputPriceData!C$10,CalculationsAndCharts!$A144+$A$11,0,1,1)","v":12617.32},{"$f":"OFFSET(InputPriceData!D$10,CalculationsAndCharts!$A144+$A$11,0,1,1)","v":12722.63},{"$f":"OFFSET(InputPriceData!E$10,CalculationsAndCharts!$A144+$A$11,0,1,1)","v":12597.34},{"$f":"OFFSET(InputPriceData!F$10,CalculationsAndCharts!$A144+$A$11,0,1,1)","v":12598.55},{"$f":"IF(AND(A144<=$B$20,$S$14),$T$14,0)","v":0},{"$f":"IF(AND(A144<=$B$20,$S$15),$T$15,0)","v":0},{"$f":"IF(AND(A144<=$B$20,$S$16),$T$16,0)","v":12765.86875},{"$f":"IF(AND(A144<=$B$20,$S$17),$T$17,0)","v":12604.567499999999},{"$f":"IF(AND(A144<=$B$20,$S$18),$T$18,0)","v":12330.624170115241},0,0,13088.471250000001,13249.772500000001,13523.715829884759,0,0,0,13727,0,0,0,0]
[114,{"$f":"OFFSET(InputPriceData!B$10,CalculationsAndCharts!$A145+$A$11,0,1,1)","v":"2012-05-15"},{"$f":"OFFSET(InputPriceData!G$10,CalculationsAndCharts!$A145+$A$11,0,1,1)","v":155996865},{"$f":"OFFSET(InputPriceData!C$10,CalculationsAndCharts!$A145+$A$11,0,1,1)","v":12695.05},{"$f":"OFFSET(InputPriceData!D$10,CalculationsAndCharts!$A145+$A$11,0,1,1)","v":12758.43},{"$f":"OFFSET(InputPriceData!E$10,CalculationsAndCharts!$A145+$A$11,0,1,1)","v":12608.16},{"$f":"OFFSET(InputPriceData!F$10,CalculationsAndCharts!$A145+$A$11,0,1,1)","v":12632},{"$f":"IF(AND(A145<=$B$20,$S$14),$T$14,0)","v":0},{"$f":"IF(AND(A145<=$B$20,$S$15),$T$15,0)","v":0},{"$f":"IF(AND(A145<=$B$20,$S$16),$T$16,0)","v":12765.86875},{"$f":"IF(AND(A145<=$B$20,$S$17),$T$17,0)","v":12604.567499999999},{"$f":"IF(AND(A145<=$B$20,$S$18),$T$18,0)","v":12330.624170115241},0,0,13088.471250000001,13249.772500000001,13523.715829884759,0,0,0,13727,0,0,0,0]
[115,{"$f":"OFFSET(InputPriceData!B$10,CalculationsAndCharts!$A146+$A$11,0,1,1)","v":"2012-05-14"},{"$f":"OFFSET(InputPriceData!G$10,CalculationsAndCharts!$A146+$A$11,0,1,1)","v":143168951},{"$f":"OFFSET(InputPriceData!C$10,CalculationsAndCharts!$A146+$A$11,0,1,1)","v":12818.49},{"$f":"OFFSET(InputPriceData!D$10,CalculationsAndCharts!$A146+$A$11,0,1,1)","v":12818.86},{"$f":"OFFSET(InputPriceData!E$10,CalculationsAndCharts!$A146+$A$11,0,1,1)","v":12661.48},{"$f":"OFFSET(InputPriceData!F$10,CalculationsAndCharts!$A146+$A$11,0,1,1)","v":12695.35},{"$f":"IF(AND(A146<=$B$20,$S$14),$T$14,0)","v":0},{"$f":"IF(AND(A146<=$B$20,$S$15),$T$15,0)","v":0},{"$f":"IF(AND(A146<=$B$20,$S$16),$T$16,0)","v":12765.86875},{"$f":"IF(AND(A146<=$B$20,$S$17),$T$17,0)","v":12604.567499999999},{"$f":"IF(AND(A146<=$B$20,$S$18),$T$18,0)","v":12330.624170115241},0,0,13088.471250000001,13249.772500000001,13523.715829884759,0,0,0,13727,0,0,0,0]
[116,{"$f":"OFFSET(InputPriceData!B$10,CalculationsAndCharts!$A147+$A$11,0,1,1)","v":"2012-05-11"},{"$f":"OFFSET(InputPriceData!G$10,CalculationsAndCharts!$A147+$A$11,0,1,1)","v":148347480},{"$f":"OFFSET(InputPriceData!C$10,CalculationsAndCharts!$A147+$A$11,0,1,1)","v":12851.79},{"$f":"OFFSET(InputPriceData!D$10,CalculationsAndCharts!$A147+$A$11,0,1,1)","v":12918.01},{"$f":"OFFSET(InputPriceData!E$10,CalculationsAndCharts!$A147+$A$11,0,1,1)","v":12779.28},{"$f":"OFFSET(InputPriceData!F$10,CalculationsAndCharts!$A147+$A$11,0,1,1)","v":12820.6},{"$f":"IF(AND(A147<=$B$20,$S$14),$T$14,0)","v":0},{"$f":"IF(AND(A147<=$B$20,$S$15),$T$15,0)","v":0},{"$f":"IF(AND(A147<=$B$20,$S$16),$T$16,0)","v":12765.86875},{"$f":"IF(AND(A147<=$B$20,$S$17),$T$17,0)","v":12604.567499999999},{"$f":"IF(AND(A147<=$B$20,$S$18),$T$18,0)","v":12330.624170115241},0,0,13088.471250000001,13249.772500000001,13523.715829884759,0,0,0,13727,0,0,0,0]
[117,{"$f":"OFFSET(InputPriceData!B$10,CalculationsAndCharts!$A148+$A$11,0,1,1)","v":"2012-05-10"},{"$f":"OFFSET(InputPriceData!G$10,CalculationsAndCharts!$A148+$A$11,0,1,1)","v":151572422},{"$f":"OFFSET(InputPriceData!C$10,CalculationsAndCharts!$A148+$A$11,0,1,1)","v":12831.58},{"$f":"OFFSET(InputPriceData!D$10,CalculationsAndCharts!$A148+$A$11,0,1,1)","v":12931.71},{"$f":"OFFSET(InputPriceData!E$10,CalculationsAndCharts!$A148+$A$11,0,1,1)","v":12820.3},{"$f":"OFFSET(InputPriceData!F$10,CalculationsAndCharts!$A148+$A$11,0,1,1)","v":12855.04},{"$f":"IF(AND(A148<=$B$20,$S$14),$T$14,0)","v":0},{"$f":"IF(AND(A148<=$B$20,$S$15),$T$15,0)","v":0},{"$f":"IF(AND(A148<=$B$20,$S$16),$T$16,0)","v":12765.86875},{"$f":"IF(AND(A148<=$B$20,$S$17),$T$17,0)","v":12604.567499999999},{"$f":"IF(AND(A148<=$B$20,$S$18),$T$18,0)","v":12330.624170115241},0,0,13088.471250000001,13249.772500000001,13523.715829884759,0,0,0,13727,0,0,0,0]
[118,{"$f":"OFFSET(InputPriceData!B$10,CalculationsAndCharts!$A149+$A$11,0,1,1)","v":"2012-05-09"},{"$f":"OFFSET(InputPriceData!G$10,CalculationsAndCharts!$A149+$A$11,0,1,1)","v":146364865},{"$f":"OFFSET(InputPriceData!C$10,CalculationsAndCharts!$A149+$A$11,0,1,1)","v":12921.81},{"$f":"OFFSET(InputPriceData!D$10,CalculationsAndCharts!$A149+$A$11,0,1,1)","v":12921.81},{"$f":"OFFSET(InputPriceData!E$10,CalculationsAndCharts!$A149+$A$11,0,1,1)","v":12748.48},{"$f":"OFFSET(InputPriceData!F$10,CalculationsAndCharts!$A149+$A$11,0,1,1)","v":12835.06},{"$f":"IF(AND(A149<=$B$20,$S$14),$T$14,0)","v":0},{"$f":"IF(AND(A149<=$B$20,$S$15),$T$15,0)","v":0},{"$f":"IF(AND(A149<=$B$20,$S$16),$T$16,0)","v":12765.86875},{"$f":"IF(AND(A149<=$B$20,$S$17),$T$17,0)","v":12604.567499999999},{"$f":"IF(AND(A149<=$B$20,$S$18),$T$18,0)","v":12330.624170115241},0,0,13088.471250000001,13249.772500000001,13523.715829884759,0,0,0,13727,0,0,0,0]
[119,{"$f":"OFFSET(InputPriceData!B$10,CalculationsAndCharts!$A150+$A$11,0,1,1)","v":"2012-05-08"},{"$f":"OFFSET(InputPriceData!G$10,CalculationsAndCharts!$A150+$A$11,0,1,1)","v":138603459},{"$f":"OFFSET(InputPriceData!C$10,CalculationsAndCharts!$A150+$A$11,0,1,1)","v":13000.73},{"$f":"OFFSET(InputPriceData!D$10,CalculationsAndCharts!$A150+$A$11,0,1,1)","v":13000.73},{"$f":"OFFSET(InputPriceData!E$10,CalculationsAndCharts!$A150+$A$11,0,1,1)","v":12810.39},{"$f":"OFFSET(InputPriceData!F$10,CalculationsAndCharts!$A150+$A$11,0,1,1)","v":12932.09},{"$f":"IF(AND(A150<=$B$20,$S$14),$T$14,0)","v":0},{"$f":"IF(AND(A150<=$B$20,$S$15),$T$15,0)","v":0},{"$f":"IF(AND(A150<=$B$20,$S$16),$T$16,0)","v":12765.86875},{"$f":"IF(AND(A150<=$B$20,$S$17),$T$17,0)","v":12604.567499999999},{"$f":"IF(AND(A150<=$B$20,$S$18),$T$18,0)","v":12330.624170115241},0,0,13088.471250000001,13249.772500000001,13523.715829884759,0,0,0,13727,0,0,0,0]
[120,{"$f":"OFFSET(InputPriceData!B$10,CalculationsAndCharts!$A151+$A$11,0,1,1)","v":"2012-05-07"},{"$f":"OFFSET(InputPriceData!G$10,CalculationsAndCharts!$A151+$A$11,0,1,1)","v":110066364},{"$f":"OFFSET(InputPriceData!C$10,CalculationsAndCharts!$A151+$A$11,0,1,1)","v":13035.85},{"$f":"OFFSET(InputPriceData!D$10,CalculationsAndCharts!$A151+$A$11,0,1,1)","v":13049.09},{"$f":"OFFSET(InputPriceData!E$10,CalculationsAndCharts!$A151+$A$11,0,1,1)","v":12970},{"$f":"OFFSET(InputPriceData!F$10,CalculationsAndCharts!$A151+$A$11,0,1,1)","v":13008.53},{"$f":"IF(AND(A151<=$B$20,$S$14),$T$14,0)","v":0},{"$f":"IF(AND(A151<=$B$20,$S$15),$T$15,0)","v":0},{"$f":"IF(AND(A151<=$B$20,$S$16),$T$16,0)","v":12765.86875},{"$f":"IF(AND(A151<=$B$20,$S$17),$T$17,0)","v":12604.567499999999},{"$f":"IF(AND(A151<=$B$20,$S$18),$T$18,0)","v":12330.624170115241},0,0,13088.471250000001,13249.772500000001,13523.715829884759,0,0,0,13727,0,0,0,0]
[121,{"$f":"OFFSET(InputPriceData!B$10,CalculationsAndCharts!$A152+$A$11,0,1,1)","v":"2012-05-04"},{"$f":"OFFSET(InputPriceData!G$10,CalculationsAndCharts!$A152+$A$11,0,1,1)","v":113750576},{"$f":"OFFSET(InputPriceData!C$10,CalculationsAndCharts!$A152+$A$11,0,1,1)","v":13204.62},{"$f":"OFFSET(InputPriceData!D$10,CalculationsAndCharts!$A152+$A$11,0,1,1)","v":13205},{"$f":"OFFSET(InputPriceData!E$10,CalculationsAndCharts!$A152+$A$11,0,1,1)","v":13022.34},{"$f":"OFFSET(InputPriceData!F$10,CalculationsAndCharts!$A152+$A$11,0,1,1)","v":13038.27},{"$f":"IF(AND(A152<=$B$20,$S$14),$T$14,0)","v":0},{"$f":"IF(AND(A152<=$B$20,$S$15),$T$15,0)","v":0},{"$f":"IF(AND(A152<=$B$20,$S$16),$T$16,0)","v":12765.86875},{"$f":"IF(AND(A152<=$B$20,$S$17),$T$17,0)","v":12604.567499999999},{"$f":"IF(AND(A152<=$B$20,$S$18),$T$18,0)","v":12330.624170115241},0,0,13088.471250000001,13249.772500000001,13523.715829884759,0,0,0,13727,0,0,0,0]
[122,{"$f":"OFFSET(InputPriceData!B$10,CalculationsAndCharts!$A153+$A$11,0,1,1)","v":"2012-05-03"},{"$f":"OFFSET(InputPriceData!G$10,CalculationsAndCharts!$A153+$A$11,0,1,1)","v":102062921},{"$f":"OFFSET(InputPriceData!C$10,CalculationsAndCharts!$A153+$A$11,0,1,1)","v":13267.59},{"$f":"OFFSET(InputPriceData!D$10,CalculationsAndCharts!$A153+$A$11,0,1,1)","v":13284.09},{"$f":"OFFSET(InputPriceData!E$10,CalculationsAndCharts!$A153+$A$11,0,1,1)","v":13175.64},{"$f":"OFFSET(InputPriceData!F$10,CalculationsAndCharts!$A153+$A$11,0,1,1)","v":13206.59},{"$f":"IF(AND(A153<=$B$20,$S$14),$T$14,0)","v":0},{"$f":"IF(AND(A153<=$B$20,$S$15),$T$15,0)","v":0},{"$f":"IF(AND(A153<=$B$20,$S$16),$T$16,0)","v":12765.86875},{"$f":"IF(AND(A153<=$B$20,$S$17),$T$17,0)","v":12604.567499999999},{"$f":"IF(AND(A153<=$B$20,$S$18),$T$18,0)","v":12330.624170115241},0,0,13088.471250000001,13249.772500000001,13523.715829884759,0,0,0,13727,0,0,0,0]
[123,{"$f":"OFFSET(InputPriceData!B$10,CalculationsAndCharts!$A154+$A$11,0,1,1)","v":"2012-05-02"},{"$f":"OFFSET(InputPriceData!G$10,CalculationsAndCharts!$A154+$A$11,0,1,1)","v":100768646},{"$f":"OFFSET(InputPriceData!C$10,CalculationsAndCharts!$A154+$A$11,0,1,1)","v":13278.11},{"$f":"OFFSET(InputPriceData!D$10,CalculationsAndCharts!$A154+$A$11,0,1,1)","v":13278.11},{"$f":"OFFSET(InputPriceData!E$10,CalculationsAndCharts!$A154+$A$11,0,1,1)","v":13192.21},{"$f":"OFFSET(InputPriceData!F$10,CalculationsAndCharts!$A154+$A$11,0,1,1)","v":13268.57},{"$f":"IF(AND(A154<=$B$20,$S$14),$T$14,0)","v":0},{"$f":"IF(AND(A154<=$B$20,$S$15),$T$15,0)","v":0},{"$f":"IF(AND(A154<=$B$20,$S$16),$T$16,0)","v":12765.86875},{"$f":"IF(AND(A154<=$B$20,$S$17),$T$17,0)","v":12604.567499999999},{"$f":"IF(AND(A154<=$B$20,$S$18),$T$18,0)","v":12330.624170115241},0,0,13088.471250000001,13249.772500000001,13523.715829884759,0,0,0,13727,0,0,0,0]
[124,{"$f":"OFFSET(InputPriceData!B$10,CalculationsAndCharts!$A155+$A$11,0,1,1)","v":"2012-05-01"},{"$f":"OFFSET(InputPriceData!G$10,CalculationsAndCharts!$A155+$A$11,0,1,1)","v":123374175},{"$f":"OFFSET(InputPriceData!C$10,CalculationsAndCharts!$A155+$A$11,0,1,1)","v":13214.16},{"$f":"OFFSET(InputPriceData!D$10,CalculationsAndCharts!$A155+$A$11,0,1,1)","v":13338.66},{"$f":"OFFSET(InputPriceData!E$10,CalculationsAndCharts!$A155+$A$11,0,1,1)","v":13174.65},{"$f":"OFFSET(InputPriceData!F$10,CalculationsAndCharts!$A155+$A$11,0,1,1)","v":13279.32},{"$f":"IF(AND(A155<=$B$20,$S$14),$T$14,0)","v":0},{"$f":"IF(AND(A155<=$B$20,$S$15),$T$15,0)","v":0},{"$f":"IF(AND(A155<=$B$20,$S$16),$T$16,0)","v":12765.86875},{"$f":"IF(AND(A155<=$B$20,$S$17),$T$17,0)","v":12604.567499999999},{"$f":"IF(AND(A155<=$B$20,$S$18),$T$18,0)","v":12330.624170115241},0,0,13088.471250000001,13249.772500000001,13523.715829884759,0,0,0,13727,0,0,0,0]
[125,{"$f":"OFFSET(InputPriceData!B$10,CalculationsAndCharts!$A156+$A$11,0,1,1)","v":"2012-04-30"},{"$f":"OFFSET(InputPriceData!G$10,CalculationsAndCharts!$A156+$A$11,0,1,1)","v":127087896},{"$f":"OFFSET(InputPriceData!C$10,CalculationsAndCharts!$A156+$A$11,0,1,1)","v":13228.31},{"$f":"OFFSET(InputPriceData!D$10,CalculationsAndCharts!$A156+$A$11,0,1,1)","v":13228.76},{"$f":"OFFSET(InputPriceData!E$10,CalculationsAndCharts!$A156+$A$11,0,1,1)","v":13176.01},{"$f":"OFFSET(InputPriceData!F$10,CalculationsAndCharts!$A156+$A$11,0,1,1)","v":13213.63},{"$f":"IF(AND(A156<=$B$20,$S$14),$T$14,0)","v":0},{"$f":"IF(AND(A156<=$B$20,$S$15),$T$15,0)","v":0},{"$f":"IF(AND(A156<=$B$20,$S$16),$T$16,0)","v":12765.86875},{"$f":"IF(AND(A156<=$B$20,$S$17),$T$17,0)","v":12604.567499999999},{"$f":"IF(AND(A156<=$B$20,$S$18),$T$18,0)","v":12330.624170115241},0,0,13088.471250000001,13249.772500000001,13523.715829884759,0,0,0,13727,0,0,0,0]
[126,{"$f":"OFFSET(InputPriceData!B$10,CalculationsAndCharts!$A157+$A$11,0,1,1)","v":"2012-04-27"},{"$f":"OFFSET(InputPriceData!G$10,CalculationsAndCharts!$A157+$A$11,0,1,1)","v":108376549},{"$f":"OFFSET(InputPriceData!C$10,CalculationsAndCharts!$A157+$A$11,0,1,1)","v":13204.7},{"$f":"OFFSET(InputPriceData!D$10,CalculationsAndCharts!$A157+$A$11,0,1,1)","v":13266.68},{"$f":"OFFSET(InputPriceData!E$10,CalculationsAndCharts!$A157+$A$11,0,1,1)","v":13192.21},{"$f":"OFFSET(InputPriceData!F$10,CalculationsAndCharts!$A157+$A$11,0,1,1)","v":13228.31},{"$f":"IF(AND(A157<=$B$20,$S$14),$T$14,0)","v":0},{"$f":"IF(AND(A157<=$B$20,$S$15),$T$15,0)","v":0},{"$f":"IF(AND(A157<=$B$20,$S$16),$T$16,0)","v":12765.86875},{"$f":"IF(AND(A157<=$B$20,$S$17),$T$17,0)","v":12604.567499999999},{"$f":"IF(AND(A157<=$B$20,$S$18),$T$18,0)","v":12330.624170115241},0,0,13088.471250000001,13249.772500000001,13523.715829884759,0,0,0,13727,0,0,0,0]
[127,{"$f":"OFFSET(InputPriceData!B$10,CalculationsAndCharts!$A158+$A$11,0,1,1)","v":"2012-04-26"},{"$f":"OFFSET(InputPriceData!G$10,CalculationsAndCharts!$A158+$A$11,0,1,1)","v":107573666},{"$f":"OFFSET(InputPriceData!C$10,CalculationsAndCharts!$A158+$A$11,0,1,1)","v":13090.11},{"$f":"OFFSET(InputPriceData!D$10,CalculationsAndCharts!$A158+$A$11,0,1,1)","v":13227.82},{"$f":"OFFSET(InputPriceData!E$10,CalculationsAndCharts!$A158+$A$11,0,1,1)","v":13075.96},{"$f":"OFFSET(InputPriceData!F$10,CalculationsAndCharts!$A158+$A$11,0,1,1)","v":13204.62},{"$f":"IF(AND(A158<=$B$20,$S$14),$T$14,0)","v":0},{"$f":"IF(AND(A158<=$B$20,$S$15),$T$15,0)","v":0},{"$f":"IF(AND(A158<=$B$20,$S$16),$T$16,0)","v":12765.86875},{"$f":"IF(AND(A158<=$B$20,$S$17),$T$17,0)","v":12604.567499999999},{"$f":"IF(AND(A158<=$B$20,$S$18),$T$18,0)","v":12330.624170115241},0,0,13088.471250000001,13249.772500000001,13523.715829884759,0,0,0,13727,0,0,0,0]
[128,{"$f":"OFFSET(InputPriceData!B$10,CalculationsAndCharts!$A159+$A$11,0,1,1)","v":"2012-04-25"},{"$f":"OFFSET(InputPriceData!G$10,CalculationsAndCharts!$A159+$A$11,0,1,1)","v":135229412},{"$f":"OFFSET(InputPriceData!C$10,CalculationsAndCharts!$A159+$A$11,0,1,1)","v":12997.69},{"$f":"OFFSET(InputPriceData!D$10,CalculationsAndCharts!$A159+$A$11,0,1,1)","v":13105.7},{"$f":"OFFSET(InputPriceData!E$10,CalculationsAndCharts!$A159+$A$11,0,1,1)","v":12993.6},{"$f":"OFFSET(InputPriceData!F$10,CalculationsAndCharts!$A159+$A$11,0,1,1)","v":13090.72},{"$f":"IF(AND(A159<=$B$20,$S$14),$T$14,0)","v":0},{"$f":"IF(AND(A159<=$B$20,$S$15),$T$15,0)","v":0},{"$f":"IF(AND(A159<=$B$20,$S$16),$T$16,0)","v":12765.86875},{"$f":"IF(AND(A159<=$B$20,$S$17),$T$17,0)","v":12604.567499999999},{"$f":"IF(AND(A159<=$B$20,$S$18),$T$18,0)","v":12330.624170115241},0,0,13088.471250000001,13249.772500000001,13523.715829884759,0,0,0,13727,0,0,0,0]
[129,{"$f":"OFFSET(InputPriceData!B$10,CalculationsAndCharts!$A160+$A$11,0,1,1)","v":"2012-04-24"},{"$f":"OFFSET(InputPriceData!G$10,CalculationsAndCharts!$A160+$A$11,0,1,1)","v":132106640},{"$f":"OFFSET(InputPriceData!C$10,CalculationsAndCharts!$A160+$A$11,0,1,1)","v":12927.77},{"$f":"OFFSET(InputPriceData!D$10,CalculationsAndCharts!$A160+$A$11,0,1,1)","v":13050.3},{"$f":"OFFSET(InputPriceData!E$10,CalculationsAndCharts!$A160+$A$11,0,1,1)","v":12926.49},{"$f":"OFFSET(InputPriceData!F$10,CalculationsAndCharts!$A160+$A$11,0,1,1)","v":13001.56},{"$f":"IF(AND(A160<=$B$20,$S$14),$T$14,0)","v":0},{"$f":"IF(AND(A160<=$B$20,$S$15),$T$15,0)","v":0},{"$f":"IF(AND(A160<=$B$20,$S$16),$T$16,0)","v":12765.86875},{"$f":"IF(AND(A160<=$B$20,$S$17),$T$17,0)","v":12604.567499999999},{"$f":"IF(AND(A160<=$B$20,$S$18),$T$18,0)","v":12330.624170115241},0,0,13088.471250000001,13249.772500000001,13523.715829884759,0,{"$f":"IF($A160=$B$28,S$31,0)","v":0},13727,13727,0,0,0,0]
[130,{"$f":"OFFSET(InputPriceData!B$10,CalculationsAndCharts!$A161+$A$11,0,1,1)","v":"2012-04-23"},{"$f":"OFFSET(InputPriceData!G$10,CalculationsAndCharts!$A161+$A$11,0,1,1)","v":139356717},{"$f":"OFFSET(InputPriceData!C$10,CalculationsAndCharts!$A161+$A$11,0,1,1)","v":13028.2},{"$f":"OFFSET(InputPriceData!D$10,CalculationsAndCharts!$A161+$A$11,0,1,1)","v":13028.2},{"$f":"OFFSET(InputPriceData!E$10,CalculationsAndCharts!$A161+$A$11,0,1,1)","v":12845.58},{"$f":"OFFSET(InputPriceData!F$10,CalculationsAndCharts!$A161+$A$11,0,1,1)","v":12927.17},{"$f":"IF(AND(A161<=$B$20,$S$14),$T$14,0)","v":0},{"$f":"IF(AND(A161<=$B$20,$S$15),$T$15,0)","v":0},{"$f":"IF(AND(A161<=$B$20,$S$16),$T$16,0)","v":0},{"$f":"IF(AND(A161<=$B$20,$S$17),$T$17,0)","v":0},{"$f":"IF(AND(A161<=$B$20,$S$18),$T$18,0)","v":0},{"$f":"IF(AND(A161<=$B$20,$S$8),$T$8,0)","v":0},{"$f":"IF(AND(A161<=$B$20,$S$7),$T$7,0)","v":0},{"$f":"IF(AND(A161<=$B$20,$S$6),$T$6,0)","v":0},{"$f":"IF(AND(A161<=$B$20,$S$5),$T$5,0)","v":0},{"$f":"IF(AND(A161<=$B$20,$S$4),$T$4,0)","v":0},{"$f":"IF(AND(A161>$B$20,A161<=($B$20+$C$18)),$T$10-Y161,0)","v":586.55000000000109},0,{"$f":"IF($A161=$B$27,S$31,0)","v":0},{"$f":"IF(AND(A161<=$B$20,A161>($B$20-$C$18)),$F$11,0)","v":0},{"$f":"IF(AND($S$10,A161>$B$20,A161<=($B$20+$C$18)),$T$10,0)","v":0},{"$f":"IF(AND($S$11,A161>$B$20,A161<=($B$20+$C$18)),$T$11,0)","v":12927.17},{"$f":"IF(AND($S$12,A161>$B$20,A161<=($B$20+$C$18)),$T$12,0)","v":0},{"$f":"IF(AND(A161>$B$20,A161<=($B$20+$C$18)),$T$12,0)","v":12710.56}]
[131,{"$f":"OFFSET(InputPriceData!B$10,CalculationsAndCharts!$A162+$A$11,0,1,1)","v":"2012-04-20"},{"$f":"OFFSET(InputPriceData!G$10,CalculationsAndCharts!$A162+$A$11,0,1,1)","v":212027843},{"$f":"OFFSET(InputPriceData!C$10,CalculationsAndCharts!$A162+$A$11,0,1,1)","v":12964.48},{"$f":"OFFSET(InputPriceData!D$10,CalculationsAndCharts!$A162+$A$11,0,1,1)","v":13082.54},{"$f":"OFFSET(InputPriceData!E$10,CalculationsAndCharts!$A162+$A$11,0,1,1)","v":12964.25},{"$f":"OFFSET(InputPriceData!F$10,CalculationsAndCharts!$A162+$A$11,0,1,1)","v":13029.26},{"$f":"IF(AND(A162<=$B$20,$S$14),$T$14,0)","v":0},{"$f":"IF(AND(A162<=$B$20,$S$15),$T$15,0)","v":0},{"$f":"IF(AND(A162<=$B$20,$S$16),$T$16,0)","v":0},{"$f":"IF(AND(A162<=$B$20,$S$17),$T$17,0)","v":0},{"$f":"IF(AND(A162<=$B$20,$S$18),$T$18,0)","v":0},0,0,0,0,0,586.55000000000109,0,0,0,0,12927.17,0,12710.56]
[132,{"$f":"OFFSET(InputPriceData!B$10,CalculationsAndCharts!$A163+$A$11,0,1,1)","v":"2012-04-19"},{"$f":"OFFSET(InputPriceData!G$10,CalculationsAndCharts!$A163+$A$11,0,1,1)","v":139181902},{"$f":"OFFSET(InputPriceData!C$10,CalculationsAndCharts!$A163+$A$11,0,1,1)","v":13028.73},{"$f":"OFFSET(InputPriceData!D$10,CalculationsAndCharts!$A163+$A$11,0,1,1)","v":13080.2},{"$f":"OFFSET(InputPriceData!E$10,CalculationsAndCharts!$A163+$A$11,0,1,1)","v":12896.82},{"$f":"OFFSET(InputPriceData!F$10,CalculationsAndCharts!$A163+$A$11,0,1,1)","v":12964.1},{"$f":"IF(AND(A163<=$B$20,$S$14),$T$14,0)","v":0},{"$f":"IF(AND(A163<=$B$20,$S$15),$T$15,0)","v":0},{"$f":"IF(AND(A163<=$B$20,$S$16),$T$16,0)","v":0},{"$f":"IF(AND(A163<=$B$20,$S$17),$T$17,0)","v":0},{"$f":"IF(AND(A163<=$B$20,$S$18),$T$18,0)","v":0},0,0,0,0,0,586.55000000000109,0,0,0,0,12927.17,0,12710.56]
[133,{"$f":"OFFSET(InputPriceData!B$10,CalculationsAndCharts!$A164+$A$11,0,1,1)","v":"2012-04-18"},{"$f":"OFFSET(InputPriceData!G$10,CalculationsAndCharts!$A164+$A$11,0,1,1)","v":113493735},{"$f":"OFFSET(InputPriceData!C$10,CalculationsAndCharts!$A164+$A$11,0,1,1)","v":13114.56},{"$f":"OFFSET(InputPriceData!D$10,CalculationsAndCharts!$A164+$A$11,0,1,1)","v":13114.56},{"$f":"OFFSET(InputPriceData!E$10,CalculationsAndCharts!$A164+$A$11,0,1,1)","v":13027.49},{"$f":"OFFSET(InputPriceData!F$10,CalculationsAndCharts!$A164+$A$11,0,1,1)","v":13032.75},{"$f":"IF(AND(A164<=$B$20,$S$14),$T$14,0)","v":0},{"$f":"IF(AND(A164<=$B$20,$S$15),$T$15,0)","v":0},{"$f":"IF(AND(A164<=$B$20,$S$16),$T$16,0)","v":0},{"$f":"IF(AND(A164<=$B$20,$S$17),$T$17,0)","v":0},{"$f":"IF(AND(A164<=$B$20,$S$18),$T$18,0)","v":0},0,0,0,0,0,586.55000000000109,0,0,0,0,12927.17,0,12710.56]
[134,{"$f":"OFFSET(InputPriceData!B$10,CalculationsAndCharts!$A165+$A$11,0,1,1)","v":"2012-04-17"},{"$f":"OFFSET(InputPriceData!G$10,CalculationsAndCharts!$A165+$A$11,0,1,1)","v":113085264},{"$f":"OFFSET(InputPriceData!C$10,CalculationsAndCharts!$A165+$A$11,0,1,1)","v":12921.79},{"$f":"OFFSET(InputPriceData!D$10,CalculationsAndCharts!$A165+$A$11,0,1,1)","v":13131.36},{"$f":"OFFSET(InputPriceData!E$10,CalculationsAndCharts!$A165+$A$11,0,1,1)","v":12921.79},{"$f":"OFFSET(InputPriceData!F$10,CalculationsAndCharts!$A165+$A$11,0,1,1)","v":13115.54},{"$f":"IF(AND(A165<=$B$20,$S$14),$T$14,0)","v":0},{"$f":"IF(AND(A165<=$B$20,$S$15),$T$15,0)","v":0},{"$f":"IF(AND(A165<=$B$20,$S$16),$T$16,0)","v":0},{"$f":"IF(AND(A165<=$B$20,$S$17),$T$17,0)","v":0},{"$f":"IF(AND(A165<=$B$20,$S$18),$T$18,0)","v":0},0,0,0,0,0,586.55000000000109,0,0,0,0,12927.17,0,12710.56]
[135,{"$f":"OFFSET(InputPriceData!B$10,CalculationsAndCharts!$A166+$A$11,0,1,1)","v":"2012-04-16"},{"$f":"OFFSET(InputPriceData!G$10,CalculationsAndCharts!$A166+$A$11,0,1,1)","v":120976827},{"$f":"OFFSET(InputPriceData!C$10,CalculationsAndCharts!$A166+$A$11,0,1,1)","v":12850.88},{"$f":"OFFSET(InputPriceData!D$10,CalculationsAndCharts!$A166+$A$11,0,1,1)","v":12986.77},{"$f":"OFFSET(InputPriceData!E$10,CalculationsAndCharts!$A166+$A$11,0,1,1)","v":12850.8},{"$f":"OFFSET(InputPriceData!F$10,CalculationsAndCharts!$A166+$A$11,0,1,1)","v":12921.41},{"$f":"IF(AND(A166<=$B$20,$S$14),$T$14,0)","v":0},{"$f":"IF(AND(A166<=$B$20,$S$15),$T$15,0)","v":0},{"$f":"IF(AND(A166<=$B$20,$S$16),$T$16,0)","v":0},{"$f":"IF(AND(A166<=$B$20,$S$17),$T$17,0)","v":0},{"$f":"IF(AND(A166<=$B$20,$S$18),$T$18,0)","v":0},0,0,0,0,0,586.55000000000109,0,0,0,0,12927.17,0,12710.56]
[136,{"$f":"OFFSET(InputPriceData!B$10,CalculationsAndCharts!$A167+$A$11,0,1,1)","v":"2012-04-13"},{"$f":"OFFSET(InputPriceData!G$10,CalculationsAndCharts!$A167+$A$11,0,1,1)","v":140936923},{"$f":"OFFSET(InputPriceData!C$10,CalculationsAndCharts!$A167+$A$11,0,1,1)","v":12986.2},{"$f":"OFFSET(InputPriceData!D$10,CalculationsAndCharts!$A167+$A$11,0,1,1)","v":12986.35},{"$f":"OFFSET(InputPriceData!E$10,CalculationsAndCharts!$A167+$A$11,0,1,1)","v":12845.28},{"$f":"OFFSET(InputPriceData!F$10,CalculationsAndCharts!$A167+$A$11,0,1,1)","v":12849.59},{"$f":"IF(AND(A167<=$B$20,$S$14),$T$14,0)","v":0},{"$f":"IF(AND(A167<=$B$20,$S$15),$T$15,0)","v":0},{"$f":"IF(AND(A167<=$B$20,$S$16),$T$16,0)","v":0},{"$f":"IF(AND(A167<=$B$20,$S$17),$T$17,0)","v":0},{"$f":"IF(AND(A167<=$B$20,$S$18),$T$18,0)","v":0},0,0,0,0,0,586.55000000000109,0,0,0,0,12927.17,0,12710.56]
[137,{"$f":"OFFSET(InputPriceData!B$10,CalculationsAndCharts!$A168+$A$11,0,1,1)","v":"2012-04-12"},{"$f":"OFFSET(InputPriceData!G$10,CalculationsAndCharts!$A168+$A$11,0,1,1)","v":119760382},{"$f":"OFFSET(InputPriceData!C$10,CalculationsAndCharts!$A168+$A$11,0,1,1)","v":12806.45},{"$f":"OFFSET(InputPriceData!D$10,CalculationsAndCharts!$A168+$A$11,0,1,1)","v":12986.96},{"$f":"OFFSET(InputPriceData!E$10,CalculationsAndCharts!$A168+$A$11,0,1,1)","v":12806.3},{"$f":"OFFSET(InputPriceData!F$10,CalculationsAndCharts!$A168+$A$11,0,1,1)","v":12986.58},{"$f":"IF(AND(A168<=$B$20,$S$14),$T$14,0)","v":0},{"$f":"IF(AND(A168<=$B$20,$S$15),$T$15,0)","v":0},{"$f":"IF(AND(A168<=$B$20,$S$16),$T$16,0)","v":0},{"$f":"IF(AND(A168<=$B$20,$S$17),$T$17,0)","v":0},{"$f":"IF(AND(A168<=$B$20,$S$18),$T$18,0)","v":0},0,0,0,0,0,586.55000000000109,0,0,0,0,12927.17,0,12710.56]
[138,{"$f":"OFFSET(InputPriceData!B$10,CalculationsAndCharts!$A169+$A$11,0,1,1)","v":"2012-04-11"},{"$f":"OFFSET(InputPriceData!G$10,CalculationsAndCharts!$A169+$A$11,0,1,1)","v":125199189},{"$f":"OFFSET(InputPriceData!C$10,CalculationsAndCharts!$A169+$A$11,0,1,1)","v":12716.92},{"$f":"OFFSET(InputPriceData!D$10,CalculationsAndCharts!$A169+$A$11,0,1,1)","v":12844.82},{"$f":"OFFSET(InputPriceData!E$10,CalculationsAndCharts!$A169+$A$11,0,1,1)","v":12716.92},{"$f":"OFFSET(InputPriceData!F$10,CalculationsAndCharts!$A169+$A$11,0,1,1)","v":12805.39},{"$f":"IF(AND(A169<=$B$20,$S$14),$T$14,0)","v":0},{"$f":"IF(AND(A169<=$B$20,$S$15),$T$15,0)","v":0},{"$f":"IF(AND(A169<=$B$20,$S$16),$T$16,0)","v":0},{"$f":"IF(AND(A169<=$B$20,$S$17),$T$17,0)","v":0},{"$f":"IF(AND(A169<=$B$20,$S$18),$T$18,0)","v":0},0,0,0,0,0,586.55000000000109,0,0,0,0,12927.17,0,12710.56]
[139,{"$f":"OFFSET(InputPriceData!B$10,CalculationsAndCharts!$A170+$A$11,0,1,1)","v":"2012-04-10"},{"$f":"OFFSET(InputPriceData!G$10,CalculationsAndCharts!$A170+$A$11,0,1,1)","v":159270498},{"$f":"OFFSET(InputPriceData!C$10,CalculationsAndCharts!$A170+$A$11,0,1,1)","v":12929.44},{"$f":"OFFSET(InputPriceData!D$10,CalculationsAndCharts!$A170+$A$11,0,1,1)","v":12929.59},{"$f":"OFFSET(InputPriceData!E$10,CalculationsAndCharts!$A170+$A$11,0,1,1)","v":12710.56},{"$f":"OFFSET(InputPriceData!F$10,CalculationsAndCharts!$A170+$A$11,0,1,1)","v":12715.93},{"$f":"IF(AND(A170<=$B$20,$S$14),$T$14,0)","v":0},{"$f":"IF(AND(A170<=$B$20,$S$15),$T$15,0)","v":0},{"$f":"IF(AND(A170<=$B$20,$S$16),$T$16,0)","v":0},{"$f":"IF(AND(A170<=$B$20,$S$17),$T$17,0)","v":0},{"$f":"IF(AND(A170<=$B$20,$S$18),$T$18,0)","v":0},0,0,0,0,0,586.55000000000109,0,0,0,0,12927.17,0,12710.56]
[140,{"$f":"OFFSET(InputPriceData!B$10,CalculationsAndCharts!$A171+$A$11,0,1,1)","v":"2012-04-09"},{"$f":"OFFSET(InputPriceData!G$10,CalculationsAndCharts!$A171+$A$11,0,1,1)","v":105478280},{"$f":"OFFSET(InputPriceData!C$10,CalculationsAndCharts!$A171+$A$11,0,1,1)","v":13057.57},{"$f":"OFFSET(InputPriceData!D$10,CalculationsAndCharts!$A171+$A$11,0,1,1)","v":13057.72},{"$f":"OFFSET(InputPriceData!E$10,CalculationsAndCharts!$A171+$A$11,0,1,1)","v":12903.78},{"$f":"OFFSET(InputPriceData!F$10,CalculationsAndCharts!$A171+$A$11,0,1,1)","v":12929.59},{"$f":"IF(AND(A171<=$B$20,$S$14),$T$14,0)","v":0},{"$f":"IF(AND(A171<=$B$20,$S$15),$T$15,0)","v":0},{"$f":"IF(AND(A171<=$B$20,$S$16),$T$16,0)","v":0},{"$f":"IF(AND(A171<=$B$20,$S$17),$T$17,0)","v":0},{"$f":"IF(AND(A171<=$B$20,$S$18),$T$18,0)","v":0},0,0,0,0,0,586.55000000000109,0,0,0,0,12927.17,0,12710.56]
[141,{"$f":"OFFSET(InputPriceData!B$10,CalculationsAndCharts!$A172+$A$11,0,1,1)","v":"2012-04-05"},{"$f":"OFFSET(InputPriceData!G$10,CalculationsAndCharts!$A172+$A$11,0,1,1)","v":109491748},{"$f":"OFFSET(InputPriceData!C$10,CalculationsAndCharts!$A172+$A$11,0,1,1)","v":13067.18},{"$f":"OFFSET(InputPriceData!D$10,CalculationsAndCharts!$A172+$A$11,0,1,1)","v":13088.11},{"$f":"OFFSET(InputPriceData!E$10,CalculationsAndCharts!$A172+$A$11,0,1,1)","v":13012.46},{"$f":"OFFSET(InputPriceData!F$10,CalculationsAndCharts!$A172+$A$11,0,1,1)","v":13060.14},{"$f":"IF(AND(A172<=$B$20,$S$14),$T$14,0)","v":0},{"$f":"IF(AND(A172<=$B$20,$S$15),$T$15,0)","v":0},{"$f":"IF(AND(A172<=$B$20,$S$16),$T$16,0)","v":0},{"$f":"IF(AND(A172<=$B$20,$S$17),$T$17,0)","v":0},{"$f":"IF(AND(A172<=$B$20,$S$18),$T$18,0)","v":0},0,0,0,0,0,586.55000000000109,0,0,0,0,12927.17,0,12710.56]
[142,{"$f":"OFFSET(InputPriceData!B$10,CalculationsAndCharts!$A173+$A$11,0,1,1)","v":"2012-04-04"},{"$f":"OFFSET(InputPriceData!G$10,CalculationsAndCharts!$A173+$A$11,0,1,1)","v":124961094},{"$f":"OFFSET(InputPriceData!C$10,CalculationsAndCharts!$A173+$A$11,0,1,1)","v":13198.19},{"$f":"OFFSET(InputPriceData!D$10,CalculationsAndCharts!$A173+$A$11,0,1,1)","v":13198.19},{"$f":"OFFSET(InputPriceData!E$10,CalculationsAndCharts!$A173+$A$11,0,1,1)","v":13020.86},{"$f":"OFFSET(InputPriceData!F$10,CalculationsAndCharts!$A173+$A$11,0,1,1)","v":13074.75},{"$f":"IF(AND(A173<=$B$20,$S$14),$T$14,0)","v":0},{"$f":"IF(AND(A173<=$B$20,$S$15),$T$15,0)","v":0},{"$f":"IF(AND(A173<=$B$20,$S$16),$T$16,0)","v":0},{"$f":"IF(AND(A173<=$B$20,$S$17),$T$17,0)","v":0},{"$f":"IF(AND(A173<=$B$20,$S$18),$T$18,0)","v":0},0,0,0,0,0,586.55000000000109,0,0,0,0,12927.17,0,12710.56]
[143,{"$f":"OFFSET(InputPriceData!B$10,CalculationsAndCharts!$A174+$A$11,0,1,1)","v":"2012-04-03"},{"$f":"OFFSET(InputPriceData!G$10,CalculationsAndCharts!$A174+$A$11,0,1,1)","v":123741371},{"$f":"OFFSET(InputPriceData!C$10,CalculationsAndCharts!$A174+$A$11,0,1,1)","v":13258.96},{"$f":"OFFSET(InputPriceData!D$10,CalculationsAndCharts!$A174+$A$11,0,1,1)","v":13265.36},{"$f":"OFFSET(InputPriceData!E$10,CalculationsAndCharts!$A174+$A$11,0,1,1)","v":13131.21},{"$f":"OFFSET(InputPriceData!F$10,CalculationsAndCharts!$A174+$A$11,0,1,1)","v":13199.55},{"$f":"IF(AND(A174<=$B$20,$S$14),$T$14,0)","v":0},{"$f":"IF(AND(A174<=$B$20,$S$15),$T$15,0)","v":0},{"$f":"IF(AND(A174<=$B$20,$S$16),$T$16,0)","v":0},{"$f":"IF(AND(A174<=$B$20,$S$17),$T$17,0)","v":0},{"$f":"IF(AND(A174<=$B$20,$S$18),$T$18,0)","v":0},0,0,0,0,0,586.55000000000109,0,0,0,0,12927.17,0,12710.56]
[144,{"$f":"OFFSET(InputPriceData!B$10,CalculationsAndCharts!$A175+$A$11,0,1,1)","v":"2012-04-02"},{"$f":"OFFSET(InputPriceData!G$10,CalculationsAndCharts!$A175+$A$11,0,1,1)","v":106029218},{"$f":"OFFSET(InputPriceData!C$10,CalculationsAndCharts!$A175+$A$11,0,1,1)","v":13211.36},{"$f":"OFFSET(InputPriceData!D$10,CalculationsAndCharts!$A175+$A$11,0,1,1)","v":13297.11},{"$f":"OFFSET(InputPriceData!E$10,CalculationsAndCharts!$A175+$A$11,0,1,1)","v":13153.69},{"$f":"OFFSET(InputPriceData!F$10,CalculationsAndCharts!$A175+$A$11,0,1,1)","v":13264.49},{"$f":"IF(AND(A175<=$B$20,$S$14),$T$14,0)","v":0},{"$f":"IF(AND(A175<=$B$20,$S$15),$T$15,0)","v":0},{"$f":"IF(AND(A175<=$B$20,$S$16),$T$16,0)","v":0},{"$f":"IF(AND(A175<=$B$20,$S$17),$T$17,0)","v":0},{"$f":"IF(AND(A175<=$B$20,$S$18),$T$18,0)","v":0},0,0,0,0,0,586.55000000000109,0,0,0,0,12927.17,0,12710.56]
[145,{"$f":"OFFSET(InputPriceData!B$10,CalculationsAndCharts!$A176+$A$11,0,1,1)","v":"2012-03-30"},{"$f":"OFFSET(InputPriceData!G$10,CalculationsAndCharts!$A176+$A$11,0,1,1)","v":171160349},{"$f":"OFFSET(InputPriceData!C$10,CalculationsAndCharts!$A176+$A$11,0,1,1)","v":13147.94},{"$f":"OFFSET(InputPriceData!D$10,CalculationsAndCharts!$A176+$A$11,0,1,1)","v":13224.49},{"$f":"OFFSET(InputPriceData!E$10,CalculationsAndCharts!$A176+$A$11,0,1,1)","v":13147.78},{"$f":"OFFSET(InputPriceData!F$10,CalculationsAndCharts!$A176+$A$11,0,1,1)","v":13212.04},{"$f":"IF(AND(A176<=$B$20,$S$14),$T$14,0)","v":0},{"$f":"IF(AND(A176<=$B$20,$S$15),$T$15,0)","v":0},{"$f":"IF(AND(A176<=$B$20,$S$16),$T$16,0)","v":0},{"$f":"IF(AND(A176<=$B$20,$S$17),$T$17,0)","v":0},{"$f":"IF(AND(A176<=$B$20,$S$18),$T$18,0)","v":0},0,0,0,0,0,586.55000000000109,0,0,0,0,12927.17,0,12710.56]
[146,{"$f":"OFFSET(InputPriceData!B$10,CalculationsAndCharts!$A177+$A$11,0,1,1)","v":"2012-03-29"},{"$f":"OFFSET(InputPriceData!G$10,CalculationsAndCharts!$A177+$A$11,0,1,1)","v":136249607},{"$f":"OFFSET(InputPriceData!C$10,CalculationsAndCharts!$A177+$A$11,0,1,1)","v":13125.99},{"$f":"OFFSET(InputPriceData!D$10,CalculationsAndCharts!$A177+$A$11,0,1,1)","v":13151.57},{"$f":"OFFSET(InputPriceData!E$10,CalculationsAndCharts!$A177+$A$11,0,1,1)","v":13032.67},{"$f":"OFFSET(InputPriceData!F$10,CalculationsAndCharts!$A177+$A$11,0,1,1)","v":13145.82},{"$f":"IF(AND(A177<=$B$20,$S$14),$T$14,0)","v":0},{"$f":"IF(AND(A177<=$B$20,$S$15),$T$15,0)","v":0},{"$f":"IF(AND(A177<=$B$20,$S$16),$T$16,0)","v":0},{"$f":"IF(AND(A177<=$B$20,$S$17),$T$17,0)","v":0},{"$f":"IF(AND(A177<=$B$20,$S$18),$T$18,0)","v":0},0,0,0,0,0,586.55000000000109,0,0,0,0,12927.17,0,12710.56]
[147,{"$f":"OFFSET(InputPriceData!B$10,CalculationsAndCharts!$A178+$A$11,0,1,1)","v":"2012-03-28"},{"$f":"OFFSET(InputPriceData!G$10,CalculationsAndCharts!$A178+$A$11,0,1,1)","v":141521286},{"$f":"OFFSET(InputPriceData!C$10,CalculationsAndCharts!$A178+$A$11,0,1,1)","v":13195.39},{"$f":"OFFSET(InputPriceData!D$10,CalculationsAndCharts!$A178+$A$11,0,1,1)","v":13212.64},{"$f":"OFFSET(InputPriceData!E$10,CalculationsAndCharts!$A178+$A$11,0,1,1)","v":13069.26},{"$f":"OFFSET(InputPriceData!F$10,CalculationsAndCharts!$A178+$A$11,0,1,1)","v":13126.21},{"$f":"IF(AND(A178<=$B$20,$S$14),$T$14,0)","v":0},{"$f":"IF(AND(A178<=$B$20,$S$15),$T$15,0)","v":0},{"$f":"IF(AND(A178<=$B$20,$S$16),$T$16,0)","v":0},{"$f":"IF(AND(A178<=$B$20,$S$17),$T$17,0)","v":0},{"$f":"IF(AND(A178<=$B$20,$S$18),$T$18,0)","v":0},0,0,0,0,0,586.55000000000109,0,0,0,0,12927.17,0,12710.56]
[148,{"$f":"OFFSET(InputPriceData!B$10,CalculationsAndCharts!$A179+$A$11,0,1,1)","v":"2012-03-27"},{"$f":"OFFSET(InputPriceData!G$10,CalculationsAndCharts!$A179+$A$11,0,1,1)","v":129220985},{"$f":"OFFSET(InputPriceData!C$10,CalculationsAndCharts!$A179+$A$11,0,1,1)","v":13242.09},{"$f":"OFFSET(InputPriceData!D$10,CalculationsAndCharts!$A179+$A$11,0,1,1)","v":13264.98},{"$f":"OFFSET(InputPriceData!E$10,CalculationsAndCharts!$A179+$A$11,0,1,1)","v":13194.33},{"$f":"OFFSET(InputPriceData!F$10,CalculationsAndCharts!$A179+$A$11,0,1,1)","v":13197.73},{"$f":"IF(AND(A179<=$B$20,$S$14),$T$14,0)","v":0},{"$f":"IF(AND(A179<=$B$20,$S$15),$T$15,0)","v":0},{"$f":"IF(AND(A179<=$B$20,$S$16),$T$16,0)","v":0},{"$f":"IF(AND(A179<=$B$20,$S$17),$T$17,0)","v":0},{"$f":"IF(AND(A179<=$B$20,$S$18),$T$18,0)","v":0},0,0,0,0,0,586.55000000000109,0,0,0,0,12927.17,0,12710.56]
[149,{"$f":"OFFSET(InputPriceData!B$10,CalculationsAndCharts!$A180+$A$11,0,1,1)","v":"2012-03-26"},{"$f":"OFFSET(InputPriceData!G$10,CalculationsAndCharts!$A180+$A$11,0,1,1)","v":122055589},{"$f":"OFFSET(InputPriceData!C$10,CalculationsAndCharts!$A180+$A$11,0,1,1)","v":13082.62},{"$f":"OFFSET(InputPriceData!D$10,CalculationsAndCharts!$A180+$A$11,0,1,1)","v":13243.86},{"$f":"OFFSET(InputPriceData!E$10,CalculationsAndCharts!$A180+$A$11,0,1,1)","v":13082.39},{"$f":"OFFSET(InputPriceData!F$10,CalculationsAndCharts!$A180+$A$11,0,1,1)","v":13241.63},{"$f":"IF(AND(A180<=$B$20,$S$14),$T$14,0)","v":0},{"$f":"IF(AND(A180<=$B$20,$S$15),$T$15,0)","v":0},{"$f":"IF(AND(A180<=$B$20,$S$16),$T$16,0)","v":0},{"$f":"IF(AND(A180<=$B$20,$S$17),$T$17,0)","v":0},{"$f":"IF(AND(A180<=$B$20,$S$18),$T$18,0)","v":0},0,0,0,0,0,586.55000000000109,0,0,0,0,12927.17,0,12710.56]
[150,{"$f":"OFFSET(InputPriceData!B$10,CalculationsAndCharts!$A181+$A$11,0,1,1)","v":"2012-03-23"},{"$f":"OFFSET(InputPriceData!G$10,CalculationsAndCharts!$A181+$A$11,0,1,1)","v":129219697},{"$f":"OFFSET(InputPriceData!C$10,CalculationsAndCharts!$A181+$A$11,0,1,1)","v":13045.99},{"$f":"OFFSET(InputPriceData!D$10,CalculationsAndCharts!$A181+$A$11,0,1,1)","v":13099.91},{"$f":"OFFSET(InputPriceData!E$10,CalculationsAndCharts!$A181+$A$11,0,1,1)","v":13002.77},{"$f":"OFFSET(InputPriceData!F$10,CalculationsAndCharts!$A181+$A$11,0,1,1)","v":13080.73},{"$f":"IF(AND(A181<=$B$20,$S$14),$T$14,0)","v":0},{"$f":"IF(AND(A181<=$B$20,$S$15),$T$15,0)","v":0},{"$f":"IF(AND(A181<=$B$20,$S$16),$T$16,0)","v":0},{"$f":"IF(AND(A181<=$B$20,$S$17),$T$17,0)","v":0},{"$f":"IF(AND(A181<=$B$20,$S$18),$T$18,0)","v":0},0,0,0,0,0,586.55000000000109,0,0,0,0,12927.17,0,12710.56]
[151,{"$f":"OFFSET(InputPriceData!B$10,CalculationsAndCharts!$A182+$A$11,0,1,1)","v":"2012-03-22"},{"$f":"OFFSET(InputPriceData!G$10,CalculationsAndCharts!$A182+$A$11,0,1,1)","v":121829650},{"$f":"OFFSET(InputPriceData!C$10,CalculationsAndCharts!$A182+$A$11,0,1,1)","v":13124.4},{"$f":"OFFSET(InputPriceData!D$10,CalculationsAndCharts!$A182+$A$11,0,1,1)","v":13124.47},{"$f":"OFFSET(InputPriceData!E$10,CalculationsAndCharts!$A182+$A$11,0,1,1)","v":13017.42},{"$f":"OFFSET(InputPriceData!F$10,CalculationsAndCharts!$A182+$A$11,0,1,1)","v":13046.14},{"$f":"IF(AND(A182<=$B$20,$S$14),$T$14,0)","v":0},{"$f":"IF(AND(A182<=$B$20,$S$15),$T$15,0)","v":0},{"$f":"IF(AND(A182<=$B$20,$S$16),$T$16,0)","v":0},{"$f":"IF(AND(A182<=$B$20,$S$17),$T$17,0)","v":0},{"$f":"IF(AND(A182<=$B$20,$S$18),$T$18,0)","v":0},0,0,0,0,0,586.55000000000109,0,0,0,0,12927.17,0,12710.56]
[152,{"$f":"OFFSET(InputPriceData!B$10,CalculationsAndCharts!$A183+$A$11,0,1,1)","v":"2012-03-21"},{"$f":"OFFSET(InputPriceData!G$10,CalculationsAndCharts!$A183+$A$11,0,1,1)","v":124815916},{"$f":"OFFSET(InputPriceData!C$10,CalculationsAndCharts!$A183+$A$11,0,1,1)","v":13170.79},{"$f":"OFFSET(InputPriceData!D$10,CalculationsAndCharts!$A183+$A$11,0,1,1)","v":13190.02},{"$f":"OFFSET(InputPriceData!E$10,CalculationsAndCharts!$A183+$A$11,0,1,1)","v":13112.93},{"$f":"OFFSET(InputPriceData!F$10,CalculationsAndCharts!$A183+$A$11,0,1,1)","v":13124.62},{"$f":"IF(AND(A183<=$B$20,$S$14),$T$14,0)","v":0},{"$f":"IF(AND(A183<=$B$20,$S$15),$T$15,0)","v":0},{"$f":"IF(AND(A183<=$B$20,$S$16),$T$16,0)","v":0},{"$f":"IF(AND(A183<=$B$20,$S$17),$T$17,0)","v":0},{"$f":"IF(AND(A183<=$B$20,$S$18),$T$18,0)","v":0},0,0,0,0,0,586.55000000000109,0,0,0,0,12927.17,0,12710.56]
[153,{"$f":"OFFSET(InputPriceData!B$10,CalculationsAndCharts!$A184+$A$11,0,1,1)","v":"2012-03-20"},{"$f":"OFFSET(InputPriceData!G$10,CalculationsAndCharts!$A184+$A$11,0,1,1)","v":131107695},{"$f":"OFFSET(InputPriceData!C$10,CalculationsAndCharts!$A184+$A$11,0,1,1)","v":13238.45},{"$f":"OFFSET(InputPriceData!D$10,CalculationsAndCharts!$A184+$A$11,0,1,1)","v":13238.45},{"$f":"OFFSET(InputPriceData!E$10,CalculationsAndCharts!$A184+$A$11,0,1,1)","v":13123.38},{"$f":"OFFSET(InputPriceData!F$10,CalculationsAndCharts!$A184+$A$11,0,1,1)","v":13170.19},{"$f":"IF(AND(A184<=$B$20,$S$14),$T$14,0)","v":0},{"$f":"IF(AND(A184<=$B$20,$S$15),$T$15,0)","v":0},{"$f":"IF(AND(A184<=$B$20,$S$16),$T$16,0)","v":0},{"$f":"IF(AND(A184<=$B$20,$S$17),$T$17,0)","v":0},{"$f":"IF(AND(A184<=$B$20,$S$18),$T$18,0)","v":0},0,0,0,0,0,586.55000000000109,0,0,0,0,12927.17,0,12710.56]
[154,{"$f":"OFFSET(InputPriceData!B$10,CalculationsAndCharts!$A185+$A$11,0,1,1)","v":"2012-03-19"},{"$f":"OFFSET(InputPriceData!G$10,CalculationsAndCharts!$A185+$A$11,0,1,1)","v":147093272},{"$f":"OFFSET(InputPriceData!C$10,CalculationsAndCharts!$A185+$A$11,0,1,1)","v":13231.94},{"$f":"OFFSET(InputPriceData!D$10,CalculationsAndCharts!$A185+$A$11,0,1,1)","v":13269.71},{"$f":"OFFSET(InputPriceData!E$10,CalculationsAndCharts!$A185+$A$11,0,1,1)","v":13208.63},{"$f":"OFFSET(InputPriceData!F$10,CalculationsAndCharts!$A185+$A$11,0,1,1)","v":13239.13},{"$f":"IF(AND(A185<=$B$20,$S$14),$T$14,0)","v":0},{"$f":"IF(AND(A185<=$B$20,$S$15),$T$15,0)","v":0},{"$f":"IF(AND(A185<=$B$20,$S$16),$T$16,0)","v":0},{"$f":"IF(AND(A185<=$B$20,$S$17),$T$17,0)","v":0},{"$f":"IF(AND(A185<=$B$20,$S$18),$T$18,0)","v":0},0,0,0,0,0,586.55000000000109,0,0,0,0,12927.17,0,12710.56]
[155,{"$f":"OFFSET(InputPriceData!B$10,CalculationsAndCharts!$A186+$A$11,0,1,1)","v":"2012-03-16"},{"$f":"OFFSET(InputPriceData!G$10,CalculationsAndCharts!$A186+$A$11,0,1,1)","v":392567096},{"$f":"OFFSET(InputPriceData!C$10,CalculationsAndCharts!$A186+$A$11,0,1,1)","v":13253.51},{"$f":"OFFSET(InputPriceData!D$10,CalculationsAndCharts!$A186+$A$11,0,1,1)","v":13289.08},{"$f":"OFFSET(InputPriceData!E$10,CalculationsAndCharts!$A186+$A$11,0,1,1)","v":13231.45},{"$f":"OFFSET(InputPriceData!F$10,CalculationsAndCharts!$A186+$A$11,0,1,1)","v":13232.62},{"$f":"IF(AND(A186<=$B$20,$S$14),$T$14,0)","v":0},{"$f":"IF(AND(A186<=$B$20,$S$15),$T$15,0)","v":0},{"$f":"IF(AND(A186<=$B$20,$S$16),$T$16,0)","v":0},{"$f":"IF(AND(A186<=$B$20,$S$17),$T$17,0)","v":0},{"$f":"IF(AND(A186<=$B$20,$S$18),$T$18,0)","v":0},0,0,0,0,0,0,0,0,0,0,0,0,0]
[156,{"$f":"OFFSET(InputPriceData!B$10,CalculationsAndCharts!$A187+$A$11,0,1,1)","v":"2012-03-15"},{"$f":"OFFSET(InputPriceData!G$10,CalculationsAndCharts!$A187+$A$11,0,1,1)","v":161543180},{"$f":"OFFSET(InputPriceData!C$10,CalculationsAndCharts!$A187+$A$11,0,1,1)","v":13192.97},{"$f":"OFFSET(InputPriceData!D$10,CalculationsAndCharts!$A187+$A$11,0,1,1)","v":13253.51},{"$f":"OFFSET(InputPriceData!E$10,CalculationsAndCharts!$A187+$A$11,0,1,1)","v":13170.19},{"$f":"OFFSET(InputPriceData!F$10,CalculationsAndCharts!$A187+$A$11,0,1,1)","v":13252.76},{"$f":"IF(AND(A187<=$B$20,$S$14),$T$14,0)","v":0},{"$f":"IF(AND(A187<=$B$20,$S$15),$T$15,0)","v":0},{"$f":"IF(AND(A187<=$B$20,$S$16),$T$16,0)","v":0},{"$f":"IF(AND(A187<=$B$20,$S$17),$T$17,0)","v":0},{"$f":"IF(AND(A187<=$B$20,$S$18),$T$18,0)","v":0},0,0,0,0,0,0,0,0,0,0,0,0,0]
[157,{"$f":"OFFSET(InputPriceData!B$10,CalculationsAndCharts!$A188+$A$11,0,1,1)","v":"2012-03-14"},{"$f":"OFFSET(InputPriceData!G$10,CalculationsAndCharts!$A188+$A$11,0,1,1)","v":162764025},{"$f":"OFFSET(InputPriceData!C$10,CalculationsAndCharts!$A188+$A$11,0,1,1)","v":13177.15},{"$f":"OFFSET(InputPriceData!D$10,CalculationsAndCharts!$A188+$A$11,0,1,1)","v":13221.27},{"$f":"OFFSET(InputPriceData!E$10,CalculationsAndCharts!$A188+$A$11,0,1,1)","v":13166.25},{"$f":"OFFSET(InputPriceData!F$10,CalculationsAndCharts!$A188+$A$11,0,1,1)","v":13194.1},{"$f":"IF(AND(A188<=$B$20,$S$14),$T$14,0)","v":0},{"$f":"IF(AND(A188<=$B$20,$S$15),$T$15,0)","v":0},{"$f":"IF(AND(A188<=$B$20,$S$16),$T$16,0)","v":0},{"$f":"IF(AND(A188<=$B$20,$S$17),$T$17,0)","v":0},{"$f":"IF(AND(A188<=$B$20,$S$18),$T$18,0)","v":0},0,0,0,0,0,0,0,0,0,0,0,0,0]
[158,{"$f":"OFFSET(InputPriceData!B$10,CalculationsAndCharts!$A189+$A$11,0,1,1)","v":"2012-03-13"},{"$f":"OFFSET(InputPriceData!G$10,CalculationsAndCharts!$A189+$A$11,0,1,1)","v":161950373},{"$f":"OFFSET(InputPriceData!C$10,CalculationsAndCharts!$A189+$A$11,0,1,1)","v":12953.2},{"$f":"OFFSET(InputPriceData!D$10,CalculationsAndCharts!$A189+$A$11,0,1,1)","v":13180.4},{"$f":"OFFSET(InputPriceData!E$10,CalculationsAndCharts!$A189+$A$11,0,1,1)","v":12953.13},{"$f":"OFFSET(InputPriceData!F$10,CalculationsAndCharts!$A189+$A$11,0,1,1)","v":13177.68},{"$f":"IF(AND(A189<=$B$20,$S$14),$T$14,0)","v":0},{"$f":"IF(AND(A189<=$B$20,$S$15),$T$15,0)","v":0},{"$f":"IF(AND(A189<=$B$20,$S$16),$T$16,0)","v":0},{"$f":"IF(AND(A189<=$B$20,$S$17),$T$17,0)","v":0},{"$f":"IF(AND(A189<=$B$20,$S$18),$T$18,0)","v":0},0,0,0,0,0,0,0,0,0,0,0,0,0]
[159,{"$f":"OFFSET(InputPriceData!B$10,CalculationsAndCharts!$A190+$A$11,0,1,1)","v":"2012-03-12"},{"$f":"OFFSET(InputPriceData!G$10,CalculationsAndCharts!$A190+$A$11,0,1,1)","v":99741336},{"$f":"OFFSET(InputPriceData!C$10,CalculationsAndCharts!$A190+$A$11,0,1,1)","v":12920.58},{"$f":"OFFSET(InputPriceData!D$10,CalculationsAndCharts!$A190+$A$11,0,1,1)","v":12976.36},{"$f":"OFFSET(InputPriceData!E$10,CalculationsAndCharts!$A190+$A$11,0,1,1)","v":12919.98},{"$f":"OFFSET(InputPriceData!F$10,CalculationsAndCharts!$A190+$A$11,0,1,1)","v":12959.71},{"$f":"IF(AND(A190<=$B$20,$S$14),$T$14,0)","v":0},{"$f":"IF(AND(A190<=$B$20,$S$15),$T$15,0)","v":0},{"$f":"IF(AND(A190<=$B$20,$S$16),$T$16,0)","v":0},{"$f":"IF(AND(A190<=$B$20,$S$17),$T$17,0)","v":0},{"$f":"IF(AND(A190<=$B$20,$S$18),$T$18,0)","v":0},0,0,0,0,0,0,0,0,0,0,0,0,0]
[160,{"$f":"OFFSET(InputPriceData!B$10,CalculationsAndCharts!$A191+$A$11,0,1,1)","v":"2012-03-09"},{"$f":"OFFSET(InputPriceData!G$10,CalculationsAndCharts!$A191+$A$11,0,1,1)","v":103199848},{"$f":"OFFSET(InputPriceData!C$10,CalculationsAndCharts!$A191+$A$11,0,1,1)","v":12908.62},{"$f":"OFFSET(InputPriceData!D$10,CalculationsAndCharts!$A191+$A$11,0,1,1)","v":12968.79},{"$f":"OFFSET(InputPriceData!E$10,CalculationsAndCharts!$A191+$A$11,0,1,1)","v":12906.43},{"$f":"OFFSET(InputPriceData!F$10,CalculationsAndCharts!$A191+$A$11,0,1,1)","v":12922.02},{"$f":"IF(AND(A191<=$B$20,$S$14),$T$14,0)","v":0},{"$f":"IF(AND(A191<=$B$20,$S$15),$T$15,0)","v":0},{"$f":"IF(AND(A191<=$B$20,$S$16),$T$16,0)","v":0},{"$f":"IF(AND(A191<=$B$20,$S$17),$T$17,0)","v":0},{"$f":"IF(AND(A191<=$B$20,$S$18),$T$18,0)","v":0},0,0,0,0,0,0,0,0,0,0,0,0,0]
[161,{"$f":"OFFSET(InputPriceData!B$10,CalculationsAndCharts!$A192+$A$11,0,1,1)","v":"2012-03-08"},{"$f":"OFFSET(InputPriceData!G$10,CalculationsAndCharts!$A192+$A$11,0,1,1)","v":103490039},{"$f":"OFFSET(InputPriceData!C$10,CalculationsAndCharts!$A192+$A$11,0,1,1)","v":12835.53},{"$f":"OFFSET(InputPriceData!D$10,CalculationsAndCharts!$A192+$A$11,0,1,1)","v":12937.19},{"$f":"OFFSET(InputPriceData!E$10,CalculationsAndCharts!$A192+$A$11,0,1,1)","v":12835.53},{"$f":"OFFSET(InputPriceData!F$10,CalculationsAndCharts!$A192+$A$11,0,1,1)","v":12907.94},{"$f":"IF(AND(A192<=$B$20,$S$14),$T$14,0)","v":0},{"$f":"IF(AND(A192<=$B$20,$S$15),$T$15,0)","v":0},{"$f":"IF(AND(A192<=$B$20,$S$16),$T$16,0)","v":0},{"$f":"IF(AND(A192<=$B$20,$S$17),$T$17,0)","v":0},{"$f":"IF(AND(A192<=$B$20,$S$18),$T$18,0)","v":0},0,0,0,0,0,0,0,0,0,0,0,0,0]
[162,{"$f":"OFFSET(InputPriceData!B$10,CalculationsAndCharts!$A193+$A$11,0,1,1)","v":"2012-03-07"},{"$f":"OFFSET(InputPriceData!G$10,CalculationsAndCharts!$A193+$A$11,0,1,1)","v":175083976},{"$f":"OFFSET(InputPriceData!C$10,CalculationsAndCharts!$A193+$A$11,0,1,1)","v":12756.12},{"$f":"OFFSET(InputPriceData!D$10,CalculationsAndCharts!$A193+$A$11,0,1,1)","v":12857.73},{"$f":"OFFSET(InputPriceData!E$10,CalculationsAndCharts!$A193+$A$11,0,1,1)","v":12751.51},{"$f":"OFFSET(InputPriceData!F$10,CalculationsAndCharts!$A193+$A$11,0,1,1)","v":12837.33},{"$f":"IF(AND(A193<=$B$20,$S$14),$T$14,0)","v":0},{"$f":"IF(AND(A193<=$B$20,$S$15),$T$15,0)","v":0},{"$f":"IF(AND(A193<=$B$20,$S$16),$T$16,0)","v":0},{"$f":"IF(AND(A193<=$B$20,$S$17),$T$17,0)","v":0},{"$f":"IF(AND(A193<=$B$20,$S$18),$T$18,0)","v":0},0,0,0,0,0,0,0,0,0,0,0,0,0]
[163,{"$f":"OFFSET(InputPriceData!B$10,CalculationsAndCharts!$A194+$A$11,0,1,1)","v":"2012-03-06"},{"$f":"OFFSET(InputPriceData!G$10,CalculationsAndCharts!$A194+$A$11,0,1,1)","v":142313881},{"$f":"OFFSET(InputPriceData!C$10,CalculationsAndCharts!$A194+$A$11,0,1,1)","v":12958.65},{"$f":"OFFSET(InputPriceData!D$10,CalculationsAndCharts!$A194+$A$11,0,1,1)","v":12958.73},{"$f":"OFFSET(InputPriceData!E$10,CalculationsAndCharts!$A194+$A$11,0,1,1)","v":12734.86},{"$f":"OFFSET(InputPriceData!F$10,CalculationsAndCharts!$A194+$A$11,0,1,1)","v":12759.15},{"$f":"IF(AND(A194<=$B$20,$S$14),$T$14,0)","v":0},{"$f":"IF(AND(A194<=$B$20,$S$15),$T$15,0)","v":0},{"$f":"IF(AND(A194<=$B$20,$S$16),$T$16,0)","v":0},{"$f":"IF(AND(A194<=$B$20,$S$17),$T$17,0)","v":0},{"$f":"IF(AND(A194<=$B$20,$S$18),$T$18,0)","v":0},0,0,0,0,0,0,0,0,0,0,0,0,0]
[164,{"$f":"OFFSET(InputPriceData!B$10,CalculationsAndCharts!$A195+$A$11,0,1,1)","v":"2012-03-05"},{"$f":"OFFSET(InputPriceData!G$10,CalculationsAndCharts!$A195+$A$11,0,1,1)","v":108602838},{"$f":"OFFSET(InputPriceData!C$10,CalculationsAndCharts!$A195+$A$11,0,1,1)","v":12977.34},{"$f":"OFFSET(InputPriceData!D$10,CalculationsAndCharts!$A195+$A$11,0,1,1)","v":12977.34},{"$f":"OFFSET(InputPriceData!E$10,CalculationsAndCharts!$A195+$A$11,0,1,1)","v":12883.91},{"$f":"OFFSET(InputPriceData!F$10,CalculationsAndCharts!$A195+$A$11,0,1,1)","v":12962.81},{"$f":"IF(AND(A195<=$B$20,$S$14),$T$14,0)","v":0},{"$f":"IF(AND(A195<=$B$20,$S$15),$T$15,0)","v":0},{"$f":"IF(AND(A195<=$B$20,$S$16),$T$16,0)","v":0},{"$f":"IF(AND(A195<=$B$20,$S$17),$T$17,0)","v":0},{"$f":"IF(AND(A195<=$B$20,$S$18),$T$18,0)","v":0},0,0,0,0,0,0,0,0,0,0,0,0,0]
[165,{"$f":"OFFSET(InputPriceData!B$10,CalculationsAndCharts!$A196+$A$11,0,1,1)","v":"2012-03-02"},{"$f":"OFFSET(InputPriceData!G$10,CalculationsAndCharts!$A196+$A$11,0,1,1)","v":93839580},{"$f":"OFFSET(InputPriceData!C$10,CalculationsAndCharts!$A196+$A$11,0,1,1)","v":12980.75},{"$f":"OFFSET(InputPriceData!D$10,CalculationsAndCharts!$A196+$A$11,0,1,1)","v":12997.51},{"$f":"OFFSET(InputPriceData!E$10,CalculationsAndCharts!$A196+$A$11,0,1,1)","v":12927.77},{"$f":"OFFSET(InputPriceData!F$10,CalculationsAndCharts!$A196+$A$11,0,1,1)","v":12977.57},{"$f":"IF(AND(A196<=$B$20,$S$14),$T$14,0)","v":0},{"$f":"IF(AND(A196<=$B$20,$S$15),$T$15,0)","v":0},{"$f":"IF(AND(A196<=$B$20,$S$16),$T$16,0)","v":0},{"$f":"IF(AND(A196<=$B$20,$S$17),$T$17,0)","v":0},{"$f":"IF(AND(A196<=$B$20,$S$18),$T$18,0)","v":0},0,0,0,0,0,0,0,0,0,0,0,0,0]
[166,{"$f":"OFFSET(InputPriceData!B$10,CalculationsAndCharts!$A197+$A$11,0,1,1)","v":"2012-03-01"},{"$f":"OFFSET(InputPriceData!G$10,CalculationsAndCharts!$A197+$A$11,0,1,1)","v":139143390},{"$f":"OFFSET(InputPriceData!C$10,CalculationsAndCharts!$A197+$A$11,0,1,1)","v":12952.29},{"$f":"OFFSET(InputPriceData!D$10,CalculationsAndCharts!$A197+$A$11,0,1,1)","v":13032.67},{"$f":"OFFSET(InputPriceData!E$10,CalculationsAndCharts!$A197+$A$11,0,1,1)","v":12943.06},{"$f":"OFFSET(InputPriceData!F$10,CalculationsAndCharts!$A197+$A$11,0,1,1)","v":12980.3},{"$f":"IF(AND(A197<=$B$20,$S$14),$T$14,0)","v":0},{"$f":"IF(AND(A197<=$B$20,$S$15),$T$15,0)","v":0},{"$f":"IF(AND(A197<=$B$20,$S$16),$T$16,0)","v":0},{"$f":"IF(AND(A197<=$B$20,$S$17),$T$17,0)","v":0},{"$f":"IF(AND(A197<=$B$20,$S$18),$T$18,0)","v":0},0,0,0,0,0,0,0,0,0,0,0,0,0]
[167,{"$f":"OFFSET(InputPriceData!B$10,CalculationsAndCharts!$A198+$A$11,0,1,1)","v":"2012-02-29"},{"$f":"OFFSET(InputPriceData!G$10,CalculationsAndCharts!$A198+$A$11,0,1,1)","v":182451078},{"$f":"OFFSET(InputPriceData!C$10,CalculationsAndCharts!$A198+$A$11,0,1,1)","v":13005.42},{"$f":"OFFSET(InputPriceData!D$10,CalculationsAndCharts!$A198+$A$11,0,1,1)","v":13055.75},{"$f":"OFFSET(InputPriceData!E$10,CalculationsAndCharts!$A198+$A$11,0,1,1)","v":12929.66},{"$f":"OFFSET(InputPriceData!F$10,CalculationsAndCharts!$A198+$A$11,0,1,1)","v":12952.07},{"$f":"IF(AND(A198<=$B$20,$S$14),$T$14,0)","v":0},{"$f":"IF(AND(A198<=$B$20,$S$15),$T$15,0)","v":0},{"$f":"IF(AND(A198<=$B$20,$S$16),$T$16,0)","v":0},{"$f":"IF(AND(A198<=$B$20,$S$17),$T$17,0)","v":0},{"$f":"IF(AND(A198<=$B$20,$S$18),$T$18,0)","v":0},0,0,0,0,0,0,0,0,0,0,0,0,0]
[168,{"$f":"OFFSET(InputPriceData!B$10,CalculationsAndCharts!$A199+$A$11,0,1,1)","v":"2012-02-28"},{"$f":"OFFSET(InputPriceData!G$10,CalculationsAndCharts!$A199+$A$11,0,1,1)","v":114253764},{"$f":"OFFSET(InputPriceData!C$10,CalculationsAndCharts!$A199+$A$11,0,1,1)","v":12976.74},{"$f":"OFFSET(InputPriceData!D$10,CalculationsAndCharts!$A199+$A$11,0,1,1)","v":13021.51},{"$f":"OFFSET(InputPriceData!E$10,CalculationsAndCharts!$A199+$A$11,0,1,1)","v":12952.82},{"$f":"OFFSET(InputPriceData!F$10,CalculationsAndCharts!$A199+$A$11,0,1,1)","v":13005.12},{"$f":"IF(AND(A199<=$B$20,$S$14),$T$14,0)","v":0},{"$f":"IF(AND(A199<=$B$20,$S$15),$T$15,0)","v":0},{"$f":"IF(AND(A199<=$B$20,$S$16),$T$16,0)","v":0},{"$f":"IF(AND(A199<=$B$20,$S$17),$T$17,0)","v":0},{"$f":"IF(AND(A199<=$B$20,$S$18),$T$18,0)","v":0},0,0,0,0,0,0,0,0,0,0,0,0,0]
[169,{"$f":"OFFSET(InputPriceData!B$10,CalculationsAndCharts!$A200+$A$11,0,1,1)","v":"2012-02-27"},{"$f":"OFFSET(InputPriceData!G$10,CalculationsAndCharts!$A200+$A$11,0,1,1)","v":143219994},{"$f":"OFFSET(InputPriceData!C$10,CalculationsAndCharts!$A200+$A$11,0,1,1)","v":12981.13},{"$f":"OFFSET(InputPriceData!D$10,CalculationsAndCharts!$A200+$A$11,0,1,1)","v":13027.52},{"$f":"OFFSET(InputPriceData!E$10,CalculationsAndCharts!$A200+$A$11,0,1,1)","v":12882.59},{"$f":"OFFSET(InputPriceData!F$10,CalculationsAndCharts!$A200+$A$11,0,1,1)","v":12981.51},{"$f":"IF(AND(A200<=$B$20,$S$14),$T$14,0)","v":0},{"$f":"IF(AND(A200<=$B$20,$S$15),$T$15,0)","v":0},{"$f":"IF(AND(A200<=$B$20,$S$16),$T$16,0)","v":0},{"$f":"IF(AND(A200<=$B$20,$S$17),$T$17,0)","v":0},{"$f":"IF(AND(A200<=$B$20,$S$18),$T$18,0)","v":0},0,0,0,0,0,0,0,0,0,0,0,0,0]
[170,{"$f":"OFFSET(InputPriceData!B$10,CalculationsAndCharts!$A201+$A$11,0,1,1)","v":"2012-02-24"},{"$f":"OFFSET(InputPriceData!G$10,CalculationsAndCharts!$A201+$A$11,0,1,1)","v":89429935},{"$f":"OFFSET(InputPriceData!C$10,CalculationsAndCharts!$A201+$A$11,0,1,1)","v":12981.2},{"$f":"OFFSET(InputPriceData!D$10,CalculationsAndCharts!$A201+$A$11,0,1,1)","v":13013.82},{"$f":"OFFSET(InputPriceData!E$10,CalculationsAndCharts!$A201+$A$11,0,1,1)","v":12950.59},{"$f":"OFFSET(InputPriceData!F$10,CalculationsAndCharts!$A201+$A$11,0,1,1)","v":12982.95},{"$f":"IF(AND(A201<=$B$20,$S$14),$T$14,0)","v":0},{"$f":"IF(AND(A201<=$B$20,$S$15),$T$15,0)","v":0},{"$f":"IF(AND(A201<=$B$20,$S$16),$T$16,0)","v":0},{"$f":"IF(AND(A201<=$B$20,$S$17),$T$17,0)","v":0},{"$f":"IF(AND(A201<=$B$20,$S$18),$T$18,0)","v":0},0,0,0,0,0,0,0,0,0,0,0,0,0]
[171,{"$f":"OFFSET(InputPriceData!B$10,CalculationsAndCharts!$A202+$A$11,0,1,1)","v":"2012-02-23"},{"$f":"OFFSET(InputPriceData!G$10,CalculationsAndCharts!$A202+$A$11,0,1,1)","v":120437812},{"$f":"OFFSET(InputPriceData!C$10,CalculationsAndCharts!$A202+$A$11,0,1,1)","v":12937.08},{"$f":"OFFSET(InputPriceData!D$10,CalculationsAndCharts!$A202+$A$11,0,1,1)","v":12996.08},{"$f":"OFFSET(InputPriceData!E$10,CalculationsAndCharts!$A202+$A$11,0,1,1)","v":12882.67},{"$f":"OFFSET(InputPriceData!F$10,CalculationsAndCharts!$A202+$A$11,0,1,1)","v":12984.69},{"$f":"IF(AND(A202<=$B$20,$S$14),$T$14,0)","v":0},{"$f":"IF(AND(A202<=$B$20,$S$15),$T$15,0)","v":0},{"$f":"IF(AND(A202<=$B$20,$S$16),$T$16,0)","v":0},{"$f":"IF(AND(A202<=$B$20,$S$17),$T$17,0)","v":0},{"$f":"IF(AND(A202<=$B$20,$S$18),$T$18,0)","v":0},0,0,0,0,0,0,0,0,0,0,0,0,0]
[172,{"$f":"OFFSET(InputPriceData!B$10,CalculationsAndCharts!$A203+$A$11,0,1,1)","v":"2012-02-22"},{"$f":"OFFSET(InputPriceData!G$10,CalculationsAndCharts!$A203+$A$11,0,1,1)","v":124175846},{"$f":"OFFSET(InputPriceData!C$10,CalculationsAndCharts!$A203+$A$11,0,1,1)","v":12966.22},{"$f":"OFFSET(InputPriceData!D$10,CalculationsAndCharts!$A203+$A$11,0,1,1)","v":12977.91},{"$f":"OFFSET(InputPriceData!E$10,CalculationsAndCharts!$A203+$A$11,0,1,1)","v":12914.83},{"$f":"OFFSET(InputPriceData!F$10,CalculationsAndCharts!$A203+$A$11,0,1,1)","v":12938.67},{"$f":"IF(AND(A203<=$B$20,$S$14),$T$14,0)","v":0},{"$f":"IF(AND(A203<=$B$20,$S$15),$T$15,0)","v":0},{"$f":"IF(AND(A203<=$B$20,$S$16),$T$16,0)","v":0},{"$f":"IF(AND(A203<=$B$20,$S$17),$T$17,0)","v":0},{"$f":"IF(AND(A203<=$B$20,$S$18),$T$18,0)","v":0},0,0,0,0,0,0,0,0,0,0,0,0,0]
[173,{"$f":"OFFSET(InputPriceData!B$10,CalculationsAndCharts!$A204+$A$11,0,1,1)","v":"2012-02-21"},{"$f":"OFFSET(InputPriceData!G$10,CalculationsAndCharts!$A204+$A$11,0,1,1)","v":164523370},{"$f":"OFFSET(InputPriceData!C$10,CalculationsAndCharts!$A204+$A$11,0,1,1)","v":12949.34},{"$f":"OFFSET(InputPriceData!D$10,CalculationsAndCharts!$A204+$A$11,0,1,1)","v":13005.04},{"$f":"OFFSET(InputPriceData!E$10,CalculationsAndCharts!$A204+$A$11,0,1,1)","v":12926.11},{"$f":"OFFSET(InputPriceData!F$10,CalculationsAndCharts!$A204+$A$11,0,1,1)","v":12965.69},{"$f":"IF(AND(A204<=$B$20,$S$14),$T$14,0)","v":0},{"$f":"IF(AND(A204<=$B$20,$S$15),$T$15,0)","v":0},{"$f":"IF(AND(A204<=$B$20,$S$16),$T$16,0)","v":0},{"$f":"IF(AND(A204<=$B$20,$S$17),$T$17,0)","v":0},{"$f":"IF(AND(A204<=$B$20,$S$18),$T$18,0)","v":0},0,0,0,0,0,0,0,0,0,0,0,0,0]
[174,{"$f":"OFFSET(InputPriceData!B$10,CalculationsAndCharts!$A205+$A$11,0,1,1)","v":"2012-02-17"},{"$f":"OFFSET(InputPriceData!G$10,CalculationsAndCharts!$A205+$A$11,0,1,1)","v":234593975},{"$f":"OFFSET(InputPriceData!C$10,CalculationsAndCharts!$A205+$A$11,0,1,1)","v":12903.33},{"$f":"OFFSET(InputPriceData!D$10,CalculationsAndCharts!$A205+$A$11,0,1,1)","v":12967.92},{"$f":"OFFSET(InputPriceData!E$10,CalculationsAndCharts!$A205+$A$11,0,1,1)","v":12903.25},{"$f":"OFFSET(InputPriceData!F$10,CalculationsAndCharts!$A205+$A$11,0,1,1)","v":12949.87},{"$f":"IF(AND(A205<=$B$20,$S$14),$T$14,0)","v":0},{"$f":"IF(AND(A205<=$B$20,$S$15),$T$15,0)","v":0},{"$f":"IF(AND(A205<=$B$20,$S$16),$T$16,0)","v":0},{"$f":"IF(AND(A205<=$B$20,$S$17),$T$17,0)","v":0},{"$f":"IF(AND(A205<=$B$20,$S$18),$T$18,0)","v":0},0,0,0,0,0,0,0,0,0,0,0,0,0]
[175,{"$f":"OFFSET(InputPriceData!B$10,CalculationsAndCharts!$A206+$A$11,0,1,1)","v":"2012-02-16"},{"$f":"OFFSET(InputPriceData!G$10,CalculationsAndCharts!$A206+$A$11,0,1,1)","v":134408951},{"$f":"OFFSET(InputPriceData!C$10,CalculationsAndCharts!$A206+$A$11,0,1,1)","v":12779.81},{"$f":"OFFSET(InputPriceData!D$10,CalculationsAndCharts!$A206+$A$11,0,1,1)","v":12914},{"$f":"OFFSET(InputPriceData!E$10,CalculationsAndCharts!$A206+$A$11,0,1,1)","v":12779.58},{"$f":"OFFSET(InputPriceData!F$10,CalculationsAndCharts!$A206+$A$11,0,1,1)","v":12904.08},{"$f":"IF(AND(A206<=$B$20,$S$14),$T$14,0)","v":0},{"$f":"IF(AND(A206<=$B$20,$S$15),$T$15,0)","v":0},{"$f":"IF(AND(A206<=$B$20,$S$16),$T$16,0)","v":0},{"$f":"IF(AND(A206<=$B$20,$S$17),$T$17,0)","v":0},{"$f":"IF(AND(A206<=$B$20,$S$18),$T$18,0)","v":0},0,0,0,0,0,0,0,0,0,0,0,0,0]
[176,{"$f":"OFFSET(InputPriceData!B$10,CalculationsAndCharts!$A207+$A$11,0,1,1)","v":"2012-02-15"},{"$f":"OFFSET(InputPriceData!G$10,CalculationsAndCharts!$A207+$A$11,0,1,1)","v":127540570},{"$f":"OFFSET(InputPriceData!C$10,CalculationsAndCharts!$A207+$A$11,0,1,1)","v":12864.65},{"$f":"OFFSET(InputPriceData!D$10,CalculationsAndCharts!$A207+$A$11,0,1,1)","v":12899.47},{"$f":"OFFSET(InputPriceData!E$10,CalculationsAndCharts!$A207+$A$11,0,1,1)","v":12753.62},{"$f":"OFFSET(InputPriceData!F$10,CalculationsAndCharts!$A207+$A$11,0,1,1)","v":12780.95},{"$f":"IF(AND(A207<=$B$20,$S$14),$T$14,0)","v":0},{"$f":"IF(AND(A207<=$B$20,$S$15),$T$15,0)","v":0},{"$f":"IF(AND(A207<=$B$20,$S$16),$T$16,0)","v":0},{"$f":"IF(AND(A207<=$B$20,$S$17),$T$17,0)","v":0},{"$f":"IF(AND(A207<=$B$20,$S$18),$T$18,0)","v":0},0,0,0,0,0,0,0,0,0,0,0,0,0]
[177,{"$f":"OFFSET(InputPriceData!B$10,CalculationsAndCharts!$A208+$A$11,0,1,1)","v":"2012-02-14"},{"$f":"OFFSET(InputPriceData!G$10,CalculationsAndCharts!$A208+$A$11,0,1,1)","v":119201716},{"$f":"OFFSET(InputPriceData!C$10,CalculationsAndCharts!$A208+$A$11,0,1,1)","v":12871.77},{"$f":"OFFSET(InputPriceData!D$10,CalculationsAndCharts!$A208+$A$11,0,1,1)","v":12878.88},{"$f":"OFFSET(InputPriceData!E$10,CalculationsAndCharts!$A208+$A$11,0,1,1)","v":12786.93},{"$f":"OFFSET(InputPriceData!F$10,CalculationsAndCharts!$A208+$A$11,0,1,1)","v":12878.28},{"$f":"IF(AND(A208<=$B$20,$S$14),$T$14,0)","v":0},{"$f":"IF(AND(A208<=$B$20,$S$15),$T$15,0)","v":0},{"$f":"IF(AND(A208<=$B$20,$S$16),$T$16,0)","v":0},{"$f":"IF(AND(A208<=$B$20,$S$17),$T$17,0)","v":0},{"$f":"IF(AND(A208<=$B$20,$S$18),$T$18,0)","v":0},0,0,0,0,0,0,0,0,0,0,0,0,0]
[178,{"$f":"OFFSET(InputPriceData!B$10,CalculationsAndCharts!$A209+$A$11,0,1,1)","v":"2012-02-13"},{"$f":"OFFSET(InputPriceData!G$10,CalculationsAndCharts!$A209+$A$11,0,1,1)","v":111737013},{"$f":"OFFSET(InputPriceData!C$10,CalculationsAndCharts!$A209+$A$11,0,1,1)","v":12799.11},{"$f":"OFFSET(InputPriceData!D$10,CalculationsAndCharts!$A209+$A$11,0,1,1)","v":12887.93},{"$f":"OFFSET(InputPriceData!E$10,CalculationsAndCharts!$A209+$A$11,0,1,1)","v":12799.11},{"$f":"OFFSET(InputPriceData!F$10,CalculationsAndCharts!$A209+$A$11,0,1,1)","v":12874.04},{"$f":"IF(AND(A209<=$B$20,$S$14),$T$14,0)","v":0},{"$f":"IF(AND(A209<=$B$20,$S$15),$T$15,0)","v":0},{"$f":"IF(AND(A209<=$B$20,$S$16),$T$16,0)","v":0},{"$f":"IF(AND(A209<=$B$20,$S$17),$T$17,0)","v":0},{"$f":"IF(AND(A209<=$B$20,$S$18),$T$18,0)","v":0},0,0,0,0,0,0,0,0,0,0,0,0,0]
[179,{"$f":"OFFSET(InputPriceData!B$10,CalculationsAndCharts!$A210+$A$11,0,1,1)","v":"2012-02-10"},{"$f":"OFFSET(InputPriceData!G$10,CalculationsAndCharts!$A210+$A$11,0,1,1)","v":123580632},{"$f":"OFFSET(InputPriceData!C$10,CalculationsAndCharts!$A210+$A$11,0,1,1)","v":12889.55},{"$f":"OFFSET(InputPriceData!D$10,CalculationsAndCharts!$A210+$A$11,0,1,1)","v":12889.63},{"$f":"OFFSET(InputPriceData!E$10,CalculationsAndCharts!$A210+$A$11,0,1,1)","v":12743.56},{"$f":"OFFSET(InputPriceData!F$10,CalculationsAndCharts!$A210+$A$11,0,1,1)","v":12801.23},{"$f":"IF(AND(A210<=$B$20,$S$14),$T$14,0)","v":0},{"$f":"IF(AND(A210<=$B$20,$S$15),$T$15,0)","v":0},{"$f":"IF(AND(A210<=$B$20,$S$16),$T$16,0)","v":0},{"$f":"IF(AND(A210<=$B$20,$S$17),$T$17,0)","v":0},{"$f":"IF(AND(A210<=$B$20,$S$18),$T$18,0)","v":0},0,0,0,0,0,0,0,0,0,0,0,0,0]
[180,{"$f":"OFFSET(InputPriceData!B$10,CalculationsAndCharts!$A211+$A$11,0,1,1)","v":"2012-02-09"},{"$f":"OFFSET(InputPriceData!G$10,CalculationsAndCharts!$A211+$A$11,0,1,1)","v":157048359},{"$f":"OFFSET(InputPriceData!C$10,CalculationsAndCharts!$A211+$A$11,0,1,1)","v":12884.41},{"$f":"OFFSET(InputPriceData!D$10,CalculationsAndCharts!$A211+$A$11,0,1,1)","v":12924.71},{"$f":"OFFSET(InputPriceData!E$10,CalculationsAndCharts!$A211+$A$11,0,1,1)","v":12846.41},{"$f":"OFFSET(InputPriceData!F$10,CalculationsAndCharts!$A211+$A$11,0,1,1)","v":12890.46},{"$f":"IF(AND(A211<=$B$20,$S$14),$T$14,0)","v":0},{"$f":"IF(AND(A211<=$B$20,$S$15),$T$15,0)","v":0},{"$f":"IF(AND(A211<=$B$20,$S$16),$T$16,0)","v":0},{"$f":"IF(AND(A211<=$B$20,$S$17),$T$17,0)","v":0},{"$f":"IF(AND(A211<=$B$20,$S$18),$T$18,0)","v":0},0,0,0,0,0,0,0,0,0,0,0,0,0]
[181,{"$f":"OFFSET(InputPriceData!B$10,CalculationsAndCharts!$A212+$A$11,0,1,1)","v":"2012-02-08"},{"$f":"OFFSET(InputPriceData!G$10,CalculationsAndCharts!$A212+$A$11,0,1,1)","v":134086790},{"$f":"OFFSET(InputPriceData!C$10,CalculationsAndCharts!$A212+$A$11,0,1,1)","v":12865.79},{"$f":"OFFSET(InputPriceData!D$10,CalculationsAndCharts!$A212+$A$11,0,1,1)","v":12893.64},{"$f":"OFFSET(InputPriceData!E$10,CalculationsAndCharts!$A212+$A$11,0,1,1)","v":12817.69},{"$f":"OFFSET(InputPriceData!F$10,CalculationsAndCharts!$A212+$A$11,0,1,1)","v":12883.95},{"$f":"IF(AND(A212<=$B$20,$S$14),$T$14,0)","v":0},{"$f":"IF(AND(A212<=$B$20,$S$15),$T$15,0)","v":0},{"$f":"IF(AND(A212<=$B$20,$S$16),$T$16,0)","v":0},{"$f":"IF(AND(A212<=$B$20,$S$17),$T$17,0)","v":0},{"$f":"IF(AND(A212<=$B$20,$S$18),$T$18,0)","v":0},0,0,0,0,0,0,0,0,0,0,0,0,0]
[182,{"$f":"OFFSET(InputPriceData!B$10,CalculationsAndCharts!$A213+$A$11,0,1,1)","v":"2012-02-07"},{"$f":"OFFSET(InputPriceData!G$10,CalculationsAndCharts!$A213+$A$11,0,1,1)","v":116150237},{"$f":"OFFSET(InputPriceData!C$10,CalculationsAndCharts!$A213+$A$11,0,1,1)","v":12844.37},{"$f":"OFFSET(InputPriceData!D$10,CalculationsAndCharts!$A213+$A$11,0,1,1)","v":12903.71},{"$f":"OFFSET(InputPriceData!E$10,CalculationsAndCharts!$A213+$A$11,0,1,1)","v":12782.57},{"$f":"OFFSET(InputPriceData!F$10,CalculationsAndCharts!$A213+$A$11,0,1,1)","v":12878.2},{"$f":"IF(AND(A213<=$B$20,$S$14),$T$14,0)","v":0},{"$f":"IF(AND(A213<=$B$20,$S$15),$T$15,0)","v":0},{"$f":"IF(AND(A213<=$B$20,$S$16),$T$16,0)","v":0},{"$f":"IF(AND(A213<=$B$20,$S$17),$T$17,0)","v":0},{"$f":"IF(AND(A213<=$B$20,$S$18),$T$18,0)","v":0},0,0,0,0,0,0,0,0,0,0,0,0,0]
[183,{"$f":"OFFSET(InputPriceData!B$10,CalculationsAndCharts!$A214+$A$11,0,1,1)","v":"2012-02-06"},{"$f":"OFFSET(InputPriceData!G$10,CalculationsAndCharts!$A214+$A$11,0,1,1)","v":107322510},{"$f":"OFFSET(InputPriceData!C$10,CalculationsAndCharts!$A214+$A$11,0,1,1)","v":12860.72},{"$f":"OFFSET(InputPriceData!D$10,CalculationsAndCharts!$A214+$A$11,0,1,1)","v":12860.79},{"$f":"OFFSET(InputPriceData!E$10,CalculationsAndCharts!$A214+$A$11,0,1,1)","v":12793.43},{"$f":"OFFSET(InputPriceData!F$10,CalculationsAndCharts!$A214+$A$11,0,1,1)","v":12845.13},{"$f":"IF(AND(A214<=$B$20,$S$14),$T$14,0)","v":0},{"$f":"IF(AND(A214<=$B$20,$S$15),$T$15,0)","v":0},{"$f":"IF(AND(A214<=$B$20,$S$16),$T$16,0)","v":0},{"$f":"IF(AND(A214<=$B$20,$S$17),$T$17,0)","v":0},{"$f":"IF(AND(A214<=$B$20,$S$18),$T$18,0)","v":0},0,0,0,0,0,0,0,0,0,0,0,0,0]
[184,{"$f":"OFFSET(InputPriceData!B$10,CalculationsAndCharts!$A215+$A$11,0,1,1)","v":"2012-02-03"},{"$f":"OFFSET(InputPriceData!G$10,CalculationsAndCharts!$A215+$A$11,0,1,1)","v":142815756},{"$f":"OFFSET(InputPriceData!C$10,CalculationsAndCharts!$A215+$A$11,0,1,1)","v":12705.04},{"$f":"OFFSET(InputPriceData!D$10,CalculationsAndCharts!$A215+$A$11,0,1,1)","v":12869.95},{"$f":"OFFSET(InputPriceData!E$10,CalculationsAndCharts!$A215+$A$11,0,1,1)","v":12704.96},{"$f":"OFFSET(InputPriceData!F$10,CalculationsAndCharts!$A215+$A$11,0,1,1)","v":12862.23},{"$f":"IF(AND(A215<=$B$20,$S$14),$T$14,0)","v":0},{"$f":"IF(AND(A215<=$B$20,$S$15),$T$15,0)","v":0},{"$f":"IF(AND(A215<=$B$20,$S$16),$T$16,0)","v":0},{"$f":"IF(AND(A215<=$B$20,$S$17),$T$17,0)","v":0},{"$f":"IF(AND(A215<=$B$20,$S$18),$T$18,0)","v":0},0,0,0,0,0,0,0,0,0,0,0,0,0]
[185,{"$f":"OFFSET(InputPriceData!B$10,CalculationsAndCharts!$A216+$A$11,0,1,1)","v":"2012-02-02"},{"$f":"OFFSET(InputPriceData!G$10,CalculationsAndCharts!$A216+$A$11,0,1,1)","v":114355339},{"$f":"OFFSET(InputPriceData!C$10,CalculationsAndCharts!$A216+$A$11,0,1,1)","v":12716.54},{"$f":"OFFSET(InputPriceData!D$10,CalculationsAndCharts!$A216+$A$11,0,1,1)","v":12741.89},{"$f":"OFFSET(InputPriceData!E$10,CalculationsAndCharts!$A216+$A$11,0,1,1)","v":12676.05},{"$f":"OFFSET(InputPriceData!F$10,CalculationsAndCharts!$A216+$A$11,0,1,1)","v":12705.41},{"$f":"IF(AND(A216<=$B$20,$S$14),$T$14,0)","v":0},{"$f":"IF(AND(A216<=$B$20,$S$15),$T$15,0)","v":0},{"$f":"IF(AND(A216<=$B$20,$S$16),$T$16,0)","v":0},{"$f":"IF(AND(A216<=$B$20,$S$17),$T$17,0)","v":0},{"$f":"IF(AND(A216<=$B$20,$S$18),$T$18,0)","v":0},0,0,0,0,0,0,0,0,0,0,0,0,0]
[186,{"$f":"OFFSET(InputPriceData!B$10,CalculationsAndCharts!$A217+$A$11,0,1,1)","v":"2012-02-01"},{"$f":"OFFSET(InputPriceData!G$10,CalculationsAndCharts!$A217+$A$11,0,1,1)","v":143468899},{"$f":"OFFSET(InputPriceData!C$10,CalculationsAndCharts!$A217+$A$11,0,1,1)","v":12632.76},{"$f":"OFFSET(InputPriceData!D$10,CalculationsAndCharts!$A217+$A$11,0,1,1)","v":12784.62},{"$f":"OFFSET(InputPriceData!E$10,CalculationsAndCharts!$A217+$A$11,0,1,1)","v":12632.76},{"$f":"OFFSET(InputPriceData!F$10,CalculationsAndCharts!$A217+$A$11,0,1,1)","v":12716.46},{"$f":"IF(AND(A217<=$B$20,$S$14),$T$14,0)","v":0},{"$f":"IF(AND(A217<=$B$20,$S$15),$T$15,0)","v":0},{"$f":"IF(AND(A217<=$B$20,$S$16),$T$16,0)","v":0},{"$f":"IF(AND(A217<=$B$20,$S$17),$T$17,0)","v":0},{"$f":"IF(AND(A217<=$B$20,$S$18),$T$18,0)","v":0},0,0,0,0,0,0,0,0,0,0,0,0,0]
[187,{"$f":"OFFSET(InputPriceData!B$10,CalculationsAndCharts!$A218+$A$11,0,1,1)","v":"2012-01-31"},{"$f":"OFFSET(InputPriceData!G$10,CalculationsAndCharts!$A218+$A$11,0,1,1)","v":168043777},{"$f":"OFFSET(InputPriceData!C$10,CalculationsAndCharts!$A218+$A$11,0,1,1)","v":12654.78},{"$f":"OFFSET(InputPriceData!D$10,CalculationsAndCharts!$A218+$A$11,0,1,1)","v":12720.1},{"$f":"OFFSET(InputPriceData!E$10,CalculationsAndCharts!$A218+$A$11,0,1,1)","v":12567.33},{"$f":"OFFSET(InputPriceData!F$10,CalculationsAndCharts!$A218+$A$11,0,1,1)","v":12632.91},{"$f":"IF(AND(A218<=$B$20,$S$14),$T$14,0)","v":0},{"$f":"IF(AND(A218<=$B$20,$S$15),$T$15,0)","v":0},{"$f":"IF(AND(A218<=$B$20,$S$16),$T$16,0)","v":0},{"$f":"IF(AND(A218<=$B$20,$S$17),$T$17,0)","v":0},{"$f":"IF(AND(A218<=$B$20,$S$18),$T$18,0)","v":0},0,0,0,0,0,0,0,0,0,0,0,0,0]
[188,{"$f":"OFFSET(InputPriceData!B$10,CalculationsAndCharts!$A219+$A$11,0,1,1)","v":"2012-01-30"},{"$f":"OFFSET(InputPriceData!G$10,CalculationsAndCharts!$A219+$A$11,0,1,1)","v":130316180},{"$f":"OFFSET(InputPriceData!C$10,CalculationsAndCharts!$A219+$A$11,0,1,1)","v":12659.17},{"$f":"OFFSET(InputPriceData!D$10,CalculationsAndCharts!$A219+$A$11,0,1,1)","v":12659.32},{"$f":"OFFSET(InputPriceData!E$10,CalculationsAndCharts!$A219+$A$11,0,1,1)","v":12529.41},{"$f":"OFFSET(InputPriceData!F$10,CalculationsAndCharts!$A219+$A$11,0,1,1)","v":12653.72},{"$f":"IF(AND(A219<=$B$20,$S$14),$T$14,0)","v":0},{"$f":"IF(AND(A219<=$B$20,$S$15),$T$15,0)","v":0},{"$f":"IF(AND(A219<=$B$20,$S$16),$T$16,0)","v":0},{"$f":"IF(AND(A219<=$B$20,$S$17),$T$17,0)","v":0},{"$f":"IF(AND(A219<=$B$20,$S$18),$T$18,0)","v":0},0,0,0,0,0,0,0,0,0,0,0,0,0]
[189,{"$f":"OFFSET(InputPriceData!B$10,CalculationsAndCharts!$A220+$A$11,0,1,1)","v":"2012-01-27"},{"$f":"OFFSET(InputPriceData!G$10,CalculationsAndCharts!$A220+$A$11,0,1,1)","v":164396673},{"$f":"OFFSET(InputPriceData!C$10,CalculationsAndCharts!$A220+$A$11,0,1,1)","v":12733.95},{"$f":"OFFSET(InputPriceData!D$10,CalculationsAndCharts!$A220+$A$11,0,1,1)","v":12733.95},{"$f":"OFFSET(InputPriceData!E$10,CalculationsAndCharts!$A220+$A$11,0,1,1)","v":12630.72},{"$f":"OFFSET(InputPriceData!F$10,CalculationsAndCharts!$A220+$A$11,0,1,1)","v":12660.46},{"$f":"IF(AND(A220<=$B$20,$S$14),$T$14,0)","v":0},{"$f":"IF(AND(A220<=$B$20,$S$15),$T$15,0)","v":0},{"$f":"IF(AND(A220<=$B$20,$S$16),$T$16,0)","v":0},{"$f":"IF(AND(A220<=$B$20,$S$17),$T$17,0)","v":0},{"$f":"IF(AND(A220<=$B$20,$S$18),$T$18,0)","v":0},0,0,0,0,0,0,0,0,0,0,0,0,0]
[190,{"$f":"OFFSET(InputPriceData!B$10,CalculationsAndCharts!$A221+$A$11,0,1,1)","v":"2012-01-26"},{"$f":"OFFSET(InputPriceData!G$10,CalculationsAndCharts!$A221+$A$11,0,1,1)","v":130775455},{"$f":"OFFSET(InputPriceData!C$10,CalculationsAndCharts!$A221+$A$11,0,1,1)","v":12757.33},{"$f":"OFFSET(InputPriceData!D$10,CalculationsAndCharts!$A221+$A$11,0,1,1)","v":12841.95},{"$f":"OFFSET(InputPriceData!E$10,CalculationsAndCharts!$A221+$A$11,0,1,1)","v":12695.16},{"$f":"OFFSET(InputPriceData!F$10,CalculationsAndCharts!$A221+$A$11,0,1,1)","v":12734.63},{"$f":"IF(AND(A221<=$B$20,$S$14),$T$14,0)","v":0},{"$f":"IF(AND(A221<=$B$20,$S$15),$T$15,0)","v":0},{"$f":"IF(AND(A221<=$B$20,$S$16),$T$16,0)","v":0},{"$f":"IF(AND(A221<=$B$20,$S$17),$T$17,0)","v":0},{"$f":"IF(AND(A221<=$B$20,$S$18),$T$18,0)","v":0},0,0,0,0,0,0,0,0,0,0,0,0,0]
[191,{"$f":"OFFSET(InputPriceData!B$10,CalculationsAndCharts!$A222+$A$11,0,1,1)","v":"2012-01-25"},{"$f":"OFFSET(InputPriceData!G$10,CalculationsAndCharts!$A222+$A$11,0,1,1)","v":137541867},{"$f":"OFFSET(InputPriceData!C$10,CalculationsAndCharts!$A222+$A$11,0,1,1)","v":12673.63},{"$f":"OFFSET(InputPriceData!D$10,CalculationsAndCharts!$A222+$A$11,0,1,1)","v":12778.26},{"$f":"OFFSET(InputPriceData!E$10,CalculationsAndCharts!$A222+$A$11,0,1,1)","v":12580.12},{"$f":"OFFSET(InputPriceData!F$10,CalculationsAndCharts!$A222+$A$11,0,1,1)","v":12756.96},{"$f":"IF(AND(A222<=$B$20,$S$14),$T$14,0)","v":0},{"$f":"IF(AND(A222<=$B$20,$S$15),$T$15,0)","v":0},{"$f":"IF(AND(A222<=$B$20,$S$16),$T$16,0)","v":0},{"$f":"IF(AND(A222<=$B$20,$S$17),$T$17,0)","v":0},{"$f":"IF(AND(A222<=$B$20,$S$18),$T$18,0)","v":0},0,0,0,0,0,0,0,0,0,0,0,0,0]
[192,{"$f":"OFFSET(InputPriceData!B$10,CalculationsAndCharts!$A223+$A$11,0,1,1)","v":"2012-01-24"},{"$f":"OFFSET(InputPriceData!G$10,CalculationsAndCharts!$A223+$A$11,0,1,1)","v":125418397},{"$f":"OFFSET(InputPriceData!C$10,CalculationsAndCharts!$A223+$A$11,0,1,1)","v":12708.37},{"$f":"OFFSET(InputPriceData!D$10,CalculationsAndCharts!$A223+$A$11,0,1,1)","v":12708.52},{"$f":"OFFSET(InputPriceData!E$10,CalculationsAndCharts!$A223+$A$11,0,1,1)","v":12613.54},{"$f":"OFFSET(InputPriceData!F$10,CalculationsAndCharts!$A223+$A$11,0,1,1)","v":12675.75},{"$f":"IF(AND(A223<=$B$20,$S$14),$T$14,0)","v":0},{"$f":"IF(AND(A223<=$B$20,$S$15),$T$15,0)","v":0},{"$f":"IF(AND(A223<=$B$20,$S$16),$T$16,0)","v":0},{"$f":"IF(AND(A223<=$B$20,$S$17),$T$17,0)","v":0},{"$f":"IF(AND(A223<=$B$20,$S$18),$T$18,0)","v":0},0,0,0,0,0,0,0,0,0,0,0,0,0]
[193,{"$f":"OFFSET(InputPriceData!B$10,CalculationsAndCharts!$A224+$A$11,0,1,1)","v":"2012-01-23"},{"$f":"OFFSET(InputPriceData!G$10,CalculationsAndCharts!$A224+$A$11,0,1,1)","v":149541428},{"$f":"OFFSET(InputPriceData!C$10,CalculationsAndCharts!$A224+$A$11,0,1,1)","v":12720.25},{"$f":"OFFSET(InputPriceData!D$10,CalculationsAndCharts!$A224+$A$11,0,1,1)","v":12764.49},{"$f":"OFFSET(InputPriceData!E$10,CalculationsAndCharts!$A224+$A$11,0,1,1)","v":12665.83},{"$f":"OFFSET(InputPriceData!F$10,CalculationsAndCharts!$A224+$A$11,0,1,1)","v":12708.82},{"$f":"IF(AND(A224<=$B$20,$S$14),$T$14,0)","v":0},{"$f":"IF(AND(A224<=$B$20,$S$15),$T$15,0)","v":0},{"$f":"IF(AND(A224<=$B$20,$S$16),$T$16,0)","v":0},{"$f":"IF(AND(A224<=$B$20,$S$17),$T$17,0)","v":0},{"$f":"IF(AND(A224<=$B$20,$S$18),$T$18,0)","v":0},0,0,0,0,0,0,{"$f":"IF($A224=$B$28,S$31,0)","v":0},0,0,0,0,0,0]
[194,{"$f":"OFFSET(InputPriceData!B$10,CalculationsAndCharts!$A225+$A$11,0,1,1)","v":"2012-01-20"},{"$f":"OFFSET(InputPriceData!G$10,CalculationsAndCharts!$A225+$A$11,0,1,1)","v":255034666},{"$f":"OFFSET(InputPriceData!C$10,CalculationsAndCharts!$A225+$A$11,0,1,1)","v":12623.83},{"$f":"OFFSET(InputPriceData!D$10,CalculationsAndCharts!$A225+$A$11,0,1,1)","v":12720.48},{"$f":"OFFSET(InputPriceData!E$10,CalculationsAndCharts!$A225+$A$11,0,1,1)","v":12620.76},{"$f":"OFFSET(InputPriceData!F$10,CalculationsAndCharts!$A225+$A$11,0,1,1)","v":12720.48},{"$f":"IF(AND(A225<=$B$20,$S$14),$T$14,0)","v":0},{"$f":"IF(AND(A225<=$B$20,$S$15),$T$15,0)","v":0},{"$f":"IF(AND(A225<=$B$20,$S$16),$T$16,0)","v":0},{"$f":"IF(AND(A225<=$B$20,$S$17),$T$17,0)","v":0},{"$f":"IF(AND(A225<=$B$20,$S$18),$T$18,0)","v":0},{"$f":"IF(AND(A225<=$B$20,$S$8),$T$8,0)","v":0},{"$f":"IF(AND(A225<=$B$20,$S$7),$T$7,0)","v":0},{"$f":"IF(AND(A225<=$B$20,$S$6),$T$6,0)","v":0},{"$f":"IF(AND(A225<=$B$20,$S$5),$T$5,0)","v":0},{"$f":"IF(AND(A225<=$B$20,$S$4),$T$4,0)","v":0},{"$f":"IF(AND(A225>$B$20,A225<=($B$20+$C$18)),$T$10-Y225,0)","v":0},0,{"$f":"IF($A225=$B$27,S$31,0)","v":0},{"$f":"IF(AND(A225<=$B$20,A225>($B$20-$C$18)),$F$11,0)","v":0},{"$f":"IF(AND($S$10,A225>$B$20,A225<=($B$20+$C$18)),$T$10,0)","v":0},{"$f":"IF(AND($S$11,A225>$B$20,A225<=($B$20+$C$18)),$T$11,0)","v":0},{"$f":"IF(AND($S$12,A225>$B$20,A225<=($B$20+$C$18)),$T$12,0)","v":0},{"$f":"IF(AND(A225>$B$20,A225<=($B$20+$C$18)),$T$12,0)","v":0}]
[195,{"$f":"OFFSET(InputPriceData!B$10,CalculationsAndCharts!$A226+$A$11,0,1,1)","v":"2012-01-19"},{"$f":"OFFSET(InputPriceData!G$10,CalculationsAndCharts!$A226+$A$11,0,1,1)","v":146005769},{"$f":"OFFSET(InputPriceData!C$10,CalculationsAndCharts!$A226+$A$11,0,1,1)","v":12578.19},{"$f":"OFFSET(InputPriceData!D$10,CalculationsAndCharts!$A226+$A$11,0,1,1)","v":12625.8},{"$f":"OFFSET(InputPriceData!E$10,CalculationsAndCharts!$A226+$A$11,0,1,1)","v":12563.58},{"$f":"OFFSET(InputPriceData!F$10,CalculationsAndCharts!$A226+$A$11,0,1,1)","v":12623.98},{"$f":"IF(AND(A226<=$B$20,$S$14),$T$14,0)","v":0},{"$f":"IF(AND(A226<=$B$20,$S$15),$T$15,0)","v":0},{"$f":"IF(AND(A226<=$B$20,$S$16),$T$16,0)","v":0},{"$f":"IF(AND(A226<=$B$20,$S$17),$T$17,0)","v":0},{"$f":"IF(AND(A226<=$B$20,$S$18),$T$18,0)","v":0},0,0,0,0,0,0,0,0,0,0,0,0,0]
[196,{"$f":"OFFSET(InputPriceData!B$10,CalculationsAndCharts!$A227+$A$11,0,1,1)","v":"2012-01-18"},{"$f":"OFFSET(InputPriceData!G$10,CalculationsAndCharts!$A227+$A$11,0,1,1)","v":154105263},{"$f":"OFFSET(InputPriceData!C$10,CalculationsAndCharts!$A227+$A$11,0,1,1)","v":12474.69},{"$f":"OFFSET(InputPriceData!D$10,CalculationsAndCharts!$A227+$A$11,0,1,1)","v":12582.28},{"$f":"OFFSET(InputPriceData!E$10,CalculationsAndCharts!$A227+$A$11,0,1,1)","v":12453.2},{"$f":"OFFSET(InputPriceData!F$10,CalculationsAndCharts!$A227+$A$11,0,1,1)","v":12578.95},{"$f":"IF(AND(A227<=$B$20,$S$14),$T$14,0)","v":0},{"$f":"IF(AND(A227<=$B$20,$S$15),$T$15,0)","v":0},{"$f":"IF(AND(A227<=$B$20,$S$16),$T$16,0)","v":0},{"$f":"IF(AND(A227<=$B$20,$S$17),$T$17,0)","v":0},{"$f":"IF(AND(A227<=$B$20,$S$18),$T$18,0)","v":0},0,0,0,0,0,0,0,0,0,0,0,0,0]
[197,{"$f":"OFFSET(InputPriceData!B$10,CalculationsAndCharts!$A228+$A$11,0,1,1)","v":"2012-01-17"},{"$f":"OFFSET(InputPriceData!G$10,CalculationsAndCharts!$A228+$A$11,0,1,1)","v":148002753},{"$f":"OFFSET(InputPriceData!C$10,CalculationsAndCharts!$A228+$A$11,0,1,1)","v":12423.12},{"$f":"OFFSET(InputPriceData!D$10,CalculationsAndCharts!$A228+$A$11,0,1,1)","v":12573.65},{"$f":"OFFSET(InputPriceData!E$10,CalculationsAndCharts!$A228+$A$11,0,1,1)","v":12423.12},{"$f":"OFFSET(InputPriceData!F$10,CalculationsAndCharts!$A228+$A$11,0,1,1)","v":12482.07},{"$f":"IF(AND(A228<=$B$20,$S$14),$T$14,0)","v":0},{"$f":"IF(AND(A228<=$B$20,$S$15),$T$15,0)","v":0},{"$f":"IF(AND(A228<=$B$20,$S$16),$T$16,0)","v":0},{"$f":"IF(AND(A228<=$B$20,$S$17),$T$17,0)","v":0},{"$f":"IF(AND(A228<=$B$20,$S$18),$T$18,0)","v":0},0,0,0,0,0,0,0,0,0,0,0,0,0]
[198,{"$f":"OFFSET(InputPriceData!B$10,CalculationsAndCharts!$A229+$A$11,0,1,1)","v":"2012-01-13"},{"$f":"OFFSET(InputPriceData!G$10,CalculationsAndCharts!$A229+$A$11,0,1,1)","v":161376740},{"$f":"OFFSET(InputPriceData!C$10,CalculationsAndCharts!$A229+$A$11,0,1,1)","v":12469.96},{"$f":"OFFSET(InputPriceData!D$10,CalculationsAndCharts!$A229+$A$11,0,1,1)","v":12470.12},{"$f":"OFFSET(InputPriceData!E$10,CalculationsAndCharts!$A229+$A$11,0,1,1)","v":12311.79},{"$f":"OFFSET(InputPriceData!F$10,CalculationsAndCharts!$A229+$A$11,0,1,1)","v":12422.06},{"$f":"IF(AND(A229<=$B$20,$S$14),$T$14,0)","v":0},{"$f":"IF(AND(A229<=$B$20,$S$15),$T$15,0)","v":0},{"$f":"IF(AND(A229<=$B$20,$S$16),$T$16,0)","v":0},{"$f":"IF(AND(A229<=$B$20,$S$17),$T$17,0)","v":0},{"$f":"IF(AND(A229<=$B$20,$S$18),$T$18,0)","v":0},0,0,0,0,0,0,0,0,0,0,0,0,0]
[199,{"$f":"OFFSET(InputPriceData!B$10,CalculationsAndCharts!$A230+$A$11,0,1,1)","v":"2012-01-12"},{"$f":"OFFSET(InputPriceData!G$10,CalculationsAndCharts!$A230+$A$11,0,1,1)","v":128218645},{"$f":"OFFSET(InputPriceData!C$10,CalculationsAndCharts!$A230+$A$11,0,1,1)","v":12449.91},{"$f":"OFFSET(InputPriceData!D$10,CalculationsAndCharts!$A230+$A$11,0,1,1)","v":12483.7},{"$f":"OFFSET(InputPriceData!E$10,CalculationsAndCharts!$A230+$A$11,0,1,1)","v":12385.08},{"$f":"OFFSET(InputPriceData!F$10,CalculationsAndCharts!$A230+$A$11,0,1,1)","v":12471.02},{"$f":"IF(AND(A230<=$B$20,$S$14),$T$14,0)","v":0},{"$f":"IF(AND(A230<=$B$20,$S$15),$T$15,0)","v":0},{"$f":"IF(AND(A230<=$B$20,$S$16),$T$16,0)","v":0},{"$f":"IF(AND(A230<=$B$20,$S$17),$T$17,0)","v":0},{"$f":"IF(AND(A230<=$B$20,$S$18),$T$18,0)","v":0},0,0,0,0,0,0,0,0,0,0,0,0,0]
[200,{"$f":"OFFSET(InputPriceData!B$10,CalculationsAndCharts!$A231+$A$11,0,1,1)","v":"2012-01-11"},{"$f":"OFFSET(InputPriceData!G$10,CalculationsAndCharts!$A231+$A$11,0,1,1)","v":130232978},{"$f":"OFFSET(InputPriceData!C$10,CalculationsAndCharts!$A231+$A$11,0,1,1)","v":12459.52},{"$f":"OFFSET(InputPriceData!D$10,CalculationsAndCharts!$A231+$A$11,0,1,1)","v":12462.58},{"$f":"OFFSET(InputPriceData!E$10,CalculationsAndCharts!$A231+$A$11,0,1,1)","v":12399.01},{"$f":"OFFSET(InputPriceData!F$10,CalculationsAndCharts!$A231+$A$11,0,1,1)","v":12449.45},{"$f":"IF(AND(A231<=$B$20,$S$14),$T$14,0)","v":0},{"$f":"IF(AND(A231<=$B$20,$S$15),$T$15,0)","v":0},{"$f":"IF(AND(A231<=$B$20,$S$16),$T$16,0)","v":0},{"$f":"IF(AND(A231<=$B$20,$S$17),$T$17,0)","v":0},{"$f":"IF(AND(A231<=$B$20,$S$18),$T$18,0)","v":0},0,0,0,0,0,0,0,0,0,0,0,0,0]
[201,{"$f":"OFFSET(InputPriceData!B$10,CalculationsAndCharts!$A232+$A$11,0,1,1)","v":"2012-01-10"},{"$f":"OFFSET(InputPriceData!G$10,CalculationsAndCharts!$A232+$A$11,0,1,1)","v":141004114},{"$f":"OFFSET(InputPriceData!C$10,CalculationsAndCharts!$A232+$A$11,0,1,1)","v":12394.51},{"$f":"OFFSET(InputPriceData!D$10,CalculationsAndCharts!$A232+$A$11,0,1,1)","v":12514.69},{"$f":"OFFSET(InputPriceData!E$10,CalculationsAndCharts!$A232+$A$11,0,1,1)","v":12394.51},{"$f":"OFFSET(InputPriceData!F$10,CalculationsAndCharts!$A232+$A$11,0,1,1)","v":12462.47},{"$f":"IF(AND(A232<=$B$20,$S$14),$T$14,0)","v":0},{"$f":"IF(AND(A232<=$B$20,$S$15),$T$15,0)","v":0},{"$f":"IF(AND(A232<=$B$20,$S$16),$T$16,0)","v":0},{"$f":"IF(AND(A232<=$B$20,$S$17),$T$17,0)","v":0},{"$f":"IF(AND(A232<=$B$20,$S$18),$T$18,0)","v":0},0,0,0,0,0,0,0,0,0,0,0,0,0]
[202,{"$f":"OFFSET(InputPriceData!B$10,CalculationsAndCharts!$A233+$A$11,0,1,1)","v":"2012-01-09"},{"$f":"OFFSET(InputPriceData!G$10,CalculationsAndCharts!$A233+$A$11,0,1,1)","v":122020104},{"$f":"OFFSET(InputPriceData!C$10,CalculationsAndCharts!$A233+$A$11,0,1,1)","v":12359.31},{"$f":"OFFSET(InputPriceData!D$10,CalculationsAndCharts!$A233+$A$11,0,1,1)","v":12409.08},{"$f":"OFFSET(InputPriceData!E$10,CalculationsAndCharts!$A233+$A$11,0,1,1)","v":12333.85},{"$f":"OFFSET(InputPriceData!F$10,CalculationsAndCharts!$A233+$A$11,0,1,1)","v":12392.69},{"$f":"IF(AND(A233<=$B$20,$S$14),$T$14,0)","v":0},{"$f":"IF(AND(A233<=$B$20,$S$15),$T$15,0)","v":0},{"$f":"IF(AND(A233<=$B$20,$S$16),$T$16,0)","v":0},{"$f":"IF(AND(A233<=$B$20,$S$17),$T$17,0)","v":0},{"$f":"IF(AND(A233<=$B$20,$S$18),$T$18,0)","v":0},0,0,0,0,0,0,0,0,0,0,0,0,0]
[203,{"$f":"OFFSET(InputPriceData!B$10,CalculationsAndCharts!$A234+$A$11,0,1,1)","v":"2012-01-06"},{"$f":"OFFSET(InputPriceData!G$10,CalculationsAndCharts!$A234+$A$11,0,1,1)","v":131073104},{"$f":"OFFSET(InputPriceData!C$10,CalculationsAndCharts!$A234+$A$11,0,1,1)","v":12407.45},{"$f":"OFFSET(InputPriceData!D$10,CalculationsAndCharts!$A234+$A$11,0,1,1)","v":12415.24},{"$f":"OFFSET(InputPriceData!E$10,CalculationsAndCharts!$A234+$A$11,0,1,1)","v":12332.41},{"$f":"OFFSET(InputPriceData!F$10,CalculationsAndCharts!$A234+$A$11,0,1,1)","v":12359.92},{"$f":"IF(AND(A234<=$B$20,$S$14),$T$14,0)","v":0},{"$f":"IF(AND(A234<=$B$20,$S$15),$T$15,0)","v":0},{"$f":"IF(AND(A234<=$B$20,$S$16),$T$16,0)","v":0},{"$f":"IF(AND(A234<=$B$20,$S$17),$T$17,0)","v":0},{"$f":"IF(AND(A234<=$B$20,$S$18),$T$18,0)","v":0},0,0,0,0,0,0,0,0,0,0,0,0,0]
[204,{"$f":"OFFSET(InputPriceData!B$10,CalculationsAndCharts!$A235+$A$11,0,1,1)","v":"2012-01-05"},{"$f":"OFFSET(InputPriceData!G$10,CalculationsAndCharts!$A235+$A$11,0,1,1)","v":158405863},{"$f":"OFFSET(InputPriceData!C$10,CalculationsAndCharts!$A235+$A$11,0,1,1)","v":12418.42},{"$f":"OFFSET(InputPriceData!D$10,CalculationsAndCharts!$A235+$A$11,0,1,1)","v":12435.98},{"$f":"OFFSET(InputPriceData!E$10,CalculationsAndCharts!$A235+$A$11,0,1,1)","v":12283.9},{"$f":"OFFSET(InputPriceData!F$10,CalculationsAndCharts!$A235+$A$11,0,1,1)","v":12415.7},{"$f":"IF(AND(A235<=$B$20,$S$14),$T$14,0)","v":0},{"$f":"IF(AND(A235<=$B$20,$S$15),$T$15,0)","v":0},{"$f":"IF(AND(A235<=$B$20,$S$16),$T$16,0)","v":0},{"$f":"IF(AND(A235<=$B$20,$S$17),$T$17,0)","v":0},{"$f":"IF(AND(A235<=$B$20,$S$18),$T$18,0)","v":0},0,0,0,0,0,0,0,0,0,0,0,0,0]
[205,{"$f":"OFFSET(InputPriceData!B$10,CalculationsAndCharts!$A236+$A$11,0,1,1)","v":"2012-01-04"},{"$f":"OFFSET(InputPriceData!G$10,CalculationsAndCharts!$A236+$A$11,0,1,1)","v":145115680},{"$f":"OFFSET(InputPriceData!C$10,CalculationsAndCharts!$A236+$A$11,0,1,1)","v":12392.46},{"$f":"OFFSET(InputPriceData!D$10,CalculationsAndCharts!$A236+$A$11,0,1,1)","v":12430},{"$f":"OFFSET(InputPriceData!E$10,CalculationsAndCharts!$A236+$A$11,0,1,1)","v":12337.25},{"$f":"OFFSET(InputPriceData!F$10,CalculationsAndCharts!$A236+$A$11,0,1,1)","v":12418.42},{"$f":"IF(AND(A236<=$B$20,$S$14),$T$14,0)","v":0},{"$f":"IF(AND(A236<=$B$20,$S$15),$T$15,0)","v":0},{"$f":"IF(AND(A236<=$B$20,$S$16),$T$16,0)","v":0},{"$f":"IF(AND(A236<=$B$20,$S$17),$T$17,0)","v":0},{"$f":"IF(AND(A236<=$B$20,$S$18),$T$18,0)","v":0},0,0,0,0,0,0,0,0,0,0,0,0,0]
[206,{"$f":"OFFSET(InputPriceData!B$10,CalculationsAndCharts!$A237+$A$11,0,1,1)","v":"2012-01-03"},{"$f":"OFFSET(InputPriceData!G$10,CalculationsAndCharts!$A237+$A$11,0,1,1)","v":152523087},{"$f":"OFFSET(InputPriceData!C$10,CalculationsAndCharts!$A237+$A$11,0,1,1)","v":12221.19},{"$f":"OFFSET(InputPriceData!D$10,CalculationsAndCharts!$A237+$A$11,0,1,1)","v":12479.65},{"$f":"OFFSET(InputPriceData!E$10,CalculationsAndCharts!$A237+$A$11,0,1,1)","v":12221.19},{"$f":"OFFSET(InputPriceData!F$10,CalculationsAndCharts!$A237+$A$11,0,1,1)","v":12397.38},{"$f":"IF(AND(A237<=$B$20,$S$14),$T$14,0)","v":0},{"$f":"IF(AND(A237<=$B$20,$S$15),$T$15,0)","v":0},{"$f":"IF(AND(A237<=$B$20,$S$16),$T$16,0)","v":0},{"$f":"IF(AND(A237<=$B$20,$S$17),$T$17,0)","v":0},{"$f":"IF(AND(A237<=$B$20,$S$18),$T$18,0)","v":0},0,0,0,0,0,0,0,0,0,0,0,0,0]
[207,{"$f":"OFFSET(InputPriceData!B$10,CalculationsAndCharts!$A238+$A$11,0,1,1)","v":"2011-12-30"},{"$f":"OFFSET(InputPriceData!G$10,CalculationsAndCharts!$A238+$A$11,0,1,1)","v":96568135},{"$f":"OFFSET(InputPriceData!C$10,CalculationsAndCharts!$A238+$A$11,0,1,1)","v":12286.13},{"$f":"OFFSET(InputPriceData!D$10,CalculationsAndCharts!$A238+$A$11,0,1,1)","v":12290.06},{"$f":"OFFSET(InputPriceData!E$10,CalculationsAndCharts!$A238+$A$11,0,1,1)","v":12213.78},{"$f":"OFFSET(InputPriceData!F$10,CalculationsAndCharts!$A238+$A$11,0,1,1)","v":12217.56},{"$f":"IF(AND(A238<=$B$20,$S$14),$T$14,0)","v":0},{"$f":"IF(AND(A238<=$B$20,$S$15),$T$15,0)","v":0},{"$f":"IF(AND(A238<=$B$20,$S$16),$T$16,0)","v":0},{"$f":"IF(AND(A238<=$B$20,$S$17),$T$17,0)","v":0},{"$f":"IF(AND(A238<=$B$20,$S$18),$T$18,0)","v":0},0,0,0,0,0,0,0,0,0,0,0,0,0]
[208,{"$f":"OFFSET(InputPriceData!B$10,CalculationsAndCharts!$A239+$A$11,0,1,1)","v":"2011-12-29"},{"$f":"OFFSET(InputPriceData!G$10,CalculationsAndCharts!$A239+$A$11,0,1,1)","v":84601369},{"$f":"OFFSET(InputPriceData!C$10,CalculationsAndCharts!$A239+$A$11,0,1,1)","v":12152.09},{"$f":"OFFSET(InputPriceData!D$10,CalculationsAndCharts!$A239+$A$11,0,1,1)","v":12293.96},{"$f":"OFFSET(InputPriceData!E$10,CalculationsAndCharts!$A239+$A$11,0,1,1)","v":12152.09},{"$f":"OFFSET(InputPriceData!F$10,CalculationsAndCharts!$A239+$A$11,0,1,1)","v":12287.04},{"$f":"IF(AND(A239<=$B$20,$S$14),$T$14,0)","v":0},{"$f":"IF(AND(A239<=$B$20,$S$15),$T$15,0)","v":0},{"$f":"IF(AND(A239<=$B$20,$S$16),$T$16,0)","v":0},{"$f":"IF(AND(A239<=$B$20,$S$17),$T$17,0)","v":0},{"$f":"IF(AND(A239<=$B$20,$S$18),$T$18,0)","v":0},0,0,0,0,0,0,0,0,0,0,0,0,0]
[209,{"$f":"OFFSET(InputPriceData!B$10,CalculationsAndCharts!$A240+$A$11,0,1,1)","v":"2011-12-28"},{"$f":"OFFSET(InputPriceData!G$10,CalculationsAndCharts!$A240+$A$11,0,1,1)","v":83998561},{"$f":"OFFSET(InputPriceData!C$10,CalculationsAndCharts!$A240+$A$11,0,1,1)","v":12288.85},{"$f":"OFFSET(InputPriceData!D$10,CalculationsAndCharts!$A240+$A$11,0,1,1)","v":12299.11},{"$f":"OFFSET(InputPriceData!E$10,CalculationsAndCharts!$A240+$A$11,0,1,1)","v":12140.17},{"$f":"OFFSET(InputPriceData!F$10,CalculationsAndCharts!$A240+$A$11,0,1,1)","v":12151.41},{"$f":"IF(AND(A240<=$B$20,$S$14),$T$14,0)","v":0},{"$f":"IF(AND(A240<=$B$20,$S$15),$T$15,0)","v":0},{"$f":"IF(AND(A240<=$B$20,$S$16),$T$16,0)","v":0},{"$f":"IF(AND(A240<=$B$20,$S$17),$T$17,0)","v":0},{"$f":"IF(AND(A240<=$B$20,$S$18),$T$18,0)","v":0},0,0,0,0,0,0,0,0,0,0,0,0,0]
[210,{"$f":"OFFSET(InputPriceData!B$10,CalculationsAndCharts!$A241+$A$11,0,1,1)","v":"2011-12-27"},{"$f":"OFFSET(InputPriceData!G$10,CalculationsAndCharts!$A241+$A$11,0,1,1)","v":95972285},{"$f":"OFFSET(InputPriceData!C$10,CalculationsAndCharts!$A241+$A$11,0,1,1)","v":12293.47},{"$f":"OFFSET(InputPriceData!D$10,CalculationsAndCharts!$A241+$A$11,0,1,1)","v":12328.47},{"$f":"OFFSET(InputPriceData!E$10,CalculationsAndCharts!$A241+$A$11,0,1,1)","v":12269.97},{"$f":"OFFSET(InputPriceData!F$10,CalculationsAndCharts!$A241+$A$11,0,1,1)","v":12291.35},{"$f":"IF(AND(A241<=$B$20,$S$14),$T$14,0)","v":0},{"$f":"IF(AND(A241<=$B$20,$S$15),$T$15,0)","v":0},{"$f":"IF(AND(A241<=$B$20,$S$16),$T$16,0)","v":0},{"$f":"IF(AND(A241<=$B$20,$S$17),$T$17,0)","v":0},{"$f":"IF(AND(A241<=$B$20,$S$18),$T$18,0)","v":0},0,0,0,0,0,0,0,0,0,0,0,0,0]
[211,{"$f":"OFFSET(InputPriceData!B$10,CalculationsAndCharts!$A242+$A$11,0,1,1)","v":"2011-12-23"},{"$f":"OFFSET(InputPriceData!G$10,CalculationsAndCharts!$A242+$A$11,0,1,1)","v":80413820},{"$f":"OFFSET(InputPriceData!C$10,CalculationsAndCharts!$A242+$A$11,0,1,1)","v":12169.8},{"$f":"OFFSET(InputPriceData!D$10,CalculationsAndCharts!$A242+$A$11,0,1,1)","v":12297.44},{"$f":"OFFSET(InputPriceData!E$10,CalculationsAndCharts!$A242+$A$11,0,1,1)","v":12169.8},{"$f":"OFFSET(InputPriceData!F$10,CalculationsAndCharts!$A242+$A$11,0,1,1)","v":12294},{"$f":"IF(AND(A242<=$B$20,$S$14),$T$14,0)","v":0},{"$f":"IF(AND(A242<=$B$20,$S$15),$T$15,0)","v":0},{"$f":"IF(AND(A242<=$B$20,$S$16),$T$16,0)","v":0},{"$f":"IF(AND(A242<=$B$20,$S$17),$T$17,0)","v":0},{"$f":"IF(AND(A242<=$B$20,$S$18),$T$18,0)","v":0},0,0,0,0,0,0,0,0,0,0,0,0,0]
[212,{"$f":"OFFSET(InputPriceData!B$10,CalculationsAndCharts!$A243+$A$11,0,1,1)","v":"2011-12-22"},{"$f":"OFFSET(InputPriceData!G$10,CalculationsAndCharts!$A243+$A$11,0,1,1)","v":151585350},{"$f":"OFFSET(InputPriceData!C$10,CalculationsAndCharts!$A243+$A$11,0,1,1)","v":12107.59},{"$f":"OFFSET(InputPriceData!D$10,CalculationsAndCharts!$A243+$A$11,0,1,1)","v":12182.71},{"$f":"OFFSET(InputPriceData!E$10,CalculationsAndCharts!$A243+$A$11,0,1,1)","v":12107.37},{"$f":"OFFSET(InputPriceData!F$10,CalculationsAndCharts!$A243+$A$11,0,1,1)","v":12169.65},{"$f":"IF(AND(A243<=$B$20,$S$14),$T$14,0)","v":0},{"$f":"IF(AND(A243<=$B$20,$S$15),$T$15,0)","v":0},{"$f":"IF(AND(A243<=$B$20,$S$16),$T$16,0)","v":0},{"$f":"IF(AND(A243<=$B$20,$S$17),$T$17,0)","v":0},{"$f":"IF(AND(A243<=$B$20,$S$18),$T$18,0)","v":0},0,0,0,0,0,0,0,0,0,0,0,0,0]
[213,{"$f":"OFFSET(InputPriceData!B$10,CalculationsAndCharts!$A244+$A$11,0,1,1)","v":"2011-12-21"},{"$f":"OFFSET(InputPriceData!G$10,CalculationsAndCharts!$A244+$A$11,0,1,1)","v":163196618},{"$f":"OFFSET(InputPriceData!C$10,CalculationsAndCharts!$A244+$A$11,0,1,1)","v":12103.28},{"$f":"OFFSET(InputPriceData!D$10,CalculationsAndCharts!$A244+$A$11,0,1,1)","v":12119.7},{"$f":"OFFSET(InputPriceData!E$10,CalculationsAndCharts!$A244+$A$11,0,1,1)","v":11999.44},{"$f":"OFFSET(InputPriceData!F$10,CalculationsAndCharts!$A244+$A$11,0,1,1)","v":12107.74},{"$f":"IF(AND(A244<=$B$20,$S$14),$T$14,0)","v":0},{"$f":"IF(AND(A244<=$B$20,$S$15),$T$15,0)","v":0},{"$f":"IF(AND(A244<=$B$20,$S$16),$T$16,0)","v":0},{"$f":"IF(AND(A244<=$B$20,$S$17),$T$17,0)","v":0},{"$f":"IF(AND(A244<=$B$20,$S$18),$T$18,0)","v":0},0,0,0,0,0,0,0,0,0,0,0,0,0]
[214,{"$f":"OFFSET(InputPriceData!B$10,CalculationsAndCharts!$A245+$A$11,0,1,1)","v":"2011-12-20"},{"$f":"OFFSET(InputPriceData!G$10,CalculationsAndCharts!$A245+$A$11,0,1,1)","v":165058835},{"$f":"OFFSET(InputPriceData!C$10,CalculationsAndCharts!$A245+$A$11,0,1,1)","v":11769.21},{"$f":"OFFSET(InputPriceData!D$10,CalculationsAndCharts!$A245+$A$11,0,1,1)","v":12117.13},{"$f":"OFFSET(InputPriceData!E$10,CalculationsAndCharts!$A245+$A$11,0,1,1)","v":11768.83},{"$f":"OFFSET(InputPriceData!F$10,CalculationsAndCharts!$A245+$A$11,0,1,1)","v":12103.58},{"$f":"IF(AND(A245<=$B$20,$S$14),$T$14,0)","v":0},{"$f":"IF(AND(A245<=$B$20,$S$15),$T$15,0)","v":0},{"$f":"IF(AND(A245<=$B$20,$S$16),$T$16,0)","v":0},{"$f":"IF(AND(A245<=$B$20,$S$17),$T$17,0)","v":0},{"$f":"IF(AND(A245<=$B$20,$S$18),$T$18,0)","v":0},0,0,0,0,0,0,0,0,0,0,0,0,0]
[215,{"$f":"OFFSET(InputPriceData!B$10,CalculationsAndCharts!$A246+$A$11,0,1,1)","v":"2011-12-19"},{"$f":"OFFSET(InputPriceData!G$10,CalculationsAndCharts!$A246+$A$11,0,1,1)","v":135107381},{"$f":"OFFSET(InputPriceData!C$10,CalculationsAndCharts!$A246+$A$11,0,1,1)","v":11866.54},{"$f":"OFFSET(InputPriceData!D$10,CalculationsAndCharts!$A246+$A$11,0,1,1)","v":11925.88},{"$f":"OFFSET(InputPriceData!E$10,CalculationsAndCharts!$A246+$A$11,0,1,1)","v":11735.19},{"$f":"OFFSET(InputPriceData!F$10,CalculationsAndCharts!$A246+$A$11,0,1,1)","v":11766.26},{"$f":"IF(AND(A246<=$B$20,$S$14),$T$14,0)","v":0},{"$f":"IF(AND(A246<=$B$20,$S$15),$T$15,0)","v":0},{"$f":"IF(AND(A246<=$B$20,$S$16),$T$16,0)","v":0},{"$f":"IF(AND(A246<=$B$20,$S$17),$T$17,0)","v":0},{"$f":"IF(AND(A246<=$B$20,$S$18),$T$18,0)","v":0},0,0,0,0,0,0,0,0,0,0,0,0,0]
[216,{"$f":"OFFSET(InputPriceData!B$10,CalculationsAndCharts!$A247+$A$11,0,1,1)","v":"2011-12-16"},{"$f":"OFFSET(InputPriceData!G$10,CalculationsAndCharts!$A247+$A$11,0,1,1)","v":389371109},{"$f":"OFFSET(InputPriceData!C$10,CalculationsAndCharts!$A247+$A$11,0,1,1)","v":11870.25},{"$f":"OFFSET(InputPriceData!D$10,CalculationsAndCharts!$A247+$A$11,0,1,1)","v":11968.18},{"$f":"OFFSET(InputPriceData!E$10,CalculationsAndCharts!$A247+$A$11,0,1,1)","v":11819.31},{"$f":"OFFSET(InputPriceData!F$10,CalculationsAndCharts!$A247+$A$11,0,1,1)","v":11866.39},{"$f":"IF(AND(A247<=$B$20,$S$14),$T$14,0)","v":0},{"$f":"IF(AND(A247<=$B$20,$S$15),$T$15,0)","v":0},{"$f":"IF(AND(A247<=$B$20,$S$16),$T$16,0)","v":0},{"$f":"IF(AND(A247<=$B$20,$S$17),$T$17,0)","v":0},{"$f":"IF(AND(A247<=$B$20,$S$18),$T$18,0)","v":0},0,0,0,0,0,0,0,0,0,0,0,0,0]
[217,{"$f":"OFFSET(InputPriceData!B$10,CalculationsAndCharts!$A248+$A$11,0,1,1)","v":"2011-12-15"},{"$f":"OFFSET(InputPriceData!G$10,CalculationsAndCharts!$A248+$A$11,0,1,1)","v":136901087},{"$f":"OFFSET(InputPriceData!C$10,CalculationsAndCharts!$A248+$A$11,0,1,1)","v":11825.29},{"$f":"OFFSET(InputPriceData!D$10,CalculationsAndCharts!$A248+$A$11,0,1,1)","v":11967.84},{"$f":"OFFSET(InputPriceData!E$10,CalculationsAndCharts!$A248+$A$11,0,1,1)","v":11825.22},{"$f":"OFFSET(InputPriceData!F$10,CalculationsAndCharts!$A248+$A$11,0,1,1)","v":11868.81},{"$f":"IF(AND(A248<=$B$20,$S$14),$T$14,0)","v":0},{"$f":"IF(AND(A248<=$B$20,$S$15),$T$15,0)","v":0},{"$f":"IF(AND(A248<=$B$20,$S$16),$T$16,0)","v":0},{"$f":"IF(AND(A248<=$B$20,$S$17),$T$17,0)","v":0},{"$f":"IF(AND(A248<=$B$20,$S$18),$T$18,0)","v":0},0,0,0,0,0,0,0,0,0,0,0,0,0]
[218,{"$f":"OFFSET(InputPriceData!B$10,CalculationsAndCharts!$A249+$A$11,0,1,1)","v":"2011-12-14"},{"$f":"OFFSET(InputPriceData!G$10,CalculationsAndCharts!$A249+$A$11,0,1,1)","v":161230044},{"$f":"OFFSET(InputPriceData!C$10,CalculationsAndCharts!$A249+$A$11,0,1,1)","v":11949.72},{"$f":"OFFSET(InputPriceData!D$10,CalculationsAndCharts!$A249+$A$11,0,1,1)","v":11950.02},{"$f":"OFFSET(InputPriceData!E$10,CalculationsAndCharts!$A249+$A$11,0,1,1)","v":11786.47},{"$f":"OFFSET(InputPriceData!F$10,CalculationsAndCharts!$A249+$A$11,0,1,1)","v":11823.48},{"$f":"IF(AND(A249<=$B$20,$S$14),$T$14,0)","v":0},{"$f":"IF(AND(A249<=$B$20,$S$15),$T$15,0)","v":0},{"$f":"IF(AND(A249<=$B$20,$S$16),$T$16,0)","v":0},{"$f":"IF(AND(A249<=$B$20,$S$17),$T$17,0)","v":0},{"$f":"IF(AND(A249<=$B$20,$S$18),$T$18,0)","v":0},0,0,0,0,0,0,0,0,0,0,0,0,0]
[219,{"$f":"OFFSET(InputPriceData!B$10,CalculationsAndCharts!$A250+$A$11,0,1,1)","v":"2011-12-13"},{"$f":"OFFSET(InputPriceData!G$10,CalculationsAndCharts!$A250+$A$11,0,1,1)","v":171889954},{"$f":"OFFSET(InputPriceData!C$10,CalculationsAndCharts!$A250+$A$11,0,1,1)","v":12018.66},{"$f":"OFFSET(InputPriceData!D$10,CalculationsAndCharts!$A250+$A$11,0,1,1)","v":12147.7},{"$f":"OFFSET(InputPriceData!E$10,CalculationsAndCharts!$A250+$A$11,0,1,1)","v":11904.38},{"$f":"OFFSET(InputPriceData!F$10,CalculationsAndCharts!$A250+$A$11,0,1,1)","v":11954.94},{"$f":"IF(AND(A250<=$B$20,$S$14),$T$14,0)","v":0},{"$f":"IF(AND(A250<=$B$20,$S$15),$T$15,0)","v":0},{"$f":"IF(AND(A250<=$B$20,$S$16),$T$16,0)","v":0},{"$f":"IF(AND(A250<=$B$20,$S$17),$T$17,0)","v":0},{"$f":"IF(AND(A250<=$B$20,$S$18),$T$18,0)","v":0},0,0,0,0,0,0,0,0,0,0,0,0,0]
[220,{"$f":"OFFSET(InputPriceData!B$10,CalculationsAndCharts!$A251+$A$11,0,1,1)","v":"2011-12-12"},{"$f":"OFFSET(InputPriceData!G$10,CalculationsAndCharts!$A251+$A$11,0,1,1)","v":149040470},{"$f":"OFFSET(InputPriceData!C$10,CalculationsAndCharts!$A251+$A$11,0,1,1)","v":12181.08},{"$f":"OFFSET(InputPriceData!D$10,CalculationsAndCharts!$A251+$A$11,0,1,1)","v":12181.38},{"$f":"OFFSET(InputPriceData!E$10,CalculationsAndCharts!$A251+$A$11,0,1,1)","v":11940.86},{"$f":"OFFSET(InputPriceData!F$10,CalculationsAndCharts!$A251+$A$11,0,1,1)","v":12021.39},{"$f":"IF(AND(A251<=$B$20,$S$14),$T$14,0)","v":0},{"$f":"IF(AND(A251<=$B$20,$S$15),$T$15,0)","v":0},{"$f":"IF(AND(A251<=$B$20,$S$16),$T$16,0)","v":0},{"$f":"IF(AND(A251<=$B$20,$S$17),$T$17,0)","v":0},{"$f":"IF(AND(A251<=$B$20,$S$18),$T$18,0)","v":0},0,0,0,0,0,0,0,0,0,0,0,0,0]
[221,{"$f":"OFFSET(InputPriceData!B$10,CalculationsAndCharts!$A252+$A$11,0,1,1)","v":"2011-12-09"},{"$f":"OFFSET(InputPriceData!G$10,CalculationsAndCharts!$A252+$A$11,0,1,1)","v":154231192},{"$f":"OFFSET(InputPriceData!C$10,CalculationsAndCharts!$A252+$A$11,0,1,1)","v":11996.03},{"$f":"OFFSET(InputPriceData!D$10,CalculationsAndCharts!$A252+$A$11,0,1,1)","v":12212.83},{"$f":"OFFSET(InputPriceData!E$10,CalculationsAndCharts!$A252+$A$11,0,1,1)","v":11995.51},{"$f":"OFFSET(InputPriceData!F$10,CalculationsAndCharts!$A252+$A$11,0,1,1)","v":12184.26},{"$f":"IF(AND(A252<=$B$20,$S$14),$T$14,0)","v":0},{"$f":"IF(AND(A252<=$B$20,$S$15),$T$15,0)","v":0},{"$f":"IF(AND(A252<=$B$20,$S$16),$T$16,0)","v":0},{"$f":"IF(AND(A252<=$B$20,$S$17),$T$17,0)","v":0},{"$f":"IF(AND(A252<=$B$20,$S$18),$T$18,0)","v":0},0,0,0,0,0,0,0,0,0,0,0,0,0]
[222,{"$f":"OFFSET(InputPriceData!B$10,CalculationsAndCharts!$A253+$A$11,0,1,1)","v":"2011-12-08"},{"$f":"OFFSET(InputPriceData!G$10,CalculationsAndCharts!$A253+$A$11,0,1,1)","v":165809169},{"$f":"OFFSET(InputPriceData!C$10,CalculationsAndCharts!$A253+$A$11,0,1,1)","v":12195.91},{"$f":"OFFSET(InputPriceData!D$10,CalculationsAndCharts!$A253+$A$11,0,1,1)","v":12195.91},{"$f":"OFFSET(InputPriceData!E$10,CalculationsAndCharts!$A253+$A$11,0,1,1)","v":11966.22},{"$f":"OFFSET(InputPriceData!F$10,CalculationsAndCharts!$A253+$A$11,0,1,1)","v":11997.7},{"$f":"IF(AND(A253<=$B$20,$S$14),$T$14,0)","v":0},{"$f":"IF(AND(A253<=$B$20,$S$15),$T$15,0)","v":0},{"$f":"IF(AND(A253<=$B$20,$S$16),$T$16,0)","v":0},{"$f":"IF(AND(A253<=$B$20,$S$17),$T$17,0)","v":0},{"$f":"IF(AND(A253<=$B$20,$S$18),$T$18,0)","v":0},0,0,0,0,0,0,0,0,0,0,0,0,0]
[223,{"$f":"OFFSET(InputPriceData!B$10,CalculationsAndCharts!$A254+$A$11,0,1,1)","v":"2011-12-07"},{"$f":"OFFSET(InputPriceData!G$10,CalculationsAndCharts!$A254+$A$11,0,1,1)","v":168352901},{"$f":"OFFSET(InputPriceData!C$10,CalculationsAndCharts!$A254+$A$11,0,1,1)","v":12144.41},{"$f":"OFFSET(InputPriceData!D$10,CalculationsAndCharts!$A254+$A$11,0,1,1)","v":12257.67},{"$f":"OFFSET(InputPriceData!E$10,CalculationsAndCharts!$A254+$A$11,0,1,1)","v":12060.37},{"$f":"OFFSET(InputPriceData!F$10,CalculationsAndCharts!$A254+$A$11,0,1,1)","v":12196.37},{"$f":"IF(AND(A254<=$B$20,$S$14),$T$14,0)","v":0},{"$f":"IF(AND(A254<=$B$20,$S$15),$T$15,0)","v":0},{"$f":"IF(AND(A254<=$B$20,$S$16),$T$16,0)","v":0},{"$f":"IF(AND(A254<=$B$20,$S$17),$T$17,0)","v":0},{"$f":"IF(AND(A254<=$B$20,$S$18),$T$18,0)","v":0},0,0,0,0,0,0,0,0,0,0,0,0,0]
[224,{"$f":"OFFSET(InputPriceData!B$10,CalculationsAndCharts!$A255+$A$11,0,1,1)","v":"2011-12-06"},{"$f":"OFFSET(InputPriceData!G$10,CalculationsAndCharts!$A255+$A$11,0,1,1)","v":145712201},{"$f":"OFFSET(InputPriceData!C$10,CalculationsAndCharts!$A255+$A$11,0,1,1)","v":12097.75},{"$f":"OFFSET(InputPriceData!D$10,CalculationsAndCharts!$A255+$A$11,0,1,1)","v":12215.71},{"$f":"OFFSET(InputPriceData!E$10,CalculationsAndCharts!$A255+$A$11,0,1,1)","v":12076.71},{"$f":"OFFSET(InputPriceData!F$10,CalculationsAndCharts!$A255+$A$11,0,1,1)","v":12150.13},{"$f":"IF(AND(A255<=$B$20,$S$14),$T$14,0)","v":0},{"$f":"IF(AND(A255<=$B$20,$S$15),$T$15,0)","v":0},{"$f":"IF(AND(A255<=$B$20,$S$16),$T$16,0)","v":0},{"$f":"IF(AND(A255<=$B$20,$S$17),$T$17,0)","v":0},{"$f":"IF(AND(A255<=$B$20,$S$18),$T$18,0)","v":0},0,0,0,0,0,0,0,0,0,0,0,0,0]
[225,{"$f":"OFFSET(InputPriceData!B$10,CalculationsAndCharts!$A256+$A$11,0,1,1)","v":"2011-12-05"},{"$f":"OFFSET(InputPriceData!G$10,CalculationsAndCharts!$A256+$A$11,0,1,1)","v":153451003},{"$f":"OFFSET(InputPriceData!C$10,CalculationsAndCharts!$A256+$A$11,0,1,1)","v":12021.54},{"$f":"OFFSET(InputPriceData!D$10,CalculationsAndCharts!$A256+$A$11,0,1,1)","v":12186.53},{"$f":"OFFSET(InputPriceData!E$10,CalculationsAndCharts!$A256+$A$11,0,1,1)","v":12021.46},{"$f":"OFFSET(InputPriceData!F$10,CalculationsAndCharts!$A256+$A$11,0,1,1)","v":12097.83},{"$f":"IF(AND(A256<=$B$20,$S$14),$T$14,0)","v":0},{"$f":"IF(AND(A256<=$B$20,$S$15),$T$15,0)","v":0},{"$f":"IF(AND(A256<=$B$20,$S$16),$T$16,0)","v":0},{"$f":"IF(AND(A256<=$B$20,$S$17),$T$17,0)","v":0},{"$f":"IF(AND(A256<=$B$20,$S$18),$T$18,0)","v":0},0,0,0,0,0,0,0,0,0,0,0,0,0]
[226,{"$f":"OFFSET(InputPriceData!B$10,CalculationsAndCharts!$A257+$A$11,0,1,1)","v":"2011-12-02"},{"$f":"OFFSET(InputPriceData!G$10,CalculationsAndCharts!$A257+$A$11,0,1,1)","v":150105995},{"$f":"OFFSET(InputPriceData!C$10,CalculationsAndCharts!$A257+$A$11,0,1,1)","v":12022.37},{"$f":"OFFSET(InputPriceData!D$10,CalculationsAndCharts!$A257+$A$11,0,1,1)","v":12146.68},{"$f":"OFFSET(InputPriceData!E$10,CalculationsAndCharts!$A257+$A$11,0,1,1)","v":12007.12},{"$f":"OFFSET(InputPriceData!F$10,CalculationsAndCharts!$A257+$A$11,0,1,1)","v":12019.42},{"$f":"IF(AND(A257<=$B$20,$S$14),$T$14,0)","v":0},{"$f":"IF(AND(A257<=$B$20,$S$15),$T$15,0)","v":0},{"$f":"IF(AND(A257<=$B$20,$S$16),$T$16,0)","v":0},{"$f":"IF(AND(A257<=$B$20,$S$17),$T$17,0)","v":0},{"$f":"IF(AND(A257<=$B$20,$S$18),$T$18,0)","v":0},0,0,0,0,0,0,0,0,0,0,0,0,0]
[227,{"$f":"OFFSET(InputPriceData!B$10,CalculationsAndCharts!$A258+$A$11,0,1,1)","v":"2011-12-01"},{"$f":"OFFSET(InputPriceData!G$10,CalculationsAndCharts!$A258+$A$11,0,1,1)","v":143686738},{"$f":"OFFSET(InputPriceData!C$10,CalculationsAndCharts!$A258+$A$11,0,1,1)","v":12046.21},{"$f":"OFFSET(InputPriceData!D$10,CalculationsAndCharts!$A258+$A$11,0,1,1)","v":12062.64},{"$f":"OFFSET(InputPriceData!E$10,CalculationsAndCharts!$A258+$A$11,0,1,1)","v":11974.62},{"$f":"OFFSET(InputPriceData!F$10,CalculationsAndCharts!$A258+$A$11,0,1,1)","v":12020.03},{"$f":"IF(AND(A258<=$B$20,$S$14),$T$14,0)","v":0},{"$f":"IF(AND(A258<=$B$20,$S$15),$T$15,0)","v":0},{"$f":"IF(AND(A258<=$B$20,$S$16),$T$16,0)","v":0},{"$f":"IF(AND(A258<=$B$20,$S$17),$T$17,0)","v":0},{"$f":"IF(AND(A258<=$B$20,$S$18),$T$18,0)","v":0},0,0,0,0,0,0,0,0,0,0,0,0,0]
[228,{"$f":"OFFSET(InputPriceData!B$10,CalculationsAndCharts!$A259+$A$11,0,1,1)","v":"2011-11-30"},{"$f":"OFFSET(InputPriceData!G$10,CalculationsAndCharts!$A259+$A$11,0,1,1)","v":286772086},{"$f":"OFFSET(InputPriceData!C$10,CalculationsAndCharts!$A259+$A$11,0,1,1)","v":11559.27},{"$f":"OFFSET(InputPriceData!D$10,CalculationsAndCharts!$A259+$A$11,0,1,1)","v":12045.68},{"$f":"OFFSET(InputPriceData!E$10,CalculationsAndCharts!$A259+$A$11,0,1,1)","v":11559.27},{"$f":"OFFSET(InputPriceData!F$10,CalculationsAndCharts!$A259+$A$11,0,1,1)","v":12045.68},{"$f":"IF(AND(A259<=$B$20,$S$14),$T$14,0)","v":0},{"$f":"IF(AND(A259<=$B$20,$S$15),$T$15,0)","v":0},{"$f":"IF(AND(A259<=$B$20,$S$16),$T$16,0)","v":0},{"$f":"IF(AND(A259<=$B$20,$S$17),$T$17,0)","v":0},{"$f":"IF(AND(A259<=$B$20,$S$18),$T$18,0)","v":0},0,0,0,0,0,0,0,0,0,0,0,0,0]
[229,{"$f":"OFFSET(InputPriceData!B$10,CalculationsAndCharts!$A260+$A$11,0,1,1)","v":"2011-11-29"},{"$f":"OFFSET(InputPriceData!G$10,CalculationsAndCharts!$A260+$A$11,0,1,1)","v":156925134},{"$f":"OFFSET(InputPriceData!C$10,CalculationsAndCharts!$A260+$A$11,0,1,1)","v":11523.01},{"$f":"OFFSET(InputPriceData!D$10,CalculationsAndCharts!$A260+$A$11,0,1,1)","v":11624.01},{"$f":"OFFSET(InputPriceData!E$10,CalculationsAndCharts!$A260+$A$11,0,1,1)","v":11517.04},{"$f":"OFFSET(InputPriceData!F$10,CalculationsAndCharts!$A260+$A$11,0,1,1)","v":11555.63},{"$f":"IF(AND(A260<=$B$20,$S$14),$T$14,0)","v":0},{"$f":"IF(AND(A260<=$B$20,$S$15),$T$15,0)","v":0},{"$f":"IF(AND(A260<=$B$20,$S$16),$T$16,0)","v":0},{"$f":"IF(AND(A260<=$B$20,$S$17),$T$17,0)","v":0},{"$f":"IF(AND(A260<=$B$20,$S$18),$T$18,0)","v":0},0,0,0,0,0,0,0,0,0,0,0,0,0]
[230,{"$f":"OFFSET(InputPriceData!B$10,CalculationsAndCharts!$A261+$A$11,0,1,1)","v":"2011-11-28"},{"$f":"OFFSET(InputPriceData!G$10,CalculationsAndCharts!$A261+$A$11,0,1,1)","v":204948981},{"$f":"OFFSET(InputPriceData!C$10,CalculationsAndCharts!$A261+$A$11,0,1,1)","v":11232.47},{"$f":"OFFSET(InputPriceData!D$10,CalculationsAndCharts!$A261+$A$11,0,1,1)","v":11562.1},{"$f":"OFFSET(InputPriceData!E$10,CalculationsAndCharts!$A261+$A$11,0,1,1)","v":11232.16},{"$f":"OFFSET(InputPriceData!F$10,CalculationsAndCharts!$A261+$A$11,0,1,1)","v":11523.01},{"$f":"IF(AND(A261<=$B$20,$S$14),$T$14,0)","v":0},{"$f":"IF(AND(A261<=$B$20,$S$15),$T$15,0)","v":0},{"$f":"IF(AND(A261<=$B$20,$S$16),$T$16,0)","v":0},{"$f":"IF(AND(A261<=$B$20,$S$17),$T$17,0)","v":0},{"$f":"IF(AND(A261<=$B$20,$S$18),$T$18,0)","v":0},0,0,0,0,0,0,0,0,0,0,0,0,0]
[231,{"$f":"OFFSET(InputPriceData!B$10,CalculationsAndCharts!$A262+$A$11,0,1,1)","v":"2011-11-25"},{"$f":"OFFSET(InputPriceData!G$10,CalculationsAndCharts!$A262+$A$11,0,1,1)","v":87478602},{"$f":"OFFSET(InputPriceData!C$10,CalculationsAndCharts!$A262+$A$11,0,1,1)","v":11251.88},{"$f":"OFFSET(InputPriceData!D$10,CalculationsAndCharts!$A262+$A$11,0,1,1)","v":11361.47},{"$f":"OFFSET(InputPriceData!E$10,CalculationsAndCharts!$A262+$A$11,0,1,1)","v":11231.56},{"$f":"OFFSET(InputPriceData!F$10,CalculationsAndCharts!$A262+$A$11,0,1,1)","v":11231.78},{"$f":"IF(AND(A262<=$B$20,$S$14),$T$14,0)","v":0},{"$f":"IF(AND(A262<=$B$20,$S$15),$T$15,0)","v":0},{"$f":"IF(AND(A262<=$B$20,$S$16),$T$16,0)","v":0},{"$f":"IF(AND(A262<=$B$20,$S$17),$T$17,0)","v":0},{"$f":"IF(AND(A262<=$B$20,$S$18),$T$18,0)","v":0},0,0,0,0,0,0,0,0,0,0,0,0,0]
[232,{"$f":"OFFSET(InputPriceData!B$10,CalculationsAndCharts!$A263+$A$11,0,1,1)","v":"2011-11-23"},{"$f":"OFFSET(InputPriceData!G$10,CalculationsAndCharts!$A263+$A$11,0,1,1)","v":152198114},{"$f":"OFFSET(InputPriceData!C$10,CalculationsAndCharts!$A263+$A$11,0,1,1)","v":11492.74},{"$f":"OFFSET(InputPriceData!D$10,CalculationsAndCharts!$A263+$A$11,0,1,1)","v":11492.82},{"$f":"OFFSET(InputPriceData!E$10,CalculationsAndCharts!$A263+$A$11,0,1,1)","v":11257.55},{"$f":"OFFSET(InputPriceData!F$10,CalculationsAndCharts!$A263+$A$11,0,1,1)","v":11257.55},{"$f":"IF(AND(A263<=$B$20,$S$14),$T$14,0)","v":0},{"$f":"IF(AND(A263<=$B$20,$S$15),$T$15,0)","v":0},{"$f":"IF(AND(A263<=$B$20,$S$16),$T$16,0)","v":0},{"$f":"IF(AND(A263<=$B$20,$S$17),$T$17,0)","v":0},{"$f":"IF(AND(A263<=$B$20,$S$18),$T$18,0)","v":0},0,0,0,0,0,0,0,0,0,0,0,0,0]
[233,{"$f":"OFFSET(InputPriceData!B$10,CalculationsAndCharts!$A264+$A$11,0,1,1)","v":"2011-11-22"},{"$f":"OFFSET(InputPriceData!G$10,CalculationsAndCharts!$A264+$A$11,0,1,1)","v":148545707},{"$f":"OFFSET(InputPriceData!C$10,CalculationsAndCharts!$A264+$A$11,0,1,1)","v":11542.39},{"$f":"OFFSET(InputPriceData!D$10,CalculationsAndCharts!$A264+$A$11,0,1,1)","v":11571.75},{"$f":"OFFSET(InputPriceData!E$10,CalculationsAndCharts!$A264+$A$11,0,1,1)","v":11433.97},{"$f":"OFFSET(InputPriceData!F$10,CalculationsAndCharts!$A264+$A$11,0,1,1)","v":11493.72},{"$f":"IF(AND(A264<=$B$20,$S$14),$T$14,0)","v":0},{"$f":"IF(AND(A264<=$B$20,$S$15),$T$15,0)","v":0},{"$f":"IF(AND(A264<=$B$20,$S$16),$T$16,0)","v":0},{"$f":"IF(AND(A264<=$B$20,$S$17),$T$17,0)","v":0},{"$f":"IF(AND(A264<=$B$20,$S$18),$T$18,0)","v":0},0,0,0,0,0,0,0,0,0,0,0,0,0]
[234,{"$f":"OFFSET(InputPriceData!B$10,CalculationsAndCharts!$A265+$A$11,0,1,1)","v":"2011-11-21"},{"$f":"OFFSET(InputPriceData!G$10,CalculationsAndCharts!$A265+$A$11,0,1,1)","v":170409663},{"$f":"OFFSET(InputPriceData!C$10,CalculationsAndCharts!$A265+$A$11,0,1,1)","v":11795.55},{"$f":"OFFSET(InputPriceData!D$10,CalculationsAndCharts!$A265+$A$11,0,1,1)","v":11795.7},{"$f":"OFFSET(InputPriceData!E$10,CalculationsAndCharts!$A265+$A$11,0,1,1)","v":11454.07},{"$f":"OFFSET(InputPriceData!F$10,CalculationsAndCharts!$A265+$A$11,0,1,1)","v":11547.31},{"$f":"IF(AND(A265<=$B$20,$S$14),$T$14,0)","v":0},{"$f":"IF(AND(A265<=$B$20,$S$15),$T$15,0)","v":0},{"$f":"IF(AND(A265<=$B$20,$S$16),$T$16,0)","v":0},{"$f":"IF(AND(A265<=$B$20,$S$17),$T$17,0)","v":0},{"$f":"IF(AND(A265<=$B$20,$S$18),$T$18,0)","v":0},0,0,0,0,0,0,0,0,0,0,0,0,0]
[235,{"$f":"OFFSET(InputPriceData!B$10,CalculationsAndCharts!$A266+$A$11,0,1,1)","v":"2011-11-18"},{"$f":"OFFSET(InputPriceData!G$10,CalculationsAndCharts!$A266+$A$11,0,1,1)","v":181215931},{"$f":"OFFSET(InputPriceData!C$10,CalculationsAndCharts!$A266+$A$11,0,1,1)","v":11768.98},{"$f":"OFFSET(InputPriceData!D$10,CalculationsAndCharts!$A266+$A$11,0,1,1)","v":11854.81},{"$f":"OFFSET(InputPriceData!E$10,CalculationsAndCharts!$A266+$A$11,0,1,1)","v":11755.82},{"$f":"OFFSET(InputPriceData!F$10,CalculationsAndCharts!$A266+$A$11,0,1,1)","v":11796.16},{"$f":"IF(AND(A266<=$B$20,$S$14),$T$14,0)","v":0},{"$f":"IF(AND(A266<=$B$20,$S$15),$T$15,0)","v":0},{"$f":"IF(AND(A266<=$B$20,$S$16),$T$16,0)","v":0},{"$f":"IF(AND(A266<=$B$20,$S$17),$T$17,0)","v":0},{"$f":"IF(AND(A266<=$B$20,$S$18),$T$18,0)","v":0},0,0,0,0,0,0,0,0,0,0,0,0,0]
[236,{"$f":"OFFSET(InputPriceData!B$10,CalculationsAndCharts!$A267+$A$11,0,1,1)","v":"2011-11-17"},{"$f":"OFFSET(InputPriceData!G$10,CalculationsAndCharts!$A267+$A$11,0,1,1)","v":167319169},{"$f":"OFFSET(InputPriceData!C$10,CalculationsAndCharts!$A267+$A$11,0,1,1)","v":11905.67},{"$f":"OFFSET(InputPriceData!D$10,CalculationsAndCharts!$A267+$A$11,0,1,1)","v":11948.43},{"$f":"OFFSET(InputPriceData!E$10,CalculationsAndCharts!$A267+$A$11,0,1,1)","v":11676.35},{"$f":"OFFSET(InputPriceData!F$10,CalculationsAndCharts!$A267+$A$11,0,1,1)","v":11770.73},{"$f":"IF(AND(A267<=$B$20,$S$14),$T$14,0)","v":0},{"$f":"IF(AND(A267<=$B$20,$S$15),$T$15,0)","v":0},{"$f":"IF(AND(A267<=$B$20,$S$16),$T$16,0)","v":0},{"$f":"IF(AND(A267<=$B$20,$S$17),$T$17,0)","v":0},{"$f":"IF(AND(A267<=$B$20,$S$18),$T$18,0)","v":0},0,0,0,0,0,0,0,0,0,0,0,0,0]
[237,{"$f":"OFFSET(InputPriceData!B$10,CalculationsAndCharts!$A268+$A$11,0,1,1)","v":"2011-11-16"},{"$f":"OFFSET(InputPriceData!G$10,CalculationsAndCharts!$A268+$A$11,0,1,1)","v":166120763},{"$f":"OFFSET(InputPriceData!C$10,CalculationsAndCharts!$A268+$A$11,0,1,1)","v":12084.74},{"$f":"OFFSET(InputPriceData!D$10,CalculationsAndCharts!$A268+$A$11,0,1,1)","v":12109.03},{"$f":"OFFSET(InputPriceData!E$10,CalculationsAndCharts!$A268+$A$11,0,1,1)","v":11890.57},{"$f":"OFFSET(InputPriceData!F$10,CalculationsAndCharts!$A268+$A$11,0,1,1)","v":11905.59},{"$f":"IF(AND(A268<=$B$20,$S$14),$T$14,0)","v":0},{"$f":"IF(AND(A268<=$B$20,$S$15),$T$15,0)","v":0},{"$f":"IF(AND(A268<=$B$20,$S$16),$T$16,0)","v":0},{"$f":"IF(AND(A268<=$B$20,$S$17),$T$17,0)","v":0},{"$f":"IF(AND(A268<=$B$20,$S$18),$T$18,0)","v":0},0,0,0,0,0,0,0,0,0,0,0,0,0]
[238,{"$f":"OFFSET(InputPriceData!B$10,CalculationsAndCharts!$A269+$A$11,0,1,1)","v":"2011-11-15"},{"$f":"OFFSET(InputPriceData!G$10,CalculationsAndCharts!$A269+$A$11,0,1,1)","v":144864916},{"$f":"OFFSET(InputPriceData!C$10,CalculationsAndCharts!$A269+$A$11,0,1,1)","v":12077.92},{"$f":"OFFSET(InputPriceData!D$10,CalculationsAndCharts!$A269+$A$11,0,1,1)","v":12165.11},{"$f":"OFFSET(InputPriceData!E$10,CalculationsAndCharts!$A269+$A$11,0,1,1)","v":12001.26},{"$f":"OFFSET(InputPriceData!F$10,CalculationsAndCharts!$A269+$A$11,0,1,1)","v":12096.16},{"$f":"IF(AND(A269<=$B$20,$S$14),$T$14,0)","v":0},{"$f":"IF(AND(A269<=$B$20,$S$15),$T$15,0)","v":0},{"$f":"IF(AND(A269<=$B$20,$S$16),$T$16,0)","v":0},{"$f":"IF(AND(A269<=$B$20,$S$17),$T$17,0)","v":0},{"$f":"IF(AND(A269<=$B$20,$S$18),$T$18,0)","v":0},0,0,0,0,0,0,0,0,0,0,0,0,0]
[239,{"$f":"OFFSET(InputPriceData!B$10,CalculationsAndCharts!$A270+$A$11,0,1,1)","v":"2011-11-14"},{"$f":"OFFSET(InputPriceData!G$10,CalculationsAndCharts!$A270+$A$11,0,1,1)","v":119533572},{"$f":"OFFSET(InputPriceData!C$10,CalculationsAndCharts!$A270+$A$11,0,1,1)","v":12153},{"$f":"OFFSET(InputPriceData!D$10,CalculationsAndCharts!$A270+$A$11,0,1,1)","v":12170.56},{"$f":"OFFSET(InputPriceData!E$10,CalculationsAndCharts!$A270+$A$11,0,1,1)","v":12027.03},{"$f":"OFFSET(InputPriceData!F$10,CalculationsAndCharts!$A270+$A$11,0,1,1)","v":12078.98},{"$f":"IF(AND(A270<=$B$20,$S$14),$T$14,0)","v":0},{"$f":"IF(AND(A270<=$B$20,$S$15),$T$15,0)","v":0},{"$f":"IF(AND(A270<=$B$20,$S$16),$T$16,0)","v":0},{"$f":"IF(AND(A270<=$B$20,$S$17),$T$17,0)","v":0},{"$f":"IF(AND(A270<=$B$20,$S$18),$T$18,0)","v":0},0,0,0,0,0,0,0,0,0,0,0,0,0]
[240,{"$f":"OFFSET(InputPriceData!B$10,CalculationsAndCharts!$A271+$A$11,0,1,1)","v":"2011-11-11"},{"$f":"OFFSET(InputPriceData!G$10,CalculationsAndCharts!$A271+$A$11,0,1,1)","v":134494285},{"$f":"OFFSET(InputPriceData!C$10,CalculationsAndCharts!$A271+$A$11,0,1,1)","v":11896.28},{"$f":"OFFSET(InputPriceData!D$10,CalculationsAndCharts!$A271+$A$11,0,1,1)","v":12179.72},{"$f":"OFFSET(InputPriceData!E$10,CalculationsAndCharts!$A271+$A$11,0,1,1)","v":11896.28},{"$f":"OFFSET(InputPriceData!F$10,CalculationsAndCharts!$A271+$A$11,0,1,1)","v":12153.68},{"$f":"IF(AND(A271<=$B$20,$S$14),$T$14,0)","v":0},{"$f":"IF(AND(A271<=$B$20,$S$15),$T$15,0)","v":0},{"$f":"IF(AND(A271<=$B$20,$S$16),$T$16,0)","v":0},{"$f":"IF(AND(A271<=$B$20,$S$17),$T$17,0)","v":0},{"$f":"IF(AND(A271<=$B$20,$S$18),$T$18,0)","v":0},0,0,0,0,0,0,0,0,0,0,0,0,0]
[241,{"$f":"OFFSET(InputPriceData!B$10,CalculationsAndCharts!$A272+$A$11,0,1,1)","v":"2011-11-10"},{"$f":"OFFSET(InputPriceData!G$10,CalculationsAndCharts!$A272+$A$11,0,1,1)","v":165191030},{"$f":"OFFSET(InputPriceData!C$10,CalculationsAndCharts!$A272+$A$11,0,1,1)","v":11780.03},{"$f":"OFFSET(InputPriceData!D$10,CalculationsAndCharts!$A272+$A$11,0,1,1)","v":11961.14},{"$f":"OFFSET(InputPriceData!E$10,CalculationsAndCharts!$A272+$A$11,0,1,1)","v":11779.88},{"$f":"OFFSET(InputPriceData!F$10,CalculationsAndCharts!$A272+$A$11,0,1,1)","v":11893.79},{"$f":"IF(AND(A272<=$B$20,$S$14),$T$14,0)","v":0},{"$f":"IF(AND(A272<=$B$20,$S$15),$T$15,0)","v":0},{"$f":"IF(AND(A272<=$B$20,$S$16),$T$16,0)","v":0},{"$f":"IF(AND(A272<=$B$20,$S$17),$T$17,0)","v":0},{"$f":"IF(AND(A272<=$B$20,$S$18),$T$18,0)","v":0},0,0,0,0,0,0,0,0,0,0,0,0,0]
[242,{"$f":"OFFSET(InputPriceData!B$10,CalculationsAndCharts!$A273+$A$11,0,1,1)","v":"2011-11-09"},{"$f":"OFFSET(InputPriceData!G$10,CalculationsAndCharts!$A273+$A$11,0,1,1)","v":179390799},{"$f":"OFFSET(InputPriceData!C$10,CalculationsAndCharts!$A273+$A$11,0,1,1)","v":12166.4},{"$f":"OFFSET(InputPriceData!D$10,CalculationsAndCharts!$A273+$A$11,0,1,1)","v":12166.4},{"$f":"OFFSET(InputPriceData!E$10,CalculationsAndCharts!$A273+$A$11,0,1,1)","v":11736.93},{"$f":"OFFSET(InputPriceData!F$10,CalculationsAndCharts!$A273+$A$11,0,1,1)","v":11780.94},{"$f":"IF(AND(A273<=$B$20,$S$14),$T$14,0)","v":0},{"$f":"IF(AND(A273<=$B$20,$S$15),$T$15,0)","v":0},{"$f":"IF(AND(A273<=$B$20,$S$16),$T$16,0)","v":0},{"$f":"IF(AND(A273<=$B$20,$S$17),$T$17,0)","v":0},{"$f":"IF(AND(A273<=$B$20,$S$18),$T$18,0)","v":0},0,0,0,0,0,0,0,0,0,0,0,0,0]
[243,{"$f":"OFFSET(InputPriceData!B$10,CalculationsAndCharts!$A274+$A$11,0,1,1)","v":"2011-11-08"},{"$f":"OFFSET(InputPriceData!G$10,CalculationsAndCharts!$A274+$A$11,0,1,1)","v":144934262},{"$f":"OFFSET(InputPriceData!C$10,CalculationsAndCharts!$A274+$A$11,0,1,1)","v":12055.52},{"$f":"OFFSET(InputPriceData!D$10,CalculationsAndCharts!$A274+$A$11,0,1,1)","v":12187.51},{"$f":"OFFSET(InputPriceData!E$10,CalculationsAndCharts!$A274+$A$11,0,1,1)","v":12002.17},{"$f":"OFFSET(InputPriceData!F$10,CalculationsAndCharts!$A274+$A$11,0,1,1)","v":12170.18},{"$f":"IF(AND(A274<=$B$20,$S$14),$T$14,0)","v":0},{"$f":"IF(AND(A274<=$B$20,$S$15),$T$15,0)","v":0},{"$f":"IF(AND(A274<=$B$20,$S$16),$T$16,0)","v":0},{"$f":"IF(AND(A274<=$B$20,$S$17),$T$17,0)","v":0},{"$f":"IF(AND(A274<=$B$20,$S$18),$T$18,0)","v":0},0,0,0,0,0,0,0,0,0,0,0,0,0]
[244,{"$f":"OFFSET(InputPriceData!B$10,CalculationsAndCharts!$A275+$A$11,0,1,1)","v":"2011-11-07"},{"$f":"OFFSET(InputPriceData!G$10,CalculationsAndCharts!$A275+$A$11,0,1,1)","v":122099117},{"$f":"OFFSET(InputPriceData!C$10,CalculationsAndCharts!$A275+$A$11,0,1,1)","v":11983.02},{"$f":"OFFSET(InputPriceData!D$10,CalculationsAndCharts!$A275+$A$11,0,1,1)","v":12074.44},{"$f":"OFFSET(InputPriceData!E$10,CalculationsAndCharts!$A275+$A$11,0,1,1)","v":11880.69},{"$f":"OFFSET(InputPriceData!F$10,CalculationsAndCharts!$A275+$A$11,0,1,1)","v":12068.39},{"$f":"IF(AND(A275<=$B$20,$S$14),$T$14,0)","v":0},{"$f":"IF(AND(A275<=$B$20,$S$15),$T$15,0)","v":0},{"$f":"IF(AND(A275<=$B$20,$S$16),$T$16,0)","v":0},{"$f":"IF(AND(A275<=$B$20,$S$17),$T$17,0)","v":0},{"$f":"IF(AND(A275<=$B$20,$S$18),$T$18,0)","v":0},0,0,0,0,0,0,0,0,0,0,0,0,0]
[245,{"$f":"OFFSET(InputPriceData!B$10,CalculationsAndCharts!$A276+$A$11,0,1,1)","v":"2011-11-04"},{"$f":"OFFSET(InputPriceData!G$10,CalculationsAndCharts!$A276+$A$11,0,1,1)","v":125830352},{"$f":"OFFSET(InputPriceData!C$10,CalculationsAndCharts!$A276+$A$11,0,1,1)","v":12043.41},{"$f":"OFFSET(InputPriceData!D$10,CalculationsAndCharts!$A276+$A$11,0,1,1)","v":12043.49},{"$f":"OFFSET(InputPriceData!E$10,CalculationsAndCharts!$A276+$A$11,0,1,1)","v":11850.31},{"$f":"OFFSET(InputPriceData!F$10,CalculationsAndCharts!$A276+$A$11,0,1,1)","v":11983.24},{"$f":"IF(AND(A276<=$B$20,$S$14),$T$14,0)","v":0},{"$f":"IF(AND(A276<=$B$20,$S$15),$T$15,0)","v":0},{"$f":"IF(AND(A276<=$B$20,$S$16),$T$16,0)","v":0},{"$f":"IF(AND(A276<=$B$20,$S$17),$T$17,0)","v":0},{"$f":"IF(AND(A276<=$B$20,$S$18),$T$18,0)","v":0},0,0,0,0,0,0,0,0,0,0,0,0,0]
[246,{"$f":"OFFSET(InputPriceData!B$10,CalculationsAndCharts!$A277+$A$11,0,1,1)","v":"2011-11-03"},{"$f":"OFFSET(InputPriceData!G$10,CalculationsAndCharts!$A277+$A$11,0,1,1)","v":158154794},{"$f":"OFFSET(InputPriceData!C$10,CalculationsAndCharts!$A277+$A$11,0,1,1)","v":11835.59},{"$f":"OFFSET(InputPriceData!D$10,CalculationsAndCharts!$A277+$A$11,0,1,1)","v":12065.93},{"$f":"OFFSET(InputPriceData!E$10,CalculationsAndCharts!$A277+$A$11,0,1,1)","v":11835.43},{"$f":"OFFSET(InputPriceData!F$10,CalculationsAndCharts!$A277+$A$11,0,1,1)","v":12044.47},{"$f":"IF(AND(A277<=$B$20,$S$14),$T$14,0)","v":0},{"$f":"IF(AND(A277<=$B$20,$S$15),$T$15,0)","v":0},{"$f":"IF(AND(A277<=$B$20,$S$16),$T$16,0)","v":0},{"$f":"IF(AND(A277<=$B$20,$S$17),$T$17,0)","v":0},{"$f":"IF(AND(A277<=$B$20,$S$18),$T$18,0)","v":0},0,0,0,0,0,0,0,0,0,0,0,0,0]
[247,{"$f":"OFFSET(InputPriceData!B$10,CalculationsAndCharts!$A278+$A$11,0,1,1)","v":"2011-11-02"},{"$f":"OFFSET(InputPriceData!G$10,CalculationsAndCharts!$A278+$A$11,0,1,1)","v":154060444},{"$f":"OFFSET(InputPriceData!C$10,CalculationsAndCharts!$A278+$A$11,0,1,1)","v":11658.49},{"$f":"OFFSET(InputPriceData!D$10,CalculationsAndCharts!$A278+$A$11,0,1,1)","v":11876.83},{"$f":"OFFSET(InputPriceData!E$10,CalculationsAndCharts!$A278+$A$11,0,1,1)","v":11658.49},{"$f":"OFFSET(InputPriceData!F$10,CalculationsAndCharts!$A278+$A$11,0,1,1)","v":11836.04},{"$f":"IF(AND(A278<=$B$20,$S$14),$T$14,0)","v":0},{"$f":"IF(AND(A278<=$B$20,$S$15),$T$15,0)","v":0},{"$f":"IF(AND(A278<=$B$20,$S$16),$T$16,0)","v":0},{"$f":"IF(AND(A278<=$B$20,$S$17),$T$17,0)","v":0},{"$f":"IF(AND(A278<=$B$20,$S$18),$T$18,0)","v":0},0,0,0,0,0,0,0,0,0,0,0,0,0]
[248,{"$f":"OFFSET(InputPriceData!B$10,CalculationsAndCharts!$A279+$A$11,0,1,1)","v":"2011-11-01"},{"$f":"OFFSET(InputPriceData!G$10,CalculationsAndCharts!$A279+$A$11,0,1,1)","v":218168835},{"$f":"OFFSET(InputPriceData!C$10,CalculationsAndCharts!$A279+$A$11,0,1,1)","v":11951.53},{"$f":"OFFSET(InputPriceData!D$10,CalculationsAndCharts!$A279+$A$11,0,1,1)","v":11951.76},{"$f":"OFFSET(InputPriceData!E$10,CalculationsAndCharts!$A279+$A$11,0,1,1)","v":11630.03},{"$f":"OFFSET(InputPriceData!F$10,CalculationsAndCharts!$A279+$A$11,0,1,1)","v":11657.96},{"$f":"IF(AND(A279<=$B$20,$S$14),$T$14,0)","v":0},{"$f":"IF(AND(A279<=$B$20,$S$15),$T$15,0)","v":0},{"$f":"IF(AND(A279<=$B$20,$S$16),$T$16,0)","v":0},{"$f":"IF(AND(A279<=$B$20,$S$17),$T$17,0)","v":0},{"$f":"IF(AND(A279<=$B$20,$S$18),$T$18,0)","v":0},0,0,0,0,0,0,0,0,0,0,0,0,0]
[249,{"$f":"OFFSET(InputPriceData!B$10,CalculationsAndCharts!$A280+$A$11,0,1,1)","v":"2011-10-31"},{"$f":"OFFSET(InputPriceData!G$10,CalculationsAndCharts!$A280+$A$11,0,1,1)","v":185393194},{"$f":"OFFSET(InputPriceData!C$10,CalculationsAndCharts!$A280+$A$11,0,1,1)","v":12229.22},{"$f":"OFFSET(InputPriceData!D$10,CalculationsAndCharts!$A280+$A$11,0,1,1)","v":12229.29},{"$f":"OFFSET(InputPriceData!E$10,CalculationsAndCharts!$A280+$A$11,0,1,1)","v":11954.41},{"$f":"OFFSET(InputPriceData!F$10,CalculationsAndCharts!$A280+$A$11,0,1,1)","v":11955.01},{"$f":"IF(AND(A280<=$B$20,$S$14),$T$14,0)","v":0},{"$f":"IF(AND(A280<=$B$20,$S$15),$T$15,0)","v":0},{"$f":"IF(AND(A280<=$B$20,$S$16),$T$16,0)","v":0},{"$f":"IF(AND(A280<=$B$20,$S$17),$T$17,0)","v":0},{"$f":"IF(AND(A280<=$B$20,$S$18),$T$18,0)","v":0},0,0,0,0,0,0,0,0,0,0,0,0,0]
[250,{"$f":"OFFSET(InputPriceData!B$10,CalculationsAndCharts!$A281+$A$11,0,1,1)","v":"2011-10-28"},{"$f":"OFFSET(InputPriceData!G$10,CalculationsAndCharts!$A281+$A$11,0,1,1)","v":163589045},{"$f":"OFFSET(InputPriceData!C$10,CalculationsAndCharts!$A281+$A$11,0,1,1)","v":12207.34},{"$f":"OFFSET(InputPriceData!D$10,CalculationsAndCharts!$A281+$A$11,0,1,1)","v":12251.92},{"$f":"OFFSET(InputPriceData!E$10,CalculationsAndCharts!$A281+$A$11,0,1,1)","v":12164.24},{"$f":"OFFSET(InputPriceData!F$10,CalculationsAndCharts!$A281+$A$11,0,1,1)","v":12231.11},{"$f":"IF(AND(A281<=$B$20,$S$14),$T$14,0)","v":0},{"$f":"IF(AND(A281<=$B$20,$S$15),$T$15,0)","v":0},{"$f":"IF(AND(A281<=$B$20,$S$16),$T$16,0)","v":0},{"$f":"IF(AND(A281<=$B$20,$S$17),$T$17,0)","v":0},{"$f":"IF(AND(A281<=$B$20,$S$18),$T$18,0)","v":0},0,0,0,0,0,0,0,0,0,0,0,0,0]
[251,{"$f":"OFFSET(InputPriceData!B$10,CalculationsAndCharts!$A282+$A$11,0,1,1)","v":"2011-10-27"},{"$f":"OFFSET(InputPriceData!G$10,CalculationsAndCharts!$A282+$A$11,0,1,1)","v":251618523},{"$f":"OFFSET(InputPriceData!C$10,CalculationsAndCharts!$A282+$A$11,0,1,1)","v":11872.07},{"$f":"OFFSET(InputPriceData!D$10,CalculationsAndCharts!$A282+$A$11,0,1,1)","v":12284.31},{"$f":"OFFSET(InputPriceData!E$10,CalculationsAndCharts!$A282+$A$11,0,1,1)","v":11872.07},{"$f":"OFFSET(InputPriceData!F$10,CalculationsAndCharts!$A282+$A$11,0,1,1)","v":12208.55},{"$f":"IF(AND(A282<=$B$20,$S$14),$T$14,0)","v":0},{"$f":"IF(AND(A282<=$B$20,$S$15),$T$15,0)","v":0},{"$f":"IF(AND(A282<=$B$20,$S$16),$T$16,0)","v":0},{"$f":"IF(AND(A282<=$B$20,$S$17),$T$17,0)","v":0},{"$f":"IF(AND(A282<=$B$20,$S$18),$T$18,0)","v":0},0,0,0,0,0,0,0,0,0,0,0,0,0]
[252,{"$f":"OFFSET(InputPriceData!B$10,CalculationsAndCharts!$A283+$A$11,0,1,1)","v":"2011-10-26"},{"$f":"OFFSET(InputPriceData!G$10,CalculationsAndCharts!$A283+$A$11,0,1,1)","v":183477822},{"$f":"OFFSET(InputPriceData!C$10,CalculationsAndCharts!$A283+$A$11,0,1,1)","v":11707.76},{"$f":"OFFSET(InputPriceData!D$10,CalculationsAndCharts!$A283+$A$11,0,1,1)","v":11891.21},{"$f":"OFFSET(InputPriceData!E$10,CalculationsAndCharts!$A283+$A$11,0,1,1)","v":11694.36},{"$f":"OFFSET(InputPriceData!F$10,CalculationsAndCharts!$A283+$A$11,0,1,1)","v":11869.04},{"$f":"IF(AND(A283<=$B$20,$S$14),$T$14,0)","v":0},{"$f":"IF(AND(A283<=$B$20,$S$15),$T$15,0)","v":0},{"$f":"IF(AND(A283<=$B$20,$S$16),$T$16,0)","v":0},{"$f":"IF(AND(A283<=$B$20,$S$17),$T$17,0)","v":0},{"$f":"IF(AND(A283<=$B$20,$S$18),$T$18,0)","v":0},0,0,0,0,0,0,0,0,0,0,0,0,0]
[253,{"$f":"OFFSET(InputPriceData!B$10,CalculationsAndCharts!$A284+$A$11,0,1,1)","v":"2011-10-25"},{"$f":"OFFSET(InputPriceData!G$10,CalculationsAndCharts!$A284+$A$11,0,1,1)","v":161392867},{"$f":"OFFSET(InputPriceData!C$10,CalculationsAndCharts!$A284+$A$11,0,1,1)","v":11912.63},{"$f":"OFFSET(InputPriceData!D$10,CalculationsAndCharts!$A284+$A$11,0,1,1)","v":11912.86},{"$f":"OFFSET(InputPriceData!E$10,CalculationsAndCharts!$A284+$A$11,0,1,1)","v":11682.52},{"$f":"OFFSET(InputPriceData!F$10,CalculationsAndCharts!$A284+$A$11,0,1,1)","v":11706.62},{"$f":"IF(AND(A284<=$B$20,$S$14),$T$14,0)","v":0},{"$f":"IF(AND(A284<=$B$20,$S$15),$T$15,0)","v":0},{"$f":"IF(AND(A284<=$B$20,$S$16),$T$16,0)","v":0},{"$f":"IF(AND(A284<=$B$20,$S$17),$T$17,0)","v":0},{"$f":"IF(AND(A284<=$B$20,$S$18),$T$18,0)","v":0},0,0,0,0,0,0,0,0,0,0,0,0,0]
[254,{"$f":"OFFSET(InputPriceData!B$10,CalculationsAndCharts!$A285+$A$11,0,1,1)","v":"2011-10-24"},{"$f":"OFFSET(InputPriceData!G$10,CalculationsAndCharts!$A285+$A$11,0,1,1)","v":161850004},{"$f":"OFFSET(InputPriceData!C$10,CalculationsAndCharts!$A285+$A$11,0,1,1)","v":11807.96},{"$f":"OFFSET(InputPriceData!D$10,CalculationsAndCharts!$A285+$A$11,0,1,1)","v":11940.75},{"$f":"OFFSET(InputPriceData!E$10,CalculationsAndCharts!$A285+$A$11,0,1,1)","v":11805.77},{"$f":"OFFSET(InputPriceData!F$10,CalculationsAndCharts!$A285+$A$11,0,1,1)","v":11913.62},{"$f":"IF(AND(A285<=$B$20,$S$14),$T$14,0)","v":0},{"$f":"IF(AND(A285<=$B$20,$S$15),$T$15,0)","v":0},{"$f":"IF(AND(A285<=$B$20,$S$16),$T$16,0)","v":0},{"$f":"IF(AND(A285<=$B$20,$S$17),$T$17,0)","v":0},{"$f":"IF(AND(A285<=$B$20,$S$18),$T$18,0)","v":0},0,0,0,0,0,0,0,0,0,0,0,0,0]
[255,{"$f":"OFFSET(InputPriceData!B$10,CalculationsAndCharts!$A286+$A$11,0,1,1)","v":"2011-10-21"},{"$f":"OFFSET(InputPriceData!G$10,CalculationsAndCharts!$A286+$A$11,0,1,1)","v":263953477},{"$f":"OFFSET(InputPriceData!C$10,CalculationsAndCharts!$A286+$A$11,0,1,1)","v":11543.22},{"$f":"OFFSET(InputPriceData!D$10,CalculationsAndCharts!$A286+$A$11,0,1,1)","v":11812.46},{"$f":"OFFSET(InputPriceData!E$10,CalculationsAndCharts!$A286+$A$11,0,1,1)","v":11542.84},{"$f":"OFFSET(InputPriceData!F$10,CalculationsAndCharts!$A286+$A$11,0,1,1)","v":11808.79},{"$f":"IF(AND(A286<=$B$20,$S$14),$T$14,0)","v":0},{"$f":"IF(AND(A286<=$B$20,$S$15),$T$15,0)","v":0},{"$f":"IF(AND(A286<=$B$20,$S$16),$T$16,0)","v":0},{"$f":"IF(AND(A286<=$B$20,$S$17),$T$17,0)","v":0},{"$f":"IF(AND(A286<=$B$20,$S$18),$T$18,0)","v":0},0,0,0,0,0,0,0,0,0,0,0,0,0]
[256,{"$f":"OFFSET(InputPriceData!B$10,CalculationsAndCharts!$A287+$A$11,0,1,1)","v":"2011-10-20"},{"$f":"OFFSET(InputPriceData!G$10,CalculationsAndCharts!$A287+$A$11,0,1,1)","v":164972392},{"$f":"OFFSET(InputPriceData!C$10,CalculationsAndCharts!$A287+$A$11,0,1,1)","v":11502.13},{"$f":"OFFSET(InputPriceData!D$10,CalculationsAndCharts!$A287+$A$11,0,1,1)","v":11581.25},{"$f":"OFFSET(InputPriceData!E$10,CalculationsAndCharts!$A287+$A$11,0,1,1)","v":11391.14},{"$f":"OFFSET(InputPriceData!F$10,CalculationsAndCharts!$A287+$A$11,0,1,1)","v":11541.78},{"$f":"IF(AND(A287<=$B$20,$S$14),$T$14,0)","v":0},{"$f":"IF(AND(A287<=$B$20,$S$15),$T$15,0)","v":0},{"$f":"IF(AND(A287<=$B$20,$S$16),$T$16,0)","v":0},{"$f":"IF(AND(A287<=$B$20,$S$17),$T$17,0)","v":0},{"$f":"IF(AND(A287<=$B$20,$S$18),$T$18,0)","v":0},0,0,0,0,0,0,0,0,0,0,0,0,0]
[257,{"$f":"OFFSET(InputPriceData!B$10,CalculationsAndCharts!$A288+$A$11,0,1,1)","v":"2011-10-19"},{"$f":"OFFSET(InputPriceData!G$10,CalculationsAndCharts!$A288+$A$11,0,1,1)","v":169557957},{"$f":"OFFSET(InputPriceData!C$10,CalculationsAndCharts!$A288+$A$11,0,1,1)","v":11577.54},{"$f":"OFFSET(InputPriceData!D$10,CalculationsAndCharts!$A288+$A$11,0,1,1)","v":11633.7},{"$f":"OFFSET(InputPriceData!E$10,CalculationsAndCharts!$A288+$A$11,0,1,1)","v":11469.17},{"$f":"OFFSET(InputPriceData!F$10,CalculationsAndCharts!$A288+$A$11,0,1,1)","v":11504.62},{"$f":"IF(AND(A288<=$B$20,$S$14),$T$14,0)","v":0},{"$f":"IF(AND(A288<=$B$20,$S$15),$T$15,0)","v":0},{"$f":"IF(AND(A288<=$B$20,$S$16),$T$16,0)","v":0},{"$f":"IF(AND(A288<=$B$20,$S$17),$T$17,0)","v":0},{"$f":"IF(AND(A288<=$B$20,$S$18),$T$18,0)","v":0},0,0,0,0,0,0,{"$f":"IF($A288=$B$28,S$31,0)","v":0},0,0,0,0,0,0]
[258,{"$f":"OFFSET(InputPriceData!B$10,CalculationsAndCharts!$A289+$A$11,0,1,1)","v":"2011-10-18"},{"$f":"OFFSET(InputPriceData!G$10,CalculationsAndCharts!$A289+$A$11,0,1,1)","v":197728412},{"$f":"OFFSET(InputPriceData!C$10,CalculationsAndCharts!$A289+$A$11,0,1,1)","v":11396.17},{"$f":"OFFSET(InputPriceData!D$10,CalculationsAndCharts!$A289+$A$11,0,1,1)","v":11652.74},{"$f":"OFFSET(InputPriceData!E$10,CalculationsAndCharts!$A289+$A$11,0,1,1)","v":11296.12},{"$f":"OFFSET(InputPriceData!F$10,CalculationsAndCharts!$A289+$A$11,0,1,1)","v":11577.05},{"$f":"IF(AND(A289<=$B$20,$S$14),$T$14,0)","v":0},{"$f":"IF(AND(A289<=$B$20,$S$15),$T$15,0)","v":0},{"$f":"IF(AND(A289<=$B$20,$S$16),$T$16,0)","v":0},{"$f":"IF(AND(A289<=$B$20,$S$17),$T$17,0)","v":0},{"$f":"IF(AND(A289<=$B$20,$S$18),$T$18,0)","v":0},{"$f":"IF(AND(A289<=$B$20,$S$8),$T$8,0)","v":0},{"$f":"IF(AND(A289<=$B$20,$S$7),$T$7,0)","v":0},{"$f":"IF(AND(A289<=$B$20,$S$6),$T$6,0)","v":0},{"$f":"IF(AND(A289<=$B$20,$S$5),$T$5,0)","v":0},{"$f":"IF(AND(A289<=$B$20,$S$4),$T$4,0)","v":0},{"$f":"IF(AND(A289>$B$20,A289<=($B$20+$C$18)),$T$10-Y289,0)","v":0},0,{"$f":"IF($A289=$B$27,S$31,0)","v":0},{"$f":"IF(AND(A289<=$B$20,A289>($B$20-$C$18)),$F$11,0)","v":0},{"$f":"IF(AND($S$10,A289>$B$20,A289<=($B$20+$C$18)),$T$10,0)","v":0},{"$f":"IF(AND($S$11,A289>$B$20,A289<=($B$20+$C$18)),$T$11,0)","v":0},{"$f":"IF(AND($S$12,A289>$B$20,A289<=($B$20+$C$18)),$T$12,0)","v":0},{"$f":"IF(AND(A289>$B$20,A289<=($B$20+$C$18)),$T$12,0)","v":0}]
[259,{"$f":"OFFSET(InputPriceData!B$10,CalculationsAndCharts!$A290+$A$11,0,1,1)","v":"2011-10-17"},{"$f":"OFFSET(InputPriceData!G$10,CalculationsAndCharts!$A290+$A$11,0,1,1)","v":140311257},{"$f":"OFFSET(InputPriceData!C$10,CalculationsAndCharts!$A290+$A$11,0,1,1)","v":11643.35},{"$f":"OFFSET(InputPriceData!D$10,CalculationsAndCharts!$A290+$A$11,0,1,1)","v":11643.35},{"$f":"OFFSET(InputPriceData!E$10,CalculationsAndCharts!$A290+$A$11,0,1,1)","v":11378.35},{"$f":"OFFSET(InputPriceData!F$10,CalculationsAndCharts!$A290+$A$11,0,1,1)","v":11397},{"$f":"IF(AND(A290<=$B$20,$S$14),$T$14,0)","v":0},{"$f":"IF(AND(A290<=$B$20,$S$15),$T$15,0)","v":0},{"$f":"IF(AND(A290<=$B$20,$S$16),$T$16,0)","v":0},{"$f":"IF(AND(A290<=$B$20,$S$17),$T$17,0)","v":0},{"$f":"IF(AND(A290<=$B$20,$S$18),$T$18,0)","v":0},0,0,0,0,0,0,0,0,0,0,0,0,0]
[260,{"$f":"OFFSET(InputPriceData!B$10,CalculationsAndCharts!$A291+$A$11,0,1,1)","v":"2011-10-14"},{"$f":"OFFSET(InputPriceData!G$10,CalculationsAndCharts!$A291+$A$11,0,1,1)","v":129978008},{"$f":"OFFSET(InputPriceData!C$10,CalculationsAndCharts!$A291+$A$11,0,1,1)","v":11478.97},{"$f":"OFFSET(InputPriceData!D$10,CalculationsAndCharts!$A291+$A$11,0,1,1)","v":11646.83},{"$f":"OFFSET(InputPriceData!E$10,CalculationsAndCharts!$A291+$A$11,0,1,1)","v":11478.66},{"$f":"OFFSET(InputPriceData!F$10,CalculationsAndCharts!$A291+$A$11,0,1,1)","v":11644.49},{"$f":"IF(AND(A291<=$B$20,$S$14),$T$14,0)","v":0},{"$f":"IF(AND(A291<=$B$20,$S$15),$T$15,0)","v":0},{"$f":"IF(AND(A291<=$B$20,$S$16),$T$16,0)","v":0},{"$f":"IF(AND(A291<=$B$20,$S$17),$T$17,0)","v":0},{"$f":"IF(AND(A291<=$B$20,$S$18),$T$18,0)","v":0},0,0,0,0,0,0,0,0,0,0,0,0,0]
[261,{"$f":"OFFSET(InputPriceData!B$10,CalculationsAndCharts!$A292+$A$11,0,1,1)","v":"2011-10-13"},{"$f":"OFFSET(InputPriceData!G$10,CalculationsAndCharts!$A292+$A$11,0,1,1)","v":143589530},{"$f":"OFFSET(InputPriceData!C$10,CalculationsAndCharts!$A292+$A$11,0,1,1)","v":11518.09},{"$f":"OFFSET(InputPriceData!D$10,CalculationsAndCharts!$A292+$A$11,0,1,1)","v":11518.09},{"$f":"OFFSET(InputPriceData!E$10,CalculationsAndCharts!$A292+$A$11,0,1,1)","v":11377.82},{"$f":"OFFSET(InputPriceData!F$10,CalculationsAndCharts!$A292+$A$11,0,1,1)","v":11478.13},{"$f":"IF(AND(A292<=$B$20,$S$14),$T$14,0)","v":0},{"$f":"IF(AND(A292<=$B$20,$S$15),$T$15,0)","v":0},{"$f":"IF(AND(A292<=$B$20,$S$16),$T$16,0)","v":0},{"$f":"IF(AND(A292<=$B$20,$S$17),$T$17,0)","v":0},{"$f":"IF(AND(A292<=$B$20,$S$18),$T$18,0)","v":0},0,0,0,0,0,0,0,0,0,0,0,0,0]
[262,{"$f":"OFFSET(InputPriceData!B$10,CalculationsAndCharts!$A293+$A$11,0,1,1)","v":"2011-10-12"},{"$f":"OFFSET(InputPriceData!G$10,CalculationsAndCharts!$A293+$A$11,0,1,1)","v":188036124},{"$f":"OFFSET(InputPriceData!C$10,CalculationsAndCharts!$A293+$A$11,0,1,1)","v":11417.36},{"$f":"OFFSET(InputPriceData!D$10,CalculationsAndCharts!$A293+$A$11,0,1,1)","v":11625.3},{"$f":"OFFSET(InputPriceData!E$10,CalculationsAndCharts!$A293+$A$11,0,1,1)","v":11417.28},{"$f":"OFFSET(InputPriceData!F$10,CalculationsAndCharts!$A293+$A$11,0,1,1)","v":11518.85},{"$f":"IF(AND(A293<=$B$20,$S$14),$T$14,0)","v":0},{"$f":"IF(AND(A293<=$B$20,$S$15),$T$15,0)","v":0},{"$f":"IF(AND(A293<=$B$20,$S$16),$T$16,0)","v":0},{"$f":"IF(AND(A293<=$B$20,$S$17),$T$17,0)","v":0},{"$f":"IF(AND(A293<=$B$20,$S$18),$T$18,0)","v":0},0,0,0,0,0,0,0,0,0,0,0,0,0]
[263,{"$f":"OFFSET(InputPriceData!B$10,CalculationsAndCharts!$A294+$A$11,0,1,1)","v":"2011-10-11"},{"$f":"OFFSET(InputPriceData!G$10,CalculationsAndCharts!$A294+$A$11,0,1,1)","v":133331645},{"$f":"OFFSET(InputPriceData!C$10,CalculationsAndCharts!$A294+$A$11,0,1,1)","v":11432.8},{"$f":"OFFSET(InputPriceData!D$10,CalculationsAndCharts!$A294+$A$11,0,1,1)","v":11447.86},{"$f":"OFFSET(InputPriceData!E$10,CalculationsAndCharts!$A294+$A$11,0,1,1)","v":11365.67},{"$f":"OFFSET(InputPriceData!F$10,CalculationsAndCharts!$A294+$A$11,0,1,1)","v":11416.3},{"$f":"IF(AND(A294<=$B$20,$S$14),$T$14,0)","v":0},{"$f":"IF(AND(A294<=$B$20,$S$15),$T$15,0)","v":0},{"$f":"IF(AND(A294<=$B$20,$S$16),$T$16,0)","v":0},{"$f":"IF(AND(A294<=$B$20,$S$17),$T$17,0)","v":0},{"$f":"IF(AND(A294<=$B$20,$S$18),$T$18,0)","v":0},0,0,0,0,0,0,0,0,0,0,0,0,0]
[264,{"$f":"OFFSET(InputPriceData!B$10,CalculationsAndCharts!$A295+$A$11,0,1,1)","v":"2011-10-10"},{"$f":"OFFSET(InputPriceData!G$10,CalculationsAndCharts!$A295+$A$11,0,1,1)","v":144241831},{"$f":"OFFSET(InputPriceData!C$10,CalculationsAndCharts!$A295+$A$11,0,1,1)","v":11104.56},{"$f":"OFFSET(InputPriceData!D$10,CalculationsAndCharts!$A295+$A$11,0,1,1)","v":11433.33},{"$f":"OFFSET(InputPriceData!E$10,CalculationsAndCharts!$A295+$A$11,0,1,1)","v":11104.56},{"$f":"OFFSET(InputPriceData!F$10,CalculationsAndCharts!$A295+$A$11,0,1,1)","v":11433.18},{"$f":"IF(AND(A295<=$B$20,$S$14),$T$14,0)","v":0},{"$f":"IF(AND(A295<=$B$20,$S$15),$T$15,0)","v":0},{"$f":"IF(AND(A295<=$B$20,$S$16),$T$16,0)","v":0},{"$f":"IF(AND(A295<=$B$20,$S$17),$T$17,0)","v":0},{"$f":"IF(AND(A295<=$B$20,$S$18),$T$18,0)","v":0},0,0,0,0,0,0,0,0,0,0,0,0,0]
[265,{"$f":"OFFSET(InputPriceData!B$10,CalculationsAndCharts!$A296+$A$11,0,1,1)","v":"2011-10-07"},{"$f":"OFFSET(InputPriceData!G$10,CalculationsAndCharts!$A296+$A$11,0,1,1)","v":187989462},{"$f":"OFFSET(InputPriceData!C$10,CalculationsAndCharts!$A296+$A$11,0,1,1)","v":11123.41},{"$f":"OFFSET(InputPriceData!D$10,CalculationsAndCharts!$A296+$A$11,0,1,1)","v":11232.05},{"$f":"OFFSET(InputPriceData!E$10,CalculationsAndCharts!$A296+$A$11,0,1,1)","v":11051.13},{"$f":"OFFSET(InputPriceData!F$10,CalculationsAndCharts!$A296+$A$11,0,1,1)","v":11103.12},{"$f":"IF(AND(A296<=$B$20,$S$14),$T$14,0)","v":0},{"$f":"IF(AND(A296<=$B$20,$S$15),$T$15,0)","v":0},{"$f":"IF(AND(A296<=$B$20,$S$16),$T$16,0)","v":0},{"$f":"IF(AND(A296<=$B$20,$S$17),$T$17,0)","v":0},{"$f":"IF(AND(A296<=$B$20,$S$18),$T$18,0)","v":0},0,0,0,0,0,0,0,0,0,0,0,0,0]
[266,{"$f":"OFFSET(InputPriceData!B$10,CalculationsAndCharts!$A297+$A$11,0,1,1)","v":"2011-10-06"},{"$f":"OFFSET(InputPriceData!G$10,CalculationsAndCharts!$A297+$A$11,0,1,1)","v":189976200},{"$f":"OFFSET(InputPriceData!C$10,CalculationsAndCharts!$A297+$A$11,0,1,1)","v":10939.87},{"$f":"OFFSET(InputPriceData!D$10,CalculationsAndCharts!$A297+$A$11,0,1,1)","v":11132.6},{"$f":"OFFSET(InputPriceData!E$10,CalculationsAndCharts!$A297+$A$11,0,1,1)","v":10858.67},{"$f":"OFFSET(InputPriceData!F$10,CalculationsAndCharts!$A297+$A$11,0,1,1)","v":11123.33},{"$f":"IF(AND(A297<=$B$20,$S$14),$T$14,0)","v":0},{"$f":"IF(AND(A297<=$B$20,$S$15),$T$15,0)","v":0},{"$f":"IF(AND(A297<=$B$20,$S$16),$T$16,0)","v":0},{"$f":"IF(AND(A297<=$B$20,$S$17),$T$17,0)","v":0},{"$f":"IF(AND(A297<=$B$20,$S$18),$T$18,0)","v":0},0,0,0,0,0,0,0,0,0,0,0,0,0]
[267,{"$f":"OFFSET(InputPriceData!B$10,CalculationsAndCharts!$A298+$A$11,0,1,1)","v":"2011-10-05"},{"$f":"OFFSET(InputPriceData!G$10,CalculationsAndCharts!$A298+$A$11,0,1,1)","v":225866399},{"$f":"OFFSET(InputPriceData!C$10,CalculationsAndCharts!$A298+$A$11,0,1,1)","v":10800.47},{"$f":"OFFSET(InputPriceData!D$10,CalculationsAndCharts!$A298+$A$11,0,1,1)","v":10950.89},{"$f":"OFFSET(InputPriceData!E$10,CalculationsAndCharts!$A298+$A$11,0,1,1)","v":10738.1},{"$f":"OFFSET(InputPriceData!F$10,CalculationsAndCharts!$A298+$A$11,0,1,1)","v":10939.95},{"$f":"IF(AND(A298<=$B$20,$S$14),$T$14,0)","v":0},{"$f":"IF(AND(A298<=$B$20,$S$15),$T$15,0)","v":0},{"$f":"IF(AND(A298<=$B$20,$S$16),$T$16,0)","v":0},{"$f":"IF(AND(A298<=$B$20,$S$17),$T$17,0)","v":0},{"$f":"IF(AND(A298<=$B$20,$S$18),$T$18,0)","v":0},0,0,0,0,0,0,0,0,0,0,0,0,0]
[268,{"$f":"OFFSET(InputPriceData!B$10,CalculationsAndCharts!$A299+$A$11,0,1,1)","v":"2011-10-04"},{"$f":"OFFSET(InputPriceData!G$10,CalculationsAndCharts!$A299+$A$11,0,1,1)","v":266956964},{"$f":"OFFSET(InputPriceData!C$10,CalculationsAndCharts!$A299+$A$11,0,1,1)","v":10651.44},{"$f":"OFFSET(InputPriceData!D$10,CalculationsAndCharts!$A299+$A$11,0,1,1)","v":10825.44},{"$f":"OFFSET(InputPriceData!E$10,CalculationsAndCharts!$A299+$A$11,0,1,1)","v":10404.49},{"$f":"OFFSET(InputPriceData!F$10,CalculationsAndCharts!$A299+$A$11,0,1,1)","v":10808.71},{"$f":"IF(AND(A299<=$B$20,$S$14),$T$14,0)","v":0},{"$f":"IF(AND(A299<=$B$20,$S$15),$T$15,0)","v":0},{"$f":"IF(AND(A299<=$B$20,$S$16),$T$16,0)","v":0},{"$f":"IF(AND(A299<=$B$20,$S$17),$T$17,0)","v":0},{"$f":"IF(AND(A299<=$B$20,$S$18),$T$18,0)","v":0},0,0,0,0,0,0,0,0,0,0,0,0,0]
[269,{"$f":"OFFSET(InputPriceData!B$10,CalculationsAndCharts!$A300+$A$11,0,1,1)","v":"2011-10-03"},{"$f":"OFFSET(InputPriceData!G$10,CalculationsAndCharts!$A300+$A$11,0,1,1)","v":242818013},{"$f":"OFFSET(InputPriceData!C$10,CalculationsAndCharts!$A300+$A$11,0,1,1)","v":10912.1},{"$f":"OFFSET(InputPriceData!D$10,CalculationsAndCharts!$A300+$A$11,0,1,1)","v":10979.19},{"$f":"OFFSET(InputPriceData!E$10,CalculationsAndCharts!$A300+$A$11,0,1,1)","v":10653.34},{"$f":"OFFSET(InputPriceData!F$10,CalculationsAndCharts!$A300+$A$11,0,1,1)","v":10655.3},{"$f":"IF(AND(A300<=$B$20,$S$14),$T$14,0)","v":0},{"$f":"IF(AND(A300<=$B$20,$S$15),$T$15,0)","v":0},{"$f":"IF(AND(A300<=$B$20,$S$16),$T$16,0)","v":0},{"$f":"IF(AND(A300<=$B$20,$S$17),$T$17,0)","v":0},{"$f":"IF(AND(A300<=$B$20,$S$18),$T$18,0)","v":0},0,0,0,0,0,0,0,0,0,0,0,0,0]
[270,{"$f":"OFFSET(InputPriceData!B$10,CalculationsAndCharts!$A301+$A$11,0,1,1)","v":"2011-09-30"},{"$f":"OFFSET(InputPriceData!G$10,CalculationsAndCharts!$A301+$A$11,0,1,1)","v":212448439},{"$f":"OFFSET(InputPriceData!C$10,CalculationsAndCharts!$A301+$A$11,0,1,1)","v":11152.32},{"$f":"OFFSET(InputPriceData!D$10,CalculationsAndCharts!$A301+$A$11,0,1,1)","v":11152.39},{"$f":"OFFSET(InputPriceData!E$10,CalculationsAndCharts!$A301+$A$11,0,1,1)","v":10909.52},{"$f":"OFFSET(InputPriceData!F$10,CalculationsAndCharts!$A301+$A$11,0,1,1)","v":10913.38},{"$f":"IF(AND(A301<=$B$20,$S$14),$T$14,0)","v":0},{"$f":"IF(AND(A301<=$B$20,$S$15),$T$15,0)","v":0},{"$f":"IF(AND(A301<=$B$20,$S$16),$T$16,0)","v":0},{"$f":"IF(AND(A301<=$B$20,$S$17),$T$17,0)","v":0},{"$f":"IF(AND(A301<=$B$20,$S$18),$T$18,0)","v":0},0,0,0,0,0,0,0,0,0,0,0,0,0]
[271,{"$f":"OFFSET(InputPriceData!B$10,CalculationsAndCharts!$A302+$A$11,0,1,1)","v":"2011-09-29"},{"$f":"OFFSET(InputPriceData!G$10,CalculationsAndCharts!$A302+$A$11,0,1,1)","v":191328723},{"$f":"OFFSET(InputPriceData!C$10,CalculationsAndCharts!$A302+$A$11,0,1,1)","v":11012.79},{"$f":"OFFSET(InputPriceData!D$10,CalculationsAndCharts!$A302+$A$11,0,1,1)","v":11271.14},{"$f":"OFFSET(InputPriceData!E$10,CalculationsAndCharts!$A302+$A$11,0,1,1)","v":10965.45},{"$f":"OFFSET(InputPriceData!F$10,CalculationsAndCharts!$A302+$A$11,0,1,1)","v":11153.98},{"$f":"IF(AND(A302<=$B$20,$S$14),$T$14,0)","v":0},{"$f":"IF(AND(A302<=$B$20,$S$15),$T$15,0)","v":0},{"$f":"IF(AND(A302<=$B$20,$S$16),$T$16,0)","v":0},{"$f":"IF(AND(A302<=$B$20,$S$17),$T$17,0)","v":0},{"$f":"IF(AND(A302<=$B$20,$S$18),$T$18,0)","v":0},0,0,0,0,0,0,0,0,0,0,0,0,0]
[272,{"$f":"OFFSET(InputPriceData!B$10,CalculationsAndCharts!$A303+$A$11,0,1,1)","v":"2011-09-28"},{"$f":"OFFSET(InputPriceData!G$10,CalculationsAndCharts!$A303+$A$11,0,1,1)","v":172354935},{"$f":"OFFSET(InputPriceData!C$10,CalculationsAndCharts!$A303+$A$11,0,1,1)","v":11189.1},{"$f":"OFFSET(InputPriceData!D$10,CalculationsAndCharts!$A303+$A$11,0,1,1)","v":11317.08},{"$f":"OFFSET(InputPriceData!E$10,CalculationsAndCharts!$A303+$A$11,0,1,1)","v":10996.98},{"$f":"OFFSET(InputPriceData!F$10,CalculationsAndCharts!$A303+$A$11,0,1,1)","v":11010.9},{"$f":"IF(AND(A303<=$B$20,$S$14),$T$14,0)","v":0},{"$f":"IF(AND(A303<=$B$20,$S$15),$T$15,0)","v":0},{"$f":"IF(AND(A303<=$B$20,$S$16),$T$16,0)","v":0},{"$f":"IF(AND(A303<=$B$20,$S$17),$T$17,0)","v":0},{"$f":"IF(AND(A303<=$B$20,$S$18),$T$18,0)","v":0},0,0,0,0,0,0,0,0,0,0,0,0,0]
[273,{"$f":"OFFSET(InputPriceData!B$10,CalculationsAndCharts!$A304+$A$11,0,1,1)","v":"2011-09-27"},{"$f":"OFFSET(InputPriceData!G$10,CalculationsAndCharts!$A304+$A$11,0,1,1)","v":212449627},{"$f":"OFFSET(InputPriceData!C$10,CalculationsAndCharts!$A304+$A$11,0,1,1)","v":11045.23},{"$f":"OFFSET(InputPriceData!D$10,CalculationsAndCharts!$A304+$A$11,0,1,1)","v":11369.3},{"$f":"OFFSET(InputPriceData!E$10,CalculationsAndCharts!$A304+$A$11,0,1,1)","v":11045.23},{"$f":"OFFSET(InputPriceData!F$10,CalculationsAndCharts!$A304+$A$11,0,1,1)","v":11190.69},{"$f":"IF(AND(A304<=$B$20,$S$14),$T$14,0)","v":0},{"$f":"IF(AND(A304<=$B$20,$S$15),$T$15,0)","v":0},{"$f":"IF(AND(A304<=$B$20,$S$16),$T$16,0)","v":0},{"$f":"IF(AND(A304<=$B$20,$S$17),$T$17,0)","v":0},{"$f":"IF(AND(A304<=$B$20,$S$18),$T$18,0)","v":0},0,0,0,0,0,0,0,0,0,0,0,0,0]
[274,{"$f":"OFFSET(InputPriceData!B$10,CalculationsAndCharts!$A305+$A$11,0,1,1)","v":"2011-09-26"},{"$f":"OFFSET(InputPriceData!G$10,CalculationsAndCharts!$A305+$A$11,0,1,1)","v":225598457},{"$f":"OFFSET(InputPriceData!C$10,CalculationsAndCharts!$A305+$A$11,0,1,1)","v":10771.78},{"$f":"OFFSET(InputPriceData!D$10,CalculationsAndCharts!$A305+$A$11,0,1,1)","v":11057.49},{"$f":"OFFSET(InputPriceData!E$10,CalculationsAndCharts!$A305+$A$11,0,1,1)","v":10771.78},{"$f":"OFFSET(InputPriceData!F$10,CalculationsAndCharts!$A305+$A$11,0,1,1)","v":11043.86},{"$f":"IF(AND(A305<=$B$20,$S$14),$T$14,0)","v":0},{"$f":"IF(AND(A305<=$B$20,$S$15),$T$15,0)","v":0},{"$f":"IF(AND(A305<=$B$20,$S$16),$T$16,0)","v":0},{"$f":"IF(AND(A305<=$B$20,$S$17),$T$17,0)","v":0},{"$f":"IF(AND(A305<=$B$20,$S$18),$T$18,0)","v":0},0,0,0,0,0,0,0,0,0,0,0,0,0]
[275,{"$f":"OFFSET(InputPriceData!B$10,CalculationsAndCharts!$A306+$A$11,0,1,1)","v":"2011-09-23"},{"$f":"OFFSET(InputPriceData!G$10,CalculationsAndCharts!$A306+$A$11,0,1,1)","v":223121333},{"$f":"OFFSET(InputPriceData!C$10,CalculationsAndCharts!$A306+$A$11,0,1,1)","v":10732.77},{"$f":"OFFSET(InputPriceData!D$10,CalculationsAndCharts!$A306+$A$11,0,1,1)","v":10808.49},{"$f":"OFFSET(InputPriceData!E$10,CalculationsAndCharts!$A306+$A$11,0,1,1)","v":10638.73},{"$f":"OFFSET(InputPriceData!F$10,CalculationsAndCharts!$A306+$A$11,0,1,1)","v":10771.48},{"$f":"IF(AND(A306<=$B$20,$S$14),$T$14,0)","v":0},{"$f":"IF(AND(A306<=$B$20,$S$15),$T$15,0)","v":0},{"$f":"IF(AND(A306<=$B$20,$S$16),$T$16,0)","v":0},{"$f":"IF(AND(A306<=$B$20,$S$17),$T$17,0)","v":0},{"$f":"IF(AND(A306<=$B$20,$S$18),$T$18,0)","v":0},0,0,0,0,0,0,0,0,0,0,0,0,0]
[276,{"$f":"OFFSET(InputPriceData!B$10,CalculationsAndCharts!$A307+$A$11,0,1,1)","v":"2011-09-22"},{"$f":"OFFSET(InputPriceData!G$10,CalculationsAndCharts!$A307+$A$11,0,1,1)","v":306114558},{"$f":"OFFSET(InputPriceData!C$10,CalculationsAndCharts!$A307+$A$11,0,1,1)","v":11121.89},{"$f":"OFFSET(InputPriceData!D$10,CalculationsAndCharts!$A307+$A$11,0,1,1)","v":11122.12},{"$f":"OFFSET(InputPriceData!E$10,CalculationsAndCharts!$A307+$A$11,0,1,1)","v":10597.14},{"$f":"OFFSET(InputPriceData!F$10,CalculationsAndCharts!$A307+$A$11,0,1,1)","v":10733.83},{"$f":"IF(AND(A307<=$B$20,$S$14),$T$14,0)","v":0},{"$f":"IF(AND(A307<=$B$20,$S$15),$T$15,0)","v":0},{"$f":"IF(AND(A307<=$B$20,$S$16),$T$16,0)","v":0},{"$f":"IF(AND(A307<=$B$20,$S$17),$T$17,0)","v":0},{"$f":"IF(AND(A307<=$B$20,$S$18),$T$18,0)","v":0},0,0,0,0,0,0,0,0,0,0,0,0,0]
[277,{"$f":"OFFSET(InputPriceData!B$10,CalculationsAndCharts!$A308+$A$11,0,1,1)","v":"2011-09-21"},{"$f":"OFFSET(InputPriceData!G$10,CalculationsAndCharts!$A308+$A$11,0,1,1)","v":221139594},{"$f":"OFFSET(InputPriceData!C$10,CalculationsAndCharts!$A308+$A$11,0,1,1)","v":11408.58},{"$f":"OFFSET(InputPriceData!D$10,CalculationsAndCharts!$A308+$A$11,0,1,1)","v":11447.86},{"$f":"OFFSET(InputPriceData!E$10,CalculationsAndCharts!$A308+$A$11,0,1,1)","v":11117.28},{"$f":"OFFSET(InputPriceData!F$10,CalculationsAndCharts!$A308+$A$11,0,1,1)","v":11124.84},{"$f":"IF(AND(A308<=$B$20,$S$14),$T$14,0)","v":0},{"$f":"IF(AND(A308<=$B$20,$S$15),$T$15,0)","v":0},{"$f":"IF(AND(A308<=$B$20,$S$16),$T$16,0)","v":0},{"$f":"IF(AND(A308<=$B$20,$S$17),$T$17,0)","v":0},{"$f":"IF(AND(A308<=$B$20,$S$18),$T$18,0)","v":0},0,0,0,0,0,0,0,0,0,0,0,0,0]
[278,{"$f":"OFFSET(InputPriceData!B$10,CalculationsAndCharts!$A309+$A$11,0,1,1)","v":"2011-09-20"},{"$f":"OFFSET(InputPriceData!G$10,CalculationsAndCharts!$A309+$A$11,0,1,1)","v":157017735},{"$f":"OFFSET(InputPriceData!C$10,CalculationsAndCharts!$A309+$A$11,0,1,1)","v":11401.47},{"$f":"OFFSET(InputPriceData!D$10,CalculationsAndCharts!$A309+$A$11,0,1,1)","v":11550.22},{"$f":"OFFSET(InputPriceData!E$10,CalculationsAndCharts!$A309+$A$11,0,1,1)","v":11373.92},{"$f":"OFFSET(InputPriceData!F$10,CalculationsAndCharts!$A309+$A$11,0,1,1)","v":11408.66},{"$f":"IF(AND(A309<=$B$20,$S$14),$T$14,0)","v":0},{"$f":"IF(AND(A309<=$B$20,$S$15),$T$15,0)","v":0},{"$f":"IF(AND(A309<=$B$20,$S$16),$T$16,0)","v":0},{"$f":"IF(AND(A309<=$B$20,$S$17),$T$17,0)","v":0},{"$f":"IF(AND(A309<=$B$20,$S$18),$T$18,0)","v":0},0,0,0,0,0,0,0,0,0,0,0,0,0]
[279,{"$f":"OFFSET(InputPriceData!B$10,CalculationsAndCharts!$A310+$A$11,0,1,1)","v":"2011-09-19"},{"$f":"OFFSET(InputPriceData!G$10,CalculationsAndCharts!$A310+$A$11,0,1,1)","v":157453048},{"$f":"OFFSET(InputPriceData!C$10,CalculationsAndCharts!$A310+$A$11,0,1,1)","v":11506.67},{"$f":"OFFSET(InputPriceData!D$10,CalculationsAndCharts!$A310+$A$11,0,1,1)","v":11506.82},{"$f":"OFFSET(InputPriceData!E$10,CalculationsAndCharts!$A310+$A$11,0,1,1)","v":11255.25},{"$f":"OFFSET(InputPriceData!F$10,CalculationsAndCharts!$A310+$A$11,0,1,1)","v":11401.01},{"$f":"IF(AND(A310<=$B$20,$S$14),$T$14,0)","v":0},{"$f":"IF(AND(A310<=$B$20,$S$15),$T$15,0)","v":0},{"$f":"IF(AND(A310<=$B$20,$S$16),$T$16,0)","v":0},{"$f":"IF(AND(A310<=$B$20,$S$17),$T$17,0)","v":0},{"$f":"IF(AND(A310<=$B$20,$S$18),$T$18,0)","v":0},0,0,0,0,0,0,0,0,0,0,0,0,0]
[280,{"$f":"OFFSET(InputPriceData!B$10,CalculationsAndCharts!$A311+$A$11,0,1,1)","v":"2011-09-16"},{"$f":"OFFSET(InputPriceData!G$10,CalculationsAndCharts!$A311+$A$11,0,1,1)","v":425510938},{"$f":"OFFSET(InputPriceData!C$10,CalculationsAndCharts!$A311+$A$11,0,1,1)","v":11433.71},{"$f":"OFFSET(InputPriceData!D$10,CalculationsAndCharts!$A311+$A$11,0,1,1)","v":11532.47},{"$f":"OFFSET(InputPriceData!E$10,CalculationsAndCharts!$A311+$A$11,0,1,1)","v":11407.41},{"$f":"OFFSET(InputPriceData!F$10,CalculationsAndCharts!$A311+$A$11,0,1,1)","v":11509.09},{"$f":"IF(AND(A311<=$B$20,$S$14),$T$14,0)","v":0},{"$f":"IF(AND(A311<=$B$20,$S$15),$T$15,0)","v":0},{"$f":"IF(AND(A311<=$B$20,$S$16),$T$16,0)","v":0},{"$f":"IF(AND(A311<=$B$20,$S$17),$T$17,0)","v":0},{"$f":"IF(AND(A311<=$B$20,$S$18),$T$18,0)","v":0},0,0,0,0,0,0,0,0,0,0,0,0,0]
[281,{"$f":"OFFSET(InputPriceData!B$10,CalculationsAndCharts!$A312+$A$11,0,1,1)","v":"2011-09-15"},{"$f":"OFFSET(InputPriceData!G$10,CalculationsAndCharts!$A312+$A$11,0,1,1)","v":172025422},{"$f":"OFFSET(InputPriceData!C$10,CalculationsAndCharts!$A312+$A$11,0,1,1)","v":11247.72},{"$f":"OFFSET(InputPriceData!D$10,CalculationsAndCharts!$A312+$A$11,0,1,1)","v":11433.4},{"$f":"OFFSET(InputPriceData!E$10,CalculationsAndCharts!$A312+$A$11,0,1,1)","v":11247.49},{"$f":"OFFSET(InputPriceData!F$10,CalculationsAndCharts!$A312+$A$11,0,1,1)","v":11433.18},{"$f":"IF(AND(A312<=$B$20,$S$14),$T$14,0)","v":0},{"$f":"IF(AND(A312<=$B$20,$S$15),$T$15,0)","v":0},{"$f":"IF(AND(A312<=$B$20,$S$16),$T$16,0)","v":0},{"$f":"IF(AND(A312<=$B$20,$S$17),$T$17,0)","v":0},{"$f":"IF(AND(A312<=$B$20,$S$18),$T$18,0)","v":0},0,0,0,0,0,0,0,0,0,0,0,0,0]
[282,{"$f":"OFFSET(InputPriceData!B$10,CalculationsAndCharts!$A313+$A$11,0,1,1)","v":"2011-09-14"},{"$f":"OFFSET(InputPriceData!G$10,CalculationsAndCharts!$A313+$A$11,0,1,1)","v":192576015},{"$f":"OFFSET(InputPriceData!C$10,CalculationsAndCharts!$A313+$A$11,0,1,1)","v":11106.83},{"$f":"OFFSET(InputPriceData!D$10,CalculationsAndCharts!$A313+$A$11,0,1,1)","v":11386.78},{"$f":"OFFSET(InputPriceData!E$10,CalculationsAndCharts!$A313+$A$11,0,1,1)","v":10993.84},{"$f":"OFFSET(InputPriceData!F$10,CalculationsAndCharts!$A313+$A$11,0,1,1)","v":11246.73},{"$f":"IF(AND(A313<=$B$20,$S$14),$T$14,0)","v":0},{"$f":"IF(AND(A313<=$B$20,$S$15),$T$15,0)","v":0},{"$f":"IF(AND(A313<=$B$20,$S$16),$T$16,0)","v":0},{"$f":"IF(AND(A313<=$B$20,$S$17),$T$17,0)","v":0},{"$f":"IF(AND(A313<=$B$20,$S$18),$T$18,0)","v":0},0,0,0,0,0,0,0,0,0,0,0,0,0]
[283,{"$f":"OFFSET(InputPriceData!B$10,CalculationsAndCharts!$A314+$A$11,0,1,1)","v":"2011-09-13"},{"$f":"OFFSET(InputPriceData!G$10,CalculationsAndCharts!$A314+$A$11,0,1,1)","v":189937679},{"$f":"OFFSET(InputPriceData!C$10,CalculationsAndCharts!$A314+$A$11,0,1,1)","v":11054.99},{"$f":"OFFSET(InputPriceData!D$10,CalculationsAndCharts!$A314+$A$11,0,1,1)","v":11140.85},{"$f":"OFFSET(InputPriceData!E$10,CalculationsAndCharts!$A314+$A$11,0,1,1)","v":10987.18},{"$f":"OFFSET(InputPriceData!F$10,CalculationsAndCharts!$A314+$A$11,0,1,1)","v":11105.85},{"$f":"IF(AND(A314<=$B$20,$S$14),$T$14,0)","v":0},{"$f":"IF(AND(A314<=$B$20,$S$15),$T$15,0)","v":0},{"$f":"IF(AND(A314<=$B$20,$S$16),$T$16,0)","v":0},{"$f":"IF(AND(A314<=$B$20,$S$17),$T$17,0)","v":0},{"$f":"IF(AND(A314<=$B$20,$S$18),$T$18,0)","v":0},0,0,0,0,0,0,0,0,0,0,0,0,0]
[284,{"$f":"OFFSET(InputPriceData!B$10,CalculationsAndCharts!$A315+$A$11,0,1,1)","v":"2011-09-12"},{"$f":"OFFSET(InputPriceData!G$10,CalculationsAndCharts!$A315+$A$11,0,1,1)","v":197123737},{"$f":"OFFSET(InputPriceData!C$10,CalculationsAndCharts!$A315+$A$11,0,1,1)","v":10990.01},{"$f":"OFFSET(InputPriceData!D$10,CalculationsAndCharts!$A315+$A$11,0,1,1)","v":11062.03},{"$f":"OFFSET(InputPriceData!E$10,CalculationsAndCharts!$A315+$A$11,0,1,1)","v":10824.76},{"$f":"OFFSET(InputPriceData!F$10,CalculationsAndCharts!$A315+$A$11,0,1,1)","v":11061.12},{"$f":"IF(AND(A315<=$B$20,$S$14),$T$14,0)","v":0},{"$f":"IF(AND(A315<=$B$20,$S$15),$T$15,0)","v":0},{"$f":"IF(AND(A315<=$B$20,$S$16),$T$16,0)","v":0},{"$f":"IF(AND(A315<=$B$20,$S$17),$T$17,0)","v":0},{"$f":"IF(AND(A315<=$B$20,$S$18),$T$18,0)","v":0},0,0,0,0,0,0,0,0,0,0,0,0,0]
[285,{"$f":"OFFSET(InputPriceData!B$10,CalculationsAndCharts!$A316+$A$11,0,1,1)","v":"2011-09-09"},{"$f":"OFFSET(InputPriceData!G$10,CalculationsAndCharts!$A316+$A$11,0,1,1)","v":227753635},{"$f":"OFFSET(InputPriceData!C$10,CalculationsAndCharts!$A316+$A$11,0,1,1)","v":11294.6},{"$f":"OFFSET(InputPriceData!D$10,CalculationsAndCharts!$A316+$A$11,0,1,1)","v":11294.83},{"$f":"OFFSET(InputPriceData!E$10,CalculationsAndCharts!$A316+$A$11,0,1,1)","v":10935.64},{"$f":"OFFSET(InputPriceData!F$10,CalculationsAndCharts!$A316+$A$11,0,1,1)","v":10992.13},{"$f":"IF(AND(A316<=$B$20,$S$14),$T$14,0)","v":0},{"$f":"IF(AND(A316<=$B$20,$S$15),$T$15,0)","v":0},{"$f":"IF(AND(A316<=$B$20,$S$16),$T$16,0)","v":0},{"$f":"IF(AND(A316<=$B$20,$S$17),$T$17,0)","v":0},{"$f":"IF(AND(A316<=$B$20,$S$18),$T$18,0)","v":0},0,0,0,0,0,0,0,0,0,0,0,0,0]
[286,{"$f":"OFFSET(InputPriceData!B$10,CalculationsAndCharts!$A317+$A$11,0,1,1)","v":"2011-09-08"},{"$f":"OFFSET(InputPriceData!G$10,CalculationsAndCharts!$A317+$A$11,0,1,1)","v":172998309},{"$f":"OFFSET(InputPriceData!C$10,CalculationsAndCharts!$A317+$A$11,0,1,1)","v":11414.86},{"$f":"OFFSET(InputPriceData!D$10,CalculationsAndCharts!$A317+$A$11,0,1,1)","v":11477.3},{"$f":"OFFSET(InputPriceData!E$10,CalculationsAndCharts!$A317+$A$11,0,1,1)","v":11283.74},{"$f":"OFFSET(InputPriceData!F$10,CalculationsAndCharts!$A317+$A$11,0,1,1)","v":11295.81},{"$f":"IF(AND(A317<=$B$20,$S$14),$T$14,0)","v":0},{"$f":"IF(AND(A317<=$B$20,$S$15),$T$15,0)","v":0},{"$f":"IF(AND(A317<=$B$20,$S$16),$T$16,0)","v":0},{"$f":"IF(AND(A317<=$B$20,$S$17),$T$17,0)","v":0},{"$f":"IF(AND(A317<=$B$20,$S$18),$T$18,0)","v":0},0,0,0,0,0,0,0,0,0,0,0,0,0]
[287,{"$f":"OFFSET(InputPriceData!B$10,CalculationsAndCharts!$A318+$A$11,0,1,1)","v":"2011-09-07"},{"$f":"OFFSET(InputPriceData!G$10,CalculationsAndCharts!$A318+$A$11,0,1,1)","v":166242731},{"$f":"OFFSET(InputPriceData!C$10,CalculationsAndCharts!$A318+$A$11,0,1,1)","v":11137.63},{"$f":"OFFSET(InputPriceData!D$10,CalculationsAndCharts!$A318+$A$11,0,1,1)","v":11414.86},{"$f":"OFFSET(InputPriceData!E$10,CalculationsAndCharts!$A318+$A$11,0,1,1)","v":11137.63},{"$f":"OFFSET(InputPriceData!F$10,CalculationsAndCharts!$A318+$A$11,0,1,1)","v":11414.86},{"$f":"IF(AND(A318<=$B$20,$S$14),$T$14,0)","v":0},{"$f":"IF(AND(A318<=$B$20,$S$15),$T$15,0)","v":0},{"$f":"IF(AND(A318<=$B$20,$S$16),$T$16,0)","v":0},{"$f":"IF(AND(A318<=$B$20,$S$17),$T$17,0)","v":0},{"$f":"IF(AND(A318<=$B$20,$S$18),$T$18,0)","v":0},0,0,0,0,0,0,0,0,0,0,0,0,0]
[288,{"$f":"OFFSET(InputPriceData!B$10,CalculationsAndCharts!$A319+$A$11,0,1,1)","v":"2011-09-06"},{"$f":"OFFSET(InputPriceData!G$10,CalculationsAndCharts!$A319+$A$11,0,1,1)","v":217386111},{"$f":"OFFSET(InputPriceData!C$10,CalculationsAndCharts!$A319+$A$11,0,1,1)","v":11237.31},{"$f":"OFFSET(InputPriceData!D$10,CalculationsAndCharts!$A319+$A$11,0,1,1)","v":11237.46},{"$f":"OFFSET(InputPriceData!E$10,CalculationsAndCharts!$A319+$A$11,0,1,1)","v":10932.53},{"$f":"OFFSET(InputPriceData!F$10,CalculationsAndCharts!$A319+$A$11,0,1,1)","v":11139.3},{"$f":"IF(AND(A319<=$B$20,$S$14),$T$14,0)","v":0},{"$f":"IF(AND(A319<=$B$20,$S$15),$T$15,0)","v":0},{"$f":"IF(AND(A319<=$B$20,$S$16),$T$16,0)","v":0},{"$f":"IF(AND(A319<=$B$20,$S$17),$T$17,0)","v":0},{"$f":"IF(AND(A319<=$B$20,$S$18),$T$18,0)","v":0},0,0,0,0,0,0,0,0,0,0,0,0,0]
[289,{"$f":"OFFSET(InputPriceData!B$10,CalculationsAndCharts!$A320+$A$11,0,1,1)","v":"2011-09-02"},{"$f":"OFFSET(InputPriceData!G$10,CalculationsAndCharts!$A320+$A$11,0,1,1)","v":174648265},{"$f":"OFFSET(InputPriceData!C$10,CalculationsAndCharts!$A320+$A$11,0,1,1)","v":11492.06},{"$f":"OFFSET(InputPriceData!D$10,CalculationsAndCharts!$A320+$A$11,0,1,1)","v":11492.14},{"$f":"OFFSET(InputPriceData!E$10,CalculationsAndCharts!$A320+$A$11,0,1,1)","v":11211.35},{"$f":"OFFSET(InputPriceData!F$10,CalculationsAndCharts!$A320+$A$11,0,1,1)","v":11240.26},{"$f":"IF(AND(A320<=$B$20,$S$14),$T$14,0)","v":0},{"$f":"IF(AND(A320<=$B$20,$S$15),$T$15,0)","v":0},{"$f":"IF(AND(A320<=$B$20,$S$16),$T$16,0)","v":0},{"$f":"IF(AND(A320<=$B$20,$S$17),$T$17,0)","v":0},{"$f":"IF(AND(A320<=$B$20,$S$18),$T$18,0)","v":0},0,0,0,0,0,0,0,0,0,0,0,0,0]
[290,{"$f":"OFFSET(InputPriceData!B$10,CalculationsAndCharts!$A321+$A$11,0,1,1)","v":"2011-09-01"},{"$f":"OFFSET(InputPriceData!G$10,CalculationsAndCharts!$A321+$A$11,0,1,1)","v":178098073},{"$f":"OFFSET(InputPriceData!C$10,CalculationsAndCharts!$A321+$A$11,0,1,1)","v":11613.3},{"$f":"OFFSET(InputPriceData!D$10,CalculationsAndCharts!$A321+$A$11,0,1,1)","v":11716.84},{"$f":"OFFSET(InputPriceData!E$10,CalculationsAndCharts!$A321+$A$11,0,1,1)","v":11488.46},{"$f":"OFFSET(InputPriceData!F$10,CalculationsAndCharts!$A321+$A$11,0,1,1)","v":11493.57},{"$f":"IF(AND(A321<=$B$20,$S$14),$T$14,0)","v":0},{"$f":"IF(AND(A321<=$B$20,$S$15),$T$15,0)","v":0},{"$f":"IF(AND(A321<=$B$20,$S$16),$T$16,0)","v":0},{"$f":"IF(AND(A321<=$B$20,$S$17),$T$17,0)","v":0},{"$f":"IF(AND(A321<=$B$20,$S$18),$T$18,0)","v":0},0,0,0,0,0,0,0,0,0,0,0,0,0]
[291,{"$f":"OFFSET(InputPriceData!B$10,CalculationsAndCharts!$A322+$A$11,0,1,1)","v":"2011-08-31"},{"$f":"OFFSET(InputPriceData!G$10,CalculationsAndCharts!$A322+$A$11,0,1,1)","v":229674802},{"$f":"OFFSET(InputPriceData!C$10,CalculationsAndCharts!$A322+$A$11,0,1,1)","v":11560.48},{"$f":"OFFSET(InputPriceData!D$10,CalculationsAndCharts!$A322+$A$11,0,1,1)","v":11712.6},{"$f":"OFFSET(InputPriceData!E$10,CalculationsAndCharts!$A322+$A$11,0,1,1)","v":11528.08},{"$f":"OFFSET(InputPriceData!F$10,CalculationsAndCharts!$A322+$A$11,0,1,1)","v":11613.53},{"$f":"IF(AND(A322<=$B$20,$S$14),$T$14,0)","v":0},{"$f":"IF(AND(A322<=$B$20,$S$15),$T$15,0)","v":0},{"$f":"IF(AND(A322<=$B$20,$S$16),$T$16,0)","v":0},{"$f":"IF(AND(A322<=$B$20,$S$17),$T$17,0)","v":0},{"$f":"IF(AND(A322<=$B$20,$S$18),$T$18,0)","v":0},0,0,0,0,0,0,0,0,0,0,0,0,0]
[292,{"$f":"OFFSET(InputPriceData!B$10,CalculationsAndCharts!$A323+$A$11,0,1,1)","v":"2011-08-30"},{"$f":"OFFSET(InputPriceData!G$10,CalculationsAndCharts!$A323+$A$11,0,1,1)","v":181968355},{"$f":"OFFSET(InputPriceData!C$10,CalculationsAndCharts!$A323+$A$11,0,1,1)","v":11532.13},{"$f":"OFFSET(InputPriceData!D$10,CalculationsAndCharts!$A323+$A$11,0,1,1)","v":11630.07},{"$f":"OFFSET(InputPriceData!E$10,CalculationsAndCharts!$A323+$A$11,0,1,1)","v":11429.39},{"$f":"OFFSET(InputPriceData!F$10,CalculationsAndCharts!$A323+$A$11,0,1,1)","v":11559.95},{"$f":"IF(AND(A323<=$B$20,$S$14),$T$14,0)","v":0},{"$f":"IF(AND(A323<=$B$20,$S$15),$T$15,0)","v":0},{"$f":"IF(AND(A323<=$B$20,$S$16),$T$16,0)","v":0},{"$f":"IF(AND(A323<=$B$20,$S$17),$T$17,0)","v":0},{"$f":"IF(AND(A323<=$B$20,$S$18),$T$18,0)","v":0},0,0,0,0,0,0,0,0,0,0,0,0,0]
[293,{"$f":"OFFSET(InputPriceData!B$10,CalculationsAndCharts!$A324+$A$11,0,1,1)","v":"2011-08-29"},{"$f":"OFFSET(InputPriceData!G$10,CalculationsAndCharts!$A324+$A$11,0,1,1)","v":177504992},{"$f":"OFFSET(InputPriceData!C$10,CalculationsAndCharts!$A324+$A$11,0,1,1)","v":11286.65},{"$f":"OFFSET(InputPriceData!D$10,CalculationsAndCharts!$A324+$A$11,0,1,1)","v":11541.78},{"$f":"OFFSET(InputPriceData!E$10,CalculationsAndCharts!$A324+$A$11,0,1,1)","v":11286.58},{"$f":"OFFSET(InputPriceData!F$10,CalculationsAndCharts!$A324+$A$11,0,1,1)","v":11539.25},{"$f":"IF(AND(A324<=$B$20,$S$14),$T$14,0)","v":0},{"$f":"IF(AND(A324<=$B$20,$S$15),$T$15,0)","v":0},{"$f":"IF(AND(A324<=$B$20,$S$16),$T$16,0)","v":0},{"$f":"IF(AND(A324<=$B$20,$S$17),$T$17,0)","v":0},{"$f":"IF(AND(A324<=$B$20,$S$18),$T$18,0)","v":0},0,0,0,0,0,0,0,0,0,0,0,0,0]
[294,{"$f":"OFFSET(InputPriceData!B$10,CalculationsAndCharts!$A325+$A$11,0,1,1)","v":"2011-08-26"},{"$f":"OFFSET(InputPriceData!G$10,CalculationsAndCharts!$A325+$A$11,0,1,1)","v":244297740},{"$f":"OFFSET(InputPriceData!C$10,CalculationsAndCharts!$A325+$A$11,0,1,1)","v":11145.2},{"$f":"OFFSET(InputPriceData!D$10,CalculationsAndCharts!$A325+$A$11,0,1,1)","v":11326.43},{"$f":"OFFSET(InputPriceData!E$10,CalculationsAndCharts!$A325+$A$11,0,1,1)","v":10929.2},{"$f":"OFFSET(InputPriceData!F$10,CalculationsAndCharts!$A325+$A$11,0,1,1)","v":11284.54},{"$f":"IF(AND(A325<=$B$20,$S$14),$T$14,0)","v":0},{"$f":"IF(AND(A325<=$B$20,$S$15),$T$15,0)","v":0},{"$f":"IF(AND(A325<=$B$20,$S$16),$T$16,0)","v":0},{"$f":"IF(AND(A325<=$B$20,$S$17),$T$17,0)","v":0},{"$f":"IF(AND(A325<=$B$20,$S$18),$T$18,0)","v":0},0,0,0,0,0,0,0,0,0,0,0,0,0]
[295,{"$f":"OFFSET(InputPriceData!B$10,CalculationsAndCharts!$A326+$A$11,0,1,1)","v":"2011-08-25"},{"$f":"OFFSET(InputPriceData!G$10,CalculationsAndCharts!$A326+$A$11,0,1,1)","v":254987692},{"$f":"OFFSET(InputPriceData!C$10,CalculationsAndCharts!$A326+$A$11,0,1,1)","v":11321.02},{"$f":"OFFSET(InputPriceData!D$10,CalculationsAndCharts!$A326+$A$11,0,1,1)","v":11406.39},{"$f":"OFFSET(InputPriceData!E$10,CalculationsAndCharts!$A326+$A$11,0,1,1)","v":11106.76},{"$f":"OFFSET(InputPriceData!F$10,CalculationsAndCharts!$A326+$A$11,0,1,1)","v":11149.82},{"$f":"IF(AND(A326<=$B$20,$S$14),$T$14,0)","v":0},{"$f":"IF(AND(A326<=$B$20,$S$15),$T$15,0)","v":0},{"$f":"IF(AND(A326<=$B$20,$S$16),$T$16,0)","v":0},{"$f":"IF(AND(A326<=$B$20,$S$17),$T$17,0)","v":0},{"$f":"IF(AND(A326<=$B$20,$S$18),$T$18,0)","v":0},0,0,0,0,0,0,0,0,0,0,0,0,0]
[296,{"$f":"OFFSET(InputPriceData!B$10,CalculationsAndCharts!$A327+$A$11,0,1,1)","v":"2011-08-24"},{"$f":"OFFSET(InputPriceData!G$10,CalculationsAndCharts!$A327+$A$11,0,1,1)","v":227361436},{"$f":"OFFSET(InputPriceData!C$10,CalculationsAndCharts!$A327+$A$11,0,1,1)","v":11175.78},{"$f":"OFFSET(InputPriceData!D$10,CalculationsAndCharts!$A327+$A$11,0,1,1)","v":11331.57},{"$f":"OFFSET(InputPriceData!E$10,CalculationsAndCharts!$A327+$A$11,0,1,1)","v":11113.04},{"$f":"OFFSET(InputPriceData!F$10,CalculationsAndCharts!$A327+$A$11,0,1,1)","v":11320.71},{"$f":"IF(AND(A327<=$B$20,$S$14),$T$14,0)","v":0},{"$f":"IF(AND(A327<=$B$20,$S$15),$T$15,0)","v":0},{"$f":"IF(AND(A327<=$B$20,$S$16),$T$16,0)","v":0},{"$f":"IF(AND(A327<=$B$20,$S$17),$T$17,0)","v":0},{"$f":"IF(AND(A327<=$B$20,$S$18),$T$18,0)","v":0},0,0,0,0,0,0,0,0,0,0,0,0,0]
[297,{"$f":"OFFSET(InputPriceData!B$10,CalculationsAndCharts!$A328+$A$11,0,1,1)","v":"2011-08-23"},{"$f":"OFFSET(InputPriceData!G$10,CalculationsAndCharts!$A328+$A$11,0,1,1)","v":244081089},{"$f":"OFFSET(InputPriceData!C$10,CalculationsAndCharts!$A328+$A$11,0,1,1)","v":10854.58},{"$f":"OFFSET(InputPriceData!D$10,CalculationsAndCharts!$A328+$A$11,0,1,1)","v":11176.84},{"$f":"OFFSET(InputPriceData!E$10,CalculationsAndCharts!$A328+$A$11,0,1,1)","v":10854.43},{"$f":"OFFSET(InputPriceData!F$10,CalculationsAndCharts!$A328+$A$11,0,1,1)","v":11176.76},{"$f":"IF(AND(A328<=$B$20,$S$14),$T$14,0)","v":0},{"$f":"IF(AND(A328<=$B$20,$S$15),$T$15,0)","v":0},{"$f":"IF(AND(A328<=$B$20,$S$16),$T$16,0)","v":0},{"$f":"IF(AND(A328<=$B$20,$S$17),$T$17,0)","v":0},{"$f":"IF(AND(A328<=$B$20,$S$18),$T$18,0)","v":0},0,0,0,0,0,0,0,0,0,0,0,0,0]
[298,{"$f":"OFFSET(InputPriceData!B$10,CalculationsAndCharts!$A329+$A$11,0,1,1)","v":"2011-08-22"},{"$f":"OFFSET(InputPriceData!G$10,CalculationsAndCharts!$A329+$A$11,0,1,1)","v":226715263},{"$f":"OFFSET(InputPriceData!C$10,CalculationsAndCharts!$A329+$A$11,0,1,1)","v":10820.37},{"$f":"OFFSET(InputPriceData!D$10,CalculationsAndCharts!$A329+$A$11,0,1,1)","v":11020.55},{"$f":"OFFSET(InputPriceData!E$10,CalculationsAndCharts!$A329+$A$11,0,1,1)","v":10820.37},{"$f":"OFFSET(InputPriceData!F$10,CalculationsAndCharts!$A329+$A$11,0,1,1)","v":10854.65},{"$f":"IF(AND(A329<=$B$20,$S$14),$T$14,0)","v":0},{"$f":"IF(AND(A329<=$B$20,$S$15),$T$15,0)","v":0},{"$f":"IF(AND(A329<=$B$20,$S$16),$T$16,0)","v":0},{"$f":"IF(AND(A329<=$B$20,$S$17),$T$17,0)","v":0},{"$f":"IF(AND(A329<=$B$20,$S$18),$T$18,0)","v":0},0,0,0,0,0,0,0,0,0,0,0,0,0]
[299,{"$f":"OFFSET(InputPriceData!B$10,CalculationsAndCharts!$A330+$A$11,0,1,1)","v":"2011-08-19"},{"$f":"OFFSET(InputPriceData!G$10,CalculationsAndCharts!$A330+$A$11,0,1,1)","v":336342109},{"$f":"OFFSET(InputPriceData!C$10,CalculationsAndCharts!$A330+$A$11,0,1,1)","v":10989.75},{"$f":"OFFSET(InputPriceData!D$10,CalculationsAndCharts!$A330+$A$11,0,1,1)","v":11086.4},{"$f":"OFFSET(InputPriceData!E$10,CalculationsAndCharts!$A330+$A$11,0,1,1)","v":10801.41},{"$f":"OFFSET(InputPriceData!F$10,CalculationsAndCharts!$A330+$A$11,0,1,1)","v":10817.65},{"$f":"IF(AND(A330<=$B$20,$S$14),$T$14,0)","v":0},{"$f":"IF(AND(A330<=$B$20,$S$15),$T$15,0)","v":0},{"$f":"IF(AND(A330<=$B$20,$S$16),$T$16,0)","v":0},{"$f":"IF(AND(A330<=$B$20,$S$17),$T$17,0)","v":0},{"$f":"IF(AND(A330<=$B$20,$S$18),$T$18,0)","v":0},0,0,0,0,0,0,0,0,0,0,0,0,0]
[300,{"$f":"OFFSET(InputPriceData!B$10,CalculationsAndCharts!$A331+$A$11,0,1,1)","v":"2011-08-18"},{"$f":"OFFSET(InputPriceData!G$10,CalculationsAndCharts!$A331+$A$11,0,1,1)","v":308402854},{"$f":"OFFSET(InputPriceData!C$10,CalculationsAndCharts!$A331+$A$11,0,1,1)","v":11406.27},{"$f":"OFFSET(InputPriceData!D$10,CalculationsAndCharts!$A331+$A$11,0,1,1)","v":11406.5},{"$f":"OFFSET(InputPriceData!E$10,CalculationsAndCharts!$A331+$A$11,0,1,1)","v":10881.6},{"$f":"OFFSET(InputPriceData!F$10,CalculationsAndCharts!$A331+$A$11,0,1,1)","v":10990.58},{"$f":"IF(AND(A331<=$B$20,$S$14),$T$14,0)","v":0},{"$f":"IF(AND(A331<=$B$20,$S$15),$T$15,0)","v":0},{"$f":"IF(AND(A331<=$B$20,$S$16),$T$16,0)","v":0},{"$f":"IF(AND(A331<=$B$20,$S$17),$T$17,0)","v":0},{"$f":"IF(AND(A331<=$B$20,$S$18),$T$18,0)","v":0},0,0,0,0,0,0,0,0,0,0,0,0,0]
[301,{"$f":"OFFSET(InputPriceData!B$10,CalculationsAndCharts!$A332+$A$11,0,1,1)","v":"2011-08-17"},{"$f":"OFFSET(InputPriceData!G$10,CalculationsAndCharts!$A332+$A$11,0,1,1)","v":171232413},{"$f":"OFFSET(InputPriceData!C$10,CalculationsAndCharts!$A332+$A$11,0,1,1)","v":11392.01},{"$f":"OFFSET(InputPriceData!D$10,CalculationsAndCharts!$A332+$A$11,0,1,1)","v":11529.67},{"$f":"OFFSET(InputPriceData!E$10,CalculationsAndCharts!$A332+$A$11,0,1,1)","v":11322.3},{"$f":"OFFSET(InputPriceData!F$10,CalculationsAndCharts!$A332+$A$11,0,1,1)","v":11410.21},{"$f":"IF(AND(A332<=$B$20,$S$14),$T$14,0)","v":0},{"$f":"IF(AND(A332<=$B$20,$S$15),$T$15,0)","v":0},{"$f":"IF(AND(A332<=$B$20,$S$16),$T$16,0)","v":0},{"$f":"IF(AND(A332<=$B$20,$S$17),$T$17,0)","v":0},{"$f":"IF(AND(A332<=$B$20,$S$18),$T$18,0)","v":0},0,0,0,0,0,0,0,0,0,0,0,0,0]
[302,{"$f":"OFFSET(InputPriceData!B$10,CalculationsAndCharts!$A333+$A$11,0,1,1)","v":"2011-08-16"},{"$f":"OFFSET(InputPriceData!G$10,CalculationsAndCharts!$A333+$A$11,0,1,1)","v":187632164},{"$f":"OFFSET(InputPriceData!C$10,CalculationsAndCharts!$A333+$A$11,0,1,1)","v":11480.48},{"$f":"OFFSET(InputPriceData!D$10,CalculationsAndCharts!$A333+$A$11,0,1,1)","v":11488.01},{"$f":"OFFSET(InputPriceData!E$10,CalculationsAndCharts!$A333+$A$11,0,1,1)","v":11292.63},{"$f":"OFFSET(InputPriceData!F$10,CalculationsAndCharts!$A333+$A$11,0,1,1)","v":11405.93},{"$f":"IF(AND(A333<=$B$20,$S$14),$T$14,0)","v":0},{"$f":"IF(AND(A333<=$B$20,$S$15),$T$15,0)","v":0},{"$f":"IF(AND(A333<=$B$20,$S$16),$T$16,0)","v":0},{"$f":"IF(AND(A333<=$B$20,$S$17),$T$17,0)","v":0},{"$f":"IF(AND(A333<=$B$20,$S$18),$T$18,0)","v":0},0,0,0,0,0,0,0,0,0,0,0,0,0]
[303,{"$f":"OFFSET(InputPriceData!B$10,CalculationsAndCharts!$A334+$A$11,0,1,1)","v":"2011-08-15"},{"$f":"OFFSET(InputPriceData!G$10,CalculationsAndCharts!$A334+$A$11,0,1,1)","v":187943407},{"$f":"OFFSET(InputPriceData!C$10,CalculationsAndCharts!$A334+$A$11,0,1,1)","v":11269.85},{"$f":"OFFSET(InputPriceData!D$10,CalculationsAndCharts!$A334+$A$11,0,1,1)","v":11484.6},{"$f":"OFFSET(InputPriceData!E$10,CalculationsAndCharts!$A334+$A$11,0,1,1)","v":11269.85},{"$f":"OFFSET(InputPriceData!F$10,CalculationsAndCharts!$A334+$A$11,0,1,1)","v":11482.9},{"$f":"IF(AND(A334<=$B$20,$S$14),$T$14,0)","v":0},{"$f":"IF(AND(A334<=$B$20,$S$15),$T$15,0)","v":0},{"$f":"IF(AND(A334<=$B$20,$S$16),$T$16,0)","v":0},{"$f":"IF(AND(A334<=$B$20,$S$17),$T$17,0)","v":0},{"$f":"IF(AND(A334<=$B$20,$S$18),$T$18,0)","v":0},0,0,0,0,0,0,0,0,0,0,0,0,0]
[304,{"$f":"OFFSET(InputPriceData!B$10,CalculationsAndCharts!$A335+$A$11,0,1,1)","v":"2011-08-12"},{"$f":"OFFSET(InputPriceData!G$10,CalculationsAndCharts!$A335+$A$11,0,1,1)","v":227965675},{"$f":"OFFSET(InputPriceData!C$10,CalculationsAndCharts!$A335+$A$11,0,1,1)","v":11143.46},{"$f":"OFFSET(InputPriceData!D$10,CalculationsAndCharts!$A335+$A$11,0,1,1)","v":11346.67},{"$f":"OFFSET(InputPriceData!E$10,CalculationsAndCharts!$A335+$A$11,0,1,1)","v":11142.18},{"$f":"OFFSET(InputPriceData!F$10,CalculationsAndCharts!$A335+$A$11,0,1,1)","v":11269.02},{"$f":"IF(AND(A335<=$B$20,$S$14),$T$14,0)","v":0},{"$f":"IF(AND(A335<=$B$20,$S$15),$T$15,0)","v":0},{"$f":"IF(AND(A335<=$B$20,$S$16),$T$16,0)","v":0},{"$f":"IF(AND(A335<=$B$20,$S$17),$T$17,0)","v":0},{"$f":"IF(AND(A335<=$B$20,$S$18),$T$18,0)","v":0},0,0,0,0,0,0,0,0,0,0,0,0,0]
[305,{"$f":"OFFSET(InputPriceData!B$10,CalculationsAndCharts!$A336+$A$11,0,1,1)","v":"2011-08-11"},{"$f":"OFFSET(InputPriceData!G$10,CalculationsAndCharts!$A336+$A$11,0,1,1)","v":393149124},{"$f":"OFFSET(InputPriceData!C$10,CalculationsAndCharts!$A336+$A$11,0,1,1)","v":10729.85},{"$f":"OFFSET(InputPriceData!D$10,CalculationsAndCharts!$A336+$A$11,0,1,1)","v":11278.9},{"$f":"OFFSET(InputPriceData!E$10,CalculationsAndCharts!$A336+$A$11,0,1,1)","v":10729.85},{"$f":"OFFSET(InputPriceData!F$10,CalculationsAndCharts!$A336+$A$11,0,1,1)","v":11143.31},{"$f":"IF(AND(A336<=$B$20,$S$14),$T$14,0)","v":0},{"$f":"IF(AND(A336<=$B$20,$S$15),$T$15,0)","v":0},{"$f":"IF(AND(A336<=$B$20,$S$16),$T$16,0)","v":0},{"$f":"IF(AND(A336<=$B$20,$S$17),$T$17,0)","v":0},{"$f":"IF(AND(A336<=$B$20,$S$18),$T$18,0)","v":0},0,0,0,0,0,0,0,0,0,0,0,0,0]
[306,{"$f":"OFFSET(InputPriceData!B$10,CalculationsAndCharts!$A337+$A$11,0,1,1)","v":"2011-08-10"},{"$f":"OFFSET(InputPriceData!G$10,CalculationsAndCharts!$A337+$A$11,0,1,1)","v":395587728},{"$f":"OFFSET(InputPriceData!C$10,CalculationsAndCharts!$A337+$A$11,0,1,1)","v":11228},{"$f":"OFFSET(InputPriceData!D$10,CalculationsAndCharts!$A337+$A$11,0,1,1)","v":11228},{"$f":"OFFSET(InputPriceData!E$10,CalculationsAndCharts!$A337+$A$11,0,1,1)","v":10686.49},{"$f":"OFFSET(InputPriceData!F$10,CalculationsAndCharts!$A337+$A$11,0,1,1)","v":10719.94},{"$f":"IF(AND(A337<=$B$20,$S$14),$T$14,0)","v":0},{"$f":"IF(AND(A337<=$B$20,$S$15),$T$15,0)","v":0},{"$f":"IF(AND(A337<=$B$20,$S$16),$T$16,0)","v":0},{"$f":"IF(AND(A337<=$B$20,$S$17),$T$17,0)","v":0},{"$f":"IF(AND(A337<=$B$20,$S$18),$T$18,0)","v":0},0,0,0,0,0,0,0,0,0,0,0,0,0]
[307,{"$f":"OFFSET(InputPriceData!B$10,CalculationsAndCharts!$A338+$A$11,0,1,1)","v":"2011-08-09"},{"$f":"OFFSET(InputPriceData!G$10,CalculationsAndCharts!$A338+$A$11,0,1,1)","v":431335962},{"$f":"OFFSET(InputPriceData!C$10,CalculationsAndCharts!$A338+$A$11,0,1,1)","v":10810.91},{"$f":"OFFSET(InputPriceData!D$10,CalculationsAndCharts!$A338+$A$11,0,1,1)","v":11244.01},{"$f":"OFFSET(InputPriceData!E$10,CalculationsAndCharts!$A338+$A$11,0,1,1)","v":10604.07},{"$f":"OFFSET(InputPriceData!F$10,CalculationsAndCharts!$A338+$A$11,0,1,1)","v":11239.77},{"$f":"IF(AND(A338<=$B$20,$S$14),$T$14,0)","v":0},{"$f":"IF(AND(A338<=$B$20,$S$15),$T$15,0)","v":0},{"$f":"IF(AND(A338<=$B$20,$S$16),$T$16,0)","v":0},{"$f":"IF(AND(A338<=$B$20,$S$17),$T$17,0)","v":0},{"$f":"IF(AND(A338<=$B$20,$S$18),$T$18,0)","v":0},0,0,0,0,0,0,0,0,0,0,0,0,0]
[308,{"$f":"OFFSET(InputPriceData!B$10,CalculationsAndCharts!$A339+$A$11,0,1,1)","v":"2011-08-08"},{"$f":"OFFSET(InputPriceData!G$10,CalculationsAndCharts!$A339+$A$11,0,1,1)","v":479788587},{"$f":"OFFSET(InputPriceData!C$10,CalculationsAndCharts!$A339+$A$11,0,1,1)","v":11433.93},{"$f":"OFFSET(InputPriceData!D$10,CalculationsAndCharts!$A339+$A$11,0,1,1)","v":11434.09},{"$f":"OFFSET(InputPriceData!E$10,CalculationsAndCharts!$A339+$A$11,0,1,1)","v":10809.85},{"$f":"OFFSET(InputPriceData!F$10,CalculationsAndCharts!$A339+$A$11,0,1,1)","v":10809.85},{"$f":"IF(AND(A339<=$B$20,$S$14),$T$14,0)","v":0},{"$f":"IF(AND(A339<=$B$20,$S$15),$T$15,0)","v":0},{"$f":"IF(AND(A339<=$B$20,$S$16),$T$16,0)","v":0},{"$f":"IF(AND(A339<=$B$20,$S$17),$T$17,0)","v":0},{"$f":"IF(AND(A339<=$B$20,$S$18),$T$18,0)","v":0},0,0,0,0,0,0,0,0,0,0,0,0,0]
[309,{"$f":"OFFSET(InputPriceData!B$10,CalculationsAndCharts!$A340+$A$11,0,1,1)","v":"2011-08-05"},{"$f":"OFFSET(InputPriceData!G$10,CalculationsAndCharts!$A340+$A$11,0,1,1)","v":405448778},{"$f":"OFFSET(InputPriceData!C$10,CalculationsAndCharts!$A340+$A$11,0,1,1)","v":11383.98},{"$f":"OFFSET(InputPriceData!D$10,CalculationsAndCharts!$A340+$A$11,0,1,1)","v":11555.41},{"$f":"OFFSET(InputPriceData!E$10,CalculationsAndCharts!$A340+$A$11,0,1,1)","v":11139},{"$f":"OFFSET(InputPriceData!F$10,CalculationsAndCharts!$A340+$A$11,0,1,1)","v":11444.61},{"$f":"IF(AND(A340<=$B$20,$S$14),$T$14,0)","v":0},{"$f":"IF(AND(A340<=$B$20,$S$15),$T$15,0)","v":0},{"$f":"IF(AND(A340<=$B$20,$S$16),$T$16,0)","v":0},{"$f":"IF(AND(A340<=$B$20,$S$17),$T$17,0)","v":0},{"$f":"IF(AND(A340<=$B$20,$S$18),$T$18,0)","v":0},0,0,0,0,0,0,0,0,0,0,0,0,0]
[310,{"$f":"OFFSET(InputPriceData!B$10,CalculationsAndCharts!$A341+$A$11,0,1,1)","v":"2011-08-04"},{"$f":"OFFSET(InputPriceData!G$10,CalculationsAndCharts!$A341+$A$11,0,1,1)","v":300708556},{"$f":"OFFSET(InputPriceData!C$10,CalculationsAndCharts!$A341+$A$11,0,1,1)","v":11893.86},{"$f":"OFFSET(InputPriceData!D$10,CalculationsAndCharts!$A341+$A$11,0,1,1)","v":11893.94},{"$f":"OFFSET(InputPriceData!E$10,CalculationsAndCharts!$A341+$A$11,0,1,1)","v":11372.14},{"$f":"OFFSET(InputPriceData!F$10,CalculationsAndCharts!$A341+$A$11,0,1,1)","v":11383.68},{"$f":"IF(AND(A341<=$B$20,$S$14),$T$14,0)","v":0},{"$f":"IF(AND(A341<=$B$20,$S$15),$T$15,0)","v":0},{"$f":"IF(AND(A341<=$B$20,$S$16),$T$16,0)","v":0},{"$f":"IF(AND(A341<=$B$20,$S$17),$T$17,0)","v":0},{"$f":"IF(AND(A341<=$B$20,$S$18),$T$18,0)","v":0},0,0,0,0,0,0,0,0,0,0,0,0,0]
[311,{"$f":"OFFSET(InputPriceData!B$10,CalculationsAndCharts!$A342+$A$11,0,1,1)","v":"00:00:00"},{"$f":"OFFSET(InputPriceData!G$10,CalculationsAndCharts!$A342+$A$11,0,1,1)","v":0},{"$f":"OFFSET(InputPriceData!C$10,CalculationsAndCharts!$A342+$A$11,0,1,1)","v":0},{"$f":"OFFSET(InputPriceData!D$10,CalculationsAndCharts!$A342+$A$11,0,1,1)","v":0},{"$f":"OFFSET(InputPriceData!E$10,CalculationsAndCharts!$A342+$A$11,0,1,1)","v":0},{"$f":"OFFSET(InputPriceData!F$10,CalculationsAndCharts!$A342+$A$11,0,1,1)","v":0},{"$f":"IF(AND(A342<=$B$20,$S$14),$T$14,0)","v":0},{"$f":"IF(AND(A342<=$B$20,$S$15),$T$15,0)","v":0},{"$f":"IF(AND(A342<=$B$20,$S$16),$T$16,0)","v":0},{"$f":"IF(AND(A342<=$B$20,$S$17),$T$17,0)","v":0},{"$f":"IF(AND(A342<=$B$20,$S$18),$T$18,0)","v":0},0,0,0,0,0,0,0,0,0,0,0,0,0]
[312,{"$f":"OFFSET(InputPriceData!B$10,CalculationsAndCharts!$A343+$A$11,0,1,1)","v":"00:00:00"},{"$f":"OFFSET(InputPriceData!G$10,CalculationsAndCharts!$A343+$A$11,0,1,1)","v":0},{"$f":"OFFSET(InputPriceData!C$10,CalculationsAndCharts!$A343+$A$11,0,1,1)","v":0},{"$f":"OFFSET(InputPriceData!D$10,CalculationsAndCharts!$A343+$A$11,0,1,1)","v":0},{"$f":"OFFSET(InputPriceData!E$10,CalculationsAndCharts!$A343+$A$11,0,1,1)","v":0},{"$f":"OFFSET(InputPriceData!F$10,CalculationsAndCharts!$A343+$A$11,0,1,1)","v":0},{"$f":"IF(AND(A343<=$B$20,$S$14),$T$14,0)","v":0},{"$f":"IF(AND(A343<=$B$20,$S$15),$T$15,0)","v":0},{"$f":"IF(AND(A343<=$B$20,$S$16),$T$16,0)","v":0},{"$f":"IF(AND(A343<=$B$20,$S$17),$T$17,0)","v":0},{"$f":"IF(AND(A343<=$B$20,$S$18),$T$18,0)","v":0},0,0,0,0,0,0,0,0,0,0,0,0,0]
[313,{"$f":"OFFSET(InputPriceData!B$10,CalculationsAndCharts!$A344+$A$11,0,1,1)","v":"00:00:00"},{"$f":"OFFSET(InputPriceData!G$10,CalculationsAndCharts!$A344+$A$11,0,1,1)","v":0},{"$f":"OFFSET(InputPriceData!C$10,CalculationsAndCharts!$A344+$A$11,0,1,1)","v":0},{"$f":"OFFSET(InputPriceData!D$10,CalculationsAndCharts!$A344+$A$11,0,1,1)","v":0},{"$f":"OFFSET(InputPriceData!E$10,CalculationsAndCharts!$A344+$A$11,0,1,1)","v":0},{"$f":"OFFSET(InputPriceData!F$10,CalculationsAndCharts!$A344+$A$11,0,1,1)","v":0},{"$f":"IF(AND(A344<=$B$20,$S$14),$T$14,0)","v":0},{"$f":"IF(AND(A344<=$B$20,$S$15),$T$15,0)","v":0},{"$f":"IF(AND(A344<=$B$20,$S$16),$T$16,0)","v":0},{"$f":"IF(AND(A344<=$B$20,$S$17),$T$17,0)","v":0},{"$f":"IF(AND(A344<=$B$20,$S$18),$T$18,0)","v":0},0,0,0,0,0,0,0,0,0,0,0,0,0]
[314,{"$f":"OFFSET(InputPriceData!B$10,CalculationsAndCharts!$A345+$A$11,0,1,1)","v":"00:00:00"},{"$f":"OFFSET(InputPriceData!G$10,CalculationsAndCharts!$A345+$A$11,0,1,1)","v":0},{"$f":"OFFSET(InputPriceData!C$10,CalculationsAndCharts!$A345+$A$11,0,1,1)","v":0},{"$f":"OFFSET(InputPriceData!D$10,CalculationsAndCharts!$A345+$A$11,0,1,1)","v":0},{"$f":"OFFSET(InputPriceData!E$10,CalculationsAndCharts!$A345+$A$11,0,1,1)","v":0},{"$f":"OFFSET(InputPriceData!F$10,CalculationsAndCharts!$A345+$A$11,0,1,1)","v":0},{"$f":"IF(AND(A345<=$B$20,$S$14),$T$14,0)","v":0},{"$f":"IF(AND(A345<=$B$20,$S$15),$T$15,0)","v":0},{"$f":"IF(AND(A345<=$B$20,$S$16),$T$16,0)","v":0},{"$f":"IF(AND(A345<=$B$20,$S$17),$T$17,0)","v":0},{"$f":"IF(AND(A345<=$B$20,$S$18),$T$18,0)","v":0},0,0,0,0,0,0,0,0,0,0,0,0,0]
[315,{"$f":"OFFSET(InputPriceData!B$10,CalculationsAndCharts!$A346+$A$11,0,1,1)","v":"00:00:00"},{"$f":"OFFSET(InputPriceData!G$10,CalculationsAndCharts!$A346+$A$11,0,1,1)","v":0},{"$f":"OFFSET(InputPriceData!C$10,CalculationsAndCharts!$A346+$A$11,0,1,1)","v":0},{"$f":"OFFSET(InputPriceData!D$10,CalculationsAndCharts!$A346+$A$11,0,1,1)","v":0},{"$f":"OFFSET(InputPriceData!E$10,CalculationsAndCharts!$A346+$A$11,0,1,1)","v":0},{"$f":"OFFSET(InputPriceData!F$10,CalculationsAndCharts!$A346+$A$11,0,1,1)","v":0},{"$f":"IF(AND(A346<=$B$20,$S$14),$T$14,0)","v":0},{"$f":"IF(AND(A346<=$B$20,$S$15),$T$15,0)","v":0},{"$f":"IF(AND(A346<=$B$20,$S$16),$T$16,0)","v":0},{"$f":"IF(AND(A346<=$B$20,$S$17),$T$17,0)","v":0},{"$f":"IF(AND(A346<=$B$20,$S$18),$T$18,0)","v":0},0,0,0,0,0,0,0,0,0,0,0,0,0]
[316,{"$f":"OFFSET(InputPriceData!B$10,CalculationsAndCharts!$A347+$A$11,0,1,1)","v":"00:00:00"},{"$f":"OFFSET(InputPriceData!G$10,CalculationsAndCharts!$A347+$A$11,0,1,1)","v":0},{"$f":"OFFSET(InputPriceData!C$10,CalculationsAndCharts!$A347+$A$11,0,1,1)","v":0},{"$f":"OFFSET(InputPriceData!D$10,CalculationsAndCharts!$A347+$A$11,0,1,1)","v":0},{"$f":"OFFSET(InputPriceData!E$10,CalculationsAndCharts!$A347+$A$11,0,1,1)","v":0},{"$f":"OFFSET(InputPriceData!F$10,CalculationsAndCharts!$A347+$A$11,0,1,1)","v":0},{"$f":"IF(AND(A347<=$B$20,$S$14),$T$14,0)","v":0},{"$f":"IF(AND(A347<=$B$20,$S$15),$T$15,0)","v":0},{"$f":"IF(AND(A347<=$B$20,$S$16),$T$16,0)","v":0},{"$f":"IF(AND(A347<=$B$20,$S$17),$T$17,0)","v":0},{"$f":"IF(AND(A347<=$B$20,$S$18),$T$18,0)","v":0},0,0,0,0,0,0,0,0,0,0,0,0,0]
[317,{"$f":"OFFSET(InputPriceData!B$10,CalculationsAndCharts!$A348+$A$11,0,1,1)","v":"00:00:00"},{"$f":"OFFSET(InputPriceData!G$10,CalculationsAndCharts!$A348+$A$11,0,1,1)","v":0},{"$f":"OFFSET(InputPriceData!C$10,CalculationsAndCharts!$A348+$A$11,0,1,1)","v":0},{"$f":"OFFSET(InputPriceData!D$10,CalculationsAndCharts!$A348+$A$11,0,1,1)","v":0},{"$f":"OFFSET(InputPriceData!E$10,CalculationsAndCharts!$A348+$A$11,0,1,1)","v":0},{"$f":"OFFSET(InputPriceData!F$10,CalculationsAndCharts!$A348+$A$11,0,1,1)","v":0},{"$f":"IF(AND(A348<=$B$20,$S$14),$T$14,0)","v":0},{"$f":"IF(AND(A348<=$B$20,$S$15),$T$15,0)","v":0},{"$f":"IF(AND(A348<=$B$20,$S$16),$T$16,0)","v":0},{"$f":"IF(AND(A348<=$B$20,$S$17),$T$17,0)","v":0},{"$f":"IF(AND(A348<=$B$20,$S$18),$T$18,0)","v":0},0,0,0,0,0,0,0,0,0,0,0,0,0]
[318,{"$f":"OFFSET(InputPriceData!B$10,CalculationsAndCharts!$A349+$A$11,0,1,1)","v":"00:00:00"},{"$f":"OFFSET(InputPriceData!G$10,CalculationsAndCharts!$A349+$A$11,0,1,1)","v":0},{"$f":"OFFSET(InputPriceData!C$10,CalculationsAndCharts!$A349+$A$11,0,1,1)","v":0},{"$f":"OFFSET(InputPriceData!D$10,CalculationsAndCharts!$A349+$A$11,0,1,1)","v":0},{"$f":"OFFSET(InputPriceData!E$10,CalculationsAndCharts!$A349+$A$11,0,1,1)","v":0},{"$f":"OFFSET(InputPriceData!F$10,CalculationsAndCharts!$A349+$A$11,0,1,1)","v":0},{"$f":"IF(AND(A349<=$B$20,$S$14),$T$14,0)","v":0},{"$f":"IF(AND(A349<=$B$20,$S$15),$T$15,0)","v":0},{"$f":"IF(AND(A349<=$B$20,$S$16),$T$16,0)","v":0},{"$f":"IF(AND(A349<=$B$20,$S$17),$T$17,0)","v":0},{"$f":"IF(AND(A349<=$B$20,$S$18),$T$18,0)","v":0},0,0,0,0,0,0,0,0,0,0,0,0,0]
[319,{"$f":"OFFSET(InputPriceData!B$10,CalculationsAndCharts!$A350+$A$11,0,1,1)","v":"00:00:00"},{"$f":"OFFSET(InputPriceData!G$10,CalculationsAndCharts!$A350+$A$11,0,1,1)","v":0},{"$f":"OFFSET(InputPriceData!C$10,CalculationsAndCharts!$A350+$A$11,0,1,1)","v":0},{"$f":"OFFSET(InputPriceData!D$10,CalculationsAndCharts!$A350+$A$11,0,1,1)","v":0},{"$f":"OFFSET(InputPriceData!E$10,CalculationsAndCharts!$A350+$A$11,0,1,1)","v":0},{"$f":"OFFSET(InputPriceData!F$10,CalculationsAndCharts!$A350+$A$11,0,1,1)","v":0},{"$f":"IF(AND(A350<=$B$20,$S$14),$T$14,0)","v":0},{"$f":"IF(AND(A350<=$B$20,$S$15),$T$15,0)","v":0},{"$f":"IF(AND(A350<=$B$20,$S$16),$T$16,0)","v":0},{"$f":"IF(AND(A350<=$B$20,$S$17),$T$17,0)","v":0},{"$f":"IF(AND(A350<=$B$20,$S$18),$T$18,0)","v":0},0,0,0,0,0,0,0,0,0,0,0,0,0]
[320,{"$f":"OFFSET(InputPriceData!B$10,CalculationsAndCharts!$A351+$A$11,0,1,1)","v":"00:00:00"},{"$f":"OFFSET(InputPriceData!G$10,CalculationsAndCharts!$A351+$A$11,0,1,1)","v":0},{"$f":"OFFSET(InputPriceData!C$10,CalculationsAndCharts!$A351+$A$11,0,1,1)","v":0},{"$f":"OFFSET(InputPriceData!D$10,CalculationsAndCharts!$A351+$A$11,0,1,1)","v":0},{"$f":"OFFSET(InputPriceData!E$10,CalculationsAndCharts!$A351+$A$11,0,1,1)","v":0},{"$f":"OFFSET(InputPriceData!F$10,CalculationsAndCharts!$A351+$A$11,0,1,1)","v":0},{"$f":"IF(AND(A351<=$B$20,$S$14),$T$14,0)","v":0},{"$f":"IF(AND(A351<=$B$20,$S$15),$T$15,0)","v":0},{"$f":"IF(AND(A351<=$B$20,$S$16),$T$16,0)","v":0},{"$f":"IF(AND(A351<=$B$20,$S$17),$T$17,0)","v":0},{"$f":"IF(AND(A351<=$B$20,$S$18),$T$18,0)","v":0},0,0,0,0,0,0,0,0,0,0,0,0,0]
[321,{"$f":"OFFSET(InputPriceData!B$10,CalculationsAndCharts!$A352+$A$11,0,1,1)","v":"00:00:00"},{"$f":"OFFSET(InputPriceData!G$10,CalculationsAndCharts!$A352+$A$11,0,1,1)","v":0},{"$f":"OFFSET(InputPriceData!C$10,CalculationsAndCharts!$A352+$A$11,0,1,1)","v":0},{"$f":"OFFSET(InputPriceData!D$10,CalculationsAndCharts!$A352+$A$11,0,1,1)","v":0},{"$f":"OFFSET(InputPriceData!E$10,CalculationsAndCharts!$A352+$A$11,0,1,1)","v":0},{"$f":"OFFSET(InputPriceData!F$10,CalculationsAndCharts!$A352+$A$11,0,1,1)","v":0},{"$f":"IF(AND(A352<=$B$20,$S$14),$T$14,0)","v":0},{"$f":"IF(AND(A352<=$B$20,$S$15),$T$15,0)","v":0},{"$f":"IF(AND(A352<=$B$20,$S$16),$T$16,0)","v":0},{"$f":"IF(AND(A352<=$B$20,$S$17),$T$17,0)","v":0},{"$f":"IF(AND(A352<=$B$20,$S$18),$T$18,0)","v":0},0,0,0,0,0,0,{"$f":"IF($A352=$B$28,S$31,0)","v":0},0,0,0,0,0,0]
[322,{"$f":"OFFSET(InputPriceData!B$10,CalculationsAndCharts!$A353+$A$11,0,1,1)","v":"00:00:00"},{"$f":"OFFSET(InputPriceData!G$10,CalculationsAndCharts!$A353+$A$11,0,1,1)","v":0},{"$f":"OFFSET(InputPriceData!C$10,CalculationsAndCharts!$A353+$A$11,0,1,1)","v":0},{"$f":"OFFSET(InputPriceData!D$10,CalculationsAndCharts!$A353+$A$11,0,1,1)","v":0},{"$f":"OFFSET(InputPriceData!E$10,CalculationsAndCharts!$A353+$A$11,0,1,1)","v":0},{"$f":"OFFSET(InputPriceData!F$10,CalculationsAndCharts!$A353+$A$11,0,1,1)","v":0},{"$f":"IF(AND(A353<=$B$20,$S$14),$T$14,0)","v":0},{"$f":"IF(AND(A353<=$B$20,$S$15),$T$15,0)","v":0},{"$f":"IF(AND(A353<=$B$20,$S$16),$T$16,0)","v":0},{"$f":"IF(AND(A353<=$B$20,$S$17),$T$17,0)","v":0},{"$f":"IF(AND(A353<=$B$20,$S$18),$T$18,0)","v":0},{"$f":"IF(AND(A353<=$B$20,$S$8),$T$8,0)","v":0},{"$f":"IF(AND(A353<=$B$20,$S$7),$T$7,0)","v":0},{"$f":"IF(AND(A353<=$B$20,$S$6),$T$6,0)","v":0},{"$f":"IF(AND(A353<=$B$20,$S$5),$T$5,0)","v":0},{"$f":"IF(AND(A353<=$B$20,$S$4),$T$4,0)","v":0},{"$f":"IF(AND(A353>$B$20,A353<=($B$20+$C$18)),$T$10-Y353,0)","v":0},0,{"$f":"IF($A353=$B$27,S$31,0)","v":0},{"$f":"IF(AND(A353<=$B$20,A353>($B$20-$C$18)),$F$11,0)","v":0},{"$f":"IF(AND($S$10,A353>$B$20,A353<=($B$20+$C$18)),$T$10,0)","v":0},{"$f":"IF(AND($S$11,A353>$B$20,A353<=($B$20+$C$18)),$T$11,0)","v":0},{"$f":"IF(AND($S$12,A353>$B$20,A353<=($B$20+$C$18)),$T$12,0)","v":0},{"$f":"IF(AND(A353>$B$20,A353<=($B$20+$C$18)),$T$12,0)","v":0}]
[323,{"$f":"OFFSET(InputPriceData!B$10,CalculationsAndCharts!$A354+$A$11,0,1,1)","v":"00:00:00"},{"$f":"OFFSET(InputPriceData!G$10,CalculationsAndCharts!$A354+$A$11,0,1,1)","v":0},{"$f":"OFFSET(InputPriceData!C$10,CalculationsAndCharts!$A354+$A$11,0,1,1)","v":0},{"$f":"OFFSET(InputPriceData!D$10,CalculationsAndCharts!$A354+$A$11,0,1,1)","v":0},{"$f":"OFFSET(InputPriceData!E$10,CalculationsAndCharts!$A354+$A$11,0,1,1)","v":0},{"$f":"OFFSET(InputPriceData!F$10,CalculationsAndCharts!$A354+$A$11,0,1,1)","v":0},{"$f":"IF(AND(A354<=$B$20,$S$14),$T$14,0)","v":0},{"$f":"IF(AND(A354<=$B$20,$S$15),$T$15,0)","v":0},{"$f":"IF(AND(A354<=$B$20,$S$16),$T$16,0)","v":0},{"$f":"IF(AND(A354<=$B$20,$S$17),$T$17,0)","v":0},{"$f":"IF(AND(A354<=$B$20,$S$18),$T$18,0)","v":0},0,0,0,0,0,0,0,0,0,0,0,0,0]
[324,{"$f":"OFFSET(InputPriceData!B$10,CalculationsAndCharts!$A355+$A$11,0,1,1)","v":"00:00:00"},{"$f":"OFFSET(InputPriceData!G$10,CalculationsAndCharts!$A355+$A$11,0,1,1)","v":0},{"$f":"OFFSET(InputPriceData!C$10,CalculationsAndCharts!$A355+$A$11,0,1,1)","v":0},{"$f":"OFFSET(InputPriceData!D$10,CalculationsAndCharts!$A355+$A$11,0,1,1)","v":0},{"$f":"OFFSET(InputPriceData!E$10,CalculationsAndCharts!$A355+$A$11,0,1,1)","v":0},{"$f":"OFFSET(InputPriceData!F$10,CalculationsAndCharts!$A355+$A$11,0,1,1)","v":0},{"$f":"IF(AND(A355<=$B$20,$S$14),$T$14,0)","v":0},{"$f":"IF(AND(A355<=$B$20,$S$15),$T$15,0)","v":0},{"$f":"IF(AND(A355<=$B$20,$S$16),$T$16,0)","v":0},{"$f":"IF(AND(A355<=$B$20,$S$17),$T$17,0)","v":0},{"$f":"IF(AND(A355<=$B$20,$S$18),$T$18,0)","v":0},0,0,0,0,0,0,0,0,0,0,0,0,0]
[325,{"$f":"OFFSET(InputPriceData!B$10,CalculationsAndCharts!$A356+$A$11,0,1,1)","v":"00:00:00"},{"$f":"OFFSET(InputPriceData!G$10,CalculationsAndCharts!$A356+$A$11,0,1,1)","v":0},{"$f":"OFFSET(InputPriceData!C$10,CalculationsAndCharts!$A356+$A$11,0,1,1)","v":0},{"$f":"OFFSET(InputPriceData!D$10,CalculationsAndCharts!$A356+$A$11,0,1,1)","v":0},{"$f":"OFFSET(InputPriceData!E$10,CalculationsAndCharts!$A356+$A$11,0,1,1)","v":0},{"$f":"OFFSET(InputPriceData!F$10,CalculationsAndCharts!$A356+$A$11,0,1,1)","v":0},{"$f":"IF(AND(A356<=$B$20,$S$14),$T$14,0)","v":0},{"$f":"IF(AND(A356<=$B$20,$S$15),$T$15,0)","v":0},{"$f":"IF(AND(A356<=$B$20,$S$16),$T$16,0)","v":0},{"$f":"IF(AND(A356<=$B$20,$S$17),$T$17,0)","v":0},{"$f":"IF(AND(A356<=$B$20,$S$18),$T$18,0)","v":0},0,0,0,0,0,0,0,0,0,0,0,0,0]
[326,{"$f":"OFFSET(InputPriceData!B$10,CalculationsAndCharts!$A357+$A$11,0,1,1)","v":"00:00:00"},{"$f":"OFFSET(InputPriceData!G$10,CalculationsAndCharts!$A357+$A$11,0,1,1)","v":0},{"$f":"OFFSET(InputPriceData!C$10,CalculationsAndCharts!$A357+$A$11,0,1,1)","v":0},{"$f":"OFFSET(InputPriceData!D$10,CalculationsAndCharts!$A357+$A$11,0,1,1)","v":0},{"$f":"OFFSET(InputPriceData!E$10,CalculationsAndCharts!$A357+$A$11,0,1,1)","v":0},{"$f":"OFFSET(InputPriceData!F$10,CalculationsAndCharts!$A357+$A$11,0,1,1)","v":0},{"$f":"IF(AND(A357<=$B$20,$S$14),$T$14,0)","v":0},{"$f":"IF(AND(A357<=$B$20,$S$15),$T$15,0)","v":0},{"$f":"IF(AND(A357<=$B$20,$S$16),$T$16,0)","v":0},{"$f":"IF(AND(A357<=$B$20,$S$17),$T$17,0)","v":0},{"$f":"IF(AND(A357<=$B$20,$S$18),$T$18,0)","v":0},0,0,0,0,0,0,0,0,0,0,0,0,0]
[327,{"$f":"OFFSET(InputPriceData!B$10,CalculationsAndCharts!$A358+$A$11,0,1,1)","v":"00:00:00"},{"$f":"OFFSET(InputPriceData!G$10,CalculationsAndCharts!$A358+$A$11,0,1,1)","v":0},{"$f":"OFFSET(InputPriceData!C$10,CalculationsAndCharts!$A358+$A$11,0,1,1)","v":0},{"$f":"OFFSET(InputPriceData!D$10,CalculationsAndCharts!$A358+$A$11,0,1,1)","v":0},{"$f":"OFFSET(InputPriceData!E$10,CalculationsAndCharts!$A358+$A$11,0,1,1)","v":0},{"$f":"OFFSET(InputPriceData!F$10,CalculationsAndCharts!$A358+$A$11,0,1,1)","v":0},{"$f":"IF(AND(A358<=$B$20,$S$14),$T$14,0)","v":0},{"$f":"IF(AND(A358<=$B$20,$S$15),$T$15,0)","v":0},{"$f":"IF(AND(A358<=$B$20,$S$16),$T$16,0)","v":0},{"$f":"IF(AND(A358<=$B$20,$S$17),$T$17,0)","v":0},{"$f":"IF(AND(A358<=$B$20,$S$18),$T$18,0)","v":0},0,0,0,0,0,0,0,0,0,0,0,0,0]
[328,{"$f":"OFFSET(InputPriceData!B$10,CalculationsAndCharts!$A359+$A$11,0,1,1)","v":"00:00:00"},{"$f":"OFFSET(InputPriceData!G$10,CalculationsAndCharts!$A359+$A$11,0,1,1)","v":0},{"$f":"OFFSET(InputPriceData!C$10,CalculationsAndCharts!$A359+$A$11,0,1,1)","v":0},{"$f":"OFFSET(InputPriceData!D$10,CalculationsAndCharts!$A359+$A$11,0,1,1)","v":0},{"$f":"OFFSET(InputPriceData!E$10,CalculationsAndCharts!$A359+$A$11,0,1,1)","v":0},{"$f":"OFFSET(InputPriceData!F$10,CalculationsAndCharts!$A359+$A$11,0,1,1)","v":0},{"$f":"IF(AND(A359<=$B$20,$S$14),$T$14,0)","v":0},{"$f":"IF(AND(A359<=$B$20,$S$15),$T$15,0)","v":0},{"$f":"IF(AND(A359<=$B$20,$S$16),$T$16,0)","v":0},{"$f":"IF(AND(A359<=$B$20,$S$17),$T$17,0)","v":0},{"$f":"IF(AND(A359<=$B$20,$S$18),$T$18,0)","v":0},0,0,0,0,0,0,0,0,0,0,0,0,0]
[329,{"$f":"OFFSET(InputPriceData!B$10,CalculationsAndCharts!$A360+$A$11,0,1,1)","v":"00:00:00"},{"$f":"OFFSET(InputPriceData!G$10,CalculationsAndCharts!$A360+$A$11,0,1,1)","v":0},{"$f":"OFFSET(InputPriceData!C$10,CalculationsAndCharts!$A360+$A$11,0,1,1)","v":0},{"$f":"OFFSET(InputPriceData!D$10,CalculationsAndCharts!$A360+$A$11,0,1,1)","v":0},{"$f":"OFFSET(InputPriceData!E$10,CalculationsAndCharts!$A360+$A$11,0,1,1)","v":0},{"$f":"OFFSET(InputPriceData!F$10,CalculationsAndCharts!$A360+$A$11,0,1,1)","v":0},{"$f":"IF(AND(A360<=$B$20,$S$14),$T$14,0)","v":0},{"$f":"IF(AND(A360<=$B$20,$S$15),$T$15,0)","v":0},{"$f":"IF(AND(A360<=$B$20,$S$16),$T$16,0)","v":0},{"$f":"IF(AND(A360<=$B$20,$S$17),$T$17,0)","v":0},{"$f":"IF(AND(A360<=$B$20,$S$18),$T$18,0)","v":0},0,0,0,0,0,0,0,0,0,0,0,0,0]
[330,{"$f":"OFFSET(InputPriceData!B$10,CalculationsAndCharts!$A361+$A$11,0,1,1)","v":"00:00:00"},{"$f":"OFFSET(InputPriceData!G$10,CalculationsAndCharts!$A361+$A$11,0,1,1)","v":0},{"$f":"OFFSET(InputPriceData!C$10,CalculationsAndCharts!$A361+$A$11,0,1,1)","v":0},{"$f":"OFFSET(InputPriceData!D$10,CalculationsAndCharts!$A361+$A$11,0,1,1)","v":0},{"$f":"OFFSET(InputPriceData!E$10,CalculationsAndCharts!$A361+$A$11,0,1,1)","v":0},{"$f":"OFFSET(InputPriceData!F$10,CalculationsAndCharts!$A361+$A$11,0,1,1)","v":0},{"$f":"IF(AND(A361<=$B$20,$S$14),$T$14,0)","v":0},{"$f":"IF(AND(A361<=$B$20,$S$15),$T$15,0)","v":0},{"$f":"IF(AND(A361<=$B$20,$S$16),$T$16,0)","v":0},{"$f":"IF(AND(A361<=$B$20,$S$17),$T$17,0)","v":0},{"$f":"IF(AND(A361<=$B$20,$S$18),$T$18,0)","v":0},0,0,0,0,0,0,0,0,0,0,0,0,0]
[331,{"$f":"OFFSET(InputPriceData!B$10,CalculationsAndCharts!$A362+$A$11,0,1,1)","v":"00:00:00"},{"$f":"OFFSET(InputPriceData!G$10,CalculationsAndCharts!$A362+$A$11,0,1,1)","v":0},{"$f":"OFFSET(InputPriceData!C$10,CalculationsAndCharts!$A362+$A$11,0,1,1)","v":0},{"$f":"OFFSET(InputPriceData!D$10,CalculationsAndCharts!$A362+$A$11,0,1,1)","v":0},{"$f":"OFFSET(InputPriceData!E$10,CalculationsAndCharts!$A362+$A$11,0,1,1)","v":0},{"$f":"OFFSET(InputPriceData!F$10,CalculationsAndCharts!$A362+$A$11,0,1,1)","v":0},{"$f":"IF(AND(A362<=$B$20,$S$14),$T$14,0)","v":0},{"$f":"IF(AND(A362<=$B$20,$S$15),$T$15,0)","v":0},{"$f":"IF(AND(A362<=$B$20,$S$16),$T$16,0)","v":0},{"$f":"IF(AND(A362<=$B$20,$S$17),$T$17,0)","v":0},{"$f":"IF(AND(A362<=$B$20,$S$18),$T$18,0)","v":0},0,0,0,0,0,0,0,0,0,0,0,0,0]
[332,{"$f":"OFFSET(InputPriceData!B$10,CalculationsAndCharts!$A363+$A$11,0,1,1)","v":"00:00:00"},{"$f":"OFFSET(InputPriceData!G$10,CalculationsAndCharts!$A363+$A$11,0,1,1)","v":0},{"$f":"OFFSET(InputPriceData!C$10,CalculationsAndCharts!$A363+$A$11,0,1,1)","v":0},{"$f":"OFFSET(InputPriceData!D$10,CalculationsAndCharts!$A363+$A$11,0,1,1)","v":0},{"$f":"OFFSET(InputPriceData!E$10,CalculationsAndCharts!$A363+$A$11,0,1,1)","v":0},{"$f":"OFFSET(InputPriceData!F$10,CalculationsAndCharts!$A363+$A$11,0,1,1)","v":0},{"$f":"IF(AND(A363<=$B$20,$S$14),$T$14,0)","v":0},{"$f":"IF(AND(A363<=$B$20,$S$15),$T$15,0)","v":0},{"$f":"IF(AND(A363<=$B$20,$S$16),$T$16,0)","v":0},{"$f":"IF(AND(A363<=$B$20,$S$17),$T$17,0)","v":0},{"$f":"IF(AND(A363<=$B$20,$S$18),$T$18,0)","v":0},0,0,0,0,0,0,0,0,0,0,0,0,0]
[333,{"$f":"OFFSET(InputPriceData!B$10,CalculationsAndCharts!$A364+$A$11,0,1,1)","v":"00:00:00"},{"$f":"OFFSET(InputPriceData!G$10,CalculationsAndCharts!$A364+$A$11,0,1,1)","v":0},{"$f":"OFFSET(InputPriceData!C$10,CalculationsAndCharts!$A364+$A$11,0,1,1)","v":0},{"$f":"OFFSET(InputPriceData!D$10,CalculationsAndCharts!$A364+$A$11,0,1,1)","v":0},{"$f":"OFFSET(InputPriceData!E$10,CalculationsAndCharts!$A364+$A$11,0,1,1)","v":0},{"$f":"OFFSET(InputPriceData!F$10,CalculationsAndCharts!$A364+$A$11,0,1,1)","v":0},{"$f":"IF(AND(A364<=$B$20,$S$14),$T$14,0)","v":0},{"$f":"IF(AND(A364<=$B$20,$S$15),$T$15,0)","v":0},{"$f":"IF(AND(A364<=$B$20,$S$16),$T$16,0)","v":0},{"$f":"IF(AND(A364<=$B$20,$S$17),$T$17,0)","v":0},{"$f":"IF(AND(A364<=$B$20,$S$18),$T$18,0)","v":0},0,0,0,0,0,0,0,0,0,0,0,0,0]
[334,{"$f":"OFFSET(InputPriceData!B$10,CalculationsAndCharts!$A365+$A$11,0,1,1)","v":"00:00:00"},{"$f":"OFFSET(InputPriceData!G$10,CalculationsAndCharts!$A365+$A$11,0,1,1)","v":0},{"$f":"OFFSET(InputPriceData!C$10,CalculationsAndCharts!$A365+$A$11,0,1,1)","v":0},{"$f":"OFFSET(InputPriceData!D$10,CalculationsAndCharts!$A365+$A$11,0,1,1)","v":0},{"$f":"OFFSET(InputPriceData!E$10,CalculationsAndCharts!$A365+$A$11,0,1,1)","v":0},{"$f":"OFFSET(InputPriceData!F$10,CalculationsAndCharts!$A365+$A$11,0,1,1)","v":0},{"$f":"IF(AND(A365<=$B$20,$S$14),$T$14,0)","v":0},{"$f":"IF(AND(A365<=$B$20,$S$15),$T$15,0)","v":0},{"$f":"IF(AND(A365<=$B$20,$S$16),$T$16,0)","v":0},{"$f":"IF(AND(A365<=$B$20,$S$17),$T$17,0)","v":0},{"$f":"IF(AND(A365<=$B$20,$S$18),$T$18,0)","v":0},0,0,0,0,0,0,0,0,0,0,0,0,0]
[335,{"$f":"OFFSET(InputPriceData!B$10,CalculationsAndCharts!$A366+$A$11,0,1,1)","v":"00:00:00"},{"$f":"OFFSET(InputPriceData!G$10,CalculationsAndCharts!$A366+$A$11,0,1,1)","v":0},{"$f":"OFFSET(InputPriceData!C$10,CalculationsAndCharts!$A366+$A$11,0,1,1)","v":0},{"$f":"OFFSET(InputPriceData!D$10,CalculationsAndCharts!$A366+$A$11,0,1,1)","v":0},{"$f":"OFFSET(InputPriceData!E$10,CalculationsAndCharts!$A366+$A$11,0,1,1)","v":0},{"$f":"OFFSET(InputPriceData!F$10,CalculationsAndCharts!$A366+$A$11,0,1,1)","v":0},{"$f":"IF(AND(A366<=$B$20,$S$14),$T$14,0)","v":0},{"$f":"IF(AND(A366<=$B$20,$S$15),$T$15,0)","v":0},{"$f":"IF(AND(A366<=$B$20,$S$16),$T$16,0)","v":0},{"$f":"IF(AND(A366<=$B$20,$S$17),$T$17,0)","v":0},{"$f":"IF(AND(A366<=$B$20,$S$18),$T$18,0)","v":0},0,0,0,0,0,0,0,0,0,0,0,0,0]
[336,{"$f":"OFFSET(InputPriceData!B$10,CalculationsAndCharts!$A367+$A$11,0,1,1)","v":"00:00:00"},{"$f":"OFFSET(InputPriceData!G$10,CalculationsAndCharts!$A367+$A$11,0,1,1)","v":0},{"$f":"OFFSET(InputPriceData!C$10,CalculationsAndCharts!$A367+$A$11,0,1,1)","v":0},{"$f":"OFFSET(InputPriceData!D$10,CalculationsAndCharts!$A367+$A$11,0,1,1)","v":0},{"$f":"OFFSET(InputPriceData!E$10,CalculationsAndCharts!$A367+$A$11,0,1,1)","v":0},{"$f":"OFFSET(InputPriceData!F$10,CalculationsAndCharts!$A367+$A$11,0,1,1)","v":0},{"$f":"IF(AND(A367<=$B$20,$S$14),$T$14,0)","v":0},{"$f":"IF(AND(A367<=$B$20,$S$15),$T$15,0)","v":0},{"$f":"IF(AND(A367<=$B$20,$S$16),$T$16,0)","v":0},{"$f":"IF(AND(A367<=$B$20,$S$17),$T$17,0)","v":0},{"$f":"IF(AND(A367<=$B$20,$S$18),$T$18,0)","v":0},0,0,0,0,0,0,0,0,0,0,0,0,0]
[337,{"$f":"OFFSET(InputPriceData!B$10,CalculationsAndCharts!$A368+$A$11,0,1,1)","v":"00:00:00"},{"$f":"OFFSET(InputPriceData!G$10,CalculationsAndCharts!$A368+$A$11,0,1,1)","v":0},{"$f":"OFFSET(InputPriceData!C$10,CalculationsAndCharts!$A368+$A$11,0,1,1)","v":0},{"$f":"OFFSET(InputPriceData!D$10,CalculationsAndCharts!$A368+$A$11,0,1,1)","v":0},{"$f":"OFFSET(InputPriceData!E$10,CalculationsAndCharts!$A368+$A$11,0,1,1)","v":0},{"$f":"OFFSET(InputPriceData!F$10,CalculationsAndCharts!$A368+$A$11,0,1,1)","v":0},{"$f":"IF(AND(A368<=$B$20,$S$14),$T$14,0)","v":0},{"$f":"IF(AND(A368<=$B$20,$S$15),$T$15,0)","v":0},{"$f":"IF(AND(A368<=$B$20,$S$16),$T$16,0)","v":0},{"$f":"IF(AND(A368<=$B$20,$S$17),$T$17,0)","v":0},{"$f":"IF(AND(A368<=$B$20,$S$18),$T$18,0)","v":0},0,0,0,0,0,0,0,0,0,0,0,0,0]
[338,{"$f":"OFFSET(InputPriceData!B$10,CalculationsAndCharts!$A369+$A$11,0,1,1)","v":"00:00:00"},{"$f":"OFFSET(InputPriceData!G$10,CalculationsAndCharts!$A369+$A$11,0,1,1)","v":0},{"$f":"OFFSET(InputPriceData!C$10,CalculationsAndCharts!$A369+$A$11,0,1,1)","v":0},{"$f":"OFFSET(InputPriceData!D$10,CalculationsAndCharts!$A369+$A$11,0,1,1)","v":0},{"$f":"OFFSET(InputPriceData!E$10,CalculationsAndCharts!$A369+$A$11,0,1,1)","v":0},{"$f":"OFFSET(InputPriceData!F$10,CalculationsAndCharts!$A369+$A$11,0,1,1)","v":0},{"$f":"IF(AND(A369<=$B$20,$S$14),$T$14,0)","v":0},{"$f":"IF(AND(A369<=$B$20,$S$15),$T$15,0)","v":0},{"$f":"IF(AND(A369<=$B$20,$S$16),$T$16,0)","v":0},{"$f":"IF(AND(A369<=$B$20,$S$17),$T$17,0)","v":0},{"$f":"IF(AND(A369<=$B$20,$S$18),$T$18,0)","v":0},0,0,0,0,0,0,0,0,0,0,0,0,0]
[339,{"$f":"OFFSET(InputPriceData!B$10,CalculationsAndCharts!$A370+$A$11,0,1,1)","v":"00:00:00"},{"$f":"OFFSET(InputPriceData!G$10,CalculationsAndCharts!$A370+$A$11,0,1,1)","v":0},{"$f":"OFFSET(InputPriceData!C$10,CalculationsAndCharts!$A370+$A$11,0,1,1)","v":0},{"$f":"OFFSET(InputPriceData!D$10,CalculationsAndCharts!$A370+$A$11,0,1,1)","v":0},{"$f":"OFFSET(InputPriceData!E$10,CalculationsAndCharts!$A370+$A$11,0,1,1)","v":0},{"$f":"OFFSET(InputPriceData!F$10,CalculationsAndCharts!$A370+$A$11,0,1,1)","v":0},{"$f":"IF(AND(A370<=$B$20,$S$14),$T$14,0)","v":0},{"$f":"IF(AND(A370<=$B$20,$S$15),$T$15,0)","v":0},{"$f":"IF(AND(A370<=$B$20,$S$16),$T$16,0)","v":0},{"$f":"IF(AND(A370<=$B$20,$S$17),$T$17,0)","v":0},{"$f":"IF(AND(A370<=$B$20,$S$18),$T$18,0)","v":0},0,0,0,0,0,0,0,0,0,0,0,0,0]
[340,{"$f":"OFFSET(InputPriceData!B$10,CalculationsAndCharts!$A371+$A$11,0,1,1)","v":"00:00:00"},{"$f":"OFFSET(InputPriceData!G$10,CalculationsAndCharts!$A371+$A$11,0,1,1)","v":0},{"$f":"OFFSET(InputPriceData!C$10,CalculationsAndCharts!$A371+$A$11,0,1,1)","v":0},{"$f":"OFFSET(InputPriceData!D$10,CalculationsAndCharts!$A371+$A$11,0,1,1)","v":0},{"$f":"OFFSET(InputPriceData!E$10,CalculationsAndCharts!$A371+$A$11,0,1,1)","v":0},{"$f":"OFFSET(InputPriceData!F$10,CalculationsAndCharts!$A371+$A$11,0,1,1)","v":0},{"$f":"IF(AND(A371<=$B$20,$S$14),$T$14,0)","v":0},{"$f":"IF(AND(A371<=$B$20,$S$15),$T$15,0)","v":0},{"$f":"IF(AND(A371<=$B$20,$S$16),$T$16,0)","v":0},{"$f":"IF(AND(A371<=$B$20,$S$17),$T$17,0)","v":0},{"$f":"IF(AND(A371<=$B$20,$S$18),$T$18,0)","v":0},0,0,0,0,0,0,0,0,0,0,0,0,0]
[341,{"$f":"OFFSET(InputPriceData!B$10,CalculationsAndCharts!$A372+$A$11,0,1,1)","v":"00:00:00"},{"$f":"OFFSET(InputPriceData!G$10,CalculationsAndCharts!$A372+$A$11,0,1,1)","v":0},{"$f":"OFFSET(InputPriceData!C$10,CalculationsAndCharts!$A372+$A$11,0,1,1)","v":0},{"$f":"OFFSET(InputPriceData!D$10,CalculationsAndCharts!$A372+$A$11,0,1,1)","v":0},{"$f":"OFFSET(InputPriceData!E$10,CalculationsAndCharts!$A372+$A$11,0,1,1)","v":0},{"$f":"OFFSET(InputPriceData!F$10,CalculationsAndCharts!$A372+$A$11,0,1,1)","v":0},{"$f":"IF(AND(A372<=$B$20,$S$14),$T$14,0)","v":0},{"$f":"IF(AND(A372<=$B$20,$S$15),$T$15,0)","v":0},{"$f":"IF(AND(A372<=$B$20,$S$16),$T$16,0)","v":0},{"$f":"IF(AND(A372<=$B$20,$S$17),$T$17,0)","v":0},{"$f":"IF(AND(A372<=$B$20,$S$18),$T$18,0)","v":0},0,0,0,0,0,0,0,0,0,0,0,0,0]
[342,{"$f":"OFFSET(InputPriceData!B$10,CalculationsAndCharts!$A373+$A$11,0,1,1)","v":"00:00:00"},{"$f":"OFFSET(InputPriceData!G$10,CalculationsAndCharts!$A373+$A$11,0,1,1)","v":0},{"$f":"OFFSET(InputPriceData!C$10,CalculationsAndCharts!$A373+$A$11,0,1,1)","v":0},{"$f":"OFFSET(InputPriceData!D$10,CalculationsAndCharts!$A373+$A$11,0,1,1)","v":0},{"$f":"OFFSET(InputPriceData!E$10,CalculationsAndCharts!$A373+$A$11,0,1,1)","v":0},{"$f":"OFFSET(InputPriceData!F$10,CalculationsAndCharts!$A373+$A$11,0,1,1)","v":0},{"$f":"IF(AND(A373<=$B$20,$S$14),$T$14,0)","v":0},{"$f":"IF(AND(A373<=$B$20,$S$15),$T$15,0)","v":0},{"$f":"IF(AND(A373<=$B$20,$S$16),$T$16,0)","v":0},{"$f":"IF(AND(A373<=$B$20,$S$17),$T$17,0)","v":0},{"$f":"IF(AND(A373<=$B$20,$S$18),$T$18,0)","v":0},0,0,0,0,0,0,0,0,0,0,0,0,0]
[343,{"$f":"OFFSET(InputPriceData!B$10,CalculationsAndCharts!$A374+$A$11,0,1,1)","v":"00:00:00"},{"$f":"OFFSET(InputPriceData!G$10,CalculationsAndCharts!$A374+$A$11,0,1,1)","v":0},{"$f":"OFFSET(InputPriceData!C$10,CalculationsAndCharts!$A374+$A$11,0,1,1)","v":0},{"$f":"OFFSET(InputPriceData!D$10,CalculationsAndCharts!$A374+$A$11,0,1,1)","v":0},{"$f":"OFFSET(InputPriceData!E$10,CalculationsAndCharts!$A374+$A$11,0,1,1)","v":0},{"$f":"OFFSET(InputPriceData!F$10,CalculationsAndCharts!$A374+$A$11,0,1,1)","v":0},{"$f":"IF(AND(A374<=$B$20,$S$14),$T$14,0)","v":0},{"$f":"IF(AND(A374<=$B$20,$S$15),$T$15,0)","v":0},{"$f":"IF(AND(A374<=$B$20,$S$16),$T$16,0)","v":0},{"$f":"IF(AND(A374<=$B$20,$S$17),$T$17,0)","v":0},{"$f":"IF(AND(A374<=$B$20,$S$18),$T$18,0)","v":0},0,0,0,0,0,0,0,0,0,0,0,0,0]
[344,{"$f":"OFFSET(InputPriceData!B$10,CalculationsAndCharts!$A375+$A$11,0,1,1)","v":"00:00:00"},{"$f":"OFFSET(InputPriceData!G$10,CalculationsAndCharts!$A375+$A$11,0,1,1)","v":0},{"$f":"OFFSET(InputPriceData!C$10,CalculationsAndCharts!$A375+$A$11,0,1,1)","v":0},{"$f":"OFFSET(InputPriceData!D$10,CalculationsAndCharts!$A375+$A$11,0,1,1)","v":0},{"$f":"OFFSET(InputPriceData!E$10,CalculationsAndCharts!$A375+$A$11,0,1,1)","v":0},{"$f":"OFFSET(InputPriceData!F$10,CalculationsAndCharts!$A375+$A$11,0,1,1)","v":0},{"$f":"IF(AND(A375<=$B$20,$S$14),$T$14,0)","v":0},{"$f":"IF(AND(A375<=$B$20,$S$15),$T$15,0)","v":0},{"$f":"IF(AND(A375<=$B$20,$S$16),$T$16,0)","v":0},{"$f":"IF(AND(A375<=$B$20,$S$17),$T$17,0)","v":0},{"$f":"IF(AND(A375<=$B$20,$S$18),$T$18,0)","v":0},0,0,0,0,0,0,0,0,0,0,0,0,0]
[345,{"$f":"OFFSET(InputPriceData!B$10,CalculationsAndCharts!$A376+$A$11,0,1,1)","v":"00:00:00"},{"$f":"OFFSET(InputPriceData!G$10,CalculationsAndCharts!$A376+$A$11,0,1,1)","v":0},{"$f":"OFFSET(InputPriceData!C$10,CalculationsAndCharts!$A376+$A$11,0,1,1)","v":0},{"$f":"OFFSET(InputPriceData!D$10,CalculationsAndCharts!$A376+$A$11,0,1,1)","v":0},{"$f":"OFFSET(InputPriceData!E$10,CalculationsAndCharts!$A376+$A$11,0,1,1)","v":0},{"$f":"OFFSET(InputPriceData!F$10,CalculationsAndCharts!$A376+$A$11,0,1,1)","v":0},{"$f":"IF(AND(A376<=$B$20,$S$14),$T$14,0)","v":0},{"$f":"IF(AND(A376<=$B$20,$S$15),$T$15,0)","v":0},{"$f":"IF(AND(A376<=$B$20,$S$16),$T$16,0)","v":0},{"$f":"IF(AND(A376<=$B$20,$S$17),$T$17,0)","v":0},{"$f":"IF(AND(A376<=$B$20,$S$18),$T$18,0)","v":0},0,0,0,0,0,0,0,0,0,0,0,0,0]
[346,{"$f":"OFFSET(InputPriceData!B$10,CalculationsAndCharts!$A377+$A$11,0,1,1)","v":"00:00:00"},{"$f":"OFFSET(InputPriceData!G$10,CalculationsAndCharts!$A377+$A$11,0,1,1)","v":0},{"$f":"OFFSET(InputPriceData!C$10,CalculationsAndCharts!$A377+$A$11,0,1,1)","v":0},{"$f":"OFFSET(InputPriceData!D$10,CalculationsAndCharts!$A377+$A$11,0,1,1)","v":0},{"$f":"OFFSET(InputPriceData!E$10,CalculationsAndCharts!$A377+$A$11,0,1,1)","v":0},{"$f":"OFFSET(InputPriceData!F$10,CalculationsAndCharts!$A377+$A$11,0,1,1)","v":0},{"$f":"IF(AND(A377<=$B$20,$S$14),$T$14,0)","v":0},{"$f":"IF(AND(A377<=$B$20,$S$15),$T$15,0)","v":0},{"$f":"IF(AND(A377<=$B$20,$S$16),$T$16,0)","v":0},{"$f":"IF(AND(A377<=$B$20,$S$17),$T$17,0)","v":0},{"$f":"IF(AND(A377<=$B$20,$S$18),$T$18,0)","v":0},0,0,0,0,0,0,0,0,0,0,0,0,0]
[347,{"$f":"OFFSET(InputPriceData!B$10,CalculationsAndCharts!$A378+$A$11,0,1,1)","v":"00:00:00"},{"$f":"OFFSET(InputPriceData!G$10,CalculationsAndCharts!$A378+$A$11,0,1,1)","v":0},{"$f":"OFFSET(InputPriceData!C$10,CalculationsAndCharts!$A378+$A$11,0,1,1)","v":0},{"$f":"OFFSET(InputPriceData!D$10,CalculationsAndCharts!$A378+$A$11,0,1,1)","v":0},{"$f":"OFFSET(InputPriceData!E$10,CalculationsAndCharts!$A378+$A$11,0,1,1)","v":0},{"$f":"OFFSET(InputPriceData!F$10,CalculationsAndCharts!$A378+$A$11,0,1,1)","v":0},{"$f":"IF(AND(A378<=$B$20,$S$14),$T$14,0)","v":0},{"$f":"IF(AND(A378<=$B$20,$S$15),$T$15,0)","v":0},{"$f":"IF(AND(A378<=$B$20,$S$16),$T$16,0)","v":0},{"$f":"IF(AND(A378<=$B$20,$S$17),$T$17,0)","v":0},{"$f":"IF(AND(A378<=$B$20,$S$18),$T$18,0)","v":0},0,0,0,0,0,0,0,0,0,0,0,0,0]
[348,{"$f":"OFFSET(InputPriceData!B$10,CalculationsAndCharts!$A379+$A$11,0,1,1)","v":"00:00:00"},{"$f":"OFFSET(InputPriceData!G$10,CalculationsAndCharts!$A379+$A$11,0,1,1)","v":0},{"$f":"OFFSET(InputPriceData!C$10,CalculationsAndCharts!$A379+$A$11,0,1,1)","v":0},{"$f":"OFFSET(InputPriceData!D$10,CalculationsAndCharts!$A379+$A$11,0,1,1)","v":0},{"$f":"OFFSET(InputPriceData!E$10,CalculationsAndCharts!$A379+$A$11,0,1,1)","v":0},{"$f":"OFFSET(InputPriceData!F$10,CalculationsAndCharts!$A379+$A$11,0,1,1)","v":0},{"$f":"IF(AND(A379<=$B$20,$S$14),$T$14,0)","v":0},{"$f":"IF(AND(A379<=$B$20,$S$15),$T$15,0)","v":0},{"$f":"IF(AND(A379<=$B$20,$S$16),$T$16,0)","v":0},{"$f":"IF(AND(A379<=$B$20,$S$17),$T$17,0)","v":0},{"$f":"IF(AND(A379<=$B$20,$S$18),$T$18,0)","v":0},0,0,0,0,0,0,0,0,0,0,0,0,0]
[349,{"$f":"OFFSET(InputPriceData!B$10,CalculationsAndCharts!$A380+$A$11,0,1,1)","v":"00:00:00"},{"$f":"OFFSET(InputPriceData!G$10,CalculationsAndCharts!$A380+$A$11,0,1,1)","v":0},{"$f":"OFFSET(InputPriceData!C$10,CalculationsAndCharts!$A380+$A$11,0,1,1)","v":0},{"$f":"OFFSET(InputPriceData!D$10,CalculationsAndCharts!$A380+$A$11,0,1,1)","v":0},{"$f":"OFFSET(InputPriceData!E$10,CalculationsAndCharts!$A380+$A$11,0,1,1)","v":0},{"$f":"OFFSET(InputPriceData!F$10,CalculationsAndCharts!$A380+$A$11,0,1,1)","v":0},{"$f":"IF(AND(A380<=$B$20,$S$14),$T$14,0)","v":0},{"$f":"IF(AND(A380<=$B$20,$S$15),$T$15,0)","v":0},{"$f":"IF(AND(A380<=$B$20,$S$16),$T$16,0)","v":0},{"$f":"IF(AND(A380<=$B$20,$S$17),$T$17,0)","v":0},{"$f":"IF(AND(A380<=$B$20,$S$18),$T$18,0)","v":0},0,0,0,0,0,0,0,0,0,0,0,0,0]
[350,{"$f":"OFFSET(InputPriceData!B$10,CalculationsAndCharts!$A381+$A$11,0,1,1)","v":"00:00:00"},{"$f":"OFFSET(InputPriceData!G$10,CalculationsAndCharts!$A381+$A$11,0,1,1)","v":0},{"$f":"OFFSET(InputPriceData!C$10,CalculationsAndCharts!$A381+$A$11,0,1,1)","v":0},{"$f":"OFFSET(InputPriceData!D$10,CalculationsAndCharts!$A381+$A$11,0,1,1)","v":0},{"$f":"OFFSET(InputPriceData!E$10,CalculationsAndCharts!$A381+$A$11,0,1,1)","v":0},{"$f":"OFFSET(InputPriceData!F$10,CalculationsAndCharts!$A381+$A$11,0,1,1)","v":0},{"$f":"IF(AND(A381<=$B$20,$S$14),$T$14,0)","v":0},{"$f":"IF(AND(A381<=$B$20,$S$15),$T$15,0)","v":0},{"$f":"IF(AND(A381<=$B$20,$S$16),$T$16,0)","v":0},{"$f":"IF(AND(A381<=$B$20,$S$17),$T$17,0)","v":0},{"$f":"IF(AND(A381<=$B$20,$S$18),$T$18,0)","v":0},0,0,0,0,0,0,0,0,0,0,0,0,0]
[351,{"$f":"OFFSET(InputPriceData!B$10,CalculationsAndCharts!$A382+$A$11,0,1,1)","v":"00:00:00"},{"$f":"OFFSET(InputPriceData!G$10,CalculationsAndCharts!$A382+$A$11,0,1,1)","v":0},{"$f":"OFFSET(InputPriceData!C$10,CalculationsAndCharts!$A382+$A$11,0,1,1)","v":0},{"$f":"OFFSET(InputPriceData!D$10,CalculationsAndCharts!$A382+$A$11,0,1,1)","v":0},{"$f":"OFFSET(InputPriceData!E$10,CalculationsAndCharts!$A382+$A$11,0,1,1)","v":0},{"$f":"OFFSET(InputPriceData!F$10,CalculationsAndCharts!$A382+$A$11,0,1,1)","v":0},{"$f":"IF(AND(A382<=$B$20,$S$14),$T$14,0)","v":0},{"$f":"IF(AND(A382<=$B$20,$S$15),$T$15,0)","v":0},{"$f":"IF(AND(A382<=$B$20,$S$16),$T$16,0)","v":0},{"$f":"IF(AND(A382<=$B$20,$S$17),$T$17,0)","v":0},{"$f":"IF(AND(A382<=$B$20,$S$18),$T$18,0)","v":0},0,0,0,0,0,0,0,0,0,0,0,0,0]
[352,{"$f":"OFFSET(InputPriceData!B$10,CalculationsAndCharts!$A383+$A$11,0,1,1)","v":"00:00:00"},{"$f":"OFFSET(InputPriceData!G$10,CalculationsAndCharts!$A383+$A$11,0,1,1)","v":0},{"$f":"OFFSET(InputPriceData!C$10,CalculationsAndCharts!$A383+$A$11,0,1,1)","v":0},{"$f":"OFFSET(InputPriceData!D$10,CalculationsAndCharts!$A383+$A$11,0,1,1)","v":0},{"$f":"OFFSET(InputPriceData!E$10,CalculationsAndCharts!$A383+$A$11,0,1,1)","v":0},{"$f":"OFFSET(InputPriceData!F$10,CalculationsAndCharts!$A383+$A$11,0,1,1)","v":0},{"$f":"IF(AND(A383<=$B$20,$S$14),$T$14,0)","v":0},{"$f":"IF(AND(A383<=$B$20,$S$15),$T$15,0)","v":0},{"$f":"IF(AND(A383<=$B$20,$S$16),$T$16,0)","v":0},{"$f":"IF(AND(A383<=$B$20,$S$17),$T$17,0)","v":0},{"$f":"IF(AND(A383<=$B$20,$S$18),$T$18,0)","v":0},0,0,0,0,0,0,0,0,0,0,0,0,0]
[353,{"$f":"OFFSET(InputPriceData!B$10,CalculationsAndCharts!$A384+$A$11,0,1,1)","v":"00:00:00"},{"$f":"OFFSET(InputPriceData!G$10,CalculationsAndCharts!$A384+$A$11,0,1,1)","v":0},{"$f":"OFFSET(InputPriceData!C$10,CalculationsAndCharts!$A384+$A$11,0,1,1)","v":0},{"$f":"OFFSET(InputPriceData!D$10,CalculationsAndCharts!$A384+$A$11,0,1,1)","v":0},{"$f":"OFFSET(InputPriceData!E$10,CalculationsAndCharts!$A384+$A$11,0,1,1)","v":0},{"$f":"OFFSET(InputPriceData!F$10,CalculationsAndCharts!$A384+$A$11,0,1,1)","v":0},{"$f":"IF(AND(A384<=$B$20,$S$14),$T$14,0)","v":0},{"$f":"IF(AND(A384<=$B$20,$S$15),$T$15,0)","v":0},{"$f":"IF(AND(A384<=$B$20,$S$16),$T$16,0)","v":0},{"$f":"IF(AND(A384<=$B$20,$S$17),$T$17,0)","v":0},{"$f":"IF(AND(A384<=$B$20,$S$18),$T$18,0)","v":0},0,0,0,0,0,0,0,0,0,0,0,0,0]
[354,{"$f":"OFFSET(InputPriceData!B$10,CalculationsAndCharts!$A385+$A$11,0,1,1)","v":"00:00:00"},{"$f":"OFFSET(InputPriceData!G$10,CalculationsAndCharts!$A385+$A$11,0,1,1)","v":0},{"$f":"OFFSET(InputPriceData!C$10,CalculationsAndCharts!$A385+$A$11,0,1,1)","v":0},{"$f":"OFFSET(InputPriceData!D$10,CalculationsAndCharts!$A385+$A$11,0,1,1)","v":0},{"$f":"OFFSET(InputPriceData!E$10,CalculationsAndCharts!$A385+$A$11,0,1,1)","v":0},{"$f":"OFFSET(InputPriceData!F$10,CalculationsAndCharts!$A385+$A$11,0,1,1)","v":0},{"$f":"IF(AND(A385<=$B$20,$S$14),$T$14,0)","v":0},{"$f":"IF(AND(A385<=$B$20,$S$15),$T$15,0)","v":0},{"$f":"IF(AND(A385<=$B$20,$S$16),$T$16,0)","v":0},{"$f":"IF(AND(A385<=$B$20,$S$17),$T$17,0)","v":0},{"$f":"IF(AND(A385<=$B$20,$S$18),$T$18,0)","v":0},0,0,0,0,0,0,0,0,0,0,0,0,0]
[355,{"$f":"OFFSET(InputPriceData!B$10,CalculationsAndCharts!$A386+$A$11,0,1,1)","v":"00:00:00"},{"$f":"OFFSET(InputPriceData!G$10,CalculationsAndCharts!$A386+$A$11,0,1,1)","v":0},{"$f":"OFFSET(InputPriceData!C$10,CalculationsAndCharts!$A386+$A$11,0,1,1)","v":0},{"$f":"OFFSET(InputPriceData!D$10,CalculationsAndCharts!$A386+$A$11,0,1,1)","v":0},{"$f":"OFFSET(InputPriceData!E$10,CalculationsAndCharts!$A386+$A$11,0,1,1)","v":0},{"$f":"OFFSET(InputPriceData!F$10,CalculationsAndCharts!$A386+$A$11,0,1,1)","v":0},{"$f":"IF(AND(A386<=$B$20,$S$14),$T$14,0)","v":0},{"$f":"IF(AND(A386<=$B$20,$S$15),$T$15,0)","v":0},{"$f":"IF(AND(A386<=$B$20,$S$16),$T$16,0)","v":0},{"$f":"IF(AND(A386<=$B$20,$S$17),$T$17,0)","v":0},{"$f":"IF(AND(A386<=$B$20,$S$18),$T$18,0)","v":0},0,0,0,0,0,0,0,0,0,0,0,0,0]
[356,{"$f":"OFFSET(InputPriceData!B$10,CalculationsAndCharts!$A387+$A$11,0,1,1)","v":"00:00:00"},{"$f":"OFFSET(InputPriceData!G$10,CalculationsAndCharts!$A387+$A$11,0,1,1)","v":0},{"$f":"OFFSET(InputPriceData!C$10,CalculationsAndCharts!$A387+$A$11,0,1,1)","v":0},{"$f":"OFFSET(InputPriceData!D$10,CalculationsAndCharts!$A387+$A$11,0,1,1)","v":0},{"$f":"OFFSET(InputPriceData!E$10,CalculationsAndCharts!$A387+$A$11,0,1,1)","v":0},{"$f":"OFFSET(InputPriceData!F$10,CalculationsAndCharts!$A387+$A$11,0,1,1)","v":0},{"$f":"IF(AND(A387<=$B$20,$S$14),$T$14,0)","v":0},{"$f":"IF(AND(A387<=$B$20,$S$15),$T$15,0)","v":0},{"$f":"IF(AND(A387<=$B$20,$S$16),$T$16,0)","v":0},{"$f":"IF(AND(A387<=$B$20,$S$17),$T$17,0)","v":0},{"$f":"IF(AND(A387<=$B$20,$S$18),$T$18,0)","v":0},0,0,0,0,0,0,0,0,0,0,0,0,0]
[357,{"$f":"OFFSET(InputPriceData!B$10,CalculationsAndCharts!$A388+$A$11,0,1,1)","v":"00:00:00"},{"$f":"OFFSET(InputPriceData!G$10,CalculationsAndCharts!$A388+$A$11,0,1,1)","v":0},{"$f":"OFFSET(InputPriceData!C$10,CalculationsAndCharts!$A388+$A$11,0,1,1)","v":0},{"$f":"OFFSET(InputPriceData!D$10,CalculationsAndCharts!$A388+$A$11,0,1,1)","v":0},{"$f":"OFFSET(InputPriceData!E$10,CalculationsAndCharts!$A388+$A$11,0,1,1)","v":0},{"$f":"OFFSET(InputPriceData!F$10,CalculationsAndCharts!$A388+$A$11,0,1,1)","v":0},{"$f":"IF(AND(A388<=$B$20,$S$14),$T$14,0)","v":0},{"$f":"IF(AND(A388<=$B$20,$S$15),$T$15,0)","v":0},{"$f":"IF(AND(A388<=$B$20,$S$16),$T$16,0)","v":0},{"$f":"IF(AND(A388<=$B$20,$S$17),$T$17,0)","v":0},{"$f":"IF(AND(A388<=$B$20,$S$18),$T$18,0)","v":0},0,0,0,0,0,0,0,0,0,0,0,0,0]
[358,{"$f":"OFFSET(InputPriceData!B$10,CalculationsAndCharts!$A389+$A$11,0,1,1)","v":"00:00:00"},{"$f":"OFFSET(InputPriceData!G$10,CalculationsAndCharts!$A389+$A$11,0,1,1)","v":0},{"$f":"OFFSET(InputPriceData!C$10,CalculationsAndCharts!$A389+$A$11,0,1,1)","v":0},{"$f":"OFFSET(InputPriceData!D$10,CalculationsAndCharts!$A389+$A$11,0,1,1)","v":0},{"$f":"OFFSET(InputPriceData!E$10,CalculationsAndCharts!$A389+$A$11,0,1,1)","v":0},{"$f":"OFFSET(InputPriceData!F$10,CalculationsAndCharts!$A389+$A$11,0,1,1)","v":0},{"$f":"IF(AND(A389<=$B$20,$S$14),$T$14,0)","v":0},{"$f":"IF(AND(A389<=$B$20,$S$15),$T$15,0)","v":0},{"$f":"IF(AND(A389<=$B$20,$S$16),$T$16,0)","v":0},{"$f":"IF(AND(A389<=$B$20,$S$17),$T$17,0)","v":0},{"$f":"IF(AND(A389<=$B$20,$S$18),$T$18,0)","v":0},0,0,0,0,0,0,0,0,0,0,0,0,0]
[359,{"$f":"OFFSET(InputPriceData!B$10,CalculationsAndCharts!$A390+$A$11,0,1,1)","v":"00:00:00"},{"$f":"OFFSET(InputPriceData!G$10,CalculationsAndCharts!$A390+$A$11,0,1,1)","v":0},{"$f":"OFFSET(InputPriceData!C$10,CalculationsAndCharts!$A390+$A$11,0,1,1)","v":0},{"$f":"OFFSET(InputPriceData!D$10,CalculationsAndCharts!$A390+$A$11,0,1,1)","v":0},{"$f":"OFFSET(InputPriceData!E$10,CalculationsAndCharts!$A390+$A$11,0,1,1)","v":0},{"$f":"OFFSET(InputPriceData!F$10,CalculationsAndCharts!$A390+$A$11,0,1,1)","v":0},{"$f":"IF(AND(A390<=$B$20,$S$14),$T$14,0)","v":0},{"$f":"IF(AND(A390<=$B$20,$S$15),$T$15,0)","v":0},{"$f":"IF(AND(A390<=$B$20,$S$16),$T$16,0)","v":0},{"$f":"IF(AND(A390<=$B$20,$S$17),$T$17,0)","v":0},{"$f":"IF(AND(A390<=$B$20,$S$18),$T$18,0)","v":0},0,0,0,0,0,0,0,0,0,0,0,0,0]
[360,{"$f":"OFFSET(InputPriceData!B$10,CalculationsAndCharts!$A391+$A$11,0,1,1)","v":"00:00:00"},{"$f":"OFFSET(InputPriceData!G$10,CalculationsAndCharts!$A391+$A$11,0,1,1)","v":0},{"$f":"OFFSET(InputPriceData!C$10,CalculationsAndCharts!$A391+$A$11,0,1,1)","v":0},{"$f":"OFFSET(InputPriceData!D$10,CalculationsAndCharts!$A391+$A$11,0,1,1)","v":0},{"$f":"OFFSET(InputPriceData!E$10,CalculationsAndCharts!$A391+$A$11,0,1,1)","v":0},{"$f":"OFFSET(InputPriceData!F$10,CalculationsAndCharts!$A391+$A$11,0,1,1)","v":0},{"$f":"IF(AND(A391<=$B$20,$S$14),$T$14,0)","v":0},{"$f":"IF(AND(A391<=$B$20,$S$15),$T$15,0)","v":0},{"$f":"IF(AND(A391<=$B$20,$S$16),$T$16,0)","v":0},{"$f":"IF(AND(A391<=$B$20,$S$17),$T$17,0)","v":0},{"$f":"IF(AND(A391<=$B$20,$S$18),$T$18,0)","v":0},0,0,0,0,0,0,0,0,0,0,0,0,0]
[361,{"$f":"OFFSET(InputPriceData!B$10,CalculationsAndCharts!$A392+$A$11,0,1,1)","v":"00:00:00"},{"$f":"OFFSET(InputPriceData!G$10,CalculationsAndCharts!$A392+$A$11,0,1,1)","v":0},{"$f":"OFFSET(InputPriceData!C$10,CalculationsAndCharts!$A392+$A$11,0,1,1)","v":0},{"$f":"OFFSET(InputPriceData!D$10,CalculationsAndCharts!$A392+$A$11,0,1,1)","v":0},{"$f":"OFFSET(InputPriceData!E$10,CalculationsAndCharts!$A392+$A$11,0,1,1)","v":0},{"$f":"OFFSET(InputPriceData!F$10,CalculationsAndCharts!$A392+$A$11,0,1,1)","v":0},{"$f":"IF(AND(A392<=$B$20,$S$14),$T$14,0)","v":0},{"$f":"IF(AND(A392<=$B$20,$S$15),$T$15,0)","v":0},{"$f":"IF(AND(A392<=$B$20,$S$16),$T$16,0)","v":0},{"$f":"IF(AND(A392<=$B$20,$S$17),$T$17,0)","v":0},{"$f":"IF(AND(A392<=$B$20,$S$18),$T$18,0)","v":0},0,0,0,0,0,0,0,0,0,0,0,0,0]
[362,{"$f":"OFFSET(InputPriceData!B$10,CalculationsAndCharts!$A393+$A$11,0,1,1)","v":"00:00:00"},{"$f":"OFFSET(InputPriceData!G$10,CalculationsAndCharts!$A393+$A$11,0,1,1)","v":0},{"$f":"OFFSET(InputPriceData!C$10,CalculationsAndCharts!$A393+$A$11,0,1,1)","v":0},{"$f":"OFFSET(InputPriceData!D$10,CalculationsAndCharts!$A393+$A$11,0,1,1)","v":0},{"$f":"OFFSET(InputPriceData!E$10,CalculationsAndCharts!$A393+$A$11,0,1,1)","v":0},{"$f":"OFFSET(InputPriceData!F$10,CalculationsAndCharts!$A393+$A$11,0,1,1)","v":0},{"$f":"IF(AND(A393<=$B$20,$S$14),$T$14,0)","v":0},{"$f":"IF(AND(A393<=$B$20,$S$15),$T$15,0)","v":0},{"$f":"IF(AND(A393<=$B$20,$S$16),$T$16,0)","v":0},{"$f":"IF(AND(A393<=$B$20,$S$17),$T$17,0)","v":0},{"$f":"IF(AND(A393<=$B$20,$S$18),$T$18,0)","v":0},0,0,0,0,0,0,0,0,0,0,0,0,0]
[363,{"$f":"OFFSET(InputPriceData!B$10,CalculationsAndCharts!$A394+$A$11,0,1,1)","v":"00:00:00"},{"$f":"OFFSET(InputPriceData!G$10,CalculationsAndCharts!$A394+$A$11,0,1,1)","v":0},{"$f":"OFFSET(InputPriceData!C$10,CalculationsAndCharts!$A394+$A$11,0,1,1)","v":0},{"$f":"OFFSET(InputPriceData!D$10,CalculationsAndCharts!$A394+$A$11,0,1,1)","v":0},{"$f":"OFFSET(InputPriceData!E$10,CalculationsAndCharts!$A394+$A$11,0,1,1)","v":0},{"$f":"OFFSET(InputPriceData!F$10,CalculationsAndCharts!$A394+$A$11,0,1,1)","v":0},{"$f":"IF(AND(A394<=$B$20,$S$14),$T$14,0)","v":0},{"$f":"IF(AND(A394<=$B$20,$S$15),$T$15,0)","v":0},{"$f":"IF(AND(A394<=$B$20,$S$16),$T$16,0)","v":0},{"$f":"IF(AND(A394<=$B$20,$S$17),$T$17,0)","v":0},{"$f":"IF(AND(A394<=$B$20,$S$18),$T$18,0)","v":0},0,0,0,0,0,0,0,0,0,0,0,0,0]
[364,{"$f":"OFFSET(InputPriceData!B$10,CalculationsAndCharts!$A395+$A$11,0,1,1)","v":"00:00:00"},{"$f":"OFFSET(InputPriceData!G$10,CalculationsAndCharts!$A395+$A$11,0,1,1)","v":0},{"$f":"OFFSET(InputPriceData!C$10,CalculationsAndCharts!$A395+$A$11,0,1,1)","v":0},{"$f":"OFFSET(InputPriceData!D$10,CalculationsAndCharts!$A395+$A$11,0,1,1)","v":0},{"$f":"OFFSET(InputPriceData!E$10,CalculationsAndCharts!$A395+$A$11,0,1,1)","v":0},{"$f":"OFFSET(InputPriceData!F$10,CalculationsAndCharts!$A395+$A$11,0,1,1)","v":0},{"$f":"IF(AND(A395<=$B$20,$S$14),$T$14,0)","v":0},{"$f":"IF(AND(A395<=$B$20,$S$15),$T$15,0)","v":0},{"$f":"IF(AND(A395<=$B$20,$S$16),$T$16,0)","v":0},{"$f":"IF(AND(A395<=$B$20,$S$17),$T$17,0)","v":0},{"$f":"IF(AND(A395<=$B$20,$S$18),$T$18,0)","v":0},0,0,0,0,0,0,0,0,0,0,0,0,0]
[365,{"$f":"OFFSET(InputPriceData!B$10,CalculationsAndCharts!$A396+$A$11,0,1,1)","v":"00:00:00"},{"$f":"OFFSET(InputPriceData!G$10,CalculationsAndCharts!$A396+$A$11,0,1,1)","v":0},{"$f":"OFFSET(InputPriceData!C$10,CalculationsAndCharts!$A396+$A$11,0,1,1)","v":0},{"$f":"OFFSET(InputPriceData!D$10,CalculationsAndCharts!$A396+$A$11,0,1,1)","v":0},{"$f":"OFFSET(InputPriceData!E$10,CalculationsAndCharts!$A396+$A$11,0,1,1)","v":0},{"$f":"OFFSET(InputPriceData!F$10,CalculationsAndCharts!$A396+$A$11,0,1,1)","v":0},{"$f":"IF(AND(A396<=$B$20,$S$14),$T$14,0)","v":0},{"$f":"IF(AND(A396<=$B$20,$S$15),$T$15,0)","v":0},{"$f":"IF(AND(A396<=$B$20,$S$16),$T$16,0)","v":0},{"$f":"IF(AND(A396<=$B$20,$S$17),$T$17,0)","v":0},{"$f":"IF(AND(A396<=$B$20,$S$18),$T$18,0)","v":0},0,0,0,0,0,0,0,0,0,0,0,0,0]
[366,{"$f":"OFFSET(InputPriceData!B$10,CalculationsAndCharts!$A397+$A$11,0,1,1)","v":"00:00:00"},{"$f":"OFFSET(InputPriceData!G$10,CalculationsAndCharts!$A397+$A$11,0,1,1)","v":0},{"$f":"OFFSET(InputPriceData!C$10,CalculationsAndCharts!$A397+$A$11,0,1,1)","v":0},{"$f":"OFFSET(InputPriceData!D$10,CalculationsAndCharts!$A397+$A$11,0,1,1)","v":0},{"$f":"OFFSET(InputPriceData!E$10,CalculationsAndCharts!$A397+$A$11,0,1,1)","v":0},{"$f":"OFFSET(InputPriceData!F$10,CalculationsAndCharts!$A397+$A$11,0,1,1)","v":0},{"$f":"IF(AND(A397<=$B$20,$S$14),$T$14,0)","v":0},{"$f":"IF(AND(A397<=$B$20,$S$15),$T$15,0)","v":0},{"$f":"IF(AND(A397<=$B$20,$S$16),$T$16,0)","v":0},{"$f":"IF(AND(A397<=$B$20,$S$17),$T$17,0)","v":0},{"$f":"IF(AND(A397<=$B$20,$S$18),$T$18,0)","v":0},0,0,0,0,0,0,0,0,0,0,0,0,0]
[367,{"$f":"OFFSET(InputPriceData!B$10,CalculationsAndCharts!$A398+$A$11,0,1,1)","v":"00:00:00"},{"$f":"OFFSET(InputPriceData!G$10,CalculationsAndCharts!$A398+$A$11,0,1,1)","v":0},{"$f":"OFFSET(InputPriceData!C$10,CalculationsAndCharts!$A398+$A$11,0,1,1)","v":0},{"$f":"OFFSET(InputPriceData!D$10,CalculationsAndCharts!$A398+$A$11,0,1,1)","v":0},{"$f":"OFFSET(InputPriceData!E$10,CalculationsAndCharts!$A398+$A$11,0,1,1)","v":0},{"$f":"OFFSET(InputPriceData!F$10,CalculationsAndCharts!$A398+$A$11,0,1,1)","v":0},{"$f":"IF(AND(A398<=$B$20,$S$14),$T$14,0)","v":0},{"$f":"IF(AND(A398<=$B$20,$S$15),$T$15,0)","v":0},{"$f":"IF(AND(A398<=$B$20,$S$16),$T$16,0)","v":0},{"$f":"IF(AND(A398<=$B$20,$S$17),$T$17,0)","v":0},{"$f":"IF(AND(A398<=$B$20,$S$18),$T$18,0)","v":0},0,0,0,0,0,0,0,0,0,0,0,0,0]
[368,{"$f":"OFFSET(InputPriceData!B$10,CalculationsAndCharts!$A399+$A$11,0,1,1)","v":"00:00:00"},{"$f":"OFFSET(InputPriceData!G$10,CalculationsAndCharts!$A399+$A$11,0,1,1)","v":0},{"$f":"OFFSET(InputPriceData!C$10,CalculationsAndCharts!$A399+$A$11,0,1,1)","v":0},{"$f":"OFFSET(InputPriceData!D$10,CalculationsAndCharts!$A399+$A$11,0,1,1)","v":0},{"$f":"OFFSET(InputPriceData!E$10,CalculationsAndCharts!$A399+$A$11,0,1,1)","v":0},{"$f":"OFFSET(InputPriceData!F$10,CalculationsAndCharts!$A399+$A$11,0,1,1)","v":0},{"$f":"IF(AND(A399<=$B$20,$S$14),$T$14,0)","v":0},{"$f":"IF(AND(A399<=$B$20,$S$15),$T$15,0)","v":0},{"$f":"IF(AND(A399<=$B$20,$S$16),$T$16,0)","v":0},{"$f":"IF(AND(A399<=$B$20,$S$17),$T$17,0)","v":0},{"$f":"IF(AND(A399<=$B$20,$S$18),$T$18,0)","v":0},0,0,0,0,0,0,0,0,0,0,0,0,0]
[369,{"$f":"OFFSET(InputPriceData!B$10,CalculationsAndCharts!$A400+$A$11,0,1,1)","v":"00:00:00"},{"$f":"OFFSET(InputPriceData!G$10,CalculationsAndCharts!$A400+$A$11,0,1,1)","v":0},{"$f":"OFFSET(InputPriceData!C$10,CalculationsAndCharts!$A400+$A$11,0,1,1)","v":0},{"$f":"OFFSET(InputPriceData!D$10,CalculationsAndCharts!$A400+$A$11,0,1,1)","v":0},{"$f":"OFFSET(InputPriceData!E$10,CalculationsAndCharts!$A400+$A$11,0,1,1)","v":0},{"$f":"OFFSET(InputPriceData!F$10,CalculationsAndCharts!$A400+$A$11,0,1,1)","v":0},{"$f":"IF(AND(A400<=$B$20,$S$14),$T$14,0)","v":0},{"$f":"IF(AND(A400<=$B$20,$S$15),$T$15,0)","v":0},{"$f":"IF(AND(A400<=$B$20,$S$16),$T$16,0)","v":0},{"$f":"IF(AND(A400<=$B$20,$S$17),$T$17,0)","v":0},{"$f":"IF(AND(A400<=$B$20,$S$18),$T$18,0)","v":0},0,0,0,0,0,0,0,0,0,0,0,0,0]
[370,{"$f":"OFFSET(InputPriceData!B$10,CalculationsAndCharts!$A401+$A$11,0,1,1)","v":"00:00:00"},{"$f":"OFFSET(InputPriceData!G$10,CalculationsAndCharts!$A401+$A$11,0,1,1)","v":0},{"$f":"OFFSET(InputPriceData!C$10,CalculationsAndCharts!$A401+$A$11,0,1,1)","v":0},{"$f":"OFFSET(InputPriceData!D$10,CalculationsAndCharts!$A401+$A$11,0,1,1)","v":0},{"$f":"OFFSET(InputPriceData!E$10,CalculationsAndCharts!$A401+$A$11,0,1,1)","v":0},{"$f":"OFFSET(InputPriceData!F$10,CalculationsAndCharts!$A401+$A$11,0,1,1)","v":0},{"$f":"IF(AND(A401<=$B$20,$S$14),$T$14,0)","v":0},{"$f":"IF(AND(A401<=$B$20,$S$15),$T$15,0)","v":0},{"$f":"IF(AND(A401<=$B$20,$S$16),$T$16,0)","v":0},{"$f":"IF(AND(A401<=$B$20,$S$17),$T$17,0)","v":0},{"$f":"IF(AND(A401<=$B$20,$S$18),$T$18,0)","v":0},0,0,0,0,0,0,0,0,0,0,0,0,0]
[371,{"$f":"OFFSET(InputPriceData!B$10,CalculationsAndCharts!$A402+$A$11,0,1,1)","v":"00:00:00"},{"$f":"OFFSET(InputPriceData!G$10,CalculationsAndCharts!$A402+$A$11,0,1,1)","v":0},{"$f":"OFFSET(InputPriceData!C$10,CalculationsAndCharts!$A402+$A$11,0,1,1)","v":0},{"$f":"OFFSET(InputPriceData!D$10,CalculationsAndCharts!$A402+$A$11,0,1,1)","v":0},{"$f":"OFFSET(InputPriceData!E$10,CalculationsAndCharts!$A402+$A$11,0,1,1)","v":0},{"$f":"OFFSET(InputPriceData!F$10,CalculationsAndCharts!$A402+$A$11,0,1,1)","v":0},{"$f":"IF(AND(A402<=$B$20,$S$14),$T$14,0)","v":0},{"$f":"IF(AND(A402<=$B$20,$S$15),$T$15,0)","v":0},{"$f":"IF(AND(A402<=$B$20,$S$16),$T$16,0)","v":0},{"$f":"IF(AND(A402<=$B$20,$S$17),$T$17,0)","v":0},{"$f":"IF(AND(A402<=$B$20,$S$18),$T$18,0)","v":0},0,0,0,0,0,0,0,0,0,0,0,0,0]
[372,{"$f":"OFFSET(InputPriceData!B$10,CalculationsAndCharts!$A403+$A$11,0,1,1)","v":"00:00:00"},{"$f":"OFFSET(InputPriceData!G$10,CalculationsAndCharts!$A403+$A$11,0,1,1)","v":0},{"$f":"OFFSET(InputPriceData!C$10,CalculationsAndCharts!$A403+$A$11,0,1,1)","v":0},{"$f":"OFFSET(InputPriceData!D$10,CalculationsAndCharts!$A403+$A$11,0,1,1)","v":0},{"$f":"OFFSET(InputPriceData!E$10,CalculationsAndCharts!$A403+$A$11,0,1,1)","v":0},{"$f":"OFFSET(InputPriceData!F$10,CalculationsAndCharts!$A403+$A$11,0,1,1)","v":0},{"$f":"IF(AND(A403<=$B$20,$S$14),$T$14,0)","v":0},{"$f":"IF(AND(A403<=$B$20,$S$15),$T$15,0)","v":0},{"$f":"IF(AND(A403<=$B$20,$S$16),$T$16,0)","v":0},{"$f":"IF(AND(A403<=$B$20,$S$17),$T$17,0)","v":0},{"$f":"IF(AND(A403<=$B$20,$S$18),$T$18,0)","v":0},0,0,0,0,0,0,0,0,0,0,0,0,0]
[373,{"$f":"OFFSET(InputPriceData!B$10,CalculationsAndCharts!$A404+$A$11,0,1,1)","v":"00:00:00"},{"$f":"OFFSET(InputPriceData!G$10,CalculationsAndCharts!$A404+$A$11,0,1,1)","v":0},{"$f":"OFFSET(InputPriceData!C$10,CalculationsAndCharts!$A404+$A$11,0,1,1)","v":0},{"$f":"OFFSET(InputPriceData!D$10,CalculationsAndCharts!$A404+$A$11,0,1,1)","v":0},{"$f":"OFFSET(InputPriceData!E$10,CalculationsAndCharts!$A404+$A$11,0,1,1)","v":0},{"$f":"OFFSET(InputPriceData!F$10,CalculationsAndCharts!$A404+$A$11,0,1,1)","v":0},{"$f":"IF(AND(A404<=$B$20,$S$14),$T$14,0)","v":0},{"$f":"IF(AND(A404<=$B$20,$S$15),$T$15,0)","v":0},{"$f":"IF(AND(A404<=$B$20,$S$16),$T$16,0)","v":0},{"$f":"IF(AND(A404<=$B$20,$S$17),$T$17,0)","v":0},{"$f":"IF(AND(A404<=$B$20,$S$18),$T$18,0)","v":0},0,0,0,0,0,0,0,0,0,0,0,0,0]
[374,{"$f":"OFFSET(InputPriceData!B$10,CalculationsAndCharts!$A405+$A$11,0,1,1)","v":"00:00:00"},{"$f":"OFFSET(InputPriceData!G$10,CalculationsAndCharts!$A405+$A$11,0,1,1)","v":0},{"$f":"OFFSET(InputPriceData!C$10,CalculationsAndCharts!$A405+$A$11,0,1,1)","v":0},{"$f":"OFFSET(InputPriceData!D$10,CalculationsAndCharts!$A405+$A$11,0,1,1)","v":0},{"$f":"OFFSET(InputPriceData!E$10,CalculationsAndCharts!$A405+$A$11,0,1,1)","v":0},{"$f":"OFFSET(InputPriceData!F$10,CalculationsAndCharts!$A405+$A$11,0,1,1)","v":0},{"$f":"IF(AND(A405<=$B$20,$S$14),$T$14,0)","v":0},{"$f":"IF(AND(A405<=$B$20,$S$15),$T$15,0)","v":0},{"$f":"IF(AND(A405<=$B$20,$S$16),$T$16,0)","v":0},{"$f":"IF(AND(A405<=$B$20,$S$17),$T$17,0)","v":0},{"$f":"IF(AND(A405<=$B$20,$S$18),$T$18,0)","v":0},0,0,0,0,0,0,0,0,0,0,0,0,0]
[375,{"$f":"OFFSET(InputPriceData!B$10,CalculationsAndCharts!$A406+$A$11,0,1,1)","v":"00:00:00"},{"$f":"OFFSET(InputPriceData!G$10,CalculationsAndCharts!$A406+$A$11,0,1,1)","v":0},{"$f":"OFFSET(InputPriceData!C$10,CalculationsAndCharts!$A406+$A$11,0,1,1)","v":0},{"$f":"OFFSET(InputPriceData!D$10,CalculationsAndCharts!$A406+$A$11,0,1,1)","v":0},{"$f":"OFFSET(InputPriceData!E$10,CalculationsAndCharts!$A406+$A$11,0,1,1)","v":0},{"$f":"OFFSET(InputPriceData!F$10,CalculationsAndCharts!$A406+$A$11,0,1,1)","v":0},{"$f":"IF(AND(A406<=$B$20,$S$14),$T$14,0)","v":0},{"$f":"IF(AND(A406<=$B$20,$S$15),$T$15,0)","v":0},{"$f":"IF(AND(A406<=$B$20,$S$16),$T$16,0)","v":0},{"$f":"IF(AND(A406<=$B$20,$S$17),$T$17,0)","v":0},{"$f":"IF(AND(A406<=$B$20,$S$18),$T$18,0)","v":0},0,0,0,0,0,0,0,0,0,0,0,0,0]
[376,{"$f":"OFFSET(InputPriceData!B$10,CalculationsAndCharts!$A407+$A$11,0,1,1)","v":"00:00:00"},{"$f":"OFFSET(InputPriceData!G$10,CalculationsAndCharts!$A407+$A$11,0,1,1)","v":0},{"$f":"OFFSET(InputPriceData!C$10,CalculationsAndCharts!$A407+$A$11,0,1,1)","v":0},{"$f":"OFFSET(InputPriceData!D$10,CalculationsAndCharts!$A407+$A$11,0,1,1)","v":0},{"$f":"OFFSET(InputPriceData!E$10,CalculationsAndCharts!$A407+$A$11,0,1,1)","v":0},{"$f":"OFFSET(InputPriceData!F$10,CalculationsAndCharts!$A407+$A$11,0,1,1)","v":0},{"$f":"IF(AND(A407<=$B$20,$S$14),$T$14,0)","v":0},{"$f":"IF(AND(A407<=$B$20,$S$15),$T$15,0)","v":0},{"$f":"IF(AND(A407<=$B$20,$S$16),$T$16,0)","v":0},{"$f":"IF(AND(A407<=$B$20,$S$17),$T$17,0)","v":0},{"$f":"IF(AND(A407<=$B$20,$S$18),$T$18,0)","v":0},0,0,0,0,0,0,0,0,0,0,0,0,0]
[377,{"$f":"OFFSET(InputPriceData!B$10,CalculationsAndCharts!$A408+$A$11,0,1,1)","v":"00:00:00"},{"$f":"OFFSET(InputPriceData!G$10,CalculationsAndCharts!$A408+$A$11,0,1,1)","v":0},{"$f":"OFFSET(InputPriceData!C$10,CalculationsAndCharts!$A408+$A$11,0,1,1)","v":0},{"$f":"OFFSET(InputPriceData!D$10,CalculationsAndCharts!$A408+$A$11,0,1,1)","v":0},{"$f":"OFFSET(InputPriceData!E$10,CalculationsAndCharts!$A408+$A$11,0,1,1)","v":0},{"$f":"OFFSET(InputPriceData!F$10,CalculationsAndCharts!$A408+$A$11,0,1,1)","v":0},{"$f":"IF(AND(A408<=$B$20,$S$14),$T$14,0)","v":0},{"$f":"IF(AND(A408<=$B$20,$S$15),$T$15,0)","v":0},{"$f":"IF(AND(A408<=$B$20,$S$16),$T$16,0)","v":0},{"$f":"IF(AND(A408<=$B$20,$S$17),$T$17,0)","v":0},{"$f":"IF(AND(A408<=$B$20,$S$18),$T$18,0)","v":0},0,0,0,0,0,0,0,0,0,0,0,0,0]
[378,{"$f":"OFFSET(InputPriceData!B$10,CalculationsAndCharts!$A409+$A$11,0,1,1)","v":"00:00:00"},{"$f":"OFFSET(InputPriceData!G$10,CalculationsAndCharts!$A409+$A$11,0,1,1)","v":0},{"$f":"OFFSET(InputPriceData!C$10,CalculationsAndCharts!$A409+$A$11,0,1,1)","v":0},{"$f":"OFFSET(InputPriceData!D$10,CalculationsAndCharts!$A409+$A$11,0,1,1)","v":0},{"$f":"OFFSET(InputPriceData!E$10,CalculationsAndCharts!$A409+$A$11,0,1,1)","v":0},{"$f":"OFFSET(InputPriceData!F$10,CalculationsAndCharts!$A409+$A$11,0,1,1)","v":0},{"$f":"IF(AND(A409<=$B$20,$S$14),$T$14,0)","v":0},{"$f":"IF(AND(A409<=$B$20,$S$15),$T$15,0)","v":0},{"$f":"IF(AND(A409<=$B$20,$S$16),$T$16,0)","v":0},{"$f":"IF(AND(A409<=$B$20,$S$17),$T$17,0)","v":0},{"$f":"IF(AND(A409<=$B$20,$S$18),$T$18,0)","v":0},0,0,0,0,0,0,0,0,0,0,0,0,0]
[379,{"$f":"OFFSET(InputPriceData!B$10,CalculationsAndCharts!$A410+$A$11,0,1,1)","v":"00:00:00"},{"$f":"OFFSET(InputPriceData!G$10,CalculationsAndCharts!$A410+$A$11,0,1,1)","v":0},{"$f":"OFFSET(InputPriceData!C$10,CalculationsAndCharts!$A410+$A$11,0,1,1)","v":0},{"$f":"OFFSET(InputPriceData!D$10,CalculationsAndCharts!$A410+$A$11,0,1,1)","v":0},{"$f":"OFFSET(InputPriceData!E$10,CalculationsAndCharts!$A410+$A$11,0,1,1)","v":0},{"$f":"OFFSET(InputPriceData!F$10,CalculationsAndCharts!$A410+$A$11,0,1,1)","v":0},{"$f":"IF(AND(A410<=$B$20,$S$14),$T$14,0)","v":0},{"$f":"IF(AND(A410<=$B$20,$S$15),$T$15,0)","v":0},{"$f":"IF(AND(A410<=$B$20,$S$16),$T$16,0)","v":0},{"$f":"IF(AND(A410<=$B$20,$S$17),$T$17,0)","v":0},{"$f":"IF(AND(A410<=$B$20,$S$18),$T$18,0)","v":0},0,0,0,0,0,0,0,0,0,0,0,0,0]
[380,{"$f":"OFFSET(InputPriceData!B$10,CalculationsAndCharts!$A411+$A$11,0,1,1)","v":"00:00:00"},{"$f":"OFFSET(InputPriceData!G$10,CalculationsAndCharts!$A411+$A$11,0,1,1)","v":0},{"$f":"OFFSET(InputPriceData!C$10,CalculationsAndCharts!$A411+$A$11,0,1,1)","v":0},{"$f":"OFFSET(InputPriceData!D$10,CalculationsAndCharts!$A411+$A$11,0,1,1)","v":0},{"$f":"OFFSET(InputPriceData!E$10,CalculationsAndCharts!$A411+$A$11,0,1,1)","v":0},{"$f":"OFFSET(InputPriceData!F$10,CalculationsAndCharts!$A411+$A$11,0,1,1)","v":0},{"$f":"IF(AND(A411<=$B$20,$S$14),$T$14,0)","v":0},{"$f":"IF(AND(A411<=$B$20,$S$15),$T$15,0)","v":0},{"$f":"IF(AND(A411<=$B$20,$S$16),$T$16,0)","v":0},{"$f":"IF(AND(A411<=$B$20,$S$17),$T$17,0)","v":0},{"$f":"IF(AND(A411<=$B$20,$S$18),$T$18,0)","v":0},0,0,0,0,0,0,0,0,0,0,0,0,0]
[381,{"$f":"OFFSET(InputPriceData!B$10,CalculationsAndCharts!$A412+$A$11,0,1,1)","v":"00:00:00"},{"$f":"OFFSET(InputPriceData!G$10,CalculationsAndCharts!$A412+$A$11,0,1,1)","v":0},{"$f":"OFFSET(InputPriceData!C$10,CalculationsAndCharts!$A412+$A$11,0,1,1)","v":0},{"$f":"OFFSET(InputPriceData!D$10,CalculationsAndCharts!$A412+$A$11,0,1,1)","v":0},{"$f":"OFFSET(InputPriceData!E$10,CalculationsAndCharts!$A412+$A$11,0,1,1)","v":0},{"$f":"OFFSET(InputPriceData!F$10,CalculationsAndCharts!$A412+$A$11,0,1,1)","v":0},{"$f":"IF(AND(A412<=$B$20,$S$14),$T$14,0)","v":0},{"$f":"IF(AND(A412<=$B$20,$S$15),$T$15,0)","v":0},{"$f":"IF(AND(A412<=$B$20,$S$16),$T$16,0)","v":0},{"$f":"IF(AND(A412<=$B$20,$S$17),$T$17,0)","v":0},{"$f":"IF(AND(A412<=$B$20,$S$18),$T$18,0)","v":0},0,0,0,0,0,0,0,0,0,0,0,0,0]
[382,{"$f":"OFFSET(InputPriceData!B$10,CalculationsAndCharts!$A413+$A$11,0,1,1)","v":"00:00:00"},{"$f":"OFFSET(InputPriceData!G$10,CalculationsAndCharts!$A413+$A$11,0,1,1)","v":0},{"$f":"OFFSET(InputPriceData!C$10,CalculationsAndCharts!$A413+$A$11,0,1,1)","v":0},{"$f":"OFFSET(InputPriceData!D$10,CalculationsAndCharts!$A413+$A$11,0,1,1)","v":0},{"$f":"OFFSET(InputPriceData!E$10,CalculationsAndCharts!$A413+$A$11,0,1,1)","v":0},{"$f":"OFFSET(InputPriceData!F$10,CalculationsAndCharts!$A413+$A$11,0,1,1)","v":0},{"$f":"IF(AND(A413<=$B$20,$S$14),$T$14,0)","v":0},{"$f":"IF(AND(A413<=$B$20,$S$15),$T$15,0)","v":0},{"$f":"IF(AND(A413<=$B$20,$S$16),$T$16,0)","v":0},{"$f":"IF(AND(A413<=$B$20,$S$17),$T$17,0)","v":0},{"$f":"IF(AND(A413<=$B$20,$S$18),$T$18,0)","v":0},0,0,0,0,0,0,0,0,0,0,0,0,0]
[383,{"$f":"OFFSET(InputPriceData!B$10,CalculationsAndCharts!$A414+$A$11,0,1,1)","v":"00:00:00"},{"$f":"OFFSET(InputPriceData!G$10,CalculationsAndCharts!$A414+$A$11,0,1,1)","v":0},{"$f":"OFFSET(InputPriceData!C$10,CalculationsAndCharts!$A414+$A$11,0,1,1)","v":0},{"$f":"OFFSET(InputPriceData!D$10,CalculationsAndCharts!$A414+$A$11,0,1,1)","v":0},{"$f":"OFFSET(InputPriceData!E$10,CalculationsAndCharts!$A414+$A$11,0,1,1)","v":0},{"$f":"OFFSET(InputPriceData!F$10,CalculationsAndCharts!$A414+$A$11,0,1,1)","v":0},{"$f":"IF(AND(A414<=$B$20,$S$14),$T$14,0)","v":0},{"$f":"IF(AND(A414<=$B$20,$S$15),$T$15,0)","v":0},{"$f":"IF(AND(A414<=$B$20,$S$16),$T$16,0)","v":0},{"$f":"IF(AND(A414<=$B$20,$S$17),$T$17,0)","v":0},{"$f":"IF(AND(A414<=$B$20,$S$18),$T$18,0)","v":0},0,0,0,0,0,0,0,0,0,0,0,0,0]
[384,{"$f":"OFFSET(InputPriceData!B$10,CalculationsAndCharts!$A415+$A$11,0,1,1)","v":"00:00:00"},{"$f":"OFFSET(InputPriceData!G$10,CalculationsAndCharts!$A415+$A$11,0,1,1)","v":0},{"$f":"OFFSET(InputPriceData!C$10,CalculationsAndCharts!$A415+$A$11,0,1,1)","v":0},{"$f":"OFFSET(InputPriceData!D$10,CalculationsAndCharts!$A415+$A$11,0,1,1)","v":0},{"$f":"OFFSET(InputPriceData!E$10,CalculationsAndCharts!$A415+$A$11,0,1,1)","v":0},{"$f":"OFFSET(InputPriceData!F$10,CalculationsAndCharts!$A415+$A$11,0,1,1)","v":0},{"$f":"IF(AND(A415<=$B$20,$S$14),$T$14,0)","v":0},{"$f":"IF(AND(A415<=$B$20,$S$15),$T$15,0)","v":0},{"$f":"IF(AND(A415<=$B$20,$S$16),$T$16,0)","v":0},{"$f":"IF(AND(A415<=$B$20,$S$17),$T$17,0)","v":0},{"$f":"IF(AND(A415<=$B$20,$S$18),$T$18,0)","v":0},0,0,0,0,0,0,0,0,0,0,0,0,0]
[385,{"$f":"OFFSET(InputPriceData!B$10,CalculationsAndCharts!$A416+$A$11,0,1,1)","v":"00:00:00"},{"$f":"OFFSET(InputPriceData!G$10,CalculationsAndCharts!$A416+$A$11,0,1,1)","v":0},{"$f":"OFFSET(InputPriceData!C$10,CalculationsAndCharts!$A416+$A$11,0,1,1)","v":0},{"$f":"OFFSET(InputPriceData!D$10,CalculationsAndCharts!$A416+$A$11,0,1,1)","v":0},{"$f":"OFFSET(InputPriceData!E$10,CalculationsAndCharts!$A416+$A$11,0,1,1)","v":0},{"$f":"OFFSET(InputPriceData!F$10,CalculationsAndCharts!$A416+$A$11,0,1,1)","v":0},{"$f":"IF(AND(A416<=$B$20,$S$14),$T$14,0)","v":0},{"$f":"IF(AND(A416<=$B$20,$S$15),$T$15,0)","v":0},{"$f":"IF(AND(A416<=$B$20,$S$16),$T$16,0)","v":0},{"$f":"IF(AND(A416<=$B$20,$S$17),$T$17,0)","v":0},{"$f":"IF(AND(A416<=$B$20,$S$18),$T$18,0)","v":0},0,0,0,0,0,0,{"$f":"IF($A416=$B$28,S$31,0)","v":0},0,0,0,0,0,0]
[386,{"$f":"OFFSET(InputPriceData!B$10,CalculationsAndCharts!$A417+$A$11,0,1,1)","v":"00:00:00"},{"$f":"OFFSET(InputPriceData!G$10,CalculationsAndCharts!$A417+$A$11,0,1,1)","v":0},{"$f":"OFFSET(InputPriceData!C$10,CalculationsAndCharts!$A417+$A$11,0,1,1)","v":0},{"$f":"OFFSET(InputPriceData!D$10,CalculationsAndCharts!$A417+$A$11,0,1,1)","v":0},{"$f":"OFFSET(InputPriceData!E$10,CalculationsAndCharts!$A417+$A$11,0,1,1)","v":0},{"$f":"OFFSET(InputPriceData!F$10,CalculationsAndCharts!$A417+$A$11,0,1,1)","v":0},{"$f":"IF(AND(A417<=$B$20,$S$14),$T$14,0)","v":0},{"$f":"IF(AND(A417<=$B$20,$S$15),$T$15,0)","v":0},{"$f":"IF(AND(A417<=$B$20,$S$16),$T$16,0)","v":0},{"$f":"IF(AND(A417<=$B$20,$S$17),$T$17,0)","v":0},{"$f":"IF(AND(A417<=$B$20,$S$18),$T$18,0)","v":0},{"$f":"IF(AND(A417<=$B$20,$S$8),$T$8,0)","v":0},{"$f":"IF(AND(A417<=$B$20,$S$7),$T$7,0)","v":0},{"$f":"IF(AND(A417<=$B$20,$S$6),$T$6,0)","v":0},{"$f":"IF(AND(A417<=$B$20,$S$5),$T$5,0)","v":0},{"$f":"IF(AND(A417<=$B$20,$S$4),$T$4,0)","v":0},{"$f":"IF(AND(A417>$B$20,A417<=($B$20+$C$18)),$T$10-Y417,0)","v":0},0,{"$f":"IF($A417=$B$27,S$31,0)","v":0},{"$f":"IF(AND(A417<=$B$20,A417>($B$20-$C$18)),$F$11,0)","v":0},{"$f":"IF(AND($S$10,A417>$B$20,A417<=($B$20+$C$18)),$T$10,0)","v":0},{"$f":"IF(AND($S$11,A417>$B$20,A417<=($B$20+$C$18)),$T$11,0)","v":0},{"$f":"IF(AND($S$12,A417>$B$20,A417<=($B$20+$C$18)),$T$12,0)","v":0},{"$f":"IF(AND(A417>$B$20,A417<=($B$20+$C$18)),$T$12,0)","v":0}]
[387,{"$f":"OFFSET(InputPriceData!B$10,CalculationsAndCharts!$A418+$A$11,0,1,1)","v":"00:00:00"},{"$f":"OFFSET(InputPriceData!G$10,CalculationsAndCharts!$A418+$A$11,0,1,1)","v":0},{"$f":"OFFSET(InputPriceData!C$10,CalculationsAndCharts!$A418+$A$11,0,1,1)","v":0},{"$f":"OFFSET(InputPriceData!D$10,CalculationsAndCharts!$A418+$A$11,0,1,1)","v":0},{"$f":"OFFSET(InputPriceData!E$10,CalculationsAndCharts!$A418+$A$11,0,1,1)","v":0},{"$f":"OFFSET(InputPriceData!F$10,CalculationsAndCharts!$A418+$A$11,0,1,1)","v":0},{"$f":"IF(AND(A418<=$B$20,$S$14),$T$14,0)","v":0},{"$f":"IF(AND(A418<=$B$20,$S$15),$T$15,0)","v":0},{"$f":"IF(AND(A418<=$B$20,$S$16),$T$16,0)","v":0},{"$f":"IF(AND(A418<=$B$20,$S$17),$T$17,0)","v":0},{"$f":"IF(AND(A418<=$B$20,$S$18),$T$18,0)","v":0},0,0,0,0,0,0,0,0,0,0,0,0,0]
[388,{"$f":"OFFSET(InputPriceData!B$10,CalculationsAndCharts!$A419+$A$11,0,1,1)","v":"00:00:00"},{"$f":"OFFSET(InputPriceData!G$10,CalculationsAndCharts!$A419+$A$11,0,1,1)","v":0},{"$f":"OFFSET(InputPriceData!C$10,CalculationsAndCharts!$A419+$A$11,0,1,1)","v":0},{"$f":"OFFSET(InputPriceData!D$10,CalculationsAndCharts!$A419+$A$11,0,1,1)","v":0},{"$f":"OFFSET(InputPriceData!E$10,CalculationsAndCharts!$A419+$A$11,0,1,1)","v":0},{"$f":"OFFSET(InputPriceData!F$10,CalculationsAndCharts!$A419+$A$11,0,1,1)","v":0},{"$f":"IF(AND(A419<=$B$20,$S$14),$T$14,0)","v":0},{"$f":"IF(AND(A419<=$B$20,$S$15),$T$15,0)","v":0},{"$f":"IF(AND(A419<=$B$20,$S$16),$T$16,0)","v":0},{"$f":"IF(AND(A419<=$B$20,$S$17),$T$17,0)","v":0},{"$f":"IF(AND(A419<=$B$20,$S$18),$T$18,0)","v":0},0,0,0,0,0,0,0,0,0,0,0,0,0]
[389,{"$f":"OFFSET(InputPriceData!B$10,CalculationsAndCharts!$A420+$A$11,0,1,1)","v":"00:00:00"},{"$f":"OFFSET(InputPriceData!G$10,CalculationsAndCharts!$A420+$A$11,0,1,1)","v":0},{"$f":"OFFSET(InputPriceData!C$10,CalculationsAndCharts!$A420+$A$11,0,1,1)","v":0},{"$f":"OFFSET(InputPriceData!D$10,CalculationsAndCharts!$A420+$A$11,0,1,1)","v":0},{"$f":"OFFSET(InputPriceData!E$10,CalculationsAndCharts!$A420+$A$11,0,1,1)","v":0},{"$f":"OFFSET(InputPriceData!F$10,CalculationsAndCharts!$A420+$A$11,0,1,1)","v":0},{"$f":"IF(AND(A420<=$B$20,$S$14),$T$14,0)","v":0},{"$f":"IF(AND(A420<=$B$20,$S$15),$T$15,0)","v":0},{"$f":"IF(AND(A420<=$B$20,$S$16),$T$16,0)","v":0},{"$f":"IF(AND(A420<=$B$20,$S$17),$T$17,0)","v":0},{"$f":"IF(AND(A420<=$B$20,$S$18),$T$18,0)","v":0},0,0,0,0,0,0,0,0,0,0,0,0,0]
[390,{"$f":"OFFSET(InputPriceData!B$10,CalculationsAndCharts!$A421+$A$11,0,1,1)","v":"00:00:00"},{"$f":"OFFSET(InputPriceData!G$10,CalculationsAndCharts!$A421+$A$11,0,1,1)","v":0},{"$f":"OFFSET(InputPriceData!C$10,CalculationsAndCharts!$A421+$A$11,0,1,1)","v":0},{"$f":"OFFSET(InputPriceData!D$10,CalculationsAndCharts!$A421+$A$11,0,1,1)","v":0},{"$f":"OFFSET(InputPriceData!E$10,CalculationsAndCharts!$A421+$A$11,0,1,1)","v":0},{"$f":"OFFSET(InputPriceData!F$10,CalculationsAndCharts!$A421+$A$11,0,1,1)","v":0},{"$f":"IF(AND(A421<=$B$20,$S$14),$T$14,0)","v":0},{"$f":"IF(AND(A421<=$B$20,$S$15),$T$15,0)","v":0},{"$f":"IF(AND(A421<=$B$20,$S$16),$T$16,0)","v":0},{"$f":"IF(AND(A421<=$B$20,$S$17),$T$17,0)","v":0},{"$f":"IF(AND(A421<=$B$20,$S$18),$T$18,0)","v":0},0,0,0,0,0,0,0,0,0,0,0,0,0]
[391,{"$f":"OFFSET(InputPriceData!B$10,CalculationsAndCharts!$A422+$A$11,0,1,1)","v":"00:00:00"},{"$f":"OFFSET(InputPriceData!G$10,CalculationsAndCharts!$A422+$A$11,0,1,1)","v":0},{"$f":"OFFSET(InputPriceData!C$10,CalculationsAndCharts!$A422+$A$11,0,1,1)","v":0},{"$f":"OFFSET(InputPriceData!D$10,CalculationsAndCharts!$A422+$A$11,0,1,1)","v":0},{"$f":"OFFSET(InputPriceData!E$10,CalculationsAndCharts!$A422+$A$11,0,1,1)","v":0},{"$f":"OFFSET(InputPriceData!F$10,CalculationsAndCharts!$A422+$A$11,0,1,1)","v":0},{"$f":"IF(AND(A422<=$B$20,$S$14),$T$14,0)","v":0},{"$f":"IF(AND(A422<=$B$20,$S$15),$T$15,0)","v":0},{"$f":"IF(AND(A422<=$B$20,$S$16),$T$16,0)","v":0},{"$f":"IF(AND(A422<=$B$20,$S$17),$T$17,0)","v":0},{"$f":"IF(AND(A422<=$B$20,$S$18),$T$18,0)","v":0},0,0,0,0,0,0,0,0,0,0,0,0,0]
[392,{"$f":"OFFSET(InputPriceData!B$10,CalculationsAndCharts!$A423+$A$11,0,1,1)","v":"00:00:00"},{"$f":"OFFSET(InputPriceData!G$10,CalculationsAndCharts!$A423+$A$11,0,1,1)","v":0},{"$f":"OFFSET(InputPriceData!C$10,CalculationsAndCharts!$A423+$A$11,0,1,1)","v":0},{"$f":"OFFSET(InputPriceData!D$10,CalculationsAndCharts!$A423+$A$11,0,1,1)","v":0},{"$f":"OFFSET(InputPriceData!E$10,CalculationsAndCharts!$A423+$A$11,0,1,1)","v":0},{"$f":"OFFSET(InputPriceData!F$10,CalculationsAndCharts!$A423+$A$11,0,1,1)","v":0},{"$f":"IF(AND(A423<=$B$20,$S$14),$T$14,0)","v":0},{"$f":"IF(AND(A423<=$B$20,$S$15),$T$15,0)","v":0},{"$f":"IF(AND(A423<=$B$20,$S$16),$T$16,0)","v":0},{"$f":"IF(AND(A423<=$B$20,$S$17),$T$17,0)","v":0},{"$f":"IF(AND(A423<=$B$20,$S$18),$T$18,0)","v":0},0,0,0,0,0,0,0,0,0,0,0,0,0]
[393,{"$f":"OFFSET(InputPriceData!B$10,CalculationsAndCharts!$A424+$A$11,0,1,1)","v":"00:00:00"},{"$f":"OFFSET(InputPriceData!G$10,CalculationsAndCharts!$A424+$A$11,0,1,1)","v":0},{"$f":"OFFSET(InputPriceData!C$10,CalculationsAndCharts!$A424+$A$11,0,1,1)","v":0},{"$f":"OFFSET(InputPriceData!D$10,CalculationsAndCharts!$A424+$A$11,0,1,1)","v":0},{"$f":"OFFSET(InputPriceData!E$10,CalculationsAndCharts!$A424+$A$11,0,1,1)","v":0},{"$f":"OFFSET(InputPriceData!F$10,CalculationsAndCharts!$A424+$A$11,0,1,1)","v":0},{"$f":"IF(AND(A424<=$B$20,$S$14),$T$14,0)","v":0},{"$f":"IF(AND(A424<=$B$20,$S$15),$T$15,0)","v":0},{"$f":"IF(AND(A424<=$B$20,$S$16),$T$16,0)","v":0},{"$f":"IF(AND(A424<=$B$20,$S$17),$T$17,0)","v":0},{"$f":"IF(AND(A424<=$B$20,$S$18),$T$18,0)","v":0},0,0,0,0,0,0,0,0,0,0,0,0,0]
[394,{"$f":"OFFSET(InputPriceData!B$10,CalculationsAndCharts!$A425+$A$11,0,1,1)","v":"00:00:00"},{"$f":"OFFSET(InputPriceData!G$10,CalculationsAndCharts!$A425+$A$11,0,1,1)","v":0},{"$f":"OFFSET(InputPriceData!C$10,CalculationsAndCharts!$A425+$A$11,0,1,1)","v":0},{"$f":"OFFSET(InputPriceData!D$10,CalculationsAndCharts!$A425+$A$11,0,1,1)","v":0},{"$f":"OFFSET(InputPriceData!E$10,CalculationsAndCharts!$A425+$A$11,0,1,1)","v":0},{"$f":"OFFSET(InputPriceData!F$10,CalculationsAndCharts!$A425+$A$11,0,1,1)","v":0},{"$f":"IF(AND(A425<=$B$20,$S$14),$T$14,0)","v":0},{"$f":"IF(AND(A425<=$B$20,$S$15),$T$15,0)","v":0},{"$f":"IF(AND(A425<=$B$20,$S$16),$T$16,0)","v":0},{"$f":"IF(AND(A425<=$B$20,$S$17),$T$17,0)","v":0},{"$f":"IF(AND(A425<=$B$20,$S$18),$T$18,0)","v":0},0,0,0,0,0,0,0,0,0,0,0,0,0]
[395,{"$f":"OFFSET(InputPriceData!B$10,CalculationsAndCharts!$A426+$A$11,0,1,1)","v":"00:00:00"},{"$f":"OFFSET(InputPriceData!G$10,CalculationsAndCharts!$A426+$A$11,0,1,1)","v":0},{"$f":"OFFSET(InputPriceData!C$10,CalculationsAndCharts!$A426+$A$11,0,1,1)","v":0},{"$f":"OFFSET(InputPriceData!D$10,CalculationsAndCharts!$A426+$A$11,0,1,1)","v":0},{"$f":"OFFSET(InputPriceData!E$10,CalculationsAndCharts!$A426+$A$11,0,1,1)","v":0},{"$f":"OFFSET(InputPriceData!F$10,CalculationsAndCharts!$A426+$A$11,0,1,1)","v":0},{"$f":"IF(AND(A426<=$B$20,$S$14),$T$14,0)","v":0},{"$f":"IF(AND(A426<=$B$20,$S$15),$T$15,0)","v":0},{"$f":"IF(AND(A426<=$B$20,$S$16),$T$16,0)","v":0},{"$f":"IF(AND(A426<=$B$20,$S$17),$T$17,0)","v":0},{"$f":"IF(AND(A426<=$B$20,$S$18),$T$18,0)","v":0},0,0,0,0,0,0,0,0,0,0,0,0,0]
[396,{"$f":"OFFSET(InputPriceData!B$10,CalculationsAndCharts!$A427+$A$11,0,1,1)","v":"00:00:00"},{"$f":"OFFSET(InputPriceData!G$10,CalculationsAndCharts!$A427+$A$11,0,1,1)","v":0},{"$f":"OFFSET(InputPriceData!C$10,CalculationsAndCharts!$A427+$A$11,0,1,1)","v":0},{"$f":"OFFSET(InputPriceData!D$10,CalculationsAndCharts!$A427+$A$11,0,1,1)","v":0},{"$f":"OFFSET(InputPriceData!E$10,CalculationsAndCharts!$A427+$A$11,0,1,1)","v":0},{"$f":"OFFSET(InputPriceData!F$10,CalculationsAndCharts!$A427+$A$11,0,1,1)","v":0},{"$f":"IF(AND(A427<=$B$20,$S$14),$T$14,0)","v":0},{"$f":"IF(AND(A427<=$B$20,$S$15),$T$15,0)","v":0},{"$f":"IF(AND(A427<=$B$20,$S$16),$T$16,0)","v":0},{"$f":"IF(AND(A427<=$B$20,$S$17),$T$17,0)","v":0},{"$f":"IF(AND(A427<=$B$20,$S$18),$T$18,0)","v":0},0,0,0,0,0,0,0,0,0,0,0,0,0]
[397,{"$f":"OFFSET(InputPriceData!B$10,CalculationsAndCharts!$A428+$A$11,0,1,1)","v":"00:00:00"},{"$f":"OFFSET(InputPriceData!G$10,CalculationsAndCharts!$A428+$A$11,0,1,1)","v":0},{"$f":"OFFSET(InputPriceData!C$10,CalculationsAndCharts!$A428+$A$11,0,1,1)","v":0},{"$f":"OFFSET(InputPriceData!D$10,CalculationsAndCharts!$A428+$A$11,0,1,1)","v":0},{"$f":"OFFSET(InputPriceData!E$10,CalculationsAndCharts!$A428+$A$11,0,1,1)","v":0},{"$f":"OFFSET(InputPriceData!F$10,CalculationsAndCharts!$A428+$A$11,0,1,1)","v":0},{"$f":"IF(AND(A428<=$B$20,$S$14),$T$14,0)","v":0},{"$f":"IF(AND(A428<=$B$20,$S$15),$T$15,0)","v":0},{"$f":"IF(AND(A428<=$B$20,$S$16),$T$16,0)","v":0},{"$f":"IF(AND(A428<=$B$20,$S$17),$T$17,0)","v":0},{"$f":"IF(AND(A428<=$B$20,$S$18),$T$18,0)","v":0},0,0,0,0,0,0,0,0,0,0,0,0,0]
[398,{"$f":"OFFSET(InputPriceData!B$10,CalculationsAndCharts!$A429+$A$11,0,1,1)","v":"00:00:00"},{"$f":"OFFSET(InputPriceData!G$10,CalculationsAndCharts!$A429+$A$11,0,1,1)","v":0},{"$f":"OFFSET(InputPriceData!C$10,CalculationsAndCharts!$A429+$A$11,0,1,1)","v":0},{"$f":"OFFSET(InputPriceData!D$10,CalculationsAndCharts!$A429+$A$11,0,1,1)","v":0},{"$f":"OFFSET(InputPriceData!E$10,CalculationsAndCharts!$A429+$A$11,0,1,1)","v":0},{"$f":"OFFSET(InputPriceData!F$10,CalculationsAndCharts!$A429+$A$11,0,1,1)","v":0},{"$f":"IF(AND(A429<=$B$20,$S$14),$T$14,0)","v":0},{"$f":"IF(AND(A429<=$B$20,$S$15),$T$15,0)","v":0},{"$f":"IF(AND(A429<=$B$20,$S$16),$T$16,0)","v":0},{"$f":"IF(AND(A429<=$B$20,$S$17),$T$17,0)","v":0},{"$f":"IF(AND(A429<=$B$20,$S$18),$T$18,0)","v":0},0,0,0,0,0,0,0,0,0,0,0,0,0]
[399,{"$f":"OFFSET(InputPriceData!B$10,CalculationsAndCharts!$A430+$A$11,0,1,1)","v":"00:00:00"},{"$f":"OFFSET(InputPriceData!G$10,CalculationsAndCharts!$A430+$A$11,0,1,1)","v":0},{"$f":"OFFSET(InputPriceData!C$10,CalculationsAndCharts!$A430+$A$11,0,1,1)","v":0},{"$f":"OFFSET(InputPriceData!D$10,CalculationsAndCharts!$A430+$A$11,0,1,1)","v":0},{"$f":"OFFSET(InputPriceData!E$10,CalculationsAndCharts!$A430+$A$11,0,1,1)","v":0},{"$f":"OFFSET(InputPriceData!F$10,CalculationsAndCharts!$A430+$A$11,0,1,1)","v":0},{"$f":"IF(AND(A430<=$B$20,$S$14),$T$14,0)","v":0},{"$f":"IF(AND(A430<=$B$20,$S$15),$T$15,0)","v":0},{"$f":"IF(AND(A430<=$B$20,$S$16),$T$16,0)","v":0},{"$f":"IF(AND(A430<=$B$20,$S$17),$T$17,0)","v":0},{"$f":"IF(AND(A430<=$B$20,$S$18),$T$18,0)","v":0},0,0,0,0,0,0,0,0,0,0,0,0,0]
[400,{"$f":"OFFSET(InputPriceData!B$10,CalculationsAndCharts!$A431+$A$11,0,1,1)","v":"00:00:00"},{"$f":"OFFSET(InputPriceData!G$10,CalculationsAndCharts!$A431+$A$11,0,1,1)","v":0},{"$f":"OFFSET(InputPriceData!C$10,CalculationsAndCharts!$A431+$A$11,0,1,1)","v":0},{"$f":"OFFSET(InputPriceData!D$10,CalculationsAndCharts!$A431+$A$11,0,1,1)","v":0},{"$f":"OFFSET(InputPriceData!E$10,CalculationsAndCharts!$A431+$A$11,0,1,1)","v":0},{"$f":"OFFSET(InputPriceData!F$10,CalculationsAndCharts!$A431+$A$11,0,1,1)","v":0},{"$f":"IF(AND(A431<=$B$20,$S$14),$T$14,0)","v":0},{"$f":"IF(AND(A431<=$B$20,$S$15),$T$15,0)","v":0},{"$f":"IF(AND(A431<=$B$20,$S$16),$T$16,0)","v":0},{"$f":"IF(AND(A431<=$B$20,$S$17),$T$17,0)","v":0},{"$f":"IF(AND(A431<=$B$20,$S$18),$T$18,0)","v":0},0,0,0,0,0,0,0,0,0,0,0,0,0]
[401,{"$f":"OFFSET(InputPriceData!B$10,CalculationsAndCharts!$A432+$A$11,0,1,1)","v":"00:00:00"},{"$f":"OFFSET(InputPriceData!G$10,CalculationsAndCharts!$A432+$A$11,0,1,1)","v":0},{"$f":"OFFSET(InputPriceData!C$10,CalculationsAndCharts!$A432+$A$11,0,1,1)","v":0},{"$f":"OFFSET(InputPriceData!D$10,CalculationsAndCharts!$A432+$A$11,0,1,1)","v":0},{"$f":"OFFSET(InputPriceData!E$10,CalculationsAndCharts!$A432+$A$11,0,1,1)","v":0},{"$f":"OFFSET(InputPriceData!F$10,CalculationsAndCharts!$A432+$A$11,0,1,1)","v":0},{"$f":"IF(AND(A432<=$B$20,$S$14),$T$14,0)","v":0},{"$f":"IF(AND(A432<=$B$20,$S$15),$T$15,0)","v":0},{"$f":"IF(AND(A432<=$B$20,$S$16),$T$16,0)","v":0},{"$f":"IF(AND(A432<=$B$20,$S$17),$T$17,0)","v":0},{"$f":"IF(AND(A432<=$B$20,$S$18),$T$18,0)","v":0},0,0,0,0,0,0,0,0,0,0,0,0,0]
[402,{"$f":"OFFSET(InputPriceData!B$10,CalculationsAndCharts!$A433+$A$11,0,1,1)","v":"00:00:00"},{"$f":"OFFSET(InputPriceData!G$10,CalculationsAndCharts!$A433+$A$11,0,1,1)","v":0},{"$f":"OFFSET(InputPriceData!C$10,CalculationsAndCharts!$A433+$A$11,0,1,1)","v":0},{"$f":"OFFSET(InputPriceData!D$10,CalculationsAndCharts!$A433+$A$11,0,1,1)","v":0},{"$f":"OFFSET(InputPriceData!E$10,CalculationsAndCharts!$A433+$A$11,0,1,1)","v":0},{"$f":"OFFSET(InputPriceData!F$10,CalculationsAndCharts!$A433+$A$11,0,1,1)","v":0},{"$f":"IF(AND(A433<=$B$20,$S$14),$T$14,0)","v":0},{"$f":"IF(AND(A433<=$B$20,$S$15),$T$15,0)","v":0},{"$f":"IF(AND(A433<=$B$20,$S$16),$T$16,0)","v":0},{"$f":"IF(AND(A433<=$B$20,$S$17),$T$17,0)","v":0},{"$f":"IF(AND(A433<=$B$20,$S$18),$T$18,0)","v":0},0,0,0,0,0,0,0,0,0,0,0,0,0]
[403,{"$f":"OFFSET(InputPriceData!B$10,CalculationsAndCharts!$A434+$A$11,0,1,1)","v":"00:00:00"},{"$f":"OFFSET(InputPriceData!G$10,CalculationsAndCharts!$A434+$A$11,0,1,1)","v":0},{"$f":"OFFSET(InputPriceData!C$10,CalculationsAndCharts!$A434+$A$11,0,1,1)","v":0},{"$f":"OFFSET(InputPriceData!D$10,CalculationsAndCharts!$A434+$A$11,0,1,1)","v":0},{"$f":"OFFSET(InputPriceData!E$10,CalculationsAndCharts!$A434+$A$11,0,1,1)","v":0},{"$f":"OFFSET(InputPriceData!F$10,CalculationsAndCharts!$A434+$A$11,0,1,1)","v":0},{"$f":"IF(AND(A434<=$B$20,$S$14),$T$14,0)","v":0},{"$f":"IF(AND(A434<=$B$20,$S$15),$T$15,0)","v":0},{"$f":"IF(AND(A434<=$B$20,$S$16),$T$16,0)","v":0},{"$f":"IF(AND(A434<=$B$20,$S$17),$T$17,0)","v":0},{"$f":"IF(AND(A434<=$B$20,$S$18),$T$18,0)","v":0},0,0,0,0,0,0,0,0,0,0,0,0,0]
[404,{"$f":"OFFSET(InputPriceData!B$10,CalculationsAndCharts!$A435+$A$11,0,1,1)","v":"00:00:00"},{"$f":"OFFSET(InputPriceData!G$10,CalculationsAndCharts!$A435+$A$11,0,1,1)","v":0},{"$f":"OFFSET(InputPriceData!C$10,CalculationsAndCharts!$A435+$A$11,0,1,1)","v":0},{"$f":"OFFSET(InputPriceData!D$10,CalculationsAndCharts!$A435+$A$11,0,1,1)","v":0},{"$f":"OFFSET(InputPriceData!E$10,CalculationsAndCharts!$A435+$A$11,0,1,1)","v":0},{"$f":"OFFSET(InputPriceData!F$10,CalculationsAndCharts!$A435+$A$11,0,1,1)","v":0},{"$f":"IF(AND(A435<=$B$20,$S$14),$T$14,0)","v":0},{"$f":"IF(AND(A435<=$B$20,$S$15),$T$15,0)","v":0},{"$f":"IF(AND(A435<=$B$20,$S$16),$T$16,0)","v":0},{"$f":"IF(AND(A435<=$B$20,$S$17),$T$17,0)","v":0},{"$f":"IF(AND(A435<=$B$20,$S$18),$T$18,0)","v":0},0,0,0,0,0,0,0,0,0,0,0,0,0]
[405,{"$f":"OFFSET(InputPriceData!B$10,CalculationsAndCharts!$A436+$A$11,0,1,1)","v":"00:00:00"},{"$f":"OFFSET(InputPriceData!G$10,CalculationsAndCharts!$A436+$A$11,0,1,1)","v":0},{"$f":"OFFSET(InputPriceData!C$10,CalculationsAndCharts!$A436+$A$11,0,1,1)","v":0},{"$f":"OFFSET(InputPriceData!D$10,CalculationsAndCharts!$A436+$A$11,0,1,1)","v":0},{"$f":"OFFSET(InputPriceData!E$10,CalculationsAndCharts!$A436+$A$11,0,1,1)","v":0},{"$f":"OFFSET(InputPriceData!F$10,CalculationsAndCharts!$A436+$A$11,0,1,1)","v":0},{"$f":"IF(AND(A436<=$B$20,$S$14),$T$14,0)","v":0},{"$f":"IF(AND(A436<=$B$20,$S$15),$T$15,0)","v":0},{"$f":"IF(AND(A436<=$B$20,$S$16),$T$16,0)","v":0},{"$f":"IF(AND(A436<=$B$20,$S$17),$T$17,0)","v":0},{"$f":"IF(AND(A436<=$B$20,$S$18),$T$18,0)","v":0},0,0,0,0,0,0,0,0,0,0,0,0,0]
[406,{"$f":"OFFSET(InputPriceData!B$10,CalculationsAndCharts!$A437+$A$11,0,1,1)","v":"00:00:00"},{"$f":"OFFSET(InputPriceData!G$10,CalculationsAndCharts!$A437+$A$11,0,1,1)","v":0},{"$f":"OFFSET(InputPriceData!C$10,CalculationsAndCharts!$A437+$A$11,0,1,1)","v":0},{"$f":"OFFSET(InputPriceData!D$10,CalculationsAndCharts!$A437+$A$11,0,1,1)","v":0},{"$f":"OFFSET(InputPriceData!E$10,CalculationsAndCharts!$A437+$A$11,0,1,1)","v":0},{"$f":"OFFSET(InputPriceData!F$10,CalculationsAndCharts!$A437+$A$11,0,1,1)","v":0},{"$f":"IF(AND(A437<=$B$20,$S$14),$T$14,0)","v":0},{"$f":"IF(AND(A437<=$B$20,$S$15),$T$15,0)","v":0},{"$f":"IF(AND(A437<=$B$20,$S$16),$T$16,0)","v":0},{"$f":"IF(AND(A437<=$B$20,$S$17),$T$17,0)","v":0},{"$f":"IF(AND(A437<=$B$20,$S$18),$T$18,0)","v":0},0,0,0,0,0,0,0,0,0,0,0,0,0]
[407,{"$f":"OFFSET(InputPriceData!B$10,CalculationsAndCharts!$A438+$A$11,0,1,1)","v":"00:00:00"},{"$f":"OFFSET(InputPriceData!G$10,CalculationsAndCharts!$A438+$A$11,0,1,1)","v":0},{"$f":"OFFSET(InputPriceData!C$10,CalculationsAndCharts!$A438+$A$11,0,1,1)","v":0},{"$f":"OFFSET(InputPriceData!D$10,CalculationsAndCharts!$A438+$A$11,0,1,1)","v":0},{"$f":"OFFSET(InputPriceData!E$10,CalculationsAndCharts!$A438+$A$11,0,1,1)","v":0},{"$f":"OFFSET(InputPriceData!F$10,CalculationsAndCharts!$A438+$A$11,0,1,1)","v":0},{"$f":"IF(AND(A438<=$B$20,$S$14),$T$14,0)","v":0},{"$f":"IF(AND(A438<=$B$20,$S$15),$T$15,0)","v":0},{"$f":"IF(AND(A438<=$B$20,$S$16),$T$16,0)","v":0},{"$f":"IF(AND(A438<=$B$20,$S$17),$T$17,0)","v":0},{"$f":"IF(AND(A438<=$B$20,$S$18),$T$18,0)","v":0},0,0,0,0,0,0,0,0,0,0,0,0,0]
[408,{"$f":"OFFSET(InputPriceData!B$10,CalculationsAndCharts!$A439+$A$11,0,1,1)","v":"00:00:00"},{"$f":"OFFSET(InputPriceData!G$10,CalculationsAndCharts!$A439+$A$11,0,1,1)","v":0},{"$f":"OFFSET(InputPriceData!C$10,CalculationsAndCharts!$A439+$A$11,0,1,1)","v":0},{"$f":"OFFSET(InputPriceData!D$10,CalculationsAndCharts!$A439+$A$11,0,1,1)","v":0},{"$f":"OFFSET(InputPriceData!E$10,CalculationsAndCharts!$A439+$A$11,0,1,1)","v":0},{"$f":"OFFSET(InputPriceData!F$10,CalculationsAndCharts!$A439+$A$11,0,1,1)","v":0},{"$f":"IF(AND(A439<=$B$20,$S$14),$T$14,0)","v":0},{"$f":"IF(AND(A439<=$B$20,$S$15),$T$15,0)","v":0},{"$f":"IF(AND(A439<=$B$20,$S$16),$T$16,0)","v":0},{"$f":"IF(AND(A439<=$B$20,$S$17),$T$17,0)","v":0},{"$f":"IF(AND(A439<=$B$20,$S$18),$T$18,0)","v":0},0,0,0,0,0,0,0,0,0,0,0,0,0]
[409,{"$f":"OFFSET(InputPriceData!B$10,CalculationsAndCharts!$A440+$A$11,0,1,1)","v":"00:00:00"},{"$f":"OFFSET(InputPriceData!G$10,CalculationsAndCharts!$A440+$A$11,0,1,1)","v":0},{"$f":"OFFSET(InputPriceData!C$10,CalculationsAndCharts!$A440+$A$11,0,1,1)","v":0},{"$f":"OFFSET(InputPriceData!D$10,CalculationsAndCharts!$A440+$A$11,0,1,1)","v":0},{"$f":"OFFSET(InputPriceData!E$10,CalculationsAndCharts!$A440+$A$11,0,1,1)","v":0},{"$f":"OFFSET(InputPriceData!F$10,CalculationsAndCharts!$A440+$A$11,0,1,1)","v":0},{"$f":"IF(AND(A440<=$B$20,$S$14),$T$14,0)","v":0},{"$f":"IF(AND(A440<=$B$20,$S$15),$T$15,0)","v":0},{"$f":"IF(AND(A440<=$B$20,$S$16),$T$16,0)","v":0},{"$f":"IF(AND(A440<=$B$20,$S$17),$T$17,0)","v":0},{"$f":"IF(AND(A440<=$B$20,$S$18),$T$18,0)","v":0},0,0,0,0,0,0,0,0,0,0,0,0,0]
[410,{"$f":"OFFSET(InputPriceData!B$10,CalculationsAndCharts!$A441+$A$11,0,1,1)","v":"00:00:00"},{"$f":"OFFSET(InputPriceData!G$10,CalculationsAndCharts!$A441+$A$11,0,1,1)","v":0},{"$f":"OFFSET(InputPriceData!C$10,CalculationsAndCharts!$A441+$A$11,0,1,1)","v":0},{"$f":"OFFSET(InputPriceData!D$10,CalculationsAndCharts!$A441+$A$11,0,1,1)","v":0},{"$f":"OFFSET(InputPriceData!E$10,CalculationsAndCharts!$A441+$A$11,0,1,1)","v":0},{"$f":"OFFSET(InputPriceData!F$10,CalculationsAndCharts!$A441+$A$11,0,1,1)","v":0},{"$f":"IF(AND(A441<=$B$20,$S$14),$T$14,0)","v":0},{"$f":"IF(AND(A441<=$B$20,$S$15),$T$15,0)","v":0},{"$f":"IF(AND(A441<=$B$20,$S$16),$T$16,0)","v":0},{"$f":"IF(AND(A441<=$B$20,$S$17),$T$17,0)","v":0},{"$f":"IF(AND(A441<=$B$20,$S$18),$T$18,0)","v":0},0,0,0,0,0,0,0,0,0,0,0,0,0]
[411,{"$f":"OFFSET(InputPriceData!B$10,CalculationsAndCharts!$A442+$A$11,0,1,1)","v":"00:00:00"},{"$f":"OFFSET(InputPriceData!G$10,CalculationsAndCharts!$A442+$A$11,0,1,1)","v":0},{"$f":"OFFSET(InputPriceData!C$10,CalculationsAndCharts!$A442+$A$11,0,1,1)","v":0},{"$f":"OFFSET(InputPriceData!D$10,CalculationsAndCharts!$A442+$A$11,0,1,1)","v":0},{"$f":"OFFSET(InputPriceData!E$10,CalculationsAndCharts!$A442+$A$11,0,1,1)","v":0},{"$f":"OFFSET(InputPriceData!F$10,CalculationsAndCharts!$A442+$A$11,0,1,1)","v":0},{"$f":"IF(AND(A442<=$B$20,$S$14),$T$14,0)","v":0},{"$f":"IF(AND(A442<=$B$20,$S$15),$T$15,0)","v":0},{"$f":"IF(AND(A442<=$B$20,$S$16),$T$16,0)","v":0},{"$f":"IF(AND(A442<=$B$20,$S$17),$T$17,0)","v":0},{"$f":"IF(AND(A442<=$B$20,$S$18),$T$18,0)","v":0},0,0,0,0,0,0,0,0,0,0,0,0,0]
[412,{"$f":"OFFSET(InputPriceData!B$10,CalculationsAndCharts!$A443+$A$11,0,1,1)","v":"00:00:00"},{"$f":"OFFSET(InputPriceData!G$10,CalculationsAndCharts!$A443+$A$11,0,1,1)","v":0},{"$f":"OFFSET(InputPriceData!C$10,CalculationsAndCharts!$A443+$A$11,0,1,1)","v":0},{"$f":"OFFSET(InputPriceData!D$10,CalculationsAndCharts!$A443+$A$11,0,1,1)","v":0},{"$f":"OFFSET(InputPriceData!E$10,CalculationsAndCharts!$A443+$A$11,0,1,1)","v":0},{"$f":"OFFSET(InputPriceData!F$10,CalculationsAndCharts!$A443+$A$11,0,1,1)","v":0},{"$f":"IF(AND(A443<=$B$20,$S$14),$T$14,0)","v":0},{"$f":"IF(AND(A443<=$B$20,$S$15),$T$15,0)","v":0},{"$f":"IF(AND(A443<=$B$20,$S$16),$T$16,0)","v":0},{"$f":"IF(AND(A443<=$B$20,$S$17),$T$17,0)","v":0},{"$f":"IF(AND(A443<=$B$20,$S$18),$T$18,0)","v":0},0,0,0,0,0,0,0,0,0,0,0,0,0]
[413,{"$f":"OFFSET(InputPriceData!B$10,CalculationsAndCharts!$A444+$A$11,0,1,1)","v":"00:00:00"},{"$f":"OFFSET(InputPriceData!G$10,CalculationsAndCharts!$A444+$A$11,0,1,1)","v":0},{"$f":"OFFSET(InputPriceData!C$10,CalculationsAndCharts!$A444+$A$11,0,1,1)","v":0},{"$f":"OFFSET(InputPriceData!D$10,CalculationsAndCharts!$A444+$A$11,0,1,1)","v":0},{"$f":"OFFSET(InputPriceData!E$10,CalculationsAndCharts!$A444+$A$11,0,1,1)","v":0},{"$f":"OFFSET(InputPriceData!F$10,CalculationsAndCharts!$A444+$A$11,0,1,1)","v":0},{"$f":"IF(AND(A444<=$B$20,$S$14),$T$14,0)","v":0},{"$f":"IF(AND(A444<=$B$20,$S$15),$T$15,0)","v":0},{"$f":"IF(AND(A444<=$B$20,$S$16),$T$16,0)","v":0},{"$f":"IF(AND(A444<=$B$20,$S$17),$T$17,0)","v":0},{"$f":"IF(AND(A444<=$B$20,$S$18),$T$18,0)","v":0},0,0,0,0,0,0,0,0,0,0,0,0,0]
[414,{"$f":"OFFSET(InputPriceData!B$10,CalculationsAndCharts!$A445+$A$11,0,1,1)","v":"00:00:00"},{"$f":"OFFSET(InputPriceData!G$10,CalculationsAndCharts!$A445+$A$11,0,1,1)","v":0},{"$f":"OFFSET(InputPriceData!C$10,CalculationsAndCharts!$A445+$A$11,0,1,1)","v":0},{"$f":"OFFSET(InputPriceData!D$10,CalculationsAndCharts!$A445+$A$11,0,1,1)","v":0},{"$f":"OFFSET(InputPriceData!E$10,CalculationsAndCharts!$A445+$A$11,0,1,1)","v":0},{"$f":"OFFSET(InputPriceData!F$10,CalculationsAndCharts!$A445+$A$11,0,1,1)","v":0},{"$f":"IF(AND(A445<=$B$20,$S$14),$T$14,0)","v":0},{"$f":"IF(AND(A445<=$B$20,$S$15),$T$15,0)","v":0},{"$f":"IF(AND(A445<=$B$20,$S$16),$T$16,0)","v":0},{"$f":"IF(AND(A445<=$B$20,$S$17),$T$17,0)","v":0},{"$f":"IF(AND(A445<=$B$20,$S$18),$T$18,0)","v":0},0,0,0,0,0,0,0,0,0,0,0,0,0]
[415,{"$f":"OFFSET(InputPriceData!B$10,CalculationsAndCharts!$A446+$A$11,0,1,1)","v":"00:00:00"},{"$f":"OFFSET(InputPriceData!G$10,CalculationsAndCharts!$A446+$A$11,0,1,1)","v":0},{"$f":"OFFSET(InputPriceData!C$10,CalculationsAndCharts!$A446+$A$11,0,1,1)","v":0},{"$f":"OFFSET(InputPriceData!D$10,CalculationsAndCharts!$A446+$A$11,0,1,1)","v":0},{"$f":"OFFSET(InputPriceData!E$10,CalculationsAndCharts!$A446+$A$11,0,1,1)","v":0},{"$f":"OFFSET(InputPriceData!F$10,CalculationsAndCharts!$A446+$A$11,0,1,1)","v":0},{"$f":"IF(AND(A446<=$B$20,$S$14),$T$14,0)","v":0},{"$f":"IF(AND(A446<=$B$20,$S$15),$T$15,0)","v":0},{"$f":"IF(AND(A446<=$B$20,$S$16),$T$16,0)","v":0},{"$f":"IF(AND(A446<=$B$20,$S$17),$T$17,0)","v":0},{"$f":"IF(AND(A446<=$B$20,$S$18),$T$18,0)","v":0},0,0,0,0,0,0,0,0,0,0,0,0,0]
[416,{"$f":"OFFSET(InputPriceData!B$10,CalculationsAndCharts!$A447+$A$11,0,1,1)","v":"00:00:00"},{"$f":"OFFSET(InputPriceData!G$10,CalculationsAndCharts!$A447+$A$11,0,1,1)","v":0},{"$f":"OFFSET(InputPriceData!C$10,CalculationsAndCharts!$A447+$A$11,0,1,1)","v":0},{"$f":"OFFSET(InputPriceData!D$10,CalculationsAndCharts!$A447+$A$11,0,1,1)","v":0},{"$f":"OFFSET(InputPriceData!E$10,CalculationsAndCharts!$A447+$A$11,0,1,1)","v":0},{"$f":"OFFSET(InputPriceData!F$10,CalculationsAndCharts!$A447+$A$11,0,1,1)","v":0},{"$f":"IF(AND(A447<=$B$20,$S$14),$T$14,0)","v":0},{"$f":"IF(AND(A447<=$B$20,$S$15),$T$15,0)","v":0},{"$f":"IF(AND(A447<=$B$20,$S$16),$T$16,0)","v":0},{"$f":"IF(AND(A447<=$B$20,$S$17),$T$17,0)","v":0},{"$f":"IF(AND(A447<=$B$20,$S$18),$T$18,0)","v":0},0,0,0,0,0,0,0,0,0,0,0,0,0]
[417,{"$f":"OFFSET(InputPriceData!B$10,CalculationsAndCharts!$A448+$A$11,0,1,1)","v":"00:00:00"},{"$f":"OFFSET(InputPriceData!G$10,CalculationsAndCharts!$A448+$A$11,0,1,1)","v":0},{"$f":"OFFSET(InputPriceData!C$10,CalculationsAndCharts!$A448+$A$11,0,1,1)","v":0},{"$f":"OFFSET(InputPriceData!D$10,CalculationsAndCharts!$A448+$A$11,0,1,1)","v":0},{"$f":"OFFSET(InputPriceData!E$10,CalculationsAndCharts!$A448+$A$11,0,1,1)","v":0},{"$f":"OFFSET(InputPriceData!F$10,CalculationsAndCharts!$A448+$A$11,0,1,1)","v":0},{"$f":"IF(AND(A448<=$B$20,$S$14),$T$14,0)","v":0},{"$f":"IF(AND(A448<=$B$20,$S$15),$T$15,0)","v":0},{"$f":"IF(AND(A448<=$B$20,$S$16),$T$16,0)","v":0},{"$f":"IF(AND(A448<=$B$20,$S$17),$T$17,0)","v":0},{"$f":"IF(AND(A448<=$B$20,$S$18),$T$18,0)","v":0},0,0,0,0,0,0,0,0,0,0,0,0,0]
[418,{"$f":"OFFSET(InputPriceData!B$10,CalculationsAndCharts!$A449+$A$11,0,1,1)","v":"00:00:00"},{"$f":"OFFSET(InputPriceData!G$10,CalculationsAndCharts!$A449+$A$11,0,1,1)","v":0},{"$f":"OFFSET(InputPriceData!C$10,CalculationsAndCharts!$A449+$A$11,0,1,1)","v":0},{"$f":"OFFSET(InputPriceData!D$10,CalculationsAndCharts!$A449+$A$11,0,1,1)","v":0},{"$f":"OFFSET(InputPriceData!E$10,CalculationsAndCharts!$A449+$A$11,0,1,1)","v":0},{"$f":"OFFSET(InputPriceData!F$10,CalculationsAndCharts!$A449+$A$11,0,1,1)","v":0},{"$f":"IF(AND(A449<=$B$20,$S$14),$T$14,0)","v":0},{"$f":"IF(AND(A449<=$B$20,$S$15),$T$15,0)","v":0},{"$f":"IF(AND(A449<=$B$20,$S$16),$T$16,0)","v":0},{"$f":"IF(AND(A449<=$B$20,$S$17),$T$17,0)","v":0},{"$f":"IF(AND(A449<=$B$20,$S$18),$T$18,0)","v":0},0,0,0,0,0,0,0,0,0,0,0,0,0]
[419,{"$f":"OFFSET(InputPriceData!B$10,CalculationsAndCharts!$A450+$A$11,0,1,1)","v":"00:00:00"},{"$f":"OFFSET(InputPriceData!G$10,CalculationsAndCharts!$A450+$A$11,0,1,1)","v":0},{"$f":"OFFSET(InputPriceData!C$10,CalculationsAndCharts!$A450+$A$11,0,1,1)","v":0},{"$f":"OFFSET(InputPriceData!D$10,CalculationsAndCharts!$A450+$A$11,0,1,1)","v":0},{"$f":"OFFSET(InputPriceData!E$10,CalculationsAndCharts!$A450+$A$11,0,1,1)","v":0},{"$f":"OFFSET(InputPriceData!F$10,CalculationsAndCharts!$A450+$A$11,0,1,1)","v":0},{"$f":"IF(AND(A450<=$B$20,$S$14),$T$14,0)","v":0},{"$f":"IF(AND(A450<=$B$20,$S$15),$T$15,0)","v":0},{"$f":"IF(AND(A450<=$B$20,$S$16),$T$16,0)","v":0},{"$f":"IF(AND(A450<=$B$20,$S$17),$T$17,0)","v":0},{"$f":"IF(AND(A450<=$B$20,$S$18),$T$18,0)","v":0},0,0,0,0,0,0,0,0,0,0,0,0,0]
[420,{"$f":"OFFSET(InputPriceData!B$10,CalculationsAndCharts!$A451+$A$11,0,1,1)","v":"00:00:00"},{"$f":"OFFSET(InputPriceData!G$10,CalculationsAndCharts!$A451+$A$11,0,1,1)","v":0},{"$f":"OFFSET(InputPriceData!C$10,CalculationsAndCharts!$A451+$A$11,0,1,1)","v":0},{"$f":"OFFSET(InputPriceData!D$10,CalculationsAndCharts!$A451+$A$11,0,1,1)","v":0},{"$f":"OFFSET(InputPriceData!E$10,CalculationsAndCharts!$A451+$A$11,0,1,1)","v":0},{"$f":"OFFSET(InputPriceData!F$10,CalculationsAndCharts!$A451+$A$11,0,1,1)","v":0},{"$f":"IF(AND(A451<=$B$20,$S$14),$T$14,0)","v":0},{"$f":"IF(AND(A451<=$B$20,$S$15),$T$15,0)","v":0},{"$f":"IF(AND(A451<=$B$20,$S$16),$T$16,0)","v":0},{"$f":"IF(AND(A451<=$B$20,$S$17),$T$17,0)","v":0},{"$f":"IF(AND(A451<=$B$20,$S$18),$T$18,0)","v":0},0,0,0,0,0,0,0,0,0,0,0,0,0]
[421,{"$f":"OFFSET(InputPriceData!B$10,CalculationsAndCharts!$A452+$A$11,0,1,1)","v":"00:00:00"},{"$f":"OFFSET(InputPriceData!G$10,CalculationsAndCharts!$A452+$A$11,0,1,1)","v":0},{"$f":"OFFSET(InputPriceData!C$10,CalculationsAndCharts!$A452+$A$11,0,1,1)","v":0},{"$f":"OFFSET(InputPriceData!D$10,CalculationsAndCharts!$A452+$A$11,0,1,1)","v":0},{"$f":"OFFSET(InputPriceData!E$10,CalculationsAndCharts!$A452+$A$11,0,1,1)","v":0},{"$f":"OFFSET(InputPriceData!F$10,CalculationsAndCharts!$A452+$A$11,0,1,1)","v":0},{"$f":"IF(AND(A452<=$B$20,$S$14),$T$14,0)","v":0},{"$f":"IF(AND(A452<=$B$20,$S$15),$T$15,0)","v":0},{"$f":"IF(AND(A452<=$B$20,$S$16),$T$16,0)","v":0},{"$f":"IF(AND(A452<=$B$20,$S$17),$T$17,0)","v":0},{"$f":"IF(AND(A452<=$B$20,$S$18),$T$18,0)","v":0},0,0,0,0,0,0,0,0,0,0,0,0,0]
[422,{"$f":"OFFSET(InputPriceData!B$10,CalculationsAndCharts!$A453+$A$11,0,1,1)","v":"00:00:00"},{"$f":"OFFSET(InputPriceData!G$10,CalculationsAndCharts!$A453+$A$11,0,1,1)","v":0},{"$f":"OFFSET(InputPriceData!C$10,CalculationsAndCharts!$A453+$A$11,0,1,1)","v":0},{"$f":"OFFSET(InputPriceData!D$10,CalculationsAndCharts!$A453+$A$11,0,1,1)","v":0},{"$f":"OFFSET(InputPriceData!E$10,CalculationsAndCharts!$A453+$A$11,0,1,1)","v":0},{"$f":"OFFSET(InputPriceData!F$10,CalculationsAndCharts!$A453+$A$11,0,1,1)","v":0},{"$f":"IF(AND(A453<=$B$20,$S$14),$T$14,0)","v":0},{"$f":"IF(AND(A453<=$B$20,$S$15),$T$15,0)","v":0},{"$f":"IF(AND(A453<=$B$20,$S$16),$T$16,0)","v":0},{"$f":"IF(AND(A453<=$B$20,$S$17),$T$17,0)","v":0},{"$f":"IF(AND(A453<=$B$20,$S$18),$T$18,0)","v":0},0,0,0,0,0,0,0,0,0,0,0,0,0]
[423,{"$f":"OFFSET(InputPriceData!B$10,CalculationsAndCharts!$A454+$A$11,0,1,1)","v":"00:00:00"},{"$f":"OFFSET(InputPriceData!G$10,CalculationsAndCharts!$A454+$A$11,0,1,1)","v":0},{"$f":"OFFSET(InputPriceData!C$10,CalculationsAndCharts!$A454+$A$11,0,1,1)","v":0},{"$f":"OFFSET(InputPriceData!D$10,CalculationsAndCharts!$A454+$A$11,0,1,1)","v":0},{"$f":"OFFSET(InputPriceData!E$10,CalculationsAndCharts!$A454+$A$11,0,1,1)","v":0},{"$f":"OFFSET(InputPriceData!F$10,CalculationsAndCharts!$A454+$A$11,0,1,1)","v":0},{"$f":"IF(AND(A454<=$B$20,$S$14),$T$14,0)","v":0},{"$f":"IF(AND(A454<=$B$20,$S$15),$T$15,0)","v":0},{"$f":"IF(AND(A454<=$B$20,$S$16),$T$16,0)","v":0},{"$f":"IF(AND(A454<=$B$20,$S$17),$T$17,0)","v":0},{"$f":"IF(AND(A454<=$B$20,$S$18),$T$18,0)","v":0},0,0,0,0,0,0,0,0,0,0,0,0,0]
[424,{"$f":"OFFSET(InputPriceData!B$10,CalculationsAndCharts!$A455+$A$11,0,1,1)","v":"00:00:00"},{"$f":"OFFSET(InputPriceData!G$10,CalculationsAndCharts!$A455+$A$11,0,1,1)","v":0},{"$f":"OFFSET(InputPriceData!C$10,CalculationsAndCharts!$A455+$A$11,0,1,1)","v":0},{"$f":"OFFSET(InputPriceData!D$10,CalculationsAndCharts!$A455+$A$11,0,1,1)","v":0},{"$f":"OFFSET(InputPriceData!E$10,CalculationsAndCharts!$A455+$A$11,0,1,1)","v":0},{"$f":"OFFSET(InputPriceData!F$10,CalculationsAndCharts!$A455+$A$11,0,1,1)","v":0},{"$f":"IF(AND(A455<=$B$20,$S$14),$T$14,0)","v":0},{"$f":"IF(AND(A455<=$B$20,$S$15),$T$15,0)","v":0},{"$f":"IF(AND(A455<=$B$20,$S$16),$T$16,0)","v":0},{"$f":"IF(AND(A455<=$B$20,$S$17),$T$17,0)","v":0},{"$f":"IF(AND(A455<=$B$20,$S$18),$T$18,0)","v":0},0,0,0,0,0,0,0,0,0,0,0,0,0]
[425,{"$f":"OFFSET(InputPriceData!B$10,CalculationsAndCharts!$A456+$A$11,0,1,1)","v":"00:00:00"},{"$f":"OFFSET(InputPriceData!G$10,CalculationsAndCharts!$A456+$A$11,0,1,1)","v":0},{"$f":"OFFSET(InputPriceData!C$10,CalculationsAndCharts!$A456+$A$11,0,1,1)","v":0},{"$f":"OFFSET(InputPriceData!D$10,CalculationsAndCharts!$A456+$A$11,0,1,1)","v":0},{"$f":"OFFSET(InputPriceData!E$10,CalculationsAndCharts!$A456+$A$11,0,1,1)","v":0},{"$f":"OFFSET(InputPriceData!F$10,CalculationsAndCharts!$A456+$A$11,0,1,1)","v":0},{"$f":"IF(AND(A456<=$B$20,$S$14),$T$14,0)","v":0},{"$f":"IF(AND(A456<=$B$20,$S$15),$T$15,0)","v":0},{"$f":"IF(AND(A456<=$B$20,$S$16),$T$16,0)","v":0},{"$f":"IF(AND(A456<=$B$20,$S$17),$T$17,0)","v":0},{"$f":"IF(AND(A456<=$B$20,$S$18),$T$18,0)","v":0},0,0,0,0,0,0,0,0,0,0,0,0,0]
[426,{"$f":"OFFSET(InputPriceData!B$10,CalculationsAndCharts!$A457+$A$11,0,1,1)","v":"00:00:00"},{"$f":"OFFSET(InputPriceData!G$10,CalculationsAndCharts!$A457+$A$11,0,1,1)","v":0},{"$f":"OFFSET(InputPriceData!C$10,CalculationsAndCharts!$A457+$A$11,0,1,1)","v":0},{"$f":"OFFSET(InputPriceData!D$10,CalculationsAndCharts!$A457+$A$11,0,1,1)","v":0},{"$f":"OFFSET(InputPriceData!E$10,CalculationsAndCharts!$A457+$A$11,0,1,1)","v":0},{"$f":"OFFSET(InputPriceData!F$10,CalculationsAndCharts!$A457+$A$11,0,1,1)","v":0},{"$f":"IF(AND(A457<=$B$20,$S$14),$T$14,0)","v":0},{"$f":"IF(AND(A457<=$B$20,$S$15),$T$15,0)","v":0},{"$f":"IF(AND(A457<=$B$20,$S$16),$T$16,0)","v":0},{"$f":"IF(AND(A457<=$B$20,$S$17),$T$17,0)","v":0},{"$f":"IF(AND(A457<=$B$20,$S$18),$T$18,0)","v":0},0,0,0,0,0,0,0,0,0,0,0,0,0]
[427,{"$f":"OFFSET(InputPriceData!B$10,CalculationsAndCharts!$A458+$A$11,0,1,1)","v":"00:00:00"},{"$f":"OFFSET(InputPriceData!G$10,CalculationsAndCharts!$A458+$A$11,0,1,1)","v":0},{"$f":"OFFSET(InputPriceData!C$10,CalculationsAndCharts!$A458+$A$11,0,1,1)","v":0},{"$f":"OFFSET(InputPriceData!D$10,CalculationsAndCharts!$A458+$A$11,0,1,1)","v":0},{"$f":"OFFSET(InputPriceData!E$10,CalculationsAndCharts!$A458+$A$11,0,1,1)","v":0},{"$f":"OFFSET(InputPriceData!F$10,CalculationsAndCharts!$A458+$A$11,0,1,1)","v":0},{"$f":"IF(AND(A458<=$B$20,$S$14),$T$14,0)","v":0},{"$f":"IF(AND(A458<=$B$20,$S$15),$T$15,0)","v":0},{"$f":"IF(AND(A458<=$B$20,$S$16),$T$16,0)","v":0},{"$f":"IF(AND(A458<=$B$20,$S$17),$T$17,0)","v":0},{"$f":"IF(AND(A458<=$B$20,$S$18),$T$18,0)","v":0},0,0,0,0,0,0,0,0,0,0,0,0,0]
[428,{"$f":"OFFSET(InputPriceData!B$10,CalculationsAndCharts!$A459+$A$11,0,1,1)","v":"00:00:00"},{"$f":"OFFSET(InputPriceData!G$10,CalculationsAndCharts!$A459+$A$11,0,1,1)","v":0},{"$f":"OFFSET(InputPriceData!C$10,CalculationsAndCharts!$A459+$A$11,0,1,1)","v":0},{"$f":"OFFSET(InputPriceData!D$10,CalculationsAndCharts!$A459+$A$11,0,1,1)","v":0},{"$f":"OFFSET(InputPriceData!E$10,CalculationsAndCharts!$A459+$A$11,0,1,1)","v":0},{"$f":"OFFSET(InputPriceData!F$10,CalculationsAndCharts!$A459+$A$11,0,1,1)","v":0},{"$f":"IF(AND(A459<=$B$20,$S$14),$T$14,0)","v":0},{"$f":"IF(AND(A459<=$B$20,$S$15),$T$15,0)","v":0},{"$f":"IF(AND(A459<=$B$20,$S$16),$T$16,0)","v":0},{"$f":"IF(AND(A459<=$B$20,$S$17),$T$17,0)","v":0},{"$f":"IF(AND(A459<=$B$20,$S$18),$T$18,0)","v":0},0,0,0,0,0,0,0,0,0,0,0,0,0]
[429,{"$f":"OFFSET(InputPriceData!B$10,CalculationsAndCharts!$A460+$A$11,0,1,1)","v":"00:00:00"},{"$f":"OFFSET(InputPriceData!G$10,CalculationsAndCharts!$A460+$A$11,0,1,1)","v":0},{"$f":"OFFSET(InputPriceData!C$10,CalculationsAndCharts!$A460+$A$11,0,1,1)","v":0},{"$f":"OFFSET(InputPriceData!D$10,CalculationsAndCharts!$A460+$A$11,0,1,1)","v":0},{"$f":"OFFSET(InputPriceData!E$10,CalculationsAndCharts!$A460+$A$11,0,1,1)","v":0},{"$f":"OFFSET(InputPriceData!F$10,CalculationsAndCharts!$A460+$A$11,0,1,1)","v":0},{"$f":"IF(AND(A460<=$B$20,$S$14),$T$14,0)","v":0},{"$f":"IF(AND(A460<=$B$20,$S$15),$T$15,0)","v":0},{"$f":"IF(AND(A460<=$B$20,$S$16),$T$16,0)","v":0},{"$f":"IF(AND(A460<=$B$20,$S$17),$T$17,0)","v":0},{"$f":"IF(AND(A460<=$B$20,$S$18),$T$18,0)","v":0},0,0,0,0,0,0,0,0,0,0,0,0,0]
[430,{"$f":"OFFSET(InputPriceData!B$10,CalculationsAndCharts!$A461+$A$11,0,1,1)","v":"00:00:00"},{"$f":"OFFSET(InputPriceData!G$10,CalculationsAndCharts!$A461+$A$11,0,1,1)","v":0},{"$f":"OFFSET(InputPriceData!C$10,CalculationsAndCharts!$A461+$A$11,0,1,1)","v":0},{"$f":"OFFSET(InputPriceData!D$10,CalculationsAndCharts!$A461+$A$11,0,1,1)","v":0},{"$f":"OFFSET(InputPriceData!E$10,CalculationsAndCharts!$A461+$A$11,0,1,1)","v":0},{"$f":"OFFSET(InputPriceData!F$10,CalculationsAndCharts!$A461+$A$11,0,1,1)","v":0},{"$f":"IF(AND(A461<=$B$20,$S$14),$T$14,0)","v":0},{"$f":"IF(AND(A461<=$B$20,$S$15),$T$15,0)","v":0},{"$f":"IF(AND(A461<=$B$20,$S$16),$T$16,0)","v":0},{"$f":"IF(AND(A461<=$B$20,$S$17),$T$17,0)","v":0},{"$f":"IF(AND(A461<=$B$20,$S$18),$T$18,0)","v":0},0,0,0,0,0,0,0,0,0,0,0,0,0]
[431,{"$f":"OFFSET(InputPriceData!B$10,CalculationsAndCharts!$A462+$A$11,0,1,1)","v":"00:00:00"},{"$f":"OFFSET(InputPriceData!G$10,CalculationsAndCharts!$A462+$A$11,0,1,1)","v":0},{"$f":"OFFSET(InputPriceData!C$10,CalculationsAndCharts!$A462+$A$11,0,1,1)","v":0},{"$f":"OFFSET(InputPriceData!D$10,CalculationsAndCharts!$A462+$A$11,0,1,1)","v":0},{"$f":"OFFSET(InputPriceData!E$10,CalculationsAndCharts!$A462+$A$11,0,1,1)","v":0},{"$f":"OFFSET(InputPriceData!F$10,CalculationsAndCharts!$A462+$A$11,0,1,1)","v":0},{"$f":"IF(AND(A462<=$B$20,$S$14),$T$14,0)","v":0},{"$f":"IF(AND(A462<=$B$20,$S$15),$T$15,0)","v":0},{"$f":"IF(AND(A462<=$B$20,$S$16),$T$16,0)","v":0},{"$f":"IF(AND(A462<=$B$20,$S$17),$T$17,0)","v":0},{"$f":"IF(AND(A462<=$B$20,$S$18),$T$18,0)","v":0},0,0,0,0,0,0,0,0,0,0,0,0,0]
[432,{"$f":"OFFSET(InputPriceData!B$10,CalculationsAndCharts!$A463+$A$11,0,1,1)","v":"00:00:00"},{"$f":"OFFSET(InputPriceData!G$10,CalculationsAndCharts!$A463+$A$11,0,1,1)","v":0},{"$f":"OFFSET(InputPriceData!C$10,CalculationsAndCharts!$A463+$A$11,0,1,1)","v":0},{"$f":"OFFSET(InputPriceData!D$10,CalculationsAndCharts!$A463+$A$11,0,1,1)","v":0},{"$f":"OFFSET(InputPriceData!E$10,CalculationsAndCharts!$A463+$A$11,0,1,1)","v":0},{"$f":"OFFSET(InputPriceData!F$10,CalculationsAndCharts!$A463+$A$11,0,1,1)","v":0},{"$f":"IF(AND(A463<=$B$20,$S$14),$T$14,0)","v":0},{"$f":"IF(AND(A463<=$B$20,$S$15),$T$15,0)","v":0},{"$f":"IF(AND(A463<=$B$20,$S$16),$T$16,0)","v":0},{"$f":"IF(AND(A463<=$B$20,$S$17),$T$17,0)","v":0},{"$f":"IF(AND(A463<=$B$20,$S$18),$T$18,0)","v":0},0,0,0,0,0,0,0,0,0,0,0,0,0]
[433,{"$f":"OFFSET(InputPriceData!B$10,CalculationsAndCharts!$A464+$A$11,0,1,1)","v":"00:00:00"},{"$f":"OFFSET(InputPriceData!G$10,CalculationsAndCharts!$A464+$A$11,0,1,1)","v":0},{"$f":"OFFSET(InputPriceData!C$10,CalculationsAndCharts!$A464+$A$11,0,1,1)","v":0},{"$f":"OFFSET(InputPriceData!D$10,CalculationsAndCharts!$A464+$A$11,0,1,1)","v":0},{"$f":"OFFSET(InputPriceData!E$10,CalculationsAndCharts!$A464+$A$11,0,1,1)","v":0},{"$f":"OFFSET(InputPriceData!F$10,CalculationsAndCharts!$A464+$A$11,0,1,1)","v":0},{"$f":"IF(AND(A464<=$B$20,$S$14),$T$14,0)","v":0},{"$f":"IF(AND(A464<=$B$20,$S$15),$T$15,0)","v":0},{"$f":"IF(AND(A464<=$B$20,$S$16),$T$16,0)","v":0},{"$f":"IF(AND(A464<=$B$20,$S$17),$T$17,0)","v":0},{"$f":"IF(AND(A464<=$B$20,$S$18),$T$18,0)","v":0},0,0,0,0,0,0,0,0,0,0,0,0,0]
[434,{"$f":"OFFSET(InputPriceData!B$10,CalculationsAndCharts!$A465+$A$11,0,1,1)","v":"00:00:00"},{"$f":"OFFSET(InputPriceData!G$10,CalculationsAndCharts!$A465+$A$11,0,1,1)","v":0},{"$f":"OFFSET(InputPriceData!C$10,CalculationsAndCharts!$A465+$A$11,0,1,1)","v":0},{"$f":"OFFSET(InputPriceData!D$10,CalculationsAndCharts!$A465+$A$11,0,1,1)","v":0},{"$f":"OFFSET(InputPriceData!E$10,CalculationsAndCharts!$A465+$A$11,0,1,1)","v":0},{"$f":"OFFSET(InputPriceData!F$10,CalculationsAndCharts!$A465+$A$11,0,1,1)","v":0},{"$f":"IF(AND(A465<=$B$20,$S$14),$T$14,0)","v":0},{"$f":"IF(AND(A465<=$B$20,$S$15),$T$15,0)","v":0},{"$f":"IF(AND(A465<=$B$20,$S$16),$T$16,0)","v":0},{"$f":"IF(AND(A465<=$B$20,$S$17),$T$17,0)","v":0},{"$f":"IF(AND(A465<=$B$20,$S$18),$T$18,0)","v":0},0,0,0,0,0,0,0,0,0,0,0,0,0]
[435,{"$f":"OFFSET(InputPriceData!B$10,CalculationsAndCharts!$A466+$A$11,0,1,1)","v":"00:00:00"},{"$f":"OFFSET(InputPriceData!G$10,CalculationsAndCharts!$A466+$A$11,0,1,1)","v":0},{"$f":"OFFSET(InputPriceData!C$10,CalculationsAndCharts!$A466+$A$11,0,1,1)","v":0},{"$f":"OFFSET(InputPriceData!D$10,CalculationsAndCharts!$A466+$A$11,0,1,1)","v":0},{"$f":"OFFSET(InputPriceData!E$10,CalculationsAndCharts!$A466+$A$11,0,1,1)","v":0},{"$f":"OFFSET(InputPriceData!F$10,CalculationsAndCharts!$A466+$A$11,0,1,1)","v":0},{"$f":"IF(AND(A466<=$B$20,$S$14),$T$14,0)","v":0},{"$f":"IF(AND(A466<=$B$20,$S$15),$T$15,0)","v":0},{"$f":"IF(AND(A466<=$B$20,$S$16),$T$16,0)","v":0},{"$f":"IF(AND(A466<=$B$20,$S$17),$T$17,0)","v":0},{"$f":"IF(AND(A466<=$B$20,$S$18),$T$18,0)","v":0},0,0,0,0,0,0,0,0,0,0,0,0,0]
[436,{"$f":"OFFSET(InputPriceData!B$10,CalculationsAndCharts!$A467+$A$11,0,1,1)","v":"00:00:00"},{"$f":"OFFSET(InputPriceData!G$10,CalculationsAndCharts!$A467+$A$11,0,1,1)","v":0},{"$f":"OFFSET(InputPriceData!C$10,CalculationsAndCharts!$A467+$A$11,0,1,1)","v":0},{"$f":"OFFSET(InputPriceData!D$10,CalculationsAndCharts!$A467+$A$11,0,1,1)","v":0},{"$f":"OFFSET(InputPriceData!E$10,CalculationsAndCharts!$A467+$A$11,0,1,1)","v":0},{"$f":"OFFSET(InputPriceData!F$10,CalculationsAndCharts!$A467+$A$11,0,1,1)","v":0},{"$f":"IF(AND(A467<=$B$20,$S$14),$T$14,0)","v":0},{"$f":"IF(AND(A467<=$B$20,$S$15),$T$15,0)","v":0},{"$f":"IF(AND(A467<=$B$20,$S$16),$T$16,0)","v":0},{"$f":"IF(AND(A467<=$B$20,$S$17),$T$17,0)","v":0},{"$f":"IF(AND(A467<=$B$20,$S$18),$T$18,0)","v":0},0,0,0,0,0,0,0,0,0,0,0,0,0]
[437,{"$f":"OFFSET(InputPriceData!B$10,CalculationsAndCharts!$A468+$A$11,0,1,1)","v":"00:00:00"},{"$f":"OFFSET(InputPriceData!G$10,CalculationsAndCharts!$A468+$A$11,0,1,1)","v":0},{"$f":"OFFSET(InputPriceData!C$10,CalculationsAndCharts!$A468+$A$11,0,1,1)","v":0},{"$f":"OFFSET(InputPriceData!D$10,CalculationsAndCharts!$A468+$A$11,0,1,1)","v":0},{"$f":"OFFSET(InputPriceData!E$10,CalculationsAndCharts!$A468+$A$11,0,1,1)","v":0},{"$f":"OFFSET(InputPriceData!F$10,CalculationsAndCharts!$A468+$A$11,0,1,1)","v":0},{"$f":"IF(AND(A468<=$B$20,$S$14),$T$14,0)","v":0},{"$f":"IF(AND(A468<=$B$20,$S$15),$T$15,0)","v":0},{"$f":"IF(AND(A468<=$B$20,$S$16),$T$16,0)","v":0},{"$f":"IF(AND(A468<=$B$20,$S$17),$T$17,0)","v":0},{"$f":"IF(AND(A468<=$B$20,$S$18),$T$18,0)","v":0},0,0,0,0,0,0,0,0,0,0,0,0,0]
[438,{"$f":"OFFSET(InputPriceData!B$10,CalculationsAndCharts!$A469+$A$11,0,1,1)","v":"00:00:00"},{"$f":"OFFSET(InputPriceData!G$10,CalculationsAndCharts!$A469+$A$11,0,1,1)","v":0},{"$f":"OFFSET(InputPriceData!C$10,CalculationsAndCharts!$A469+$A$11,0,1,1)","v":0},{"$f":"OFFSET(InputPriceData!D$10,CalculationsAndCharts!$A469+$A$11,0,1,1)","v":0},{"$f":"OFFSET(InputPriceData!E$10,CalculationsAndCharts!$A469+$A$11,0,1,1)","v":0},{"$f":"OFFSET(InputPriceData!F$10,CalculationsAndCharts!$A469+$A$11,0,1,1)","v":0},{"$f":"IF(AND(A469<=$B$20,$S$14),$T$14,0)","v":0},{"$f":"IF(AND(A469<=$B$20,$S$15),$T$15,0)","v":0},{"$f":"IF(AND(A469<=$B$20,$S$16),$T$16,0)","v":0},{"$f":"IF(AND(A469<=$B$20,$S$17),$T$17,0)","v":0},{"$f":"IF(AND(A469<=$B$20,$S$18),$T$18,0)","v":0},0,0,0,0,0,0,0,0,0,0,0,0,0]
[439,{"$f":"OFFSET(InputPriceData!B$10,CalculationsAndCharts!$A470+$A$11,0,1,1)","v":"00:00:00"},{"$f":"OFFSET(InputPriceData!G$10,CalculationsAndCharts!$A470+$A$11,0,1,1)","v":0},{"$f":"OFFSET(InputPriceData!C$10,CalculationsAndCharts!$A470+$A$11,0,1,1)","v":0},{"$f":"OFFSET(InputPriceData!D$10,CalculationsAndCharts!$A470+$A$11,0,1,1)","v":0},{"$f":"OFFSET(InputPriceData!E$10,CalculationsAndCharts!$A470+$A$11,0,1,1)","v":0},{"$f":"OFFSET(InputPriceData!F$10,CalculationsAndCharts!$A470+$A$11,0,1,1)","v":0},{"$f":"IF(AND(A470<=$B$20,$S$14),$T$14,0)","v":0},{"$f":"IF(AND(A470<=$B$20,$S$15),$T$15,0)","v":0},{"$f":"IF(AND(A470<=$B$20,$S$16),$T$16,0)","v":0},{"$f":"IF(AND(A470<=$B$20,$S$17),$T$17,0)","v":0},{"$f":"IF(AND(A470<=$B$20,$S$18),$T$18,0)","v":0},0,0,0,0,0,0,0,0,0,0,0,0,0]
[440,{"$f":"OFFSET(InputPriceData!B$10,CalculationsAndCharts!$A471+$A$11,0,1,1)","v":"00:00:00"},{"$f":"OFFSET(InputPriceData!G$10,CalculationsAndCharts!$A471+$A$11,0,1,1)","v":0},{"$f":"OFFSET(InputPriceData!C$10,CalculationsAndCharts!$A471+$A$11,0,1,1)","v":0},{"$f":"OFFSET(InputPriceData!D$10,CalculationsAndCharts!$A471+$A$11,0,1,1)","v":0},{"$f":"OFFSET(InputPriceData!E$10,CalculationsAndCharts!$A471+$A$11,0,1,1)","v":0},{"$f":"OFFSET(InputPriceData!F$10,CalculationsAndCharts!$A471+$A$11,0,1,1)","v":0},{"$f":"IF(AND(A471<=$B$20,$S$14),$T$14,0)","v":0},{"$f":"IF(AND(A471<=$B$20,$S$15),$T$15,0)","v":0},{"$f":"IF(AND(A471<=$B$20,$S$16),$T$16,0)","v":0},{"$f":"IF(AND(A471<=$B$20,$S$17),$T$17,0)","v":0},{"$f":"IF(AND(A471<=$B$20,$S$18),$T$18,0)","v":0},0,0,0,0,0,0,0,0,0,0,0,0,0]
[441,{"$f":"OFFSET(InputPriceData!B$10,CalculationsAndCharts!$A472+$A$11,0,1,1)","v":"00:00:00"},{"$f":"OFFSET(InputPriceData!G$10,CalculationsAndCharts!$A472+$A$11,0,1,1)","v":0},{"$f":"OFFSET(InputPriceData!C$10,CalculationsAndCharts!$A472+$A$11,0,1,1)","v":0},{"$f":"OFFSET(InputPriceData!D$10,CalculationsAndCharts!$A472+$A$11,0,1,1)","v":0},{"$f":"OFFSET(InputPriceData!E$10,CalculationsAndCharts!$A472+$A$11,0,1,1)","v":0},{"$f":"OFFSET(InputPriceData!F$10,CalculationsAndCharts!$A472+$A$11,0,1,1)","v":0},{"$f":"IF(AND(A472<=$B$20,$S$14),$T$14,0)","v":0},{"$f":"IF(AND(A472<=$B$20,$S$15),$T$15,0)","v":0},{"$f":"IF(AND(A472<=$B$20,$S$16),$T$16,0)","v":0},{"$f":"IF(AND(A472<=$B$20,$S$17),$T$17,0)","v":0},{"$f":"IF(AND(A472<=$B$20,$S$18),$T$18,0)","v":0},0,0,0,0,0,0,0,0,0,0,0,0,0]
[442,{"$f":"OFFSET(InputPriceData!B$10,CalculationsAndCharts!$A473+$A$11,0,1,1)","v":"00:00:00"},{"$f":"OFFSET(InputPriceData!G$10,CalculationsAndCharts!$A473+$A$11,0,1,1)","v":0},{"$f":"OFFSET(InputPriceData!C$10,CalculationsAndCharts!$A473+$A$11,0,1,1)","v":0},{"$f":"OFFSET(InputPriceData!D$10,CalculationsAndCharts!$A473+$A$11,0,1,1)","v":0},{"$f":"OFFSET(InputPriceData!E$10,CalculationsAndCharts!$A473+$A$11,0,1,1)","v":0},{"$f":"OFFSET(InputPriceData!F$10,CalculationsAndCharts!$A473+$A$11,0,1,1)","v":0},{"$f":"IF(AND(A473<=$B$20,$S$14),$T$14,0)","v":0},{"$f":"IF(AND(A473<=$B$20,$S$15),$T$15,0)","v":0},{"$f":"IF(AND(A473<=$B$20,$S$16),$T$16,0)","v":0},{"$f":"IF(AND(A473<=$B$20,$S$17),$T$17,0)","v":0},{"$f":"IF(AND(A473<=$B$20,$S$18),$T$18,0)","v":0},0,0,0,0,0,0,0,0,0,0,0,0,0]
[443,{"$f":"OFFSET(InputPriceData!B$10,CalculationsAndCharts!$A474+$A$11,0,1,1)","v":"00:00:00"},{"$f":"OFFSET(InputPriceData!G$10,CalculationsAndCharts!$A474+$A$11,0,1,1)","v":0},{"$f":"OFFSET(InputPriceData!C$10,CalculationsAndCharts!$A474+$A$11,0,1,1)","v":0},{"$f":"OFFSET(InputPriceData!D$10,CalculationsAndCharts!$A474+$A$11,0,1,1)","v":0},{"$f":"OFFSET(InputPriceData!E$10,CalculationsAndCharts!$A474+$A$11,0,1,1)","v":0},{"$f":"OFFSET(InputPriceData!F$10,CalculationsAndCharts!$A474+$A$11,0,1,1)","v":0},{"$f":"IF(AND(A474<=$B$20,$S$14),$T$14,0)","v":0},{"$f":"IF(AND(A474<=$B$20,$S$15),$T$15,0)","v":0},{"$f":"IF(AND(A474<=$B$20,$S$16),$T$16,0)","v":0},{"$f":"IF(AND(A474<=$B$20,$S$17),$T$17,0)","v":0},{"$f":"IF(AND(A474<=$B$20,$S$18),$T$18,0)","v":0},0,0,0,0,0,0,0,0,0,0,0,0,0]
[444,{"$f":"OFFSET(InputPriceData!B$10,CalculationsAndCharts!$A475+$A$11,0,1,1)","v":"00:00:00"},{"$f":"OFFSET(InputPriceData!G$10,CalculationsAndCharts!$A475+$A$11,0,1,1)","v":0},{"$f":"OFFSET(InputPriceData!C$10,CalculationsAndCharts!$A475+$A$11,0,1,1)","v":0},{"$f":"OFFSET(InputPriceData!D$10,CalculationsAndCharts!$A475+$A$11,0,1,1)","v":0},{"$f":"OFFSET(InputPriceData!E$10,CalculationsAndCharts!$A475+$A$11,0,1,1)","v":0},{"$f":"OFFSET(InputPriceData!F$10,CalculationsAndCharts!$A475+$A$11,0,1,1)","v":0},{"$f":"IF(AND(A475<=$B$20,$S$14),$T$14,0)","v":0},{"$f":"IF(AND(A475<=$B$20,$S$15),$T$15,0)","v":0},{"$f":"IF(AND(A475<=$B$20,$S$16),$T$16,0)","v":0},{"$f":"IF(AND(A475<=$B$20,$S$17),$T$17,0)","v":0},{"$f":"IF(AND(A475<=$B$20,$S$18),$T$18,0)","v":0},0,0,0,0,0,0,0,0,0,0,0,0,0]
[445,{"$f":"OFFSET(InputPriceData!B$10,CalculationsAndCharts!$A476+$A$11,0,1,1)","v":"00:00:00"},{"$f":"OFFSET(InputPriceData!G$10,CalculationsAndCharts!$A476+$A$11,0,1,1)","v":0},{"$f":"OFFSET(InputPriceData!C$10,CalculationsAndCharts!$A476+$A$11,0,1,1)","v":0},{"$f":"OFFSET(InputPriceData!D$10,CalculationsAndCharts!$A476+$A$11,0,1,1)","v":0},{"$f":"OFFSET(InputPriceData!E$10,CalculationsAndCharts!$A476+$A$11,0,1,1)","v":0},{"$f":"OFFSET(InputPriceData!F$10,CalculationsAndCharts!$A476+$A$11,0,1,1)","v":0},{"$f":"IF(AND(A476<=$B$20,$S$14),$T$14,0)","v":0},{"$f":"IF(AND(A476<=$B$20,$S$15),$T$15,0)","v":0},{"$f":"IF(AND(A476<=$B$20,$S$16),$T$16,0)","v":0},{"$f":"IF(AND(A476<=$B$20,$S$17),$T$17,0)","v":0},{"$f":"IF(AND(A476<=$B$20,$S$18),$T$18,0)","v":0},0,0,0,0,0,0,0,0,0,0,0,0,0]
[446,{"$f":"OFFSET(InputPriceData!B$10,CalculationsAndCharts!$A477+$A$11,0,1,1)","v":"00:00:00"},{"$f":"OFFSET(InputPriceData!G$10,CalculationsAndCharts!$A477+$A$11,0,1,1)","v":0},{"$f":"OFFSET(InputPriceData!C$10,CalculationsAndCharts!$A477+$A$11,0,1,1)","v":0},{"$f":"OFFSET(InputPriceData!D$10,CalculationsAndCharts!$A477+$A$11,0,1,1)","v":0},{"$f":"OFFSET(InputPriceData!E$10,CalculationsAndCharts!$A477+$A$11,0,1,1)","v":0},{"$f":"OFFSET(InputPriceData!F$10,CalculationsAndCharts!$A477+$A$11,0,1,1)","v":0},{"$f":"IF(AND(A477<=$B$20,$S$14),$T$14,0)","v":0},{"$f":"IF(AND(A477<=$B$20,$S$15),$T$15,0)","v":0},{"$f":"IF(AND(A477<=$B$20,$S$16),$T$16,0)","v":0},{"$f":"IF(AND(A477<=$B$20,$S$17),$T$17,0)","v":0},{"$f":"IF(AND(A477<=$B$20,$S$18),$T$18,0)","v":0},0,0,0,0,0,0,0,0,0,0,0,0,0]
[447,{"$f":"OFFSET(InputPriceData!B$10,CalculationsAndCharts!$A478+$A$11,0,1,1)","v":"00:00:00"},{"$f":"OFFSET(InputPriceData!G$10,CalculationsAndCharts!$A478+$A$11,0,1,1)","v":0},{"$f":"OFFSET(InputPriceData!C$10,CalculationsAndCharts!$A478+$A$11,0,1,1)","v":0},{"$f":"OFFSET(InputPriceData!D$10,CalculationsAndCharts!$A478+$A$11,0,1,1)","v":0},{"$f":"OFFSET(InputPriceData!E$10,CalculationsAndCharts!$A478+$A$11,0,1,1)","v":0},{"$f":"OFFSET(InputPriceData!F$10,CalculationsAndCharts!$A478+$A$11,0,1,1)","v":0},{"$f":"IF(AND(A478<=$B$20,$S$14),$T$14,0)","v":0},{"$f":"IF(AND(A478<=$B$20,$S$15),$T$15,0)","v":0},{"$f":"IF(AND(A478<=$B$20,$S$16),$T$16,0)","v":0},{"$f":"IF(AND(A478<=$B$20,$S$17),$T$17,0)","v":0},{"$f":"IF(AND(A478<=$B$20,$S$18),$T$18,0)","v":0},0,0,0,0,0,0,0,0,0,0,0,0,0]
[448,{"$f":"OFFSET(InputPriceData!B$10,CalculationsAndCharts!$A479+$A$11,0,1,1)","v":"00:00:00"},{"$f":"OFFSET(InputPriceData!G$10,CalculationsAndCharts!$A479+$A$11,0,1,1)","v":0},{"$f":"OFFSET(InputPriceData!C$10,CalculationsAndCharts!$A479+$A$11,0,1,1)","v":0},{"$f":"OFFSET(InputPriceData!D$10,CalculationsAndCharts!$A479+$A$11,0,1,1)","v":0},{"$f":"OFFSET(InputPriceData!E$10,CalculationsAndCharts!$A479+$A$11,0,1,1)","v":0},{"$f":"OFFSET(InputPriceData!F$10,CalculationsAndCharts!$A479+$A$11,0,1,1)","v":0},{"$f":"IF(AND(A479<=$B$20,$S$14),$T$14,0)","v":0},{"$f":"IF(AND(A479<=$B$20,$S$15),$T$15,0)","v":0},{"$f":"IF(AND(A479<=$B$20,$S$16),$T$16,0)","v":0},{"$f":"IF(AND(A479<=$B$20,$S$17),$T$17,0)","v":0},{"$f":"IF(AND(A479<=$B$20,$S$18),$T$18,0)","v":0},0,0,0,0,0,0,0,0,0,0,0,0,0]
[449,{"$f":"OFFSET(InputPriceData!B$10,CalculationsAndCharts!$A480+$A$11,0,1,1)","v":"00:00:00"},{"$f":"OFFSET(InputPriceData!G$10,CalculationsAndCharts!$A480+$A$11,0,1,1)","v":0},{"$f":"OFFSET(InputPriceData!C$10,CalculationsAndCharts!$A480+$A$11,0,1,1)","v":0},{"$f":"OFFSET(InputPriceData!D$10,CalculationsAndCharts!$A480+$A$11,0,1,1)","v":0},{"$f":"OFFSET(InputPriceData!E$10,CalculationsAndCharts!$A480+$A$11,0,1,1)","v":0},{"$f":"OFFSET(InputPriceData!F$10,CalculationsAndCharts!$A480+$A$11,0,1,1)","v":0},{"$f":"IF(AND(A480<=$B$20,$S$14),$T$14,0)","v":0},{"$f":"IF(AND(A480<=$B$20,$S$15),$T$15,0)","v":0},{"$f":"IF(AND(A480<=$B$20,$S$16),$T$16,0)","v":0},{"$f":"IF(AND(A480<=$B$20,$S$17),$T$17,0)","v":0},{"$f":"IF(AND(A480<=$B$20,$S$18),$T$18,0)","v":0},0,0,0,0,0,0,{"$f":"IF($A480=$B$28,S$31,0)","v":0},0,0,0,0,0,0]
[450,{"$f":"OFFSET(InputPriceData!B$10,CalculationsAndCharts!$A481+$A$11,0,1,1)","v":"00:00:00"},{"$f":"OFFSET(InputPriceData!G$10,CalculationsAndCharts!$A481+$A$11,0,1,1)","v":0},{"$f":"OFFSET(InputPriceData!C$10,CalculationsAndCharts!$A481+$A$11,0,1,1)","v":0},{"$f":"OFFSET(InputPriceData!D$10,CalculationsAndCharts!$A481+$A$11,0,1,1)","v":0},{"$f":"OFFSET(InputPriceData!E$10,CalculationsAndCharts!$A481+$A$11,0,1,1)","v":0},{"$f":"OFFSET(InputPriceData!F$10,CalculationsAndCharts!$A481+$A$11,0,1,1)","v":0},{"$f":"IF(AND(A481<=$B$20,$S$14),$T$14,0)","v":0},{"$f":"IF(AND(A481<=$B$20,$S$15),$T$15,0)","v":0},{"$f":"IF(AND(A481<=$B$20,$S$16),$T$16,0)","v":0},{"$f":"IF(AND(A481<=$B$20,$S$17),$T$17,0)","v":0},{"$f":"IF(AND(A481<=$B$20,$S$18),$T$18,0)","v":0},{"$f":"IF(AND(A481<=$B$20,$S$8),$T$8,0)","v":0},{"$f":"IF(AND(A481<=$B$20,$S$7),$T$7,0)","v":0},{"$f":"IF(AND(A481<=$B$20,$S$6),$T$6,0)","v":0},{"$f":"IF(AND(A481<=$B$20,$S$5),$T$5,0)","v":0},{"$f":"IF(AND(A481<=$B$20,$S$4),$T$4,0)","v":0},{"$f":"IF(AND(A481>$B$20,A481<=($B$20+$C$18)),$T$10-Y481,0)","v":0},0,{"$f":"IF($A481=$B$27,S$31,0)","v":0},{"$f":"IF(AND(A481<=$B$20,A481>($B$20-$C$18)),$F$11,0)","v":0},{"$f":"IF(AND($S$10,A481>$B$20,A481<=($B$20+$C$18)),$T$10,0)","v":0},{"$f":"IF(AND($S$11,A481>$B$20,A481<=($B$20+$C$18)),$T$11,0)","v":0},{"$f":"IF(AND($S$12,A481>$B$20,A481<=($B$20+$C$18)),$T$12,0)","v":0},{"$f":"IF(AND(A481>$B$20,A481<=($B$20+$C$18)),$T$12,0)","v":0}]
[451,{"$f":"OFFSET(InputPriceData!B$10,CalculationsAndCharts!$A482+$A$11,0,1,1)","v":"00:00:00"},{"$f":"OFFSET(InputPriceData!G$10,CalculationsAndCharts!$A482+$A$11,0,1,1)","v":0},{"$f":"OFFSET(InputPriceData!C$10,CalculationsAndCharts!$A482+$A$11,0,1,1)","v":0},{"$f":"OFFSET(InputPriceData!D$10,CalculationsAndCharts!$A482+$A$11,0,1,1)","v":0},{"$f":"OFFSET(InputPriceData!E$10,CalculationsAndCharts!$A482+$A$11,0,1,1)","v":0},{"$f":"OFFSET(InputPriceData!F$10,CalculationsAndCharts!$A482+$A$11,0,1,1)","v":0},{"$f":"IF(AND(A482<=$B$20,$S$14),$T$14,0)","v":0},{"$f":"IF(AND(A482<=$B$20,$S$15),$T$15,0)","v":0},{"$f":"IF(AND(A482<=$B$20,$S$16),$T$16,0)","v":0},{"$f":"IF(AND(A482<=$B$20,$S$17),$T$17,0)","v":0},{"$f":"IF(AND(A482<=$B$20,$S$18),$T$18,0)","v":0},0,0,0,0,0,0,0,0,0,0,0,0,0]
[452,{"$f":"OFFSET(InputPriceData!B$10,CalculationsAndCharts!$A483+$A$11,0,1,1)","v":"00:00:00"},{"$f":"OFFSET(InputPriceData!G$10,CalculationsAndCharts!$A483+$A$11,0,1,1)","v":0},{"$f":"OFFSET(InputPriceData!C$10,CalculationsAndCharts!$A483+$A$11,0,1,1)","v":0},{"$f":"OFFSET(InputPriceData!D$10,CalculationsAndCharts!$A483+$A$11,0,1,1)","v":0},{"$f":"OFFSET(InputPriceData!E$10,CalculationsAndCharts!$A483+$A$11,0,1,1)","v":0},{"$f":"OFFSET(InputPriceData!F$10,CalculationsAndCharts!$A483+$A$11,0,1,1)","v":0},{"$f":"IF(AND(A483<=$B$20,$S$14),$T$14,0)","v":0},{"$f":"IF(AND(A483<=$B$20,$S$15),$T$15,0)","v":0},{"$f":"IF(AND(A483<=$B$20,$S$16),$T$16,0)","v":0},{"$f":"IF(AND(A483<=$B$20,$S$17),$T$17,0)","v":0},{"$f":"IF(AND(A483<=$B$20,$S$18),$T$18,0)","v":0},0,0,0,0,0,0,0,0,0,0,0,0,0]
[453,{"$f":"OFFSET(InputPriceData!B$10,CalculationsAndCharts!$A484+$A$11,0,1,1)","v":"00:00:00"},{"$f":"OFFSET(InputPriceData!G$10,CalculationsAndCharts!$A484+$A$11,0,1,1)","v":0},{"$f":"OFFSET(InputPriceData!C$10,CalculationsAndCharts!$A484+$A$11,0,1,1)","v":0},{"$f":"OFFSET(InputPriceData!D$10,CalculationsAndCharts!$A484+$A$11,0,1,1)","v":0},{"$f":"OFFSET(InputPriceData!E$10,CalculationsAndCharts!$A484+$A$11,0,1,1)","v":0},{"$f":"OFFSET(InputPriceData!F$10,CalculationsAndCharts!$A484+$A$11,0,1,1)","v":0},{"$f":"IF(AND(A484<=$B$20,$S$14),$T$14,0)","v":0},{"$f":"IF(AND(A484<=$B$20,$S$15),$T$15,0)","v":0},{"$f":"IF(AND(A484<=$B$20,$S$16),$T$16,0)","v":0},{"$f":"IF(AND(A484<=$B$20,$S$17),$T$17,0)","v":0},{"$f":"IF(AND(A484<=$B$20,$S$18),$T$18,0)","v":0},0,0,0,0,0,0,0,0,0,0,0,0,0]
[454,{"$f":"OFFSET(InputPriceData!B$10,CalculationsAndCharts!$A485+$A$11,0,1,1)","v":"00:00:00"},{"$f":"OFFSET(InputPriceData!G$10,CalculationsAndCharts!$A485+$A$11,0,1,1)","v":0},{"$f":"OFFSET(InputPriceData!C$10,CalculationsAndCharts!$A485+$A$11,0,1,1)","v":0},{"$f":"OFFSET(InputPriceData!D$10,CalculationsAndCharts!$A485+$A$11,0,1,1)","v":0},{"$f":"OFFSET(InputPriceData!E$10,CalculationsAndCharts!$A485+$A$11,0,1,1)","v":0},{"$f":"OFFSET(InputPriceData!F$10,CalculationsAndCharts!$A485+$A$11,0,1,1)","v":0},{"$f":"IF(AND(A485<=$B$20,$S$14),$T$14,0)","v":0},{"$f":"IF(AND(A485<=$B$20,$S$15),$T$15,0)","v":0},{"$f":"IF(AND(A485<=$B$20,$S$16),$T$16,0)","v":0},{"$f":"IF(AND(A485<=$B$20,$S$17),$T$17,0)","v":0},{"$f":"IF(AND(A485<=$B$20,$S$18),$T$18,0)","v":0},0,0,0,0,0,0,0,0,0,0,0,0,0]
[455,{"$f":"OFFSET(InputPriceData!B$10,CalculationsAndCharts!$A486+$A$11,0,1,1)","v":"00:00:00"},{"$f":"OFFSET(InputPriceData!G$10,CalculationsAndCharts!$A486+$A$11,0,1,1)","v":0},{"$f":"OFFSET(InputPriceData!C$10,CalculationsAndCharts!$A486+$A$11,0,1,1)","v":0},{"$f":"OFFSET(InputPriceData!D$10,CalculationsAndCharts!$A486+$A$11,0,1,1)","v":0},{"$f":"OFFSET(InputPriceData!E$10,CalculationsAndCharts!$A486+$A$11,0,1,1)","v":0},{"$f":"OFFSET(InputPriceData!F$10,CalculationsAndCharts!$A486+$A$11,0,1,1)","v":0},{"$f":"IF(AND(A486<=$B$20,$S$14),$T$14,0)","v":0},{"$f":"IF(AND(A486<=$B$20,$S$15),$T$15,0)","v":0},{"$f":"IF(AND(A486<=$B$20,$S$16),$T$16,0)","v":0},{"$f":"IF(AND(A486<=$B$20,$S$17),$T$17,0)","v":0},{"$f":"IF(AND(A486<=$B$20,$S$18),$T$18,0)","v":0},0,0,0,0,0,0,0,0,0,0,0,0,0]
[456,{"$f":"OFFSET(InputPriceData!B$10,CalculationsAndCharts!$A487+$A$11,0,1,1)","v":"00:00:00"},{"$f":"OFFSET(InputPriceData!G$10,CalculationsAndCharts!$A487+$A$11,0,1,1)","v":0},{"$f":"OFFSET(InputPriceData!C$10,CalculationsAndCharts!$A487+$A$11,0,1,1)","v":0},{"$f":"OFFSET(InputPriceData!D$10,CalculationsAndCharts!$A487+$A$11,0,1,1)","v":0},{"$f":"OFFSET(InputPriceData!E$10,CalculationsAndCharts!$A487+$A$11,0,1,1)","v":0},{"$f":"OFFSET(InputPriceData!F$10,CalculationsAndCharts!$A487+$A$11,0,1,1)","v":0},{"$f":"IF(AND(A487<=$B$20,$S$14),$T$14,0)","v":0},{"$f":"IF(AND(A487<=$B$20,$S$15),$T$15,0)","v":0},{"$f":"IF(AND(A487<=$B$20,$S$16),$T$16,0)","v":0},{"$f":"IF(AND(A487<=$B$20,$S$17),$T$17,0)","v":0},{"$f":"IF(AND(A487<=$B$20,$S$18),$T$18,0)","v":0},0,0,0,0,0,0,0,0,0,0,0,0,0]
[457,{"$f":"OFFSET(InputPriceData!B$10,CalculationsAndCharts!$A488+$A$11,0,1,1)","v":"00:00:00"},{"$f":"OFFSET(InputPriceData!G$10,CalculationsAndCharts!$A488+$A$11,0,1,1)","v":0},{"$f":"OFFSET(InputPriceData!C$10,CalculationsAndCharts!$A488+$A$11,0,1,1)","v":0},{"$f":"OFFSET(InputPriceData!D$10,CalculationsAndCharts!$A488+$A$11,0,1,1)","v":0},{"$f":"OFFSET(InputPriceData!E$10,CalculationsAndCharts!$A488+$A$11,0,1,1)","v":0},{"$f":"OFFSET(InputPriceData!F$10,CalculationsAndCharts!$A488+$A$11,0,1,1)","v":0},{"$f":"IF(AND(A488<=$B$20,$S$14),$T$14,0)","v":0},{"$f":"IF(AND(A488<=$B$20,$S$15),$T$15,0)","v":0},{"$f":"IF(AND(A488<=$B$20,$S$16),$T$16,0)","v":0},{"$f":"IF(AND(A488<=$B$20,$S$17),$T$17,0)","v":0},{"$f":"IF(AND(A488<=$B$20,$S$18),$T$18,0)","v":0},0,0,0,0,0,0,0,0,0,0,0,0,0]
[458,{"$f":"OFFSET(InputPriceData!B$10,CalculationsAndCharts!$A489+$A$11,0,1,1)","v":"00:00:00"},{"$f":"OFFSET(InputPriceData!G$10,CalculationsAndCharts!$A489+$A$11,0,1,1)","v":0},{"$f":"OFFSET(InputPriceData!C$10,CalculationsAndCharts!$A489+$A$11,0,1,1)","v":0},{"$f":"OFFSET(InputPriceData!D$10,CalculationsAndCharts!$A489+$A$11,0,1,1)","v":0},{"$f":"OFFSET(InputPriceData!E$10,CalculationsAndCharts!$A489+$A$11,0,1,1)","v":0},{"$f":"OFFSET(InputPriceData!F$10,CalculationsAndCharts!$A489+$A$11,0,1,1)","v":0},{"$f":"IF(AND(A489<=$B$20,$S$14),$T$14,0)","v":0},{"$f":"IF(AND(A489<=$B$20,$S$15),$T$15,0)","v":0},{"$f":"IF(AND(A489<=$B$20,$S$16),$T$16,0)","v":0},{"$f":"IF(AND(A489<=$B$20,$S$17),$T$17,0)","v":0},{"$f":"IF(AND(A489<=$B$20,$S$18),$T$18,0)","v":0},0,0,0,0,0,0,0,0,0,0,0,0,0]
[459,{"$f":"OFFSET(InputPriceData!B$10,CalculationsAndCharts!$A490+$A$11,0,1,1)","v":"00:00:00"},{"$f":"OFFSET(InputPriceData!G$10,CalculationsAndCharts!$A490+$A$11,0,1,1)","v":0},{"$f":"OFFSET(InputPriceData!C$10,CalculationsAndCharts!$A490+$A$11,0,1,1)","v":0},{"$f":"OFFSET(InputPriceData!D$10,CalculationsAndCharts!$A490+$A$11,0,1,1)","v":0},{"$f":"OFFSET(InputPriceData!E$10,CalculationsAndCharts!$A490+$A$11,0,1,1)","v":0},{"$f":"OFFSET(InputPriceData!F$10,CalculationsAndCharts!$A490+$A$11,0,1,1)","v":0},{"$f":"IF(AND(A490<=$B$20,$S$14),$T$14,0)","v":0},{"$f":"IF(AND(A490<=$B$20,$S$15),$T$15,0)","v":0},{"$f":"IF(AND(A490<=$B$20,$S$16),$T$16,0)","v":0},{"$f":"IF(AND(A490<=$B$20,$S$17),$T$17,0)","v":0},{"$f":"IF(AND(A490<=$B$20,$S$18),$T$18,0)","v":0},0,0,0,0,0,0,0,0,0,0,0,0,0]
[460,{"$f":"OFFSET(InputPriceData!B$10,CalculationsAndCharts!$A491+$A$11,0,1,1)","v":"00:00:00"},{"$f":"OFFSET(InputPriceData!G$10,CalculationsAndCharts!$A491+$A$11,0,1,1)","v":0},{"$f":"OFFSET(InputPriceData!C$10,CalculationsAndCharts!$A491+$A$11,0,1,1)","v":0},{"$f":"OFFSET(InputPriceData!D$10,CalculationsAndCharts!$A491+$A$11,0,1,1)","v":0},{"$f":"OFFSET(InputPriceData!E$10,CalculationsAndCharts!$A491+$A$11,0,1,1)","v":0},{"$f":"OFFSET(InputPriceData!F$10,CalculationsAndCharts!$A491+$A$11,0,1,1)","v":0},{"$f":"IF(AND(A491<=$B$20,$S$14),$T$14,0)","v":0},{"$f":"IF(AND(A491<=$B$20,$S$15),$T$15,0)","v":0},{"$f":"IF(AND(A491<=$B$20,$S$16),$T$16,0)","v":0},{"$f":"IF(AND(A491<=$B$20,$S$17),$T$17,0)","v":0},{"$f":"IF(AND(A491<=$B$20,$S$18),$T$18,0)","v":0},0,0,0,0,0,0,0,0,0,0,0,0,0]
[461,{"$f":"OFFSET(InputPriceData!B$10,CalculationsAndCharts!$A492+$A$11,0,1,1)","v":"00:00:00"},{"$f":"OFFSET(InputPriceData!G$10,CalculationsAndCharts!$A492+$A$11,0,1,1)","v":0},{"$f":"OFFSET(InputPriceData!C$10,CalculationsAndCharts!$A492+$A$11,0,1,1)","v":0},{"$f":"OFFSET(InputPriceData!D$10,CalculationsAndCharts!$A492+$A$11,0,1,1)","v":0},{"$f":"OFFSET(InputPriceData!E$10,CalculationsAndCharts!$A492+$A$11,0,1,1)","v":0},{"$f":"OFFSET(InputPriceData!F$10,CalculationsAndCharts!$A492+$A$11,0,1,1)","v":0},{"$f":"IF(AND(A492<=$B$20,$S$14),$T$14,0)","v":0},{"$f":"IF(AND(A492<=$B$20,$S$15),$T$15,0)","v":0},{"$f":"IF(AND(A492<=$B$20,$S$16),$T$16,0)","v":0},{"$f":"IF(AND(A492<=$B$20,$S$17),$T$17,0)","v":0},{"$f":"IF(AND(A492<=$B$20,$S$18),$T$18,0)","v":0},0,0,0,0,0,0,0,0,0,0,0,0,0]
[462,{"$f":"OFFSET(InputPriceData!B$10,CalculationsAndCharts!$A493+$A$11,0,1,1)","v":"00:00:00"},{"$f":"OFFSET(InputPriceData!G$10,CalculationsAndCharts!$A493+$A$11,0,1,1)","v":0},{"$f":"OFFSET(InputPriceData!C$10,CalculationsAndCharts!$A493+$A$11,0,1,1)","v":0},{"$f":"OFFSET(InputPriceData!D$10,CalculationsAndCharts!$A493+$A$11,0,1,1)","v":0},{"$f":"OFFSET(InputPriceData!E$10,CalculationsAndCharts!$A493+$A$11,0,1,1)","v":0},{"$f":"OFFSET(InputPriceData!F$10,CalculationsAndCharts!$A493+$A$11,0,1,1)","v":0},{"$f":"IF(AND(A493<=$B$20,$S$14),$T$14,0)","v":0},{"$f":"IF(AND(A493<=$B$20,$S$15),$T$15,0)","v":0},{"$f":"IF(AND(A493<=$B$20,$S$16),$T$16,0)","v":0},{"$f":"IF(AND(A493<=$B$20,$S$17),$T$17,0)","v":0},{"$f":"IF(AND(A493<=$B$20,$S$18),$T$18,0)","v":0},0,0,0,0,0,0,0,0,0,0,0,0,0]
[463,{"$f":"OFFSET(InputPriceData!B$10,CalculationsAndCharts!$A494+$A$11,0,1,1)","v":"00:00:00"},{"$f":"OFFSET(InputPriceData!G$10,CalculationsAndCharts!$A494+$A$11,0,1,1)","v":0},{"$f":"OFFSET(InputPriceData!C$10,CalculationsAndCharts!$A494+$A$11,0,1,1)","v":0},{"$f":"OFFSET(InputPriceData!D$10,CalculationsAndCharts!$A494+$A$11,0,1,1)","v":0},{"$f":"OFFSET(InputPriceData!E$10,CalculationsAndCharts!$A494+$A$11,0,1,1)","v":0},{"$f":"OFFSET(InputPriceData!F$10,CalculationsAndCharts!$A494+$A$11,0,1,1)","v":0},{"$f":"IF(AND(A494<=$B$20,$S$14),$T$14,0)","v":0},{"$f":"IF(AND(A494<=$B$20,$S$15),$T$15,0)","v":0},{"$f":"IF(AND(A494<=$B$20,$S$16),$T$16,0)","v":0},{"$f":"IF(AND(A494<=$B$20,$S$17),$T$17,0)","v":0},{"$f":"IF(AND(A494<=$B$20,$S$18),$T$18,0)","v":0},0,0,0,0,0,0,0,0,0,0,0,0,0]
[464,{"$f":"OFFSET(InputPriceData!B$10,CalculationsAndCharts!$A495+$A$11,0,1,1)","v":"00:00:00"},{"$f":"OFFSET(InputPriceData!G$10,CalculationsAndCharts!$A495+$A$11,0,1,1)","v":0},{"$f":"OFFSET(InputPriceData!C$10,CalculationsAndCharts!$A495+$A$11,0,1,1)","v":0},{"$f":"OFFSET(InputPriceData!D$10,CalculationsAndCharts!$A495+$A$11,0,1,1)","v":0},{"$f":"OFFSET(InputPriceData!E$10,CalculationsAndCharts!$A495+$A$11,0,1,1)","v":0},{"$f":"OFFSET(InputPriceData!F$10,CalculationsAndCharts!$A495+$A$11,0,1,1)","v":0},{"$f":"IF(AND(A495<=$B$20,$S$14),$T$14,0)","v":0},{"$f":"IF(AND(A495<=$B$20,$S$15),$T$15,0)","v":0},{"$f":"IF(AND(A495<=$B$20,$S$16),$T$16,0)","v":0},{"$f":"IF(AND(A495<=$B$20,$S$17),$T$17,0)","v":0},{"$f":"IF(AND(A495<=$B$20,$S$18),$T$18,0)","v":0},0,0,0,0,0,0,0,0,0,0,0,0,0]
[465,{"$f":"OFFSET(InputPriceData!B$10,CalculationsAndCharts!$A496+$A$11,0,1,1)","v":"00:00:00"},{"$f":"OFFSET(InputPriceData!G$10,CalculationsAndCharts!$A496+$A$11,0,1,1)","v":0},{"$f":"OFFSET(InputPriceData!C$10,CalculationsAndCharts!$A496+$A$11,0,1,1)","v":0},{"$f":"OFFSET(InputPriceData!D$10,CalculationsAndCharts!$A496+$A$11,0,1,1)","v":0},{"$f":"OFFSET(InputPriceData!E$10,CalculationsAndCharts!$A496+$A$11,0,1,1)","v":0},{"$f":"OFFSET(InputPriceData!F$10,CalculationsAndCharts!$A496+$A$11,0,1,1)","v":0},{"$f":"IF(AND(A496<=$B$20,$S$14),$T$14,0)","v":0},{"$f":"IF(AND(A496<=$B$20,$S$15),$T$15,0)","v":0},{"$f":"IF(AND(A496<=$B$20,$S$16),$T$16,0)","v":0},{"$f":"IF(AND(A496<=$B$20,$S$17),$T$17,0)","v":0},{"$f":"IF(AND(A496<=$B$20,$S$18),$T$18,0)","v":0},0,0,0,0,0,0,0,0,0,0,0,0,0]
[466,{"$f":"OFFSET(InputPriceData!B$10,CalculationsAndCharts!$A497+$A$11,0,1,1)","v":"00:00:00"},{"$f":"OFFSET(InputPriceData!G$10,CalculationsAndCharts!$A497+$A$11,0,1,1)","v":0},{"$f":"OFFSET(InputPriceData!C$10,CalculationsAndCharts!$A497+$A$11,0,1,1)","v":0},{"$f":"OFFSET(InputPriceData!D$10,CalculationsAndCharts!$A497+$A$11,0,1,1)","v":0},{"$f":"OFFSET(InputPriceData!E$10,CalculationsAndCharts!$A497+$A$11,0,1,1)","v":0},{"$f":"OFFSET(InputPriceData!F$10,CalculationsAndCharts!$A497+$A$11,0,1,1)","v":0},{"$f":"IF(AND(A497<=$B$20,$S$14),$T$14,0)","v":0},{"$f":"IF(AND(A497<=$B$20,$S$15),$T$15,0)","v":0},{"$f":"IF(AND(A497<=$B$20,$S$16),$T$16,0)","v":0},{"$f":"IF(AND(A497<=$B$20,$S$17),$T$17,0)","v":0},{"$f":"IF(AND(A497<=$B$20,$S$18),$T$18,0)","v":0},0,0,0,0,0,0,0,0,0,0,0,0,0]
[467,{"$f":"OFFSET(InputPriceData!B$10,CalculationsAndCharts!$A498+$A$11,0,1,1)","v":"00:00:00"},{"$f":"OFFSET(InputPriceData!G$10,CalculationsAndCharts!$A498+$A$11,0,1,1)","v":0},{"$f":"OFFSET(InputPriceData!C$10,CalculationsAndCharts!$A498+$A$11,0,1,1)","v":0},{"$f":"OFFSET(InputPriceData!D$10,CalculationsAndCharts!$A498+$A$11,0,1,1)","v":0},{"$f":"OFFSET(InputPriceData!E$10,CalculationsAndCharts!$A498+$A$11,0,1,1)","v":0},{"$f":"OFFSET(InputPriceData!F$10,CalculationsAndCharts!$A498+$A$11,0,1,1)","v":0},{"$f":"IF(AND(A498<=$B$20,$S$14),$T$14,0)","v":0},{"$f":"IF(AND(A498<=$B$20,$S$15),$T$15,0)","v":0},{"$f":"IF(AND(A498<=$B$20,$S$16),$T$16,0)","v":0},{"$f":"IF(AND(A498<=$B$20,$S$17),$T$17,0)","v":0},{"$f":"IF(AND(A498<=$B$20,$S$18),$T$18,0)","v":0},0,0,0,0,0,0,0,0,0,0,0,0,0]
[468,{"$f":"OFFSET(InputPriceData!B$10,CalculationsAndCharts!$A499+$A$11,0,1,1)","v":"00:00:00"},{"$f":"OFFSET(InputPriceData!G$10,CalculationsAndCharts!$A499+$A$11,0,1,1)","v":0},{"$f":"OFFSET(InputPriceData!C$10,CalculationsAndCharts!$A499+$A$11,0,1,1)","v":0},{"$f":"OFFSET(InputPriceData!D$10,CalculationsAndCharts!$A499+$A$11,0,1,1)","v":0},{"$f":"OFFSET(InputPriceData!E$10,CalculationsAndCharts!$A499+$A$11,0,1,1)","v":0},{"$f":"OFFSET(InputPriceData!F$10,CalculationsAndCharts!$A499+$A$11,0,1,1)","v":0},{"$f":"IF(AND(A499<=$B$20,$S$14),$T$14,0)","v":0},{"$f":"IF(AND(A499<=$B$20,$S$15),$T$15,0)","v":0},{"$f":"IF(AND(A499<=$B$20,$S$16),$T$16,0)","v":0},{"$f":"IF(AND(A499<=$B$20,$S$17),$T$17,0)","v":0},{"$f":"IF(AND(A499<=$B$20,$S$18),$T$18,0)","v":0},0,0,0,0,0,0,0,0,0,0,0,0,0]
[469,{"$f":"OFFSET(InputPriceData!B$10,CalculationsAndCharts!$A500+$A$11,0,1,1)","v":"00:00:00"},{"$f":"OFFSET(InputPriceData!G$10,CalculationsAndCharts!$A500+$A$11,0,1,1)","v":0},{"$f":"OFFSET(InputPriceData!C$10,CalculationsAndCharts!$A500+$A$11,0,1,1)","v":0},{"$f":"OFFSET(InputPriceData!D$10,CalculationsAndCharts!$A500+$A$11,0,1,1)","v":0},{"$f":"OFFSET(InputPriceData!E$10,CalculationsAndCharts!$A500+$A$11,0,1,1)","v":0},{"$f":"OFFSET(InputPriceData!F$10,CalculationsAndCharts!$A500+$A$11,0,1,1)","v":0},{"$f":"IF(AND(A500<=$B$20,$S$14),$T$14,0)","v":0},{"$f":"IF(AND(A500<=$B$20,$S$15),$T$15,0)","v":0},{"$f":"IF(AND(A500<=$B$20,$S$16),$T$16,0)","v":0},{"$f":"IF(AND(A500<=$B$20,$S$17),$T$17,0)","v":0},{"$f":"IF(AND(A500<=$B$20,$S$18),$T$18,0)","v":0},0,0,0,0,0,0,0,0,0,0,0,0,0]
[470,{"$f":"OFFSET(InputPriceData!B$10,CalculationsAndCharts!$A501+$A$11,0,1,1)","v":"00:00:00"},{"$f":"OFFSET(InputPriceData!G$10,CalculationsAndCharts!$A501+$A$11,0,1,1)","v":0},{"$f":"OFFSET(InputPriceData!C$10,CalculationsAndCharts!$A501+$A$11,0,1,1)","v":0},{"$f":"OFFSET(InputPriceData!D$10,CalculationsAndCharts!$A501+$A$11,0,1,1)","v":0},{"$f":"OFFSET(InputPriceData!E$10,CalculationsAndCharts!$A501+$A$11,0,1,1)","v":0},{"$f":"OFFSET(InputPriceData!F$10,CalculationsAndCharts!$A501+$A$11,0,1,1)","v":0},{"$f":"IF(AND(A501<=$B$20,$S$14),$T$14,0)","v":0},{"$f":"IF(AND(A501<=$B$20,$S$15),$T$15,0)","v":0},{"$f":"IF(AND(A501<=$B$20,$S$16),$T$16,0)","v":0},{"$f":"IF(AND(A501<=$B$20,$S$17),$T$17,0)","v":0},{"$f":"IF(AND(A501<=$B$20,$S$18),$T$18,0)","v":0},0,0,0,0,0,0,0,0,0,0,0,0,0]
[471,{"$f":"OFFSET(InputPriceData!B$10,CalculationsAndCharts!$A502+$A$11,0,1,1)","v":"00:00:00"},{"$f":"OFFSET(InputPriceData!G$10,CalculationsAndCharts!$A502+$A$11,0,1,1)","v":0},{"$f":"OFFSET(InputPriceData!C$10,CalculationsAndCharts!$A502+$A$11,0,1,1)","v":0},{"$f":"OFFSET(InputPriceData!D$10,CalculationsAndCharts!$A502+$A$11,0,1,1)","v":0},{"$f":"OFFSET(InputPriceData!E$10,CalculationsAndCharts!$A502+$A$11,0,1,1)","v":0},{"$f":"OFFSET(InputPriceData!F$10,CalculationsAndCharts!$A502+$A$11,0,1,1)","v":0},{"$f":"IF(AND(A502<=$B$20,$S$14),$T$14,0)","v":0},{"$f":"IF(AND(A502<=$B$20,$S$15),$T$15,0)","v":0},{"$f":"IF(AND(A502<=$B$20,$S$16),$T$16,0)","v":0},{"$f":"IF(AND(A502<=$B$20,$S$17),$T$17,0)","v":0},{"$f":"IF(AND(A502<=$B$20,$S$18),$T$18,0)","v":0},0,0,0,0,0,0,0,0,0,0,0,0,0]
[472,{"$f":"OFFSET(InputPriceData!B$10,CalculationsAndCharts!$A503+$A$11,0,1,1)","v":"00:00:00"},{"$f":"OFFSET(InputPriceData!G$10,CalculationsAndCharts!$A503+$A$11,0,1,1)","v":0},{"$f":"OFFSET(InputPriceData!C$10,CalculationsAndCharts!$A503+$A$11,0,1,1)","v":0},{"$f":"OFFSET(InputPriceData!D$10,CalculationsAndCharts!$A503+$A$11,0,1,1)","v":0},{"$f":"OFFSET(InputPriceData!E$10,CalculationsAndCharts!$A503+$A$11,0,1,1)","v":0},{"$f":"OFFSET(InputPriceData!F$10,CalculationsAndCharts!$A503+$A$11,0,1,1)","v":0},{"$f":"IF(AND(A503<=$B$20,$S$14),$T$14,0)","v":0},{"$f":"IF(AND(A503<=$B$20,$S$15),$T$15,0)","v":0},{"$f":"IF(AND(A503<=$B$20,$S$16),$T$16,0)","v":0},{"$f":"IF(AND(A503<=$B$20,$S$17),$T$17,0)","v":0},{"$f":"IF(AND(A503<=$B$20,$S$18),$T$18,0)","v":0},0,0,0,0,0,0,0,0,0,0,0,0,0]
[473,{"$f":"OFFSET(InputPriceData!B$10,CalculationsAndCharts!$A504+$A$11,0,1,1)","v":"00:00:00"},{"$f":"OFFSET(InputPriceData!G$10,CalculationsAndCharts!$A504+$A$11,0,1,1)","v":0},{"$f":"OFFSET(InputPriceData!C$10,CalculationsAndCharts!$A504+$A$11,0,1,1)","v":0},{"$f":"OFFSET(InputPriceData!D$10,CalculationsAndCharts!$A504+$A$11,0,1,1)","v":0},{"$f":"OFFSET(InputPriceData!E$10,CalculationsAndCharts!$A504+$A$11,0,1,1)","v":0},{"$f":"OFFSET(InputPriceData!F$10,CalculationsAndCharts!$A504+$A$11,0,1,1)","v":0},{"$f":"IF(AND(A504<=$B$20,$S$14),$T$14,0)","v":0},{"$f":"IF(AND(A504<=$B$20,$S$15),$T$15,0)","v":0},{"$f":"IF(AND(A504<=$B$20,$S$16),$T$16,0)","v":0},{"$f":"IF(AND(A504<=$B$20,$S$17),$T$17,0)","v":0},{"$f":"IF(AND(A504<=$B$20,$S$18),$T$18,0)","v":0},0,0,0,0,0,0,0,0,0,0,0,0,0]
[474,{"$f":"OFFSET(InputPriceData!B$10,CalculationsAndCharts!$A505+$A$11,0,1,1)","v":"00:00:00"},{"$f":"OFFSET(InputPriceData!G$10,CalculationsAndCharts!$A505+$A$11,0,1,1)","v":0},{"$f":"OFFSET(InputPriceData!C$10,CalculationsAndCharts!$A505+$A$11,0,1,1)","v":0},{"$f":"OFFSET(InputPriceData!D$10,CalculationsAndCharts!$A505+$A$11,0,1,1)","v":0},{"$f":"OFFSET(InputPriceData!E$10,CalculationsAndCharts!$A505+$A$11,0,1,1)","v":0},{"$f":"OFFSET(InputPriceData!F$10,CalculationsAndCharts!$A505+$A$11,0,1,1)","v":0},{"$f":"IF(AND(A505<=$B$20,$S$14),$T$14,0)","v":0},{"$f":"IF(AND(A505<=$B$20,$S$15),$T$15,0)","v":0},{"$f":"IF(AND(A505<=$B$20,$S$16),$T$16,0)","v":0},{"$f":"IF(AND(A505<=$B$20,$S$17),$T$17,0)","v":0},{"$f":"IF(AND(A505<=$B$20,$S$18),$T$18,0)","v":0},0,0,0,0,0,0,0,0,0,0,0,0,0]
[475,{"$f":"OFFSET(InputPriceData!B$10,CalculationsAndCharts!$A506+$A$11,0,1,1)","v":"00:00:00"},{"$f":"OFFSET(InputPriceData!G$10,CalculationsAndCharts!$A506+$A$11,0,1,1)","v":0},{"$f":"OFFSET(InputPriceData!C$10,CalculationsAndCharts!$A506+$A$11,0,1,1)","v":0},{"$f":"OFFSET(InputPriceData!D$10,CalculationsAndCharts!$A506+$A$11,0,1,1)","v":0},{"$f":"OFFSET(InputPriceData!E$10,CalculationsAndCharts!$A506+$A$11,0,1,1)","v":0},{"$f":"OFFSET(InputPriceData!F$10,CalculationsAndCharts!$A506+$A$11,0,1,1)","v":0},{"$f":"IF(AND(A506<=$B$20,$S$14),$T$14,0)","v":0},{"$f":"IF(AND(A506<=$B$20,$S$15),$T$15,0)","v":0},{"$f":"IF(AND(A506<=$B$20,$S$16),$T$16,0)","v":0},{"$f":"IF(AND(A506<=$B$20,$S$17),$T$17,0)","v":0},{"$f":"IF(AND(A506<=$B$20,$S$18),$T$18,0)","v":0},0,0,0,0,0,0,0,0,0,0,0,0,0]
[476,{"$f":"OFFSET(InputPriceData!B$10,CalculationsAndCharts!$A507+$A$11,0,1,1)","v":"00:00:00"},{"$f":"OFFSET(InputPriceData!G$10,CalculationsAndCharts!$A507+$A$11,0,1,1)","v":0},{"$f":"OFFSET(InputPriceData!C$10,CalculationsAndCharts!$A507+$A$11,0,1,1)","v":0},{"$f":"OFFSET(InputPriceData!D$10,CalculationsAndCharts!$A507+$A$11,0,1,1)","v":0},{"$f":"OFFSET(InputPriceData!E$10,CalculationsAndCharts!$A507+$A$11,0,1,1)","v":0},{"$f":"OFFSET(InputPriceData!F$10,CalculationsAndCharts!$A507+$A$11,0,1,1)","v":0},{"$f":"IF(AND(A507<=$B$20,$S$14),$T$14,0)","v":0},{"$f":"IF(AND(A507<=$B$20,$S$15),$T$15,0)","v":0},{"$f":"IF(AND(A507<=$B$20,$S$16),$T$16,0)","v":0},{"$f":"IF(AND(A507<=$B$20,$S$17),$T$17,0)","v":0},{"$f":"IF(AND(A507<=$B$20,$S$18),$T$18,0)","v":0},0,0,0,0,0,0,0,0,0,0,0,0,0]
[477,{"$f":"OFFSET(InputPriceData!B$10,CalculationsAndCharts!$A508+$A$11,0,1,1)","v":"00:00:00"},{"$f":"OFFSET(InputPriceData!G$10,CalculationsAndCharts!$A508+$A$11,0,1,1)","v":0},{"$f":"OFFSET(InputPriceData!C$10,CalculationsAndCharts!$A508+$A$11,0,1,1)","v":0},{"$f":"OFFSET(InputPriceData!D$10,CalculationsAndCharts!$A508+$A$11,0,1,1)","v":0},{"$f":"OFFSET(InputPriceData!E$10,CalculationsAndCharts!$A508+$A$11,0,1,1)","v":0},{"$f":"OFFSET(InputPriceData!F$10,CalculationsAndCharts!$A508+$A$11,0,1,1)","v":0},{"$f":"IF(AND(A508<=$B$20,$S$14),$T$14,0)","v":0},{"$f":"IF(AND(A508<=$B$20,$S$15),$T$15,0)","v":0},{"$f":"IF(AND(A508<=$B$20,$S$16),$T$16,0)","v":0},{"$f":"IF(AND(A508<=$B$20,$S$17),$T$17,0)","v":0},{"$f":"IF(AND(A508<=$B$20,$S$18),$T$18,0)","v":0},0,0,0,0,0,0,0,0,0,0,0,0,0]
[478,{"$f":"OFFSET(InputPriceData!B$10,CalculationsAndCharts!$A509+$A$11,0,1,1)","v":"00:00:00"},{"$f":"OFFSET(InputPriceData!G$10,CalculationsAndCharts!$A509+$A$11,0,1,1)","v":0},{"$f":"OFFSET(InputPriceData!C$10,CalculationsAndCharts!$A509+$A$11,0,1,1)","v":0},{"$f":"OFFSET(InputPriceData!D$10,CalculationsAndCharts!$A509+$A$11,0,1,1)","v":0},{"$f":"OFFSET(InputPriceData!E$10,CalculationsAndCharts!$A509+$A$11,0,1,1)","v":0},{"$f":"OFFSET(InputPriceData!F$10,CalculationsAndCharts!$A509+$A$11,0,1,1)","v":0},{"$f":"IF(AND(A509<=$B$20,$S$14),$T$14,0)","v":0},{"$f":"IF(AND(A509<=$B$20,$S$15),$T$15,0)","v":0},{"$f":"IF(AND(A509<=$B$20,$S$16),$T$16,0)","v":0},{"$f":"IF(AND(A509<=$B$20,$S$17),$T$17,0)","v":0},{"$f":"IF(AND(A509<=$B$20,$S$18),$T$18,0)","v":0},0,0,0,0,0,0,0,0,0,0,0,0,0]
[479,{"$f":"OFFSET(InputPriceData!B$10,CalculationsAndCharts!$A510+$A$11,0,1,1)","v":"00:00:00"},{"$f":"OFFSET(InputPriceData!G$10,CalculationsAndCharts!$A510+$A$11,0,1,1)","v":0},{"$f":"OFFSET(InputPriceData!C$10,CalculationsAndCharts!$A510+$A$11,0,1,1)","v":0},{"$f":"OFFSET(InputPriceData!D$10,CalculationsAndCharts!$A510+$A$11,0,1,1)","v":0},{"$f":"OFFSET(InputPriceData!E$10,CalculationsAndCharts!$A510+$A$11,0,1,1)","v":0},{"$f":"OFFSET(InputPriceData!F$10,CalculationsAndCharts!$A510+$A$11,0,1,1)","v":0},{"$f":"IF(AND(A510<=$B$20,$S$14),$T$14,0)","v":0},{"$f":"IF(AND(A510<=$B$20,$S$15),$T$15,0)","v":0},{"$f":"IF(AND(A510<=$B$20,$S$16),$T$16,0)","v":0},{"$f":"IF(AND(A510<=$B$20,$S$17),$T$17,0)","v":0},{"$f":"IF(AND(A510<=$B$20,$S$18),$T$18,0)","v":0},0,0,0,0,0,0,0,0,0,0,0,0,0]
[480,{"$f":"OFFSET(InputPriceData!B$10,CalculationsAndCharts!$A511+$A$11,0,1,1)","v":"00:00:00"},{"$f":"OFFSET(InputPriceData!G$10,CalculationsAndCharts!$A511+$A$11,0,1,1)","v":0},{"$f":"OFFSET(InputPriceData!C$10,CalculationsAndCharts!$A511+$A$11,0,1,1)","v":0},{"$f":"OFFSET(InputPriceData!D$10,CalculationsAndCharts!$A511+$A$11,0,1,1)","v":0},{"$f":"OFFSET(InputPriceData!E$10,CalculationsAndCharts!$A511+$A$11,0,1,1)","v":0},{"$f":"OFFSET(InputPriceData!F$10,CalculationsAndCharts!$A511+$A$11,0,1,1)","v":0},{"$f":"IF(AND(A511<=$B$20,$S$14),$T$14,0)","v":0},{"$f":"IF(AND(A511<=$B$20,$S$15),$T$15,0)","v":0},{"$f":"IF(AND(A511<=$B$20,$S$16),$T$16,0)","v":0},{"$f":"IF(AND(A511<=$B$20,$S$17),$T$17,0)","v":0},{"$f":"IF(AND(A511<=$B$20,$S$18),$T$18,0)","v":0},0,0,0,0,0,0,0,0,0,0,0,0,0]
[481,{"$f":"OFFSET(InputPriceData!B$10,CalculationsAndCharts!$A512+$A$11,0,1,1)","v":"00:00:00"},{"$f":"OFFSET(InputPriceData!G$10,CalculationsAndCharts!$A512+$A$11,0,1,1)","v":0},{"$f":"OFFSET(InputPriceData!C$10,CalculationsAndCharts!$A512+$A$11,0,1,1)","v":0},{"$f":"OFFSET(InputPriceData!D$10,CalculationsAndCharts!$A512+$A$11,0,1,1)","v":0},{"$f":"OFFSET(InputPriceData!E$10,CalculationsAndCharts!$A512+$A$11,0,1,1)","v":0},{"$f":"OFFSET(InputPriceData!F$10,CalculationsAndCharts!$A512+$A$11,0,1,1)","v":0},{"$f":"IF(AND(A512<=$B$20,$S$14),$T$14,0)","v":0},{"$f":"IF(AND(A512<=$B$20,$S$15),$T$15,0)","v":0},{"$f":"IF(AND(A512<=$B$20,$S$16),$T$16,0)","v":0},{"$f":"IF(AND(A512<=$B$20,$S$17),$T$17,0)","v":0},{"$f":"IF(AND(A512<=$B$20,$S$18),$T$18,0)","v":0},0,0,0,0,0,0,0,0,0,0,0,0,0]
[482,{"$f":"OFFSET(InputPriceData!B$10,CalculationsAndCharts!$A513+$A$11,0,1,1)","v":"00:00:00"},{"$f":"OFFSET(InputPriceData!G$10,CalculationsAndCharts!$A513+$A$11,0,1,1)","v":0},{"$f":"OFFSET(InputPriceData!C$10,CalculationsAndCharts!$A513+$A$11,0,1,1)","v":0},{"$f":"OFFSET(InputPriceData!D$10,CalculationsAndCharts!$A513+$A$11,0,1,1)","v":0},{"$f":"OFFSET(InputPriceData!E$10,CalculationsAndCharts!$A513+$A$11,0,1,1)","v":0},{"$f":"OFFSET(InputPriceData!F$10,CalculationsAndCharts!$A513+$A$11,0,1,1)","v":0},{"$f":"IF(AND(A513<=$B$20,$S$14),$T$14,0)","v":0},{"$f":"IF(AND(A513<=$B$20,$S$15),$T$15,0)","v":0},{"$f":"IF(AND(A513<=$B$20,$S$16),$T$16,0)","v":0},{"$f":"IF(AND(A513<=$B$20,$S$17),$T$17,0)","v":0},{"$f":"IF(AND(A513<=$B$20,$S$18),$T$18,0)","v":0},0,0,0,0,0,0,0,0,0,0,0,0,0]
[483,{"$f":"OFFSET(InputPriceData!B$10,CalculationsAndCharts!$A514+$A$11,0,1,1)","v":"00:00:00"},{"$f":"OFFSET(InputPriceData!G$10,CalculationsAndCharts!$A514+$A$11,0,1,1)","v":0},{"$f":"OFFSET(InputPriceData!C$10,CalculationsAndCharts!$A514+$A$11,0,1,1)","v":0},{"$f":"OFFSET(InputPriceData!D$10,CalculationsAndCharts!$A514+$A$11,0,1,1)","v":0},{"$f":"OFFSET(InputPriceData!E$10,CalculationsAndCharts!$A514+$A$11,0,1,1)","v":0},{"$f":"OFFSET(InputPriceData!F$10,CalculationsAndCharts!$A514+$A$11,0,1,1)","v":0},{"$f":"IF(AND(A514<=$B$20,$S$14),$T$14,0)","v":0},{"$f":"IF(AND(A514<=$B$20,$S$15),$T$15,0)","v":0},{"$f":"IF(AND(A514<=$B$20,$S$16),$T$16,0)","v":0},{"$f":"IF(AND(A514<=$B$20,$S$17),$T$17,0)","v":0},{"$f":"IF(AND(A514<=$B$20,$S$18),$T$18,0)","v":0},0,0,0,0,0,0,0,0,0,0,0,0,0]
[484,{"$f":"OFFSET(InputPriceData!B$10,CalculationsAndCharts!$A515+$A$11,0,1,1)","v":"00:00:00"},{"$f":"OFFSET(InputPriceData!G$10,CalculationsAndCharts!$A515+$A$11,0,1,1)","v":0},{"$f":"OFFSET(InputPriceData!C$10,CalculationsAndCharts!$A515+$A$11,0,1,1)","v":0},{"$f":"OFFSET(InputPriceData!D$10,CalculationsAndCharts!$A515+$A$11,0,1,1)","v":0},{"$f":"OFFSET(InputPriceData!E$10,CalculationsAndCharts!$A515+$A$11,0,1,1)","v":0},{"$f":"OFFSET(InputPriceData!F$10,CalculationsAndCharts!$A515+$A$11,0,1,1)","v":0},{"$f":"IF(AND(A515<=$B$20,$S$14),$T$14,0)","v":0},{"$f":"IF(AND(A515<=$B$20,$S$15),$T$15,0)","v":0},{"$f":"IF(AND(A515<=$B$20,$S$16),$T$16,0)","v":0},{"$f":"IF(AND(A515<=$B$20,$S$17),$T$17,0)","v":0},{"$f":"IF(AND(A515<=$B$20,$S$18),$T$18,0)","v":0},0,0,0,0,0,0,0,0,0,0,0,0,0]
[485,{"$f":"OFFSET(InputPriceData!B$10,CalculationsAndCharts!$A516+$A$11,0,1,1)","v":"00:00:00"},{"$f":"OFFSET(InputPriceData!G$10,CalculationsAndCharts!$A516+$A$11,0,1,1)","v":0},{"$f":"OFFSET(InputPriceData!C$10,CalculationsAndCharts!$A516+$A$11,0,1,1)","v":0},{"$f":"OFFSET(InputPriceData!D$10,CalculationsAndCharts!$A516+$A$11,0,1,1)","v":0},{"$f":"OFFSET(InputPriceData!E$10,CalculationsAndCharts!$A516+$A$11,0,1,1)","v":0},{"$f":"OFFSET(InputPriceData!F$10,CalculationsAndCharts!$A516+$A$11,0,1,1)","v":0},{"$f":"IF(AND(A516<=$B$20,$S$14),$T$14,0)","v":0},{"$f":"IF(AND(A516<=$B$20,$S$15),$T$15,0)","v":0},{"$f":"IF(AND(A516<=$B$20,$S$16),$T$16,0)","v":0},{"$f":"IF(AND(A516<=$B$20,$S$17),$T$17,0)","v":0},{"$f":"IF(AND(A516<=$B$20,$S$18),$T$18,0)","v":0},0,0,0,0,0,0,0,0,0,0,0,0,0]
[486,{"$f":"OFFSET(InputPriceData!B$10,CalculationsAndCharts!$A517+$A$11,0,1,1)","v":"00:00:00"},{"$f":"OFFSET(InputPriceData!G$10,CalculationsAndCharts!$A517+$A$11,0,1,1)","v":0},{"$f":"OFFSET(InputPriceData!C$10,CalculationsAndCharts!$A517+$A$11,0,1,1)","v":0},{"$f":"OFFSET(InputPriceData!D$10,CalculationsAndCharts!$A517+$A$11,0,1,1)","v":0},{"$f":"OFFSET(InputPriceData!E$10,CalculationsAndCharts!$A517+$A$11,0,1,1)","v":0},{"$f":"OFFSET(InputPriceData!F$10,CalculationsAndCharts!$A517+$A$11,0,1,1)","v":0},{"$f":"IF(AND(A517<=$B$20,$S$14),$T$14,0)","v":0},{"$f":"IF(AND(A517<=$B$20,$S$15),$T$15,0)","v":0},{"$f":"IF(AND(A517<=$B$20,$S$16),$T$16,0)","v":0},{"$f":"IF(AND(A517<=$B$20,$S$17),$T$17,0)","v":0},{"$f":"IF(AND(A517<=$B$20,$S$18),$T$18,0)","v":0},0,0,0,0,0,0,0,0,0,0,0,0,0]
[487,{"$f":"OFFSET(InputPriceData!B$10,CalculationsAndCharts!$A518+$A$11,0,1,1)","v":"00:00:00"},{"$f":"OFFSET(InputPriceData!G$10,CalculationsAndCharts!$A518+$A$11,0,1,1)","v":0},{"$f":"OFFSET(InputPriceData!C$10,CalculationsAndCharts!$A518+$A$11,0,1,1)","v":0},{"$f":"OFFSET(InputPriceData!D$10,CalculationsAndCharts!$A518+$A$11,0,1,1)","v":0},{"$f":"OFFSET(InputPriceData!E$10,CalculationsAndCharts!$A518+$A$11,0,1,1)","v":0},{"$f":"OFFSET(InputPriceData!F$10,CalculationsAndCharts!$A518+$A$11,0,1,1)","v":0},{"$f":"IF(AND(A518<=$B$20,$S$14),$T$14,0)","v":0},{"$f":"IF(AND(A518<=$B$20,$S$15),$T$15,0)","v":0},{"$f":"IF(AND(A518<=$B$20,$S$16),$T$16,0)","v":0},{"$f":"IF(AND(A518<=$B$20,$S$17),$T$17,0)","v":0},{"$f":"IF(AND(A518<=$B$20,$S$18),$T$18,0)","v":0},0,0,0,0,0,0,0,0,0,0,0,0,0]
[488,{"$f":"OFFSET(InputPriceData!B$10,CalculationsAndCharts!$A519+$A$11,0,1,1)","v":"00:00:00"},{"$f":"OFFSET(InputPriceData!G$10,CalculationsAndCharts!$A519+$A$11,0,1,1)","v":0},{"$f":"OFFSET(InputPriceData!C$10,CalculationsAndCharts!$A519+$A$11,0,1,1)","v":0},{"$f":"OFFSET(InputPriceData!D$10,CalculationsAndCharts!$A519+$A$11,0,1,1)","v":0},{"$f":"OFFSET(InputPriceData!E$10,CalculationsAndCharts!$A519+$A$11,0,1,1)","v":0},{"$f":"OFFSET(InputPriceData!F$10,CalculationsAndCharts!$A519+$A$11,0,1,1)","v":0},{"$f":"IF(AND(A519<=$B$20,$S$14),$T$14,0)","v":0},{"$f":"IF(AND(A519<=$B$20,$S$15),$T$15,0)","v":0},{"$f":"IF(AND(A519<=$B$20,$S$16),$T$16,0)","v":0},{"$f":"IF(AND(A519<=$B$20,$S$17),$T$17,0)","v":0},{"$f":"IF(AND(A519<=$B$20,$S$18),$T$18,0)","v":0},0,0,0,0,0,0,0,0,0,0,0,0,0]
[489,{"$f":"OFFSET(InputPriceData!B$10,CalculationsAndCharts!$A520+$A$11,0,1,1)","v":"00:00:00"},{"$f":"OFFSET(InputPriceData!G$10,CalculationsAndCharts!$A520+$A$11,0,1,1)","v":0},{"$f":"OFFSET(InputPriceData!C$10,CalculationsAndCharts!$A520+$A$11,0,1,1)","v":0},{"$f":"OFFSET(InputPriceData!D$10,CalculationsAndCharts!$A520+$A$11,0,1,1)","v":0},{"$f":"OFFSET(InputPriceData!E$10,CalculationsAndCharts!$A520+$A$11,0,1,1)","v":0},{"$f":"OFFSET(InputPriceData!F$10,CalculationsAndCharts!$A520+$A$11,0,1,1)","v":0},{"$f":"IF(AND(A520<=$B$20,$S$14),$T$14,0)","v":0},{"$f":"IF(AND(A520<=$B$20,$S$15),$T$15,0)","v":0},{"$f":"IF(AND(A520<=$B$20,$S$16),$T$16,0)","v":0},{"$f":"IF(AND(A520<=$B$20,$S$17),$T$17,0)","v":0},{"$f":"IF(AND(A520<=$B$20,$S$18),$T$18,0)","v":0},0,0,0,0,0,0,0,0,0,0,0,0,0]
[490,{"$f":"OFFSET(InputPriceData!B$10,CalculationsAndCharts!$A521+$A$11,0,1,1)","v":"00:00:00"},{"$f":"OFFSET(InputPriceData!G$10,CalculationsAndCharts!$A521+$A$11,0,1,1)","v":0},{"$f":"OFFSET(InputPriceData!C$10,CalculationsAndCharts!$A521+$A$11,0,1,1)","v":0},{"$f":"OFFSET(InputPriceData!D$10,CalculationsAndCharts!$A521+$A$11,0,1,1)","v":0},{"$f":"OFFSET(InputPriceData!E$10,CalculationsAndCharts!$A521+$A$11,0,1,1)","v":0},{"$f":"OFFSET(InputPriceData!F$10,CalculationsAndCharts!$A521+$A$11,0,1,1)","v":0},{"$f":"IF(AND(A521<=$B$20,$S$14),$T$14,0)","v":0},{"$f":"IF(AND(A521<=$B$20,$S$15),$T$15,0)","v":0},{"$f":"IF(AND(A521<=$B$20,$S$16),$T$16,0)","v":0},{"$f":"IF(AND(A521<=$B$20,$S$17),$T$17,0)","v":0},{"$f":"IF(AND(A521<=$B$20,$S$18),$T$18,0)","v":0},0,0,0,0,0,0,0,0,0,0,0,0,0]
[491,{"$f":"OFFSET(InputPriceData!B$10,CalculationsAndCharts!$A522+$A$11,0,1,1)","v":"00:00:00"},{"$f":"OFFSET(InputPriceData!G$10,CalculationsAndCharts!$A522+$A$11,0,1,1)","v":0},{"$f":"OFFSET(InputPriceData!C$10,CalculationsAndCharts!$A522+$A$11,0,1,1)","v":0},{"$f":"OFFSET(InputPriceData!D$10,CalculationsAndCharts!$A522+$A$11,0,1,1)","v":0},{"$f":"OFFSET(InputPriceData!E$10,CalculationsAndCharts!$A522+$A$11,0,1,1)","v":0},{"$f":"OFFSET(InputPriceData!F$10,CalculationsAndCharts!$A522+$A$11,0,1,1)","v":0},{"$f":"IF(AND(A522<=$B$20,$S$14),$T$14,0)","v":0},{"$f":"IF(AND(A522<=$B$20,$S$15),$T$15,0)","v":0},{"$f":"IF(AND(A522<=$B$20,$S$16),$T$16,0)","v":0},{"$f":"IF(AND(A522<=$B$20,$S$17),$T$17,0)","v":0},{"$f":"IF(AND(A522<=$B$20,$S$18),$T$18,0)","v":0},0,0,0,0,0,0,0,0,0,0,0,0,0]
[492,{"$f":"OFFSET(InputPriceData!B$10,CalculationsAndCharts!$A523+$A$11,0,1,1)","v":"00:00:00"},{"$f":"OFFSET(InputPriceData!G$10,CalculationsAndCharts!$A523+$A$11,0,1,1)","v":0},{"$f":"OFFSET(InputPriceData!C$10,CalculationsAndCharts!$A523+$A$11,0,1,1)","v":0},{"$f":"OFFSET(InputPriceData!D$10,CalculationsAndCharts!$A523+$A$11,0,1,1)","v":0},{"$f":"OFFSET(InputPriceData!E$10,CalculationsAndCharts!$A523+$A$11,0,1,1)","v":0},{"$f":"OFFSET(InputPriceData!F$10,CalculationsAndCharts!$A523+$A$11,0,1,1)","v":0},{"$f":"IF(AND(A523<=$B$20,$S$14),$T$14,0)","v":0},{"$f":"IF(AND(A523<=$B$20,$S$15),$T$15,0)","v":0},{"$f":"IF(AND(A523<=$B$20,$S$16),$T$16,0)","v":0},{"$f":"IF(AND(A523<=$B$20,$S$17),$T$17,0)","v":0},{"$f":"IF(AND(A523<=$B$20,$S$18),$T$18,0)","v":0},0,0,0,0,0,0,0,0,0,0,0,0,0]
[493,{"$f":"OFFSET(InputPriceData!B$10,CalculationsAndCharts!$A524+$A$11,0,1,1)","v":"00:00:00"},{"$f":"OFFSET(InputPriceData!G$10,CalculationsAndCharts!$A524+$A$11,0,1,1)","v":0},{"$f":"OFFSET(InputPriceData!C$10,CalculationsAndCharts!$A524+$A$11,0,1,1)","v":0},{"$f":"OFFSET(InputPriceData!D$10,CalculationsAndCharts!$A524+$A$11,0,1,1)","v":0},{"$f":"OFFSET(InputPriceData!E$10,CalculationsAndCharts!$A524+$A$11,0,1,1)","v":0},{"$f":"OFFSET(InputPriceData!F$10,CalculationsAndCharts!$A524+$A$11,0,1,1)","v":0},{"$f":"IF(AND(A524<=$B$20,$S$14),$T$14,0)","v":0},{"$f":"IF(AND(A524<=$B$20,$S$15),$T$15,0)","v":0},{"$f":"IF(AND(A524<=$B$20,$S$16),$T$16,0)","v":0},{"$f":"IF(AND(A524<=$B$20,$S$17),$T$17,0)","v":0},{"$f":"IF(AND(A524<=$B$20,$S$18),$T$18,0)","v":0},0,0,0,0,0,0,0,0,0,0,0,0,0]
[494,{"$f":"OFFSET(InputPriceData!B$10,CalculationsAndCharts!$A525+$A$11,0,1,1)","v":"00:00:00"},{"$f":"OFFSET(InputPriceData!G$10,CalculationsAndCharts!$A525+$A$11,0,1,1)","v":0},{"$f":"OFFSET(InputPriceData!C$10,CalculationsAndCharts!$A525+$A$11,0,1,1)","v":0},{"$f":"OFFSET(InputPriceData!D$10,CalculationsAndCharts!$A525+$A$11,0,1,1)","v":0},{"$f":"OFFSET(InputPriceData!E$10,CalculationsAndCharts!$A525+$A$11,0,1,1)","v":0},{"$f":"OFFSET(InputPriceData!F$10,CalculationsAndCharts!$A525+$A$11,0,1,1)","v":0},{"$f":"IF(AND(A525<=$B$20,$S$14),$T$14,0)","v":0},{"$f":"IF(AND(A525<=$B$20,$S$15),$T$15,0)","v":0},{"$f":"IF(AND(A525<=$B$20,$S$16),$T$16,0)","v":0},{"$f":"IF(AND(A525<=$B$20,$S$17),$T$17,0)","v":0},{"$f":"IF(AND(A525<=$B$20,$S$18),$T$18,0)","v":0},0,0,0,0,0,0,0,0,0,0,0,0,0]
[495,{"$f":"OFFSET(InputPriceData!B$10,CalculationsAndCharts!$A526+$A$11,0,1,1)","v":"00:00:00"},{"$f":"OFFSET(InputPriceData!G$10,CalculationsAndCharts!$A526+$A$11,0,1,1)","v":0},{"$f":"OFFSET(InputPriceData!C$10,CalculationsAndCharts!$A526+$A$11,0,1,1)","v":0},{"$f":"OFFSET(InputPriceData!D$10,CalculationsAndCharts!$A526+$A$11,0,1,1)","v":0},{"$f":"OFFSET(InputPriceData!E$10,CalculationsAndCharts!$A526+$A$11,0,1,1)","v":0},{"$f":"OFFSET(InputPriceData!F$10,CalculationsAndCharts!$A526+$A$11,0,1,1)","v":0},{"$f":"IF(AND(A526<=$B$20,$S$14),$T$14,0)","v":0},{"$f":"IF(AND(A526<=$B$20,$S$15),$T$15,0)","v":0},{"$f":"IF(AND(A526<=$B$20,$S$16),$T$16,0)","v":0},{"$f":"IF(AND(A526<=$B$20,$S$17),$T$17,0)","v":0},{"$f":"IF(AND(A526<=$B$20,$S$18),$T$18,0)","v":0},0,0,0,0,0,0,0,0,0,0,0,0,0]
[496,{"$f":"OFFSET(InputPriceData!B$10,CalculationsAndCharts!$A527+$A$11,0,1,1)","v":"00:00:00"},{"$f":"OFFSET(InputPriceData!G$10,CalculationsAndCharts!$A527+$A$11,0,1,1)","v":0},{"$f":"OFFSET(InputPriceData!C$10,CalculationsAndCharts!$A527+$A$11,0,1,1)","v":0},{"$f":"OFFSET(InputPriceData!D$10,CalculationsAndCharts!$A527+$A$11,0,1,1)","v":0},{"$f":"OFFSET(InputPriceData!E$10,CalculationsAndCharts!$A527+$A$11,0,1,1)","v":0},{"$f":"OFFSET(InputPriceData!F$10,CalculationsAndCharts!$A527+$A$11,0,1,1)","v":0},{"$f":"IF(AND(A527<=$B$20,$S$14),$T$14,0)","v":0},{"$f":"IF(AND(A527<=$B$20,$S$15),$T$15,0)","v":0},{"$f":"IF(AND(A527<=$B$20,$S$16),$T$16,0)","v":0},{"$f":"IF(AND(A527<=$B$20,$S$17),$T$17,0)","v":0},{"$f":"IF(AND(A527<=$B$20,$S$18),$T$18,0)","v":0},0,0,0,0,0,0,0,0,0,0,0,0,0]
[497,{"$f":"OFFSET(InputPriceData!B$10,CalculationsAndCharts!$A528+$A$11,0,1,1)","v":"00:00:00"},{"$f":"OFFSET(InputPriceData!G$10,CalculationsAndCharts!$A528+$A$11,0,1,1)","v":0},{"$f":"OFFSET(InputPriceData!C$10,CalculationsAndCharts!$A528+$A$11,0,1,1)","v":0},{"$f":"OFFSET(InputPriceData!D$10,CalculationsAndCharts!$A528+$A$11,0,1,1)","v":0},{"$f":"OFFSET(InputPriceData!E$10,CalculationsAndCharts!$A528+$A$11,0,1,1)","v":0},{"$f":"OFFSET(InputPriceData!F$10,CalculationsAndCharts!$A528+$A$11,0,1,1)","v":0},{"$f":"IF(AND(A528<=$B$20,$S$14),$T$14,0)","v":0},{"$f":"IF(AND(A528<=$B$20,$S$15),$T$15,0)","v":0},{"$f":"IF(AND(A528<=$B$20,$S$16),$T$16,0)","v":0},{"$f":"IF(AND(A528<=$B$20,$S$17),$T$17,0)","v":0},{"$f":"IF(AND(A528<=$B$20,$S$18),$T$18,0)","v":0},0,0,0,0,0,0,0,0,0,0,0,0,0]
[498,{"$f":"OFFSET(InputPriceData!B$10,CalculationsAndCharts!$A529+$A$11,0,1,1)","v":"00:00:00"},{"$f":"OFFSET(InputPriceData!G$10,CalculationsAndCharts!$A529+$A$11,0,1,1)","v":0},{"$f":"OFFSET(InputPriceData!C$10,CalculationsAndCharts!$A529+$A$11,0,1,1)","v":0},{"$f":"OFFSET(InputPriceData!D$10,CalculationsAndCharts!$A529+$A$11,0,1,1)","v":0},{"$f":"OFFSET(InputPriceData!E$10,CalculationsAndCharts!$A529+$A$11,0,1,1)","v":0},{"$f":"OFFSET(InputPriceData!F$10,CalculationsAndCharts!$A529+$A$11,0,1,1)","v":0},{"$f":"IF(AND(A529<=$B$20,$S$14),$T$14,0)","v":0},{"$f":"IF(AND(A529<=$B$20,$S$15),$T$15,0)","v":0},{"$f":"IF(AND(A529<=$B$20,$S$16),$T$16,0)","v":0},{"$f":"IF(AND(A529<=$B$20,$S$17),$T$17,0)","v":0},{"$f":"IF(AND(A529<=$B$20,$S$18),$T$18,0)","v":0},0,0,0,0,0,0,0,0,0,0,0,0,0]
[499,{"$f":"OFFSET(InputPriceData!B$10,CalculationsAndCharts!$A530+$A$11,0,1,1)","v":"00:00:00"},{"$f":"OFFSET(InputPriceData!G$10,CalculationsAndCharts!$A530+$A$11,0,1,1)","v":0},{"$f":"OFFSET(InputPriceData!C$10,CalculationsAndCharts!$A530+$A$11,0,1,1)","v":0},{"$f":"OFFSET(InputPriceData!D$10,CalculationsAndCharts!$A530+$A$11,0,1,1)","v":0},{"$f":"OFFSET(InputPriceData!E$10,CalculationsAndCharts!$A530+$A$11,0,1,1)","v":0},{"$f":"OFFSET(InputPriceData!F$10,CalculationsAndCharts!$A530+$A$11,0,1,1)","v":0},{"$f":"IF(AND(A530<=$B$20,$S$14),$T$14,0)","v":0},{"$f":"IF(AND(A530<=$B$20,$S$15),$T$15,0)","v":0},{"$f":"IF(AND(A530<=$B$20,$S$16),$T$16,0)","v":0},{"$f":"IF(AND(A530<=$B$20,$S$17),$T$17,0)","v":0},{"$f":"IF(AND(A530<=$B$20,$S$18),$T$18,0)","v":0},0,0,0,0,0,0,0,0,0,0,0,0,0]
[500,{"$f":"OFFSET(InputPriceData!B$10,CalculationsAndCharts!$A531+$A$11,0,1,1)","v":"00:00:00"},{"$f":"OFFSET(InputPriceData!G$10,CalculationsAndCharts!$A531+$A$11,0,1,1)","v":0},{"$f":"OFFSET(InputPriceData!C$10,CalculationsAndCharts!$A531+$A$11,0,1,1)","v":0},{"$f":"OFFSET(InputPriceData!D$10,CalculationsAndCharts!$A531+$A$11,0,1,1)","v":0},{"$f":"OFFSET(InputPriceData!E$10,CalculationsAndCharts!$A531+$A$11,0,1,1)","v":0},{"$f":"OFFSET(InputPriceData!F$10,CalculationsAndCharts!$A531+$A$11,0,1,1)","v":0},{"$f":"IF(AND(A531<=$B$20,$S$14),$T$14,0)","v":0},{"$f":"IF(AND(A531<=$B$20,$S$15),$T$15,0)","v":0},{"$f":"IF(AND(A531<=$B$20,$S$16),$T$16,0)","v":0},{"$f":"IF(AND(A531<=$B$20,$S$17),$T$17,0)","v":0},{"$f":"IF(AND(A531<=$B$20,$S$18),$T$18,0)","v":0},0,0,0,0,0,0,0,0,0,0,0,0,0]
[501,{"$f":"OFFSET(InputPriceData!B$10,CalculationsAndCharts!$A532+$A$11,0,1,1)","v":"00:00:00"},{"$f":"OFFSET(InputPriceData!G$10,CalculationsAndCharts!$A532+$A$11,0,1,1)","v":0},{"$f":"OFFSET(InputPriceData!C$10,CalculationsAndCharts!$A532+$A$11,0,1,1)","v":0},{"$f":"OFFSET(InputPriceData!D$10,CalculationsAndCharts!$A532+$A$11,0,1,1)","v":0},{"$f":"OFFSET(InputPriceData!E$10,CalculationsAndCharts!$A532+$A$11,0,1,1)","v":0},{"$f":"OFFSET(InputPriceData!F$10,CalculationsAndCharts!$A532+$A$11,0,1,1)","v":0},{"$f":"IF(AND(A532<=$B$20,$S$14),$T$14,0)","v":0},{"$f":"IF(AND(A532<=$B$20,$S$15),$T$15,0)","v":0},{"$f":"IF(AND(A532<=$B$20,$S$16),$T$16,0)","v":0},{"$f":"IF(AND(A532<=$B$20,$S$17),$T$17,0)","v":0},{"$f":"IF(AND(A532<=$B$20,$S$18),$T$18,0)","v":0},0,0,0,0,0,0,0,0,0,0,0,0,0]
[502,{"$f":"OFFSET(InputPriceData!B$10,CalculationsAndCharts!$A533+$A$11,0,1,1)","v":"00:00:00"},{"$f":"OFFSET(InputPriceData!G$10,CalculationsAndCharts!$A533+$A$11,0,1,1)","v":0},{"$f":"OFFSET(InputPriceData!C$10,CalculationsAndCharts!$A533+$A$11,0,1,1)","v":0},{"$f":"OFFSET(InputPriceData!D$10,CalculationsAndCharts!$A533+$A$11,0,1,1)","v":0},{"$f":"OFFSET(InputPriceData!E$10,CalculationsAndCharts!$A533+$A$11,0,1,1)","v":0},{"$f":"OFFSET(InputPriceData!F$10,CalculationsAndCharts!$A533+$A$11,0,1,1)","v":0},{"$f":"IF(AND(A533<=$B$20,$S$14),$T$14,0)","v":0},{"$f":"IF(AND(A533<=$B$20,$S$15),$T$15,0)","v":0},{"$f":"IF(AND(A533<=$B$20,$S$16),$T$16,0)","v":0},{"$f":"IF(AND(A533<=$B$20,$S$17),$T$17,0)","v":0},{"$f":"IF(AND(A533<=$B$20,$S$18),$T$18,0)","v":0},0,0,0,0,0,0,0,0,0,0,0,0,0]
[503,{"$f":"OFFSET(InputPriceData!B$10,CalculationsAndCharts!$A534+$A$11,0,1,1)","v":"00:00:00"},{"$f":"OFFSET(InputPriceData!G$10,CalculationsAndCharts!$A534+$A$11,0,1,1)","v":0},{"$f":"OFFSET(InputPriceData!C$10,CalculationsAndCharts!$A534+$A$11,0,1,1)","v":0},{"$f":"OFFSET(InputPriceData!D$10,CalculationsAndCharts!$A534+$A$11,0,1,1)","v":0},{"$f":"OFFSET(InputPriceData!E$10,CalculationsAndCharts!$A534+$A$11,0,1,1)","v":0},{"$f":"OFFSET(InputPriceData!F$10,CalculationsAndCharts!$A534+$A$11,0,1,1)","v":0},{"$f":"IF(AND(A534<=$B$20,$S$14),$T$14,0)","v":0},{"$f":"IF(AND(A534<=$B$20,$S$15),$T$15,0)","v":0},{"$f":"IF(AND(A534<=$B$20,$S$16),$T$16,0)","v":0},{"$f":"IF(AND(A534<=$B$20,$S$17),$T$17,0)","v":0},{"$f":"IF(AND(A534<=$B$20,$S$18),$T$18,0)","v":0},0,0,0,0,0,0,0,0,0,0,0,0,0]
[504,{"$f":"OFFSET(InputPriceData!B$10,CalculationsAndCharts!$A535+$A$11,0,1,1)","v":"00:00:00"},{"$f":"OFFSET(InputPriceData!G$10,CalculationsAndCharts!$A535+$A$11,0,1,1)","v":0},{"$f":"OFFSET(InputPriceData!C$10,CalculationsAndCharts!$A535+$A$11,0,1,1)","v":0},{"$f":"OFFSET(InputPriceData!D$10,CalculationsAndCharts!$A535+$A$11,0,1,1)","v":0},{"$f":"OFFSET(InputPriceData!E$10,CalculationsAndCharts!$A535+$A$11,0,1,1)","v":0},{"$f":"OFFSET(InputPriceData!F$10,CalculationsAndCharts!$A535+$A$11,0,1,1)","v":0},{"$f":"IF(AND(A535<=$B$20,$S$14),$T$14,0)","v":0},{"$f":"IF(AND(A535<=$B$20,$S$15),$T$15,0)","v":0},{"$f":"IF(AND(A535<=$B$20,$S$16),$T$16,0)","v":0},{"$f":"IF(AND(A535<=$B$20,$S$17),$T$17,0)","v":0},{"$f":"IF(AND(A535<=$B$20,$S$18),$T$18,0)","v":0},0,0,0,0,0,0,0,0,0,0,0,0,0]
[505,{"$f":"OFFSET(InputPriceData!B$10,CalculationsAndCharts!$A536+$A$11,0,1,1)","v":"00:00:00"},{"$f":"OFFSET(InputPriceData!G$10,CalculationsAndCharts!$A536+$A$11,0,1,1)","v":0},{"$f":"OFFSET(InputPriceData!C$10,CalculationsAndCharts!$A536+$A$11,0,1,1)","v":0},{"$f":"OFFSET(InputPriceData!D$10,CalculationsAndCharts!$A536+$A$11,0,1,1)","v":0},{"$f":"OFFSET(InputPriceData!E$10,CalculationsAndCharts!$A536+$A$11,0,1,1)","v":0},{"$f":"OFFSET(InputPriceData!F$10,CalculationsAndCharts!$A536+$A$11,0,1,1)","v":0},{"$f":"IF(AND(A536<=$B$20,$S$14),$T$14,0)","v":0},{"$f":"IF(AND(A536<=$B$20,$S$15),$T$15,0)","v":0},{"$f":"IF(AND(A536<=$B$20,$S$16),$T$16,0)","v":0},{"$f":"IF(AND(A536<=$B$20,$S$17),$T$17,0)","v":0},{"$f":"IF(AND(A536<=$B$20,$S$18),$T$18,0)","v":0},0,0,0,0,0,0,0,0,0,0,0,0,0]
[506,{"$f":"OFFSET(InputPriceData!B$10,CalculationsAndCharts!$A537+$A$11,0,1,1)","v":"00:00:00"},{"$f":"OFFSET(InputPriceData!G$10,CalculationsAndCharts!$A537+$A$11,0,1,1)","v":0},{"$f":"OFFSET(InputPriceData!C$10,CalculationsAndCharts!$A537+$A$11,0,1,1)","v":0},{"$f":"OFFSET(InputPriceData!D$10,CalculationsAndCharts!$A537+$A$11,0,1,1)","v":0},{"$f":"OFFSET(InputPriceData!E$10,CalculationsAndCharts!$A537+$A$11,0,1,1)","v":0},{"$f":"OFFSET(InputPriceData!F$10,CalculationsAndCharts!$A537+$A$11,0,1,1)","v":0},{"$f":"IF(AND(A537<=$B$20,$S$14),$T$14,0)","v":0},{"$f":"IF(AND(A537<=$B$20,$S$15),$T$15,0)","v":0},{"$f":"IF(AND(A537<=$B$20,$S$16),$T$16,0)","v":0},{"$f":"IF(AND(A537<=$B$20,$S$17),$T$17,0)","v":0},{"$f":"IF(AND(A537<=$B$20,$S$18),$T$18,0)","v":0},0,0,0,0,0,0,0,0,0,0,0,0,0]
[507,{"$f":"OFFSET(InputPriceData!B$10,CalculationsAndCharts!$A538+$A$11,0,1,1)","v":"00:00:00"},{"$f":"OFFSET(InputPriceData!G$10,CalculationsAndCharts!$A538+$A$11,0,1,1)","v":0},{"$f":"OFFSET(InputPriceData!C$10,CalculationsAndCharts!$A538+$A$11,0,1,1)","v":0},{"$f":"OFFSET(InputPriceData!D$10,CalculationsAndCharts!$A538+$A$11,0,1,1)","v":0},{"$f":"OFFSET(InputPriceData!E$10,CalculationsAndCharts!$A538+$A$11,0,1,1)","v":0},{"$f":"OFFSET(InputPriceData!F$10,CalculationsAndCharts!$A538+$A$11,0,1,1)","v":0},{"$f":"IF(AND(A538<=$B$20,$S$14),$T$14,0)","v":0},{"$f":"IF(AND(A538<=$B$20,$S$15),$T$15,0)","v":0},{"$f":"IF(AND(A538<=$B$20,$S$16),$T$16,0)","v":0},{"$f":"IF(AND(A538<=$B$20,$S$17),$T$17,0)","v":0},{"$f":"IF(AND(A538<=$B$20,$S$18),$T$18,0)","v":0},0,0,0,0,0,0,0,0,0,0,0,0,0]
[508,{"$f":"OFFSET(InputPriceData!B$10,CalculationsAndCharts!$A539+$A$11,0,1,1)","v":"00:00:00"},{"$f":"OFFSET(InputPriceData!G$10,CalculationsAndCharts!$A539+$A$11,0,1,1)","v":0},{"$f":"OFFSET(InputPriceData!C$10,CalculationsAndCharts!$A539+$A$11,0,1,1)","v":0},{"$f":"OFFSET(InputPriceData!D$10,CalculationsAndCharts!$A539+$A$11,0,1,1)","v":0},{"$f":"OFFSET(InputPriceData!E$10,CalculationsAndCharts!$A539+$A$11,0,1,1)","v":0},{"$f":"OFFSET(InputPriceData!F$10,CalculationsAndCharts!$A539+$A$11,0,1,1)","v":0},{"$f":"IF(AND(A539<=$B$20,$S$14),$T$14,0)","v":0},{"$f":"IF(AND(A539<=$B$20,$S$15),$T$15,0)","v":0},{"$f":"IF(AND(A539<=$B$20,$S$16),$T$16,0)","v":0},{"$f":"IF(AND(A539<=$B$20,$S$17),$T$17,0)","v":0},{"$f":"IF(AND(A539<=$B$20,$S$18),$T$18,0)","v":0},0,0,0,0,0,0,0,0,0,0,0,0,0]
[509,{"$f":"OFFSET(InputPriceData!B$10,CalculationsAndCharts!$A540+$A$11,0,1,1)","v":"00:00:00"},{"$f":"OFFSET(InputPriceData!G$10,CalculationsAndCharts!$A540+$A$11,0,1,1)","v":0},{"$f":"OFFSET(InputPriceData!C$10,CalculationsAndCharts!$A540+$A$11,0,1,1)","v":0},{"$f":"OFFSET(InputPriceData!D$10,CalculationsAndCharts!$A540+$A$11,0,1,1)","v":0},{"$f":"OFFSET(InputPriceData!E$10,CalculationsAndCharts!$A540+$A$11,0,1,1)","v":0},{"$f":"OFFSET(InputPriceData!F$10,CalculationsAndCharts!$A540+$A$11,0,1,1)","v":0},{"$f":"IF(AND(A540<=$B$20,$S$14),$T$14,0)","v":0},{"$f":"IF(AND(A540<=$B$20,$S$15),$T$15,0)","v":0},{"$f":"IF(AND(A540<=$B$20,$S$16),$T$16,0)","v":0},{"$f":"IF(AND(A540<=$B$20,$S$17),$T$17,0)","v":0},{"$f":"IF(AND(A540<=$B$20,$S$18),$T$18,0)","v":0},0,0,0,0,0,0,0,0,0,0,0,0,0]
[510,{"$f":"OFFSET(InputPriceData!B$10,CalculationsAndCharts!$A541+$A$11,0,1,1)","v":"00:00:00"},{"$f":"OFFSET(InputPriceData!G$10,CalculationsAndCharts!$A541+$A$11,0,1,1)","v":0},{"$f":"OFFSET(InputPriceData!C$10,CalculationsAndCharts!$A541+$A$11,0,1,1)","v":0},{"$f":"OFFSET(InputPriceData!D$10,CalculationsAndCharts!$A541+$A$11,0,1,1)","v":0},{"$f":"OFFSET(InputPriceData!E$10,CalculationsAndCharts!$A541+$A$11,0,1,1)","v":0},{"$f":"OFFSET(InputPriceData!F$10,CalculationsAndCharts!$A541+$A$11,0,1,1)","v":0},{"$f":"IF(AND(A541<=$B$20,$S$14),$T$14,0)","v":0},{"$f":"IF(AND(A541<=$B$20,$S$15),$T$15,0)","v":0},{"$f":"IF(AND(A541<=$B$20,$S$16),$T$16,0)","v":0},{"$f":"IF(AND(A541<=$B$20,$S$17),$T$17,0)","v":0},{"$f":"IF(AND(A541<=$B$20,$S$18),$T$18,0)","v":0},0,0,0,0,0,0,0,0,0,0,0,0,0]
[511,{"$f":"OFFSET(InputPriceData!B$10,CalculationsAndCharts!$A542+$A$11,0,1,1)","v":"00:00:00"},{"$f":"OFFSET(InputPriceData!G$10,CalculationsAndCharts!$A542+$A$11,0,1,1)","v":0},{"$f":"OFFSET(InputPriceData!C$10,CalculationsAndCharts!$A542+$A$11,0,1,1)","v":0},{"$f":"OFFSET(InputPriceData!D$10,CalculationsAndCharts!$A542+$A$11,0,1,1)","v":0},{"$f":"OFFSET(InputPriceData!E$10,CalculationsAndCharts!$A542+$A$11,0,1,1)","v":0},{"$f":"OFFSET(InputPriceData!F$10,CalculationsAndCharts!$A542+$A$11,0,1,1)","v":0},{"$f":"IF(AND(A542<=$B$20,$S$14),$T$14,0)","v":0},{"$f":"IF(AND(A542<=$B$20,$S$15),$T$15,0)","v":0},{"$f":"IF(AND(A542<=$B$20,$S$16),$T$16,0)","v":0},{"$f":"IF(AND(A542<=$B$20,$S$17),$T$17,0)","v":0},{"$f":"IF(AND(A542<=$B$20,$S$18),$T$18,0)","v":0},0,0,0,0,0,0,0,0,0,0,0,0,0]
[512,{"$f":"OFFSET(InputPriceData!B$10,CalculationsAndCharts!$A543+$A$11,0,1,1)","v":"00:00:00"},{"$f":"OFFSET(InputPriceData!G$10,CalculationsAndCharts!$A543+$A$11,0,1,1)","v":0},{"$f":"OFFSET(InputPriceData!C$10,CalculationsAndCharts!$A543+$A$11,0,1,1)","v":0},{"$f":"OFFSET(InputPriceData!D$10,CalculationsAndCharts!$A543+$A$11,0,1,1)","v":0},{"$f":"OFFSET(InputPriceData!E$10,CalculationsAndCharts!$A543+$A$11,0,1,1)","v":0},{"$f":"OFFSET(InputPriceData!F$10,CalculationsAndCharts!$A543+$A$11,0,1,1)","v":0},{"$f":"IF(AND(A543<=$B$20,$S$14),$T$14,0)","v":0},{"$f":"IF(AND(A543<=$B$20,$S$15),$T$15,0)","v":0},{"$f":"IF(AND(A543<=$B$20,$S$16),$T$16,0)","v":0},{"$f":"IF(AND(A543<=$B$20,$S$17),$T$17,0)","v":0},{"$f":"IF(AND(A543<=$B$20,$S$18),$T$18,0)","v":0},0,0,0,0,0,0,0,0,0,0,0,0,0]
[513,{"$f":"OFFSET(InputPriceData!B$10,CalculationsAndCharts!$A544+$A$11,0,1,1)","v":"00:00:00"},{"$f":"OFFSET(InputPriceData!G$10,CalculationsAndCharts!$A544+$A$11,0,1,1)","v":0},{"$f":"OFFSET(InputPriceData!C$10,CalculationsAndCharts!$A544+$A$11,0,1,1)","v":0},{"$f":"OFFSET(InputPriceData!D$10,CalculationsAndCharts!$A544+$A$11,0,1,1)","v":0},{"$f":"OFFSET(InputPriceData!E$10,CalculationsAndCharts!$A544+$A$11,0,1,1)","v":0},{"$f":"OFFSET(InputPriceData!F$10,CalculationsAndCharts!$A544+$A$11,0,1,1)","v":0},{"$f":"IF(AND(A544<=$B$20,$S$14),$T$14,0)","v":0},{"$f":"IF(AND(A544<=$B$20,$S$15),$T$15,0)","v":0},{"$f":"IF(AND(A544<=$B$20,$S$16),$T$16,0)","v":0},{"$f":"IF(AND(A544<=$B$20,$S$17),$T$17,0)","v":0},{"$f":"IF(AND(A544<=$B$20,$S$18),$T$18,0)","v":0},0,0,0,0,0,0,{"$f":"IF($A544=$B$28,S$31,0)","v":0},0,0,0,0,0,0]
[514,{"$f":"OFFSET(InputPriceData!B$10,CalculationsAndCharts!$A545+$A$11,0,1,1)","v":"00:00:00"},{"$f":"OFFSET(InputPriceData!G$10,CalculationsAndCharts!$A545+$A$11,0,1,1)","v":0},{"$f":"OFFSET(InputPriceData!C$10,CalculationsAndCharts!$A545+$A$11,0,1,1)","v":0},{"$f":"OFFSET(InputPriceData!D$10,CalculationsAndCharts!$A545+$A$11,0,1,1)","v":0},{"$f":"OFFSET(InputPriceData!E$10,CalculationsAndCharts!$A545+$A$11,0,1,1)","v":0},{"$f":"OFFSET(InputPriceData!F$10,CalculationsAndCharts!$A545+$A$11,0,1,1)","v":0},{"$f":"IF(AND(A545<=$B$20,$S$14),$T$14,0)","v":0},{"$f":"IF(AND(A545<=$B$20,$S$15),$T$15,0)","v":0},{"$f":"IF(AND(A545<=$B$20,$S$16),$T$16,0)","v":0},{"$f":"IF(AND(A545<=$B$20,$S$17),$T$17,0)","v":0},{"$f":"IF(AND(A545<=$B$20,$S$18),$T$18,0)","v":0},{"$f":"IF(AND(A545<=$B$20,$S$8),$T$8,0)","v":0},{"$f":"IF(AND(A545<=$B$20,$S$7),$T$7,0)","v":0},{"$f":"IF(AND(A545<=$B$20,$S$6),$T$6,0)","v":0},{"$f":"IF(AND(A545<=$B$20,$S$5),$T$5,0)","v":0},{"$f":"IF(AND(A545<=$B$20,$S$4),$T$4,0)","v":0},{"$f":"IF(AND(A545>$B$20,A545<=($B$20+$C$18)),$T$10-Y545,0)","v":0},0,{"$f":"IF($A545=$B$27,S$31,0)","v":0},{"$f":"IF(AND(A545<=$B$20,A545>($B$20-$C$18)),$F$11,0)","v":0},{"$f":"IF(AND($S$10,A545>$B$20,A545<=($B$20+$C$18)),$T$10,0)","v":0},{"$f":"IF(AND($S$11,A545>$B$20,A545<=($B$20+$C$18)),$T$11,0)","v":0},{"$f":"IF(AND($S$12,A545>$B$20,A545<=($B$20+$C$18)),$T$12,0)","v":0},{"$f":"IF(AND(A545>$B$20,A545<=($B$20+$C$18)),$T$12,0)","v":0}]
[515,{"$f":"OFFSET(InputPriceData!B$10,CalculationsAndCharts!$A546+$A$11,0,1,1)","v":"00:00:00"},{"$f":"OFFSET(InputPriceData!G$10,CalculationsAndCharts!$A546+$A$11,0,1,1)","v":0},{"$f":"OFFSET(InputPriceData!C$10,CalculationsAndCharts!$A546+$A$11,0,1,1)","v":0},{"$f":"OFFSET(InputPriceData!D$10,CalculationsAndCharts!$A546+$A$11,0,1,1)","v":0},{"$f":"OFFSET(InputPriceData!E$10,CalculationsAndCharts!$A546+$A$11,0,1,1)","v":0},{"$f":"OFFSET(InputPriceData!F$10,CalculationsAndCharts!$A546+$A$11,0,1,1)","v":0},{"$f":"IF(AND(A546<=$B$20,$S$14),$T$14,0)","v":0},{"$f":"IF(AND(A546<=$B$20,$S$15),$T$15,0)","v":0},{"$f":"IF(AND(A546<=$B$20,$S$16),$T$16,0)","v":0},{"$f":"IF(AND(A546<=$B$20,$S$17),$T$17,0)","v":0},{"$f":"IF(AND(A546<=$B$20,$S$18),$T$18,0)","v":0},0,0,0,0,0,0,0,0,0,0,0,0,0]
[516,{"$f":"OFFSET(InputPriceData!B$10,CalculationsAndCharts!$A547+$A$11,0,1,1)","v":"00:00:00"},{"$f":"OFFSET(InputPriceData!G$10,CalculationsAndCharts!$A547+$A$11,0,1,1)","v":0},{"$f":"OFFSET(InputPriceData!C$10,CalculationsAndCharts!$A547+$A$11,0,1,1)","v":0},{"$f":"OFFSET(InputPriceData!D$10,CalculationsAndCharts!$A547+$A$11,0,1,1)","v":0},{"$f":"OFFSET(InputPriceData!E$10,CalculationsAndCharts!$A547+$A$11,0,1,1)","v":0},{"$f":"OFFSET(InputPriceData!F$10,CalculationsAndCharts!$A547+$A$11,0,1,1)","v":0},{"$f":"IF(AND(A547<=$B$20,$S$14),$T$14,0)","v":0},{"$f":"IF(AND(A547<=$B$20,$S$15),$T$15,0)","v":0},{"$f":"IF(AND(A547<=$B$20,$S$16),$T$16,0)","v":0},{"$f":"IF(AND(A547<=$B$20,$S$17),$T$17,0)","v":0},{"$f":"IF(AND(A547<=$B$20,$S$18),$T$18,0)","v":0},0,0,0,0,0,0,0,0,0,0,0,0,0]
[517,{"$f":"OFFSET(InputPriceData!B$10,CalculationsAndCharts!$A548+$A$11,0,1,1)","v":"00:00:00"},{"$f":"OFFSET(InputPriceData!G$10,CalculationsAndCharts!$A548+$A$11,0,1,1)","v":0},{"$f":"OFFSET(InputPriceData!C$10,CalculationsAndCharts!$A548+$A$11,0,1,1)","v":0},{"$f":"OFFSET(InputPriceData!D$10,CalculationsAndCharts!$A548+$A$11,0,1,1)","v":0},{"$f":"OFFSET(InputPriceData!E$10,CalculationsAndCharts!$A548+$A$11,0,1,1)","v":0},{"$f":"OFFSET(InputPriceData!F$10,CalculationsAndCharts!$A548+$A$11,0,1,1)","v":0},{"$f":"IF(AND(A548<=$B$20,$S$14),$T$14,0)","v":0},{"$f":"IF(AND(A548<=$B$20,$S$15),$T$15,0)","v":0},{"$f":"IF(AND(A548<=$B$20,$S$16),$T$16,0)","v":0},{"$f":"IF(AND(A548<=$B$20,$S$17),$T$17,0)","v":0},{"$f":"IF(AND(A548<=$B$20,$S$18),$T$18,0)","v":0},0,0,0,0,0,0,0,0,0,0,0,0,0]
[518,{"$f":"OFFSET(InputPriceData!B$10,CalculationsAndCharts!$A549+$A$11,0,1,1)","v":"00:00:00"},{"$f":"OFFSET(InputPriceData!G$10,CalculationsAndCharts!$A549+$A$11,0,1,1)","v":0},{"$f":"OFFSET(InputPriceData!C$10,CalculationsAndCharts!$A549+$A$11,0,1,1)","v":0},{"$f":"OFFSET(InputPriceData!D$10,CalculationsAndCharts!$A549+$A$11,0,1,1)","v":0},{"$f":"OFFSET(InputPriceData!E$10,CalculationsAndCharts!$A549+$A$11,0,1,1)","v":0},{"$f":"OFFSET(InputPriceData!F$10,CalculationsAndCharts!$A549+$A$11,0,1,1)","v":0},{"$f":"IF(AND(A549<=$B$20,$S$14),$T$14,0)","v":0},{"$f":"IF(AND(A549<=$B$20,$S$15),$T$15,0)","v":0},{"$f":"IF(AND(A549<=$B$20,$S$16),$T$16,0)","v":0},{"$f":"IF(AND(A549<=$B$20,$S$17),$T$17,0)","v":0},{"$f":"IF(AND(A549<=$B$20,$S$18),$T$18,0)","v":0},0,0,0,0,0,0,0,0,0,0,0,0,0]
[519,{"$f":"OFFSET(InputPriceData!B$10,CalculationsAndCharts!$A550+$A$11,0,1,1)","v":"00:00:00"},{"$f":"OFFSET(InputPriceData!G$10,CalculationsAndCharts!$A550+$A$11,0,1,1)","v":0},{"$f":"OFFSET(InputPriceData!C$10,CalculationsAndCharts!$A550+$A$11,0,1,1)","v":0},{"$f":"OFFSET(InputPriceData!D$10,CalculationsAndCharts!$A550+$A$11,0,1,1)","v":0},{"$f":"OFFSET(InputPriceData!E$10,CalculationsAndCharts!$A550+$A$11,0,1,1)","v":0},{"$f":"OFFSET(InputPriceData!F$10,CalculationsAndCharts!$A550+$A$11,0,1,1)","v":0},{"$f":"IF(AND(A550<=$B$20,$S$14),$T$14,0)","v":0},{"$f":"IF(AND(A550<=$B$20,$S$15),$T$15,0)","v":0},{"$f":"IF(AND(A550<=$B$20,$S$16),$T$16,0)","v":0},{"$f":"IF(AND(A550<=$B$20,$S$17),$T$17,0)","v":0},{"$f":"IF(AND(A550<=$B$20,$S$18),$T$18,0)","v":0},0,0,0,0,0,0,0,0,0,0,0,0,0]
[520,{"$f":"OFFSET(InputPriceData!B$10,CalculationsAndCharts!$A551+$A$11,0,1,1)","v":"00:00:00"},{"$f":"OFFSET(InputPriceData!G$10,CalculationsAndCharts!$A551+$A$11,0,1,1)","v":0},{"$f":"OFFSET(InputPriceData!C$10,CalculationsAndCharts!$A551+$A$11,0,1,1)","v":0},{"$f":"OFFSET(InputPriceData!D$10,CalculationsAndCharts!$A551+$A$11,0,1,1)","v":0},{"$f":"OFFSET(InputPriceData!E$10,CalculationsAndCharts!$A551+$A$11,0,1,1)","v":0},{"$f":"OFFSET(InputPriceData!F$10,CalculationsAndCharts!$A551+$A$11,0,1,1)","v":0},{"$f":"IF(AND(A551<=$B$20,$S$14),$T$14,0)","v":0},{"$f":"IF(AND(A551<=$B$20,$S$15),$T$15,0)","v":0},{"$f":"IF(AND(A551<=$B$20,$S$16),$T$16,0)","v":0},{"$f":"IF(AND(A551<=$B$20,$S$17),$T$17,0)","v":0},{"$f":"IF(AND(A551<=$B$20,$S$18),$T$18,0)","v":0},0,0,0,0,0,0,0,0,0,0,0,0,0]
[521,{"$f":"OFFSET(InputPriceData!B$10,CalculationsAndCharts!$A552+$A$11,0,1,1)","v":"00:00:00"},{"$f":"OFFSET(InputPriceData!G$10,CalculationsAndCharts!$A552+$A$11,0,1,1)","v":0},{"$f":"OFFSET(InputPriceData!C$10,CalculationsAndCharts!$A552+$A$11,0,1,1)","v":0},{"$f":"OFFSET(InputPriceData!D$10,CalculationsAndCharts!$A552+$A$11,0,1,1)","v":0},{"$f":"OFFSET(InputPriceData!E$10,CalculationsAndCharts!$A552+$A$11,0,1,1)","v":0},{"$f":"OFFSET(InputPriceData!F$10,CalculationsAndCharts!$A552+$A$11,0,1,1)","v":0},{"$f":"IF(AND(A552<=$B$20,$S$14),$T$14,0)","v":0},{"$f":"IF(AND(A552<=$B$20,$S$15),$T$15,0)","v":0},{"$f":"IF(AND(A552<=$B$20,$S$16),$T$16,0)","v":0},{"$f":"IF(AND(A552<=$B$20,$S$17),$T$17,0)","v":0},{"$f":"IF(AND(A552<=$B$20,$S$18),$T$18,0)","v":0},0,0,0,0,0,0,0,0,0,0,0,0,0]
[522,{"$f":"OFFSET(InputPriceData!B$10,CalculationsAndCharts!$A553+$A$11,0,1,1)","v":"00:00:00"},{"$f":"OFFSET(InputPriceData!G$10,CalculationsAndCharts!$A553+$A$11,0,1,1)","v":0},{"$f":"OFFSET(InputPriceData!C$10,CalculationsAndCharts!$A553+$A$11,0,1,1)","v":0},{"$f":"OFFSET(InputPriceData!D$10,CalculationsAndCharts!$A553+$A$11,0,1,1)","v":0},{"$f":"OFFSET(InputPriceData!E$10,CalculationsAndCharts!$A553+$A$11,0,1,1)","v":0},{"$f":"OFFSET(InputPriceData!F$10,CalculationsAndCharts!$A553+$A$11,0,1,1)","v":0},{"$f":"IF(AND(A553<=$B$20,$S$14),$T$14,0)","v":0},{"$f":"IF(AND(A553<=$B$20,$S$15),$T$15,0)","v":0},{"$f":"IF(AND(A553<=$B$20,$S$16),$T$16,0)","v":0},{"$f":"IF(AND(A553<=$B$20,$S$17),$T$17,0)","v":0},{"$f":"IF(AND(A553<=$B$20,$S$18),$T$18,0)","v":0},0,0,0,0,0,0,0,0,0,0,0,0,0]
[523,{"$f":"OFFSET(InputPriceData!B$10,CalculationsAndCharts!$A554+$A$11,0,1,1)","v":"00:00:00"},{"$f":"OFFSET(InputPriceData!G$10,CalculationsAndCharts!$A554+$A$11,0,1,1)","v":0},{"$f":"OFFSET(InputPriceData!C$10,CalculationsAndCharts!$A554+$A$11,0,1,1)","v":0},{"$f":"OFFSET(InputPriceData!D$10,CalculationsAndCharts!$A554+$A$11,0,1,1)","v":0},{"$f":"OFFSET(InputPriceData!E$10,CalculationsAndCharts!$A554+$A$11,0,1,1)","v":0},{"$f":"OFFSET(InputPriceData!F$10,CalculationsAndCharts!$A554+$A$11,0,1,1)","v":0},{"$f":"IF(AND(A554<=$B$20,$S$14),$T$14,0)","v":0},{"$f":"IF(AND(A554<=$B$20,$S$15),$T$15,0)","v":0},{"$f":"IF(AND(A554<=$B$20,$S$16),$T$16,0)","v":0},{"$f":"IF(AND(A554<=$B$20,$S$17),$T$17,0)","v":0},{"$f":"IF(AND(A554<=$B$20,$S$18),$T$18,0)","v":0},0,0,0,0,0,0,0,0,0,0,0,0,0]
[524,{"$f":"OFFSET(InputPriceData!B$10,CalculationsAndCharts!$A555+$A$11,0,1,1)","v":"00:00:00"},{"$f":"OFFSET(InputPriceData!G$10,CalculationsAndCharts!$A555+$A$11,0,1,1)","v":0},{"$f":"OFFSET(InputPriceData!C$10,CalculationsAndCharts!$A555+$A$11,0,1,1)","v":0},{"$f":"OFFSET(InputPriceData!D$10,CalculationsAndCharts!$A555+$A$11,0,1,1)","v":0},{"$f":"OFFSET(InputPriceData!E$10,CalculationsAndCharts!$A555+$A$11,0,1,1)","v":0},{"$f":"OFFSET(InputPriceData!F$10,CalculationsAndCharts!$A555+$A$11,0,1,1)","v":0},{"$f":"IF(AND(A555<=$B$20,$S$14),$T$14,0)","v":0},{"$f":"IF(AND(A555<=$B$20,$S$15),$T$15,0)","v":0},{"$f":"IF(AND(A555<=$B$20,$S$16),$T$16,0)","v":0},{"$f":"IF(AND(A555<=$B$20,$S$17),$T$17,0)","v":0},{"$f":"IF(AND(A555<=$B$20,$S$18),$T$18,0)","v":0},0,0,0,0,0,0,0,0,0,0,0,0,0]
[525,{"$f":"OFFSET(InputPriceData!B$10,CalculationsAndCharts!$A556+$A$11,0,1,1)","v":"00:00:00"},{"$f":"OFFSET(InputPriceData!G$10,CalculationsAndCharts!$A556+$A$11,0,1,1)","v":0},{"$f":"OFFSET(InputPriceData!C$10,CalculationsAndCharts!$A556+$A$11,0,1,1)","v":0},{"$f":"OFFSET(InputPriceData!D$10,CalculationsAndCharts!$A556+$A$11,0,1,1)","v":0},{"$f":"OFFSET(InputPriceData!E$10,CalculationsAndCharts!$A556+$A$11,0,1,1)","v":0},{"$f":"OFFSET(InputPriceData!F$10,CalculationsAndCharts!$A556+$A$11,0,1,1)","v":0},{"$f":"IF(AND(A556<=$B$20,$S$14),$T$14,0)","v":0},{"$f":"IF(AND(A556<=$B$20,$S$15),$T$15,0)","v":0},{"$f":"IF(AND(A556<=$B$20,$S$16),$T$16,0)","v":0},{"$f":"IF(AND(A556<=$B$20,$S$17),$T$17,0)","v":0},{"$f":"IF(AND(A556<=$B$20,$S$18),$T$18,0)","v":0},0,0,0,0,0,0,0,0,0,0,0,0,0]
[526,{"$f":"OFFSET(InputPriceData!B$10,CalculationsAndCharts!$A557+$A$11,0,1,1)","v":"00:00:00"},{"$f":"OFFSET(InputPriceData!G$10,CalculationsAndCharts!$A557+$A$11,0,1,1)","v":0},{"$f":"OFFSET(InputPriceData!C$10,CalculationsAndCharts!$A557+$A$11,0,1,1)","v":0},{"$f":"OFFSET(InputPriceData!D$10,CalculationsAndCharts!$A557+$A$11,0,1,1)","v":0},{"$f":"OFFSET(InputPriceData!E$10,CalculationsAndCharts!$A557+$A$11,0,1,1)","v":0},{"$f":"OFFSET(InputPriceData!F$10,CalculationsAndCharts!$A557+$A$11,0,1,1)","v":0},{"$f":"IF(AND(A557<=$B$20,$S$14),$T$14,0)","v":0},{"$f":"IF(AND(A557<=$B$20,$S$15),$T$15,0)","v":0},{"$f":"IF(AND(A557<=$B$20,$S$16),$T$16,0)","v":0},{"$f":"IF(AND(A557<=$B$20,$S$17),$T$17,0)","v":0},{"$f":"IF(AND(A557<=$B$20,$S$18),$T$18,0)","v":0},0,0,0,0,0,0,0,0,0,0,0,0,0]
[527,{"$f":"OFFSET(InputPriceData!B$10,CalculationsAndCharts!$A558+$A$11,0,1,1)","v":"00:00:00"},{"$f":"OFFSET(InputPriceData!G$10,CalculationsAndCharts!$A558+$A$11,0,1,1)","v":0},{"$f":"OFFSET(InputPriceData!C$10,CalculationsAndCharts!$A558+$A$11,0,1,1)","v":0},{"$f":"OFFSET(InputPriceData!D$10,CalculationsAndCharts!$A558+$A$11,0,1,1)","v":0},{"$f":"OFFSET(InputPriceData!E$10,CalculationsAndCharts!$A558+$A$11,0,1,1)","v":0},{"$f":"OFFSET(InputPriceData!F$10,CalculationsAndCharts!$A558+$A$11,0,1,1)","v":0},{"$f":"IF(AND(A558<=$B$20,$S$14),$T$14,0)","v":0},{"$f":"IF(AND(A558<=$B$20,$S$15),$T$15,0)","v":0},{"$f":"IF(AND(A558<=$B$20,$S$16),$T$16,0)","v":0},{"$f":"IF(AND(A558<=$B$20,$S$17),$T$17,0)","v":0},{"$f":"IF(AND(A558<=$B$20,$S$18),$T$18,0)","v":0},0,0,0,0,0,0,0,0,0,0,0,0,0]
[528,{"$f":"OFFSET(InputPriceData!B$10,CalculationsAndCharts!$A559+$A$11,0,1,1)","v":"00:00:00"},{"$f":"OFFSET(InputPriceData!G$10,CalculationsAndCharts!$A559+$A$11,0,1,1)","v":0},{"$f":"OFFSET(InputPriceData!C$10,CalculationsAndCharts!$A559+$A$11,0,1,1)","v":0},{"$f":"OFFSET(InputPriceData!D$10,CalculationsAndCharts!$A559+$A$11,0,1,1)","v":0},{"$f":"OFFSET(InputPriceData!E$10,CalculationsAndCharts!$A559+$A$11,0,1,1)","v":0},{"$f":"OFFSET(InputPriceData!F$10,CalculationsAndCharts!$A559+$A$11,0,1,1)","v":0},{"$f":"IF(AND(A559<=$B$20,$S$14),$T$14,0)","v":0},{"$f":"IF(AND(A559<=$B$20,$S$15),$T$15,0)","v":0},{"$f":"IF(AND(A559<=$B$20,$S$16),$T$16,0)","v":0},{"$f":"IF(AND(A559<=$B$20,$S$17),$T$17,0)","v":0},{"$f":"IF(AND(A559<=$B$20,$S$18),$T$18,0)","v":0},0,0,0,0,0,0,0,0,0,0,0,0,0]
[529,{"$f":"OFFSET(InputPriceData!B$10,CalculationsAndCharts!$A560+$A$11,0,1,1)","v":"00:00:00"},{"$f":"OFFSET(InputPriceData!G$10,CalculationsAndCharts!$A560+$A$11,0,1,1)","v":0},{"$f":"OFFSET(InputPriceData!C$10,CalculationsAndCharts!$A560+$A$11,0,1,1)","v":0},{"$f":"OFFSET(InputPriceData!D$10,CalculationsAndCharts!$A560+$A$11,0,1,1)","v":0},{"$f":"OFFSET(InputPriceData!E$10,CalculationsAndCharts!$A560+$A$11,0,1,1)","v":0},{"$f":"OFFSET(InputPriceData!F$10,CalculationsAndCharts!$A560+$A$11,0,1,1)","v":0},{"$f":"IF(AND(A560<=$B$20,$S$14),$T$14,0)","v":0},{"$f":"IF(AND(A560<=$B$20,$S$15),$T$15,0)","v":0},{"$f":"IF(AND(A560<=$B$20,$S$16),$T$16,0)","v":0},{"$f":"IF(AND(A560<=$B$20,$S$17),$T$17,0)","v":0},{"$f":"IF(AND(A560<=$B$20,$S$18),$T$18,0)","v":0},0,0,0,0,0,0,0,0,0,0,0,0,0]
[530,{"$f":"OFFSET(InputPriceData!B$10,CalculationsAndCharts!$A561+$A$11,0,1,1)","v":"00:00:00"},{"$f":"OFFSET(InputPriceData!G$10,CalculationsAndCharts!$A561+$A$11,0,1,1)","v":0},{"$f":"OFFSET(InputPriceData!C$10,CalculationsAndCharts!$A561+$A$11,0,1,1)","v":0},{"$f":"OFFSET(InputPriceData!D$10,CalculationsAndCharts!$A561+$A$11,0,1,1)","v":0},{"$f":"OFFSET(InputPriceData!E$10,CalculationsAndCharts!$A561+$A$11,0,1,1)","v":0},{"$f":"OFFSET(InputPriceData!F$10,CalculationsAndCharts!$A561+$A$11,0,1,1)","v":0},{"$f":"IF(AND(A561<=$B$20,$S$14),$T$14,0)","v":0},{"$f":"IF(AND(A561<=$B$20,$S$15),$T$15,0)","v":0},{"$f":"IF(AND(A561<=$B$20,$S$16),$T$16,0)","v":0},{"$f":"IF(AND(A561<=$B$20,$S$17),$T$17,0)","v":0},{"$f":"IF(AND(A561<=$B$20,$S$18),$T$18,0)","v":0},0,0,0,0,0,0,0,0,0,0,0,0,0]
[531,{"$f":"OFFSET(InputPriceData!B$10,CalculationsAndCharts!$A562+$A$11,0,1,1)","v":"00:00:00"},{"$f":"OFFSET(InputPriceData!G$10,CalculationsAndCharts!$A562+$A$11,0,1,1)","v":0},{"$f":"OFFSET(InputPriceData!C$10,CalculationsAndCharts!$A562+$A$11,0,1,1)","v":0},{"$f":"OFFSET(InputPriceData!D$10,CalculationsAndCharts!$A562+$A$11,0,1,1)","v":0},{"$f":"OFFSET(InputPriceData!E$10,CalculationsAndCharts!$A562+$A$11,0,1,1)","v":0},{"$f":"OFFSET(InputPriceData!F$10,CalculationsAndCharts!$A562+$A$11,0,1,1)","v":0},{"$f":"IF(AND(A562<=$B$20,$S$14),$T$14,0)","v":0},{"$f":"IF(AND(A562<=$B$20,$S$15),$T$15,0)","v":0},{"$f":"IF(AND(A562<=$B$20,$S$16),$T$16,0)","v":0},{"$f":"IF(AND(A562<=$B$20,$S$17),$T$17,0)","v":0},{"$f":"IF(AND(A562<=$B$20,$S$18),$T$18,0)","v":0},0,0,0,0,0,0,0,0,0,0,0,0,0]
[532,{"$f":"OFFSET(InputPriceData!B$10,CalculationsAndCharts!$A563+$A$11,0,1,1)","v":"00:00:00"},{"$f":"OFFSET(InputPriceData!G$10,CalculationsAndCharts!$A563+$A$11,0,1,1)","v":0},{"$f":"OFFSET(InputPriceData!C$10,CalculationsAndCharts!$A563+$A$11,0,1,1)","v":0},{"$f":"OFFSET(InputPriceData!D$10,CalculationsAndCharts!$A563+$A$11,0,1,1)","v":0},{"$f":"OFFSET(InputPriceData!E$10,CalculationsAndCharts!$A563+$A$11,0,1,1)","v":0},{"$f":"OFFSET(InputPriceData!F$10,CalculationsAndCharts!$A563+$A$11,0,1,1)","v":0},{"$f":"IF(AND(A563<=$B$20,$S$14),$T$14,0)","v":0},{"$f":"IF(AND(A563<=$B$20,$S$15),$T$15,0)","v":0},{"$f":"IF(AND(A563<=$B$20,$S$16),$T$16,0)","v":0},{"$f":"IF(AND(A563<=$B$20,$S$17),$T$17,0)","v":0},{"$f":"IF(AND(A563<=$B$20,$S$18),$T$18,0)","v":0},0,0,0,0,0,0,0,0,0,0,0,0,0]
[533,{"$f":"OFFSET(InputPriceData!B$10,CalculationsAndCharts!$A564+$A$11,0,1,1)","v":"00:00:00"},{"$f":"OFFSET(InputPriceData!G$10,CalculationsAndCharts!$A564+$A$11,0,1,1)","v":0},{"$f":"OFFSET(InputPriceData!C$10,CalculationsAndCharts!$A564+$A$11,0,1,1)","v":0},{"$f":"OFFSET(InputPriceData!D$10,CalculationsAndCharts!$A564+$A$11,0,1,1)","v":0},{"$f":"OFFSET(InputPriceData!E$10,CalculationsAndCharts!$A564+$A$11,0,1,1)","v":0},{"$f":"OFFSET(InputPriceData!F$10,CalculationsAndCharts!$A564+$A$11,0,1,1)","v":0},{"$f":"IF(AND(A564<=$B$20,$S$14),$T$14,0)","v":0},{"$f":"IF(AND(A564<=$B$20,$S$15),$T$15,0)","v":0},{"$f":"IF(AND(A564<=$B$20,$S$16),$T$16,0)","v":0},{"$f":"IF(AND(A564<=$B$20,$S$17),$T$17,0)","v":0},{"$f":"IF(AND(A564<=$B$20,$S$18),$T$18,0)","v":0},0,0,0,0,0,0,0,0,0,0,0,0,0]
[534,{"$f":"OFFSET(InputPriceData!B$10,CalculationsAndCharts!$A565+$A$11,0,1,1)","v":"00:00:00"},{"$f":"OFFSET(InputPriceData!G$10,CalculationsAndCharts!$A565+$A$11,0,1,1)","v":0},{"$f":"OFFSET(InputPriceData!C$10,CalculationsAndCharts!$A565+$A$11,0,1,1)","v":0},{"$f":"OFFSET(InputPriceData!D$10,CalculationsAndCharts!$A565+$A$11,0,1,1)","v":0},{"$f":"OFFSET(InputPriceData!E$10,CalculationsAndCharts!$A565+$A$11,0,1,1)","v":0},{"$f":"OFFSET(InputPriceData!F$10,CalculationsAndCharts!$A565+$A$11,0,1,1)","v":0},{"$f":"IF(AND(A565<=$B$20,$S$14),$T$14,0)","v":0},{"$f":"IF(AND(A565<=$B$20,$S$15),$T$15,0)","v":0},{"$f":"IF(AND(A565<=$B$20,$S$16),$T$16,0)","v":0},{"$f":"IF(AND(A565<=$B$20,$S$17),$T$17,0)","v":0},{"$f":"IF(AND(A565<=$B$20,$S$18),$T$18,0)","v":0},0,0,0,0,0,0,0,0,0,0,0,0,0]
[535,{"$f":"OFFSET(InputPriceData!B$10,CalculationsAndCharts!$A566+$A$11,0,1,1)","v":"00:00:00"},{"$f":"OFFSET(InputPriceData!G$10,CalculationsAndCharts!$A566+$A$11,0,1,1)","v":0},{"$f":"OFFSET(InputPriceData!C$10,CalculationsAndCharts!$A566+$A$11,0,1,1)","v":0},{"$f":"OFFSET(InputPriceData!D$10,CalculationsAndCharts!$A566+$A$11,0,1,1)","v":0},{"$f":"OFFSET(InputPriceData!E$10,CalculationsAndCharts!$A566+$A$11,0,1,1)","v":0},{"$f":"OFFSET(InputPriceData!F$10,CalculationsAndCharts!$A566+$A$11,0,1,1)","v":0},{"$f":"IF(AND(A566<=$B$20,$S$14),$T$14,0)","v":0},{"$f":"IF(AND(A566<=$B$20,$S$15),$T$15,0)","v":0},{"$f":"IF(AND(A566<=$B$20,$S$16),$T$16,0)","v":0},{"$f":"IF(AND(A566<=$B$20,$S$17),$T$17,0)","v":0},{"$f":"IF(AND(A566<=$B$20,$S$18),$T$18,0)","v":0},0,0,0,0,0,0,0,0,0,0,0,0,0]
[536,{"$f":"OFFSET(InputPriceData!B$10,CalculationsAndCharts!$A567+$A$11,0,1,1)","v":"00:00:00"},{"$f":"OFFSET(InputPriceData!G$10,CalculationsAndCharts!$A567+$A$11,0,1,1)","v":0},{"$f":"OFFSET(InputPriceData!C$10,CalculationsAndCharts!$A567+$A$11,0,1,1)","v":0},{"$f":"OFFSET(InputPriceData!D$10,CalculationsAndCharts!$A567+$A$11,0,1,1)","v":0},{"$f":"OFFSET(InputPriceData!E$10,CalculationsAndCharts!$A567+$A$11,0,1,1)","v":0},{"$f":"OFFSET(InputPriceData!F$10,CalculationsAndCharts!$A567+$A$11,0,1,1)","v":0},{"$f":"IF(AND(A567<=$B$20,$S$14),$T$14,0)","v":0},{"$f":"IF(AND(A567<=$B$20,$S$15),$T$15,0)","v":0},{"$f":"IF(AND(A567<=$B$20,$S$16),$T$16,0)","v":0},{"$f":"IF(AND(A567<=$B$20,$S$17),$T$17,0)","v":0},{"$f":"IF(AND(A567<=$B$20,$S$18),$T$18,0)","v":0},0,0,0,0,0,0,0,0,0,0,0,0,0]
[537,{"$f":"OFFSET(InputPriceData!B$10,CalculationsAndCharts!$A568+$A$11,0,1,1)","v":"00:00:00"},{"$f":"OFFSET(InputPriceData!G$10,CalculationsAndCharts!$A568+$A$11,0,1,1)","v":0},{"$f":"OFFSET(InputPriceData!C$10,CalculationsAndCharts!$A568+$A$11,0,1,1)","v":0},{"$f":"OFFSET(InputPriceData!D$10,CalculationsAndCharts!$A568+$A$11,0,1,1)","v":0},{"$f":"OFFSET(InputPriceData!E$10,CalculationsAndCharts!$A568+$A$11,0,1,1)","v":0},{"$f":"OFFSET(InputPriceData!F$10,CalculationsAndCharts!$A568+$A$11,0,1,1)","v":0},{"$f":"IF(AND(A568<=$B$20,$S$14),$T$14,0)","v":0},{"$f":"IF(AND(A568<=$B$20,$S$15),$T$15,0)","v":0},{"$f":"IF(AND(A568<=$B$20,$S$16),$T$16,0)","v":0},{"$f":"IF(AND(A568<=$B$20,$S$17),$T$17,0)","v":0},{"$f":"IF(AND(A568<=$B$20,$S$18),$T$18,0)","v":0},0,0,0,0,0,0,0,0,0,0,0,0,0]
[538,{"$f":"OFFSET(InputPriceData!B$10,CalculationsAndCharts!$A569+$A$11,0,1,1)","v":"00:00:00"},{"$f":"OFFSET(InputPriceData!G$10,CalculationsAndCharts!$A569+$A$11,0,1,1)","v":0},{"$f":"OFFSET(InputPriceData!C$10,CalculationsAndCharts!$A569+$A$11,0,1,1)","v":0},{"$f":"OFFSET(InputPriceData!D$10,CalculationsAndCharts!$A569+$A$11,0,1,1)","v":0},{"$f":"OFFSET(InputPriceData!E$10,CalculationsAndCharts!$A569+$A$11,0,1,1)","v":0},{"$f":"OFFSET(InputPriceData!F$10,CalculationsAndCharts!$A569+$A$11,0,1,1)","v":0},{"$f":"IF(AND(A569<=$B$20,$S$14),$T$14,0)","v":0},{"$f":"IF(AND(A569<=$B$20,$S$15),$T$15,0)","v":0},{"$f":"IF(AND(A569<=$B$20,$S$16),$T$16,0)","v":0},{"$f":"IF(AND(A569<=$B$20,$S$17),$T$17,0)","v":0},{"$f":"IF(AND(A569<=$B$20,$S$18),$T$18,0)","v":0},0,0,0,0,0,0,0,0,0,0,0,0,0]
[539,{"$f":"OFFSET(InputPriceData!B$10,CalculationsAndCharts!$A570+$A$11,0,1,1)","v":"00:00:00"},{"$f":"OFFSET(InputPriceData!G$10,CalculationsAndCharts!$A570+$A$11,0,1,1)","v":0},{"$f":"OFFSET(InputPriceData!C$10,CalculationsAndCharts!$A570+$A$11,0,1,1)","v":0},{"$f":"OFFSET(InputPriceData!D$10,CalculationsAndCharts!$A570+$A$11,0,1,1)","v":0},{"$f":"OFFSET(InputPriceData!E$10,CalculationsAndCharts!$A570+$A$11,0,1,1)","v":0},{"$f":"OFFSET(InputPriceData!F$10,CalculationsAndCharts!$A570+$A$11,0,1,1)","v":0},{"$f":"IF(AND(A570<=$B$20,$S$14),$T$14,0)","v":0},{"$f":"IF(AND(A570<=$B$20,$S$15),$T$15,0)","v":0},{"$f":"IF(AND(A570<=$B$20,$S$16),$T$16,0)","v":0},{"$f":"IF(AND(A570<=$B$20,$S$17),$T$17,0)","v":0},{"$f":"IF(AND(A570<=$B$20,$S$18),$T$18,0)","v":0},0,0,0,0,0,0,0,0,0,0,0,0,0]
[540,{"$f":"OFFSET(InputPriceData!B$10,CalculationsAndCharts!$A571+$A$11,0,1,1)","v":"00:00:00"},{"$f":"OFFSET(InputPriceData!G$10,CalculationsAndCharts!$A571+$A$11,0,1,1)","v":0},{"$f":"OFFSET(InputPriceData!C$10,CalculationsAndCharts!$A571+$A$11,0,1,1)","v":0},{"$f":"OFFSET(InputPriceData!D$10,CalculationsAndCharts!$A571+$A$11,0,1,1)","v":0},{"$f":"OFFSET(InputPriceData!E$10,CalculationsAndCharts!$A571+$A$11,0,1,1)","v":0},{"$f":"OFFSET(InputPriceData!F$10,CalculationsAndCharts!$A571+$A$11,0,1,1)","v":0},{"$f":"IF(AND(A571<=$B$20,$S$14),$T$14,0)","v":0},{"$f":"IF(AND(A571<=$B$20,$S$15),$T$15,0)","v":0},{"$f":"IF(AND(A571<=$B$20,$S$16),$T$16,0)","v":0},{"$f":"IF(AND(A571<=$B$20,$S$17),$T$17,0)","v":0},{"$f":"IF(AND(A571<=$B$20,$S$18),$T$18,0)","v":0},0,0,0,0,0,0,0,0,0,0,0,0,0]
[541,{"$f":"OFFSET(InputPriceData!B$10,CalculationsAndCharts!$A572+$A$11,0,1,1)","v":"00:00:00"},{"$f":"OFFSET(InputPriceData!G$10,CalculationsAndCharts!$A572+$A$11,0,1,1)","v":0},{"$f":"OFFSET(InputPriceData!C$10,CalculationsAndCharts!$A572+$A$11,0,1,1)","v":0},{"$f":"OFFSET(InputPriceData!D$10,CalculationsAndCharts!$A572+$A$11,0,1,1)","v":0},{"$f":"OFFSET(InputPriceData!E$10,CalculationsAndCharts!$A572+$A$11,0,1,1)","v":0},{"$f":"OFFSET(InputPriceData!F$10,CalculationsAndCharts!$A572+$A$11,0,1,1)","v":0},{"$f":"IF(AND(A572<=$B$20,$S$14),$T$14,0)","v":0},{"$f":"IF(AND(A572<=$B$20,$S$15),$T$15,0)","v":0},{"$f":"IF(AND(A572<=$B$20,$S$16),$T$16,0)","v":0},{"$f":"IF(AND(A572<=$B$20,$S$17),$T$17,0)","v":0},{"$f":"IF(AND(A572<=$B$20,$S$18),$T$18,0)","v":0},0,0,0,0,0,0,0,0,0,0,0,0,0]
[542,{"$f":"OFFSET(InputPriceData!B$10,CalculationsAndCharts!$A573+$A$11,0,1,1)","v":"00:00:00"},{"$f":"OFFSET(InputPriceData!G$10,CalculationsAndCharts!$A573+$A$11,0,1,1)","v":0},{"$f":"OFFSET(InputPriceData!C$10,CalculationsAndCharts!$A573+$A$11,0,1,1)","v":0},{"$f":"OFFSET(InputPriceData!D$10,CalculationsAndCharts!$A573+$A$11,0,1,1)","v":0},{"$f":"OFFSET(InputPriceData!E$10,CalculationsAndCharts!$A573+$A$11,0,1,1)","v":0},{"$f":"OFFSET(InputPriceData!F$10,CalculationsAndCharts!$A573+$A$11,0,1,1)","v":0},{"$f":"IF(AND(A573<=$B$20,$S$14),$T$14,0)","v":0},{"$f":"IF(AND(A573<=$B$20,$S$15),$T$15,0)","v":0},{"$f":"IF(AND(A573<=$B$20,$S$16),$T$16,0)","v":0},{"$f":"IF(AND(A573<=$B$20,$S$17),$T$17,0)","v":0},{"$f":"IF(AND(A573<=$B$20,$S$18),$T$18,0)","v":0},0,0,0,0,0,0,0,0,0,0,0,0,0]
[543,{"$f":"OFFSET(InputPriceData!B$10,CalculationsAndCharts!$A574+$A$11,0,1,1)","v":"00:00:00"},{"$f":"OFFSET(InputPriceData!G$10,CalculationsAndCharts!$A574+$A$11,0,1,1)","v":0},{"$f":"OFFSET(InputPriceData!C$10,CalculationsAndCharts!$A574+$A$11,0,1,1)","v":0},{"$f":"OFFSET(InputPriceData!D$10,CalculationsAndCharts!$A574+$A$11,0,1,1)","v":0},{"$f":"OFFSET(InputPriceData!E$10,CalculationsAndCharts!$A574+$A$11,0,1,1)","v":0},{"$f":"OFFSET(InputPriceData!F$10,CalculationsAndCharts!$A574+$A$11,0,1,1)","v":0},{"$f":"IF(AND(A574<=$B$20,$S$14),$T$14,0)","v":0},{"$f":"IF(AND(A574<=$B$20,$S$15),$T$15,0)","v":0},{"$f":"IF(AND(A574<=$B$20,$S$16),$T$16,0)","v":0},{"$f":"IF(AND(A574<=$B$20,$S$17),$T$17,0)","v":0},{"$f":"IF(AND(A574<=$B$20,$S$18),$T$18,0)","v":0},0,0,0,0,0,0,0,0,0,0,0,0,0]
[544,{"$f":"OFFSET(InputPriceData!B$10,CalculationsAndCharts!$A575+$A$11,0,1,1)","v":"00:00:00"},{"$f":"OFFSET(InputPriceData!G$10,CalculationsAndCharts!$A575+$A$11,0,1,1)","v":0},{"$f":"OFFSET(InputPriceData!C$10,CalculationsAndCharts!$A575+$A$11,0,1,1)","v":0},{"$f":"OFFSET(InputPriceData!D$10,CalculationsAndCharts!$A575+$A$11,0,1,1)","v":0},{"$f":"OFFSET(InputPriceData!E$10,CalculationsAndCharts!$A575+$A$11,0,1,1)","v":0},{"$f":"OFFSET(InputPriceData!F$10,CalculationsAndCharts!$A575+$A$11,0,1,1)","v":0},{"$f":"IF(AND(A575<=$B$20,$S$14),$T$14,0)","v":0},{"$f":"IF(AND(A575<=$B$20,$S$15),$T$15,0)","v":0},{"$f":"IF(AND(A575<=$B$20,$S$16),$T$16,0)","v":0},{"$f":"IF(AND(A575<=$B$20,$S$17),$T$17,0)","v":0},{"$f":"IF(AND(A575<=$B$20,$S$18),$T$18,0)","v":0},0,0,0,0,0,0,0,0,0,0,0,0,0]
[545,{"$f":"OFFSET(InputPriceData!B$10,CalculationsAndCharts!$A576+$A$11,0,1,1)","v":"00:00:00"},{"$f":"OFFSET(InputPriceData!G$10,CalculationsAndCharts!$A576+$A$11,0,1,1)","v":0},{"$f":"OFFSET(InputPriceData!C$10,CalculationsAndCharts!$A576+$A$11,0,1,1)","v":0},{"$f":"OFFSET(InputPriceData!D$10,CalculationsAndCharts!$A576+$A$11,0,1,1)","v":0},{"$f":"OFFSET(InputPriceData!E$10,CalculationsAndCharts!$A576+$A$11,0,1,1)","v":0},{"$f":"OFFSET(InputPriceData!F$10,CalculationsAndCharts!$A576+$A$11,0,1,1)","v":0},{"$f":"IF(AND(A576<=$B$20,$S$14),$T$14,0)","v":0},{"$f":"IF(AND(A576<=$B$20,$S$15),$T$15,0)","v":0},{"$f":"IF(AND(A576<=$B$20,$S$16),$T$16,0)","v":0},{"$f":"IF(AND(A576<=$B$20,$S$17),$T$17,0)","v":0},{"$f":"IF(AND(A576<=$B$20,$S$18),$T$18,0)","v":0},0,0,0,0,0,0,0,0,0,0,0,0,0]
[546,{"$f":"OFFSET(InputPriceData!B$10,CalculationsAndCharts!$A577+$A$11,0,1,1)","v":"00:00:00"},{"$f":"OFFSET(InputPriceData!G$10,CalculationsAndCharts!$A577+$A$11,0,1,1)","v":0},{"$f":"OFFSET(InputPriceData!C$10,CalculationsAndCharts!$A577+$A$11,0,1,1)","v":0},{"$f":"OFFSET(InputPriceData!D$10,CalculationsAndCharts!$A577+$A$11,0,1,1)","v":0},{"$f":"OFFSET(InputPriceData!E$10,CalculationsAndCharts!$A577+$A$11,0,1,1)","v":0},{"$f":"OFFSET(InputPriceData!F$10,CalculationsAndCharts!$A577+$A$11,0,1,1)","v":0},{"$f":"IF(AND(A577<=$B$20,$S$14),$T$14,0)","v":0},{"$f":"IF(AND(A577<=$B$20,$S$15),$T$15,0)","v":0},{"$f":"IF(AND(A577<=$B$20,$S$16),$T$16,0)","v":0},{"$f":"IF(AND(A577<=$B$20,$S$17),$T$17,0)","v":0},{"$f":"IF(AND(A577<=$B$20,$S$18),$T$18,0)","v":0},0,0,0,0,0,0,0,0,0,0,0,0,0]
[547,{"$f":"OFFSET(InputPriceData!B$10,CalculationsAndCharts!$A578+$A$11,0,1,1)","v":"00:00:00"},{"$f":"OFFSET(InputPriceData!G$10,CalculationsAndCharts!$A578+$A$11,0,1,1)","v":0},{"$f":"OFFSET(InputPriceData!C$10,CalculationsAndCharts!$A578+$A$11,0,1,1)","v":0},{"$f":"OFFSET(InputPriceData!D$10,CalculationsAndCharts!$A578+$A$11,0,1,1)","v":0},{"$f":"OFFSET(InputPriceData!E$10,CalculationsAndCharts!$A578+$A$11,0,1,1)","v":0},{"$f":"OFFSET(InputPriceData!F$10,CalculationsAndCharts!$A578+$A$11,0,1,1)","v":0},{"$f":"IF(AND(A578<=$B$20,$S$14),$T$14,0)","v":0},{"$f":"IF(AND(A578<=$B$20,$S$15),$T$15,0)","v":0},{"$f":"IF(AND(A578<=$B$20,$S$16),$T$16,0)","v":0},{"$f":"IF(AND(A578<=$B$20,$S$17),$T$17,0)","v":0},{"$f":"IF(AND(A578<=$B$20,$S$18),$T$18,0)","v":0},0,0,0,0,0,0,0,0,0,0,0,0,0]
[548,{"$f":"OFFSET(InputPriceData!B$10,CalculationsAndCharts!$A579+$A$11,0,1,1)","v":"00:00:00"},{"$f":"OFFSET(InputPriceData!G$10,CalculationsAndCharts!$A579+$A$11,0,1,1)","v":0},{"$f":"OFFSET(InputPriceData!C$10,CalculationsAndCharts!$A579+$A$11,0,1,1)","v":0},{"$f":"OFFSET(InputPriceData!D$10,CalculationsAndCharts!$A579+$A$11,0,1,1)","v":0},{"$f":"OFFSET(InputPriceData!E$10,CalculationsAndCharts!$A579+$A$11,0,1,1)","v":0},{"$f":"OFFSET(InputPriceData!F$10,CalculationsAndCharts!$A579+$A$11,0,1,1)","v":0},{"$f":"IF(AND(A579<=$B$20,$S$14),$T$14,0)","v":0},{"$f":"IF(AND(A579<=$B$20,$S$15),$T$15,0)","v":0},{"$f":"IF(AND(A579<=$B$20,$S$16),$T$16,0)","v":0},{"$f":"IF(AND(A579<=$B$20,$S$17),$T$17,0)","v":0},{"$f":"IF(AND(A579<=$B$20,$S$18),$T$18,0)","v":0},0,0,0,0,0,0,0,0,0,0,0,0,0]
[549,{"$f":"OFFSET(InputPriceData!B$10,CalculationsAndCharts!$A580+$A$11,0,1,1)","v":"00:00:00"},{"$f":"OFFSET(InputPriceData!G$10,CalculationsAndCharts!$A580+$A$11,0,1,1)","v":0},{"$f":"OFFSET(InputPriceData!C$10,CalculationsAndCharts!$A580+$A$11,0,1,1)","v":0},{"$f":"OFFSET(InputPriceData!D$10,CalculationsAndCharts!$A580+$A$11,0,1,1)","v":0},{"$f":"OFFSET(InputPriceData!E$10,CalculationsAndCharts!$A580+$A$11,0,1,1)","v":0},{"$f":"OFFSET(InputPriceData!F$10,CalculationsAndCharts!$A580+$A$11,0,1,1)","v":0},{"$f":"IF(AND(A580<=$B$20,$S$14),$T$14,0)","v":0},{"$f":"IF(AND(A580<=$B$20,$S$15),$T$15,0)","v":0},{"$f":"IF(AND(A580<=$B$20,$S$16),$T$16,0)","v":0},{"$f":"IF(AND(A580<=$B$20,$S$17),$T$17,0)","v":0},{"$f":"IF(AND(A580<=$B$20,$S$18),$T$18,0)","v":0},0,0,0,0,0,0,0,0,0,0,0,0,0]
[550,{"$f":"OFFSET(InputPriceData!B$10,CalculationsAndCharts!$A581+$A$11,0,1,1)","v":"00:00:00"},{"$f":"OFFSET(InputPriceData!G$10,CalculationsAndCharts!$A581+$A$11,0,1,1)","v":0},{"$f":"OFFSET(InputPriceData!C$10,CalculationsAndCharts!$A581+$A$11,0,1,1)","v":0},{"$f":"OFFSET(InputPriceData!D$10,CalculationsAndCharts!$A581+$A$11,0,1,1)","v":0},{"$f":"OFFSET(InputPriceData!E$10,CalculationsAndCharts!$A581+$A$11,0,1,1)","v":0},{"$f":"OFFSET(InputPriceData!F$10,CalculationsAndCharts!$A581+$A$11,0,1,1)","v":0},{"$f":"IF(AND(A581<=$B$20,$S$14),$T$14,0)","v":0},{"$f":"IF(AND(A581<=$B$20,$S$15),$T$15,0)","v":0},{"$f":"IF(AND(A581<=$B$20,$S$16),$T$16,0)","v":0},{"$f":"IF(AND(A581<=$B$20,$S$17),$T$17,0)","v":0},{"$f":"IF(AND(A581<=$B$20,$S$18),$T$18,0)","v":0},0,0,0,0,0,0,0,0,0,0,0,0,0]
[551,{"$f":"OFFSET(InputPriceData!B$10,CalculationsAndCharts!$A582+$A$11,0,1,1)","v":"00:00:00"},{"$f":"OFFSET(InputPriceData!G$10,CalculationsAndCharts!$A582+$A$11,0,1,1)","v":0},{"$f":"OFFSET(InputPriceData!C$10,CalculationsAndCharts!$A582+$A$11,0,1,1)","v":0},{"$f":"OFFSET(InputPriceData!D$10,CalculationsAndCharts!$A582+$A$11,0,1,1)","v":0},{"$f":"OFFSET(InputPriceData!E$10,CalculationsAndCharts!$A582+$A$11,0,1,1)","v":0},{"$f":"OFFSET(InputPriceData!F$10,CalculationsAndCharts!$A582+$A$11,0,1,1)","v":0},{"$f":"IF(AND(A582<=$B$20,$S$14),$T$14,0)","v":0},{"$f":"IF(AND(A582<=$B$20,$S$15),$T$15,0)","v":0},{"$f":"IF(AND(A582<=$B$20,$S$16),$T$16,0)","v":0},{"$f":"IF(AND(A582<=$B$20,$S$17),$T$17,0)","v":0},{"$f":"IF(AND(A582<=$B$20,$S$18),$T$18,0)","v":0},0,0,0,0,0,0,0,0,0,0,0,0,0]
[552,{"$f":"OFFSET(InputPriceData!B$10,CalculationsAndCharts!$A583+$A$11,0,1,1)","v":"00:00:00"},{"$f":"OFFSET(InputPriceData!G$10,CalculationsAndCharts!$A583+$A$11,0,1,1)","v":0},{"$f":"OFFSET(InputPriceData!C$10,CalculationsAndCharts!$A583+$A$11,0,1,1)","v":0},{"$f":"OFFSET(InputPriceData!D$10,CalculationsAndCharts!$A583+$A$11,0,1,1)","v":0},{"$f":"OFFSET(InputPriceData!E$10,CalculationsAndCharts!$A583+$A$11,0,1,1)","v":0},{"$f":"OFFSET(InputPriceData!F$10,CalculationsAndCharts!$A583+$A$11,0,1,1)","v":0},{"$f":"IF(AND(A583<=$B$20,$S$14),$T$14,0)","v":0},{"$f":"IF(AND(A583<=$B$20,$S$15),$T$15,0)","v":0},{"$f":"IF(AND(A583<=$B$20,$S$16),$T$16,0)","v":0},{"$f":"IF(AND(A583<=$B$20,$S$17),$T$17,0)","v":0},{"$f":"IF(AND(A583<=$B$20,$S$18),$T$18,0)","v":0},0,0,0,0,0,0,0,0,0,0,0,0,0]
[553,{"$f":"OFFSET(InputPriceData!B$10,CalculationsAndCharts!$A584+$A$11,0,1,1)","v":"00:00:00"},{"$f":"OFFSET(InputPriceData!G$10,CalculationsAndCharts!$A584+$A$11,0,1,1)","v":0},{"$f":"OFFSET(InputPriceData!C$10,CalculationsAndCharts!$A584+$A$11,0,1,1)","v":0},{"$f":"OFFSET(InputPriceData!D$10,CalculationsAndCharts!$A584+$A$11,0,1,1)","v":0},{"$f":"OFFSET(InputPriceData!E$10,CalculationsAndCharts!$A584+$A$11,0,1,1)","v":0},{"$f":"OFFSET(InputPriceData!F$10,CalculationsAndCharts!$A584+$A$11,0,1,1)","v":0},{"$f":"IF(AND(A584<=$B$20,$S$14),$T$14,0)","v":0},{"$f":"IF(AND(A584<=$B$20,$S$15),$T$15,0)","v":0},{"$f":"IF(AND(A584<=$B$20,$S$16),$T$16,0)","v":0},{"$f":"IF(AND(A584<=$B$20,$S$17),$T$17,0)","v":0},{"$f":"IF(AND(A584<=$B$20,$S$18),$T$18,0)","v":0},0,0,0,0,0,0,0,0,0,0,0,0,0]
[554,{"$f":"OFFSET(InputPriceData!B$10,CalculationsAndCharts!$A585+$A$11,0,1,1)","v":"00:00:00"},{"$f":"OFFSET(InputPriceData!G$10,CalculationsAndCharts!$A585+$A$11,0,1,1)","v":0},{"$f":"OFFSET(InputPriceData!C$10,CalculationsAndCharts!$A585+$A$11,0,1,1)","v":0},{"$f":"OFFSET(InputPriceData!D$10,CalculationsAndCharts!$A585+$A$11,0,1,1)","v":0},{"$f":"OFFSET(InputPriceData!E$10,CalculationsAndCharts!$A585+$A$11,0,1,1)","v":0},{"$f":"OFFSET(InputPriceData!F$10,CalculationsAndCharts!$A585+$A$11,0,1,1)","v":0},{"$f":"IF(AND(A585<=$B$20,$S$14),$T$14,0)","v":0},{"$f":"IF(AND(A585<=$B$20,$S$15),$T$15,0)","v":0},{"$f":"IF(AND(A585<=$B$20,$S$16),$T$16,0)","v":0},{"$f":"IF(AND(A585<=$B$20,$S$17),$T$17,0)","v":0},{"$f":"IF(AND(A585<=$B$20,$S$18),$T$18,0)","v":0},0,0,0,0,0,0,0,0,0,0,0,0,0]
[555,{"$f":"OFFSET(InputPriceData!B$10,CalculationsAndCharts!$A586+$A$11,0,1,1)","v":"00:00:00"},{"$f":"OFFSET(InputPriceData!G$10,CalculationsAndCharts!$A586+$A$11,0,1,1)","v":0},{"$f":"OFFSET(InputPriceData!C$10,CalculationsAndCharts!$A586+$A$11,0,1,1)","v":0},{"$f":"OFFSET(InputPriceData!D$10,CalculationsAndCharts!$A586+$A$11,0,1,1)","v":0},{"$f":"OFFSET(InputPriceData!E$10,CalculationsAndCharts!$A586+$A$11,0,1,1)","v":0},{"$f":"OFFSET(InputPriceData!F$10,CalculationsAndCharts!$A586+$A$11,0,1,1)","v":0},{"$f":"IF(AND(A586<=$B$20,$S$14),$T$14,0)","v":0},{"$f":"IF(AND(A586<=$B$20,$S$15),$T$15,0)","v":0},{"$f":"IF(AND(A586<=$B$20,$S$16),$T$16,0)","v":0},{"$f":"IF(AND(A586<=$B$20,$S$17),$T$17,0)","v":0},{"$f":"IF(AND(A586<=$B$20,$S$18),$T$18,0)","v":0},0,0,0,0,0,0,0,0,0,0,0,0,0]
[556,{"$f":"OFFSET(InputPriceData!B$10,CalculationsAndCharts!$A587+$A$11,0,1,1)","v":"00:00:00"},{"$f":"OFFSET(InputPriceData!G$10,CalculationsAndCharts!$A587+$A$11,0,1,1)","v":0},{"$f":"OFFSET(InputPriceData!C$10,CalculationsAndCharts!$A587+$A$11,0,1,1)","v":0},{"$f":"OFFSET(InputPriceData!D$10,CalculationsAndCharts!$A587+$A$11,0,1,1)","v":0},{"$f":"OFFSET(InputPriceData!E$10,CalculationsAndCharts!$A587+$A$11,0,1,1)","v":0},{"$f":"OFFSET(InputPriceData!F$10,CalculationsAndCharts!$A587+$A$11,0,1,1)","v":0},{"$f":"IF(AND(A587<=$B$20,$S$14),$T$14,0)","v":0},{"$f":"IF(AND(A587<=$B$20,$S$15),$T$15,0)","v":0},{"$f":"IF(AND(A587<=$B$20,$S$16),$T$16,0)","v":0},{"$f":"IF(AND(A587<=$B$20,$S$17),$T$17,0)","v":0},{"$f":"IF(AND(A587<=$B$20,$S$18),$T$18,0)","v":0},0,0,0,0,0,0,0,0,0,0,0,0,0]
[557,{"$f":"OFFSET(InputPriceData!B$10,CalculationsAndCharts!$A588+$A$11,0,1,1)","v":"00:00:00"},{"$f":"OFFSET(InputPriceData!G$10,CalculationsAndCharts!$A588+$A$11,0,1,1)","v":0},{"$f":"OFFSET(InputPriceData!C$10,CalculationsAndCharts!$A588+$A$11,0,1,1)","v":0},{"$f":"OFFSET(InputPriceData!D$10,CalculationsAndCharts!$A588+$A$11,0,1,1)","v":0},{"$f":"OFFSET(InputPriceData!E$10,CalculationsAndCharts!$A588+$A$11,0,1,1)","v":0},{"$f":"OFFSET(InputPriceData!F$10,CalculationsAndCharts!$A588+$A$11,0,1,1)","v":0},{"$f":"IF(AND(A588<=$B$20,$S$14),$T$14,0)","v":0},{"$f":"IF(AND(A588<=$B$20,$S$15),$T$15,0)","v":0},{"$f":"IF(AND(A588<=$B$20,$S$16),$T$16,0)","v":0},{"$f":"IF(AND(A588<=$B$20,$S$17),$T$17,0)","v":0},{"$f":"IF(AND(A588<=$B$20,$S$18),$T$18,0)","v":0},0,0,0,0,0,0,0,0,0,0,0,0,0]
[558,{"$f":"OFFSET(InputPriceData!B$10,CalculationsAndCharts!$A589+$A$11,0,1,1)","v":"00:00:00"},{"$f":"OFFSET(InputPriceData!G$10,CalculationsAndCharts!$A589+$A$11,0,1,1)","v":0},{"$f":"OFFSET(InputPriceData!C$10,CalculationsAndCharts!$A589+$A$11,0,1,1)","v":0},{"$f":"OFFSET(InputPriceData!D$10,CalculationsAndCharts!$A589+$A$11,0,1,1)","v":0},{"$f":"OFFSET(InputPriceData!E$10,CalculationsAndCharts!$A589+$A$11,0,1,1)","v":0},{"$f":"OFFSET(InputPriceData!F$10,CalculationsAndCharts!$A589+$A$11,0,1,1)","v":0},{"$f":"IF(AND(A589<=$B$20,$S$14),$T$14,0)","v":0},{"$f":"IF(AND(A589<=$B$20,$S$15),$T$15,0)","v":0},{"$f":"IF(AND(A589<=$B$20,$S$16),$T$16,0)","v":0},{"$f":"IF(AND(A589<=$B$20,$S$17),$T$17,0)","v":0},{"$f":"IF(AND(A589<=$B$20,$S$18),$T$18,0)","v":0},0,0,0,0,0,0,0,0,0,0,0,0,0]
[559,{"$f":"OFFSET(InputPriceData!B$10,CalculationsAndCharts!$A590+$A$11,0,1,1)","v":"00:00:00"},{"$f":"OFFSET(InputPriceData!G$10,CalculationsAndCharts!$A590+$A$11,0,1,1)","v":0},{"$f":"OFFSET(InputPriceData!C$10,CalculationsAndCharts!$A590+$A$11,0,1,1)","v":0},{"$f":"OFFSET(InputPriceData!D$10,CalculationsAndCharts!$A590+$A$11,0,1,1)","v":0},{"$f":"OFFSET(InputPriceData!E$10,CalculationsAndCharts!$A590+$A$11,0,1,1)","v":0},{"$f":"OFFSET(InputPriceData!F$10,CalculationsAndCharts!$A590+$A$11,0,1,1)","v":0},{"$f":"IF(AND(A590<=$B$20,$S$14),$T$14,0)","v":0},{"$f":"IF(AND(A590<=$B$20,$S$15),$T$15,0)","v":0},{"$f":"IF(AND(A590<=$B$20,$S$16),$T$16,0)","v":0},{"$f":"IF(AND(A590<=$B$20,$S$17),$T$17,0)","v":0},{"$f":"IF(AND(A590<=$B$20,$S$18),$T$18,0)","v":0},0,0,0,0,0,0,0,0,0,0,0,0,0]
[560,{"$f":"OFFSET(InputPriceData!B$10,CalculationsAndCharts!$A591+$A$11,0,1,1)","v":"00:00:00"},{"$f":"OFFSET(InputPriceData!G$10,CalculationsAndCharts!$A591+$A$11,0,1,1)","v":0},{"$f":"OFFSET(InputPriceData!C$10,CalculationsAndCharts!$A591+$A$11,0,1,1)","v":0},{"$f":"OFFSET(InputPriceData!D$10,CalculationsAndCharts!$A591+$A$11,0,1,1)","v":0},{"$f":"OFFSET(InputPriceData!E$10,CalculationsAndCharts!$A591+$A$11,0,1,1)","v":0},{"$f":"OFFSET(InputPriceData!F$10,CalculationsAndCharts!$A591+$A$11,0,1,1)","v":0},{"$f":"IF(AND(A591<=$B$20,$S$14),$T$14,0)","v":0},{"$f":"IF(AND(A591<=$B$20,$S$15),$T$15,0)","v":0},{"$f":"IF(AND(A591<=$B$20,$S$16),$T$16,0)","v":0},{"$f":"IF(AND(A591<=$B$20,$S$17),$T$17,0)","v":0},{"$f":"IF(AND(A591<=$B$20,$S$18),$T$18,0)","v":0},0,0,0,0,0,0,0,0,0,0,0,0,0]
[561,{"$f":"OFFSET(InputPriceData!B$10,CalculationsAndCharts!$A592+$A$11,0,1,1)","v":"00:00:00"},{"$f":"OFFSET(InputPriceData!G$10,CalculationsAndCharts!$A592+$A$11,0,1,1)","v":0},{"$f":"OFFSET(InputPriceData!C$10,CalculationsAndCharts!$A592+$A$11,0,1,1)","v":0},{"$f":"OFFSET(InputPriceData!D$10,CalculationsAndCharts!$A592+$A$11,0,1,1)","v":0},{"$f":"OFFSET(InputPriceData!E$10,CalculationsAndCharts!$A592+$A$11,0,1,1)","v":0},{"$f":"OFFSET(InputPriceData!F$10,CalculationsAndCharts!$A592+$A$11,0,1,1)","v":0},{"$f":"IF(AND(A592<=$B$20,$S$14),$T$14,0)","v":0},{"$f":"IF(AND(A592<=$B$20,$S$15),$T$15,0)","v":0},{"$f":"IF(AND(A592<=$B$20,$S$16),$T$16,0)","v":0},{"$f":"IF(AND(A592<=$B$20,$S$17),$T$17,0)","v":0},{"$f":"IF(AND(A592<=$B$20,$S$18),$T$18,0)","v":0},0,0,0,0,0,0,0,0,0,0,0,0,0]
[562,{"$f":"OFFSET(InputPriceData!B$10,CalculationsAndCharts!$A593+$A$11,0,1,1)","v":"00:00:00"},{"$f":"OFFSET(InputPriceData!G$10,CalculationsAndCharts!$A593+$A$11,0,1,1)","v":0},{"$f":"OFFSET(InputPriceData!C$10,CalculationsAndCharts!$A593+$A$11,0,1,1)","v":0},{"$f":"OFFSET(InputPriceData!D$10,CalculationsAndCharts!$A593+$A$11,0,1,1)","v":0},{"$f":"OFFSET(InputPriceData!E$10,CalculationsAndCharts!$A593+$A$11,0,1,1)","v":0},{"$f":"OFFSET(InputPriceData!F$10,CalculationsAndCharts!$A593+$A$11,0,1,1)","v":0},{"$f":"IF(AND(A593<=$B$20,$S$14),$T$14,0)","v":0},{"$f":"IF(AND(A593<=$B$20,$S$15),$T$15,0)","v":0},{"$f":"IF(AND(A593<=$B$20,$S$16),$T$16,0)","v":0},{"$f":"IF(AND(A593<=$B$20,$S$17),$T$17,0)","v":0},{"$f":"IF(AND(A593<=$B$20,$S$18),$T$18,0)","v":0},0,0,0,0,0,0,0,0,0,0,0,0,0]
[563,{"$f":"OFFSET(InputPriceData!B$10,CalculationsAndCharts!$A594+$A$11,0,1,1)","v":"00:00:00"},{"$f":"OFFSET(InputPriceData!G$10,CalculationsAndCharts!$A594+$A$11,0,1,1)","v":0},{"$f":"OFFSET(InputPriceData!C$10,CalculationsAndCharts!$A594+$A$11,0,1,1)","v":0},{"$f":"OFFSET(InputPriceData!D$10,CalculationsAndCharts!$A594+$A$11,0,1,1)","v":0},{"$f":"OFFSET(InputPriceData!E$10,CalculationsAndCharts!$A594+$A$11,0,1,1)","v":0},{"$f":"OFFSET(InputPriceData!F$10,CalculationsAndCharts!$A594+$A$11,0,1,1)","v":0},{"$f":"IF(AND(A594<=$B$20,$S$14),$T$14,0)","v":0},{"$f":"IF(AND(A594<=$B$20,$S$15),$T$15,0)","v":0},{"$f":"IF(AND(A594<=$B$20,$S$16),$T$16,0)","v":0},{"$f":"IF(AND(A594<=$B$20,$S$17),$T$17,0)","v":0},{"$f":"IF(AND(A594<=$B$20,$S$18),$T$18,0)","v":0},0,0,0,0,0,0,0,0,0,0,0,0,0]
[564,{"$f":"OFFSET(InputPriceData!B$10,CalculationsAndCharts!$A595+$A$11,0,1,1)","v":"00:00:00"},{"$f":"OFFSET(InputPriceData!G$10,CalculationsAndCharts!$A595+$A$11,0,1,1)","v":0},{"$f":"OFFSET(InputPriceData!C$10,CalculationsAndCharts!$A595+$A$11,0,1,1)","v":0},{"$f":"OFFSET(InputPriceData!D$10,CalculationsAndCharts!$A595+$A$11,0,1,1)","v":0},{"$f":"OFFSET(InputPriceData!E$10,CalculationsAndCharts!$A595+$A$11,0,1,1)","v":0},{"$f":"OFFSET(InputPriceData!F$10,CalculationsAndCharts!$A595+$A$11,0,1,1)","v":0},{"$f":"IF(AND(A595<=$B$20,$S$14),$T$14,0)","v":0},{"$f":"IF(AND(A595<=$B$20,$S$15),$T$15,0)","v":0},{"$f":"IF(AND(A595<=$B$20,$S$16),$T$16,0)","v":0},{"$f":"IF(AND(A595<=$B$20,$S$17),$T$17,0)","v":0},{"$f":"IF(AND(A595<=$B$20,$S$18),$T$18,0)","v":0},0,0,0,0,0,0,0,0,0,0,0,0,0]
[565,{"$f":"OFFSET(InputPriceData!B$10,CalculationsAndCharts!$A596+$A$11,0,1,1)","v":"00:00:00"},{"$f":"OFFSET(InputPriceData!G$10,CalculationsAndCharts!$A596+$A$11,0,1,1)","v":0},{"$f":"OFFSET(InputPriceData!C$10,CalculationsAndCharts!$A596+$A$11,0,1,1)","v":0},{"$f":"OFFSET(InputPriceData!D$10,CalculationsAndCharts!$A596+$A$11,0,1,1)","v":0},{"$f":"OFFSET(InputPriceData!E$10,CalculationsAndCharts!$A596+$A$11,0,1,1)","v":0},{"$f":"OFFSET(InputPriceData!F$10,CalculationsAndCharts!$A596+$A$11,0,1,1)","v":0},{"$f":"IF(AND(A596<=$B$20,$S$14),$T$14,0)","v":0},{"$f":"IF(AND(A596<=$B$20,$S$15),$T$15,0)","v":0},{"$f":"IF(AND(A596<=$B$20,$S$16),$T$16,0)","v":0},{"$f":"IF(AND(A596<=$B$20,$S$17),$T$17,0)","v":0},{"$f":"IF(AND(A596<=$B$20,$S$18),$T$18,0)","v":0},0,0,0,0,0,0,0,0,0,0,0,0,0]
[566,{"$f":"OFFSET(InputPriceData!B$10,CalculationsAndCharts!$A597+$A$11,0,1,1)","v":"00:00:00"},{"$f":"OFFSET(InputPriceData!G$10,CalculationsAndCharts!$A597+$A$11,0,1,1)","v":0},{"$f":"OFFSET(InputPriceData!C$10,CalculationsAndCharts!$A597+$A$11,0,1,1)","v":0},{"$f":"OFFSET(InputPriceData!D$10,CalculationsAndCharts!$A597+$A$11,0,1,1)","v":0},{"$f":"OFFSET(InputPriceData!E$10,CalculationsAndCharts!$A597+$A$11,0,1,1)","v":0},{"$f":"OFFSET(InputPriceData!F$10,CalculationsAndCharts!$A597+$A$11,0,1,1)","v":0},{"$f":"IF(AND(A597<=$B$20,$S$14),$T$14,0)","v":0},{"$f":"IF(AND(A597<=$B$20,$S$15),$T$15,0)","v":0},{"$f":"IF(AND(A597<=$B$20,$S$16),$T$16,0)","v":0},{"$f":"IF(AND(A597<=$B$20,$S$17),$T$17,0)","v":0},{"$f":"IF(AND(A597<=$B$20,$S$18),$T$18,0)","v":0},0,0,0,0,0,0,0,0,0,0,0,0,0]
[567,{"$f":"OFFSET(InputPriceData!B$10,CalculationsAndCharts!$A598+$A$11,0,1,1)","v":"00:00:00"},{"$f":"OFFSET(InputPriceData!G$10,CalculationsAndCharts!$A598+$A$11,0,1,1)","v":0},{"$f":"OFFSET(InputPriceData!C$10,CalculationsAndCharts!$A598+$A$11,0,1,1)","v":0},{"$f":"OFFSET(InputPriceData!D$10,CalculationsAndCharts!$A598+$A$11,0,1,1)","v":0},{"$f":"OFFSET(InputPriceData!E$10,CalculationsAndCharts!$A598+$A$11,0,1,1)","v":0},{"$f":"OFFSET(InputPriceData!F$10,CalculationsAndCharts!$A598+$A$11,0,1,1)","v":0},{"$f":"IF(AND(A598<=$B$20,$S$14),$T$14,0)","v":0},{"$f":"IF(AND(A598<=$B$20,$S$15),$T$15,0)","v":0},{"$f":"IF(AND(A598<=$B$20,$S$16),$T$16,0)","v":0},{"$f":"IF(AND(A598<=$B$20,$S$17),$T$17,0)","v":0},{"$f":"IF(AND(A598<=$B$20,$S$18),$T$18,0)","v":0},0,0,0,0,0,0,0,0,0,0,0,0,0]
[568,{"$f":"OFFSET(InputPriceData!B$10,CalculationsAndCharts!$A599+$A$11,0,1,1)","v":"00:00:00"},{"$f":"OFFSET(InputPriceData!G$10,CalculationsAndCharts!$A599+$A$11,0,1,1)","v":0},{"$f":"OFFSET(InputPriceData!C$10,CalculationsAndCharts!$A599+$A$11,0,1,1)","v":0},{"$f":"OFFSET(InputPriceData!D$10,CalculationsAndCharts!$A599+$A$11,0,1,1)","v":0},{"$f":"OFFSET(InputPriceData!E$10,CalculationsAndCharts!$A599+$A$11,0,1,1)","v":0},{"$f":"OFFSET(InputPriceData!F$10,CalculationsAndCharts!$A599+$A$11,0,1,1)","v":0},{"$f":"IF(AND(A599<=$B$20,$S$14),$T$14,0)","v":0},{"$f":"IF(AND(A599<=$B$20,$S$15),$T$15,0)","v":0},{"$f":"IF(AND(A599<=$B$20,$S$16),$T$16,0)","v":0},{"$f":"IF(AND(A599<=$B$20,$S$17),$T$17,0)","v":0},{"$f":"IF(AND(A599<=$B$20,$S$18),$T$18,0)","v":0},0,0,0,0,0,0,0,0,0,0,0,0,0]
[569,{"$f":"OFFSET(InputPriceData!B$10,CalculationsAndCharts!$A600+$A$11,0,1,1)","v":"00:00:00"},{"$f":"OFFSET(InputPriceData!G$10,CalculationsAndCharts!$A600+$A$11,0,1,1)","v":0},{"$f":"OFFSET(InputPriceData!C$10,CalculationsAndCharts!$A600+$A$11,0,1,1)","v":0},{"$f":"OFFSET(InputPriceData!D$10,CalculationsAndCharts!$A600+$A$11,0,1,1)","v":0},{"$f":"OFFSET(InputPriceData!E$10,CalculationsAndCharts!$A600+$A$11,0,1,1)","v":0},{"$f":"OFFSET(InputPriceData!F$10,CalculationsAndCharts!$A600+$A$11,0,1,1)","v":0},{"$f":"IF(AND(A600<=$B$20,$S$14),$T$14,0)","v":0},{"$f":"IF(AND(A600<=$B$20,$S$15),$T$15,0)","v":0},{"$f":"IF(AND(A600<=$B$20,$S$16),$T$16,0)","v":0},{"$f":"IF(AND(A600<=$B$20,$S$17),$T$17,0)","v":0},{"$f":"IF(AND(A600<=$B$20,$S$18),$T$18,0)","v":0},0,0,0,0,0,0,0,0,0,0,0,0,0]
[570,{"$f":"OFFSET(InputPriceData!B$10,CalculationsAndCharts!$A601+$A$11,0,1,1)","v":"00:00:00"},{"$f":"OFFSET(InputPriceData!G$10,CalculationsAndCharts!$A601+$A$11,0,1,1)","v":0},{"$f":"OFFSET(InputPriceData!C$10,CalculationsAndCharts!$A601+$A$11,0,1,1)","v":0},{"$f":"OFFSET(InputPriceData!D$10,CalculationsAndCharts!$A601+$A$11,0,1,1)","v":0},{"$f":"OFFSET(InputPriceData!E$10,CalculationsAndCharts!$A601+$A$11,0,1,1)","v":0},{"$f":"OFFSET(InputPriceData!F$10,CalculationsAndCharts!$A601+$A$11,0,1,1)","v":0},{"$f":"IF(AND(A601<=$B$20,$S$14),$T$14,0)","v":0},{"$f":"IF(AND(A601<=$B$20,$S$15),$T$15,0)","v":0},{"$f":"IF(AND(A601<=$B$20,$S$16),$T$16,0)","v":0},{"$f":"IF(AND(A601<=$B$20,$S$17),$T$17,0)","v":0},{"$f":"IF(AND(A601<=$B$20,$S$18),$T$18,0)","v":0},0,0,0,0,0,0,0,0,0,0,0,0,0]
[571,{"$f":"OFFSET(InputPriceData!B$10,CalculationsAndCharts!$A602+$A$11,0,1,1)","v":"00:00:00"},{"$f":"OFFSET(InputPriceData!G$10,CalculationsAndCharts!$A602+$A$11,0,1,1)","v":0},{"$f":"OFFSET(InputPriceData!C$10,CalculationsAndCharts!$A602+$A$11,0,1,1)","v":0},{"$f":"OFFSET(InputPriceData!D$10,CalculationsAndCharts!$A602+$A$11,0,1,1)","v":0},{"$f":"OFFSET(InputPriceData!E$10,CalculationsAndCharts!$A602+$A$11,0,1,1)","v":0},{"$f":"OFFSET(InputPriceData!F$10,CalculationsAndCharts!$A602+$A$11,0,1,1)","v":0},{"$f":"IF(AND(A602<=$B$20,$S$14),$T$14,0)","v":0},{"$f":"IF(AND(A602<=$B$20,$S$15),$T$15,0)","v":0},{"$f":"IF(AND(A602<=$B$20,$S$16),$T$16,0)","v":0},{"$f":"IF(AND(A602<=$B$20,$S$17),$T$17,0)","v":0},{"$f":"IF(AND(A602<=$B$20,$S$18),$T$18,0)","v":0},0,0,0,0,0,0,0,0,0,0,0,0,0]
[572,{"$f":"OFFSET(InputPriceData!B$10,CalculationsAndCharts!$A603+$A$11,0,1,1)","v":"00:00:00"},{"$f":"OFFSET(InputPriceData!G$10,CalculationsAndCharts!$A603+$A$11,0,1,1)","v":0},{"$f":"OFFSET(InputPriceData!C$10,CalculationsAndCharts!$A603+$A$11,0,1,1)","v":0},{"$f":"OFFSET(InputPriceData!D$10,CalculationsAndCharts!$A603+$A$11,0,1,1)","v":0},{"$f":"OFFSET(InputPriceData!E$10,CalculationsAndCharts!$A603+$A$11,0,1,1)","v":0},{"$f":"OFFSET(InputPriceData!F$10,CalculationsAndCharts!$A603+$A$11,0,1,1)","v":0},{"$f":"IF(AND(A603<=$B$20,$S$14),$T$14,0)","v":0},{"$f":"IF(AND(A603<=$B$20,$S$15),$T$15,0)","v":0},{"$f":"IF(AND(A603<=$B$20,$S$16),$T$16,0)","v":0},{"$f":"IF(AND(A603<=$B$20,$S$17),$T$17,0)","v":0},{"$f":"IF(AND(A603<=$B$20,$S$18),$T$18,0)","v":0},0,0,0,0,0,0,0,0,0,0,0,0,0]
[573,{"$f":"OFFSET(InputPriceData!B$10,CalculationsAndCharts!$A604+$A$11,0,1,1)","v":"00:00:00"},{"$f":"OFFSET(InputPriceData!G$10,CalculationsAndCharts!$A604+$A$11,0,1,1)","v":0},{"$f":"OFFSET(InputPriceData!C$10,CalculationsAndCharts!$A604+$A$11,0,1,1)","v":0},{"$f":"OFFSET(InputPriceData!D$10,CalculationsAndCharts!$A604+$A$11,0,1,1)","v":0},{"$f":"OFFSET(InputPriceData!E$10,CalculationsAndCharts!$A604+$A$11,0,1,1)","v":0},{"$f":"OFFSET(InputPriceData!F$10,CalculationsAndCharts!$A604+$A$11,0,1,1)","v":0},{"$f":"IF(AND(A604<=$B$20,$S$14),$T$14,0)","v":0},{"$f":"IF(AND(A604<=$B$20,$S$15),$T$15,0)","v":0},{"$f":"IF(AND(A604<=$B$20,$S$16),$T$16,0)","v":0},{"$f":"IF(AND(A604<=$B$20,$S$17),$T$17,0)","v":0},{"$f":"IF(AND(A604<=$B$20,$S$18),$T$18,0)","v":0},0,0,0,0,0,0,0,0,0,0,0,0,0]
[574,{"$f":"OFFSET(InputPriceData!B$10,CalculationsAndCharts!$A605+$A$11,0,1,1)","v":"00:00:00"},{"$f":"OFFSET(InputPriceData!G$10,CalculationsAndCharts!$A605+$A$11,0,1,1)","v":0},{"$f":"OFFSET(InputPriceData!C$10,CalculationsAndCharts!$A605+$A$11,0,1,1)","v":0},{"$f":"OFFSET(InputPriceData!D$10,CalculationsAndCharts!$A605+$A$11,0,1,1)","v":0},{"$f":"OFFSET(InputPriceData!E$10,CalculationsAndCharts!$A605+$A$11,0,1,1)","v":0},{"$f":"OFFSET(InputPriceData!F$10,CalculationsAndCharts!$A605+$A$11,0,1,1)","v":0},{"$f":"IF(AND(A605<=$B$20,$S$14),$T$14,0)","v":0},{"$f":"IF(AND(A605<=$B$20,$S$15),$T$15,0)","v":0},{"$f":"IF(AND(A605<=$B$20,$S$16),$T$16,0)","v":0},{"$f":"IF(AND(A605<=$B$20,$S$17),$T$17,0)","v":0},{"$f":"IF(AND(A605<=$B$20,$S$18),$T$18,0)","v":0},0,0,0,0,0,0,0,0,0,0,0,0,0]
[575,{"$f":"OFFSET(InputPriceData!B$10,CalculationsAndCharts!$A606+$A$11,0,1,1)","v":"00:00:00"},{"$f":"OFFSET(InputPriceData!G$10,CalculationsAndCharts!$A606+$A$11,0,1,1)","v":0},{"$f":"OFFSET(InputPriceData!C$10,CalculationsAndCharts!$A606+$A$11,0,1,1)","v":0},{"$f":"OFFSET(InputPriceData!D$10,CalculationsAndCharts!$A606+$A$11,0,1,1)","v":0},{"$f":"OFFSET(InputPriceData!E$10,CalculationsAndCharts!$A606+$A$11,0,1,1)","v":0},{"$f":"OFFSET(InputPriceData!F$10,CalculationsAndCharts!$A606+$A$11,0,1,1)","v":0},{"$f":"IF(AND(A606<=$B$20,$S$14),$T$14,0)","v":0},{"$f":"IF(AND(A606<=$B$20,$S$15),$T$15,0)","v":0},{"$f":"IF(AND(A606<=$B$20,$S$16),$T$16,0)","v":0},{"$f":"IF(AND(A606<=$B$20,$S$17),$T$17,0)","v":0},{"$f":"IF(AND(A606<=$B$20,$S$18),$T$18,0)","v":0},0,0,0,0,0,0,0,0,0,0,0,0,0]
[576,{"$f":"OFFSET(InputPriceData!B$10,CalculationsAndCharts!$A607+$A$11,0,1,1)","v":"00:00:00"},{"$f":"OFFSET(InputPriceData!G$10,CalculationsAndCharts!$A607+$A$11,0,1,1)","v":0},{"$f":"OFFSET(InputPriceData!C$10,CalculationsAndCharts!$A607+$A$11,0,1,1)","v":0},{"$f":"OFFSET(InputPriceData!D$10,CalculationsAndCharts!$A607+$A$11,0,1,1)","v":0},{"$f":"OFFSET(InputPriceData!E$10,CalculationsAndCharts!$A607+$A$11,0,1,1)","v":0},{"$f":"OFFSET(InputPriceData!F$10,CalculationsAndCharts!$A607+$A$11,0,1,1)","v":0},{"$f":"IF(AND(A607<=$B$20,$S$14),$T$14,0)","v":0},{"$f":"IF(AND(A607<=$B$20,$S$15),$T$15,0)","v":0},{"$f":"IF(AND(A607<=$B$20,$S$16),$T$16,0)","v":0},{"$f":"IF(AND(A607<=$B$20,$S$17),$T$17,0)","v":0},{"$f":"IF(AND(A607<=$B$20,$S$18),$T$18,0)","v":0},0,0,0,0,0,0,0,0,0,0,0,0,0]
[577,{"$f":"OFFSET(InputPriceData!B$10,CalculationsAndCharts!$A608+$A$11,0,1,1)","v":"00:00:00"},{"$f":"OFFSET(InputPriceData!G$10,CalculationsAndCharts!$A608+$A$11,0,1,1)","v":0},{"$f":"OFFSET(InputPriceData!C$10,CalculationsAndCharts!$A608+$A$11,0,1,1)","v":0},{"$f":"OFFSET(InputPriceData!D$10,CalculationsAndCharts!$A608+$A$11,0,1,1)","v":0},{"$f":"OFFSET(InputPriceData!E$10,CalculationsAndCharts!$A608+$A$11,0,1,1)","v":0},{"$f":"OFFSET(InputPriceData!F$10,CalculationsAndCharts!$A608+$A$11,0,1,1)","v":0},{"$f":"IF(AND(A608<=$B$20,$S$14),$T$14,0)","v":0},{"$f":"IF(AND(A608<=$B$20,$S$15),$T$15,0)","v":0},{"$f":"IF(AND(A608<=$B$20,$S$16),$T$16,0)","v":0},{"$f":"IF(AND(A608<=$B$20,$S$17),$T$17,0)","v":0},{"$f":"IF(AND(A608<=$B$20,$S$18),$T$18,0)","v":0},0,0,0,0,0,0,{"$f":"IF($A608=$B$28,S$31,0)","v":0},0,0,0,0,0,0]
[578,{"$f":"OFFSET(InputPriceData!B$10,CalculationsAndCharts!$A609+$A$11,0,1,1)","v":"00:00:00"},{"$f":"OFFSET(InputPriceData!G$10,CalculationsAndCharts!$A609+$A$11,0,1,1)","v":0},{"$f":"OFFSET(InputPriceData!C$10,CalculationsAndCharts!$A609+$A$11,0,1,1)","v":0},{"$f":"OFFSET(InputPriceData!D$10,CalculationsAndCharts!$A609+$A$11,0,1,1)","v":0},{"$f":"OFFSET(InputPriceData!E$10,CalculationsAndCharts!$A609+$A$11,0,1,1)","v":0},{"$f":"OFFSET(InputPriceData!F$10,CalculationsAndCharts!$A609+$A$11,0,1,1)","v":0},{"$f":"IF(AND(A609<=$B$20,$S$14),$T$14,0)","v":0},{"$f":"IF(AND(A609<=$B$20,$S$15),$T$15,0)","v":0},{"$f":"IF(AND(A609<=$B$20,$S$16),$T$16,0)","v":0},{"$f":"IF(AND(A609<=$B$20,$S$17),$T$17,0)","v":0},{"$f":"IF(AND(A609<=$B$20,$S$18),$T$18,0)","v":0},{"$f":"IF(AND(A609<=$B$20,$S$8),$T$8,0)","v":0},{"$f":"IF(AND(A609<=$B$20,$S$7),$T$7,0)","v":0},{"$f":"IF(AND(A609<=$B$20,$S$6),$T$6,0)","v":0},{"$f":"IF(AND(A609<=$B$20,$S$5),$T$5,0)","v":0},{"$f":"IF(AND(A609<=$B$20,$S$4),$T$4,0)","v":0},{"$f":"IF(AND(A609>$B$20,A609<=($B$20+$C$18)),$T$10-Y609,0)","v":0},0,{"$f":"IF($A609=$B$27,S$31,0)","v":0},{"$f":"IF(AND(A609<=$B$20,A609>($B$20-$C$18)),$F$11,0)","v":0},{"$f":"IF(AND($S$10,A609>$B$20,A609<=($B$20+$C$18)),$T$10,0)","v":0},{"$f":"IF(AND($S$11,A609>$B$20,A609<=($B$20+$C$18)),$T$11,0)","v":0},{"$f":"IF(AND($S$12,A609>$B$20,A609<=($B$20+$C$18)),$T$12,0)","v":0},{"$f":"IF(AND(A609>$B$20,A609<=($B$20+$C$18)),$T$12,0)","v":0}]
[579,{"$f":"OFFSET(InputPriceData!B$10,CalculationsAndCharts!$A610+$A$11,0,1,1)","v":"00:00:00"},{"$f":"OFFSET(InputPriceData!G$10,CalculationsAndCharts!$A610+$A$11,0,1,1)","v":0},{"$f":"OFFSET(InputPriceData!C$10,CalculationsAndCharts!$A610+$A$11,0,1,1)","v":0},{"$f":"OFFSET(InputPriceData!D$10,CalculationsAndCharts!$A610+$A$11,0,1,1)","v":0},{"$f":"OFFSET(InputPriceData!E$10,CalculationsAndCharts!$A610+$A$11,0,1,1)","v":0},{"$f":"OFFSET(InputPriceData!F$10,CalculationsAndCharts!$A610+$A$11,0,1,1)","v":0},{"$f":"IF(AND(A610<=$B$20,$S$14),$T$14,0)","v":0},{"$f":"IF(AND(A610<=$B$20,$S$15),$T$15,0)","v":0},{"$f":"IF(AND(A610<=$B$20,$S$16),$T$16,0)","v":0},{"$f":"IF(AND(A610<=$B$20,$S$17),$T$17,0)","v":0},{"$f":"IF(AND(A610<=$B$20,$S$18),$T$18,0)","v":0},0,0,0,0,0,0,0,0,0,0,0,0,0]
[580,{"$f":"OFFSET(InputPriceData!B$10,CalculationsAndCharts!$A611+$A$11,0,1,1)","v":"00:00:00"},{"$f":"OFFSET(InputPriceData!G$10,CalculationsAndCharts!$A611+$A$11,0,1,1)","v":0},{"$f":"OFFSET(InputPriceData!C$10,CalculationsAndCharts!$A611+$A$11,0,1,1)","v":0},{"$f":"OFFSET(InputPriceData!D$10,CalculationsAndCharts!$A611+$A$11,0,1,1)","v":0},{"$f":"OFFSET(InputPriceData!E$10,CalculationsAndCharts!$A611+$A$11,0,1,1)","v":0},{"$f":"OFFSET(InputPriceData!F$10,CalculationsAndCharts!$A611+$A$11,0,1,1)","v":0},{"$f":"IF(AND(A611<=$B$20,$S$14),$T$14,0)","v":0},{"$f":"IF(AND(A611<=$B$20,$S$15),$T$15,0)","v":0},{"$f":"IF(AND(A611<=$B$20,$S$16),$T$16,0)","v":0},{"$f":"IF(AND(A611<=$B$20,$S$17),$T$17,0)","v":0},{"$f":"IF(AND(A611<=$B$20,$S$18),$T$18,0)","v":0},0,0,0,0,0,0,0,0,0,0,0,0,0]
[581,{"$f":"OFFSET(InputPriceData!B$10,CalculationsAndCharts!$A612+$A$11,0,1,1)","v":"00:00:00"},{"$f":"OFFSET(InputPriceData!G$10,CalculationsAndCharts!$A612+$A$11,0,1,1)","v":0},{"$f":"OFFSET(InputPriceData!C$10,CalculationsAndCharts!$A612+$A$11,0,1,1)","v":0},{"$f":"OFFSET(InputPriceData!D$10,CalculationsAndCharts!$A612+$A$11,0,1,1)","v":0},{"$f":"OFFSET(InputPriceData!E$10,CalculationsAndCharts!$A612+$A$11,0,1,1)","v":0},{"$f":"OFFSET(InputPriceData!F$10,CalculationsAndCharts!$A612+$A$11,0,1,1)","v":0},{"$f":"IF(AND(A612<=$B$20,$S$14),$T$14,0)","v":0},{"$f":"IF(AND(A612<=$B$20,$S$15),$T$15,0)","v":0},{"$f":"IF(AND(A612<=$B$20,$S$16),$T$16,0)","v":0},{"$f":"IF(AND(A612<=$B$20,$S$17),$T$17,0)","v":0},{"$f":"IF(AND(A612<=$B$20,$S$18),$T$18,0)","v":0},0,0,0,0,0,0,0,0,0,0,0,0,0]
[582,{"$f":"OFFSET(InputPriceData!B$10,CalculationsAndCharts!$A613+$A$11,0,1,1)","v":"00:00:00"},{"$f":"OFFSET(InputPriceData!G$10,CalculationsAndCharts!$A613+$A$11,0,1,1)","v":0},{"$f":"OFFSET(InputPriceData!C$10,CalculationsAndCharts!$A613+$A$11,0,1,1)","v":0},{"$f":"OFFSET(InputPriceData!D$10,CalculationsAndCharts!$A613+$A$11,0,1,1)","v":0},{"$f":"OFFSET(InputPriceData!E$10,CalculationsAndCharts!$A613+$A$11,0,1,1)","v":0},{"$f":"OFFSET(InputPriceData!F$10,CalculationsAndCharts!$A613+$A$11,0,1,1)","v":0},{"$f":"IF(AND(A613<=$B$20,$S$14),$T$14,0)","v":0},{"$f":"IF(AND(A613<=$B$20,$S$15),$T$15,0)","v":0},{"$f":"IF(AND(A613<=$B$20,$S$16),$T$16,0)","v":0},{"$f":"IF(AND(A613<=$B$20,$S$17),$T$17,0)","v":0},{"$f":"IF(AND(A613<=$B$20,$S$18),$T$18,0)","v":0},0,0,0,0,0,0,0,0,0,0,0,0,0]
[583,{"$f":"OFFSET(InputPriceData!B$10,CalculationsAndCharts!$A614+$A$11,0,1,1)","v":"00:00:00"},{"$f":"OFFSET(InputPriceData!G$10,CalculationsAndCharts!$A614+$A$11,0,1,1)","v":0},{"$f":"OFFSET(InputPriceData!C$10,CalculationsAndCharts!$A614+$A$11,0,1,1)","v":0},{"$f":"OFFSET(InputPriceData!D$10,CalculationsAndCharts!$A614+$A$11,0,1,1)","v":0},{"$f":"OFFSET(InputPriceData!E$10,CalculationsAndCharts!$A614+$A$11,0,1,1)","v":0},{"$f":"OFFSET(InputPriceData!F$10,CalculationsAndCharts!$A614+$A$11,0,1,1)","v":0},{"$f":"IF(AND(A614<=$B$20,$S$14),$T$14,0)","v":0},{"$f":"IF(AND(A614<=$B$20,$S$15),$T$15,0)","v":0},{"$f":"IF(AND(A614<=$B$20,$S$16),$T$16,0)","v":0},{"$f":"IF(AND(A614<=$B$20,$S$17),$T$17,0)","v":0},{"$f":"IF(AND(A614<=$B$20,$S$18),$T$18,0)","v":0},0,0,0,0,0,0,0,0,0,0,0,0,0]
[584,{"$f":"OFFSET(InputPriceData!B$10,CalculationsAndCharts!$A615+$A$11,0,1,1)","v":"00:00:00"},{"$f":"OFFSET(InputPriceData!G$10,CalculationsAndCharts!$A615+$A$11,0,1,1)","v":0},{"$f":"OFFSET(InputPriceData!C$10,CalculationsAndCharts!$A615+$A$11,0,1,1)","v":0},{"$f":"OFFSET(InputPriceData!D$10,CalculationsAndCharts!$A615+$A$11,0,1,1)","v":0},{"$f":"OFFSET(InputPriceData!E$10,CalculationsAndCharts!$A615+$A$11,0,1,1)","v":0},{"$f":"OFFSET(InputPriceData!F$10,CalculationsAndCharts!$A615+$A$11,0,1,1)","v":0},{"$f":"IF(AND(A615<=$B$20,$S$14),$T$14,0)","v":0},{"$f":"IF(AND(A615<=$B$20,$S$15),$T$15,0)","v":0},{"$f":"IF(AND(A615<=$B$20,$S$16),$T$16,0)","v":0},{"$f":"IF(AND(A615<=$B$20,$S$17),$T$17,0)","v":0},{"$f":"IF(AND(A615<=$B$20,$S$18),$T$18,0)","v":0},0,0,0,0,0,0,0,0,0,0,0,0,0]
[585,{"$f":"OFFSET(InputPriceData!B$10,CalculationsAndCharts!$A616+$A$11,0,1,1)","v":"00:00:00"},{"$f":"OFFSET(InputPriceData!G$10,CalculationsAndCharts!$A616+$A$11,0,1,1)","v":0},{"$f":"OFFSET(InputPriceData!C$10,CalculationsAndCharts!$A616+$A$11,0,1,1)","v":0},{"$f":"OFFSET(InputPriceData!D$10,CalculationsAndCharts!$A616+$A$11,0,1,1)","v":0},{"$f":"OFFSET(InputPriceData!E$10,CalculationsAndCharts!$A616+$A$11,0,1,1)","v":0},{"$f":"OFFSET(InputPriceData!F$10,CalculationsAndCharts!$A616+$A$11,0,1,1)","v":0},{"$f":"IF(AND(A616<=$B$20,$S$14),$T$14,0)","v":0},{"$f":"IF(AND(A616<=$B$20,$S$15),$T$15,0)","v":0},{"$f":"IF(AND(A616<=$B$20,$S$16),$T$16,0)","v":0},{"$f":"IF(AND(A616<=$B$20,$S$17),$T$17,0)","v":0},{"$f":"IF(AND(A616<=$B$20,$S$18),$T$18,0)","v":0},0,0,0,0,0,0,0,0,0,0,0,0,0]
[586,{"$f":"OFFSET(InputPriceData!B$10,CalculationsAndCharts!$A617+$A$11,0,1,1)","v":"00:00:00"},{"$f":"OFFSET(InputPriceData!G$10,CalculationsAndCharts!$A617+$A$11,0,1,1)","v":0},{"$f":"OFFSET(InputPriceData!C$10,CalculationsAndCharts!$A617+$A$11,0,1,1)","v":0},{"$f":"OFFSET(InputPriceData!D$10,CalculationsAndCharts!$A617+$A$11,0,1,1)","v":0},{"$f":"OFFSET(InputPriceData!E$10,CalculationsAndCharts!$A617+$A$11,0,1,1)","v":0},{"$f":"OFFSET(InputPriceData!F$10,CalculationsAndCharts!$A617+$A$11,0,1,1)","v":0},{"$f":"IF(AND(A617<=$B$20,$S$14),$T$14,0)","v":0},{"$f":"IF(AND(A617<=$B$20,$S$15),$T$15,0)","v":0},{"$f":"IF(AND(A617<=$B$20,$S$16),$T$16,0)","v":0},{"$f":"IF(AND(A617<=$B$20,$S$17),$T$17,0)","v":0},{"$f":"IF(AND(A617<=$B$20,$S$18),$T$18,0)","v":0},0,0,0,0,0,0,0,0,0,0,0,0,0]
[587,{"$f":"OFFSET(InputPriceData!B$10,CalculationsAndCharts!$A618+$A$11,0,1,1)","v":"00:00:00"},{"$f":"OFFSET(InputPriceData!G$10,CalculationsAndCharts!$A618+$A$11,0,1,1)","v":0},{"$f":"OFFSET(InputPriceData!C$10,CalculationsAndCharts!$A618+$A$11,0,1,1)","v":0},{"$f":"OFFSET(InputPriceData!D$10,CalculationsAndCharts!$A618+$A$11,0,1,1)","v":0},{"$f":"OFFSET(InputPriceData!E$10,CalculationsAndCharts!$A618+$A$11,0,1,1)","v":0},{"$f":"OFFSET(InputPriceData!F$10,CalculationsAndCharts!$A618+$A$11,0,1,1)","v":0},{"$f":"IF(AND(A618<=$B$20,$S$14),$T$14,0)","v":0},{"$f":"IF(AND(A618<=$B$20,$S$15),$T$15,0)","v":0},{"$f":"IF(AND(A618<=$B$20,$S$16),$T$16,0)","v":0},{"$f":"IF(AND(A618<=$B$20,$S$17),$T$17,0)","v":0},{"$f":"IF(AND(A618<=$B$20,$S$18),$T$18,0)","v":0},0,0,0,0,0,0,0,0,0,0,0,0,0]
[588,{"$f":"OFFSET(InputPriceData!B$10,CalculationsAndCharts!$A619+$A$11,0,1,1)","v":"00:00:00"},{"$f":"OFFSET(InputPriceData!G$10,CalculationsAndCharts!$A619+$A$11,0,1,1)","v":0},{"$f":"OFFSET(InputPriceData!C$10,CalculationsAndCharts!$A619+$A$11,0,1,1)","v":0},{"$f":"OFFSET(InputPriceData!D$10,CalculationsAndCharts!$A619+$A$11,0,1,1)","v":0},{"$f":"OFFSET(InputPriceData!E$10,CalculationsAndCharts!$A619+$A$11,0,1,1)","v":0},{"$f":"OFFSET(InputPriceData!F$10,CalculationsAndCharts!$A619+$A$11,0,1,1)","v":0},{"$f":"IF(AND(A619<=$B$20,$S$14),$T$14,0)","v":0},{"$f":"IF(AND(A619<=$B$20,$S$15),$T$15,0)","v":0},{"$f":"IF(AND(A619<=$B$20,$S$16),$T$16,0)","v":0},{"$f":"IF(AND(A619<=$B$20,$S$17),$T$17,0)","v":0},{"$f":"IF(AND(A619<=$B$20,$S$18),$T$18,0)","v":0},0,0,0,0,0,0,0,0,0,0,0,0,0]
[589,{"$f":"OFFSET(InputPriceData!B$10,CalculationsAndCharts!$A620+$A$11,0,1,1)","v":"00:00:00"},{"$f":"OFFSET(InputPriceData!G$10,CalculationsAndCharts!$A620+$A$11,0,1,1)","v":0},{"$f":"OFFSET(InputPriceData!C$10,CalculationsAndCharts!$A620+$A$11,0,1,1)","v":0},{"$f":"OFFSET(InputPriceData!D$10,CalculationsAndCharts!$A620+$A$11,0,1,1)","v":0},{"$f":"OFFSET(InputPriceData!E$10,CalculationsAndCharts!$A620+$A$11,0,1,1)","v":0},{"$f":"OFFSET(InputPriceData!F$10,CalculationsAndCharts!$A620+$A$11,0,1,1)","v":0},{"$f":"IF(AND(A620<=$B$20,$S$14),$T$14,0)","v":0},{"$f":"IF(AND(A620<=$B$20,$S$15),$T$15,0)","v":0},{"$f":"IF(AND(A620<=$B$20,$S$16),$T$16,0)","v":0},{"$f":"IF(AND(A620<=$B$20,$S$17),$T$17,0)","v":0},{"$f":"IF(AND(A620<=$B$20,$S$18),$T$18,0)","v":0},0,0,0,0,0,0,0,0,0,0,0,0,0]
[590,{"$f":"OFFSET(InputPriceData!B$10,CalculationsAndCharts!$A621+$A$11,0,1,1)","v":"00:00:00"},{"$f":"OFFSET(InputPriceData!G$10,CalculationsAndCharts!$A621+$A$11,0,1,1)","v":0},{"$f":"OFFSET(InputPriceData!C$10,CalculationsAndCharts!$A621+$A$11,0,1,1)","v":0},{"$f":"OFFSET(InputPriceData!D$10,CalculationsAndCharts!$A621+$A$11,0,1,1)","v":0},{"$f":"OFFSET(InputPriceData!E$10,CalculationsAndCharts!$A621+$A$11,0,1,1)","v":0},{"$f":"OFFSET(InputPriceData!F$10,CalculationsAndCharts!$A621+$A$11,0,1,1)","v":0},{"$f":"IF(AND(A621<=$B$20,$S$14),$T$14,0)","v":0},{"$f":"IF(AND(A621<=$B$20,$S$15),$T$15,0)","v":0},{"$f":"IF(AND(A621<=$B$20,$S$16),$T$16,0)","v":0},{"$f":"IF(AND(A621<=$B$20,$S$17),$T$17,0)","v":0},{"$f":"IF(AND(A621<=$B$20,$S$18),$T$18,0)","v":0},0,0,0,0,0,0,0,0,0,0,0,0,0]
[591,{"$f":"OFFSET(InputPriceData!B$10,CalculationsAndCharts!$A622+$A$11,0,1,1)","v":"00:00:00"},{"$f":"OFFSET(InputPriceData!G$10,CalculationsAndCharts!$A622+$A$11,0,1,1)","v":0},{"$f":"OFFSET(InputPriceData!C$10,CalculationsAndCharts!$A622+$A$11,0,1,1)","v":0},{"$f":"OFFSET(InputPriceData!D$10,CalculationsAndCharts!$A622+$A$11,0,1,1)","v":0},{"$f":"OFFSET(InputPriceData!E$10,CalculationsAndCharts!$A622+$A$11,0,1,1)","v":0},{"$f":"OFFSET(InputPriceData!F$10,CalculationsAndCharts!$A622+$A$11,0,1,1)","v":0},{"$f":"IF(AND(A622<=$B$20,$S$14),$T$14,0)","v":0},{"$f":"IF(AND(A622<=$B$20,$S$15),$T$15,0)","v":0},{"$f":"IF(AND(A622<=$B$20,$S$16),$T$16,0)","v":0},{"$f":"IF(AND(A622<=$B$20,$S$17),$T$17,0)","v":0},{"$f":"IF(AND(A622<=$B$20,$S$18),$T$18,0)","v":0},0,0,0,0,0,0,0,0,0,0,0,0,0]
[592,{"$f":"OFFSET(InputPriceData!B$10,CalculationsAndCharts!$A623+$A$11,0,1,1)","v":"00:00:00"},{"$f":"OFFSET(InputPriceData!G$10,CalculationsAndCharts!$A623+$A$11,0,1,1)","v":0},{"$f":"OFFSET(InputPriceData!C$10,CalculationsAndCharts!$A623+$A$11,0,1,1)","v":0},{"$f":"OFFSET(InputPriceData!D$10,CalculationsAndCharts!$A623+$A$11,0,1,1)","v":0},{"$f":"OFFSET(InputPriceData!E$10,CalculationsAndCharts!$A623+$A$11,0,1,1)","v":0},{"$f":"OFFSET(InputPriceData!F$10,CalculationsAndCharts!$A623+$A$11,0,1,1)","v":0},{"$f":"IF(AND(A623<=$B$20,$S$14),$T$14,0)","v":0},{"$f":"IF(AND(A623<=$B$20,$S$15),$T$15,0)","v":0},{"$f":"IF(AND(A623<=$B$20,$S$16),$T$16,0)","v":0},{"$f":"IF(AND(A623<=$B$20,$S$17),$T$17,0)","v":0},{"$f":"IF(AND(A623<=$B$20,$S$18),$T$18,0)","v":0},0,0,0,0,0,0,0,0,0,0,0,0,0]
[593,{"$f":"OFFSET(InputPriceData!B$10,CalculationsAndCharts!$A624+$A$11,0,1,1)","v":"00:00:00"},{"$f":"OFFSET(InputPriceData!G$10,CalculationsAndCharts!$A624+$A$11,0,1,1)","v":0},{"$f":"OFFSET(InputPriceData!C$10,CalculationsAndCharts!$A624+$A$11,0,1,1)","v":0},{"$f":"OFFSET(InputPriceData!D$10,CalculationsAndCharts!$A624+$A$11,0,1,1)","v":0},{"$f":"OFFSET(InputPriceData!E$10,CalculationsAndCharts!$A624+$A$11,0,1,1)","v":0},{"$f":"OFFSET(InputPriceData!F$10,CalculationsAndCharts!$A624+$A$11,0,1,1)","v":0},{"$f":"IF(AND(A624<=$B$20,$S$14),$T$14,0)","v":0},{"$f":"IF(AND(A624<=$B$20,$S$15),$T$15,0)","v":0},{"$f":"IF(AND(A624<=$B$20,$S$16),$T$16,0)","v":0},{"$f":"IF(AND(A624<=$B$20,$S$17),$T$17,0)","v":0},{"$f":"IF(AND(A624<=$B$20,$S$18),$T$18,0)","v":0},0,0,0,0,0,0,0,0,0,0,0,0,0]
[594,{"$f":"OFFSET(InputPriceData!B$10,CalculationsAndCharts!$A625+$A$11,0,1,1)","v":"00:00:00"},{"$f":"OFFSET(InputPriceData!G$10,CalculationsAndCharts!$A625+$A$11,0,1,1)","v":0},{"$f":"OFFSET(InputPriceData!C$10,CalculationsAndCharts!$A625+$A$11,0,1,1)","v":0},{"$f":"OFFSET(InputPriceData!D$10,CalculationsAndCharts!$A625+$A$11,0,1,1)","v":0},{"$f":"OFFSET(InputPriceData!E$10,CalculationsAndCharts!$A625+$A$11,0,1,1)","v":0},{"$f":"OFFSET(InputPriceData!F$10,CalculationsAndCharts!$A625+$A$11,0,1,1)","v":0},{"$f":"IF(AND(A625<=$B$20,$S$14),$T$14,0)","v":0},{"$f":"IF(AND(A625<=$B$20,$S$15),$T$15,0)","v":0},{"$f":"IF(AND(A625<=$B$20,$S$16),$T$16,0)","v":0},{"$f":"IF(AND(A625<=$B$20,$S$17),$T$17,0)","v":0},{"$f":"IF(AND(A625<=$B$20,$S$18),$T$18,0)","v":0},0,0,0,0,0,0,0,0,0,0,0,0,0]
[595,{"$f":"OFFSET(InputPriceData!B$10,CalculationsAndCharts!$A626+$A$11,0,1,1)","v":"00:00:00"},{"$f":"OFFSET(InputPriceData!G$10,CalculationsAndCharts!$A626+$A$11,0,1,1)","v":0},{"$f":"OFFSET(InputPriceData!C$10,CalculationsAndCharts!$A626+$A$11,0,1,1)","v":0},{"$f":"OFFSET(InputPriceData!D$10,CalculationsAndCharts!$A626+$A$11,0,1,1)","v":0},{"$f":"OFFSET(InputPriceData!E$10,CalculationsAndCharts!$A626+$A$11,0,1,1)","v":0},{"$f":"OFFSET(InputPriceData!F$10,CalculationsAndCharts!$A626+$A$11,0,1,1)","v":0},{"$f":"IF(AND(A626<=$B$20,$S$14),$T$14,0)","v":0},{"$f":"IF(AND(A626<=$B$20,$S$15),$T$15,0)","v":0},{"$f":"IF(AND(A626<=$B$20,$S$16),$T$16,0)","v":0},{"$f":"IF(AND(A626<=$B$20,$S$17),$T$17,0)","v":0},{"$f":"IF(AND(A626<=$B$20,$S$18),$T$18,0)","v":0},0,0,0,0,0,0,0,0,0,0,0,0,0]
[596,{"$f":"OFFSET(InputPriceData!B$10,CalculationsAndCharts!$A627+$A$11,0,1,1)","v":"00:00:00"},{"$f":"OFFSET(InputPriceData!G$10,CalculationsAndCharts!$A627+$A$11,0,1,1)","v":0},{"$f":"OFFSET(InputPriceData!C$10,CalculationsAndCharts!$A627+$A$11,0,1,1)","v":0},{"$f":"OFFSET(InputPriceData!D$10,CalculationsAndCharts!$A627+$A$11,0,1,1)","v":0},{"$f":"OFFSET(InputPriceData!E$10,CalculationsAndCharts!$A627+$A$11,0,1,1)","v":0},{"$f":"OFFSET(InputPriceData!F$10,CalculationsAndCharts!$A627+$A$11,0,1,1)","v":0},{"$f":"IF(AND(A627<=$B$20,$S$14),$T$14,0)","v":0},{"$f":"IF(AND(A627<=$B$20,$S$15),$T$15,0)","v":0},{"$f":"IF(AND(A627<=$B$20,$S$16),$T$16,0)","v":0},{"$f":"IF(AND(A627<=$B$20,$S$17),$T$17,0)","v":0},{"$f":"IF(AND(A627<=$B$20,$S$18),$T$18,0)","v":0},0,0,0,0,0,0,0,0,0,0,0,0,0]
[597,{"$f":"OFFSET(InputPriceData!B$10,CalculationsAndCharts!$A628+$A$11,0,1,1)","v":"00:00:00"},{"$f":"OFFSET(InputPriceData!G$10,CalculationsAndCharts!$A628+$A$11,0,1,1)","v":0},{"$f":"OFFSET(InputPriceData!C$10,CalculationsAndCharts!$A628+$A$11,0,1,1)","v":0},{"$f":"OFFSET(InputPriceData!D$10,CalculationsAndCharts!$A628+$A$11,0,1,1)","v":0},{"$f":"OFFSET(InputPriceData!E$10,CalculationsAndCharts!$A628+$A$11,0,1,1)","v":0},{"$f":"OFFSET(InputPriceData!F$10,CalculationsAndCharts!$A628+$A$11,0,1,1)","v":0},{"$f":"IF(AND(A628<=$B$20,$S$14),$T$14,0)","v":0},{"$f":"IF(AND(A628<=$B$20,$S$15),$T$15,0)","v":0},{"$f":"IF(AND(A628<=$B$20,$S$16),$T$16,0)","v":0},{"$f":"IF(AND(A628<=$B$20,$S$17),$T$17,0)","v":0},{"$f":"IF(AND(A628<=$B$20,$S$18),$T$18,0)","v":0},0,0,0,0,0,0,0,0,0,0,0,0,0]
[598,{"$f":"OFFSET(InputPriceData!B$10,CalculationsAndCharts!$A629+$A$11,0,1,1)","v":"00:00:00"},{"$f":"OFFSET(InputPriceData!G$10,CalculationsAndCharts!$A629+$A$11,0,1,1)","v":0},{"$f":"OFFSET(InputPriceData!C$10,CalculationsAndCharts!$A629+$A$11,0,1,1)","v":0},{"$f":"OFFSET(InputPriceData!D$10,CalculationsAndCharts!$A629+$A$11,0,1,1)","v":0},{"$f":"OFFSET(InputPriceData!E$10,CalculationsAndCharts!$A629+$A$11,0,1,1)","v":0},{"$f":"OFFSET(InputPriceData!F$10,CalculationsAndCharts!$A629+$A$11,0,1,1)","v":0},{"$f":"IF(AND(A629<=$B$20,$S$14),$T$14,0)","v":0},{"$f":"IF(AND(A629<=$B$20,$S$15),$T$15,0)","v":0},{"$f":"IF(AND(A629<=$B$20,$S$16),$T$16,0)","v":0},{"$f":"IF(AND(A629<=$B$20,$S$17),$T$17,0)","v":0},{"$f":"IF(AND(A629<=$B$20,$S$18),$T$18,0)","v":0},0,0,0,0,0,0,0,0,0,0,0,0,0]
[599,{"$f":"OFFSET(InputPriceData!B$10,CalculationsAndCharts!$A630+$A$11,0,1,1)","v":"00:00:00"},{"$f":"OFFSET(InputPriceData!G$10,CalculationsAndCharts!$A630+$A$11,0,1,1)","v":0},{"$f":"OFFSET(InputPriceData!C$10,CalculationsAndCharts!$A630+$A$11,0,1,1)","v":0},{"$f":"OFFSET(InputPriceData!D$10,CalculationsAndCharts!$A630+$A$11,0,1,1)","v":0},{"$f":"OFFSET(InputPriceData!E$10,CalculationsAndCharts!$A630+$A$11,0,1,1)","v":0},{"$f":"OFFSET(InputPriceData!F$10,CalculationsAndCharts!$A630+$A$11,0,1,1)","v":0},{"$f":"IF(AND(A630<=$B$20,$S$14),$T$14,0)","v":0},{"$f":"IF(AND(A630<=$B$20,$S$15),$T$15,0)","v":0},{"$f":"IF(AND(A630<=$B$20,$S$16),$T$16,0)","v":0},{"$f":"IF(AND(A630<=$B$20,$S$17),$T$17,0)","v":0},{"$f":"IF(AND(A630<=$B$20,$S$18),$T$18,0)","v":0},0,0,0,0,0,0,0,0,0,0,0,0,0]
[600,{"$f":"OFFSET(InputPriceData!B$10,CalculationsAndCharts!$A631+$A$11,0,1,1)","v":"00:00:00"},{"$f":"OFFSET(InputPriceData!G$10,CalculationsAndCharts!$A631+$A$11,0,1,1)","v":0},{"$f":"OFFSET(InputPriceData!C$10,CalculationsAndCharts!$A631+$A$11,0,1,1)","v":0},{"$f":"OFFSET(InputPriceData!D$10,CalculationsAndCharts!$A631+$A$11,0,1,1)","v":0},{"$f":"OFFSET(InputPriceData!E$10,CalculationsAndCharts!$A631+$A$11,0,1,1)","v":0},{"$f":"OFFSET(InputPriceData!F$10,CalculationsAndCharts!$A631+$A$11,0,1,1)","v":0},{"$f":"IF(AND(A631<=$B$20,$S$14),$T$14,0)","v":0},{"$f":"IF(AND(A631<=$B$20,$S$15),$T$15,0)","v":0},{"$f":"IF(AND(A631<=$B$20,$S$16),$T$16,0)","v":0},{"$f":"IF(AND(A631<=$B$20,$S$17),$T$17,0)","v":0},{"$f":"IF(AND(A631<=$B$20,$S$18),$T$18,0)","v":0},0,0,0,0,0,0,0,0,0,0,0,0,0]
[601,{"$f":"OFFSET(InputPriceData!B$10,CalculationsAndCharts!$A632+$A$11,0,1,1)","v":"00:00:00"},{"$f":"OFFSET(InputPriceData!G$10,CalculationsAndCharts!$A632+$A$11,0,1,1)","v":0},{"$f":"OFFSET(InputPriceData!C$10,CalculationsAndCharts!$A632+$A$11,0,1,1)","v":0},{"$f":"OFFSET(InputPriceData!D$10,CalculationsAndCharts!$A632+$A$11,0,1,1)","v":0},{"$f":"OFFSET(InputPriceData!E$10,CalculationsAndCharts!$A632+$A$11,0,1,1)","v":0},{"$f":"OFFSET(InputPriceData!F$10,CalculationsAndCharts!$A632+$A$11,0,1,1)","v":0},{"$f":"IF(AND(A632<=$B$20,$S$14),$T$14,0)","v":0},{"$f":"IF(AND(A632<=$B$20,$S$15),$T$15,0)","v":0},{"$f":"IF(AND(A632<=$B$20,$S$16),$T$16,0)","v":0},{"$f":"IF(AND(A632<=$B$20,$S$17),$T$17,0)","v":0},{"$f":"IF(AND(A632<=$B$20,$S$18),$T$18,0)","v":0},0,0,0,0,0,0,0,0,0,0,0,0,0]
[602,{"$f":"OFFSET(InputPriceData!B$10,CalculationsAndCharts!$A633+$A$11,0,1,1)","v":"00:00:00"},{"$f":"OFFSET(InputPriceData!G$10,CalculationsAndCharts!$A633+$A$11,0,1,1)","v":0},{"$f":"OFFSET(InputPriceData!C$10,CalculationsAndCharts!$A633+$A$11,0,1,1)","v":0},{"$f":"OFFSET(InputPriceData!D$10,CalculationsAndCharts!$A633+$A$11,0,1,1)","v":0},{"$f":"OFFSET(InputPriceData!E$10,CalculationsAndCharts!$A633+$A$11,0,1,1)","v":0},{"$f":"OFFSET(InputPriceData!F$10,CalculationsAndCharts!$A633+$A$11,0,1,1)","v":0},{"$f":"IF(AND(A633<=$B$20,$S$14),$T$14,0)","v":0},{"$f":"IF(AND(A633<=$B$20,$S$15),$T$15,0)","v":0},{"$f":"IF(AND(A633<=$B$20,$S$16),$T$16,0)","v":0},{"$f":"IF(AND(A633<=$B$20,$S$17),$T$17,0)","v":0},{"$f":"IF(AND(A633<=$B$20,$S$18),$T$18,0)","v":0},0,0,0,0,0,0,0,0,0,0,0,0,0]
[603,{"$f":"OFFSET(InputPriceData!B$10,CalculationsAndCharts!$A634+$A$11,0,1,1)","v":"00:00:00"},{"$f":"OFFSET(InputPriceData!G$10,CalculationsAndCharts!$A634+$A$11,0,1,1)","v":0},{"$f":"OFFSET(InputPriceData!C$10,CalculationsAndCharts!$A634+$A$11,0,1,1)","v":0},{"$f":"OFFSET(InputPriceData!D$10,CalculationsAndCharts!$A634+$A$11,0,1,1)","v":0},{"$f":"OFFSET(InputPriceData!E$10,CalculationsAndCharts!$A634+$A$11,0,1,1)","v":0},{"$f":"OFFSET(InputPriceData!F$10,CalculationsAndCharts!$A634+$A$11,0,1,1)","v":0},{"$f":"IF(AND(A634<=$B$20,$S$14),$T$14,0)","v":0},{"$f":"IF(AND(A634<=$B$20,$S$15),$T$15,0)","v":0},{"$f":"IF(AND(A634<=$B$20,$S$16),$T$16,0)","v":0},{"$f":"IF(AND(A634<=$B$20,$S$17),$T$17,0)","v":0},{"$f":"IF(AND(A634<=$B$20,$S$18),$T$18,0)","v":0},0,0,0,0,0,0,0,0,0,0,0,0,0]
[604,{"$f":"OFFSET(InputPriceData!B$10,CalculationsAndCharts!$A635+$A$11,0,1,1)","v":"00:00:00"},{"$f":"OFFSET(InputPriceData!G$10,CalculationsAndCharts!$A635+$A$11,0,1,1)","v":0},{"$f":"OFFSET(InputPriceData!C$10,CalculationsAndCharts!$A635+$A$11,0,1,1)","v":0},{"$f":"OFFSET(InputPriceData!D$10,CalculationsAndCharts!$A635+$A$11,0,1,1)","v":0},{"$f":"OFFSET(InputPriceData!E$10,CalculationsAndCharts!$A635+$A$11,0,1,1)","v":0},{"$f":"OFFSET(InputPriceData!F$10,CalculationsAndCharts!$A635+$A$11,0,1,1)","v":0},{"$f":"IF(AND(A635<=$B$20,$S$14),$T$14,0)","v":0},{"$f":"IF(AND(A635<=$B$20,$S$15),$T$15,0)","v":0},{"$f":"IF(AND(A635<=$B$20,$S$16),$T$16,0)","v":0},{"$f":"IF(AND(A635<=$B$20,$S$17),$T$17,0)","v":0},{"$f":"IF(AND(A635<=$B$20,$S$18),$T$18,0)","v":0},0,0,0,0,0,0,0,0,0,0,0,0,0]
[605,{"$f":"OFFSET(InputPriceData!B$10,CalculationsAndCharts!$A636+$A$11,0,1,1)","v":"00:00:00"},{"$f":"OFFSET(InputPriceData!G$10,CalculationsAndCharts!$A636+$A$11,0,1,1)","v":0},{"$f":"OFFSET(InputPriceData!C$10,CalculationsAndCharts!$A636+$A$11,0,1,1)","v":0},{"$f":"OFFSET(InputPriceData!D$10,CalculationsAndCharts!$A636+$A$11,0,1,1)","v":0},{"$f":"OFFSET(InputPriceData!E$10,CalculationsAndCharts!$A636+$A$11,0,1,1)","v":0},{"$f":"OFFSET(InputPriceData!F$10,CalculationsAndCharts!$A636+$A$11,0,1,1)","v":0},{"$f":"IF(AND(A636<=$B$20,$S$14),$T$14,0)","v":0},{"$f":"IF(AND(A636<=$B$20,$S$15),$T$15,0)","v":0},{"$f":"IF(AND(A636<=$B$20,$S$16),$T$16,0)","v":0},{"$f":"IF(AND(A636<=$B$20,$S$17),$T$17,0)","v":0},{"$f":"IF(AND(A636<=$B$20,$S$18),$T$18,0)","v":0},0,0,0,0,0,0,0,0,0,0,0,0,0]
[606,{"$f":"OFFSET(InputPriceData!B$10,CalculationsAndCharts!$A637+$A$11,0,1,1)","v":"00:00:00"},{"$f":"OFFSET(InputPriceData!G$10,CalculationsAndCharts!$A637+$A$11,0,1,1)","v":0},{"$f":"OFFSET(InputPriceData!C$10,CalculationsAndCharts!$A637+$A$11,0,1,1)","v":0},{"$f":"OFFSET(InputPriceData!D$10,CalculationsAndCharts!$A637+$A$11,0,1,1)","v":0},{"$f":"OFFSET(InputPriceData!E$10,CalculationsAndCharts!$A637+$A$11,0,1,1)","v":0},{"$f":"OFFSET(InputPriceData!F$10,CalculationsAndCharts!$A637+$A$11,0,1,1)","v":0},{"$f":"IF(AND(A637<=$B$20,$S$14),$T$14,0)","v":0},{"$f":"IF(AND(A637<=$B$20,$S$15),$T$15,0)","v":0},{"$f":"IF(AND(A637<=$B$20,$S$16),$T$16,0)","v":0},{"$f":"IF(AND(A637<=$B$20,$S$17),$T$17,0)","v":0},{"$f":"IF(AND(A637<=$B$20,$S$18),$T$18,0)","v":0},0,0,0,0,0,0,0,0,0,0,0,0,0]
[607,{"$f":"OFFSET(InputPriceData!B$10,CalculationsAndCharts!$A638+$A$11,0,1,1)","v":"00:00:00"},{"$f":"OFFSET(InputPriceData!G$10,CalculationsAndCharts!$A638+$A$11,0,1,1)","v":0},{"$f":"OFFSET(InputPriceData!C$10,CalculationsAndCharts!$A638+$A$11,0,1,1)","v":0},{"$f":"OFFSET(InputPriceData!D$10,CalculationsAndCharts!$A638+$A$11,0,1,1)","v":0},{"$f":"OFFSET(InputPriceData!E$10,CalculationsAndCharts!$A638+$A$11,0,1,1)","v":0},{"$f":"OFFSET(InputPriceData!F$10,CalculationsAndCharts!$A638+$A$11,0,1,1)","v":0},{"$f":"IF(AND(A638<=$B$20,$S$14),$T$14,0)","v":0},{"$f":"IF(AND(A638<=$B$20,$S$15),$T$15,0)","v":0},{"$f":"IF(AND(A638<=$B$20,$S$16),$T$16,0)","v":0},{"$f":"IF(AND(A638<=$B$20,$S$17),$T$17,0)","v":0},{"$f":"IF(AND(A638<=$B$20,$S$18),$T$18,0)","v":0},0,0,0,0,0,0,0,0,0,0,0,0,0]
[608,{"$f":"OFFSET(InputPriceData!B$10,CalculationsAndCharts!$A639+$A$11,0,1,1)","v":"00:00:00"},{"$f":"OFFSET(InputPriceData!G$10,CalculationsAndCharts!$A639+$A$11,0,1,1)","v":0},{"$f":"OFFSET(InputPriceData!C$10,CalculationsAndCharts!$A639+$A$11,0,1,1)","v":0},{"$f":"OFFSET(InputPriceData!D$10,CalculationsAndCharts!$A639+$A$11,0,1,1)","v":0},{"$f":"OFFSET(InputPriceData!E$10,CalculationsAndCharts!$A639+$A$11,0,1,1)","v":0},{"$f":"OFFSET(InputPriceData!F$10,CalculationsAndCharts!$A639+$A$11,0,1,1)","v":0},{"$f":"IF(AND(A639<=$B$20,$S$14),$T$14,0)","v":0},{"$f":"IF(AND(A639<=$B$20,$S$15),$T$15,0)","v":0},{"$f":"IF(AND(A639<=$B$20,$S$16),$T$16,0)","v":0},{"$f":"IF(AND(A639<=$B$20,$S$17),$T$17,0)","v":0},{"$f":"IF(AND(A639<=$B$20,$S$18),$T$18,0)","v":0},0,0,0,0,0,0,0,0,0,0,0,0,0]
[609,{"$f":"OFFSET(InputPriceData!B$10,CalculationsAndCharts!$A640+$A$11,0,1,1)","v":"00:00:00"},{"$f":"OFFSET(InputPriceData!G$10,CalculationsAndCharts!$A640+$A$11,0,1,1)","v":0},{"$f":"OFFSET(InputPriceData!C$10,CalculationsAndCharts!$A640+$A$11,0,1,1)","v":0},{"$f":"OFFSET(InputPriceData!D$10,CalculationsAndCharts!$A640+$A$11,0,1,1)","v":0},{"$f":"OFFSET(InputPriceData!E$10,CalculationsAndCharts!$A640+$A$11,0,1,1)","v":0},{"$f":"OFFSET(InputPriceData!F$10,CalculationsAndCharts!$A640+$A$11,0,1,1)","v":0},{"$f":"IF(AND(A640<=$B$20,$S$14),$T$14,0)","v":0},{"$f":"IF(AND(A640<=$B$20,$S$15),$T$15,0)","v":0},{"$f":"IF(AND(A640<=$B$20,$S$16),$T$16,0)","v":0},{"$f":"IF(AND(A640<=$B$20,$S$17),$T$17,0)","v":0},{"$f":"IF(AND(A640<=$B$20,$S$18),$T$18,0)","v":0},0,0,0,0,0,0,0,0,0,0,0,0,0]
[610,{"$f":"OFFSET(InputPriceData!B$10,CalculationsAndCharts!$A641+$A$11,0,1,1)","v":"00:00:00"},{"$f":"OFFSET(InputPriceData!G$10,CalculationsAndCharts!$A641+$A$11,0,1,1)","v":0},{"$f":"OFFSET(InputPriceData!C$10,CalculationsAndCharts!$A641+$A$11,0,1,1)","v":0},{"$f":"OFFSET(InputPriceData!D$10,CalculationsAndCharts!$A641+$A$11,0,1,1)","v":0},{"$f":"OFFSET(InputPriceData!E$10,CalculationsAndCharts!$A641+$A$11,0,1,1)","v":0},{"$f":"OFFSET(InputPriceData!F$10,CalculationsAndCharts!$A641+$A$11,0,1,1)","v":0},{"$f":"IF(AND(A641<=$B$20,$S$14),$T$14,0)","v":0},{"$f":"IF(AND(A641<=$B$20,$S$15),$T$15,0)","v":0},{"$f":"IF(AND(A641<=$B$20,$S$16),$T$16,0)","v":0},{"$f":"IF(AND(A641<=$B$20,$S$17),$T$17,0)","v":0},{"$f":"IF(AND(A641<=$B$20,$S$18),$T$18,0)","v":0},0,0,0,0,0,0,0,0,0,0,0,0,0]
[611,{"$f":"OFFSET(InputPriceData!B$10,CalculationsAndCharts!$A642+$A$11,0,1,1)","v":"00:00:00"},{"$f":"OFFSET(InputPriceData!G$10,CalculationsAndCharts!$A642+$A$11,0,1,1)","v":0},{"$f":"OFFSET(InputPriceData!C$10,CalculationsAndCharts!$A642+$A$11,0,1,1)","v":0},{"$f":"OFFSET(InputPriceData!D$10,CalculationsAndCharts!$A642+$A$11,0,1,1)","v":0},{"$f":"OFFSET(InputPriceData!E$10,CalculationsAndCharts!$A642+$A$11,0,1,1)","v":0},{"$f":"OFFSET(InputPriceData!F$10,CalculationsAndCharts!$A642+$A$11,0,1,1)","v":0},{"$f":"IF(AND(A642<=$B$20,$S$14),$T$14,0)","v":0},{"$f":"IF(AND(A642<=$B$20,$S$15),$T$15,0)","v":0},{"$f":"IF(AND(A642<=$B$20,$S$16),$T$16,0)","v":0},{"$f":"IF(AND(A642<=$B$20,$S$17),$T$17,0)","v":0},{"$f":"IF(AND(A642<=$B$20,$S$18),$T$18,0)","v":0},0,0,0,0,0,0,0,0,0,0,0,0,0]
[612,{"$f":"OFFSET(InputPriceData!B$10,CalculationsAndCharts!$A643+$A$11,0,1,1)","v":"00:00:00"},{"$f":"OFFSET(InputPriceData!G$10,CalculationsAndCharts!$A643+$A$11,0,1,1)","v":0},{"$f":"OFFSET(InputPriceData!C$10,CalculationsAndCharts!$A643+$A$11,0,1,1)","v":0},{"$f":"OFFSET(InputPriceData!D$10,CalculationsAndCharts!$A643+$A$11,0,1,1)","v":0},{"$f":"OFFSET(InputPriceData!E$10,CalculationsAndCharts!$A643+$A$11,0,1,1)","v":0},{"$f":"OFFSET(InputPriceData!F$10,CalculationsAndCharts!$A643+$A$11,0,1,1)","v":0},{"$f":"IF(AND(A643<=$B$20,$S$14),$T$14,0)","v":0},{"$f":"IF(AND(A643<=$B$20,$S$15),$T$15,0)","v":0},{"$f":"IF(AND(A643<=$B$20,$S$16),$T$16,0)","v":0},{"$f":"IF(AND(A643<=$B$20,$S$17),$T$17,0)","v":0},{"$f":"IF(AND(A643<=$B$20,$S$18),$T$18,0)","v":0},0,0,0,0,0,0,0,0,0,0,0,0,0]
[613,{"$f":"OFFSET(InputPriceData!B$10,CalculationsAndCharts!$A644+$A$11,0,1,1)","v":"00:00:00"},{"$f":"OFFSET(InputPriceData!G$10,CalculationsAndCharts!$A644+$A$11,0,1,1)","v":0},{"$f":"OFFSET(InputPriceData!C$10,CalculationsAndCharts!$A644+$A$11,0,1,1)","v":0},{"$f":"OFFSET(InputPriceData!D$10,CalculationsAndCharts!$A644+$A$11,0,1,1)","v":0},{"$f":"OFFSET(InputPriceData!E$10,CalculationsAndCharts!$A644+$A$11,0,1,1)","v":0},{"$f":"OFFSET(InputPriceData!F$10,CalculationsAndCharts!$A644+$A$11,0,1,1)","v":0},{"$f":"IF(AND(A644<=$B$20,$S$14),$T$14,0)","v":0},{"$f":"IF(AND(A644<=$B$20,$S$15),$T$15,0)","v":0},{"$f":"IF(AND(A644<=$B$20,$S$16),$T$16,0)","v":0},{"$f":"IF(AND(A644<=$B$20,$S$17),$T$17,0)","v":0},{"$f":"IF(AND(A644<=$B$20,$S$18),$T$18,0)","v":0},0,0,0,0,0,0,0,0,0,0,0,0,0]
[614,{"$f":"OFFSET(InputPriceData!B$10,CalculationsAndCharts!$A645+$A$11,0,1,1)","v":"00:00:00"},{"$f":"OFFSET(InputPriceData!G$10,CalculationsAndCharts!$A645+$A$11,0,1,1)","v":0},{"$f":"OFFSET(InputPriceData!C$10,CalculationsAndCharts!$A645+$A$11,0,1,1)","v":0},{"$f":"OFFSET(InputPriceData!D$10,CalculationsAndCharts!$A645+$A$11,0,1,1)","v":0},{"$f":"OFFSET(InputPriceData!E$10,CalculationsAndCharts!$A645+$A$11,0,1,1)","v":0},{"$f":"OFFSET(InputPriceData!F$10,CalculationsAndCharts!$A645+$A$11,0,1,1)","v":0},{"$f":"IF(AND(A645<=$B$20,$S$14),$T$14,0)","v":0},{"$f":"IF(AND(A645<=$B$20,$S$15),$T$15,0)","v":0},{"$f":"IF(AND(A645<=$B$20,$S$16),$T$16,0)","v":0},{"$f":"IF(AND(A645<=$B$20,$S$17),$T$17,0)","v":0},{"$f":"IF(AND(A645<=$B$20,$S$18),$T$18,0)","v":0},0,0,0,0,0,0,0,0,0,0,0,0,0]
[615,{"$f":"OFFSET(InputPriceData!B$10,CalculationsAndCharts!$A646+$A$11,0,1,1)","v":"00:00:00"},{"$f":"OFFSET(InputPriceData!G$10,CalculationsAndCharts!$A646+$A$11,0,1,1)","v":0},{"$f":"OFFSET(InputPriceData!C$10,CalculationsAndCharts!$A646+$A$11,0,1,1)","v":0},{"$f":"OFFSET(InputPriceData!D$10,CalculationsAndCharts!$A646+$A$11,0,1,1)","v":0},{"$f":"OFFSET(InputPriceData!E$10,CalculationsAndCharts!$A646+$A$11,0,1,1)","v":0},{"$f":"OFFSET(InputPriceData!F$10,CalculationsAndCharts!$A646+$A$11,0,1,1)","v":0},{"$f":"IF(AND(A646<=$B$20,$S$14),$T$14,0)","v":0},{"$f":"IF(AND(A646<=$B$20,$S$15),$T$15,0)","v":0},{"$f":"IF(AND(A646<=$B$20,$S$16),$T$16,0)","v":0},{"$f":"IF(AND(A646<=$B$20,$S$17),$T$17,0)","v":0},{"$f":"IF(AND(A646<=$B$20,$S$18),$T$18,0)","v":0},0,0,0,0,0,0,0,0,0,0,0,0,0]
[616,{"$f":"OFFSET(InputPriceData!B$10,CalculationsAndCharts!$A647+$A$11,0,1,1)","v":"00:00:00"},{"$f":"OFFSET(InputPriceData!G$10,CalculationsAndCharts!$A647+$A$11,0,1,1)","v":0},{"$f":"OFFSET(InputPriceData!C$10,CalculationsAndCharts!$A647+$A$11,0,1,1)","v":0},{"$f":"OFFSET(InputPriceData!D$10,CalculationsAndCharts!$A647+$A$11,0,1,1)","v":0},{"$f":"OFFSET(InputPriceData!E$10,CalculationsAndCharts!$A647+$A$11,0,1,1)","v":0},{"$f":"OFFSET(InputPriceData!F$10,CalculationsAndCharts!$A647+$A$11,0,1,1)","v":0},{"$f":"IF(AND(A647<=$B$20,$S$14),$T$14,0)","v":0},{"$f":"IF(AND(A647<=$B$20,$S$15),$T$15,0)","v":0},{"$f":"IF(AND(A647<=$B$20,$S$16),$T$16,0)","v":0},{"$f":"IF(AND(A647<=$B$20,$S$17),$T$17,0)","v":0},{"$f":"IF(AND(A647<=$B$20,$S$18),$T$18,0)","v":0},0,0,0,0,0,0,0,0,0,0,0,0,0]
[617,{"$f":"OFFSET(InputPriceData!B$10,CalculationsAndCharts!$A648+$A$11,0,1,1)","v":"00:00:00"},{"$f":"OFFSET(InputPriceData!G$10,CalculationsAndCharts!$A648+$A$11,0,1,1)","v":0},{"$f":"OFFSET(InputPriceData!C$10,CalculationsAndCharts!$A648+$A$11,0,1,1)","v":0},{"$f":"OFFSET(InputPriceData!D$10,CalculationsAndCharts!$A648+$A$11,0,1,1)","v":0},{"$f":"OFFSET(InputPriceData!E$10,CalculationsAndCharts!$A648+$A$11,0,1,1)","v":0},{"$f":"OFFSET(InputPriceData!F$10,CalculationsAndCharts!$A648+$A$11,0,1,1)","v":0},{"$f":"IF(AND(A648<=$B$20,$S$14),$T$14,0)","v":0},{"$f":"IF(AND(A648<=$B$20,$S$15),$T$15,0)","v":0},{"$f":"IF(AND(A648<=$B$20,$S$16),$T$16,0)","v":0},{"$f":"IF(AND(A648<=$B$20,$S$17),$T$17,0)","v":0},{"$f":"IF(AND(A648<=$B$20,$S$18),$T$18,0)","v":0},0,0,0,0,0,0,0,0,0,0,0,0,0]
[618,{"$f":"OFFSET(InputPriceData!B$10,CalculationsAndCharts!$A649+$A$11,0,1,1)","v":"00:00:00"},{"$f":"OFFSET(InputPriceData!G$10,CalculationsAndCharts!$A649+$A$11,0,1,1)","v":0},{"$f":"OFFSET(InputPriceData!C$10,CalculationsAndCharts!$A649+$A$11,0,1,1)","v":0},{"$f":"OFFSET(InputPriceData!D$10,CalculationsAndCharts!$A649+$A$11,0,1,1)","v":0},{"$f":"OFFSET(InputPriceData!E$10,CalculationsAndCharts!$A649+$A$11,0,1,1)","v":0},{"$f":"OFFSET(InputPriceData!F$10,CalculationsAndCharts!$A649+$A$11,0,1,1)","v":0},{"$f":"IF(AND(A649<=$B$20,$S$14),$T$14,0)","v":0},{"$f":"IF(AND(A649<=$B$20,$S$15),$T$15,0)","v":0},{"$f":"IF(AND(A649<=$B$20,$S$16),$T$16,0)","v":0},{"$f":"IF(AND(A649<=$B$20,$S$17),$T$17,0)","v":0},{"$f":"IF(AND(A649<=$B$20,$S$18),$T$18,0)","v":0},0,0,0,0,0,0,0,0,0,0,0,0,0]
[619,{"$f":"OFFSET(InputPriceData!B$10,CalculationsAndCharts!$A650+$A$11,0,1,1)","v":"00:00:00"},{"$f":"OFFSET(InputPriceData!G$10,CalculationsAndCharts!$A650+$A$11,0,1,1)","v":0},{"$f":"OFFSET(InputPriceData!C$10,CalculationsAndCharts!$A650+$A$11,0,1,1)","v":0},{"$f":"OFFSET(InputPriceData!D$10,CalculationsAndCharts!$A650+$A$11,0,1,1)","v":0},{"$f":"OFFSET(InputPriceData!E$10,CalculationsAndCharts!$A650+$A$11,0,1,1)","v":0},{"$f":"OFFSET(InputPriceData!F$10,CalculationsAndCharts!$A650+$A$11,0,1,1)","v":0},{"$f":"IF(AND(A650<=$B$20,$S$14),$T$14,0)","v":0},{"$f":"IF(AND(A650<=$B$20,$S$15),$T$15,0)","v":0},{"$f":"IF(AND(A650<=$B$20,$S$16),$T$16,0)","v":0},{"$f":"IF(AND(A650<=$B$20,$S$17),$T$17,0)","v":0},{"$f":"IF(AND(A650<=$B$20,$S$18),$T$18,0)","v":0},0,0,0,0,0,0,0,0,0,0,0,0,0]
[620,{"$f":"OFFSET(InputPriceData!B$10,CalculationsAndCharts!$A651+$A$11,0,1,1)","v":"00:00:00"},{"$f":"OFFSET(InputPriceData!G$10,CalculationsAndCharts!$A651+$A$11,0,1,1)","v":0},{"$f":"OFFSET(InputPriceData!C$10,CalculationsAndCharts!$A651+$A$11,0,1,1)","v":0},{"$f":"OFFSET(InputPriceData!D$10,CalculationsAndCharts!$A651+$A$11,0,1,1)","v":0},{"$f":"OFFSET(InputPriceData!E$10,CalculationsAndCharts!$A651+$A$11,0,1,1)","v":0},{"$f":"OFFSET(InputPriceData!F$10,CalculationsAndCharts!$A651+$A$11,0,1,1)","v":0},{"$f":"IF(AND(A651<=$B$20,$S$14),$T$14,0)","v":0},{"$f":"IF(AND(A651<=$B$20,$S$15),$T$15,0)","v":0},{"$f":"IF(AND(A651<=$B$20,$S$16),$T$16,0)","v":0},{"$f":"IF(AND(A651<=$B$20,$S$17),$T$17,0)","v":0},{"$f":"IF(AND(A651<=$B$20,$S$18),$T$18,0)","v":0},0,0,0,0,0,0,0,0,0,0,0,0,0]
[621,{"$f":"OFFSET(InputPriceData!B$10,CalculationsAndCharts!$A652+$A$11,0,1,1)","v":"00:00:00"},{"$f":"OFFSET(InputPriceData!G$10,CalculationsAndCharts!$A652+$A$11,0,1,1)","v":0},{"$f":"OFFSET(InputPriceData!C$10,CalculationsAndCharts!$A652+$A$11,0,1,1)","v":0},{"$f":"OFFSET(InputPriceData!D$10,CalculationsAndCharts!$A652+$A$11,0,1,1)","v":0},{"$f":"OFFSET(InputPriceData!E$10,CalculationsAndCharts!$A652+$A$11,0,1,1)","v":0},{"$f":"OFFSET(InputPriceData!F$10,CalculationsAndCharts!$A652+$A$11,0,1,1)","v":0},{"$f":"IF(AND(A652<=$B$20,$S$14),$T$14,0)","v":0},{"$f":"IF(AND(A652<=$B$20,$S$15),$T$15,0)","v":0},{"$f":"IF(AND(A652<=$B$20,$S$16),$T$16,0)","v":0},{"$f":"IF(AND(A652<=$B$20,$S$17),$T$17,0)","v":0},{"$f":"IF(AND(A652<=$B$20,$S$18),$T$18,0)","v":0},0,0,0,0,0,0,0,0,0,0,0,0,0]
[622,{"$f":"OFFSET(InputPriceData!B$10,CalculationsAndCharts!$A653+$A$11,0,1,1)","v":"00:00:00"},{"$f":"OFFSET(InputPriceData!G$10,CalculationsAndCharts!$A653+$A$11,0,1,1)","v":0},{"$f":"OFFSET(InputPriceData!C$10,CalculationsAndCharts!$A653+$A$11,0,1,1)","v":0},{"$f":"OFFSET(InputPriceData!D$10,CalculationsAndCharts!$A653+$A$11,0,1,1)","v":0},{"$f":"OFFSET(InputPriceData!E$10,CalculationsAndCharts!$A653+$A$11,0,1,1)","v":0},{"$f":"OFFSET(InputPriceData!F$10,CalculationsAndCharts!$A653+$A$11,0,1,1)","v":0},{"$f":"IF(AND(A653<=$B$20,$S$14),$T$14,0)","v":0},{"$f":"IF(AND(A653<=$B$20,$S$15),$T$15,0)","v":0},{"$f":"IF(AND(A653<=$B$20,$S$16),$T$16,0)","v":0},{"$f":"IF(AND(A653<=$B$20,$S$17),$T$17,0)","v":0},{"$f":"IF(AND(A653<=$B$20,$S$18),$T$18,0)","v":0},0,0,0,0,0,0,0,0,0,0,0,0,0]
[623,{"$f":"OFFSET(InputPriceData!B$10,CalculationsAndCharts!$A654+$A$11,0,1,1)","v":"00:00:00"},{"$f":"OFFSET(InputPriceData!G$10,CalculationsAndCharts!$A654+$A$11,0,1,1)","v":0},{"$f":"OFFSET(InputPriceData!C$10,CalculationsAndCharts!$A654+$A$11,0,1,1)","v":0},{"$f":"OFFSET(InputPriceData!D$10,CalculationsAndCharts!$A654+$A$11,0,1,1)","v":0},{"$f":"OFFSET(InputPriceData!E$10,CalculationsAndCharts!$A654+$A$11,0,1,1)","v":0},{"$f":"OFFSET(InputPriceData!F$10,CalculationsAndCharts!$A654+$A$11,0,1,1)","v":0},{"$f":"IF(AND(A654<=$B$20,$S$14),$T$14,0)","v":0},{"$f":"IF(AND(A654<=$B$20,$S$15),$T$15,0)","v":0},{"$f":"IF(AND(A654<=$B$20,$S$16),$T$16,0)","v":0},{"$f":"IF(AND(A654<=$B$20,$S$17),$T$17,0)","v":0},{"$f":"IF(AND(A654<=$B$20,$S$18),$T$18,0)","v":0},0,0,0,0,0,0,0,0,0,0,0,0,0]
[624,{"$f":"OFFSET(InputPriceData!B$10,CalculationsAndCharts!$A655+$A$11,0,1,1)","v":"00:00:00"},{"$f":"OFFSET(InputPriceData!G$10,CalculationsAndCharts!$A655+$A$11,0,1,1)","v":0},{"$f":"OFFSET(InputPriceData!C$10,CalculationsAndCharts!$A655+$A$11,0,1,1)","v":0},{"$f":"OFFSET(InputPriceData!D$10,CalculationsAndCharts!$A655+$A$11,0,1,1)","v":0},{"$f":"OFFSET(InputPriceData!E$10,CalculationsAndCharts!$A655+$A$11,0,1,1)","v":0},{"$f":"OFFSET(InputPriceData!F$10,CalculationsAndCharts!$A655+$A$11,0,1,1)","v":0},{"$f":"IF(AND(A655<=$B$20,$S$14),$T$14,0)","v":0},{"$f":"IF(AND(A655<=$B$20,$S$15),$T$15,0)","v":0},{"$f":"IF(AND(A655<=$B$20,$S$16),$T$16,0)","v":0},{"$f":"IF(AND(A655<=$B$20,$S$17),$T$17,0)","v":0},{"$f":"IF(AND(A655<=$B$20,$S$18),$T$18,0)","v":0},0,0,0,0,0,0,0,0,0,0,0,0,0]
[625,{"$f":"OFFSET(InputPriceData!B$10,CalculationsAndCharts!$A656+$A$11,0,1,1)","v":"00:00:00"},{"$f":"OFFSET(InputPriceData!G$10,CalculationsAndCharts!$A656+$A$11,0,1,1)","v":0},{"$f":"OFFSET(InputPriceData!C$10,CalculationsAndCharts!$A656+$A$11,0,1,1)","v":0},{"$f":"OFFSET(InputPriceData!D$10,CalculationsAndCharts!$A656+$A$11,0,1,1)","v":0},{"$f":"OFFSET(InputPriceData!E$10,CalculationsAndCharts!$A656+$A$11,0,1,1)","v":0},{"$f":"OFFSET(InputPriceData!F$10,CalculationsAndCharts!$A656+$A$11,0,1,1)","v":0},{"$f":"IF(AND(A656<=$B$20,$S$14),$T$14,0)","v":0},{"$f":"IF(AND(A656<=$B$20,$S$15),$T$15,0)","v":0},{"$f":"IF(AND(A656<=$B$20,$S$16),$T$16,0)","v":0},{"$f":"IF(AND(A656<=$B$20,$S$17),$T$17,0)","v":0},{"$f":"IF(AND(A656<=$B$20,$S$18),$T$18,0)","v":0},0,0,0,0,0,0,0,0,0,0,0,0,0]
[626,{"$f":"OFFSET(InputPriceData!B$10,CalculationsAndCharts!$A657+$A$11,0,1,1)","v":"00:00:00"},{"$f":"OFFSET(InputPriceData!G$10,CalculationsAndCharts!$A657+$A$11,0,1,1)","v":0},{"$f":"OFFSET(InputPriceData!C$10,CalculationsAndCharts!$A657+$A$11,0,1,1)","v":0},{"$f":"OFFSET(InputPriceData!D$10,CalculationsAndCharts!$A657+$A$11,0,1,1)","v":0},{"$f":"OFFSET(InputPriceData!E$10,CalculationsAndCharts!$A657+$A$11,0,1,1)","v":0},{"$f":"OFFSET(InputPriceData!F$10,CalculationsAndCharts!$A657+$A$11,0,1,1)","v":0},{"$f":"IF(AND(A657<=$B$20,$S$14),$T$14,0)","v":0},{"$f":"IF(AND(A657<=$B$20,$S$15),$T$15,0)","v":0},{"$f":"IF(AND(A657<=$B$20,$S$16),$T$16,0)","v":0},{"$f":"IF(AND(A657<=$B$20,$S$17),$T$17,0)","v":0},{"$f":"IF(AND(A657<=$B$20,$S$18),$T$18,0)","v":0},0,0,0,0,0,0,0,0,0,0,0,0,0]
[627,{"$f":"OFFSET(InputPriceData!B$10,CalculationsAndCharts!$A658+$A$11,0,1,1)","v":"00:00:00"},{"$f":"OFFSET(InputPriceData!G$10,CalculationsAndCharts!$A658+$A$11,0,1,1)","v":0},{"$f":"OFFSET(InputPriceData!C$10,CalculationsAndCharts!$A658+$A$11,0,1,1)","v":0},{"$f":"OFFSET(InputPriceData!D$10,CalculationsAndCharts!$A658+$A$11,0,1,1)","v":0},{"$f":"OFFSET(InputPriceData!E$10,CalculationsAndCharts!$A658+$A$11,0,1,1)","v":0},{"$f":"OFFSET(InputPriceData!F$10,CalculationsAndCharts!$A658+$A$11,0,1,1)","v":0},{"$f":"IF(AND(A658<=$B$20,$S$14),$T$14,0)","v":0},{"$f":"IF(AND(A658<=$B$20,$S$15),$T$15,0)","v":0},{"$f":"IF(AND(A658<=$B$20,$S$16),$T$16,0)","v":0},{"$f":"IF(AND(A658<=$B$20,$S$17),$T$17,0)","v":0},{"$f":"IF(AND(A658<=$B$20,$S$18),$T$18,0)","v":0},0,0,0,0,0,0,0,0,0,0,0,0,0]
[628,{"$f":"OFFSET(InputPriceData!B$10,CalculationsAndCharts!$A659+$A$11,0,1,1)","v":"00:00:00"},{"$f":"OFFSET(InputPriceData!G$10,CalculationsAndCharts!$A659+$A$11,0,1,1)","v":0},{"$f":"OFFSET(InputPriceData!C$10,CalculationsAndCharts!$A659+$A$11,0,1,1)","v":0},{"$f":"OFFSET(InputPriceData!D$10,CalculationsAndCharts!$A659+$A$11,0,1,1)","v":0},{"$f":"OFFSET(InputPriceData!E$10,CalculationsAndCharts!$A659+$A$11,0,1,1)","v":0},{"$f":"OFFSET(InputPriceData!F$10,CalculationsAndCharts!$A659+$A$11,0,1,1)","v":0},{"$f":"IF(AND(A659<=$B$20,$S$14),$T$14,0)","v":0},{"$f":"IF(AND(A659<=$B$20,$S$15),$T$15,0)","v":0},{"$f":"IF(AND(A659<=$B$20,$S$16),$T$16,0)","v":0},{"$f":"IF(AND(A659<=$B$20,$S$17),$T$17,0)","v":0},{"$f":"IF(AND(A659<=$B$20,$S$18),$T$18,0)","v":0},0,0,0,0,0,0,0,0,0,0,0,0,0]
[629,{"$f":"OFFSET(InputPriceData!B$10,CalculationsAndCharts!$A660+$A$11,0,1,1)","v":"00:00:00"},{"$f":"OFFSET(InputPriceData!G$10,CalculationsAndCharts!$A660+$A$11,0,1,1)","v":0},{"$f":"OFFSET(InputPriceData!C$10,CalculationsAndCharts!$A660+$A$11,0,1,1)","v":0},{"$f":"OFFSET(InputPriceData!D$10,CalculationsAndCharts!$A660+$A$11,0,1,1)","v":0},{"$f":"OFFSET(InputPriceData!E$10,CalculationsAndCharts!$A660+$A$11,0,1,1)","v":0},{"$f":"OFFSET(InputPriceData!F$10,CalculationsAndCharts!$A660+$A$11,0,1,1)","v":0},{"$f":"IF(AND(A660<=$B$20,$S$14),$T$14,0)","v":0},{"$f":"IF(AND(A660<=$B$20,$S$15),$T$15,0)","v":0},{"$f":"IF(AND(A660<=$B$20,$S$16),$T$16,0)","v":0},{"$f":"IF(AND(A660<=$B$20,$S$17),$T$17,0)","v":0},{"$f":"IF(AND(A660<=$B$20,$S$18),$T$18,0)","v":0},0,0,0,0,0,0,0,0,0,0,0,0,0]
[630,{"$f":"OFFSET(InputPriceData!B$10,CalculationsAndCharts!$A661+$A$11,0,1,1)","v":"00:00:00"},{"$f":"OFFSET(InputPriceData!G$10,CalculationsAndCharts!$A661+$A$11,0,1,1)","v":0},{"$f":"OFFSET(InputPriceData!C$10,CalculationsAndCharts!$A661+$A$11,0,1,1)","v":0},{"$f":"OFFSET(InputPriceData!D$10,CalculationsAndCharts!$A661+$A$11,0,1,1)","v":0},{"$f":"OFFSET(InputPriceData!E$10,CalculationsAndCharts!$A661+$A$11,0,1,1)","v":0},{"$f":"OFFSET(InputPriceData!F$10,CalculationsAndCharts!$A661+$A$11,0,1,1)","v":0},{"$f":"IF(AND(A661<=$B$20,$S$14),$T$14,0)","v":0},{"$f":"IF(AND(A661<=$B$20,$S$15),$T$15,0)","v":0},{"$f":"IF(AND(A661<=$B$20,$S$16),$T$16,0)","v":0},{"$f":"IF(AND(A661<=$B$20,$S$17),$T$17,0)","v":0},{"$f":"IF(AND(A661<=$B$20,$S$18),$T$18,0)","v":0},0,0,0,0,0,0,0,0,0,0,0,0,0]
[631,{"$f":"OFFSET(InputPriceData!B$10,CalculationsAndCharts!$A662+$A$11,0,1,1)","v":"00:00:00"},{"$f":"OFFSET(InputPriceData!G$10,CalculationsAndCharts!$A662+$A$11,0,1,1)","v":0},{"$f":"OFFSET(InputPriceData!C$10,CalculationsAndCharts!$A662+$A$11,0,1,1)","v":0},{"$f":"OFFSET(InputPriceData!D$10,CalculationsAndCharts!$A662+$A$11,0,1,1)","v":0},{"$f":"OFFSET(InputPriceData!E$10,CalculationsAndCharts!$A662+$A$11,0,1,1)","v":0},{"$f":"OFFSET(InputPriceData!F$10,CalculationsAndCharts!$A662+$A$11,0,1,1)","v":0},{"$f":"IF(AND(A662<=$B$20,$S$14),$T$14,0)","v":0},{"$f":"IF(AND(A662<=$B$20,$S$15),$T$15,0)","v":0},{"$f":"IF(AND(A662<=$B$20,$S$16),$T$16,0)","v":0},{"$f":"IF(AND(A662<=$B$20,$S$17),$T$17,0)","v":0},{"$f":"IF(AND(A662<=$B$20,$S$18),$T$18,0)","v":0},0,0,0,0,0,0,0,0,0,0,0,0,0]
[632,{"$f":"OFFSET(InputPriceData!B$10,CalculationsAndCharts!$A663+$A$11,0,1,1)","v":"00:00:00"},{"$f":"OFFSET(InputPriceData!G$10,CalculationsAndCharts!$A663+$A$11,0,1,1)","v":0},{"$f":"OFFSET(InputPriceData!C$10,CalculationsAndCharts!$A663+$A$11,0,1,1)","v":0},{"$f":"OFFSET(InputPriceData!D$10,CalculationsAndCharts!$A663+$A$11,0,1,1)","v":0},{"$f":"OFFSET(InputPriceData!E$10,CalculationsAndCharts!$A663+$A$11,0,1,1)","v":0},{"$f":"OFFSET(InputPriceData!F$10,CalculationsAndCharts!$A663+$A$11,0,1,1)","v":0},{"$f":"IF(AND(A663<=$B$20,$S$14),$T$14,0)","v":0},{"$f":"IF(AND(A663<=$B$20,$S$15),$T$15,0)","v":0},{"$f":"IF(AND(A663<=$B$20,$S$16),$T$16,0)","v":0},{"$f":"IF(AND(A663<=$B$20,$S$17),$T$17,0)","v":0},{"$f":"IF(AND(A663<=$B$20,$S$18),$T$18,0)","v":0},0,0,0,0,0,0,0,0,0,0,0,0,0]
[633,{"$f":"OFFSET(InputPriceData!B$10,CalculationsAndCharts!$A664+$A$11,0,1,1)","v":"00:00:00"},{"$f":"OFFSET(InputPriceData!G$10,CalculationsAndCharts!$A664+$A$11,0,1,1)","v":0},{"$f":"OFFSET(InputPriceData!C$10,CalculationsAndCharts!$A664+$A$11,0,1,1)","v":0},{"$f":"OFFSET(InputPriceData!D$10,CalculationsAndCharts!$A664+$A$11,0,1,1)","v":0},{"$f":"OFFSET(InputPriceData!E$10,CalculationsAndCharts!$A664+$A$11,0,1,1)","v":0},{"$f":"OFFSET(InputPriceData!F$10,CalculationsAndCharts!$A664+$A$11,0,1,1)","v":0},{"$f":"IF(AND(A664<=$B$20,$S$14),$T$14,0)","v":0},{"$f":"IF(AND(A664<=$B$20,$S$15),$T$15,0)","v":0},{"$f":"IF(AND(A664<=$B$20,$S$16),$T$16,0)","v":0},{"$f":"IF(AND(A664<=$B$20,$S$17),$T$17,0)","v":0},{"$f":"IF(AND(A664<=$B$20,$S$18),$T$18,0)","v":0},0,0,0,0,0,0,0,0,0,0,0,0,0]
[634,{"$f":"OFFSET(InputPriceData!B$10,CalculationsAndCharts!$A665+$A$11,0,1,1)","v":"00:00:00"},{"$f":"OFFSET(InputPriceData!G$10,CalculationsAndCharts!$A665+$A$11,0,1,1)","v":0},{"$f":"OFFSET(InputPriceData!C$10,CalculationsAndCharts!$A665+$A$11,0,1,1)","v":0},{"$f":"OFFSET(InputPriceData!D$10,CalculationsAndCharts!$A665+$A$11,0,1,1)","v":0},{"$f":"OFFSET(InputPriceData!E$10,CalculationsAndCharts!$A665+$A$11,0,1,1)","v":0},{"$f":"OFFSET(InputPriceData!F$10,CalculationsAndCharts!$A665+$A$11,0,1,1)","v":0},{"$f":"IF(AND(A665<=$B$20,$S$14),$T$14,0)","v":0},{"$f":"IF(AND(A665<=$B$20,$S$15),$T$15,0)","v":0},{"$f":"IF(AND(A665<=$B$20,$S$16),$T$16,0)","v":0},{"$f":"IF(AND(A665<=$B$20,$S$17),$T$17,0)","v":0},{"$f":"IF(AND(A665<=$B$20,$S$18),$T$18,0)","v":0},0,0,0,0,0,0,0,0,0,0,0,0,0]
[635,{"$f":"OFFSET(InputPriceData!B$10,CalculationsAndCharts!$A666+$A$11,0,1,1)","v":"00:00:00"},{"$f":"OFFSET(InputPriceData!G$10,CalculationsAndCharts!$A666+$A$11,0,1,1)","v":0},{"$f":"OFFSET(InputPriceData!C$10,CalculationsAndCharts!$A666+$A$11,0,1,1)","v":0},{"$f":"OFFSET(InputPriceData!D$10,CalculationsAndCharts!$A666+$A$11,0,1,1)","v":0},{"$f":"OFFSET(InputPriceData!E$10,CalculationsAndCharts!$A666+$A$11,0,1,1)","v":0},{"$f":"OFFSET(InputPriceData!F$10,CalculationsAndCharts!$A666+$A$11,0,1,1)","v":0},{"$f":"IF(AND(A666<=$B$20,$S$14),$T$14,0)","v":0},{"$f":"IF(AND(A666<=$B$20,$S$15),$T$15,0)","v":0},{"$f":"IF(AND(A666<=$B$20,$S$16),$T$16,0)","v":0},{"$f":"IF(AND(A666<=$B$20,$S$17),$T$17,0)","v":0},{"$f":"IF(AND(A666<=$B$20,$S$18),$T$18,0)","v":0},0,0,0,0,0,0,0,0,0,0,0,0,0]
[636,{"$f":"OFFSET(InputPriceData!B$10,CalculationsAndCharts!$A667+$A$11,0,1,1)","v":"00:00:00"},{"$f":"OFFSET(InputPriceData!G$10,CalculationsAndCharts!$A667+$A$11,0,1,1)","v":0},{"$f":"OFFSET(InputPriceData!C$10,CalculationsAndCharts!$A667+$A$11,0,1,1)","v":0},{"$f":"OFFSET(InputPriceData!D$10,CalculationsAndCharts!$A667+$A$11,0,1,1)","v":0},{"$f":"OFFSET(InputPriceData!E$10,CalculationsAndCharts!$A667+$A$11,0,1,1)","v":0},{"$f":"OFFSET(InputPriceData!F$10,CalculationsAndCharts!$A667+$A$11,0,1,1)","v":0},{"$f":"IF(AND(A667<=$B$20,$S$14),$T$14,0)","v":0},{"$f":"IF(AND(A667<=$B$20,$S$15),$T$15,0)","v":0},{"$f":"IF(AND(A667<=$B$20,$S$16),$T$16,0)","v":0},{"$f":"IF(AND(A667<=$B$20,$S$17),$T$17,0)","v":0},{"$f":"IF(AND(A667<=$B$20,$S$18),$T$18,0)","v":0},0,0,0,0,0,0,0,0,0,0,0,0,0]
[637,{"$f":"OFFSET(InputPriceData!B$10,CalculationsAndCharts!$A668+$A$11,0,1,1)","v":"00:00:00"},{"$f":"OFFSET(InputPriceData!G$10,CalculationsAndCharts!$A668+$A$11,0,1,1)","v":0},{"$f":"OFFSET(InputPriceData!C$10,CalculationsAndCharts!$A668+$A$11,0,1,1)","v":0},{"$f":"OFFSET(InputPriceData!D$10,CalculationsAndCharts!$A668+$A$11,0,1,1)","v":0},{"$f":"OFFSET(InputPriceData!E$10,CalculationsAndCharts!$A668+$A$11,0,1,1)","v":0},{"$f":"OFFSET(InputPriceData!F$10,CalculationsAndCharts!$A668+$A$11,0,1,1)","v":0},{"$f":"IF(AND(A668<=$B$20,$S$14),$T$14,0)","v":0},{"$f":"IF(AND(A668<=$B$20,$S$15),$T$15,0)","v":0},{"$f":"IF(AND(A668<=$B$20,$S$16),$T$16,0)","v":0},{"$f":"IF(AND(A668<=$B$20,$S$17),$T$17,0)","v":0},{"$f":"IF(AND(A668<=$B$20,$S$18),$T$18,0)","v":0},0,0,0,0,0,0,0,0,0,0,0,0,0]
[638,{"$f":"OFFSET(InputPriceData!B$10,CalculationsAndCharts!$A669+$A$11,0,1,1)","v":"00:00:00"},{"$f":"OFFSET(InputPriceData!G$10,CalculationsAndCharts!$A669+$A$11,0,1,1)","v":0},{"$f":"OFFSET(InputPriceData!C$10,CalculationsAndCharts!$A669+$A$11,0,1,1)","v":0},{"$f":"OFFSET(InputPriceData!D$10,CalculationsAndCharts!$A669+$A$11,0,1,1)","v":0},{"$f":"OFFSET(InputPriceData!E$10,CalculationsAndCharts!$A669+$A$11,0,1,1)","v":0},{"$f":"OFFSET(InputPriceData!F$10,CalculationsAndCharts!$A669+$A$11,0,1,1)","v":0},{"$f":"IF(AND(A669<=$B$20,$S$14),$T$14,0)","v":0},{"$f":"IF(AND(A669<=$B$20,$S$15),$T$15,0)","v":0},{"$f":"IF(AND(A669<=$B$20,$S$16),$T$16,0)","v":0},{"$f":"IF(AND(A669<=$B$20,$S$17),$T$17,0)","v":0},{"$f":"IF(AND(A669<=$B$20,$S$18),$T$18,0)","v":0},0,0,0,0,0,0,0,0,0,0,0,0,0]
[639,{"$f":"OFFSET(InputPriceData!B$10,CalculationsAndCharts!$A670+$A$11,0,1,1)","v":"00:00:00"},{"$f":"OFFSET(InputPriceData!G$10,CalculationsAndCharts!$A670+$A$11,0,1,1)","v":0},{"$f":"OFFSET(InputPriceData!C$10,CalculationsAndCharts!$A670+$A$11,0,1,1)","v":0},{"$f":"OFFSET(InputPriceData!D$10,CalculationsAndCharts!$A670+$A$11,0,1,1)","v":0},{"$f":"OFFSET(InputPriceData!E$10,CalculationsAndCharts!$A670+$A$11,0,1,1)","v":0},{"$f":"OFFSET(InputPriceData!F$10,CalculationsAndCharts!$A670+$A$11,0,1,1)","v":0},{"$f":"IF(AND(A670<=$B$20,$S$14),$T$14,0)","v":0},{"$f":"IF(AND(A670<=$B$20,$S$15),$T$15,0)","v":0},{"$f":"IF(AND(A670<=$B$20,$S$16),$T$16,0)","v":0},{"$f":"IF(AND(A670<=$B$20,$S$17),$T$17,0)","v":0},{"$f":"IF(AND(A670<=$B$20,$S$18),$T$18,0)","v":0},0,0,0,0,0,0,0,0,0,0,0,0,0]
[640,{"$f":"OFFSET(InputPriceData!B$10,CalculationsAndCharts!$A671+$A$11,0,1,1)","v":"00:00:00"},{"$f":"OFFSET(InputPriceData!G$10,CalculationsAndCharts!$A671+$A$11,0,1,1)","v":0},{"$f":"OFFSET(InputPriceData!C$10,CalculationsAndCharts!$A671+$A$11,0,1,1)","v":0},{"$f":"OFFSET(InputPriceData!D$10,CalculationsAndCharts!$A671+$A$11,0,1,1)","v":0},{"$f":"OFFSET(InputPriceData!E$10,CalculationsAndCharts!$A671+$A$11,0,1,1)","v":0},{"$f":"OFFSET(InputPriceData!F$10,CalculationsAndCharts!$A671+$A$11,0,1,1)","v":0},{"$f":"IF(AND(A671<=$B$20,$S$14),$T$14,0)","v":0},{"$f":"IF(AND(A671<=$B$20,$S$15),$T$15,0)","v":0},{"$f":"IF(AND(A671<=$B$20,$S$16),$T$16,0)","v":0},{"$f":"IF(AND(A671<=$B$20,$S$17),$T$17,0)","v":0},{"$f":"IF(AND(A671<=$B$20,$S$18),$T$18,0)","v":0},0,0,0,0,0,0,0,0,0,0,0,0,0]
[641,{"$f":"OFFSET(InputPriceData!B$10,CalculationsAndCharts!$A672+$A$11,0,1,1)","v":"00:00:00"},{"$f":"OFFSET(InputPriceData!G$10,CalculationsAndCharts!$A672+$A$11,0,1,1)","v":0},{"$f":"OFFSET(InputPriceData!C$10,CalculationsAndCharts!$A672+$A$11,0,1,1)","v":0},{"$f":"OFFSET(InputPriceData!D$10,CalculationsAndCharts!$A672+$A$11,0,1,1)","v":0},{"$f":"OFFSET(InputPriceData!E$10,CalculationsAndCharts!$A672+$A$11,0,1,1)","v":0},{"$f":"OFFSET(InputPriceData!F$10,CalculationsAndCharts!$A672+$A$11,0,1,1)","v":0},{"$f":"IF(AND(A672<=$B$20,$S$14),$T$14,0)","v":0},{"$f":"IF(AND(A672<=$B$20,$S$15),$T$15,0)","v":0},{"$f":"IF(AND(A672<=$B$20,$S$16),$T$16,0)","v":0},{"$f":"IF(AND(A672<=$B$20,$S$17),$T$17,0)","v":0},{"$f":"IF(AND(A672<=$B$20,$S$18),$T$18,0)","v":0},0,0,0,0,0,0,{"$f":"IF($A672=$B$28,S$31,0)","v":0},0,0,0,0,0,0]
[642,{"$f":"OFFSET(InputPriceData!B$10,CalculationsAndCharts!$A673+$A$11,0,1,1)","v":"00:00:00"},{"$f":"OFFSET(InputPriceData!G$10,CalculationsAndCharts!$A673+$A$11,0,1,1)","v":0},{"$f":"OFFSET(InputPriceData!C$10,CalculationsAndCharts!$A673+$A$11,0,1,1)","v":0},{"$f":"OFFSET(InputPriceData!D$10,CalculationsAndCharts!$A673+$A$11,0,1,1)","v":0},{"$f":"OFFSET(InputPriceData!E$10,CalculationsAndCharts!$A673+$A$11,0,1,1)","v":0},{"$f":"OFFSET(InputPriceData!F$10,CalculationsAndCharts!$A673+$A$11,0,1,1)","v":0},{"$f":"IF(AND(A673<=$B$20,$S$14),$T$14,0)","v":0},{"$f":"IF(AND(A673<=$B$20,$S$15),$T$15,0)","v":0},{"$f":"IF(AND(A673<=$B$20,$S$16),$T$16,0)","v":0},{"$f":"IF(AND(A673<=$B$20,$S$17),$T$17,0)","v":0},{"$f":"IF(AND(A673<=$B$20,$S$18),$T$18,0)","v":0},{"$f":"IF(AND(A673<=$B$20,$S$8),$T$8,0)","v":0},{"$f":"IF(AND(A673<=$B$20,$S$7),$T$7,0)","v":0},{"$f":"IF(AND(A673<=$B$20,$S$6),$T$6,0)","v":0},{"$f":"IF(AND(A673<=$B$20,$S$5),$T$5,0)","v":0},{"$f":"IF(AND(A673<=$B$20,$S$4),$T$4,0)","v":0},{"$f":"IF(AND(A673>$B$20,A673<=($B$20+$C$18)),$T$10-Y673,0)","v":0},0,{"$f":"IF($A673=$B$27,S$31,0)","v":0},{"$f":"IF(AND(A673<=$B$20,A673>($B$20-$C$18)),$F$11,0)","v":0},{"$f":"IF(AND($S$10,A673>$B$20,A673<=($B$20+$C$18)),$T$10,0)","v":0},{"$f":"IF(AND($S$11,A673>$B$20,A673<=($B$20+$C$18)),$T$11,0)","v":0},{"$f":"IF(AND($S$12,A673>$B$20,A673<=($B$20+$C$18)),$T$12,0)","v":0},{"$f":"IF(AND(A673>$B$20,A673<=($B$20+$C$18)),$T$12,0)","v":0}]
[643,{"$f":"OFFSET(InputPriceData!B$10,CalculationsAndCharts!$A674+$A$11,0,1,1)","v":"00:00:00"},{"$f":"OFFSET(InputPriceData!G$10,CalculationsAndCharts!$A674+$A$11,0,1,1)","v":0},{"$f":"OFFSET(InputPriceData!C$10,CalculationsAndCharts!$A674+$A$11,0,1,1)","v":0},{"$f":"OFFSET(InputPriceData!D$10,CalculationsAndCharts!$A674+$A$11,0,1,1)","v":0},{"$f":"OFFSET(InputPriceData!E$10,CalculationsAndCharts!$A674+$A$11,0,1,1)","v":0},{"$f":"OFFSET(InputPriceData!F$10,CalculationsAndCharts!$A674+$A$11,0,1,1)","v":0},{"$f":"IF(AND(A674<=$B$20,$S$14),$T$14,0)","v":0},{"$f":"IF(AND(A674<=$B$20,$S$15),$T$15,0)","v":0},{"$f":"IF(AND(A674<=$B$20,$S$16),$T$16,0)","v":0},{"$f":"IF(AND(A674<=$B$20,$S$17),$T$17,0)","v":0},{"$f":"IF(AND(A674<=$B$20,$S$18),$T$18,0)","v":0},0,0,0,0,0,0,0,0,0,0,0,0,0]
[644,{"$f":"OFFSET(InputPriceData!B$10,CalculationsAndCharts!$A675+$A$11,0,1,1)","v":"00:00:00"},{"$f":"OFFSET(InputPriceData!G$10,CalculationsAndCharts!$A675+$A$11,0,1,1)","v":0},{"$f":"OFFSET(InputPriceData!C$10,CalculationsAndCharts!$A675+$A$11,0,1,1)","v":0},{"$f":"OFFSET(InputPriceData!D$10,CalculationsAndCharts!$A675+$A$11,0,1,1)","v":0},{"$f":"OFFSET(InputPriceData!E$10,CalculationsAndCharts!$A675+$A$11,0,1,1)","v":0},{"$f":"OFFSET(InputPriceData!F$10,CalculationsAndCharts!$A675+$A$11,0,1,1)","v":0},{"$f":"IF(AND(A675<=$B$20,$S$14),$T$14,0)","v":0},{"$f":"IF(AND(A675<=$B$20,$S$15),$T$15,0)","v":0},{"$f":"IF(AND(A675<=$B$20,$S$16),$T$16,0)","v":0},{"$f":"IF(AND(A675<=$B$20,$S$17),$T$17,0)","v":0},{"$f":"IF(AND(A675<=$B$20,$S$18),$T$18,0)","v":0},0,0,0,0,0,0,0,0,0,0,0,0,0]
[645,{"$f":"OFFSET(InputPriceData!B$10,CalculationsAndCharts!$A676+$A$11,0,1,1)","v":"00:00:00"},{"$f":"OFFSET(InputPriceData!G$10,CalculationsAndCharts!$A676+$A$11,0,1,1)","v":0},{"$f":"OFFSET(InputPriceData!C$10,CalculationsAndCharts!$A676+$A$11,0,1,1)","v":0},{"$f":"OFFSET(InputPriceData!D$10,CalculationsAndCharts!$A676+$A$11,0,1,1)","v":0},{"$f":"OFFSET(InputPriceData!E$10,CalculationsAndCharts!$A676+$A$11,0,1,1)","v":0},{"$f":"OFFSET(InputPriceData!F$10,CalculationsAndCharts!$A676+$A$11,0,1,1)","v":0},{"$f":"IF(AND(A676<=$B$20,$S$14),$T$14,0)","v":0},{"$f":"IF(AND(A676<=$B$20,$S$15),$T$15,0)","v":0},{"$f":"IF(AND(A676<=$B$20,$S$16),$T$16,0)","v":0},{"$f":"IF(AND(A676<=$B$20,$S$17),$T$17,0)","v":0},{"$f":"IF(AND(A676<=$B$20,$S$18),$T$18,0)","v":0},0,0,0,0,0,0,0,0,0,0,0,0,0]
[646,{"$f":"OFFSET(InputPriceData!B$10,CalculationsAndCharts!$A677+$A$11,0,1,1)","v":"00:00:00"},{"$f":"OFFSET(InputPriceData!G$10,CalculationsAndCharts!$A677+$A$11,0,1,1)","v":0},{"$f":"OFFSET(InputPriceData!C$10,CalculationsAndCharts!$A677+$A$11,0,1,1)","v":0},{"$f":"OFFSET(InputPriceData!D$10,CalculationsAndCharts!$A677+$A$11,0,1,1)","v":0},{"$f":"OFFSET(InputPriceData!E$10,CalculationsAndCharts!$A677+$A$11,0,1,1)","v":0},{"$f":"OFFSET(InputPriceData!F$10,CalculationsAndCharts!$A677+$A$11,0,1,1)","v":0},{"$f":"IF(AND(A677<=$B$20,$S$14),$T$14,0)","v":0},{"$f":"IF(AND(A677<=$B$20,$S$15),$T$15,0)","v":0},{"$f":"IF(AND(A677<=$B$20,$S$16),$T$16,0)","v":0},{"$f":"IF(AND(A677<=$B$20,$S$17),$T$17,0)","v":0},{"$f":"IF(AND(A677<=$B$20,$S$18),$T$18,0)","v":0},0,0,0,0,0,0,0,0,0,0,0,0,0]
[647,{"$f":"OFFSET(InputPriceData!B$10,CalculationsAndCharts!$A678+$A$11,0,1,1)","v":"00:00:00"},{"$f":"OFFSET(InputPriceData!G$10,CalculationsAndCharts!$A678+$A$11,0,1,1)","v":0},{"$f":"OFFSET(InputPriceData!C$10,CalculationsAndCharts!$A678+$A$11,0,1,1)","v":0},{"$f":"OFFSET(InputPriceData!D$10,CalculationsAndCharts!$A678+$A$11,0,1,1)","v":0},{"$f":"OFFSET(InputPriceData!E$10,CalculationsAndCharts!$A678+$A$11,0,1,1)","v":0},{"$f":"OFFSET(InputPriceData!F$10,CalculationsAndCharts!$A678+$A$11,0,1,1)","v":0},{"$f":"IF(AND(A678<=$B$20,$S$14),$T$14,0)","v":0},{"$f":"IF(AND(A678<=$B$20,$S$15),$T$15,0)","v":0},{"$f":"IF(AND(A678<=$B$20,$S$16),$T$16,0)","v":0},{"$f":"IF(AND(A678<=$B$20,$S$17),$T$17,0)","v":0},{"$f":"IF(AND(A678<=$B$20,$S$18),$T$18,0)","v":0},0,0,0,0,0,0,0,0,0,0,0,0,0]
[648,{"$f":"OFFSET(InputPriceData!B$10,CalculationsAndCharts!$A679+$A$11,0,1,1)","v":"00:00:00"},{"$f":"OFFSET(InputPriceData!G$10,CalculationsAndCharts!$A679+$A$11,0,1,1)","v":0},{"$f":"OFFSET(InputPriceData!C$10,CalculationsAndCharts!$A679+$A$11,0,1,1)","v":0},{"$f":"OFFSET(InputPriceData!D$10,CalculationsAndCharts!$A679+$A$11,0,1,1)","v":0},{"$f":"OFFSET(InputPriceData!E$10,CalculationsAndCharts!$A679+$A$11,0,1,1)","v":0},{"$f":"OFFSET(InputPriceData!F$10,CalculationsAndCharts!$A679+$A$11,0,1,1)","v":0},{"$f":"IF(AND(A679<=$B$20,$S$14),$T$14,0)","v":0},{"$f":"IF(AND(A679<=$B$20,$S$15),$T$15,0)","v":0},{"$f":"IF(AND(A679<=$B$20,$S$16),$T$16,0)","v":0},{"$f":"IF(AND(A679<=$B$20,$S$17),$T$17,0)","v":0},{"$f":"IF(AND(A679<=$B$20,$S$18),$T$18,0)","v":0},0,0,0,0,0,0,0,0,0,0,0,0,0]
[649,{"$f":"OFFSET(InputPriceData!B$10,CalculationsAndCharts!$A680+$A$11,0,1,1)","v":"00:00:00"},{"$f":"OFFSET(InputPriceData!G$10,CalculationsAndCharts!$A680+$A$11,0,1,1)","v":0},{"$f":"OFFSET(InputPriceData!C$10,CalculationsAndCharts!$A680+$A$11,0,1,1)","v":0},{"$f":"OFFSET(InputPriceData!D$10,CalculationsAndCharts!$A680+$A$11,0,1,1)","v":0},{"$f":"OFFSET(InputPriceData!E$10,CalculationsAndCharts!$A680+$A$11,0,1,1)","v":0},{"$f":"OFFSET(InputPriceData!F$10,CalculationsAndCharts!$A680+$A$11,0,1,1)","v":0},{"$f":"IF(AND(A680<=$B$20,$S$14),$T$14,0)","v":0},{"$f":"IF(AND(A680<=$B$20,$S$15),$T$15,0)","v":0},{"$f":"IF(AND(A680<=$B$20,$S$16),$T$16,0)","v":0},{"$f":"IF(AND(A680<=$B$20,$S$17),$T$17,0)","v":0},{"$f":"IF(AND(A680<=$B$20,$S$18),$T$18,0)","v":0},0,0,0,0,0,0,0,0,0,0,0,0,0]
[650,{"$f":"OFFSET(InputPriceData!B$10,CalculationsAndCharts!$A681+$A$11,0,1,1)","v":"00:00:00"},{"$f":"OFFSET(InputPriceData!G$10,CalculationsAndCharts!$A681+$A$11,0,1,1)","v":0},{"$f":"OFFSET(InputPriceData!C$10,CalculationsAndCharts!$A681+$A$11,0,1,1)","v":0},{"$f":"OFFSET(InputPriceData!D$10,CalculationsAndCharts!$A681+$A$11,0,1,1)","v":0},{"$f":"OFFSET(InputPriceData!E$10,CalculationsAndCharts!$A681+$A$11,0,1,1)","v":0},{"$f":"OFFSET(InputPriceData!F$10,CalculationsAndCharts!$A681+$A$11,0,1,1)","v":0},{"$f":"IF(AND(A681<=$B$20,$S$14),$T$14,0)","v":0},{"$f":"IF(AND(A681<=$B$20,$S$15),$T$15,0)","v":0},{"$f":"IF(AND(A681<=$B$20,$S$16),$T$16,0)","v":0},{"$f":"IF(AND(A681<=$B$20,$S$17),$T$17,0)","v":0},{"$f":"IF(AND(A681<=$B$20,$S$18),$T$18,0)","v":0},0,0,0,0,0,0,0,0,0,0,0,0,0]
[651,{"$f":"OFFSET(InputPriceData!B$10,CalculationsAndCharts!$A682+$A$11,0,1,1)","v":"00:00:00"},{"$f":"OFFSET(InputPriceData!G$10,CalculationsAndCharts!$A682+$A$11,0,1,1)","v":0},{"$f":"OFFSET(InputPriceData!C$10,CalculationsAndCharts!$A682+$A$11,0,1,1)","v":0},{"$f":"OFFSET(InputPriceData!D$10,CalculationsAndCharts!$A682+$A$11,0,1,1)","v":0},{"$f":"OFFSET(InputPriceData!E$10,CalculationsAndCharts!$A682+$A$11,0,1,1)","v":0},{"$f":"OFFSET(InputPriceData!F$10,CalculationsAndCharts!$A682+$A$11,0,1,1)","v":0},{"$f":"IF(AND(A682<=$B$20,$S$14),$T$14,0)","v":0},{"$f":"IF(AND(A682<=$B$20,$S$15),$T$15,0)","v":0},{"$f":"IF(AND(A682<=$B$20,$S$16),$T$16,0)","v":0},{"$f":"IF(AND(A682<=$B$20,$S$17),$T$17,0)","v":0},{"$f":"IF(AND(A682<=$B$20,$S$18),$T$18,0)","v":0},0,0,0,0,0,0,0,0,0,0,0,0,0]
[652,{"$f":"OFFSET(InputPriceData!B$10,CalculationsAndCharts!$A683+$A$11,0,1,1)","v":"00:00:00"},{"$f":"OFFSET(InputPriceData!G$10,CalculationsAndCharts!$A683+$A$11,0,1,1)","v":0},{"$f":"OFFSET(InputPriceData!C$10,CalculationsAndCharts!$A683+$A$11,0,1,1)","v":0},{"$f":"OFFSET(InputPriceData!D$10,CalculationsAndCharts!$A683+$A$11,0,1,1)","v":0},{"$f":"OFFSET(InputPriceData!E$10,CalculationsAndCharts!$A683+$A$11,0,1,1)","v":0},{"$f":"OFFSET(InputPriceData!F$10,CalculationsAndCharts!$A683+$A$11,0,1,1)","v":0},{"$f":"IF(AND(A683<=$B$20,$S$14),$T$14,0)","v":0},{"$f":"IF(AND(A683<=$B$20,$S$15),$T$15,0)","v":0},{"$f":"IF(AND(A683<=$B$20,$S$16),$T$16,0)","v":0},{"$f":"IF(AND(A683<=$B$20,$S$17),$T$17,0)","v":0},{"$f":"IF(AND(A683<=$B$20,$S$18),$T$18,0)","v":0},0,0,0,0,0,0,0,0,0,0,0,0,0]
[653,{"$f":"OFFSET(InputPriceData!B$10,CalculationsAndCharts!$A684+$A$11,0,1,1)","v":"00:00:00"},{"$f":"OFFSET(InputPriceData!G$10,CalculationsAndCharts!$A684+$A$11,0,1,1)","v":0},{"$f":"OFFSET(InputPriceData!C$10,CalculationsAndCharts!$A684+$A$11,0,1,1)","v":0},{"$f":"OFFSET(InputPriceData!D$10,CalculationsAndCharts!$A684+$A$11,0,1,1)","v":0},{"$f":"OFFSET(InputPriceData!E$10,CalculationsAndCharts!$A684+$A$11,0,1,1)","v":0},{"$f":"OFFSET(InputPriceData!F$10,CalculationsAndCharts!$A684+$A$11,0,1,1)","v":0},{"$f":"IF(AND(A684<=$B$20,$S$14),$T$14,0)","v":0},{"$f":"IF(AND(A684<=$B$20,$S$15),$T$15,0)","v":0},{"$f":"IF(AND(A684<=$B$20,$S$16),$T$16,0)","v":0},{"$f":"IF(AND(A684<=$B$20,$S$17),$T$17,0)","v":0},{"$f":"IF(AND(A684<=$B$20,$S$18),$T$18,0)","v":0},0,0,0,0,0,0,0,0,0,0,0,0,0]
[654,{"$f":"OFFSET(InputPriceData!B$10,CalculationsAndCharts!$A685+$A$11,0,1,1)","v":"00:00:00"},{"$f":"OFFSET(InputPriceData!G$10,CalculationsAndCharts!$A685+$A$11,0,1,1)","v":0},{"$f":"OFFSET(InputPriceData!C$10,CalculationsAndCharts!$A685+$A$11,0,1,1)","v":0},{"$f":"OFFSET(InputPriceData!D$10,CalculationsAndCharts!$A685+$A$11,0,1,1)","v":0},{"$f":"OFFSET(InputPriceData!E$10,CalculationsAndCharts!$A685+$A$11,0,1,1)","v":0},{"$f":"OFFSET(InputPriceData!F$10,CalculationsAndCharts!$A685+$A$11,0,1,1)","v":0},{"$f":"IF(AND(A685<=$B$20,$S$14),$T$14,0)","v":0},{"$f":"IF(AND(A685<=$B$20,$S$15),$T$15,0)","v":0},{"$f":"IF(AND(A685<=$B$20,$S$16),$T$16,0)","v":0},{"$f":"IF(AND(A685<=$B$20,$S$17),$T$17,0)","v":0},{"$f":"IF(AND(A685<=$B$20,$S$18),$T$18,0)","v":0},0,0,0,0,0,0,0,0,0,0,0,0,0]
[655,{"$f":"OFFSET(InputPriceData!B$10,CalculationsAndCharts!$A686+$A$11,0,1,1)","v":"00:00:00"},{"$f":"OFFSET(InputPriceData!G$10,CalculationsAndCharts!$A686+$A$11,0,1,1)","v":0},{"$f":"OFFSET(InputPriceData!C$10,CalculationsAndCharts!$A686+$A$11,0,1,1)","v":0},{"$f":"OFFSET(InputPriceData!D$10,CalculationsAndCharts!$A686+$A$11,0,1,1)","v":0},{"$f":"OFFSET(InputPriceData!E$10,CalculationsAndCharts!$A686+$A$11,0,1,1)","v":0},{"$f":"OFFSET(InputPriceData!F$10,CalculationsAndCharts!$A686+$A$11,0,1,1)","v":0},{"$f":"IF(AND(A686<=$B$20,$S$14),$T$14,0)","v":0},{"$f":"IF(AND(A686<=$B$20,$S$15),$T$15,0)","v":0},{"$f":"IF(AND(A686<=$B$20,$S$16),$T$16,0)","v":0},{"$f":"IF(AND(A686<=$B$20,$S$17),$T$17,0)","v":0},{"$f":"IF(AND(A686<=$B$20,$S$18),$T$18,0)","v":0},0,0,0,0,0,0,0,0,0,0,0,0,0]
[656,{"$f":"OFFSET(InputPriceData!B$10,CalculationsAndCharts!$A687+$A$11,0,1,1)","v":"00:00:00"},{"$f":"OFFSET(InputPriceData!G$10,CalculationsAndCharts!$A687+$A$11,0,1,1)","v":0},{"$f":"OFFSET(InputPriceData!C$10,CalculationsAndCharts!$A687+$A$11,0,1,1)","v":0},{"$f":"OFFSET(InputPriceData!D$10,CalculationsAndCharts!$A687+$A$11,0,1,1)","v":0},{"$f":"OFFSET(InputPriceData!E$10,CalculationsAndCharts!$A687+$A$11,0,1,1)","v":0},{"$f":"OFFSET(InputPriceData!F$10,CalculationsAndCharts!$A687+$A$11,0,1,1)","v":0},{"$f":"IF(AND(A687<=$B$20,$S$14),$T$14,0)","v":0},{"$f":"IF(AND(A687<=$B$20,$S$15),$T$15,0)","v":0},{"$f":"IF(AND(A687<=$B$20,$S$16),$T$16,0)","v":0},{"$f":"IF(AND(A687<=$B$20,$S$17),$T$17,0)","v":0},{"$f":"IF(AND(A687<=$B$20,$S$18),$T$18,0)","v":0},0,0,0,0,0,0,0,0,0,0,0,0,0]
[657,{"$f":"OFFSET(InputPriceData!B$10,CalculationsAndCharts!$A688+$A$11,0,1,1)","v":"00:00:00"},{"$f":"OFFSET(InputPriceData!G$10,CalculationsAndCharts!$A688+$A$11,0,1,1)","v":0},{"$f":"OFFSET(InputPriceData!C$10,CalculationsAndCharts!$A688+$A$11,0,1,1)","v":0},{"$f":"OFFSET(InputPriceData!D$10,CalculationsAndCharts!$A688+$A$11,0,1,1)","v":0},{"$f":"OFFSET(InputPriceData!E$10,CalculationsAndCharts!$A688+$A$11,0,1,1)","v":0},{"$f":"OFFSET(InputPriceData!F$10,CalculationsAndCharts!$A688+$A$11,0,1,1)","v":0},{"$f":"IF(AND(A688<=$B$20,$S$14),$T$14,0)","v":0},{"$f":"IF(AND(A688<=$B$20,$S$15),$T$15,0)","v":0},{"$f":"IF(AND(A688<=$B$20,$S$16),$T$16,0)","v":0},{"$f":"IF(AND(A688<=$B$20,$S$17),$T$17,0)","v":0},{"$f":"IF(AND(A688<=$B$20,$S$18),$T$18,0)","v":0},0,0,0,0,0,0,0,0,0,0,0,0,0]
[658,{"$f":"OFFSET(InputPriceData!B$10,CalculationsAndCharts!$A689+$A$11,0,1,1)","v":"00:00:00"},{"$f":"OFFSET(InputPriceData!G$10,CalculationsAndCharts!$A689+$A$11,0,1,1)","v":0},{"$f":"OFFSET(InputPriceData!C$10,CalculationsAndCharts!$A689+$A$11,0,1,1)","v":0},{"$f":"OFFSET(InputPriceData!D$10,CalculationsAndCharts!$A689+$A$11,0,1,1)","v":0},{"$f":"OFFSET(InputPriceData!E$10,CalculationsAndCharts!$A689+$A$11,0,1,1)","v":0},{"$f":"OFFSET(InputPriceData!F$10,CalculationsAndCharts!$A689+$A$11,0,1,1)","v":0},{"$f":"IF(AND(A689<=$B$20,$S$14),$T$14,0)","v":0},{"$f":"IF(AND(A689<=$B$20,$S$15),$T$15,0)","v":0},{"$f":"IF(AND(A689<=$B$20,$S$16),$T$16,0)","v":0},{"$f":"IF(AND(A689<=$B$20,$S$17),$T$17,0)","v":0},{"$f":"IF(AND(A689<=$B$20,$S$18),$T$18,0)","v":0},0,0,0,0,0,0,0,0,0,0,0,0,0]
[659,{"$f":"OFFSET(InputPriceData!B$10,CalculationsAndCharts!$A690+$A$11,0,1,1)","v":"00:00:00"},{"$f":"OFFSET(InputPriceData!G$10,CalculationsAndCharts!$A690+$A$11,0,1,1)","v":0},{"$f":"OFFSET(InputPriceData!C$10,CalculationsAndCharts!$A690+$A$11,0,1,1)","v":0},{"$f":"OFFSET(InputPriceData!D$10,CalculationsAndCharts!$A690+$A$11,0,1,1)","v":0},{"$f":"OFFSET(InputPriceData!E$10,CalculationsAndCharts!$A690+$A$11,0,1,1)","v":0},{"$f":"OFFSET(InputPriceData!F$10,CalculationsAndCharts!$A690+$A$11,0,1,1)","v":0},{"$f":"IF(AND(A690<=$B$20,$S$14),$T$14,0)","v":0},{"$f":"IF(AND(A690<=$B$20,$S$15),$T$15,0)","v":0},{"$f":"IF(AND(A690<=$B$20,$S$16),$T$16,0)","v":0},{"$f":"IF(AND(A690<=$B$20,$S$17),$T$17,0)","v":0},{"$f":"IF(AND(A690<=$B$20,$S$18),$T$18,0)","v":0},0,0,0,0,0,0,0,0,0,0,0,0,0]
[660,{"$f":"OFFSET(InputPriceData!B$10,CalculationsAndCharts!$A691+$A$11,0,1,1)","v":"00:00:00"},{"$f":"OFFSET(InputPriceData!G$10,CalculationsAndCharts!$A691+$A$11,0,1,1)","v":0},{"$f":"OFFSET(InputPriceData!C$10,CalculationsAndCharts!$A691+$A$11,0,1,1)","v":0},{"$f":"OFFSET(InputPriceData!D$10,CalculationsAndCharts!$A691+$A$11,0,1,1)","v":0},{"$f":"OFFSET(InputPriceData!E$10,CalculationsAndCharts!$A691+$A$11,0,1,1)","v":0},{"$f":"OFFSET(InputPriceData!F$10,CalculationsAndCharts!$A691+$A$11,0,1,1)","v":0},{"$f":"IF(AND(A691<=$B$20,$S$14),$T$14,0)","v":0},{"$f":"IF(AND(A691<=$B$20,$S$15),$T$15,0)","v":0},{"$f":"IF(AND(A691<=$B$20,$S$16),$T$16,0)","v":0},{"$f":"IF(AND(A691<=$B$20,$S$17),$T$17,0)","v":0},{"$f":"IF(AND(A691<=$B$20,$S$18),$T$18,0)","v":0},0,0,0,0,0,0,0,0,0,0,0,0,0]
[661,{"$f":"OFFSET(InputPriceData!B$10,CalculationsAndCharts!$A692+$A$11,0,1,1)","v":"00:00:00"},{"$f":"OFFSET(InputPriceData!G$10,CalculationsAndCharts!$A692+$A$11,0,1,1)","v":0},{"$f":"OFFSET(InputPriceData!C$10,CalculationsAndCharts!$A692+$A$11,0,1,1)","v":0},{"$f":"OFFSET(InputPriceData!D$10,CalculationsAndCharts!$A692+$A$11,0,1,1)","v":0},{"$f":"OFFSET(InputPriceData!E$10,CalculationsAndCharts!$A692+$A$11,0,1,1)","v":0},{"$f":"OFFSET(InputPriceData!F$10,CalculationsAndCharts!$A692+$A$11,0,1,1)","v":0},{"$f":"IF(AND(A692<=$B$20,$S$14),$T$14,0)","v":0},{"$f":"IF(AND(A692<=$B$20,$S$15),$T$15,0)","v":0},{"$f":"IF(AND(A692<=$B$20,$S$16),$T$16,0)","v":0},{"$f":"IF(AND(A692<=$B$20,$S$17),$T$17,0)","v":0},{"$f":"IF(AND(A692<=$B$20,$S$18),$T$18,0)","v":0},0,0,0,0,0,0,0,0,0,0,0,0,0]
[662,{"$f":"OFFSET(InputPriceData!B$10,CalculationsAndCharts!$A693+$A$11,0,1,1)","v":"00:00:00"},{"$f":"OFFSET(InputPriceData!G$10,CalculationsAndCharts!$A693+$A$11,0,1,1)","v":0},{"$f":"OFFSET(InputPriceData!C$10,CalculationsAndCharts!$A693+$A$11,0,1,1)","v":0},{"$f":"OFFSET(InputPriceData!D$10,CalculationsAndCharts!$A693+$A$11,0,1,1)","v":0},{"$f":"OFFSET(InputPriceData!E$10,CalculationsAndCharts!$A693+$A$11,0,1,1)","v":0},{"$f":"OFFSET(InputPriceData!F$10,CalculationsAndCharts!$A693+$A$11,0,1,1)","v":0},{"$f":"IF(AND(A693<=$B$20,$S$14),$T$14,0)","v":0},{"$f":"IF(AND(A693<=$B$20,$S$15),$T$15,0)","v":0},{"$f":"IF(AND(A693<=$B$20,$S$16),$T$16,0)","v":0},{"$f":"IF(AND(A693<=$B$20,$S$17),$T$17,0)","v":0},{"$f":"IF(AND(A693<=$B$20,$S$18),$T$18,0)","v":0},0,0,0,0,0,0,0,0,0,0,0,0,0]
[663,{"$f":"OFFSET(InputPriceData!B$10,CalculationsAndCharts!$A694+$A$11,0,1,1)","v":"00:00:00"},{"$f":"OFFSET(InputPriceData!G$10,CalculationsAndCharts!$A694+$A$11,0,1,1)","v":0},{"$f":"OFFSET(InputPriceData!C$10,CalculationsAndCharts!$A694+$A$11,0,1,1)","v":0},{"$f":"OFFSET(InputPriceData!D$10,CalculationsAndCharts!$A694+$A$11,0,1,1)","v":0},{"$f":"OFFSET(InputPriceData!E$10,CalculationsAndCharts!$A694+$A$11,0,1,1)","v":0},{"$f":"OFFSET(InputPriceData!F$10,CalculationsAndCharts!$A694+$A$11,0,1,1)","v":0},{"$f":"IF(AND(A694<=$B$20,$S$14),$T$14,0)","v":0},{"$f":"IF(AND(A694<=$B$20,$S$15),$T$15,0)","v":0},{"$f":"IF(AND(A694<=$B$20,$S$16),$T$16,0)","v":0},{"$f":"IF(AND(A694<=$B$20,$S$17),$T$17,0)","v":0},{"$f":"IF(AND(A694<=$B$20,$S$18),$T$18,0)","v":0},0,0,0,0,0,0,0,0,0,0,0,0,0]
[664,{"$f":"OFFSET(InputPriceData!B$10,CalculationsAndCharts!$A695+$A$11,0,1,1)","v":"00:00:00"},{"$f":"OFFSET(InputPriceData!G$10,CalculationsAndCharts!$A695+$A$11,0,1,1)","v":0},{"$f":"OFFSET(InputPriceData!C$10,CalculationsAndCharts!$A695+$A$11,0,1,1)","v":0},{"$f":"OFFSET(InputPriceData!D$10,CalculationsAndCharts!$A695+$A$11,0,1,1)","v":0},{"$f":"OFFSET(InputPriceData!E$10,CalculationsAndCharts!$A695+$A$11,0,1,1)","v":0},{"$f":"OFFSET(InputPriceData!F$10,CalculationsAndCharts!$A695+$A$11,0,1,1)","v":0},{"$f":"IF(AND(A695<=$B$20,$S$14),$T$14,0)","v":0},{"$f":"IF(AND(A695<=$B$20,$S$15),$T$15,0)","v":0},{"$f":"IF(AND(A695<=$B$20,$S$16),$T$16,0)","v":0},{"$f":"IF(AND(A695<=$B$20,$S$17),$T$17,0)","v":0},{"$f":"IF(AND(A695<=$B$20,$S$18),$T$18,0)","v":0},0,0,0,0,0,0,0,0,0,0,0,0,0]
[665,{"$f":"OFFSET(InputPriceData!B$10,CalculationsAndCharts!$A696+$A$11,0,1,1)","v":"00:00:00"},{"$f":"OFFSET(InputPriceData!G$10,CalculationsAndCharts!$A696+$A$11,0,1,1)","v":0},{"$f":"OFFSET(InputPriceData!C$10,CalculationsAndCharts!$A696+$A$11,0,1,1)","v":0},{"$f":"OFFSET(InputPriceData!D$10,CalculationsAndCharts!$A696+$A$11,0,1,1)","v":0},{"$f":"OFFSET(InputPriceData!E$10,CalculationsAndCharts!$A696+$A$11,0,1,1)","v":0},{"$f":"OFFSET(InputPriceData!F$10,CalculationsAndCharts!$A696+$A$11,0,1,1)","v":0},{"$f":"IF(AND(A696<=$B$20,$S$14),$T$14,0)","v":0},{"$f":"IF(AND(A696<=$B$20,$S$15),$T$15,0)","v":0},{"$f":"IF(AND(A696<=$B$20,$S$16),$T$16,0)","v":0},{"$f":"IF(AND(A696<=$B$20,$S$17),$T$17,0)","v":0},{"$f":"IF(AND(A696<=$B$20,$S$18),$T$18,0)","v":0},0,0,0,0,0,0,0,0,0,0,0,0,0]
[666,{"$f":"OFFSET(InputPriceData!B$10,CalculationsAndCharts!$A697+$A$11,0,1,1)","v":"00:00:00"},{"$f":"OFFSET(InputPriceData!G$10,CalculationsAndCharts!$A697+$A$11,0,1,1)","v":0},{"$f":"OFFSET(InputPriceData!C$10,CalculationsAndCharts!$A697+$A$11,0,1,1)","v":0},{"$f":"OFFSET(InputPriceData!D$10,CalculationsAndCharts!$A697+$A$11,0,1,1)","v":0},{"$f":"OFFSET(InputPriceData!E$10,CalculationsAndCharts!$A697+$A$11,0,1,1)","v":0},{"$f":"OFFSET(InputPriceData!F$10,CalculationsAndCharts!$A697+$A$11,0,1,1)","v":0},{"$f":"IF(AND(A697<=$B$20,$S$14),$T$14,0)","v":0},{"$f":"IF(AND(A697<=$B$20,$S$15),$T$15,0)","v":0},{"$f":"IF(AND(A697<=$B$20,$S$16),$T$16,0)","v":0},{"$f":"IF(AND(A697<=$B$20,$S$17),$T$17,0)","v":0},{"$f":"IF(AND(A697<=$B$20,$S$18),$T$18,0)","v":0},0,0,0,0,0,0,0,0,0,0,0,0,0]
[667,{"$f":"OFFSET(InputPriceData!B$10,CalculationsAndCharts!$A698+$A$11,0,1,1)","v":"00:00:00"},{"$f":"OFFSET(InputPriceData!G$10,CalculationsAndCharts!$A698+$A$11,0,1,1)","v":0},{"$f":"OFFSET(InputPriceData!C$10,CalculationsAndCharts!$A698+$A$11,0,1,1)","v":0},{"$f":"OFFSET(InputPriceData!D$10,CalculationsAndCharts!$A698+$A$11,0,1,1)","v":0},{"$f":"OFFSET(InputPriceData!E$10,CalculationsAndCharts!$A698+$A$11,0,1,1)","v":0},{"$f":"OFFSET(InputPriceData!F$10,CalculationsAndCharts!$A698+$A$11,0,1,1)","v":0},{"$f":"IF(AND(A698<=$B$20,$S$14),$T$14,0)","v":0},{"$f":"IF(AND(A698<=$B$20,$S$15),$T$15,0)","v":0},{"$f":"IF(AND(A698<=$B$20,$S$16),$T$16,0)","v":0},{"$f":"IF(AND(A698<=$B$20,$S$17),$T$17,0)","v":0},{"$f":"IF(AND(A698<=$B$20,$S$18),$T$18,0)","v":0},0,0,0,0,0,0,0,0,0,0,0,0,0]
[668,{"$f":"OFFSET(InputPriceData!B$10,CalculationsAndCharts!$A699+$A$11,0,1,1)","v":"00:00:00"},{"$f":"OFFSET(InputPriceData!G$10,CalculationsAndCharts!$A699+$A$11,0,1,1)","v":0},{"$f":"OFFSET(InputPriceData!C$10,CalculationsAndCharts!$A699+$A$11,0,1,1)","v":0},{"$f":"OFFSET(InputPriceData!D$10,CalculationsAndCharts!$A699+$A$11,0,1,1)","v":0},{"$f":"OFFSET(InputPriceData!E$10,CalculationsAndCharts!$A699+$A$11,0,1,1)","v":0},{"$f":"OFFSET(InputPriceData!F$10,CalculationsAndCharts!$A699+$A$11,0,1,1)","v":0},{"$f":"IF(AND(A699<=$B$20,$S$14),$T$14,0)","v":0},{"$f":"IF(AND(A699<=$B$20,$S$15),$T$15,0)","v":0},{"$f":"IF(AND(A699<=$B$20,$S$16),$T$16,0)","v":0},{"$f":"IF(AND(A699<=$B$20,$S$17),$T$17,0)","v":0},{"$f":"IF(AND(A699<=$B$20,$S$18),$T$18,0)","v":0},0,0,0,0,0,0,0,0,0,0,0,0,0]
[669,{"$f":"OFFSET(InputPriceData!B$10,CalculationsAndCharts!$A700+$A$11,0,1,1)","v":"00:00:00"},{"$f":"OFFSET(InputPriceData!G$10,CalculationsAndCharts!$A700+$A$11,0,1,1)","v":0},{"$f":"OFFSET(InputPriceData!C$10,CalculationsAndCharts!$A700+$A$11,0,1,1)","v":0},{"$f":"OFFSET(InputPriceData!D$10,CalculationsAndCharts!$A700+$A$11,0,1,1)","v":0},{"$f":"OFFSET(InputPriceData!E$10,CalculationsAndCharts!$A700+$A$11,0,1,1)","v":0},{"$f":"OFFSET(InputPriceData!F$10,CalculationsAndCharts!$A700+$A$11,0,1,1)","v":0},{"$f":"IF(AND(A700<=$B$20,$S$14),$T$14,0)","v":0},{"$f":"IF(AND(A700<=$B$20,$S$15),$T$15,0)","v":0},{"$f":"IF(AND(A700<=$B$20,$S$16),$T$16,0)","v":0},{"$f":"IF(AND(A700<=$B$20,$S$17),$T$17,0)","v":0},{"$f":"IF(AND(A700<=$B$20,$S$18),$T$18,0)","v":0},0,0,0,0,0,0,0,0,0,0,0,0,0]
[670,{"$f":"OFFSET(InputPriceData!B$10,CalculationsAndCharts!$A701+$A$11,0,1,1)","v":"00:00:00"},{"$f":"OFFSET(InputPriceData!G$10,CalculationsAndCharts!$A701+$A$11,0,1,1)","v":0},{"$f":"OFFSET(InputPriceData!C$10,CalculationsAndCharts!$A701+$A$11,0,1,1)","v":0},{"$f":"OFFSET(InputPriceData!D$10,CalculationsAndCharts!$A701+$A$11,0,1,1)","v":0},{"$f":"OFFSET(InputPriceData!E$10,CalculationsAndCharts!$A701+$A$11,0,1,1)","v":0},{"$f":"OFFSET(InputPriceData!F$10,CalculationsAndCharts!$A701+$A$11,0,1,1)","v":0},{"$f":"IF(AND(A701<=$B$20,$S$14),$T$14,0)","v":0},{"$f":"IF(AND(A701<=$B$20,$S$15),$T$15,0)","v":0},{"$f":"IF(AND(A701<=$B$20,$S$16),$T$16,0)","v":0},{"$f":"IF(AND(A701<=$B$20,$S$17),$T$17,0)","v":0},{"$f":"IF(AND(A701<=$B$20,$S$18),$T$18,0)","v":0},0,0,0,0,0,0,0,0,0,0,0,0,0]
[671,{"$f":"OFFSET(InputPriceData!B$10,CalculationsAndCharts!$A702+$A$11,0,1,1)","v":"00:00:00"},{"$f":"OFFSET(InputPriceData!G$10,CalculationsAndCharts!$A702+$A$11,0,1,1)","v":0},{"$f":"OFFSET(InputPriceData!C$10,CalculationsAndCharts!$A702+$A$11,0,1,1)","v":0},{"$f":"OFFSET(InputPriceData!D$10,CalculationsAndCharts!$A702+$A$11,0,1,1)","v":0},{"$f":"OFFSET(InputPriceData!E$10,CalculationsAndCharts!$A702+$A$11,0,1,1)","v":0},{"$f":"OFFSET(InputPriceData!F$10,CalculationsAndCharts!$A702+$A$11,0,1,1)","v":0},{"$f":"IF(AND(A702<=$B$20,$S$14),$T$14,0)","v":0},{"$f":"IF(AND(A702<=$B$20,$S$15),$T$15,0)","v":0},{"$f":"IF(AND(A702<=$B$20,$S$16),$T$16,0)","v":0},{"$f":"IF(AND(A702<=$B$20,$S$17),$T$17,0)","v":0},{"$f":"IF(AND(A702<=$B$20,$S$18),$T$18,0)","v":0},0,0,0,0,0,0,0,0,0,0,0,0,0]
[672,{"$f":"OFFSET(InputPriceData!B$10,CalculationsAndCharts!$A703+$A$11,0,1,1)","v":"00:00:00"},{"$f":"OFFSET(InputPriceData!G$10,CalculationsAndCharts!$A703+$A$11,0,1,1)","v":0},{"$f":"OFFSET(InputPriceData!C$10,CalculationsAndCharts!$A703+$A$11,0,1,1)","v":0},{"$f":"OFFSET(InputPriceData!D$10,CalculationsAndCharts!$A703+$A$11,0,1,1)","v":0},{"$f":"OFFSET(InputPriceData!E$10,CalculationsAndCharts!$A703+$A$11,0,1,1)","v":0},{"$f":"OFFSET(InputPriceData!F$10,CalculationsAndCharts!$A703+$A$11,0,1,1)","v":0},{"$f":"IF(AND(A703<=$B$20,$S$14),$T$14,0)","v":0},{"$f":"IF(AND(A703<=$B$20,$S$15),$T$15,0)","v":0},{"$f":"IF(AND(A703<=$B$20,$S$16),$T$16,0)","v":0},{"$f":"IF(AND(A703<=$B$20,$S$17),$T$17,0)","v":0},{"$f":"IF(AND(A703<=$B$20,$S$18),$T$18,0)","v":0},0,0,0,0,0,0,0,0,0,0,0,0,0]
[673,{"$f":"OFFSET(InputPriceData!B$10,CalculationsAndCharts!$A704+$A$11,0,1,1)","v":"00:00:00"},{"$f":"OFFSET(InputPriceData!G$10,CalculationsAndCharts!$A704+$A$11,0,1,1)","v":0},{"$f":"OFFSET(InputPriceData!C$10,CalculationsAndCharts!$A704+$A$11,0,1,1)","v":0},{"$f":"OFFSET(InputPriceData!D$10,CalculationsAndCharts!$A704+$A$11,0,1,1)","v":0},{"$f":"OFFSET(InputPriceData!E$10,CalculationsAndCharts!$A704+$A$11,0,1,1)","v":0},{"$f":"OFFSET(InputPriceData!F$10,CalculationsAndCharts!$A704+$A$11,0,1,1)","v":0},{"$f":"IF(AND(A704<=$B$20,$S$14),$T$14,0)","v":0},{"$f":"IF(AND(A704<=$B$20,$S$15),$T$15,0)","v":0},{"$f":"IF(AND(A704<=$B$20,$S$16),$T$16,0)","v":0},{"$f":"IF(AND(A704<=$B$20,$S$17),$T$17,0)","v":0},{"$f":"IF(AND(A704<=$B$20,$S$18),$T$18,0)","v":0},0,0,0,0,0,0,0,0,0,0,0,0,0]
[674,{"$f":"OFFSET(InputPriceData!B$10,CalculationsAndCharts!$A705+$A$11,0,1,1)","v":"00:00:00"},{"$f":"OFFSET(InputPriceData!G$10,CalculationsAndCharts!$A705+$A$11,0,1,1)","v":0},{"$f":"OFFSET(InputPriceData!C$10,CalculationsAndCharts!$A705+$A$11,0,1,1)","v":0},{"$f":"OFFSET(InputPriceData!D$10,CalculationsAndCharts!$A705+$A$11,0,1,1)","v":0},{"$f":"OFFSET(InputPriceData!E$10,CalculationsAndCharts!$A705+$A$11,0,1,1)","v":0},{"$f":"OFFSET(InputPriceData!F$10,CalculationsAndCharts!$A705+$A$11,0,1,1)","v":0},{"$f":"IF(AND(A705<=$B$20,$S$14),$T$14,0)","v":0},{"$f":"IF(AND(A705<=$B$20,$S$15),$T$15,0)","v":0},{"$f":"IF(AND(A705<=$B$20,$S$16),$T$16,0)","v":0},{"$f":"IF(AND(A705<=$B$20,$S$17),$T$17,0)","v":0},{"$f":"IF(AND(A705<=$B$20,$S$18),$T$18,0)","v":0},0,0,0,0,0,0,0,0,0,0,0,0,0]
[675,{"$f":"OFFSET(InputPriceData!B$10,CalculationsAndCharts!$A706+$A$11,0,1,1)","v":"00:00:00"},{"$f":"OFFSET(InputPriceData!G$10,CalculationsAndCharts!$A706+$A$11,0,1,1)","v":0},{"$f":"OFFSET(InputPriceData!C$10,CalculationsAndCharts!$A706+$A$11,0,1,1)","v":0},{"$f":"OFFSET(InputPriceData!D$10,CalculationsAndCharts!$A706+$A$11,0,1,1)","v":0},{"$f":"OFFSET(InputPriceData!E$10,CalculationsAndCharts!$A706+$A$11,0,1,1)","v":0},{"$f":"OFFSET(InputPriceData!F$10,CalculationsAndCharts!$A706+$A$11,0,1,1)","v":0},{"$f":"IF(AND(A706<=$B$20,$S$14),$T$14,0)","v":0},{"$f":"IF(AND(A706<=$B$20,$S$15),$T$15,0)","v":0},{"$f":"IF(AND(A706<=$B$20,$S$16),$T$16,0)","v":0},{"$f":"IF(AND(A706<=$B$20,$S$17),$T$17,0)","v":0},{"$f":"IF(AND(A706<=$B$20,$S$18),$T$18,0)","v":0},0,0,0,0,0,0,0,0,0,0,0,0,0]
[676,{"$f":"OFFSET(InputPriceData!B$10,CalculationsAndCharts!$A707+$A$11,0,1,1)","v":"00:00:00"},{"$f":"OFFSET(InputPriceData!G$10,CalculationsAndCharts!$A707+$A$11,0,1,1)","v":0},{"$f":"OFFSET(InputPriceData!C$10,CalculationsAndCharts!$A707+$A$11,0,1,1)","v":0},{"$f":"OFFSET(InputPriceData!D$10,CalculationsAndCharts!$A707+$A$11,0,1,1)","v":0},{"$f":"OFFSET(InputPriceData!E$10,CalculationsAndCharts!$A707+$A$11,0,1,1)","v":0},{"$f":"OFFSET(InputPriceData!F$10,CalculationsAndCharts!$A707+$A$11,0,1,1)","v":0},{"$f":"IF(AND(A707<=$B$20,$S$14),$T$14,0)","v":0},{"$f":"IF(AND(A707<=$B$20,$S$15),$T$15,0)","v":0},{"$f":"IF(AND(A707<=$B$20,$S$16),$T$16,0)","v":0},{"$f":"IF(AND(A707<=$B$20,$S$17),$T$17,0)","v":0},{"$f":"IF(AND(A707<=$B$20,$S$18),$T$18,0)","v":0},0,0,0,0,0,0,0,0,0,0,0,0,0]
[677,{"$f":"OFFSET(InputPriceData!B$10,CalculationsAndCharts!$A708+$A$11,0,1,1)","v":"00:00:00"},{"$f":"OFFSET(InputPriceData!G$10,CalculationsAndCharts!$A708+$A$11,0,1,1)","v":0},{"$f":"OFFSET(InputPriceData!C$10,CalculationsAndCharts!$A708+$A$11,0,1,1)","v":0},{"$f":"OFFSET(InputPriceData!D$10,CalculationsAndCharts!$A708+$A$11,0,1,1)","v":0},{"$f":"OFFSET(InputPriceData!E$10,CalculationsAndCharts!$A708+$A$11,0,1,1)","v":0},{"$f":"OFFSET(InputPriceData!F$10,CalculationsAndCharts!$A708+$A$11,0,1,1)","v":0},{"$f":"IF(AND(A708<=$B$20,$S$14),$T$14,0)","v":0},{"$f":"IF(AND(A708<=$B$20,$S$15),$T$15,0)","v":0},{"$f":"IF(AND(A708<=$B$20,$S$16),$T$16,0)","v":0},{"$f":"IF(AND(A708<=$B$20,$S$17),$T$17,0)","v":0},{"$f":"IF(AND(A708<=$B$20,$S$18),$T$18,0)","v":0},0,0,0,0,0,0,0,0,0,0,0,0,0]
[678,{"$f":"OFFSET(InputPriceData!B$10,CalculationsAndCharts!$A709+$A$11,0,1,1)","v":"00:00:00"},{"$f":"OFFSET(InputPriceData!G$10,CalculationsAndCharts!$A709+$A$11,0,1,1)","v":0},{"$f":"OFFSET(InputPriceData!C$10,CalculationsAndCharts!$A709+$A$11,0,1,1)","v":0},{"$f":"OFFSET(InputPriceData!D$10,CalculationsAndCharts!$A709+$A$11,0,1,1)","v":0},{"$f":"OFFSET(InputPriceData!E$10,CalculationsAndCharts!$A709+$A$11,0,1,1)","v":0},{"$f":"OFFSET(InputPriceData!F$10,CalculationsAndCharts!$A709+$A$11,0,1,1)","v":0},{"$f":"IF(AND(A709<=$B$20,$S$14),$T$14,0)","v":0},{"$f":"IF(AND(A709<=$B$20,$S$15),$T$15,0)","v":0},{"$f":"IF(AND(A709<=$B$20,$S$16),$T$16,0)","v":0},{"$f":"IF(AND(A709<=$B$20,$S$17),$T$17,0)","v":0},{"$f":"IF(AND(A709<=$B$20,$S$18),$T$18,0)","v":0},0,0,0,0,0,0,0,0,0,0,0,0,0]
[679,{"$f":"OFFSET(InputPriceData!B$10,CalculationsAndCharts!$A710+$A$11,0,1,1)","v":"00:00:00"},{"$f":"OFFSET(InputPriceData!G$10,CalculationsAndCharts!$A710+$A$11,0,1,1)","v":0},{"$f":"OFFSET(InputPriceData!C$10,CalculationsAndCharts!$A710+$A$11,0,1,1)","v":0},{"$f":"OFFSET(InputPriceData!D$10,CalculationsAndCharts!$A710+$A$11,0,1,1)","v":0},{"$f":"OFFSET(InputPriceData!E$10,CalculationsAndCharts!$A710+$A$11,0,1,1)","v":0},{"$f":"OFFSET(InputPriceData!F$10,CalculationsAndCharts!$A710+$A$11,0,1,1)","v":0},{"$f":"IF(AND(A710<=$B$20,$S$14),$T$14,0)","v":0},{"$f":"IF(AND(A710<=$B$20,$S$15),$T$15,0)","v":0},{"$f":"IF(AND(A710<=$B$20,$S$16),$T$16,0)","v":0},{"$f":"IF(AND(A710<=$B$20,$S$17),$T$17,0)","v":0},{"$f":"IF(AND(A710<=$B$20,$S$18),$T$18,0)","v":0},0,0,0,0,0,0,0,0,0,0,0,0,0]
[680,{"$f":"OFFSET(InputPriceData!B$10,CalculationsAndCharts!$A711+$A$11,0,1,1)","v":"00:00:00"},{"$f":"OFFSET(InputPriceData!G$10,CalculationsAndCharts!$A711+$A$11,0,1,1)","v":0},{"$f":"OFFSET(InputPriceData!C$10,CalculationsAndCharts!$A711+$A$11,0,1,1)","v":0},{"$f":"OFFSET(InputPriceData!D$10,CalculationsAndCharts!$A711+$A$11,0,1,1)","v":0},{"$f":"OFFSET(InputPriceData!E$10,CalculationsAndCharts!$A711+$A$11,0,1,1)","v":0},{"$f":"OFFSET(InputPriceData!F$10,CalculationsAndCharts!$A711+$A$11,0,1,1)","v":0},{"$f":"IF(AND(A711<=$B$20,$S$14),$T$14,0)","v":0},{"$f":"IF(AND(A711<=$B$20,$S$15),$T$15,0)","v":0},{"$f":"IF(AND(A711<=$B$20,$S$16),$T$16,0)","v":0},{"$f":"IF(AND(A711<=$B$20,$S$17),$T$17,0)","v":0},{"$f":"IF(AND(A711<=$B$20,$S$18),$T$18,0)","v":0},0,0,0,0,0,0,0,0,0,0,0,0,0]
[681,{"$f":"OFFSET(InputPriceData!B$10,CalculationsAndCharts!$A712+$A$11,0,1,1)","v":"00:00:00"},{"$f":"OFFSET(InputPriceData!G$10,CalculationsAndCharts!$A712+$A$11,0,1,1)","v":0},{"$f":"OFFSET(InputPriceData!C$10,CalculationsAndCharts!$A712+$A$11,0,1,1)","v":0},{"$f":"OFFSET(InputPriceData!D$10,CalculationsAndCharts!$A712+$A$11,0,1,1)","v":0},{"$f":"OFFSET(InputPriceData!E$10,CalculationsAndCharts!$A712+$A$11,0,1,1)","v":0},{"$f":"OFFSET(InputPriceData!F$10,CalculationsAndCharts!$A712+$A$11,0,1,1)","v":0},{"$f":"IF(AND(A712<=$B$20,$S$14),$T$14,0)","v":0},{"$f":"IF(AND(A712<=$B$20,$S$15),$T$15,0)","v":0},{"$f":"IF(AND(A712<=$B$20,$S$16),$T$16,0)","v":0},{"$f":"IF(AND(A712<=$B$20,$S$17),$T$17,0)","v":0},{"$f":"IF(AND(A712<=$B$20,$S$18),$T$18,0)","v":0},0,0,0,0,0,0,0,0,0,0,0,0,0]
[682,{"$f":"OFFSET(InputPriceData!B$10,CalculationsAndCharts!$A713+$A$11,0,1,1)","v":"00:00:00"},{"$f":"OFFSET(InputPriceData!G$10,CalculationsAndCharts!$A713+$A$11,0,1,1)","v":0},{"$f":"OFFSET(InputPriceData!C$10,CalculationsAndCharts!$A713+$A$11,0,1,1)","v":0},{"$f":"OFFSET(InputPriceData!D$10,CalculationsAndCharts!$A713+$A$11,0,1,1)","v":0},{"$f":"OFFSET(InputPriceData!E$10,CalculationsAndCharts!$A713+$A$11,0,1,1)","v":0},{"$f":"OFFSET(InputPriceData!F$10,CalculationsAndCharts!$A713+$A$11,0,1,1)","v":0},{"$f":"IF(AND(A713<=$B$20,$S$14),$T$14,0)","v":0},{"$f":"IF(AND(A713<=$B$20,$S$15),$T$15,0)","v":0},{"$f":"IF(AND(A713<=$B$20,$S$16),$T$16,0)","v":0},{"$f":"IF(AND(A713<=$B$20,$S$17),$T$17,0)","v":0},{"$f":"IF(AND(A713<=$B$20,$S$18),$T$18,0)","v":0},0,0,0,0,0,0,0,0,0,0,0,0,0]
[683,{"$f":"OFFSET(InputPriceData!B$10,CalculationsAndCharts!$A714+$A$11,0,1,1)","v":"00:00:00"},{"$f":"OFFSET(InputPriceData!G$10,CalculationsAndCharts!$A714+$A$11,0,1,1)","v":0},{"$f":"OFFSET(InputPriceData!C$10,CalculationsAndCharts!$A714+$A$11,0,1,1)","v":0},{"$f":"OFFSET(InputPriceData!D$10,CalculationsAndCharts!$A714+$A$11,0,1,1)","v":0},{"$f":"OFFSET(InputPriceData!E$10,CalculationsAndCharts!$A714+$A$11,0,1,1)","v":0},{"$f":"OFFSET(InputPriceData!F$10,CalculationsAndCharts!$A714+$A$11,0,1,1)","v":0},{"$f":"IF(AND(A714<=$B$20,$S$14),$T$14,0)","v":0},{"$f":"IF(AND(A714<=$B$20,$S$15),$T$15,0)","v":0},{"$f":"IF(AND(A714<=$B$20,$S$16),$T$16,0)","v":0},{"$f":"IF(AND(A714<=$B$20,$S$17),$T$17,0)","v":0},{"$f":"IF(AND(A714<=$B$20,$S$18),$T$18,0)","v":0},0,0,0,0,0,0,0,0,0,0,0,0,0]
[684,{"$f":"OFFSET(InputPriceData!B$10,CalculationsAndCharts!$A715+$A$11,0,1,1)","v":"00:00:00"},{"$f":"OFFSET(InputPriceData!G$10,CalculationsAndCharts!$A715+$A$11,0,1,1)","v":0},{"$f":"OFFSET(InputPriceData!C$10,CalculationsAndCharts!$A715+$A$11,0,1,1)","v":0},{"$f":"OFFSET(InputPriceData!D$10,CalculationsAndCharts!$A715+$A$11,0,1,1)","v":0},{"$f":"OFFSET(InputPriceData!E$10,CalculationsAndCharts!$A715+$A$11,0,1,1)","v":0},{"$f":"OFFSET(InputPriceData!F$10,CalculationsAndCharts!$A715+$A$11,0,1,1)","v":0},{"$f":"IF(AND(A715<=$B$20,$S$14),$T$14,0)","v":0},{"$f":"IF(AND(A715<=$B$20,$S$15),$T$15,0)","v":0},{"$f":"IF(AND(A715<=$B$20,$S$16),$T$16,0)","v":0},{"$f":"IF(AND(A715<=$B$20,$S$17),$T$17,0)","v":0},{"$f":"IF(AND(A715<=$B$20,$S$18),$T$18,0)","v":0},0,0,0,0,0,0,0,0,0,0,0,0,0]
[685,{"$f":"OFFSET(InputPriceData!B$10,CalculationsAndCharts!$A716+$A$11,0,1,1)","v":"00:00:00"},{"$f":"OFFSET(InputPriceData!G$10,CalculationsAndCharts!$A716+$A$11,0,1,1)","v":0},{"$f":"OFFSET(InputPriceData!C$10,CalculationsAndCharts!$A716+$A$11,0,1,1)","v":0},{"$f":"OFFSET(InputPriceData!D$10,CalculationsAndCharts!$A716+$A$11,0,1,1)","v":0},{"$f":"OFFSET(InputPriceData!E$10,CalculationsAndCharts!$A716+$A$11,0,1,1)","v":0},{"$f":"OFFSET(InputPriceData!F$10,CalculationsAndCharts!$A716+$A$11,0,1,1)","v":0},{"$f":"IF(AND(A716<=$B$20,$S$14),$T$14,0)","v":0},{"$f":"IF(AND(A716<=$B$20,$S$15),$T$15,0)","v":0},{"$f":"IF(AND(A716<=$B$20,$S$16),$T$16,0)","v":0},{"$f":"IF(AND(A716<=$B$20,$S$17),$T$17,0)","v":0},{"$f":"IF(AND(A716<=$B$20,$S$18),$T$18,0)","v":0},0,0,0,0,0,0,0,0,0,0,0,0,0]
[686,{"$f":"OFFSET(InputPriceData!B$10,CalculationsAndCharts!$A717+$A$11,0,1,1)","v":"00:00:00"},{"$f":"OFFSET(InputPriceData!G$10,CalculationsAndCharts!$A717+$A$11,0,1,1)","v":0},{"$f":"OFFSET(InputPriceData!C$10,CalculationsAndCharts!$A717+$A$11,0,1,1)","v":0},{"$f":"OFFSET(InputPriceData!D$10,CalculationsAndCharts!$A717+$A$11,0,1,1)","v":0},{"$f":"OFFSET(InputPriceData!E$10,CalculationsAndCharts!$A717+$A$11,0,1,1)","v":0},{"$f":"OFFSET(InputPriceData!F$10,CalculationsAndCharts!$A717+$A$11,0,1,1)","v":0},{"$f":"IF(AND(A717<=$B$20,$S$14),$T$14,0)","v":0},{"$f":"IF(AND(A717<=$B$20,$S$15),$T$15,0)","v":0},{"$f":"IF(AND(A717<=$B$20,$S$16),$T$16,0)","v":0},{"$f":"IF(AND(A717<=$B$20,$S$17),$T$17,0)","v":0},{"$f":"IF(AND(A717<=$B$20,$S$18),$T$18,0)","v":0},0,0,0,0,0,0,0,0,0,0,0,0,0]
[687,{"$f":"OFFSET(InputPriceData!B$10,CalculationsAndCharts!$A718+$A$11,0,1,1)","v":"00:00:00"},{"$f":"OFFSET(InputPriceData!G$10,CalculationsAndCharts!$A718+$A$11,0,1,1)","v":0},{"$f":"OFFSET(InputPriceData!C$10,CalculationsAndCharts!$A718+$A$11,0,1,1)","v":0},{"$f":"OFFSET(InputPriceData!D$10,CalculationsAndCharts!$A718+$A$11,0,1,1)","v":0},{"$f":"OFFSET(InputPriceData!E$10,CalculationsAndCharts!$A718+$A$11,0,1,1)","v":0},{"$f":"OFFSET(InputPriceData!F$10,CalculationsAndCharts!$A718+$A$11,0,1,1)","v":0},{"$f":"IF(AND(A718<=$B$20,$S$14),$T$14,0)","v":0},{"$f":"IF(AND(A718<=$B$20,$S$15),$T$15,0)","v":0},{"$f":"IF(AND(A718<=$B$20,$S$16),$T$16,0)","v":0},{"$f":"IF(AND(A718<=$B$20,$S$17),$T$17,0)","v":0},{"$f":"IF(AND(A718<=$B$20,$S$18),$T$18,0)","v":0},0,0,0,0,0,0,0,0,0,0,0,0,0]
[688,{"$f":"OFFSET(InputPriceData!B$10,CalculationsAndCharts!$A719+$A$11,0,1,1)","v":"00:00:00"},{"$f":"OFFSET(InputPriceData!G$10,CalculationsAndCharts!$A719+$A$11,0,1,1)","v":0},{"$f":"OFFSET(InputPriceData!C$10,CalculationsAndCharts!$A719+$A$11,0,1,1)","v":0},{"$f":"OFFSET(InputPriceData!D$10,CalculationsAndCharts!$A719+$A$11,0,1,1)","v":0},{"$f":"OFFSET(InputPriceData!E$10,CalculationsAndCharts!$A719+$A$11,0,1,1)","v":0},{"$f":"OFFSET(InputPriceData!F$10,CalculationsAndCharts!$A719+$A$11,0,1,1)","v":0},{"$f":"IF(AND(A719<=$B$20,$S$14),$T$14,0)","v":0},{"$f":"IF(AND(A719<=$B$20,$S$15),$T$15,0)","v":0},{"$f":"IF(AND(A719<=$B$20,$S$16),$T$16,0)","v":0},{"$f":"IF(AND(A719<=$B$20,$S$17),$T$17,0)","v":0},{"$f":"IF(AND(A719<=$B$20,$S$18),$T$18,0)","v":0},0,0,0,0,0,0,0,0,0,0,0,0,0]
[689,{"$f":"OFFSET(InputPriceData!B$10,CalculationsAndCharts!$A720+$A$11,0,1,1)","v":"00:00:00"},{"$f":"OFFSET(InputPriceData!G$10,CalculationsAndCharts!$A720+$A$11,0,1,1)","v":0},{"$f":"OFFSET(InputPriceData!C$10,CalculationsAndCharts!$A720+$A$11,0,1,1)","v":0},{"$f":"OFFSET(InputPriceData!D$10,CalculationsAndCharts!$A720+$A$11,0,1,1)","v":0},{"$f":"OFFSET(InputPriceData!E$10,CalculationsAndCharts!$A720+$A$11,0,1,1)","v":0},{"$f":"OFFSET(InputPriceData!F$10,CalculationsAndCharts!$A720+$A$11,0,1,1)","v":0},{"$f":"IF(AND(A720<=$B$20,$S$14),$T$14,0)","v":0},{"$f":"IF(AND(A720<=$B$20,$S$15),$T$15,0)","v":0},{"$f":"IF(AND(A720<=$B$20,$S$16),$T$16,0)","v":0},{"$f":"IF(AND(A720<=$B$20,$S$17),$T$17,0)","v":0},{"$f":"IF(AND(A720<=$B$20,$S$18),$T$18,0)","v":0},0,0,0,0,0,0,0,0,0,0,0,0,0]
[690,{"$f":"OFFSET(InputPriceData!B$10,CalculationsAndCharts!$A721+$A$11,0,1,1)","v":"00:00:00"},{"$f":"OFFSET(InputPriceData!G$10,CalculationsAndCharts!$A721+$A$11,0,1,1)","v":0},{"$f":"OFFSET(InputPriceData!C$10,CalculationsAndCharts!$A721+$A$11,0,1,1)","v":0},{"$f":"OFFSET(InputPriceData!D$10,CalculationsAndCharts!$A721+$A$11,0,1,1)","v":0},{"$f":"OFFSET(InputPriceData!E$10,CalculationsAndCharts!$A721+$A$11,0,1,1)","v":0},{"$f":"OFFSET(InputPriceData!F$10,CalculationsAndCharts!$A721+$A$11,0,1,1)","v":0},{"$f":"IF(AND(A721<=$B$20,$S$14),$T$14,0)","v":0},{"$f":"IF(AND(A721<=$B$20,$S$15),$T$15,0)","v":0},{"$f":"IF(AND(A721<=$B$20,$S$16),$T$16,0)","v":0},{"$f":"IF(AND(A721<=$B$20,$S$17),$T$17,0)","v":0},{"$f":"IF(AND(A721<=$B$20,$S$18),$T$18,0)","v":0},0,0,0,0,0,0,0,0,0,0,0,0,0]
[691,{"$f":"OFFSET(InputPriceData!B$10,CalculationsAndCharts!$A722+$A$11,0,1,1)","v":"00:00:00"},{"$f":"OFFSET(InputPriceData!G$10,CalculationsAndCharts!$A722+$A$11,0,1,1)","v":0},{"$f":"OFFSET(InputPriceData!C$10,CalculationsAndCharts!$A722+$A$11,0,1,1)","v":0},{"$f":"OFFSET(InputPriceData!D$10,CalculationsAndCharts!$A722+$A$11,0,1,1)","v":0},{"$f":"OFFSET(InputPriceData!E$10,CalculationsAndCharts!$A722+$A$11,0,1,1)","v":0},{"$f":"OFFSET(InputPriceData!F$10,CalculationsAndCharts!$A722+$A$11,0,1,1)","v":0},{"$f":"IF(AND(A722<=$B$20,$S$14),$T$14,0)","v":0},{"$f":"IF(AND(A722<=$B$20,$S$15),$T$15,0)","v":0},{"$f":"IF(AND(A722<=$B$20,$S$16),$T$16,0)","v":0},{"$f":"IF(AND(A722<=$B$20,$S$17),$T$17,0)","v":0},{"$f":"IF(AND(A722<=$B$20,$S$18),$T$18,0)","v":0},0,0,0,0,0,0,0,0,0,0,0,0,0]
[692,{"$f":"OFFSET(InputPriceData!B$10,CalculationsAndCharts!$A723+$A$11,0,1,1)","v":"00:00:00"},{"$f":"OFFSET(InputPriceData!G$10,CalculationsAndCharts!$A723+$A$11,0,1,1)","v":0},{"$f":"OFFSET(InputPriceData!C$10,CalculationsAndCharts!$A723+$A$11,0,1,1)","v":0},{"$f":"OFFSET(InputPriceData!D$10,CalculationsAndCharts!$A723+$A$11,0,1,1)","v":0},{"$f":"OFFSET(InputPriceData!E$10,CalculationsAndCharts!$A723+$A$11,0,1,1)","v":0},{"$f":"OFFSET(InputPriceData!F$10,CalculationsAndCharts!$A723+$A$11,0,1,1)","v":0},{"$f":"IF(AND(A723<=$B$20,$S$14),$T$14,0)","v":0},{"$f":"IF(AND(A723<=$B$20,$S$15),$T$15,0)","v":0},{"$f":"IF(AND(A723<=$B$20,$S$16),$T$16,0)","v":0},{"$f":"IF(AND(A723<=$B$20,$S$17),$T$17,0)","v":0},{"$f":"IF(AND(A723<=$B$20,$S$18),$T$18,0)","v":0},0,0,0,0,0,0,0,0,0,0,0,0,0]
[693,{"$f":"OFFSET(InputPriceData!B$10,CalculationsAndCharts!$A724+$A$11,0,1,1)","v":"00:00:00"},{"$f":"OFFSET(InputPriceData!G$10,CalculationsAndCharts!$A724+$A$11,0,1,1)","v":0},{"$f":"OFFSET(InputPriceData!C$10,CalculationsAndCharts!$A724+$A$11,0,1,1)","v":0},{"$f":"OFFSET(InputPriceData!D$10,CalculationsAndCharts!$A724+$A$11,0,1,1)","v":0},{"$f":"OFFSET(InputPriceData!E$10,CalculationsAndCharts!$A724+$A$11,0,1,1)","v":0},{"$f":"OFFSET(InputPriceData!F$10,CalculationsAndCharts!$A724+$A$11,0,1,1)","v":0},{"$f":"IF(AND(A724<=$B$20,$S$14),$T$14,0)","v":0},{"$f":"IF(AND(A724<=$B$20,$S$15),$T$15,0)","v":0},{"$f":"IF(AND(A724<=$B$20,$S$16),$T$16,0)","v":0},{"$f":"IF(AND(A724<=$B$20,$S$17),$T$17,0)","v":0},{"$f":"IF(AND(A724<=$B$20,$S$18),$T$18,0)","v":0},0,0,0,0,0,0,0,0,0,0,0,0,0]
[694,{"$f":"OFFSET(InputPriceData!B$10,CalculationsAndCharts!$A725+$A$11,0,1,1)","v":"00:00:00"},{"$f":"OFFSET(InputPriceData!G$10,CalculationsAndCharts!$A725+$A$11,0,1,1)","v":0},{"$f":"OFFSET(InputPriceData!C$10,CalculationsAndCharts!$A725+$A$11,0,1,1)","v":0},{"$f":"OFFSET(InputPriceData!D$10,CalculationsAndCharts!$A725+$A$11,0,1,1)","v":0},{"$f":"OFFSET(InputPriceData!E$10,CalculationsAndCharts!$A725+$A$11,0,1,1)","v":0},{"$f":"OFFSET(InputPriceData!F$10,CalculationsAndCharts!$A725+$A$11,0,1,1)","v":0},{"$f":"IF(AND(A725<=$B$20,$S$14),$T$14,0)","v":0},{"$f":"IF(AND(A725<=$B$20,$S$15),$T$15,0)","v":0},{"$f":"IF(AND(A725<=$B$20,$S$16),$T$16,0)","v":0},{"$f":"IF(AND(A725<=$B$20,$S$17),$T$17,0)","v":0},{"$f":"IF(AND(A725<=$B$20,$S$18),$T$18,0)","v":0},0,0,0,0,0,0,0,0,0,0,0,0,0]
[695,{"$f":"OFFSET(InputPriceData!B$10,CalculationsAndCharts!$A726+$A$11,0,1,1)","v":"00:00:00"},{"$f":"OFFSET(InputPriceData!G$10,CalculationsAndCharts!$A726+$A$11,0,1,1)","v":0},{"$f":"OFFSET(InputPriceData!C$10,CalculationsAndCharts!$A726+$A$11,0,1,1)","v":0},{"$f":"OFFSET(InputPriceData!D$10,CalculationsAndCharts!$A726+$A$11,0,1,1)","v":0},{"$f":"OFFSET(InputPriceData!E$10,CalculationsAndCharts!$A726+$A$11,0,1,1)","v":0},{"$f":"OFFSET(InputPriceData!F$10,CalculationsAndCharts!$A726+$A$11,0,1,1)","v":0},{"$f":"IF(AND(A726<=$B$20,$S$14),$T$14,0)","v":0},{"$f":"IF(AND(A726<=$B$20,$S$15),$T$15,0)","v":0},{"$f":"IF(AND(A726<=$B$20,$S$16),$T$16,0)","v":0},{"$f":"IF(AND(A726<=$B$20,$S$17),$T$17,0)","v":0},{"$f":"IF(AND(A726<=$B$20,$S$18),$T$18,0)","v":0},0,0,0,0,0,0,0,0,0,0,0,0,0]
[696,{"$f":"OFFSET(InputPriceData!B$10,CalculationsAndCharts!$A727+$A$11,0,1,1)","v":"00:00:00"},{"$f":"OFFSET(InputPriceData!G$10,CalculationsAndCharts!$A727+$A$11,0,1,1)","v":0},{"$f":"OFFSET(InputPriceData!C$10,CalculationsAndCharts!$A727+$A$11,0,1,1)","v":0},{"$f":"OFFSET(InputPriceData!D$10,CalculationsAndCharts!$A727+$A$11,0,1,1)","v":0},{"$f":"OFFSET(InputPriceData!E$10,CalculationsAndCharts!$A727+$A$11,0,1,1)","v":0},{"$f":"OFFSET(InputPriceData!F$10,CalculationsAndCharts!$A727+$A$11,0,1,1)","v":0},{"$f":"IF(AND(A727<=$B$20,$S$14),$T$14,0)","v":0},{"$f":"IF(AND(A727<=$B$20,$S$15),$T$15,0)","v":0},{"$f":"IF(AND(A727<=$B$20,$S$16),$T$16,0)","v":0},{"$f":"IF(AND(A727<=$B$20,$S$17),$T$17,0)","v":0},{"$f":"IF(AND(A727<=$B$20,$S$18),$T$18,0)","v":0},0,0,0,0,0,0,0,0,0,0,0,0,0]
[697,{"$f":"OFFSET(InputPriceData!B$10,CalculationsAndCharts!$A728+$A$11,0,1,1)","v":"00:00:00"},{"$f":"OFFSET(InputPriceData!G$10,CalculationsAndCharts!$A728+$A$11,0,1,1)","v":0},{"$f":"OFFSET(InputPriceData!C$10,CalculationsAndCharts!$A728+$A$11,0,1,1)","v":0},{"$f":"OFFSET(InputPriceData!D$10,CalculationsAndCharts!$A728+$A$11,0,1,1)","v":0},{"$f":"OFFSET(InputPriceData!E$10,CalculationsAndCharts!$A728+$A$11,0,1,1)","v":0},{"$f":"OFFSET(InputPriceData!F$10,CalculationsAndCharts!$A728+$A$11,0,1,1)","v":0},{"$f":"IF(AND(A728<=$B$20,$S$14),$T$14,0)","v":0},{"$f":"IF(AND(A728<=$B$20,$S$15),$T$15,0)","v":0},{"$f":"IF(AND(A728<=$B$20,$S$16),$T$16,0)","v":0},{"$f":"IF(AND(A728<=$B$20,$S$17),$T$17,0)","v":0},{"$f":"IF(AND(A728<=$B$20,$S$18),$T$18,0)","v":0},0,0,0,0,0,0,0,0,0,0,0,0,0]
[698,{"$f":"OFFSET(InputPriceData!B$10,CalculationsAndCharts!$A729+$A$11,0,1,1)","v":"00:00:00"},{"$f":"OFFSET(InputPriceData!G$10,CalculationsAndCharts!$A729+$A$11,0,1,1)","v":0},{"$f":"OFFSET(InputPriceData!C$10,CalculationsAndCharts!$A729+$A$11,0,1,1)","v":0},{"$f":"OFFSET(InputPriceData!D$10,CalculationsAndCharts!$A729+$A$11,0,1,1)","v":0},{"$f":"OFFSET(InputPriceData!E$10,CalculationsAndCharts!$A729+$A$11,0,1,1)","v":0},{"$f":"OFFSET(InputPriceData!F$10,CalculationsAndCharts!$A729+$A$11,0,1,1)","v":0},{"$f":"IF(AND(A729<=$B$20,$S$14),$T$14,0)","v":0},{"$f":"IF(AND(A729<=$B$20,$S$15),$T$15,0)","v":0},{"$f":"IF(AND(A729<=$B$20,$S$16),$T$16,0)","v":0},{"$f":"IF(AND(A729<=$B$20,$S$17),$T$17,0)","v":0},{"$f":"IF(AND(A729<=$B$20,$S$18),$T$18,0)","v":0},0,0,0,0,0,0,0,0,0,0,0,0,0]
[699,{"$f":"OFFSET(InputPriceData!B$10,CalculationsAndCharts!$A730+$A$11,0,1,1)","v":"00:00:00"},{"$f":"OFFSET(InputPriceData!G$10,CalculationsAndCharts!$A730+$A$11,0,1,1)","v":0},{"$f":"OFFSET(InputPriceData!C$10,CalculationsAndCharts!$A730+$A$11,0,1,1)","v":0},{"$f":"OFFSET(InputPriceData!D$10,CalculationsAndCharts!$A730+$A$11,0,1,1)","v":0},{"$f":"OFFSET(InputPriceData!E$10,CalculationsAndCharts!$A730+$A$11,0,1,1)","v":0},{"$f":"OFFSET(InputPriceData!F$10,CalculationsAndCharts!$A730+$A$11,0,1,1)","v":0},{"$f":"IF(AND(A730<=$B$20,$S$14),$T$14,0)","v":0},{"$f":"IF(AND(A730<=$B$20,$S$15),$T$15,0)","v":0},{"$f":"IF(AND(A730<=$B$20,$S$16),$T$16,0)","v":0},{"$f":"IF(AND(A730<=$B$20,$S$17),$T$17,0)","v":0},{"$f":"IF(AND(A730<=$B$20,$S$18),$T$18,0)","v":0},0,0,0,0,0,0,0,0,0,0,0,0,0]
[700,{"$f":"OFFSET(InputPriceData!B$10,CalculationsAndCharts!$A731+$A$11,0,1,1)","v":"00:00:00"},{"$f":"OFFSET(InputPriceData!G$10,CalculationsAndCharts!$A731+$A$11,0,1,1)","v":0},{"$f":"OFFSET(InputPriceData!C$10,CalculationsAndCharts!$A731+$A$11,0,1,1)","v":0},{"$f":"OFFSET(InputPriceData!D$10,CalculationsAndCharts!$A731+$A$11,0,1,1)","v":0},{"$f":"OFFSET(InputPriceData!E$10,CalculationsAndCharts!$A731+$A$11,0,1,1)","v":0},{"$f":"OFFSET(InputPriceData!F$10,CalculationsAndCharts!$A731+$A$11,0,1,1)","v":0},{"$f":"IF(AND(A731<=$B$20,$S$14),$T$14,0)","v":0},{"$f":"IF(AND(A731<=$B$20,$S$15),$T$15,0)","v":0},{"$f":"IF(AND(A731<=$B$20,$S$16),$T$16,0)","v":0},{"$f":"IF(AND(A731<=$B$20,$S$17),$T$17,0)","v":0},{"$f":"IF(AND(A731<=$B$20,$S$18),$T$18,0)","v":0},0,0,0,0,0,0,0,0,0,0,0,0,0]
[701,{"$f":"OFFSET(InputPriceData!B$10,CalculationsAndCharts!$A732+$A$11,0,1,1)","v":"00:00:00"},{"$f":"OFFSET(InputPriceData!G$10,CalculationsAndCharts!$A732+$A$11,0,1,1)","v":0},{"$f":"OFFSET(InputPriceData!C$10,CalculationsAndCharts!$A732+$A$11,0,1,1)","v":0},{"$f":"OFFSET(InputPriceData!D$10,CalculationsAndCharts!$A732+$A$11,0,1,1)","v":0},{"$f":"OFFSET(InputPriceData!E$10,CalculationsAndCharts!$A732+$A$11,0,1,1)","v":0},{"$f":"OFFSET(InputPriceData!F$10,CalculationsAndCharts!$A732+$A$11,0,1,1)","v":0},{"$f":"IF(AND(A732<=$B$20,$S$14),$T$14,0)","v":0},{"$f":"IF(AND(A732<=$B$20,$S$15),$T$15,0)","v":0},{"$f":"IF(AND(A732<=$B$20,$S$16),$T$16,0)","v":0},{"$f":"IF(AND(A732<=$B$20,$S$17),$T$17,0)","v":0},{"$f":"IF(AND(A732<=$B$20,$S$18),$T$18,0)","v":0},0,0,0,0,0,0,0,0,0,0,0,0,0]
[702,{"$f":"OFFSET(InputPriceData!B$10,CalculationsAndCharts!$A733+$A$11,0,1,1)","v":"00:00:00"},{"$f":"OFFSET(InputPriceData!G$10,CalculationsAndCharts!$A733+$A$11,0,1,1)","v":0},{"$f":"OFFSET(InputPriceData!C$10,CalculationsAndCharts!$A733+$A$11,0,1,1)","v":0},{"$f":"OFFSET(InputPriceData!D$10,CalculationsAndCharts!$A733+$A$11,0,1,1)","v":0},{"$f":"OFFSET(InputPriceData!E$10,CalculationsAndCharts!$A733+$A$11,0,1,1)","v":0},{"$f":"OFFSET(InputPriceData!F$10,CalculationsAndCharts!$A733+$A$11,0,1,1)","v":0},{"$f":"IF(AND(A733<=$B$20,$S$14),$T$14,0)","v":0},{"$f":"IF(AND(A733<=$B$20,$S$15),$T$15,0)","v":0},{"$f":"IF(AND(A733<=$B$20,$S$16),$T$16,0)","v":0},{"$f":"IF(AND(A733<=$B$20,$S$17),$T$17,0)","v":0},{"$f":"IF(AND(A733<=$B$20,$S$18),$T$18,0)","v":0},0,0,0,0,0,0,0,0,0,0,0,0,0]
[703,{"$f":"OFFSET(InputPriceData!B$10,CalculationsAndCharts!$A734+$A$11,0,1,1)","v":"00:00:00"},{"$f":"OFFSET(InputPriceData!G$10,CalculationsAndCharts!$A734+$A$11,0,1,1)","v":0},{"$f":"OFFSET(InputPriceData!C$10,CalculationsAndCharts!$A734+$A$11,0,1,1)","v":0},{"$f":"OFFSET(InputPriceData!D$10,CalculationsAndCharts!$A734+$A$11,0,1,1)","v":0},{"$f":"OFFSET(InputPriceData!E$10,CalculationsAndCharts!$A734+$A$11,0,1,1)","v":0},{"$f":"OFFSET(InputPriceData!F$10,CalculationsAndCharts!$A734+$A$11,0,1,1)","v":0},{"$f":"IF(AND(A734<=$B$20,$S$14),$T$14,0)","v":0},{"$f":"IF(AND(A734<=$B$20,$S$15),$T$15,0)","v":0},{"$f":"IF(AND(A734<=$B$20,$S$16),$T$16,0)","v":0},{"$f":"IF(AND(A734<=$B$20,$S$17),$T$17,0)","v":0},{"$f":"IF(AND(A734<=$B$20,$S$18),$T$18,0)","v":0},0,0,0,0,0,0,0,0,0,0,0,0,0]
[704,{"$f":"OFFSET(InputPriceData!B$10,CalculationsAndCharts!$A735+$A$11,0,1,1)","v":"00:00:00"},{"$f":"OFFSET(InputPriceData!G$10,CalculationsAndCharts!$A735+$A$11,0,1,1)","v":0},{"$f":"OFFSET(InputPriceData!C$10,CalculationsAndCharts!$A735+$A$11,0,1,1)","v":0},{"$f":"OFFSET(InputPriceData!D$10,CalculationsAndCharts!$A735+$A$11,0,1,1)","v":0},{"$f":"OFFSET(InputPriceData!E$10,CalculationsAndCharts!$A735+$A$11,0,1,1)","v":0},{"$f":"OFFSET(InputPriceData!F$10,CalculationsAndCharts!$A735+$A$11,0,1,1)","v":0},{"$f":"IF(AND(A735<=$B$20,$S$14),$T$14,0)","v":0},{"$f":"IF(AND(A735<=$B$20,$S$15),$T$15,0)","v":0},{"$f":"IF(AND(A735<=$B$20,$S$16),$T$16,0)","v":0},{"$f":"IF(AND(A735<=$B$20,$S$17),$T$17,0)","v":0},{"$f":"IF(AND(A735<=$B$20,$S$18),$T$18,0)","v":0},0,0,0,0,0,0,0,0,0,0,0,0,0]
[705,{"$f":"OFFSET(InputPriceData!B$10,CalculationsAndCharts!$A736+$A$11,0,1,1)","v":"00:00:00"},{"$f":"OFFSET(InputPriceData!G$10,CalculationsAndCharts!$A736+$A$11,0,1,1)","v":0},{"$f":"OFFSET(InputPriceData!C$10,CalculationsAndCharts!$A736+$A$11,0,1,1)","v":0},{"$f":"OFFSET(InputPriceData!D$10,CalculationsAndCharts!$A736+$A$11,0,1,1)","v":0},{"$f":"OFFSET(InputPriceData!E$10,CalculationsAndCharts!$A736+$A$11,0,1,1)","v":0},{"$f":"OFFSET(InputPriceData!F$10,CalculationsAndCharts!$A736+$A$11,0,1,1)","v":0},{"$f":"IF(AND(A736<=$B$20,$S$14),$T$14,0)","v":0},{"$f":"IF(AND(A736<=$B$20,$S$15),$T$15,0)","v":0},{"$f":"IF(AND(A736<=$B$20,$S$16),$T$16,0)","v":0},{"$f":"IF(AND(A736<=$B$20,$S$17),$T$17,0)","v":0},{"$f":"IF(AND(A736<=$B$20,$S$18),$T$18,0)","v":0},0,0,0,0,0,0,{"$f":"IF($A736=$B$28,S$31,0)","v":0},0,0,0,0,0,0]
[706,{"$f":"OFFSET(InputPriceData!B$10,CalculationsAndCharts!$A737+$A$11,0,1,1)","v":"00:00:00"},{"$f":"OFFSET(InputPriceData!G$10,CalculationsAndCharts!$A737+$A$11,0,1,1)","v":0},{"$f":"OFFSET(InputPriceData!C$10,CalculationsAndCharts!$A737+$A$11,0,1,1)","v":0},{"$f":"OFFSET(InputPriceData!D$10,CalculationsAndCharts!$A737+$A$11,0,1,1)","v":0},{"$f":"OFFSET(InputPriceData!E$10,CalculationsAndCharts!$A737+$A$11,0,1,1)","v":0},{"$f":"OFFSET(InputPriceData!F$10,CalculationsAndCharts!$A737+$A$11,0,1,1)","v":0},{"$f":"IF(AND(A737<=$B$20,$S$14),$T$14,0)","v":0},{"$f":"IF(AND(A737<=$B$20,$S$15),$T$15,0)","v":0},{"$f":"IF(AND(A737<=$B$20,$S$16),$T$16,0)","v":0},{"$f":"IF(AND(A737<=$B$20,$S$17),$T$17,0)","v":0},{"$f":"IF(AND(A737<=$B$20,$S$18),$T$18,0)","v":0},{"$f":"IF(AND(A737<=$B$20,$S$8),$T$8,0)","v":0},{"$f":"IF(AND(A737<=$B$20,$S$7),$T$7,0)","v":0},{"$f":"IF(AND(A737<=$B$20,$S$6),$T$6,0)","v":0},{"$f":"IF(AND(A737<=$B$20,$S$5),$T$5,0)","v":0},{"$f":"IF(AND(A737<=$B$20,$S$4),$T$4,0)","v":0},{"$f":"IF(AND(A737>$B$20,A737<=($B$20+$C$18)),$T$10-Y737,0)","v":0},0,{"$f":"IF($A737=$B$27,S$31,0)","v":0},{"$f":"IF(AND(A737<=$B$20,A737>($B$20-$C$18)),$F$11,0)","v":0},{"$f":"IF(AND($S$10,A737>$B$20,A737<=($B$20+$C$18)),$T$10,0)","v":0},{"$f":"IF(AND($S$11,A737>$B$20,A737<=($B$20+$C$18)),$T$11,0)","v":0},{"$f":"IF(AND($S$12,A737>$B$20,A737<=($B$20+$C$18)),$T$12,0)","v":0},{"$f":"IF(AND(A737>$B$20,A737<=($B$20+$C$18)),$T$12,0)","v":0}]
[707,{"$f":"OFFSET(InputPriceData!B$10,CalculationsAndCharts!$A738+$A$11,0,1,1)","v":"00:00:00"},{"$f":"OFFSET(InputPriceData!G$10,CalculationsAndCharts!$A738+$A$11,0,1,1)","v":0},{"$f":"OFFSET(InputPriceData!C$10,CalculationsAndCharts!$A738+$A$11,0,1,1)","v":0},{"$f":"OFFSET(InputPriceData!D$10,CalculationsAndCharts!$A738+$A$11,0,1,1)","v":0},{"$f":"OFFSET(InputPriceData!E$10,CalculationsAndCharts!$A738+$A$11,0,1,1)","v":0},{"$f":"OFFSET(InputPriceData!F$10,CalculationsAndCharts!$A738+$A$11,0,1,1)","v":0},{"$f":"IF(AND(A738<=$B$20,$S$14),$T$14,0)","v":0},{"$f":"IF(AND(A738<=$B$20,$S$15),$T$15,0)","v":0},{"$f":"IF(AND(A738<=$B$20,$S$16),$T$16,0)","v":0},{"$f":"IF(AND(A738<=$B$20,$S$17),$T$17,0)","v":0},{"$f":"IF(AND(A738<=$B$20,$S$18),$T$18,0)","v":0},0,0,0,0,0,0,0,0,0,0,0,0,0]
[708,{"$f":"OFFSET(InputPriceData!B$10,CalculationsAndCharts!$A739+$A$11,0,1,1)","v":"00:00:00"},{"$f":"OFFSET(InputPriceData!G$10,CalculationsAndCharts!$A739+$A$11,0,1,1)","v":0},{"$f":"OFFSET(InputPriceData!C$10,CalculationsAndCharts!$A739+$A$11,0,1,1)","v":0},{"$f":"OFFSET(InputPriceData!D$10,CalculationsAndCharts!$A739+$A$11,0,1,1)","v":0},{"$f":"OFFSET(InputPriceData!E$10,CalculationsAndCharts!$A739+$A$11,0,1,1)","v":0},{"$f":"OFFSET(InputPriceData!F$10,CalculationsAndCharts!$A739+$A$11,0,1,1)","v":0},{"$f":"IF(AND(A739<=$B$20,$S$14),$T$14,0)","v":0},{"$f":"IF(AND(A739<=$B$20,$S$15),$T$15,0)","v":0},{"$f":"IF(AND(A739<=$B$20,$S$16),$T$16,0)","v":0},{"$f":"IF(AND(A739<=$B$20,$S$17),$T$17,0)","v":0},{"$f":"IF(AND(A739<=$B$20,$S$18),$T$18,0)","v":0},0,0,0,0,0,0,0,0,0,0,0,0,0]
[709,{"$f":"OFFSET(InputPriceData!B$10,CalculationsAndCharts!$A740+$A$11,0,1,1)","v":"00:00:00"},{"$f":"OFFSET(InputPriceData!G$10,CalculationsAndCharts!$A740+$A$11,0,1,1)","v":0},{"$f":"OFFSET(InputPriceData!C$10,CalculationsAndCharts!$A740+$A$11,0,1,1)","v":0},{"$f":"OFFSET(InputPriceData!D$10,CalculationsAndCharts!$A740+$A$11,0,1,1)","v":0},{"$f":"OFFSET(InputPriceData!E$10,CalculationsAndCharts!$A740+$A$11,0,1,1)","v":0},{"$f":"OFFSET(InputPriceData!F$10,CalculationsAndCharts!$A740+$A$11,0,1,1)","v":0},{"$f":"IF(AND(A740<=$B$20,$S$14),$T$14,0)","v":0},{"$f":"IF(AND(A740<=$B$20,$S$15),$T$15,0)","v":0},{"$f":"IF(AND(A740<=$B$20,$S$16),$T$16,0)","v":0},{"$f":"IF(AND(A740<=$B$20,$S$17),$T$17,0)","v":0},{"$f":"IF(AND(A740<=$B$20,$S$18),$T$18,0)","v":0},0,0,0,0,0,0,0,0,0,0,0,0,0]
[710,{"$f":"OFFSET(InputPriceData!B$10,CalculationsAndCharts!$A741+$A$11,0,1,1)","v":"00:00:00"},{"$f":"OFFSET(InputPriceData!G$10,CalculationsAndCharts!$A741+$A$11,0,1,1)","v":0},{"$f":"OFFSET(InputPriceData!C$10,CalculationsAndCharts!$A741+$A$11,0,1,1)","v":0},{"$f":"OFFSET(InputPriceData!D$10,CalculationsAndCharts!$A741+$A$11,0,1,1)","v":0},{"$f":"OFFSET(InputPriceData!E$10,CalculationsAndCharts!$A741+$A$11,0,1,1)","v":0},{"$f":"OFFSET(InputPriceData!F$10,CalculationsAndCharts!$A741+$A$11,0,1,1)","v":0},{"$f":"IF(AND(A741<=$B$20,$S$14),$T$14,0)","v":0},{"$f":"IF(AND(A741<=$B$20,$S$15),$T$15,0)","v":0},{"$f":"IF(AND(A741<=$B$20,$S$16),$T$16,0)","v":0},{"$f":"IF(AND(A741<=$B$20,$S$17),$T$17,0)","v":0},{"$f":"IF(AND(A741<=$B$20,$S$18),$T$18,0)","v":0},0,0,0,0,0,0,0,0,0,0,0,0,0]
[711,{"$f":"OFFSET(InputPriceData!B$10,CalculationsAndCharts!$A742+$A$11,0,1,1)","v":"00:00:00"},{"$f":"OFFSET(InputPriceData!G$10,CalculationsAndCharts!$A742+$A$11,0,1,1)","v":0},{"$f":"OFFSET(InputPriceData!C$10,CalculationsAndCharts!$A742+$A$11,0,1,1)","v":0},{"$f":"OFFSET(InputPriceData!D$10,CalculationsAndCharts!$A742+$A$11,0,1,1)","v":0},{"$f":"OFFSET(InputPriceData!E$10,CalculationsAndCharts!$A742+$A$11,0,1,1)","v":0},{"$f":"OFFSET(InputPriceData!F$10,CalculationsAndCharts!$A742+$A$11,0,1,1)","v":0},{"$f":"IF(AND(A742<=$B$20,$S$14),$T$14,0)","v":0},{"$f":"IF(AND(A742<=$B$20,$S$15),$T$15,0)","v":0},{"$f":"IF(AND(A742<=$B$20,$S$16),$T$16,0)","v":0},{"$f":"IF(AND(A742<=$B$20,$S$17),$T$17,0)","v":0},{"$f":"IF(AND(A742<=$B$20,$S$18),$T$18,0)","v":0},0,0,0,0,0,0,0,0,0,0,0,0,0]
[712,{"$f":"OFFSET(InputPriceData!B$10,CalculationsAndCharts!$A743+$A$11,0,1,1)","v":"00:00:00"},{"$f":"OFFSET(InputPriceData!G$10,CalculationsAndCharts!$A743+$A$11,0,1,1)","v":0},{"$f":"OFFSET(InputPriceData!C$10,CalculationsAndCharts!$A743+$A$11,0,1,1)","v":0},{"$f":"OFFSET(InputPriceData!D$10,CalculationsAndCharts!$A743+$A$11,0,1,1)","v":0},{"$f":"OFFSET(InputPriceData!E$10,CalculationsAndCharts!$A743+$A$11,0,1,1)","v":0},{"$f":"OFFSET(InputPriceData!F$10,CalculationsAndCharts!$A743+$A$11,0,1,1)","v":0},{"$f":"IF(AND(A743<=$B$20,$S$14),$T$14,0)","v":0},{"$f":"IF(AND(A743<=$B$20,$S$15),$T$15,0)","v":0},{"$f":"IF(AND(A743<=$B$20,$S$16),$T$16,0)","v":0},{"$f":"IF(AND(A743<=$B$20,$S$17),$T$17,0)","v":0},{"$f":"IF(AND(A743<=$B$20,$S$18),$T$18,0)","v":0},0,0,0,0,0,0,0,0,0,0,0,0,0]
[713,{"$f":"OFFSET(InputPriceData!B$10,CalculationsAndCharts!$A744+$A$11,0,1,1)","v":"00:00:00"},{"$f":"OFFSET(InputPriceData!G$10,CalculationsAndCharts!$A744+$A$11,0,1,1)","v":0},{"$f":"OFFSET(InputPriceData!C$10,CalculationsAndCharts!$A744+$A$11,0,1,1)","v":0},{"$f":"OFFSET(InputPriceData!D$10,CalculationsAndCharts!$A744+$A$11,0,1,1)","v":0},{"$f":"OFFSET(InputPriceData!E$10,CalculationsAndCharts!$A744+$A$11,0,1,1)","v":0},{"$f":"OFFSET(InputPriceData!F$10,CalculationsAndCharts!$A744+$A$11,0,1,1)","v":0},{"$f":"IF(AND(A744<=$B$20,$S$14),$T$14,0)","v":0},{"$f":"IF(AND(A744<=$B$20,$S$15),$T$15,0)","v":0},{"$f":"IF(AND(A744<=$B$20,$S$16),$T$16,0)","v":0},{"$f":"IF(AND(A744<=$B$20,$S$17),$T$17,0)","v":0},{"$f":"IF(AND(A744<=$B$20,$S$18),$T$18,0)","v":0},0,0,0,0,0,0,0,0,0,0,0,0,0]
[714,{"$f":"OFFSET(InputPriceData!B$10,CalculationsAndCharts!$A745+$A$11,0,1,1)","v":"00:00:00"},{"$f":"OFFSET(InputPriceData!G$10,CalculationsAndCharts!$A745+$A$11,0,1,1)","v":0},{"$f":"OFFSET(InputPriceData!C$10,CalculationsAndCharts!$A745+$A$11,0,1,1)","v":0},{"$f":"OFFSET(InputPriceData!D$10,CalculationsAndCharts!$A745+$A$11,0,1,1)","v":0},{"$f":"OFFSET(InputPriceData!E$10,CalculationsAndCharts!$A745+$A$11,0,1,1)","v":0},{"$f":"OFFSET(InputPriceData!F$10,CalculationsAndCharts!$A745+$A$11,0,1,1)","v":0},{"$f":"IF(AND(A745<=$B$20,$S$14),$T$14,0)","v":0},{"$f":"IF(AND(A745<=$B$20,$S$15),$T$15,0)","v":0},{"$f":"IF(AND(A745<=$B$20,$S$16),$T$16,0)","v":0},{"$f":"IF(AND(A745<=$B$20,$S$17),$T$17,0)","v":0},{"$f":"IF(AND(A745<=$B$20,$S$18),$T$18,0)","v":0},0,0,0,0,0,0,0,0,0,0,0,0,0]
[715,{"$f":"OFFSET(InputPriceData!B$10,CalculationsAndCharts!$A746+$A$11,0,1,1)","v":"00:00:00"},{"$f":"OFFSET(InputPriceData!G$10,CalculationsAndCharts!$A746+$A$11,0,1,1)","v":0},{"$f":"OFFSET(InputPriceData!C$10,CalculationsAndCharts!$A746+$A$11,0,1,1)","v":0},{"$f":"OFFSET(InputPriceData!D$10,CalculationsAndCharts!$A746+$A$11,0,1,1)","v":0},{"$f":"OFFSET(InputPriceData!E$10,CalculationsAndCharts!$A746+$A$11,0,1,1)","v":0},{"$f":"OFFSET(InputPriceData!F$10,CalculationsAndCharts!$A746+$A$11,0,1,1)","v":0},{"$f":"IF(AND(A746<=$B$20,$S$14),$T$14,0)","v":0},{"$f":"IF(AND(A746<=$B$20,$S$15),$T$15,0)","v":0},{"$f":"IF(AND(A746<=$B$20,$S$16),$T$16,0)","v":0},{"$f":"IF(AND(A746<=$B$20,$S$17),$T$17,0)","v":0},{"$f":"IF(AND(A746<=$B$20,$S$18),$T$18,0)","v":0},0,0,0,0,0,0,0,0,0,0,0,0,0]
[716,{"$f":"OFFSET(InputPriceData!B$10,CalculationsAndCharts!$A747+$A$11,0,1,1)","v":"00:00:00"},{"$f":"OFFSET(InputPriceData!G$10,CalculationsAndCharts!$A747+$A$11,0,1,1)","v":0},{"$f":"OFFSET(InputPriceData!C$10,CalculationsAndCharts!$A747+$A$11,0,1,1)","v":0},{"$f":"OFFSET(InputPriceData!D$10,CalculationsAndCharts!$A747+$A$11,0,1,1)","v":0},{"$f":"OFFSET(InputPriceData!E$10,CalculationsAndCharts!$A747+$A$11,0,1,1)","v":0},{"$f":"OFFSET(InputPriceData!F$10,CalculationsAndCharts!$A747+$A$11,0,1,1)","v":0},{"$f":"IF(AND(A747<=$B$20,$S$14),$T$14,0)","v":0},{"$f":"IF(AND(A747<=$B$20,$S$15),$T$15,0)","v":0},{"$f":"IF(AND(A747<=$B$20,$S$16),$T$16,0)","v":0},{"$f":"IF(AND(A747<=$B$20,$S$17),$T$17,0)","v":0},{"$f":"IF(AND(A747<=$B$20,$S$18),$T$18,0)","v":0},0,0,0,0,0,0,0,0,0,0,0,0,0]
[717,{"$f":"OFFSET(InputPriceData!B$10,CalculationsAndCharts!$A748+$A$11,0,1,1)","v":"00:00:00"},{"$f":"OFFSET(InputPriceData!G$10,CalculationsAndCharts!$A748+$A$11,0,1,1)","v":0},{"$f":"OFFSET(InputPriceData!C$10,CalculationsAndCharts!$A748+$A$11,0,1,1)","v":0},{"$f":"OFFSET(InputPriceData!D$10,CalculationsAndCharts!$A748+$A$11,0,1,1)","v":0},{"$f":"OFFSET(InputPriceData!E$10,CalculationsAndCharts!$A748+$A$11,0,1,1)","v":0},{"$f":"OFFSET(InputPriceData!F$10,CalculationsAndCharts!$A748+$A$11,0,1,1)","v":0},{"$f":"IF(AND(A748<=$B$20,$S$14),$T$14,0)","v":0},{"$f":"IF(AND(A748<=$B$20,$S$15),$T$15,0)","v":0},{"$f":"IF(AND(A748<=$B$20,$S$16),$T$16,0)","v":0},{"$f":"IF(AND(A748<=$B$20,$S$17),$T$17,0)","v":0},{"$f":"IF(AND(A748<=$B$20,$S$18),$T$18,0)","v":0},0,0,0,0,0,0,0,0,0,0,0,0,0]
[718,{"$f":"OFFSET(InputPriceData!B$10,CalculationsAndCharts!$A749+$A$11,0,1,1)","v":"00:00:00"},{"$f":"OFFSET(InputPriceData!G$10,CalculationsAndCharts!$A749+$A$11,0,1,1)","v":0},{"$f":"OFFSET(InputPriceData!C$10,CalculationsAndCharts!$A749+$A$11,0,1,1)","v":0},{"$f":"OFFSET(InputPriceData!D$10,CalculationsAndCharts!$A749+$A$11,0,1,1)","v":0},{"$f":"OFFSET(InputPriceData!E$10,CalculationsAndCharts!$A749+$A$11,0,1,1)","v":0},{"$f":"OFFSET(InputPriceData!F$10,CalculationsAndCharts!$A749+$A$11,0,1,1)","v":0},{"$f":"IF(AND(A749<=$B$20,$S$14),$T$14,0)","v":0},{"$f":"IF(AND(A749<=$B$20,$S$15),$T$15,0)","v":0},{"$f":"IF(AND(A749<=$B$20,$S$16),$T$16,0)","v":0},{"$f":"IF(AND(A749<=$B$20,$S$17),$T$17,0)","v":0},{"$f":"IF(AND(A749<=$B$20,$S$18),$T$18,0)","v":0},0,0,0,0,0,0,0,0,0,0,0,0,0]
[719,{"$f":"OFFSET(InputPriceData!B$10,CalculationsAndCharts!$A750+$A$11,0,1,1)","v":"00:00:00"},{"$f":"OFFSET(InputPriceData!G$10,CalculationsAndCharts!$A750+$A$11,0,1,1)","v":0},{"$f":"OFFSET(InputPriceData!C$10,CalculationsAndCharts!$A750+$A$11,0,1,1)","v":0},{"$f":"OFFSET(InputPriceData!D$10,CalculationsAndCharts!$A750+$A$11,0,1,1)","v":0},{"$f":"OFFSET(InputPriceData!E$10,CalculationsAndCharts!$A750+$A$11,0,1,1)","v":0},{"$f":"OFFSET(InputPriceData!F$10,CalculationsAndCharts!$A750+$A$11,0,1,1)","v":0},{"$f":"IF(AND(A750<=$B$20,$S$14),$T$14,0)","v":0},{"$f":"IF(AND(A750<=$B$20,$S$15),$T$15,0)","v":0},{"$f":"IF(AND(A750<=$B$20,$S$16),$T$16,0)","v":0},{"$f":"IF(AND(A750<=$B$20,$S$17),$T$17,0)","v":0},{"$f":"IF(AND(A750<=$B$20,$S$18),$T$18,0)","v":0},0,0,0,0,0,0,0,0,0,0,0,0,0]
[720,{"$f":"OFFSET(InputPriceData!B$10,CalculationsAndCharts!$A751+$A$11,0,1,1)","v":"00:00:00"},{"$f":"OFFSET(InputPriceData!G$10,CalculationsAndCharts!$A751+$A$11,0,1,1)","v":0},{"$f":"OFFSET(InputPriceData!C$10,CalculationsAndCharts!$A751+$A$11,0,1,1)","v":0},{"$f":"OFFSET(InputPriceData!D$10,CalculationsAndCharts!$A751+$A$11,0,1,1)","v":0},{"$f":"OFFSET(InputPriceData!E$10,CalculationsAndCharts!$A751+$A$11,0,1,1)","v":0},{"$f":"OFFSET(InputPriceData!F$10,CalculationsAndCharts!$A751+$A$11,0,1,1)","v":0},{"$f":"IF(AND(A751<=$B$20,$S$14),$T$14,0)","v":0},{"$f":"IF(AND(A751<=$B$20,$S$15),$T$15,0)","v":0},{"$f":"IF(AND(A751<=$B$20,$S$16),$T$16,0)","v":0},{"$f":"IF(AND(A751<=$B$20,$S$17),$T$17,0)","v":0},{"$f":"IF(AND(A751<=$B$20,$S$18),$T$18,0)","v":0},0,0,0,0,0,0,0,0,0,0,0,0,0]
[721,{"$f":"OFFSET(InputPriceData!B$10,CalculationsAndCharts!$A752+$A$11,0,1,1)","v":"00:00:00"},{"$f":"OFFSET(InputPriceData!G$10,CalculationsAndCharts!$A752+$A$11,0,1,1)","v":0},{"$f":"OFFSET(InputPriceData!C$10,CalculationsAndCharts!$A752+$A$11,0,1,1)","v":0},{"$f":"OFFSET(InputPriceData!D$10,CalculationsAndCharts!$A752+$A$11,0,1,1)","v":0},{"$f":"OFFSET(InputPriceData!E$10,CalculationsAndCharts!$A752+$A$11,0,1,1)","v":0},{"$f":"OFFSET(InputPriceData!F$10,CalculationsAndCharts!$A752+$A$11,0,1,1)","v":0},{"$f":"IF(AND(A752<=$B$20,$S$14),$T$14,0)","v":0},{"$f":"IF(AND(A752<=$B$20,$S$15),$T$15,0)","v":0},{"$f":"IF(AND(A752<=$B$20,$S$16),$T$16,0)","v":0},{"$f":"IF(AND(A752<=$B$20,$S$17),$T$17,0)","v":0},{"$f":"IF(AND(A752<=$B$20,$S$18),$T$18,0)","v":0},0,0,0,0,0,0,0,0,0,0,0,0,0]
[722,{"$f":"OFFSET(InputPriceData!B$10,CalculationsAndCharts!$A753+$A$11,0,1,1)","v":"00:00:00"},{"$f":"OFFSET(InputPriceData!G$10,CalculationsAndCharts!$A753+$A$11,0,1,1)","v":0},{"$f":"OFFSET(InputPriceData!C$10,CalculationsAndCharts!$A753+$A$11,0,1,1)","v":0},{"$f":"OFFSET(InputPriceData!D$10,CalculationsAndCharts!$A753+$A$11,0,1,1)","v":0},{"$f":"OFFSET(InputPriceData!E$10,CalculationsAndCharts!$A753+$A$11,0,1,1)","v":0},{"$f":"OFFSET(InputPriceData!F$10,CalculationsAndCharts!$A753+$A$11,0,1,1)","v":0},{"$f":"IF(AND(A753<=$B$20,$S$14),$T$14,0)","v":0},{"$f":"IF(AND(A753<=$B$20,$S$15),$T$15,0)","v":0},{"$f":"IF(AND(A753<=$B$20,$S$16),$T$16,0)","v":0},{"$f":"IF(AND(A753<=$B$20,$S$17),$T$17,0)","v":0},{"$f":"IF(AND(A753<=$B$20,$S$18),$T$18,0)","v":0},0,0,0,0,0,0,0,0,0,0,0,0,0]
[723,{"$f":"OFFSET(InputPriceData!B$10,CalculationsAndCharts!$A754+$A$11,0,1,1)","v":"00:00:00"},{"$f":"OFFSET(InputPriceData!G$10,CalculationsAndCharts!$A754+$A$11,0,1,1)","v":0},{"$f":"OFFSET(InputPriceData!C$10,CalculationsAndCharts!$A754+$A$11,0,1,1)","v":0},{"$f":"OFFSET(InputPriceData!D$10,CalculationsAndCharts!$A754+$A$11,0,1,1)","v":0},{"$f":"OFFSET(InputPriceData!E$10,CalculationsAndCharts!$A754+$A$11,0,1,1)","v":0},{"$f":"OFFSET(InputPriceData!F$10,CalculationsAndCharts!$A754+$A$11,0,1,1)","v":0},{"$f":"IF(AND(A754<=$B$20,$S$14),$T$14,0)","v":0},{"$f":"IF(AND(A754<=$B$20,$S$15),$T$15,0)","v":0},{"$f":"IF(AND(A754<=$B$20,$S$16),$T$16,0)","v":0},{"$f":"IF(AND(A754<=$B$20,$S$17),$T$17,0)","v":0},{"$f":"IF(AND(A754<=$B$20,$S$18),$T$18,0)","v":0},0,0,0,0,0,0,0,0,0,0,0,0,0]
[724,{"$f":"OFFSET(InputPriceData!B$10,CalculationsAndCharts!$A755+$A$11,0,1,1)","v":"00:00:00"},{"$f":"OFFSET(InputPriceData!G$10,CalculationsAndCharts!$A755+$A$11,0,1,1)","v":0},{"$f":"OFFSET(InputPriceData!C$10,CalculationsAndCharts!$A755+$A$11,0,1,1)","v":0},{"$f":"OFFSET(InputPriceData!D$10,CalculationsAndCharts!$A755+$A$11,0,1,1)","v":0},{"$f":"OFFSET(InputPriceData!E$10,CalculationsAndCharts!$A755+$A$11,0,1,1)","v":0},{"$f":"OFFSET(InputPriceData!F$10,CalculationsAndCharts!$A755+$A$11,0,1,1)","v":0},{"$f":"IF(AND(A755<=$B$20,$S$14),$T$14,0)","v":0},{"$f":"IF(AND(A755<=$B$20,$S$15),$T$15,0)","v":0},{"$f":"IF(AND(A755<=$B$20,$S$16),$T$16,0)","v":0},{"$f":"IF(AND(A755<=$B$20,$S$17),$T$17,0)","v":0},{"$f":"IF(AND(A755<=$B$20,$S$18),$T$18,0)","v":0},0,0,0,0,0,0,0,0,0,0,0,0,0]
[725,{"$f":"OFFSET(InputPriceData!B$10,CalculationsAndCharts!$A756+$A$11,0,1,1)","v":"00:00:00"},{"$f":"OFFSET(InputPriceData!G$10,CalculationsAndCharts!$A756+$A$11,0,1,1)","v":0},{"$f":"OFFSET(InputPriceData!C$10,CalculationsAndCharts!$A756+$A$11,0,1,1)","v":0},{"$f":"OFFSET(InputPriceData!D$10,CalculationsAndCharts!$A756+$A$11,0,1,1)","v":0},{"$f":"OFFSET(InputPriceData!E$10,CalculationsAndCharts!$A756+$A$11,0,1,1)","v":0},{"$f":"OFFSET(InputPriceData!F$10,CalculationsAndCharts!$A756+$A$11,0,1,1)","v":0},{"$f":"IF(AND(A756<=$B$20,$S$14),$T$14,0)","v":0},{"$f":"IF(AND(A756<=$B$20,$S$15),$T$15,0)","v":0},{"$f":"IF(AND(A756<=$B$20,$S$16),$T$16,0)","v":0},{"$f":"IF(AND(A756<=$B$20,$S$17),$T$17,0)","v":0},{"$f":"IF(AND(A756<=$B$20,$S$18),$T$18,0)","v":0},0,0,0,0,0,0,0,0,0,0,0,0,0]
[726,{"$f":"OFFSET(InputPriceData!B$10,CalculationsAndCharts!$A757+$A$11,0,1,1)","v":"00:00:00"},{"$f":"OFFSET(InputPriceData!G$10,CalculationsAndCharts!$A757+$A$11,0,1,1)","v":0},{"$f":"OFFSET(InputPriceData!C$10,CalculationsAndCharts!$A757+$A$11,0,1,1)","v":0},{"$f":"OFFSET(InputPriceData!D$10,CalculationsAndCharts!$A757+$A$11,0,1,1)","v":0},{"$f":"OFFSET(InputPriceData!E$10,CalculationsAndCharts!$A757+$A$11,0,1,1)","v":0},{"$f":"OFFSET(InputPriceData!F$10,CalculationsAndCharts!$A757+$A$11,0,1,1)","v":0},{"$f":"IF(AND(A757<=$B$20,$S$14),$T$14,0)","v":0},{"$f":"IF(AND(A757<=$B$20,$S$15),$T$15,0)","v":0},{"$f":"IF(AND(A757<=$B$20,$S$16),$T$16,0)","v":0},{"$f":"IF(AND(A757<=$B$20,$S$17),$T$17,0)","v":0},{"$f":"IF(AND(A757<=$B$20,$S$18),$T$18,0)","v":0},0,0,0,0,0,0,0,0,0,0,0,0,0]
[727,{"$f":"OFFSET(InputPriceData!B$10,CalculationsAndCharts!$A758+$A$11,0,1,1)","v":"00:00:00"},{"$f":"OFFSET(InputPriceData!G$10,CalculationsAndCharts!$A758+$A$11,0,1,1)","v":0},{"$f":"OFFSET(InputPriceData!C$10,CalculationsAndCharts!$A758+$A$11,0,1,1)","v":0},{"$f":"OFFSET(InputPriceData!D$10,CalculationsAndCharts!$A758+$A$11,0,1,1)","v":0},{"$f":"OFFSET(InputPriceData!E$10,CalculationsAndCharts!$A758+$A$11,0,1,1)","v":0},{"$f":"OFFSET(InputPriceData!F$10,CalculationsAndCharts!$A758+$A$11,0,1,1)","v":0},{"$f":"IF(AND(A758<=$B$20,$S$14),$T$14,0)","v":0},{"$f":"IF(AND(A758<=$B$20,$S$15),$T$15,0)","v":0},{"$f":"IF(AND(A758<=$B$20,$S$16),$T$16,0)","v":0},{"$f":"IF(AND(A758<=$B$20,$S$17),$T$17,0)","v":0},{"$f":"IF(AND(A758<=$B$20,$S$18),$T$18,0)","v":0},0,0,0,0,0,0,0,0,0,0,0,0,0]
[728,{"$f":"OFFSET(InputPriceData!B$10,CalculationsAndCharts!$A759+$A$11,0,1,1)","v":"00:00:00"},{"$f":"OFFSET(InputPriceData!G$10,CalculationsAndCharts!$A759+$A$11,0,1,1)","v":0},{"$f":"OFFSET(InputPriceData!C$10,CalculationsAndCharts!$A759+$A$11,0,1,1)","v":0},{"$f":"OFFSET(InputPriceData!D$10,CalculationsAndCharts!$A759+$A$11,0,1,1)","v":0},{"$f":"OFFSET(InputPriceData!E$10,CalculationsAndCharts!$A759+$A$11,0,1,1)","v":0},{"$f":"OFFSET(InputPriceData!F$10,CalculationsAndCharts!$A759+$A$11,0,1,1)","v":0},{"$f":"IF(AND(A759<=$B$20,$S$14),$T$14,0)","v":0},{"$f":"IF(AND(A759<=$B$20,$S$15),$T$15,0)","v":0},{"$f":"IF(AND(A759<=$B$20,$S$16),$T$16,0)","v":0},{"$f":"IF(AND(A759<=$B$20,$S$17),$T$17,0)","v":0},{"$f":"IF(AND(A759<=$B$20,$S$18),$T$18,0)","v":0},0,0,0,0,0,0,0,0,0,0,0,0,0]
[729,{"$f":"OFFSET(InputPriceData!B$10,CalculationsAndCharts!$A760+$A$11,0,1,1)","v":"00:00:00"},{"$f":"OFFSET(InputPriceData!G$10,CalculationsAndCharts!$A760+$A$11,0,1,1)","v":0},{"$f":"OFFSET(InputPriceData!C$10,CalculationsAndCharts!$A760+$A$11,0,1,1)","v":0},{"$f":"OFFSET(InputPriceData!D$10,CalculationsAndCharts!$A760+$A$11,0,1,1)","v":0},{"$f":"OFFSET(InputPriceData!E$10,CalculationsAndCharts!$A760+$A$11,0,1,1)","v":0},{"$f":"OFFSET(InputPriceData!F$10,CalculationsAndCharts!$A760+$A$11,0,1,1)","v":0},{"$f":"IF(AND(A760<=$B$20,$S$14),$T$14,0)","v":0},{"$f":"IF(AND(A760<=$B$20,$S$15),$T$15,0)","v":0},{"$f":"IF(AND(A760<=$B$20,$S$16),$T$16,0)","v":0},{"$f":"IF(AND(A760<=$B$20,$S$17),$T$17,0)","v":0},{"$f":"IF(AND(A760<=$B$20,$S$18),$T$18,0)","v":0},0,0,0,0,0,0,0,0,0,0,0,0,0]
[730,{"$f":"OFFSET(InputPriceData!B$10,CalculationsAndCharts!$A761+$A$11,0,1,1)","v":"00:00:00"},{"$f":"OFFSET(InputPriceData!G$10,CalculationsAndCharts!$A761+$A$11,0,1,1)","v":0},{"$f":"OFFSET(InputPriceData!C$10,CalculationsAndCharts!$A761+$A$11,0,1,1)","v":0},{"$f":"OFFSET(InputPriceData!D$10,CalculationsAndCharts!$A761+$A$11,0,1,1)","v":0},{"$f":"OFFSET(InputPriceData!E$10,CalculationsAndCharts!$A761+$A$11,0,1,1)","v":0},{"$f":"OFFSET(InputPriceData!F$10,CalculationsAndCharts!$A761+$A$11,0,1,1)","v":0},{"$f":"IF(AND(A761<=$B$20,$S$14),$T$14,0)","v":0},{"$f":"IF(AND(A761<=$B$20,$S$15),$T$15,0)","v":0},{"$f":"IF(AND(A761<=$B$20,$S$16),$T$16,0)","v":0},{"$f":"IF(AND(A761<=$B$20,$S$17),$T$17,0)","v":0},{"$f":"IF(AND(A761<=$B$20,$S$18),$T$18,0)","v":0},0,0,0,0,0,0,0,0,0,0,0,0,0]
[731,{"$f":"OFFSET(InputPriceData!B$10,CalculationsAndCharts!$A762+$A$11,0,1,1)","v":"00:00:00"},{"$f":"OFFSET(InputPriceData!G$10,CalculationsAndCharts!$A762+$A$11,0,1,1)","v":0},{"$f":"OFFSET(InputPriceData!C$10,CalculationsAndCharts!$A762+$A$11,0,1,1)","v":0},{"$f":"OFFSET(InputPriceData!D$10,CalculationsAndCharts!$A762+$A$11,0,1,1)","v":0},{"$f":"OFFSET(InputPriceData!E$10,CalculationsAndCharts!$A762+$A$11,0,1,1)","v":0},{"$f":"OFFSET(InputPriceData!F$10,CalculationsAndCharts!$A762+$A$11,0,1,1)","v":0},{"$f":"IF(AND(A762<=$B$20,$S$14),$T$14,0)","v":0},{"$f":"IF(AND(A762<=$B$20,$S$15),$T$15,0)","v":0},{"$f":"IF(AND(A762<=$B$20,$S$16),$T$16,0)","v":0},{"$f":"IF(AND(A762<=$B$20,$S$17),$T$17,0)","v":0},{"$f":"IF(AND(A762<=$B$20,$S$18),$T$18,0)","v":0},0,0,0,0,0,0,0,0,0,0,0,0,0]
[732,{"$f":"OFFSET(InputPriceData!B$10,CalculationsAndCharts!$A763+$A$11,0,1,1)","v":"00:00:00"},{"$f":"OFFSET(InputPriceData!G$10,CalculationsAndCharts!$A763+$A$11,0,1,1)","v":0},{"$f":"OFFSET(InputPriceData!C$10,CalculationsAndCharts!$A763+$A$11,0,1,1)","v":0},{"$f":"OFFSET(InputPriceData!D$10,CalculationsAndCharts!$A763+$A$11,0,1,1)","v":0},{"$f":"OFFSET(InputPriceData!E$10,CalculationsAndCharts!$A763+$A$11,0,1,1)","v":0},{"$f":"OFFSET(InputPriceData!F$10,CalculationsAndCharts!$A763+$A$11,0,1,1)","v":0},{"$f":"IF(AND(A763<=$B$20,$S$14),$T$14,0)","v":0},{"$f":"IF(AND(A763<=$B$20,$S$15),$T$15,0)","v":0},{"$f":"IF(AND(A763<=$B$20,$S$16),$T$16,0)","v":0},{"$f":"IF(AND(A763<=$B$20,$S$17),$T$17,0)","v":0},{"$f":"IF(AND(A763<=$B$20,$S$18),$T$18,0)","v":0},0,0,0,0,0,0,0,0,0,0,0,0,0]
[733,{"$f":"OFFSET(InputPriceData!B$10,CalculationsAndCharts!$A764+$A$11,0,1,1)","v":"00:00:00"},{"$f":"OFFSET(InputPriceData!G$10,CalculationsAndCharts!$A764+$A$11,0,1,1)","v":0},{"$f":"OFFSET(InputPriceData!C$10,CalculationsAndCharts!$A764+$A$11,0,1,1)","v":0},{"$f":"OFFSET(InputPriceData!D$10,CalculationsAndCharts!$A764+$A$11,0,1,1)","v":0},{"$f":"OFFSET(InputPriceData!E$10,CalculationsAndCharts!$A764+$A$11,0,1,1)","v":0},{"$f":"OFFSET(InputPriceData!F$10,CalculationsAndCharts!$A764+$A$11,0,1,1)","v":0},{"$f":"IF(AND(A764<=$B$20,$S$14),$T$14,0)","v":0},{"$f":"IF(AND(A764<=$B$20,$S$15),$T$15,0)","v":0},{"$f":"IF(AND(A764<=$B$20,$S$16),$T$16,0)","v":0},{"$f":"IF(AND(A764<=$B$20,$S$17),$T$17,0)","v":0},{"$f":"IF(AND(A764<=$B$20,$S$18),$T$18,0)","v":0},0,0,0,0,0,0,0,0,0,0,0,0,0]
[734,{"$f":"OFFSET(InputPriceData!B$10,CalculationsAndCharts!$A765+$A$11,0,1,1)","v":"00:00:00"},{"$f":"OFFSET(InputPriceData!G$10,CalculationsAndCharts!$A765+$A$11,0,1,1)","v":0},{"$f":"OFFSET(InputPriceData!C$10,CalculationsAndCharts!$A765+$A$11,0,1,1)","v":0},{"$f":"OFFSET(InputPriceData!D$10,CalculationsAndCharts!$A765+$A$11,0,1,1)","v":0},{"$f":"OFFSET(InputPriceData!E$10,CalculationsAndCharts!$A765+$A$11,0,1,1)","v":0},{"$f":"OFFSET(InputPriceData!F$10,CalculationsAndCharts!$A765+$A$11,0,1,1)","v":0},{"$f":"IF(AND(A765<=$B$20,$S$14),$T$14,0)","v":0},{"$f":"IF(AND(A765<=$B$20,$S$15),$T$15,0)","v":0},{"$f":"IF(AND(A765<=$B$20,$S$16),$T$16,0)","v":0},{"$f":"IF(AND(A765<=$B$20,$S$17),$T$17,0)","v":0},{"$f":"IF(AND(A765<=$B$20,$S$18),$T$18,0)","v":0},0,0,0,0,0,0,0,0,0,0,0,0,0]
[735,{"$f":"OFFSET(InputPriceData!B$10,CalculationsAndCharts!$A766+$A$11,0,1,1)","v":"00:00:00"},{"$f":"OFFSET(InputPriceData!G$10,CalculationsAndCharts!$A766+$A$11,0,1,1)","v":0},{"$f":"OFFSET(InputPriceData!C$10,CalculationsAndCharts!$A766+$A$11,0,1,1)","v":0},{"$f":"OFFSET(InputPriceData!D$10,CalculationsAndCharts!$A766+$A$11,0,1,1)","v":0},{"$f":"OFFSET(InputPriceData!E$10,CalculationsAndCharts!$A766+$A$11,0,1,1)","v":0},{"$f":"OFFSET(InputPriceData!F$10,CalculationsAndCharts!$A766+$A$11,0,1,1)","v":0},{"$f":"IF(AND(A766<=$B$20,$S$14),$T$14,0)","v":0},{"$f":"IF(AND(A766<=$B$20,$S$15),$T$15,0)","v":0},{"$f":"IF(AND(A766<=$B$20,$S$16),$T$16,0)","v":0},{"$f":"IF(AND(A766<=$B$20,$S$17),$T$17,0)","v":0},{"$f":"IF(AND(A766<=$B$20,$S$18),$T$18,0)","v":0},0,0,0,0,0,0,0,0,0,0,0,0,0]
[736,{"$f":"OFFSET(InputPriceData!B$10,CalculationsAndCharts!$A767+$A$11,0,1,1)","v":"00:00:00"},{"$f":"OFFSET(InputPriceData!G$10,CalculationsAndCharts!$A767+$A$11,0,1,1)","v":0},{"$f":"OFFSET(InputPriceData!C$10,CalculationsAndCharts!$A767+$A$11,0,1,1)","v":0},{"$f":"OFFSET(InputPriceData!D$10,CalculationsAndCharts!$A767+$A$11,0,1,1)","v":0},{"$f":"OFFSET(InputPriceData!E$10,CalculationsAndCharts!$A767+$A$11,0,1,1)","v":0},{"$f":"OFFSET(InputPriceData!F$10,CalculationsAndCharts!$A767+$A$11,0,1,1)","v":0},{"$f":"IF(AND(A767<=$B$20,$S$14),$T$14,0)","v":0},{"$f":"IF(AND(A767<=$B$20,$S$15),$T$15,0)","v":0},{"$f":"IF(AND(A767<=$B$20,$S$16),$T$16,0)","v":0},{"$f":"IF(AND(A767<=$B$20,$S$17),$T$17,0)","v":0},{"$f":"IF(AND(A767<=$B$20,$S$18),$T$18,0)","v":0},0,0,0,0,0,0,0,0,0,0,0,0,0]
[737,{"$f":"OFFSET(InputPriceData!B$10,CalculationsAndCharts!$A768+$A$11,0,1,1)","v":"00:00:00"},{"$f":"OFFSET(InputPriceData!G$10,CalculationsAndCharts!$A768+$A$11,0,1,1)","v":0},{"$f":"OFFSET(InputPriceData!C$10,CalculationsAndCharts!$A768+$A$11,0,1,1)","v":0},{"$f":"OFFSET(InputPriceData!D$10,CalculationsAndCharts!$A768+$A$11,0,1,1)","v":0},{"$f":"OFFSET(InputPriceData!E$10,CalculationsAndCharts!$A768+$A$11,0,1,1)","v":0},{"$f":"OFFSET(InputPriceData!F$10,CalculationsAndCharts!$A768+$A$11,0,1,1)","v":0},{"$f":"IF(AND(A768<=$B$20,$S$14),$T$14,0)","v":0},{"$f":"IF(AND(A768<=$B$20,$S$15),$T$15,0)","v":0},{"$f":"IF(AND(A768<=$B$20,$S$16),$T$16,0)","v":0},{"$f":"IF(AND(A768<=$B$20,$S$17),$T$17,0)","v":0},{"$f":"IF(AND(A768<=$B$20,$S$18),$T$18,0)","v":0},0,0,0,0,0,0,0,0,0,0,0,0,0]
[738,{"$f":"OFFSET(InputPriceData!B$10,CalculationsAndCharts!$A769+$A$11,0,1,1)","v":"00:00:00"},{"$f":"OFFSET(InputPriceData!G$10,CalculationsAndCharts!$A769+$A$11,0,1,1)","v":0},{"$f":"OFFSET(InputPriceData!C$10,CalculationsAndCharts!$A769+$A$11,0,1,1)","v":0},{"$f":"OFFSET(InputPriceData!D$10,CalculationsAndCharts!$A769+$A$11,0,1,1)","v":0},{"$f":"OFFSET(InputPriceData!E$10,CalculationsAndCharts!$A769+$A$11,0,1,1)","v":0},{"$f":"OFFSET(InputPriceData!F$10,CalculationsAndCharts!$A769+$A$11,0,1,1)","v":0},{"$f":"IF(AND(A769<=$B$20,$S$14),$T$14,0)","v":0},{"$f":"IF(AND(A769<=$B$20,$S$15),$T$15,0)","v":0},{"$f":"IF(AND(A769<=$B$20,$S$16),$T$16,0)","v":0},{"$f":"IF(AND(A769<=$B$20,$S$17),$T$17,0)","v":0},{"$f":"IF(AND(A769<=$B$20,$S$18),$T$18,0)","v":0},0,0,0,0,0,0,0,0,0,0,0,0,0]
[739,{"$f":"OFFSET(InputPriceData!B$10,CalculationsAndCharts!$A770+$A$11,0,1,1)","v":"00:00:00"},{"$f":"OFFSET(InputPriceData!G$10,CalculationsAndCharts!$A770+$A$11,0,1,1)","v":0},{"$f":"OFFSET(InputPriceData!C$10,CalculationsAndCharts!$A770+$A$11,0,1,1)","v":0},{"$f":"OFFSET(InputPriceData!D$10,CalculationsAndCharts!$A770+$A$11,0,1,1)","v":0},{"$f":"OFFSET(InputPriceData!E$10,CalculationsAndCharts!$A770+$A$11,0,1,1)","v":0},{"$f":"OFFSET(InputPriceData!F$10,CalculationsAndCharts!$A770+$A$11,0,1,1)","v":0},{"$f":"IF(AND(A770<=$B$20,$S$14),$T$14,0)","v":0},{"$f":"IF(AND(A770<=$B$20,$S$15),$T$15,0)","v":0},{"$f":"IF(AND(A770<=$B$20,$S$16),$T$16,0)","v":0},{"$f":"IF(AND(A770<=$B$20,$S$17),$T$17,0)","v":0},{"$f":"IF(AND(A770<=$B$20,$S$18),$T$18,0)","v":0},0,0,0,0,0,0,0,0,0,0,0,0,0]
[740,{"$f":"OFFSET(InputPriceData!B$10,CalculationsAndCharts!$A771+$A$11,0,1,1)","v":"00:00:00"},{"$f":"OFFSET(InputPriceData!G$10,CalculationsAndCharts!$A771+$A$11,0,1,1)","v":0},{"$f":"OFFSET(InputPriceData!C$10,CalculationsAndCharts!$A771+$A$11,0,1,1)","v":0},{"$f":"OFFSET(InputPriceData!D$10,CalculationsAndCharts!$A771+$A$11,0,1,1)","v":0},{"$f":"OFFSET(InputPriceData!E$10,CalculationsAndCharts!$A771+$A$11,0,1,1)","v":0},{"$f":"OFFSET(InputPriceData!F$10,CalculationsAndCharts!$A771+$A$11,0,1,1)","v":0},{"$f":"IF(AND(A771<=$B$20,$S$14),$T$14,0)","v":0},{"$f":"IF(AND(A771<=$B$20,$S$15),$T$15,0)","v":0},{"$f":"IF(AND(A771<=$B$20,$S$16),$T$16,0)","v":0},{"$f":"IF(AND(A771<=$B$20,$S$17),$T$17,0)","v":0},{"$f":"IF(AND(A771<=$B$20,$S$18),$T$18,0)","v":0},0,0,0,0,0,0,0,0,0,0,0,0,0]
[741,{"$f":"OFFSET(InputPriceData!B$10,CalculationsAndCharts!$A772+$A$11,0,1,1)","v":"00:00:00"},{"$f":"OFFSET(InputPriceData!G$10,CalculationsAndCharts!$A772+$A$11,0,1,1)","v":0},{"$f":"OFFSET(InputPriceData!C$10,CalculationsAndCharts!$A772+$A$11,0,1,1)","v":0},{"$f":"OFFSET(InputPriceData!D$10,CalculationsAndCharts!$A772+$A$11,0,1,1)","v":0},{"$f":"OFFSET(InputPriceData!E$10,CalculationsAndCharts!$A772+$A$11,0,1,1)","v":0},{"$f":"OFFSET(InputPriceData!F$10,CalculationsAndCharts!$A772+$A$11,0,1,1)","v":0},{"$f":"IF(AND(A772<=$B$20,$S$14),$T$14,0)","v":0},{"$f":"IF(AND(A772<=$B$20,$S$15),$T$15,0)","v":0},{"$f":"IF(AND(A772<=$B$20,$S$16),$T$16,0)","v":0},{"$f":"IF(AND(A772<=$B$20,$S$17),$T$17,0)","v":0},{"$f":"IF(AND(A772<=$B$20,$S$18),$T$18,0)","v":0},0,0,0,0,0,0,0,0,0,0,0,0,0]
[742,{"$f":"OFFSET(InputPriceData!B$10,CalculationsAndCharts!$A773+$A$11,0,1,1)","v":"00:00:00"},{"$f":"OFFSET(InputPriceData!G$10,CalculationsAndCharts!$A773+$A$11,0,1,1)","v":0},{"$f":"OFFSET(InputPriceData!C$10,CalculationsAndCharts!$A773+$A$11,0,1,1)","v":0},{"$f":"OFFSET(InputPriceData!D$10,CalculationsAndCharts!$A773+$A$11,0,1,1)","v":0},{"$f":"OFFSET(InputPriceData!E$10,CalculationsAndCharts!$A773+$A$11,0,1,1)","v":0},{"$f":"OFFSET(InputPriceData!F$10,CalculationsAndCharts!$A773+$A$11,0,1,1)","v":0},{"$f":"IF(AND(A773<=$B$20,$S$14),$T$14,0)","v":0},{"$f":"IF(AND(A773<=$B$20,$S$15),$T$15,0)","v":0},{"$f":"IF(AND(A773<=$B$20,$S$16),$T$16,0)","v":0},{"$f":"IF(AND(A773<=$B$20,$S$17),$T$17,0)","v":0},{"$f":"IF(AND(A773<=$B$20,$S$18),$T$18,0)","v":0},0,0,0,0,0,0,0,0,0,0,0,0,0]
[743,{"$f":"OFFSET(InputPriceData!B$10,CalculationsAndCharts!$A774+$A$11,0,1,1)","v":"00:00:00"},{"$f":"OFFSET(InputPriceData!G$10,CalculationsAndCharts!$A774+$A$11,0,1,1)","v":0},{"$f":"OFFSET(InputPriceData!C$10,CalculationsAndCharts!$A774+$A$11,0,1,1)","v":0},{"$f":"OFFSET(InputPriceData!D$10,CalculationsAndCharts!$A774+$A$11,0,1,1)","v":0},{"$f":"OFFSET(InputPriceData!E$10,CalculationsAndCharts!$A774+$A$11,0,1,1)","v":0},{"$f":"OFFSET(InputPriceData!F$10,CalculationsAndCharts!$A774+$A$11,0,1,1)","v":0},{"$f":"IF(AND(A774<=$B$20,$S$14),$T$14,0)","v":0},{"$f":"IF(AND(A774<=$B$20,$S$15),$T$15,0)","v":0},{"$f":"IF(AND(A774<=$B$20,$S$16),$T$16,0)","v":0},{"$f":"IF(AND(A774<=$B$20,$S$17),$T$17,0)","v":0},{"$f":"IF(AND(A774<=$B$20,$S$18),$T$18,0)","v":0},0,0,0,0,0,0,0,0,0,0,0,0,0]
[744,{"$f":"OFFSET(InputPriceData!B$10,CalculationsAndCharts!$A775+$A$11,0,1,1)","v":"00:00:00"},{"$f":"OFFSET(InputPriceData!G$10,CalculationsAndCharts!$A775+$A$11,0,1,1)","v":0},{"$f":"OFFSET(InputPriceData!C$10,CalculationsAndCharts!$A775+$A$11,0,1,1)","v":0},{"$f":"OFFSET(InputPriceData!D$10,CalculationsAndCharts!$A775+$A$11,0,1,1)","v":0},{"$f":"OFFSET(InputPriceData!E$10,CalculationsAndCharts!$A775+$A$11,0,1,1)","v":0},{"$f":"OFFSET(InputPriceData!F$10,CalculationsAndCharts!$A775+$A$11,0,1,1)","v":0},{"$f":"IF(AND(A775<=$B$20,$S$14),$T$14,0)","v":0},{"$f":"IF(AND(A775<=$B$20,$S$15),$T$15,0)","v":0},{"$f":"IF(AND(A775<=$B$20,$S$16),$T$16,0)","v":0},{"$f":"IF(AND(A775<=$B$20,$S$17),$T$17,0)","v":0},{"$f":"IF(AND(A775<=$B$20,$S$18),$T$18,0)","v":0},0,0,0,0,0,0,0,0,0,0,0,0,0]
[745,{"$f":"OFFSET(InputPriceData!B$10,CalculationsAndCharts!$A776+$A$11,0,1,1)","v":"00:00:00"},{"$f":"OFFSET(InputPriceData!G$10,CalculationsAndCharts!$A776+$A$11,0,1,1)","v":0},{"$f":"OFFSET(InputPriceData!C$10,CalculationsAndCharts!$A776+$A$11,0,1,1)","v":0},{"$f":"OFFSET(InputPriceData!D$10,CalculationsAndCharts!$A776+$A$11,0,1,1)","v":0},{"$f":"OFFSET(InputPriceData!E$10,CalculationsAndCharts!$A776+$A$11,0,1,1)","v":0},{"$f":"OFFSET(InputPriceData!F$10,CalculationsAndCharts!$A776+$A$11,0,1,1)","v":0},{"$f":"IF(AND(A776<=$B$20,$S$14),$T$14,0)","v":0},{"$f":"IF(AND(A776<=$B$20,$S$15),$T$15,0)","v":0},{"$f":"IF(AND(A776<=$B$20,$S$16),$T$16,0)","v":0},{"$f":"IF(AND(A776<=$B$20,$S$17),$T$17,0)","v":0},{"$f":"IF(AND(A776<=$B$20,$S$18),$T$18,0)","v":0},0,0,0,0,0,0,0,0,0,0,0,0,0]
[746,{"$f":"OFFSET(InputPriceData!B$10,CalculationsAndCharts!$A777+$A$11,0,1,1)","v":"00:00:00"},{"$f":"OFFSET(InputPriceData!G$10,CalculationsAndCharts!$A777+$A$11,0,1,1)","v":0},{"$f":"OFFSET(InputPriceData!C$10,CalculationsAndCharts!$A777+$A$11,0,1,1)","v":0},{"$f":"OFFSET(InputPriceData!D$10,CalculationsAndCharts!$A777+$A$11,0,1,1)","v":0},{"$f":"OFFSET(InputPriceData!E$10,CalculationsAndCharts!$A777+$A$11,0,1,1)","v":0},{"$f":"OFFSET(InputPriceData!F$10,CalculationsAndCharts!$A777+$A$11,0,1,1)","v":0},{"$f":"IF(AND(A777<=$B$20,$S$14),$T$14,0)","v":0},{"$f":"IF(AND(A777<=$B$20,$S$15),$T$15,0)","v":0},{"$f":"IF(AND(A777<=$B$20,$S$16),$T$16,0)","v":0},{"$f":"IF(AND(A777<=$B$20,$S$17),$T$17,0)","v":0},{"$f":"IF(AND(A777<=$B$20,$S$18),$T$18,0)","v":0},0,0,0,0,0,0,0,0,0,0,0,0,0]
[747,{"$f":"OFFSET(InputPriceData!B$10,CalculationsAndCharts!$A778+$A$11,0,1,1)","v":"00:00:00"},{"$f":"OFFSET(InputPriceData!G$10,CalculationsAndCharts!$A778+$A$11,0,1,1)","v":0},{"$f":"OFFSET(InputPriceData!C$10,CalculationsAndCharts!$A778+$A$11,0,1,1)","v":0},{"$f":"OFFSET(InputPriceData!D$10,CalculationsAndCharts!$A778+$A$11,0,1,1)","v":0},{"$f":"OFFSET(InputPriceData!E$10,CalculationsAndCharts!$A778+$A$11,0,1,1)","v":0},{"$f":"OFFSET(InputPriceData!F$10,CalculationsAndCharts!$A778+$A$11,0,1,1)","v":0},{"$f":"IF(AND(A778<=$B$20,$S$14),$T$14,0)","v":0},{"$f":"IF(AND(A778<=$B$20,$S$15),$T$15,0)","v":0},{"$f":"IF(AND(A778<=$B$20,$S$16),$T$16,0)","v":0},{"$f":"IF(AND(A778<=$B$20,$S$17),$T$17,0)","v":0},{"$f":"IF(AND(A778<=$B$20,$S$18),$T$18,0)","v":0},0,0,0,0,0,0,0,0,0,0,0,0,0]
[748,{"$f":"OFFSET(InputPriceData!B$10,CalculationsAndCharts!$A779+$A$11,0,1,1)","v":"00:00:00"},{"$f":"OFFSET(InputPriceData!G$10,CalculationsAndCharts!$A779+$A$11,0,1,1)","v":0},{"$f":"OFFSET(InputPriceData!C$10,CalculationsAndCharts!$A779+$A$11,0,1,1)","v":0},{"$f":"OFFSET(InputPriceData!D$10,CalculationsAndCharts!$A779+$A$11,0,1,1)","v":0},{"$f":"OFFSET(InputPriceData!E$10,CalculationsAndCharts!$A779+$A$11,0,1,1)","v":0},{"$f":"OFFSET(InputPriceData!F$10,CalculationsAndCharts!$A779+$A$11,0,1,1)","v":0},{"$f":"IF(AND(A779<=$B$20,$S$14),$T$14,0)","v":0},{"$f":"IF(AND(A779<=$B$20,$S$15),$T$15,0)","v":0},{"$f":"IF(AND(A779<=$B$20,$S$16),$T$16,0)","v":0},{"$f":"IF(AND(A779<=$B$20,$S$17),$T$17,0)","v":0},{"$f":"IF(AND(A779<=$B$20,$S$18),$T$18,0)","v":0},0,0,0,0,0,0,0,0,0,0,0,0,0]
[749,{"$f":"OFFSET(InputPriceData!B$10,CalculationsAndCharts!$A780+$A$11,0,1,1)","v":"00:00:00"},{"$f":"OFFSET(InputPriceData!G$10,CalculationsAndCharts!$A780+$A$11,0,1,1)","v":0},{"$f":"OFFSET(InputPriceData!C$10,CalculationsAndCharts!$A780+$A$11,0,1,1)","v":0},{"$f":"OFFSET(InputPriceData!D$10,CalculationsAndCharts!$A780+$A$11,0,1,1)","v":0},{"$f":"OFFSET(InputPriceData!E$10,CalculationsAndCharts!$A780+$A$11,0,1,1)","v":0},{"$f":"OFFSET(InputPriceData!F$10,CalculationsAndCharts!$A780+$A$11,0,1,1)","v":0},{"$f":"IF(AND(A780<=$B$20,$S$14),$T$14,0)","v":0},{"$f":"IF(AND(A780<=$B$20,$S$15),$T$15,0)","v":0},{"$f":"IF(AND(A780<=$B$20,$S$16),$T$16,0)","v":0},{"$f":"IF(AND(A780<=$B$20,$S$17),$T$17,0)","v":0},{"$f":"IF(AND(A780<=$B$20,$S$18),$T$18,0)","v":0},0,0,0,0,0,0,0,0,0,0,0,0,0]
[750,{"$f":"OFFSET(InputPriceData!B$10,CalculationsAndCharts!$A781+$A$11,0,1,1)","v":"00:00:00"},{"$f":"OFFSET(InputPriceData!G$10,CalculationsAndCharts!$A781+$A$11,0,1,1)","v":0},{"$f":"OFFSET(InputPriceData!C$10,CalculationsAndCharts!$A781+$A$11,0,1,1)","v":0},{"$f":"OFFSET(InputPriceData!D$10,CalculationsAndCharts!$A781+$A$11,0,1,1)","v":0},{"$f":"OFFSET(InputPriceData!E$10,CalculationsAndCharts!$A781+$A$11,0,1,1)","v":0},{"$f":"OFFSET(InputPriceData!F$10,CalculationsAndCharts!$A781+$A$11,0,1,1)","v":0},{"$f":"IF(AND(A781<=$B$20,$S$14),$T$14,0)","v":0},{"$f":"IF(AND(A781<=$B$20,$S$15),$T$15,0)","v":0},{"$f":"IF(AND(A781<=$B$20,$S$16),$T$16,0)","v":0},{"$f":"IF(AND(A781<=$B$20,$S$17),$T$17,0)","v":0},{"$f":"IF(AND(A781<=$B$20,$S$18),$T$18,0)","v":0},0,0,0,0,0,0,0,0,0,0,0,0,0]
[751,{"$f":"OFFSET(InputPriceData!B$10,CalculationsAndCharts!$A782+$A$11,0,1,1)","v":"00:00:00"},{"$f":"OFFSET(InputPriceData!G$10,CalculationsAndCharts!$A782+$A$11,0,1,1)","v":0},{"$f":"OFFSET(InputPriceData!C$10,CalculationsAndCharts!$A782+$A$11,0,1,1)","v":0},{"$f":"OFFSET(InputPriceData!D$10,CalculationsAndCharts!$A782+$A$11,0,1,1)","v":0},{"$f":"OFFSET(InputPriceData!E$10,CalculationsAndCharts!$A782+$A$11,0,1,1)","v":0},{"$f":"OFFSET(InputPriceData!F$10,CalculationsAndCharts!$A782+$A$11,0,1,1)","v":0},{"$f":"IF(AND(A782<=$B$20,$S$14),$T$14,0)","v":0},{"$f":"IF(AND(A782<=$B$20,$S$15),$T$15,0)","v":0},{"$f":"IF(AND(A782<=$B$20,$S$16),$T$16,0)","v":0},{"$f":"IF(AND(A782<=$B$20,$S$17),$T$17,0)","v":0},{"$f":"IF(AND(A782<=$B$20,$S$18),$T$18,0)","v":0},0,0,0,0,0,0,0,0,0,0,0,0,0]
[752,{"$f":"OFFSET(InputPriceData!B$10,CalculationsAndCharts!$A783+$A$11,0,1,1)","v":"00:00:00"},{"$f":"OFFSET(InputPriceData!G$10,CalculationsAndCharts!$A783+$A$11,0,1,1)","v":0},{"$f":"OFFSET(InputPriceData!C$10,CalculationsAndCharts!$A783+$A$11,0,1,1)","v":0},{"$f":"OFFSET(InputPriceData!D$10,CalculationsAndCharts!$A783+$A$11,0,1,1)","v":0},{"$f":"OFFSET(InputPriceData!E$10,CalculationsAndCharts!$A783+$A$11,0,1,1)","v":0},{"$f":"OFFSET(InputPriceData!F$10,CalculationsAndCharts!$A783+$A$11,0,1,1)","v":0},{"$f":"IF(AND(A783<=$B$20,$S$14),$T$14,0)","v":0},{"$f":"IF(AND(A783<=$B$20,$S$15),$T$15,0)","v":0},{"$f":"IF(AND(A783<=$B$20,$S$16),$T$16,0)","v":0},{"$f":"IF(AND(A783<=$B$20,$S$17),$T$17,0)","v":0},{"$f":"IF(AND(A783<=$B$20,$S$18),$T$18,0)","v":0},0,0,0,0,0,0,0,0,0,0,0,0,0]
[753,{"$f":"OFFSET(InputPriceData!B$10,CalculationsAndCharts!$A784+$A$11,0,1,1)","v":"00:00:00"},{"$f":"OFFSET(InputPriceData!G$10,CalculationsAndCharts!$A784+$A$11,0,1,1)","v":0},{"$f":"OFFSET(InputPriceData!C$10,CalculationsAndCharts!$A784+$A$11,0,1,1)","v":0},{"$f":"OFFSET(InputPriceData!D$10,CalculationsAndCharts!$A784+$A$11,0,1,1)","v":0},{"$f":"OFFSET(InputPriceData!E$10,CalculationsAndCharts!$A784+$A$11,0,1,1)","v":0},{"$f":"OFFSET(InputPriceData!F$10,CalculationsAndCharts!$A784+$A$11,0,1,1)","v":0},{"$f":"IF(AND(A784<=$B$20,$S$14),$T$14,0)","v":0},{"$f":"IF(AND(A784<=$B$20,$S$15),$T$15,0)","v":0},{"$f":"IF(AND(A784<=$B$20,$S$16),$T$16,0)","v":0},{"$f":"IF(AND(A784<=$B$20,$S$17),$T$17,0)","v":0},{"$f":"IF(AND(A784<=$B$20,$S$18),$T$18,0)","v":0},0,0,0,0,0,0,0,0,0,0,0,0,0]
[754,{"$f":"OFFSET(InputPriceData!B$10,CalculationsAndCharts!$A785+$A$11,0,1,1)","v":"00:00:00"},{"$f":"OFFSET(InputPriceData!G$10,CalculationsAndCharts!$A785+$A$11,0,1,1)","v":0},{"$f":"OFFSET(InputPriceData!C$10,CalculationsAndCharts!$A785+$A$11,0,1,1)","v":0},{"$f":"OFFSET(InputPriceData!D$10,CalculationsAndCharts!$A785+$A$11,0,1,1)","v":0},{"$f":"OFFSET(InputPriceData!E$10,CalculationsAndCharts!$A785+$A$11,0,1,1)","v":0},{"$f":"OFFSET(InputPriceData!F$10,CalculationsAndCharts!$A785+$A$11,0,1,1)","v":0},{"$f":"IF(AND(A785<=$B$20,$S$14),$T$14,0)","v":0},{"$f":"IF(AND(A785<=$B$20,$S$15),$T$15,0)","v":0},{"$f":"IF(AND(A785<=$B$20,$S$16),$T$16,0)","v":0},{"$f":"IF(AND(A785<=$B$20,$S$17),$T$17,0)","v":0},{"$f":"IF(AND(A785<=$B$20,$S$18),$T$18,0)","v":0},0,0,0,0,0,0,0,0,0,0,0,0,0]
[755,{"$f":"OFFSET(InputPriceData!B$10,CalculationsAndCharts!$A786+$A$11,0,1,1)","v":"00:00:00"},{"$f":"OFFSET(InputPriceData!G$10,CalculationsAndCharts!$A786+$A$11,0,1,1)","v":0},{"$f":"OFFSET(InputPriceData!C$10,CalculationsAndCharts!$A786+$A$11,0,1,1)","v":0},{"$f":"OFFSET(InputPriceData!D$10,CalculationsAndCharts!$A786+$A$11,0,1,1)","v":0},{"$f":"OFFSET(InputPriceData!E$10,CalculationsAndCharts!$A786+$A$11,0,1,1)","v":0},{"$f":"OFFSET(InputPriceData!F$10,CalculationsAndCharts!$A786+$A$11,0,1,1)","v":0},{"$f":"IF(AND(A786<=$B$20,$S$14),$T$14,0)","v":0},{"$f":"IF(AND(A786<=$B$20,$S$15),$T$15,0)","v":0},{"$f":"IF(AND(A786<=$B$20,$S$16),$T$16,0)","v":0},{"$f":"IF(AND(A786<=$B$20,$S$17),$T$17,0)","v":0},{"$f":"IF(AND(A786<=$B$20,$S$18),$T$18,0)","v":0},0,0,0,0,0,0,0,0,0,0,0,0,0]
[756,{"$f":"OFFSET(InputPriceData!B$10,CalculationsAndCharts!$A787+$A$11,0,1,1)","v":"00:00:00"},{"$f":"OFFSET(InputPriceData!G$10,CalculationsAndCharts!$A787+$A$11,0,1,1)","v":0},{"$f":"OFFSET(InputPriceData!C$10,CalculationsAndCharts!$A787+$A$11,0,1,1)","v":0},{"$f":"OFFSET(InputPriceData!D$10,CalculationsAndCharts!$A787+$A$11,0,1,1)","v":0},{"$f":"OFFSET(InputPriceData!E$10,CalculationsAndCharts!$A787+$A$11,0,1,1)","v":0},{"$f":"OFFSET(InputPriceData!F$10,CalculationsAndCharts!$A787+$A$11,0,1,1)","v":0},{"$f":"IF(AND(A787<=$B$20,$S$14),$T$14,0)","v":0},{"$f":"IF(AND(A787<=$B$20,$S$15),$T$15,0)","v":0},{"$f":"IF(AND(A787<=$B$20,$S$16),$T$16,0)","v":0},{"$f":"IF(AND(A787<=$B$20,$S$17),$T$17,0)","v":0},{"$f":"IF(AND(A787<=$B$20,$S$18),$T$18,0)","v":0},0,0,0,0,0,0,0,0,0,0,0,0,0]
[757,{"$f":"OFFSET(InputPriceData!B$10,CalculationsAndCharts!$A788+$A$11,0,1,1)","v":"00:00:00"},{"$f":"OFFSET(InputPriceData!G$10,CalculationsAndCharts!$A788+$A$11,0,1,1)","v":0},{"$f":"OFFSET(InputPriceData!C$10,CalculationsAndCharts!$A788+$A$11,0,1,1)","v":0},{"$f":"OFFSET(InputPriceData!D$10,CalculationsAndCharts!$A788+$A$11,0,1,1)","v":0},{"$f":"OFFSET(InputPriceData!E$10,CalculationsAndCharts!$A788+$A$11,0,1,1)","v":0},{"$f":"OFFSET(InputPriceData!F$10,CalculationsAndCharts!$A788+$A$11,0,1,1)","v":0},{"$f":"IF(AND(A788<=$B$20,$S$14),$T$14,0)","v":0},{"$f":"IF(AND(A788<=$B$20,$S$15),$T$15,0)","v":0},{"$f":"IF(AND(A788<=$B$20,$S$16),$T$16,0)","v":0},{"$f":"IF(AND(A788<=$B$20,$S$17),$T$17,0)","v":0},{"$f":"IF(AND(A788<=$B$20,$S$18),$T$18,0)","v":0},0,0,0,0,0,0,0,0,0,0,0,0,0]
[758,{"$f":"OFFSET(InputPriceData!B$10,CalculationsAndCharts!$A789+$A$11,0,1,1)","v":"00:00:00"},{"$f":"OFFSET(InputPriceData!G$10,CalculationsAndCharts!$A789+$A$11,0,1,1)","v":0},{"$f":"OFFSET(InputPriceData!C$10,CalculationsAndCharts!$A789+$A$11,0,1,1)","v":0},{"$f":"OFFSET(InputPriceData!D$10,CalculationsAndCharts!$A789+$A$11,0,1,1)","v":0},{"$f":"OFFSET(InputPriceData!E$10,CalculationsAndCharts!$A789+$A$11,0,1,1)","v":0},{"$f":"OFFSET(InputPriceData!F$10,CalculationsAndCharts!$A789+$A$11,0,1,1)","v":0},{"$f":"IF(AND(A789<=$B$20,$S$14),$T$14,0)","v":0},{"$f":"IF(AND(A789<=$B$20,$S$15),$T$15,0)","v":0},{"$f":"IF(AND(A789<=$B$20,$S$16),$T$16,0)","v":0},{"$f":"IF(AND(A789<=$B$20,$S$17),$T$17,0)","v":0},{"$f":"IF(AND(A789<=$B$20,$S$18),$T$18,0)","v":0},0,0,0,0,0,0,0,0,0,0,0,0,0]
[759,{"$f":"OFFSET(InputPriceData!B$10,CalculationsAndCharts!$A790+$A$11,0,1,1)","v":"00:00:00"},{"$f":"OFFSET(InputPriceData!G$10,CalculationsAndCharts!$A790+$A$11,0,1,1)","v":0},{"$f":"OFFSET(InputPriceData!C$10,CalculationsAndCharts!$A790+$A$11,0,1,1)","v":0},{"$f":"OFFSET(InputPriceData!D$10,CalculationsAndCharts!$A790+$A$11,0,1,1)","v":0},{"$f":"OFFSET(InputPriceData!E$10,CalculationsAndCharts!$A790+$A$11,0,1,1)","v":0},{"$f":"OFFSET(InputPriceData!F$10,CalculationsAndCharts!$A790+$A$11,0,1,1)","v":0},{"$f":"IF(AND(A790<=$B$20,$S$14),$T$14,0)","v":0},{"$f":"IF(AND(A790<=$B$20,$S$15),$T$15,0)","v":0},{"$f":"IF(AND(A790<=$B$20,$S$16),$T$16,0)","v":0},{"$f":"IF(AND(A790<=$B$20,$S$17),$T$17,0)","v":0},{"$f":"IF(AND(A790<=$B$20,$S$18),$T$18,0)","v":0},0,0,0,0,0,0,0,0,0,0,0,0,0]
[760,{"$f":"OFFSET(InputPriceData!B$10,CalculationsAndCharts!$A791+$A$11,0,1,1)","v":"00:00:00"},{"$f":"OFFSET(InputPriceData!G$10,CalculationsAndCharts!$A791+$A$11,0,1,1)","v":0},{"$f":"OFFSET(InputPriceData!C$10,CalculationsAndCharts!$A791+$A$11,0,1,1)","v":0},{"$f":"OFFSET(InputPriceData!D$10,CalculationsAndCharts!$A791+$A$11,0,1,1)","v":0},{"$f":"OFFSET(InputPriceData!E$10,CalculationsAndCharts!$A791+$A$11,0,1,1)","v":0},{"$f":"OFFSET(InputPriceData!F$10,CalculationsAndCharts!$A791+$A$11,0,1,1)","v":0},{"$f":"IF(AND(A791<=$B$20,$S$14),$T$14,0)","v":0},{"$f":"IF(AND(A791<=$B$20,$S$15),$T$15,0)","v":0},{"$f":"IF(AND(A791<=$B$20,$S$16),$T$16,0)","v":0},{"$f":"IF(AND(A791<=$B$20,$S$17),$T$17,0)","v":0},{"$f":"IF(AND(A791<=$B$20,$S$18),$T$18,0)","v":0},0,0,0,0,0,0,0,0,0,0,0,0,0]
[761,{"$f":"OFFSET(InputPriceData!B$10,CalculationsAndCharts!$A792+$A$11,0,1,1)","v":"00:00:00"},{"$f":"OFFSET(InputPriceData!G$10,CalculationsAndCharts!$A792+$A$11,0,1,1)","v":0},{"$f":"OFFSET(InputPriceData!C$10,CalculationsAndCharts!$A792+$A$11,0,1,1)","v":0},{"$f":"OFFSET(InputPriceData!D$10,CalculationsAndCharts!$A792+$A$11,0,1,1)","v":0},{"$f":"OFFSET(InputPriceData!E$10,CalculationsAndCharts!$A792+$A$11,0,1,1)","v":0},{"$f":"OFFSET(InputPriceData!F$10,CalculationsAndCharts!$A792+$A$11,0,1,1)","v":0},{"$f":"IF(AND(A792<=$B$20,$S$14),$T$14,0)","v":0},{"$f":"IF(AND(A792<=$B$20,$S$15),$T$15,0)","v":0},{"$f":"IF(AND(A792<=$B$20,$S$16),$T$16,0)","v":0},{"$f":"IF(AND(A792<=$B$20,$S$17),$T$17,0)","v":0},{"$f":"IF(AND(A792<=$B$20,$S$18),$T$18,0)","v":0},0,0,0,0,0,0,0,0,0,0,0,0,0]
[762,{"$f":"OFFSET(InputPriceData!B$10,CalculationsAndCharts!$A793+$A$11,0,1,1)","v":"00:00:00"},{"$f":"OFFSET(InputPriceData!G$10,CalculationsAndCharts!$A793+$A$11,0,1,1)","v":0},{"$f":"OFFSET(InputPriceData!C$10,CalculationsAndCharts!$A793+$A$11,0,1,1)","v":0},{"$f":"OFFSET(InputPriceData!D$10,CalculationsAndCharts!$A793+$A$11,0,1,1)","v":0},{"$f":"OFFSET(InputPriceData!E$10,CalculationsAndCharts!$A793+$A$11,0,1,1)","v":0},{"$f":"OFFSET(InputPriceData!F$10,CalculationsAndCharts!$A793+$A$11,0,1,1)","v":0},{"$f":"IF(AND(A793<=$B$20,$S$14),$T$14,0)","v":0},{"$f":"IF(AND(A793<=$B$20,$S$15),$T$15,0)","v":0},{"$f":"IF(AND(A793<=$B$20,$S$16),$T$16,0)","v":0},{"$f":"IF(AND(A793<=$B$20,$S$17),$T$17,0)","v":0},{"$f":"IF(AND(A793<=$B$20,$S$18),$T$18,0)","v":0},0,0,0,0,0,0,0,0,0,0,0,0,0]
[763,{"$f":"OFFSET(InputPriceData!B$10,CalculationsAndCharts!$A794+$A$11,0,1,1)","v":"00:00:00"},{"$f":"OFFSET(InputPriceData!G$10,CalculationsAndCharts!$A794+$A$11,0,1,1)","v":0},{"$f":"OFFSET(InputPriceData!C$10,CalculationsAndCharts!$A794+$A$11,0,1,1)","v":0},{"$f":"OFFSET(InputPriceData!D$10,CalculationsAndCharts!$A794+$A$11,0,1,1)","v":0},{"$f":"OFFSET(InputPriceData!E$10,CalculationsAndCharts!$A794+$A$11,0,1,1)","v":0},{"$f":"OFFSET(InputPriceData!F$10,CalculationsAndCharts!$A794+$A$11,0,1,1)","v":0},{"$f":"IF(AND(A794<=$B$20,$S$14),$T$14,0)","v":0},{"$f":"IF(AND(A794<=$B$20,$S$15),$T$15,0)","v":0},{"$f":"IF(AND(A794<=$B$20,$S$16),$T$16,0)","v":0},{"$f":"IF(AND(A794<=$B$20,$S$17),$T$17,0)","v":0},{"$f":"IF(AND(A794<=$B$20,$S$18),$T$18,0)","v":0},0,0,0,0,0,0,0,0,0,0,0,0,0]
[764,{"$f":"OFFSET(InputPriceData!B$10,CalculationsAndCharts!$A795+$A$11,0,1,1)","v":"00:00:00"},{"$f":"OFFSET(InputPriceData!G$10,CalculationsAndCharts!$A795+$A$11,0,1,1)","v":0},{"$f":"OFFSET(InputPriceData!C$10,CalculationsAndCharts!$A795+$A$11,0,1,1)","v":0},{"$f":"OFFSET(InputPriceData!D$10,CalculationsAndCharts!$A795+$A$11,0,1,1)","v":0},{"$f":"OFFSET(InputPriceData!E$10,CalculationsAndCharts!$A795+$A$11,0,1,1)","v":0},{"$f":"OFFSET(InputPriceData!F$10,CalculationsAndCharts!$A795+$A$11,0,1,1)","v":0},{"$f":"IF(AND(A795<=$B$20,$S$14),$T$14,0)","v":0},{"$f":"IF(AND(A795<=$B$20,$S$15),$T$15,0)","v":0},{"$f":"IF(AND(A795<=$B$20,$S$16),$T$16,0)","v":0},{"$f":"IF(AND(A795<=$B$20,$S$17),$T$17,0)","v":0},{"$f":"IF(AND(A795<=$B$20,$S$18),$T$18,0)","v":0},0,0,0,0,0,0,0,0,0,0,0,0,0]
[765,{"$f":"OFFSET(InputPriceData!B$10,CalculationsAndCharts!$A796+$A$11,0,1,1)","v":"00:00:00"},{"$f":"OFFSET(InputPriceData!G$10,CalculationsAndCharts!$A796+$A$11,0,1,1)","v":0},{"$f":"OFFSET(InputPriceData!C$10,CalculationsAndCharts!$A796+$A$11,0,1,1)","v":0},{"$f":"OFFSET(InputPriceData!D$10,CalculationsAndCharts!$A796+$A$11,0,1,1)","v":0},{"$f":"OFFSET(InputPriceData!E$10,CalculationsAndCharts!$A796+$A$11,0,1,1)","v":0},{"$f":"OFFSET(InputPriceData!F$10,CalculationsAndCharts!$A796+$A$11,0,1,1)","v":0},{"$f":"IF(AND(A796<=$B$20,$S$14),$T$14,0)","v":0},{"$f":"IF(AND(A796<=$B$20,$S$15),$T$15,0)","v":0},{"$f":"IF(AND(A796<=$B$20,$S$16),$T$16,0)","v":0},{"$f":"IF(AND(A796<=$B$20,$S$17),$T$17,0)","v":0},{"$f":"IF(AND(A796<=$B$20,$S$18),$T$18,0)","v":0},0,0,0,0,0,0,0,0,0,0,0,0,0]
[766,{"$f":"OFFSET(InputPriceData!B$10,CalculationsAndCharts!$A797+$A$11,0,1,1)","v":"00:00:00"},{"$f":"OFFSET(InputPriceData!G$10,CalculationsAndCharts!$A797+$A$11,0,1,1)","v":0},{"$f":"OFFSET(InputPriceData!C$10,CalculationsAndCharts!$A797+$A$11,0,1,1)","v":0},{"$f":"OFFSET(InputPriceData!D$10,CalculationsAndCharts!$A797+$A$11,0,1,1)","v":0},{"$f":"OFFSET(InputPriceData!E$10,CalculationsAndCharts!$A797+$A$11,0,1,1)","v":0},{"$f":"OFFSET(InputPriceData!F$10,CalculationsAndCharts!$A797+$A$11,0,1,1)","v":0},{"$f":"IF(AND(A797<=$B$20,$S$14),$T$14,0)","v":0},{"$f":"IF(AND(A797<=$B$20,$S$15),$T$15,0)","v":0},{"$f":"IF(AND(A797<=$B$20,$S$16),$T$16,0)","v":0},{"$f":"IF(AND(A797<=$B$20,$S$17),$T$17,0)","v":0},{"$f":"IF(AND(A797<=$B$20,$S$18),$T$18,0)","v":0},0,0,0,0,0,0,0,0,0,0,0,0,0]
[767,{"$f":"OFFSET(InputPriceData!B$10,CalculationsAndCharts!$A798+$A$11,0,1,1)","v":"00:00:00"},{"$f":"OFFSET(InputPriceData!G$10,CalculationsAndCharts!$A798+$A$11,0,1,1)","v":0},{"$f":"OFFSET(InputPriceData!C$10,CalculationsAndCharts!$A798+$A$11,0,1,1)","v":0},{"$f":"OFFSET(InputPriceData!D$10,CalculationsAndCharts!$A798+$A$11,0,1,1)","v":0},{"$f":"OFFSET(InputPriceData!E$10,CalculationsAndCharts!$A798+$A$11,0,1,1)","v":0},{"$f":"OFFSET(InputPriceData!F$10,CalculationsAndCharts!$A798+$A$11,0,1,1)","v":0},{"$f":"IF(AND(A798<=$B$20,$S$14),$T$14,0)","v":0},{"$f":"IF(AND(A798<=$B$20,$S$15),$T$15,0)","v":0},{"$f":"IF(AND(A798<=$B$20,$S$16),$T$16,0)","v":0},{"$f":"IF(AND(A798<=$B$20,$S$17),$T$17,0)","v":0},{"$f":"IF(AND(A798<=$B$20,$S$18),$T$18,0)","v":0},0,0,0,0,0,0,0,0,0,0,0,0,0]
[768,{"$f":"OFFSET(InputPriceData!B$10,CalculationsAndCharts!$A799+$A$11,0,1,1)","v":"00:00:00"},{"$f":"OFFSET(InputPriceData!G$10,CalculationsAndCharts!$A799+$A$11,0,1,1)","v":0},{"$f":"OFFSET(InputPriceData!C$10,CalculationsAndCharts!$A799+$A$11,0,1,1)","v":0},{"$f":"OFFSET(InputPriceData!D$10,CalculationsAndCharts!$A799+$A$11,0,1,1)","v":0},{"$f":"OFFSET(InputPriceData!E$10,CalculationsAndCharts!$A799+$A$11,0,1,1)","v":0},{"$f":"OFFSET(InputPriceData!F$10,CalculationsAndCharts!$A799+$A$11,0,1,1)","v":0},{"$f":"IF(AND(A799<=$B$20,$S$14),$T$14,0)","v":0},{"$f":"IF(AND(A799<=$B$20,$S$15),$T$15,0)","v":0},{"$f":"IF(AND(A799<=$B$20,$S$16),$T$16,0)","v":0},{"$f":"IF(AND(A799<=$B$20,$S$17),$T$17,0)","v":0},{"$f":"IF(AND(A799<=$B$20,$S$18),$T$18,0)","v":0},0,0,0,0,0,0,0,0,0,0,0,0,0]
[769,{"$f":"OFFSET(InputPriceData!B$10,CalculationsAndCharts!$A800+$A$11,0,1,1)","v":"00:00:00"},{"$f":"OFFSET(InputPriceData!G$10,CalculationsAndCharts!$A800+$A$11,0,1,1)","v":0},{"$f":"OFFSET(InputPriceData!C$10,CalculationsAndCharts!$A800+$A$11,0,1,1)","v":0},{"$f":"OFFSET(InputPriceData!D$10,CalculationsAndCharts!$A800+$A$11,0,1,1)","v":0},{"$f":"OFFSET(InputPriceData!E$10,CalculationsAndCharts!$A800+$A$11,0,1,1)","v":0},{"$f":"OFFSET(InputPriceData!F$10,CalculationsAndCharts!$A800+$A$11,0,1,1)","v":0},{"$f":"IF(AND(A800<=$B$20,$S$14),$T$14,0)","v":0},{"$f":"IF(AND(A800<=$B$20,$S$15),$T$15,0)","v":0},{"$f":"IF(AND(A800<=$B$20,$S$16),$T$16,0)","v":0},{"$f":"IF(AND(A800<=$B$20,$S$17),$T$17,0)","v":0},{"$f":"IF(AND(A800<=$B$20,$S$18),$T$18,0)","v":0},0,0,0,0,0,0,{"$f":"IF($A800=$B$28,S$31,0)","v":0},0,0,0,0,0,0]
[770,{"$f":"OFFSET(InputPriceData!B$10,CalculationsAndCharts!$A801+$A$11,0,1,1)","v":"00:00:00"},{"$f":"OFFSET(InputPriceData!G$10,CalculationsAndCharts!$A801+$A$11,0,1,1)","v":0},{"$f":"OFFSET(InputPriceData!C$10,CalculationsAndCharts!$A801+$A$11,0,1,1)","v":0},{"$f":"OFFSET(InputPriceData!D$10,CalculationsAndCharts!$A801+$A$11,0,1,1)","v":0},{"$f":"OFFSET(InputPriceData!E$10,CalculationsAndCharts!$A801+$A$11,0,1,1)","v":0},{"$f":"OFFSET(InputPriceData!F$10,CalculationsAndCharts!$A801+$A$11,0,1,1)","v":0},{"$f":"IF(AND(A801<=$B$20,$S$14),$T$14,0)","v":0},{"$f":"IF(AND(A801<=$B$20,$S$15),$T$15,0)","v":0},{"$f":"IF(AND(A801<=$B$20,$S$16),$T$16,0)","v":0},{"$f":"IF(AND(A801<=$B$20,$S$17),$T$17,0)","v":0},{"$f":"IF(AND(A801<=$B$20,$S$18),$T$18,0)","v":0},{"$f":"IF(AND(A801<=$B$20,$S$8),$T$8,0)","v":0},{"$f":"IF(AND(A801<=$B$20,$S$7),$T$7,0)","v":0},{"$f":"IF(AND(A801<=$B$20,$S$6),$T$6,0)","v":0},{"$f":"IF(AND(A801<=$B$20,$S$5),$T$5,0)","v":0},{"$f":"IF(AND(A801<=$B$20,$S$4),$T$4,0)","v":0},{"$f":"IF(AND(A801>$B$20,A801<=($B$20+$C$18)),$T$10-Y801,0)","v":0},0,{"$f":"IF($A801=$B$27,S$31,0)","v":0},{"$f":"IF(AND(A801<=$B$20,A801>($B$20-$C$18)),$F$11,0)","v":0},{"$f":"IF(AND($S$10,A801>$B$20,A801<=($B$20+$C$18)),$T$10,0)","v":0},{"$f":"IF(AND($S$11,A801>$B$20,A801<=($B$20+$C$18)),$T$11,0)","v":0},{"$f":"IF(AND($S$12,A801>$B$20,A801<=($B$20+$C$18)),$T$12,0)","v":0},{"$f":"IF(AND(A801>$B$20,A801<=($B$20+$C$18)),$T$12,0)","v":0}]
[771,{"$f":"OFFSET(InputPriceData!B$10,CalculationsAndCharts!$A802+$A$11,0,1,1)","v":"00:00:00"},{"$f":"OFFSET(InputPriceData!G$10,CalculationsAndCharts!$A802+$A$11,0,1,1)","v":0},{"$f":"OFFSET(InputPriceData!C$10,CalculationsAndCharts!$A802+$A$11,0,1,1)","v":0},{"$f":"OFFSET(InputPriceData!D$10,CalculationsAndCharts!$A802+$A$11,0,1,1)","v":0},{"$f":"OFFSET(InputPriceData!E$10,CalculationsAndCharts!$A802+$A$11,0,1,1)","v":0},{"$f":"OFFSET(InputPriceData!F$10,CalculationsAndCharts!$A802+$A$11,0,1,1)","v":0},{"$f":"IF(AND(A802<=$B$20,$S$14),$T$14,0)","v":0},{"$f":"IF(AND(A802<=$B$20,$S$15),$T$15,0)","v":0},{"$f":"IF(AND(A802<=$B$20,$S$16),$T$16,0)","v":0},{"$f":"IF(AND(A802<=$B$20,$S$17),$T$17,0)","v":0},{"$f":"IF(AND(A802<=$B$20,$S$18),$T$18,0)","v":0},0,0,0,0,0,0,0,0,0,0,0,0,0]
[772,{"$f":"OFFSET(InputPriceData!B$10,CalculationsAndCharts!$A803+$A$11,0,1,1)","v":"00:00:00"},{"$f":"OFFSET(InputPriceData!G$10,CalculationsAndCharts!$A803+$A$11,0,1,1)","v":0},{"$f":"OFFSET(InputPriceData!C$10,CalculationsAndCharts!$A803+$A$11,0,1,1)","v":0},{"$f":"OFFSET(InputPriceData!D$10,CalculationsAndCharts!$A803+$A$11,0,1,1)","v":0},{"$f":"OFFSET(InputPriceData!E$10,CalculationsAndCharts!$A803+$A$11,0,1,1)","v":0},{"$f":"OFFSET(InputPriceData!F$10,CalculationsAndCharts!$A803+$A$11,0,1,1)","v":0},{"$f":"IF(AND(A803<=$B$20,$S$14),$T$14,0)","v":0},{"$f":"IF(AND(A803<=$B$20,$S$15),$T$15,0)","v":0},{"$f":"IF(AND(A803<=$B$20,$S$16),$T$16,0)","v":0},{"$f":"IF(AND(A803<=$B$20,$S$17),$T$17,0)","v":0},{"$f":"IF(AND(A803<=$B$20,$S$18),$T$18,0)","v":0},0,0,0,0,0,0,0,0,0,0,0,0,0]
[773,{"$f":"OFFSET(InputPriceData!B$10,CalculationsAndCharts!$A804+$A$11,0,1,1)","v":"00:00:00"},{"$f":"OFFSET(InputPriceData!G$10,CalculationsAndCharts!$A804+$A$11,0,1,1)","v":0},{"$f":"OFFSET(InputPriceData!C$10,CalculationsAndCharts!$A804+$A$11,0,1,1)","v":0},{"$f":"OFFSET(InputPriceData!D$10,CalculationsAndCharts!$A804+$A$11,0,1,1)","v":0},{"$f":"OFFSET(InputPriceData!E$10,CalculationsAndCharts!$A804+$A$11,0,1,1)","v":0},{"$f":"OFFSET(InputPriceData!F$10,CalculationsAndCharts!$A804+$A$11,0,1,1)","v":0},{"$f":"IF(AND(A804<=$B$20,$S$14),$T$14,0)","v":0},{"$f":"IF(AND(A804<=$B$20,$S$15),$T$15,0)","v":0},{"$f":"IF(AND(A804<=$B$20,$S$16),$T$16,0)","v":0},{"$f":"IF(AND(A804<=$B$20,$S$17),$T$17,0)","v":0},{"$f":"IF(AND(A804<=$B$20,$S$18),$T$18,0)","v":0},0,0,0,0,0,0,0,0,0,0,0,0,0]
[774,{"$f":"OFFSET(InputPriceData!B$10,CalculationsAndCharts!$A805+$A$11,0,1,1)","v":"00:00:00"},{"$f":"OFFSET(InputPriceData!G$10,CalculationsAndCharts!$A805+$A$11,0,1,1)","v":0},{"$f":"OFFSET(InputPriceData!C$10,CalculationsAndCharts!$A805+$A$11,0,1,1)","v":0},{"$f":"OFFSET(InputPriceData!D$10,CalculationsAndCharts!$A805+$A$11,0,1,1)","v":0},{"$f":"OFFSET(InputPriceData!E$10,CalculationsAndCharts!$A805+$A$11,0,1,1)","v":0},{"$f":"OFFSET(InputPriceData!F$10,CalculationsAndCharts!$A805+$A$11,0,1,1)","v":0},{"$f":"IF(AND(A805<=$B$20,$S$14),$T$14,0)","v":0},{"$f":"IF(AND(A805<=$B$20,$S$15),$T$15,0)","v":0},{"$f":"IF(AND(A805<=$B$20,$S$16),$T$16,0)","v":0},{"$f":"IF(AND(A805<=$B$20,$S$17),$T$17,0)","v":0},{"$f":"IF(AND(A805<=$B$20,$S$18),$T$18,0)","v":0},0,0,0,0,0,0,0,0,0,0,0,0,0]
[775,{"$f":"OFFSET(InputPriceData!B$10,CalculationsAndCharts!$A806+$A$11,0,1,1)","v":"00:00:00"},{"$f":"OFFSET(InputPriceData!G$10,CalculationsAndCharts!$A806+$A$11,0,1,1)","v":0},{"$f":"OFFSET(InputPriceData!C$10,CalculationsAndCharts!$A806+$A$11,0,1,1)","v":0},{"$f":"OFFSET(InputPriceData!D$10,CalculationsAndCharts!$A806+$A$11,0,1,1)","v":0},{"$f":"OFFSET(InputPriceData!E$10,CalculationsAndCharts!$A806+$A$11,0,1,1)","v":0},{"$f":"OFFSET(InputPriceData!F$10,CalculationsAndCharts!$A806+$A$11,0,1,1)","v":0},{"$f":"IF(AND(A806<=$B$20,$S$14),$T$14,0)","v":0},{"$f":"IF(AND(A806<=$B$20,$S$15),$T$15,0)","v":0},{"$f":"IF(AND(A806<=$B$20,$S$16),$T$16,0)","v":0},{"$f":"IF(AND(A806<=$B$20,$S$17),$T$17,0)","v":0},{"$f":"IF(AND(A806<=$B$20,$S$18),$T$18,0)","v":0},0,0,0,0,0,0,0,0,0,0,0,0,0]
[776,{"$f":"OFFSET(InputPriceData!B$10,CalculationsAndCharts!$A807+$A$11,0,1,1)","v":"00:00:00"},{"$f":"OFFSET(InputPriceData!G$10,CalculationsAndCharts!$A807+$A$11,0,1,1)","v":0},{"$f":"OFFSET(InputPriceData!C$10,CalculationsAndCharts!$A807+$A$11,0,1,1)","v":0},{"$f":"OFFSET(InputPriceData!D$10,CalculationsAndCharts!$A807+$A$11,0,1,1)","v":0},{"$f":"OFFSET(InputPriceData!E$10,CalculationsAndCharts!$A807+$A$11,0,1,1)","v":0},{"$f":"OFFSET(InputPriceData!F$10,CalculationsAndCharts!$A807+$A$11,0,1,1)","v":0},{"$f":"IF(AND(A807<=$B$20,$S$14),$T$14,0)","v":0},{"$f":"IF(AND(A807<=$B$20,$S$15),$T$15,0)","v":0},{"$f":"IF(AND(A807<=$B$20,$S$16),$T$16,0)","v":0},{"$f":"IF(AND(A807<=$B$20,$S$17),$T$17,0)","v":0},{"$f":"IF(AND(A807<=$B$20,$S$18),$T$18,0)","v":0},0,0,0,0,0,0,0,0,0,0,0,0,0]
[777,{"$f":"OFFSET(InputPriceData!B$10,CalculationsAndCharts!$A808+$A$11,0,1,1)","v":"00:00:00"},{"$f":"OFFSET(InputPriceData!G$10,CalculationsAndCharts!$A808+$A$11,0,1,1)","v":0},{"$f":"OFFSET(InputPriceData!C$10,CalculationsAndCharts!$A808+$A$11,0,1,1)","v":0},{"$f":"OFFSET(InputPriceData!D$10,CalculationsAndCharts!$A808+$A$11,0,1,1)","v":0},{"$f":"OFFSET(InputPriceData!E$10,CalculationsAndCharts!$A808+$A$11,0,1,1)","v":0},{"$f":"OFFSET(InputPriceData!F$10,CalculationsAndCharts!$A808+$A$11,0,1,1)","v":0},{"$f":"IF(AND(A808<=$B$20,$S$14),$T$14,0)","v":0},{"$f":"IF(AND(A808<=$B$20,$S$15),$T$15,0)","v":0},{"$f":"IF(AND(A808<=$B$20,$S$16),$T$16,0)","v":0},{"$f":"IF(AND(A808<=$B$20,$S$17),$T$17,0)","v":0},{"$f":"IF(AND(A808<=$B$20,$S$18),$T$18,0)","v":0},0,0,0,0,0,0,0,0,0,0,0,0,0]
[778,{"$f":"OFFSET(InputPriceData!B$10,CalculationsAndCharts!$A809+$A$11,0,1,1)","v":"00:00:00"},{"$f":"OFFSET(InputPriceData!G$10,CalculationsAndCharts!$A809+$A$11,0,1,1)","v":0},{"$f":"OFFSET(InputPriceData!C$10,CalculationsAndCharts!$A809+$A$11,0,1,1)","v":0},{"$f":"OFFSET(InputPriceData!D$10,CalculationsAndCharts!$A809+$A$11,0,1,1)","v":0},{"$f":"OFFSET(InputPriceData!E$10,CalculationsAndCharts!$A809+$A$11,0,1,1)","v":0},{"$f":"OFFSET(InputPriceData!F$10,CalculationsAndCharts!$A809+$A$11,0,1,1)","v":0},{"$f":"IF(AND(A809<=$B$20,$S$14),$T$14,0)","v":0},{"$f":"IF(AND(A809<=$B$20,$S$15),$T$15,0)","v":0},{"$f":"IF(AND(A809<=$B$20,$S$16),$T$16,0)","v":0},{"$f":"IF(AND(A809<=$B$20,$S$17),$T$17,0)","v":0},{"$f":"IF(AND(A809<=$B$20,$S$18),$T$18,0)","v":0},0,0,0,0,0,0,0,0,0,0,0,0,0]
[779,{"$f":"OFFSET(InputPriceData!B$10,CalculationsAndCharts!$A810+$A$11,0,1,1)","v":"00:00:00"},{"$f":"OFFSET(InputPriceData!G$10,CalculationsAndCharts!$A810+$A$11,0,1,1)","v":0},{"$f":"OFFSET(InputPriceData!C$10,CalculationsAndCharts!$A810+$A$11,0,1,1)","v":0},{"$f":"OFFSET(InputPriceData!D$10,CalculationsAndCharts!$A810+$A$11,0,1,1)","v":0},{"$f":"OFFSET(InputPriceData!E$10,CalculationsAndCharts!$A810+$A$11,0,1,1)","v":0},{"$f":"OFFSET(InputPriceData!F$10,CalculationsAndCharts!$A810+$A$11,0,1,1)","v":0},{"$f":"IF(AND(A810<=$B$20,$S$14),$T$14,0)","v":0},{"$f":"IF(AND(A810<=$B$20,$S$15),$T$15,0)","v":0},{"$f":"IF(AND(A810<=$B$20,$S$16),$T$16,0)","v":0},{"$f":"IF(AND(A810<=$B$20,$S$17),$T$17,0)","v":0},{"$f":"IF(AND(A810<=$B$20,$S$18),$T$18,0)","v":0},0,0,0,0,0,0,0,0,0,0,0,0,0]
[780,{"$f":"OFFSET(InputPriceData!B$10,CalculationsAndCharts!$A811+$A$11,0,1,1)","v":"00:00:00"},{"$f":"OFFSET(InputPriceData!G$10,CalculationsAndCharts!$A811+$A$11,0,1,1)","v":0},{"$f":"OFFSET(InputPriceData!C$10,CalculationsAndCharts!$A811+$A$11,0,1,1)","v":0},{"$f":"OFFSET(InputPriceData!D$10,CalculationsAndCharts!$A811+$A$11,0,1,1)","v":0},{"$f":"OFFSET(InputPriceData!E$10,CalculationsAndCharts!$A811+$A$11,0,1,1)","v":0},{"$f":"OFFSET(InputPriceData!F$10,CalculationsAndCharts!$A811+$A$11,0,1,1)","v":0},{"$f":"IF(AND(A811<=$B$20,$S$14),$T$14,0)","v":0},{"$f":"IF(AND(A811<=$B$20,$S$15),$T$15,0)","v":0},{"$f":"IF(AND(A811<=$B$20,$S$16),$T$16,0)","v":0},{"$f":"IF(AND(A811<=$B$20,$S$17),$T$17,0)","v":0},{"$f":"IF(AND(A811<=$B$20,$S$18),$T$18,0)","v":0},0,0,0,0,0,0,0,0,0,0,0,0,0]
[781,{"$f":"OFFSET(InputPriceData!B$10,CalculationsAndCharts!$A812+$A$11,0,1,1)","v":"00:00:00"},{"$f":"OFFSET(InputPriceData!G$10,CalculationsAndCharts!$A812+$A$11,0,1,1)","v":0},{"$f":"OFFSET(InputPriceData!C$10,CalculationsAndCharts!$A812+$A$11,0,1,1)","v":0},{"$f":"OFFSET(InputPriceData!D$10,CalculationsAndCharts!$A812+$A$11,0,1,1)","v":0},{"$f":"OFFSET(InputPriceData!E$10,CalculationsAndCharts!$A812+$A$11,0,1,1)","v":0},{"$f":"OFFSET(InputPriceData!F$10,CalculationsAndCharts!$A812+$A$11,0,1,1)","v":0},{"$f":"IF(AND(A812<=$B$20,$S$14),$T$14,0)","v":0},{"$f":"IF(AND(A812<=$B$20,$S$15),$T$15,0)","v":0},{"$f":"IF(AND(A812<=$B$20,$S$16),$T$16,0)","v":0},{"$f":"IF(AND(A812<=$B$20,$S$17),$T$17,0)","v":0},{"$f":"IF(AND(A812<=$B$20,$S$18),$T$18,0)","v":0},0,0,0,0,0,0,0,0,0,0,0,0,0]
[782,{"$f":"OFFSET(InputPriceData!B$10,CalculationsAndCharts!$A813+$A$11,0,1,1)","v":"00:00:00"},{"$f":"OFFSET(InputPriceData!G$10,CalculationsAndCharts!$A813+$A$11,0,1,1)","v":0},{"$f":"OFFSET(InputPriceData!C$10,CalculationsAndCharts!$A813+$A$11,0,1,1)","v":0},{"$f":"OFFSET(InputPriceData!D$10,CalculationsAndCharts!$A813+$A$11,0,1,1)","v":0},{"$f":"OFFSET(InputPriceData!E$10,CalculationsAndCharts!$A813+$A$11,0,1,1)","v":0},{"$f":"OFFSET(InputPriceData!F$10,CalculationsAndCharts!$A813+$A$11,0,1,1)","v":0},{"$f":"IF(AND(A813<=$B$20,$S$14),$T$14,0)","v":0},{"$f":"IF(AND(A813<=$B$20,$S$15),$T$15,0)","v":0},{"$f":"IF(AND(A813<=$B$20,$S$16),$T$16,0)","v":0},{"$f":"IF(AND(A813<=$B$20,$S$17),$T$17,0)","v":0},{"$f":"IF(AND(A813<=$B$20,$S$18),$T$18,0)","v":0},0,0,0,0,0,0,0,0,0,0,0,0,0]
[783,{"$f":"OFFSET(InputPriceData!B$10,CalculationsAndCharts!$A814+$A$11,0,1,1)","v":"00:00:00"},{"$f":"OFFSET(InputPriceData!G$10,CalculationsAndCharts!$A814+$A$11,0,1,1)","v":0},{"$f":"OFFSET(InputPriceData!C$10,CalculationsAndCharts!$A814+$A$11,0,1,1)","v":0},{"$f":"OFFSET(InputPriceData!D$10,CalculationsAndCharts!$A814+$A$11,0,1,1)","v":0},{"$f":"OFFSET(InputPriceData!E$10,CalculationsAndCharts!$A814+$A$11,0,1,1)","v":0},{"$f":"OFFSET(InputPriceData!F$10,CalculationsAndCharts!$A814+$A$11,0,1,1)","v":0},{"$f":"IF(AND(A814<=$B$20,$S$14),$T$14,0)","v":0},{"$f":"IF(AND(A814<=$B$20,$S$15),$T$15,0)","v":0},{"$f":"IF(AND(A814<=$B$20,$S$16),$T$16,0)","v":0},{"$f":"IF(AND(A814<=$B$20,$S$17),$T$17,0)","v":0},{"$f":"IF(AND(A814<=$B$20,$S$18),$T$18,0)","v":0},0,0,0,0,0,0,0,0,0,0,0,0,0]
[784,{"$f":"OFFSET(InputPriceData!B$10,CalculationsAndCharts!$A815+$A$11,0,1,1)","v":"00:00:00"},{"$f":"OFFSET(InputPriceData!G$10,CalculationsAndCharts!$A815+$A$11,0,1,1)","v":0},{"$f":"OFFSET(InputPriceData!C$10,CalculationsAndCharts!$A815+$A$11,0,1,1)","v":0},{"$f":"OFFSET(InputPriceData!D$10,CalculationsAndCharts!$A815+$A$11,0,1,1)","v":0},{"$f":"OFFSET(InputPriceData!E$10,CalculationsAndCharts!$A815+$A$11,0,1,1)","v":0},{"$f":"OFFSET(InputPriceData!F$10,CalculationsAndCharts!$A815+$A$11,0,1,1)","v":0},{"$f":"IF(AND(A815<=$B$20,$S$14),$T$14,0)","v":0},{"$f":"IF(AND(A815<=$B$20,$S$15),$T$15,0)","v":0},{"$f":"IF(AND(A815<=$B$20,$S$16),$T$16,0)","v":0},{"$f":"IF(AND(A815<=$B$20,$S$17),$T$17,0)","v":0},{"$f":"IF(AND(A815<=$B$20,$S$18),$T$18,0)","v":0},0,0,0,0,0,0,0,0,0,0,0,0,0]
[785,{"$f":"OFFSET(InputPriceData!B$10,CalculationsAndCharts!$A816+$A$11,0,1,1)","v":"00:00:00"},{"$f":"OFFSET(InputPriceData!G$10,CalculationsAndCharts!$A816+$A$11,0,1,1)","v":0},{"$f":"OFFSET(InputPriceData!C$10,CalculationsAndCharts!$A816+$A$11,0,1,1)","v":0},{"$f":"OFFSET(InputPriceData!D$10,CalculationsAndCharts!$A816+$A$11,0,1,1)","v":0},{"$f":"OFFSET(InputPriceData!E$10,CalculationsAndCharts!$A816+$A$11,0,1,1)","v":0},{"$f":"OFFSET(InputPriceData!F$10,CalculationsAndCharts!$A816+$A$11,0,1,1)","v":0},{"$f":"IF(AND(A816<=$B$20,$S$14),$T$14,0)","v":0},{"$f":"IF(AND(A816<=$B$20,$S$15),$T$15,0)","v":0},{"$f":"IF(AND(A816<=$B$20,$S$16),$T$16,0)","v":0},{"$f":"IF(AND(A816<=$B$20,$S$17),$T$17,0)","v":0},{"$f":"IF(AND(A816<=$B$20,$S$18),$T$18,0)","v":0},0,0,0,0,0,0,0,0,0,0,0,0,0]
[786,{"$f":"OFFSET(InputPriceData!B$10,CalculationsAndCharts!$A817+$A$11,0,1,1)","v":"00:00:00"},{"$f":"OFFSET(InputPriceData!G$10,CalculationsAndCharts!$A817+$A$11,0,1,1)","v":0},{"$f":"OFFSET(InputPriceData!C$10,CalculationsAndCharts!$A817+$A$11,0,1,1)","v":0},{"$f":"OFFSET(InputPriceData!D$10,CalculationsAndCharts!$A817+$A$11,0,1,1)","v":0},{"$f":"OFFSET(InputPriceData!E$10,CalculationsAndCharts!$A817+$A$11,0,1,1)","v":0},{"$f":"OFFSET(InputPriceData!F$10,CalculationsAndCharts!$A817+$A$11,0,1,1)","v":0},{"$f":"IF(AND(A817<=$B$20,$S$14),$T$14,0)","v":0},{"$f":"IF(AND(A817<=$B$20,$S$15),$T$15,0)","v":0},{"$f":"IF(AND(A817<=$B$20,$S$16),$T$16,0)","v":0},{"$f":"IF(AND(A817<=$B$20,$S$17),$T$17,0)","v":0},{"$f":"IF(AND(A817<=$B$20,$S$18),$T$18,0)","v":0},0,0,0,0,0,0,0,0,0,0,0,0,0]
[787,{"$f":"OFFSET(InputPriceData!B$10,CalculationsAndCharts!$A818+$A$11,0,1,1)","v":"00:00:00"},{"$f":"OFFSET(InputPriceData!G$10,CalculationsAndCharts!$A818+$A$11,0,1,1)","v":0},{"$f":"OFFSET(InputPriceData!C$10,CalculationsAndCharts!$A818+$A$11,0,1,1)","v":0},{"$f":"OFFSET(InputPriceData!D$10,CalculationsAndCharts!$A818+$A$11,0,1,1)","v":0},{"$f":"OFFSET(InputPriceData!E$10,CalculationsAndCharts!$A818+$A$11,0,1,1)","v":0},{"$f":"OFFSET(InputPriceData!F$10,CalculationsAndCharts!$A818+$A$11,0,1,1)","v":0},{"$f":"IF(AND(A818<=$B$20,$S$14),$T$14,0)","v":0},{"$f":"IF(AND(A818<=$B$20,$S$15),$T$15,0)","v":0},{"$f":"IF(AND(A818<=$B$20,$S$16),$T$16,0)","v":0},{"$f":"IF(AND(A818<=$B$20,$S$17),$T$17,0)","v":0},{"$f":"IF(AND(A818<=$B$20,$S$18),$T$18,0)","v":0},0,0,0,0,0,0,0,0,0,0,0,0,0]
[788,{"$f":"OFFSET(InputPriceData!B$10,CalculationsAndCharts!$A819+$A$11,0,1,1)","v":"00:00:00"},{"$f":"OFFSET(InputPriceData!G$10,CalculationsAndCharts!$A819+$A$11,0,1,1)","v":0},{"$f":"OFFSET(InputPriceData!C$10,CalculationsAndCharts!$A819+$A$11,0,1,1)","v":0},{"$f":"OFFSET(InputPriceData!D$10,CalculationsAndCharts!$A819+$A$11,0,1,1)","v":0},{"$f":"OFFSET(InputPriceData!E$10,CalculationsAndCharts!$A819+$A$11,0,1,1)","v":0},{"$f":"OFFSET(InputPriceData!F$10,CalculationsAndCharts!$A819+$A$11,0,1,1)","v":0},{"$f":"IF(AND(A819<=$B$20,$S$14),$T$14,0)","v":0},{"$f":"IF(AND(A819<=$B$20,$S$15),$T$15,0)","v":0},{"$f":"IF(AND(A819<=$B$20,$S$16),$T$16,0)","v":0},{"$f":"IF(AND(A819<=$B$20,$S$17),$T$17,0)","v":0},{"$f":"IF(AND(A819<=$B$20,$S$18),$T$18,0)","v":0},0,0,0,0,0,0,0,0,0,0,0,0,0]
[789,{"$f":"OFFSET(InputPriceData!B$10,CalculationsAndCharts!$A820+$A$11,0,1,1)","v":"00:00:00"},{"$f":"OFFSET(InputPriceData!G$10,CalculationsAndCharts!$A820+$A$11,0,1,1)","v":0},{"$f":"OFFSET(InputPriceData!C$10,CalculationsAndCharts!$A820+$A$11,0,1,1)","v":0},{"$f":"OFFSET(InputPriceData!D$10,CalculationsAndCharts!$A820+$A$11,0,1,1)","v":0},{"$f":"OFFSET(InputPriceData!E$10,CalculationsAndCharts!$A820+$A$11,0,1,1)","v":0},{"$f":"OFFSET(InputPriceData!F$10,CalculationsAndCharts!$A820+$A$11,0,1,1)","v":0},{"$f":"IF(AND(A820<=$B$20,$S$14),$T$14,0)","v":0},{"$f":"IF(AND(A820<=$B$20,$S$15),$T$15,0)","v":0},{"$f":"IF(AND(A820<=$B$20,$S$16),$T$16,0)","v":0},{"$f":"IF(AND(A820<=$B$20,$S$17),$T$17,0)","v":0},{"$f":"IF(AND(A820<=$B$20,$S$18),$T$18,0)","v":0},0,0,0,0,0,0,0,0,0,0,0,0,0]
[790,{"$f":"OFFSET(InputPriceData!B$10,CalculationsAndCharts!$A821+$A$11,0,1,1)","v":"00:00:00"},{"$f":"OFFSET(InputPriceData!G$10,CalculationsAndCharts!$A821+$A$11,0,1,1)","v":0},{"$f":"OFFSET(InputPriceData!C$10,CalculationsAndCharts!$A821+$A$11,0,1,1)","v":0},{"$f":"OFFSET(InputPriceData!D$10,CalculationsAndCharts!$A821+$A$11,0,1,1)","v":0},{"$f":"OFFSET(InputPriceData!E$10,CalculationsAndCharts!$A821+$A$11,0,1,1)","v":0},{"$f":"OFFSET(InputPriceData!F$10,CalculationsAndCharts!$A821+$A$11,0,1,1)","v":0},{"$f":"IF(AND(A821<=$B$20,$S$14),$T$14,0)","v":0},{"$f":"IF(AND(A821<=$B$20,$S$15),$T$15,0)","v":0},{"$f":"IF(AND(A821<=$B$20,$S$16),$T$16,0)","v":0},{"$f":"IF(AND(A821<=$B$20,$S$17),$T$17,0)","v":0},{"$f":"IF(AND(A821<=$B$20,$S$18),$T$18,0)","v":0},0,0,0,0,0,0,0,0,0,0,0,0,0]
[791,{"$f":"OFFSET(InputPriceData!B$10,CalculationsAndCharts!$A822+$A$11,0,1,1)","v":"00:00:00"},{"$f":"OFFSET(InputPriceData!G$10,CalculationsAndCharts!$A822+$A$11,0,1,1)","v":0},{"$f":"OFFSET(InputPriceData!C$10,CalculationsAndCharts!$A822+$A$11,0,1,1)","v":0},{"$f":"OFFSET(InputPriceData!D$10,CalculationsAndCharts!$A822+$A$11,0,1,1)","v":0},{"$f":"OFFSET(InputPriceData!E$10,CalculationsAndCharts!$A822+$A$11,0,1,1)","v":0},{"$f":"OFFSET(InputPriceData!F$10,CalculationsAndCharts!$A822+$A$11,0,1,1)","v":0},{"$f":"IF(AND(A822<=$B$20,$S$14),$T$14,0)","v":0},{"$f":"IF(AND(A822<=$B$20,$S$15),$T$15,0)","v":0},{"$f":"IF(AND(A822<=$B$20,$S$16),$T$16,0)","v":0},{"$f":"IF(AND(A822<=$B$20,$S$17),$T$17,0)","v":0},{"$f":"IF(AND(A822<=$B$20,$S$18),$T$18,0)","v":0},0,0,0,0,0,0,0,0,0,0,0,0,0]
[792,{"$f":"OFFSET(InputPriceData!B$10,CalculationsAndCharts!$A823+$A$11,0,1,1)","v":"00:00:00"},{"$f":"OFFSET(InputPriceData!G$10,CalculationsAndCharts!$A823+$A$11,0,1,1)","v":0},{"$f":"OFFSET(InputPriceData!C$10,CalculationsAndCharts!$A823+$A$11,0,1,1)","v":0},{"$f":"OFFSET(InputPriceData!D$10,CalculationsAndCharts!$A823+$A$11,0,1,1)","v":0},{"$f":"OFFSET(InputPriceData!E$10,CalculationsAndCharts!$A823+$A$11,0,1,1)","v":0},{"$f":"OFFSET(InputPriceData!F$10,CalculationsAndCharts!$A823+$A$11,0,1,1)","v":0},{"$f":"IF(AND(A823<=$B$20,$S$14),$T$14,0)","v":0},{"$f":"IF(AND(A823<=$B$20,$S$15),$T$15,0)","v":0},{"$f":"IF(AND(A823<=$B$20,$S$16),$T$16,0)","v":0},{"$f":"IF(AND(A823<=$B$20,$S$17),$T$17,0)","v":0},{"$f":"IF(AND(A823<=$B$20,$S$18),$T$18,0)","v":0},0,0,0,0,0,0,0,0,0,0,0,0,0]
[793,{"$f":"OFFSET(InputPriceData!B$10,CalculationsAndCharts!$A824+$A$11,0,1,1)","v":"00:00:00"},{"$f":"OFFSET(InputPriceData!G$10,CalculationsAndCharts!$A824+$A$11,0,1,1)","v":0},{"$f":"OFFSET(InputPriceData!C$10,CalculationsAndCharts!$A824+$A$11,0,1,1)","v":0},{"$f":"OFFSET(InputPriceData!D$10,CalculationsAndCharts!$A824+$A$11,0,1,1)","v":0},{"$f":"OFFSET(InputPriceData!E$10,CalculationsAndCharts!$A824+$A$11,0,1,1)","v":0},{"$f":"OFFSET(InputPriceData!F$10,CalculationsAndCharts!$A824+$A$11,0,1,1)","v":0},{"$f":"IF(AND(A824<=$B$20,$S$14),$T$14,0)","v":0},{"$f":"IF(AND(A824<=$B$20,$S$15),$T$15,0)","v":0},{"$f":"IF(AND(A824<=$B$20,$S$16),$T$16,0)","v":0},{"$f":"IF(AND(A824<=$B$20,$S$17),$T$17,0)","v":0},{"$f":"IF(AND(A824<=$B$20,$S$18),$T$18,0)","v":0},0,0,0,0,0,0,0,0,0,0,0,0,0]
[794,{"$f":"OFFSET(InputPriceData!B$10,CalculationsAndCharts!$A825+$A$11,0,1,1)","v":"00:00:00"},{"$f":"OFFSET(InputPriceData!G$10,CalculationsAndCharts!$A825+$A$11,0,1,1)","v":0},{"$f":"OFFSET(InputPriceData!C$10,CalculationsAndCharts!$A825+$A$11,0,1,1)","v":0},{"$f":"OFFSET(InputPriceData!D$10,CalculationsAndCharts!$A825+$A$11,0,1,1)","v":0},{"$f":"OFFSET(InputPriceData!E$10,CalculationsAndCharts!$A825+$A$11,0,1,1)","v":0},{"$f":"OFFSET(InputPriceData!F$10,CalculationsAndCharts!$A825+$A$11,0,1,1)","v":0},{"$f":"IF(AND(A825<=$B$20,$S$14),$T$14,0)","v":0},{"$f":"IF(AND(A825<=$B$20,$S$15),$T$15,0)","v":0},{"$f":"IF(AND(A825<=$B$20,$S$16),$T$16,0)","v":0},{"$f":"IF(AND(A825<=$B$20,$S$17),$T$17,0)","v":0},{"$f":"IF(AND(A825<=$B$20,$S$18),$T$18,0)","v":0},0,0,0,0,0,0,0,0,0,0,0,0,0]
[795,{"$f":"OFFSET(InputPriceData!B$10,CalculationsAndCharts!$A826+$A$11,0,1,1)","v":"00:00:00"},{"$f":"OFFSET(InputPriceData!G$10,CalculationsAndCharts!$A826+$A$11,0,1,1)","v":0},{"$f":"OFFSET(InputPriceData!C$10,CalculationsAndCharts!$A826+$A$11,0,1,1)","v":0},{"$f":"OFFSET(InputPriceData!D$10,CalculationsAndCharts!$A826+$A$11,0,1,1)","v":0},{"$f":"OFFSET(InputPriceData!E$10,CalculationsAndCharts!$A826+$A$11,0,1,1)","v":0},{"$f":"OFFSET(InputPriceData!F$10,CalculationsAndCharts!$A826+$A$11,0,1,1)","v":0},{"$f":"IF(AND(A826<=$B$20,$S$14),$T$14,0)","v":0},{"$f":"IF(AND(A826<=$B$20,$S$15),$T$15,0)","v":0},{"$f":"IF(AND(A826<=$B$20,$S$16),$T$16,0)","v":0},{"$f":"IF(AND(A826<=$B$20,$S$17),$T$17,0)","v":0},{"$f":"IF(AND(A826<=$B$20,$S$18),$T$18,0)","v":0},0,0,0,0,0,0,0,0,0,0,0,0,0]
[796,{"$f":"OFFSET(InputPriceData!B$10,CalculationsAndCharts!$A827+$A$11,0,1,1)","v":"00:00:00"},{"$f":"OFFSET(InputPriceData!G$10,CalculationsAndCharts!$A827+$A$11,0,1,1)","v":0},{"$f":"OFFSET(InputPriceData!C$10,CalculationsAndCharts!$A827+$A$11,0,1,1)","v":0},{"$f":"OFFSET(InputPriceData!D$10,CalculationsAndCharts!$A827+$A$11,0,1,1)","v":0},{"$f":"OFFSET(InputPriceData!E$10,CalculationsAndCharts!$A827+$A$11,0,1,1)","v":0},{"$f":"OFFSET(InputPriceData!F$10,CalculationsAndCharts!$A827+$A$11,0,1,1)","v":0},{"$f":"IF(AND(A827<=$B$20,$S$14),$T$14,0)","v":0},{"$f":"IF(AND(A827<=$B$20,$S$15),$T$15,0)","v":0},{"$f":"IF(AND(A827<=$B$20,$S$16),$T$16,0)","v":0},{"$f":"IF(AND(A827<=$B$20,$S$17),$T$17,0)","v":0},{"$f":"IF(AND(A827<=$B$20,$S$18),$T$18,0)","v":0},0,0,0,0,0,0,0,0,0,0,0,0,0]
[797,{"$f":"OFFSET(InputPriceData!B$10,CalculationsAndCharts!$A828+$A$11,0,1,1)","v":"00:00:00"},{"$f":"OFFSET(InputPriceData!G$10,CalculationsAndCharts!$A828+$A$11,0,1,1)","v":0},{"$f":"OFFSET(InputPriceData!C$10,CalculationsAndCharts!$A828+$A$11,0,1,1)","v":0},{"$f":"OFFSET(InputPriceData!D$10,CalculationsAndCharts!$A828+$A$11,0,1,1)","v":0},{"$f":"OFFSET(InputPriceData!E$10,CalculationsAndCharts!$A828+$A$11,0,1,1)","v":0},{"$f":"OFFSET(InputPriceData!F$10,CalculationsAndCharts!$A828+$A$11,0,1,1)","v":0},{"$f":"IF(AND(A828<=$B$20,$S$14),$T$14,0)","v":0},{"$f":"IF(AND(A828<=$B$20,$S$15),$T$15,0)","v":0},{"$f":"IF(AND(A828<=$B$20,$S$16),$T$16,0)","v":0},{"$f":"IF(AND(A828<=$B$20,$S$17),$T$17,0)","v":0},{"$f":"IF(AND(A828<=$B$20,$S$18),$T$18,0)","v":0},0,0,0,0,0,0,0,0,0,0,0,0,0]
[798,{"$f":"OFFSET(InputPriceData!B$10,CalculationsAndCharts!$A829+$A$11,0,1,1)","v":"00:00:00"},{"$f":"OFFSET(InputPriceData!G$10,CalculationsAndCharts!$A829+$A$11,0,1,1)","v":0},{"$f":"OFFSET(InputPriceData!C$10,CalculationsAndCharts!$A829+$A$11,0,1,1)","v":0},{"$f":"OFFSET(InputPriceData!D$10,CalculationsAndCharts!$A829+$A$11,0,1,1)","v":0},{"$f":"OFFSET(InputPriceData!E$10,CalculationsAndCharts!$A829+$A$11,0,1,1)","v":0},{"$f":"OFFSET(InputPriceData!F$10,CalculationsAndCharts!$A829+$A$11,0,1,1)","v":0},{"$f":"IF(AND(A829<=$B$20,$S$14),$T$14,0)","v":0},{"$f":"IF(AND(A829<=$B$20,$S$15),$T$15,0)","v":0},{"$f":"IF(AND(A829<=$B$20,$S$16),$T$16,0)","v":0},{"$f":"IF(AND(A829<=$B$20,$S$17),$T$17,0)","v":0},{"$f":"IF(AND(A829<=$B$20,$S$18),$T$18,0)","v":0},0,0,0,0,0,0,0,0,0,0,0,0,0]
[799,{"$f":"OFFSET(InputPriceData!B$10,CalculationsAndCharts!$A830+$A$11,0,1,1)","v":"00:00:00"},{"$f":"OFFSET(InputPriceData!G$10,CalculationsAndCharts!$A830+$A$11,0,1,1)","v":0},{"$f":"OFFSET(InputPriceData!C$10,CalculationsAndCharts!$A830+$A$11,0,1,1)","v":0},{"$f":"OFFSET(InputPriceData!D$10,CalculationsAndCharts!$A830+$A$11,0,1,1)","v":0},{"$f":"OFFSET(InputPriceData!E$10,CalculationsAndCharts!$A830+$A$11,0,1,1)","v":0},{"$f":"OFFSET(InputPriceData!F$10,CalculationsAndCharts!$A830+$A$11,0,1,1)","v":0},{"$f":"IF(AND(A830<=$B$20,$S$14),$T$14,0)","v":0},{"$f":"IF(AND(A830<=$B$20,$S$15),$T$15,0)","v":0},{"$f":"IF(AND(A830<=$B$20,$S$16),$T$16,0)","v":0},{"$f":"IF(AND(A830<=$B$20,$S$17),$T$17,0)","v":0},{"$f":"IF(AND(A830<=$B$20,$S$18),$T$18,0)","v":0},0,0,0,0,0,0,0,0,0,0,0,0,0]
[800,{"$f":"OFFSET(InputPriceData!B$10,CalculationsAndCharts!$A831+$A$11,0,1,1)","v":"00:00:00"},{"$f":"OFFSET(InputPriceData!G$10,CalculationsAndCharts!$A831+$A$11,0,1,1)","v":0},{"$f":"OFFSET(InputPriceData!C$10,CalculationsAndCharts!$A831+$A$11,0,1,1)","v":0},{"$f":"OFFSET(InputPriceData!D$10,CalculationsAndCharts!$A831+$A$11,0,1,1)","v":0},{"$f":"OFFSET(InputPriceData!E$10,CalculationsAndCharts!$A831+$A$11,0,1,1)","v":0},{"$f":"OFFSET(InputPriceData!F$10,CalculationsAndCharts!$A831+$A$11,0,1,1)","v":0},{"$f":"IF(AND(A831<=$B$20,$S$14),$T$14,0)","v":0},{"$f":"IF(AND(A831<=$B$20,$S$15),$T$15,0)","v":0},{"$f":"IF(AND(A831<=$B$20,$S$16),$T$16,0)","v":0},{"$f":"IF(AND(A831<=$B$20,$S$17),$T$17,0)","v":0},{"$f":"IF(AND(A831<=$B$20,$S$18),$T$18,0)","v":0},0,0,0,0,0,0,0,0,0,0,0,0,0]
[801,{"$f":"OFFSET(InputPriceData!B$10,CalculationsAndCharts!$A832+$A$11,0,1,1)","v":"00:00:00"},{"$f":"OFFSET(InputPriceData!G$10,CalculationsAndCharts!$A832+$A$11,0,1,1)","v":0},{"$f":"OFFSET(InputPriceData!C$10,CalculationsAndCharts!$A832+$A$11,0,1,1)","v":0},{"$f":"OFFSET(InputPriceData!D$10,CalculationsAndCharts!$A832+$A$11,0,1,1)","v":0},{"$f":"OFFSET(InputPriceData!E$10,CalculationsAndCharts!$A832+$A$11,0,1,1)","v":0},{"$f":"OFFSET(InputPriceData!F$10,CalculationsAndCharts!$A832+$A$11,0,1,1)","v":0},{"$f":"IF(AND(A832<=$B$20,$S$14),$T$14,0)","v":0},{"$f":"IF(AND(A832<=$B$20,$S$15),$T$15,0)","v":0},{"$f":"IF(AND(A832<=$B$20,$S$16),$T$16,0)","v":0},{"$f":"IF(AND(A832<=$B$20,$S$17),$T$17,0)","v":0},{"$f":"IF(AND(A832<=$B$20,$S$18),$T$18,0)","v":0},0,0,0,0,0,0,0,0,0,0,0,0,0]
[802,{"$f":"OFFSET(InputPriceData!B$10,CalculationsAndCharts!$A833+$A$11,0,1,1)","v":"00:00:00"},{"$f":"OFFSET(InputPriceData!G$10,CalculationsAndCharts!$A833+$A$11,0,1,1)","v":0},{"$f":"OFFSET(InputPriceData!C$10,CalculationsAndCharts!$A833+$A$11,0,1,1)","v":0},{"$f":"OFFSET(InputPriceData!D$10,CalculationsAndCharts!$A833+$A$11,0,1,1)","v":0},{"$f":"OFFSET(InputPriceData!E$10,CalculationsAndCharts!$A833+$A$11,0,1,1)","v":0},{"$f":"OFFSET(InputPriceData!F$10,CalculationsAndCharts!$A833+$A$11,0,1,1)","v":0},{"$f":"IF(AND(A833<=$B$20,$S$14),$T$14,0)","v":0},{"$f":"IF(AND(A833<=$B$20,$S$15),$T$15,0)","v":0},{"$f":"IF(AND(A833<=$B$20,$S$16),$T$16,0)","v":0},{"$f":"IF(AND(A833<=$B$20,$S$17),$T$17,0)","v":0},{"$f":"IF(AND(A833<=$B$20,$S$18),$T$18,0)","v":0},0,0,0,0,0,0,0,0,0,0,0,0,0]
[803,{"$f":"OFFSET(InputPriceData!B$10,CalculationsAndCharts!$A834+$A$11,0,1,1)","v":"00:00:00"},{"$f":"OFFSET(InputPriceData!G$10,CalculationsAndCharts!$A834+$A$11,0,1,1)","v":0},{"$f":"OFFSET(InputPriceData!C$10,CalculationsAndCharts!$A834+$A$11,0,1,1)","v":0},{"$f":"OFFSET(InputPriceData!D$10,CalculationsAndCharts!$A834+$A$11,0,1,1)","v":0},{"$f":"OFFSET(InputPriceData!E$10,CalculationsAndCharts!$A834+$A$11,0,1,1)","v":0},{"$f":"OFFSET(InputPriceData!F$10,CalculationsAndCharts!$A834+$A$11,0,1,1)","v":0},{"$f":"IF(AND(A834<=$B$20,$S$14),$T$14,0)","v":0},{"$f":"IF(AND(A834<=$B$20,$S$15),$T$15,0)","v":0},{"$f":"IF(AND(A834<=$B$20,$S$16),$T$16,0)","v":0},{"$f":"IF(AND(A834<=$B$20,$S$17),$T$17,0)","v":0},{"$f":"IF(AND(A834<=$B$20,$S$18),$T$18,0)","v":0},0,0,0,0,0,0,0,0,0,0,0,0,0]
[804,{"$f":"OFFSET(InputPriceData!B$10,CalculationsAndCharts!$A835+$A$11,0,1,1)","v":"00:00:00"},{"$f":"OFFSET(InputPriceData!G$10,CalculationsAndCharts!$A835+$A$11,0,1,1)","v":0},{"$f":"OFFSET(InputPriceData!C$10,CalculationsAndCharts!$A835+$A$11,0,1,1)","v":0},{"$f":"OFFSET(InputPriceData!D$10,CalculationsAndCharts!$A835+$A$11,0,1,1)","v":0},{"$f":"OFFSET(InputPriceData!E$10,CalculationsAndCharts!$A835+$A$11,0,1,1)","v":0},{"$f":"OFFSET(InputPriceData!F$10,CalculationsAndCharts!$A835+$A$11,0,1,1)","v":0},{"$f":"IF(AND(A835<=$B$20,$S$14),$T$14,0)","v":0},{"$f":"IF(AND(A835<=$B$20,$S$15),$T$15,0)","v":0},{"$f":"IF(AND(A835<=$B$20,$S$16),$T$16,0)","v":0},{"$f":"IF(AND(A835<=$B$20,$S$17),$T$17,0)","v":0},{"$f":"IF(AND(A835<=$B$20,$S$18),$T$18,0)","v":0},0,0,0,0,0,0,0,0,0,0,0,0,0]
[805,{"$f":"OFFSET(InputPriceData!B$10,CalculationsAndCharts!$A836+$A$11,0,1,1)","v":"00:00:00"},{"$f":"OFFSET(InputPriceData!G$10,CalculationsAndCharts!$A836+$A$11,0,1,1)","v":0},{"$f":"OFFSET(InputPriceData!C$10,CalculationsAndCharts!$A836+$A$11,0,1,1)","v":0},{"$f":"OFFSET(InputPriceData!D$10,CalculationsAndCharts!$A836+$A$11,0,1,1)","v":0},{"$f":"OFFSET(InputPriceData!E$10,CalculationsAndCharts!$A836+$A$11,0,1,1)","v":0},{"$f":"OFFSET(InputPriceData!F$10,CalculationsAndCharts!$A836+$A$11,0,1,1)","v":0},{"$f":"IF(AND(A836<=$B$20,$S$14),$T$14,0)","v":0},{"$f":"IF(AND(A836<=$B$20,$S$15),$T$15,0)","v":0},{"$f":"IF(AND(A836<=$B$20,$S$16),$T$16,0)","v":0},{"$f":"IF(AND(A836<=$B$20,$S$17),$T$17,0)","v":0},{"$f":"IF(AND(A836<=$B$20,$S$18),$T$18,0)","v":0},0,0,0,0,0,0,0,0,0,0,0,0,0]
[806,{"$f":"OFFSET(InputPriceData!B$10,CalculationsAndCharts!$A837+$A$11,0,1,1)","v":"00:00:00"},{"$f":"OFFSET(InputPriceData!G$10,CalculationsAndCharts!$A837+$A$11,0,1,1)","v":0},{"$f":"OFFSET(InputPriceData!C$10,CalculationsAndCharts!$A837+$A$11,0,1,1)","v":0},{"$f":"OFFSET(InputPriceData!D$10,CalculationsAndCharts!$A837+$A$11,0,1,1)","v":0},{"$f":"OFFSET(InputPriceData!E$10,CalculationsAndCharts!$A837+$A$11,0,1,1)","v":0},{"$f":"OFFSET(InputPriceData!F$10,CalculationsAndCharts!$A837+$A$11,0,1,1)","v":0},{"$f":"IF(AND(A837<=$B$20,$S$14),$T$14,0)","v":0},{"$f":"IF(AND(A837<=$B$20,$S$15),$T$15,0)","v":0},{"$f":"IF(AND(A837<=$B$20,$S$16),$T$16,0)","v":0},{"$f":"IF(AND(A837<=$B$20,$S$17),$T$17,0)","v":0},{"$f":"IF(AND(A837<=$B$20,$S$18),$T$18,0)","v":0},0,0,0,0,0,0,0,0,0,0,0,0,0]
[807,{"$f":"OFFSET(InputPriceData!B$10,CalculationsAndCharts!$A838+$A$11,0,1,1)","v":"00:00:00"},{"$f":"OFFSET(InputPriceData!G$10,CalculationsAndCharts!$A838+$A$11,0,1,1)","v":0},{"$f":"OFFSET(InputPriceData!C$10,CalculationsAndCharts!$A838+$A$11,0,1,1)","v":0},{"$f":"OFFSET(InputPriceData!D$10,CalculationsAndCharts!$A838+$A$11,0,1,1)","v":0},{"$f":"OFFSET(InputPriceData!E$10,CalculationsAndCharts!$A838+$A$11,0,1,1)","v":0},{"$f":"OFFSET(InputPriceData!F$10,CalculationsAndCharts!$A838+$A$11,0,1,1)","v":0},{"$f":"IF(AND(A838<=$B$20,$S$14),$T$14,0)","v":0},{"$f":"IF(AND(A838<=$B$20,$S$15),$T$15,0)","v":0},{"$f":"IF(AND(A838<=$B$20,$S$16),$T$16,0)","v":0},{"$f":"IF(AND(A838<=$B$20,$S$17),$T$17,0)","v":0},{"$f":"IF(AND(A838<=$B$20,$S$18),$T$18,0)","v":0},0,0,0,0,0,0,0,0,0,0,0,0,0]
[808,{"$f":"OFFSET(InputPriceData!B$10,CalculationsAndCharts!$A839+$A$11,0,1,1)","v":"00:00:00"},{"$f":"OFFSET(InputPriceData!G$10,CalculationsAndCharts!$A839+$A$11,0,1,1)","v":0},{"$f":"OFFSET(InputPriceData!C$10,CalculationsAndCharts!$A839+$A$11,0,1,1)","v":0},{"$f":"OFFSET(InputPriceData!D$10,CalculationsAndCharts!$A839+$A$11,0,1,1)","v":0},{"$f":"OFFSET(InputPriceData!E$10,CalculationsAndCharts!$A839+$A$11,0,1,1)","v":0},{"$f":"OFFSET(InputPriceData!F$10,CalculationsAndCharts!$A839+$A$11,0,1,1)","v":0},{"$f":"IF(AND(A839<=$B$20,$S$14),$T$14,0)","v":0},{"$f":"IF(AND(A839<=$B$20,$S$15),$T$15,0)","v":0},{"$f":"IF(AND(A839<=$B$20,$S$16),$T$16,0)","v":0},{"$f":"IF(AND(A839<=$B$20,$S$17),$T$17,0)","v":0},{"$f":"IF(AND(A839<=$B$20,$S$18),$T$18,0)","v":0},0,0,0,0,0,0,0,0,0,0,0,0,0]
[809,{"$f":"OFFSET(InputPriceData!B$10,CalculationsAndCharts!$A840+$A$11,0,1,1)","v":"00:00:00"},{"$f":"OFFSET(InputPriceData!G$10,CalculationsAndCharts!$A840+$A$11,0,1,1)","v":0},{"$f":"OFFSET(InputPriceData!C$10,CalculationsAndCharts!$A840+$A$11,0,1,1)","v":0},{"$f":"OFFSET(InputPriceData!D$10,CalculationsAndCharts!$A840+$A$11,0,1,1)","v":0},{"$f":"OFFSET(InputPriceData!E$10,CalculationsAndCharts!$A840+$A$11,0,1,1)","v":0},{"$f":"OFFSET(InputPriceData!F$10,CalculationsAndCharts!$A840+$A$11,0,1,1)","v":0},{"$f":"IF(AND(A840<=$B$20,$S$14),$T$14,0)","v":0},{"$f":"IF(AND(A840<=$B$20,$S$15),$T$15,0)","v":0},{"$f":"IF(AND(A840<=$B$20,$S$16),$T$16,0)","v":0},{"$f":"IF(AND(A840<=$B$20,$S$17),$T$17,0)","v":0},{"$f":"IF(AND(A840<=$B$20,$S$18),$T$18,0)","v":0},0,0,0,0,0,0,0,0,0,0,0,0,0]
[810,{"$f":"OFFSET(InputPriceData!B$10,CalculationsAndCharts!$A841+$A$11,0,1,1)","v":"00:00:00"},{"$f":"OFFSET(InputPriceData!G$10,CalculationsAndCharts!$A841+$A$11,0,1,1)","v":0},{"$f":"OFFSET(InputPriceData!C$10,CalculationsAndCharts!$A841+$A$11,0,1,1)","v":0},{"$f":"OFFSET(InputPriceData!D$10,CalculationsAndCharts!$A841+$A$11,0,1,1)","v":0},{"$f":"OFFSET(InputPriceData!E$10,CalculationsAndCharts!$A841+$A$11,0,1,1)","v":0},{"$f":"OFFSET(InputPriceData!F$10,CalculationsAndCharts!$A841+$A$11,0,1,1)","v":0},{"$f":"IF(AND(A841<=$B$20,$S$14),$T$14,0)","v":0},{"$f":"IF(AND(A841<=$B$20,$S$15),$T$15,0)","v":0},{"$f":"IF(AND(A841<=$B$20,$S$16),$T$16,0)","v":0},{"$f":"IF(AND(A841<=$B$20,$S$17),$T$17,0)","v":0},{"$f":"IF(AND(A841<=$B$20,$S$18),$T$18,0)","v":0},0,0,0,0,0,0,0,0,0,0,0,0,0]
[811,{"$f":"OFFSET(InputPriceData!B$10,CalculationsAndCharts!$A842+$A$11,0,1,1)","v":"00:00:00"},{"$f":"OFFSET(InputPriceData!G$10,CalculationsAndCharts!$A842+$A$11,0,1,1)","v":0},{"$f":"OFFSET(InputPriceData!C$10,CalculationsAndCharts!$A842+$A$11,0,1,1)","v":0},{"$f":"OFFSET(InputPriceData!D$10,CalculationsAndCharts!$A842+$A$11,0,1,1)","v":0},{"$f":"OFFSET(InputPriceData!E$10,CalculationsAndCharts!$A842+$A$11,0,1,1)","v":0},{"$f":"OFFSET(InputPriceData!F$10,CalculationsAndCharts!$A842+$A$11,0,1,1)","v":0},{"$f":"IF(AND(A842<=$B$20,$S$14),$T$14,0)","v":0},{"$f":"IF(AND(A842<=$B$20,$S$15),$T$15,0)","v":0},{"$f":"IF(AND(A842<=$B$20,$S$16),$T$16,0)","v":0},{"$f":"IF(AND(A842<=$B$20,$S$17),$T$17,0)","v":0},{"$f":"IF(AND(A842<=$B$20,$S$18),$T$18,0)","v":0},0,0,0,0,0,0,0,0,0,0,0,0,0]
[812,{"$f":"OFFSET(InputPriceData!B$10,CalculationsAndCharts!$A843+$A$11,0,1,1)","v":"00:00:00"},{"$f":"OFFSET(InputPriceData!G$10,CalculationsAndCharts!$A843+$A$11,0,1,1)","v":0},{"$f":"OFFSET(InputPriceData!C$10,CalculationsAndCharts!$A843+$A$11,0,1,1)","v":0},{"$f":"OFFSET(InputPriceData!D$10,CalculationsAndCharts!$A843+$A$11,0,1,1)","v":0},{"$f":"OFFSET(InputPriceData!E$10,CalculationsAndCharts!$A843+$A$11,0,1,1)","v":0},{"$f":"OFFSET(InputPriceData!F$10,CalculationsAndCharts!$A843+$A$11,0,1,1)","v":0},{"$f":"IF(AND(A843<=$B$20,$S$14),$T$14,0)","v":0},{"$f":"IF(AND(A843<=$B$20,$S$15),$T$15,0)","v":0},{"$f":"IF(AND(A843<=$B$20,$S$16),$T$16,0)","v":0},{"$f":"IF(AND(A843<=$B$20,$S$17),$T$17,0)","v":0},{"$f":"IF(AND(A843<=$B$20,$S$18),$T$18,0)","v":0},0,0,0,0,0,0,0,0,0,0,0,0,0]
[813,{"$f":"OFFSET(InputPriceData!B$10,CalculationsAndCharts!$A844+$A$11,0,1,1)","v":"00:00:00"},{"$f":"OFFSET(InputPriceData!G$10,CalculationsAndCharts!$A844+$A$11,0,1,1)","v":0},{"$f":"OFFSET(InputPriceData!C$10,CalculationsAndCharts!$A844+$A$11,0,1,1)","v":0},{"$f":"OFFSET(InputPriceData!D$10,CalculationsAndCharts!$A844+$A$11,0,1,1)","v":0},{"$f":"OFFSET(InputPriceData!E$10,CalculationsAndCharts!$A844+$A$11,0,1,1)","v":0},{"$f":"OFFSET(InputPriceData!F$10,CalculationsAndCharts!$A844+$A$11,0,1,1)","v":0},{"$f":"IF(AND(A844<=$B$20,$S$14),$T$14,0)","v":0},{"$f":"IF(AND(A844<=$B$20,$S$15),$T$15,0)","v":0},{"$f":"IF(AND(A844<=$B$20,$S$16),$T$16,0)","v":0},{"$f":"IF(AND(A844<=$B$20,$S$17),$T$17,0)","v":0},{"$f":"IF(AND(A844<=$B$20,$S$18),$T$18,0)","v":0},0,0,0,0,0,0,0,0,0,0,0,0,0]
[814,{"$f":"OFFSET(InputPriceData!B$10,CalculationsAndCharts!$A845+$A$11,0,1,1)","v":"00:00:00"},{"$f":"OFFSET(InputPriceData!G$10,CalculationsAndCharts!$A845+$A$11,0,1,1)","v":0},{"$f":"OFFSET(InputPriceData!C$10,CalculationsAndCharts!$A845+$A$11,0,1,1)","v":0},{"$f":"OFFSET(InputPriceData!D$10,CalculationsAndCharts!$A845+$A$11,0,1,1)","v":0},{"$f":"OFFSET(InputPriceData!E$10,CalculationsAndCharts!$A845+$A$11,0,1,1)","v":0},{"$f":"OFFSET(InputPriceData!F$10,CalculationsAndCharts!$A845+$A$11,0,1,1)","v":0},{"$f":"IF(AND(A845<=$B$20,$S$14),$T$14,0)","v":0},{"$f":"IF(AND(A845<=$B$20,$S$15),$T$15,0)","v":0},{"$f":"IF(AND(A845<=$B$20,$S$16),$T$16,0)","v":0},{"$f":"IF(AND(A845<=$B$20,$S$17),$T$17,0)","v":0},{"$f":"IF(AND(A845<=$B$20,$S$18),$T$18,0)","v":0},0,0,0,0,0,0,0,0,0,0,0,0,0]
[815,{"$f":"OFFSET(InputPriceData!B$10,CalculationsAndCharts!$A846+$A$11,0,1,1)","v":"00:00:00"},{"$f":"OFFSET(InputPriceData!G$10,CalculationsAndCharts!$A846+$A$11,0,1,1)","v":0},{"$f":"OFFSET(InputPriceData!C$10,CalculationsAndCharts!$A846+$A$11,0,1,1)","v":0},{"$f":"OFFSET(InputPriceData!D$10,CalculationsAndCharts!$A846+$A$11,0,1,1)","v":0},{"$f":"OFFSET(InputPriceData!E$10,CalculationsAndCharts!$A846+$A$11,0,1,1)","v":0},{"$f":"OFFSET(InputPriceData!F$10,CalculationsAndCharts!$A846+$A$11,0,1,1)","v":0},{"$f":"IF(AND(A846<=$B$20,$S$14),$T$14,0)","v":0},{"$f":"IF(AND(A846<=$B$20,$S$15),$T$15,0)","v":0},{"$f":"IF(AND(A846<=$B$20,$S$16),$T$16,0)","v":0},{"$f":"IF(AND(A846<=$B$20,$S$17),$T$17,0)","v":0},{"$f":"IF(AND(A846<=$B$20,$S$18),$T$18,0)","v":0},0,0,0,0,0,0,0,0,0,0,0,0,0]
[816,{"$f":"OFFSET(InputPriceData!B$10,CalculationsAndCharts!$A847+$A$11,0,1,1)","v":"00:00:00"},{"$f":"OFFSET(InputPriceData!G$10,CalculationsAndCharts!$A847+$A$11,0,1,1)","v":0},{"$f":"OFFSET(InputPriceData!C$10,CalculationsAndCharts!$A847+$A$11,0,1,1)","v":0},{"$f":"OFFSET(InputPriceData!D$10,CalculationsAndCharts!$A847+$A$11,0,1,1)","v":0},{"$f":"OFFSET(InputPriceData!E$10,CalculationsAndCharts!$A847+$A$11,0,1,1)","v":0},{"$f":"OFFSET(InputPriceData!F$10,CalculationsAndCharts!$A847+$A$11,0,1,1)","v":0},{"$f":"IF(AND(A847<=$B$20,$S$14),$T$14,0)","v":0},{"$f":"IF(AND(A847<=$B$20,$S$15),$T$15,0)","v":0},{"$f":"IF(AND(A847<=$B$20,$S$16),$T$16,0)","v":0},{"$f":"IF(AND(A847<=$B$20,$S$17),$T$17,0)","v":0},{"$f":"IF(AND(A847<=$B$20,$S$18),$T$18,0)","v":0},0,0,0,0,0,0,0,0,0,0,0,0,0]
[817,{"$f":"OFFSET(InputPriceData!B$10,CalculationsAndCharts!$A848+$A$11,0,1,1)","v":"00:00:00"},{"$f":"OFFSET(InputPriceData!G$10,CalculationsAndCharts!$A848+$A$11,0,1,1)","v":0},{"$f":"OFFSET(InputPriceData!C$10,CalculationsAndCharts!$A848+$A$11,0,1,1)","v":0},{"$f":"OFFSET(InputPriceData!D$10,CalculationsAndCharts!$A848+$A$11,0,1,1)","v":0},{"$f":"OFFSET(InputPriceData!E$10,CalculationsAndCharts!$A848+$A$11,0,1,1)","v":0},{"$f":"OFFSET(InputPriceData!F$10,CalculationsAndCharts!$A848+$A$11,0,1,1)","v":0},{"$f":"IF(AND(A848<=$B$20,$S$14),$T$14,0)","v":0},{"$f":"IF(AND(A848<=$B$20,$S$15),$T$15,0)","v":0},{"$f":"IF(AND(A848<=$B$20,$S$16),$T$16,0)","v":0},{"$f":"IF(AND(A848<=$B$20,$S$17),$T$17,0)","v":0},{"$f":"IF(AND(A848<=$B$20,$S$18),$T$18,0)","v":0},0,0,0,0,0,0,0,0,0,0,0,0,0]
[818,{"$f":"OFFSET(InputPriceData!B$10,CalculationsAndCharts!$A849+$A$11,0,1,1)","v":"00:00:00"},{"$f":"OFFSET(InputPriceData!G$10,CalculationsAndCharts!$A849+$A$11,0,1,1)","v":0},{"$f":"OFFSET(InputPriceData!C$10,CalculationsAndCharts!$A849+$A$11,0,1,1)","v":0},{"$f":"OFFSET(InputPriceData!D$10,CalculationsAndCharts!$A849+$A$11,0,1,1)","v":0},{"$f":"OFFSET(InputPriceData!E$10,CalculationsAndCharts!$A849+$A$11,0,1,1)","v":0},{"$f":"OFFSET(InputPriceData!F$10,CalculationsAndCharts!$A849+$A$11,0,1,1)","v":0},{"$f":"IF(AND(A849<=$B$20,$S$14),$T$14,0)","v":0},{"$f":"IF(AND(A849<=$B$20,$S$15),$T$15,0)","v":0},{"$f":"IF(AND(A849<=$B$20,$S$16),$T$16,0)","v":0},{"$f":"IF(AND(A849<=$B$20,$S$17),$T$17,0)","v":0},{"$f":"IF(AND(A849<=$B$20,$S$18),$T$18,0)","v":0},0,0,0,0,0,0,0,0,0,0,0,0,0]
[819,{"$f":"OFFSET(InputPriceData!B$10,CalculationsAndCharts!$A850+$A$11,0,1,1)","v":"00:00:00"},{"$f":"OFFSET(InputPriceData!G$10,CalculationsAndCharts!$A850+$A$11,0,1,1)","v":0},{"$f":"OFFSET(InputPriceData!C$10,CalculationsAndCharts!$A850+$A$11,0,1,1)","v":0},{"$f":"OFFSET(InputPriceData!D$10,CalculationsAndCharts!$A850+$A$11,0,1,1)","v":0},{"$f":"OFFSET(InputPriceData!E$10,CalculationsAndCharts!$A850+$A$11,0,1,1)","v":0},{"$f":"OFFSET(InputPriceData!F$10,CalculationsAndCharts!$A850+$A$11,0,1,1)","v":0},{"$f":"IF(AND(A850<=$B$20,$S$14),$T$14,0)","v":0},{"$f":"IF(AND(A850<=$B$20,$S$15),$T$15,0)","v":0},{"$f":"IF(AND(A850<=$B$20,$S$16),$T$16,0)","v":0},{"$f":"IF(AND(A850<=$B$20,$S$17),$T$17,0)","v":0},{"$f":"IF(AND(A850<=$B$20,$S$18),$T$18,0)","v":0},0,0,0,0,0,0,0,0,0,0,0,0,0]
[820,{"$f":"OFFSET(InputPriceData!B$10,CalculationsAndCharts!$A851+$A$11,0,1,1)","v":"00:00:00"},{"$f":"OFFSET(InputPriceData!G$10,CalculationsAndCharts!$A851+$A$11,0,1,1)","v":0},{"$f":"OFFSET(InputPriceData!C$10,CalculationsAndCharts!$A851+$A$11,0,1,1)","v":0},{"$f":"OFFSET(InputPriceData!D$10,CalculationsAndCharts!$A851+$A$11,0,1,1)","v":0},{"$f":"OFFSET(InputPriceData!E$10,CalculationsAndCharts!$A851+$A$11,0,1,1)","v":0},{"$f":"OFFSET(InputPriceData!F$10,CalculationsAndCharts!$A851+$A$11,0,1,1)","v":0},{"$f":"IF(AND(A851<=$B$20,$S$14),$T$14,0)","v":0},{"$f":"IF(AND(A851<=$B$20,$S$15),$T$15,0)","v":0},{"$f":"IF(AND(A851<=$B$20,$S$16),$T$16,0)","v":0},{"$f":"IF(AND(A851<=$B$20,$S$17),$T$17,0)","v":0},{"$f":"IF(AND(A851<=$B$20,$S$18),$T$18,0)","v":0},0,0,0,0,0,0,0,0,0,0,0,0,0]
[821,{"$f":"OFFSET(InputPriceData!B$10,CalculationsAndCharts!$A852+$A$11,0,1,1)","v":"00:00:00"},{"$f":"OFFSET(InputPriceData!G$10,CalculationsAndCharts!$A852+$A$11,0,1,1)","v":0},{"$f":"OFFSET(InputPriceData!C$10,CalculationsAndCharts!$A852+$A$11,0,1,1)","v":0},{"$f":"OFFSET(InputPriceData!D$10,CalculationsAndCharts!$A852+$A$11,0,1,1)","v":0},{"$f":"OFFSET(InputPriceData!E$10,CalculationsAndCharts!$A852+$A$11,0,1,1)","v":0},{"$f":"OFFSET(InputPriceData!F$10,CalculationsAndCharts!$A852+$A$11,0,1,1)","v":0},{"$f":"IF(AND(A852<=$B$20,$S$14),$T$14,0)","v":0},{"$f":"IF(AND(A852<=$B$20,$S$15),$T$15,0)","v":0},{"$f":"IF(AND(A852<=$B$20,$S$16),$T$16,0)","v":0},{"$f":"IF(AND(A852<=$B$20,$S$17),$T$17,0)","v":0},{"$f":"IF(AND(A852<=$B$20,$S$18),$T$18,0)","v":0},0,0,0,0,0,0,0,0,0,0,0,0,0]
[822,{"$f":"OFFSET(InputPriceData!B$10,CalculationsAndCharts!$A853+$A$11,0,1,1)","v":"00:00:00"},{"$f":"OFFSET(InputPriceData!G$10,CalculationsAndCharts!$A853+$A$11,0,1,1)","v":0},{"$f":"OFFSET(InputPriceData!C$10,CalculationsAndCharts!$A853+$A$11,0,1,1)","v":0},{"$f":"OFFSET(InputPriceData!D$10,CalculationsAndCharts!$A853+$A$11,0,1,1)","v":0},{"$f":"OFFSET(InputPriceData!E$10,CalculationsAndCharts!$A853+$A$11,0,1,1)","v":0},{"$f":"OFFSET(InputPriceData!F$10,CalculationsAndCharts!$A853+$A$11,0,1,1)","v":0},{"$f":"IF(AND(A853<=$B$20,$S$14),$T$14,0)","v":0},{"$f":"IF(AND(A853<=$B$20,$S$15),$T$15,0)","v":0},{"$f":"IF(AND(A853<=$B$20,$S$16),$T$16,0)","v":0},{"$f":"IF(AND(A853<=$B$20,$S$17),$T$17,0)","v":0},{"$f":"IF(AND(A853<=$B$20,$S$18),$T$18,0)","v":0},0,0,0,0,0,0,0,0,0,0,0,0,0]
[823,{"$f":"OFFSET(InputPriceData!B$10,CalculationsAndCharts!$A854+$A$11,0,1,1)","v":"00:00:00"},{"$f":"OFFSET(InputPriceData!G$10,CalculationsAndCharts!$A854+$A$11,0,1,1)","v":0},{"$f":"OFFSET(InputPriceData!C$10,CalculationsAndCharts!$A854+$A$11,0,1,1)","v":0},{"$f":"OFFSET(InputPriceData!D$10,CalculationsAndCharts!$A854+$A$11,0,1,1)","v":0},{"$f":"OFFSET(InputPriceData!E$10,CalculationsAndCharts!$A854+$A$11,0,1,1)","v":0},{"$f":"OFFSET(InputPriceData!F$10,CalculationsAndCharts!$A854+$A$11,0,1,1)","v":0},{"$f":"IF(AND(A854<=$B$20,$S$14),$T$14,0)","v":0},{"$f":"IF(AND(A854<=$B$20,$S$15),$T$15,0)","v":0},{"$f":"IF(AND(A854<=$B$20,$S$16),$T$16,0)","v":0},{"$f":"IF(AND(A854<=$B$20,$S$17),$T$17,0)","v":0},{"$f":"IF(AND(A854<=$B$20,$S$18),$T$18,0)","v":0},0,0,0,0,0,0,0,0,0,0,0,0,0]
[824,{"$f":"OFFSET(InputPriceData!B$10,CalculationsAndCharts!$A855+$A$11,0,1,1)","v":"00:00:00"},{"$f":"OFFSET(InputPriceData!G$10,CalculationsAndCharts!$A855+$A$11,0,1,1)","v":0},{"$f":"OFFSET(InputPriceData!C$10,CalculationsAndCharts!$A855+$A$11,0,1,1)","v":0},{"$f":"OFFSET(InputPriceData!D$10,CalculationsAndCharts!$A855+$A$11,0,1,1)","v":0},{"$f":"OFFSET(InputPriceData!E$10,CalculationsAndCharts!$A855+$A$11,0,1,1)","v":0},{"$f":"OFFSET(InputPriceData!F$10,CalculationsAndCharts!$A855+$A$11,0,1,1)","v":0},{"$f":"IF(AND(A855<=$B$20,$S$14),$T$14,0)","v":0},{"$f":"IF(AND(A855<=$B$20,$S$15),$T$15,0)","v":0},{"$f":"IF(AND(A855<=$B$20,$S$16),$T$16,0)","v":0},{"$f":"IF(AND(A855<=$B$20,$S$17),$T$17,0)","v":0},{"$f":"IF(AND(A855<=$B$20,$S$18),$T$18,0)","v":0},0,0,0,0,0,0,0,0,0,0,0,0,0]
[825,{"$f":"OFFSET(InputPriceData!B$10,CalculationsAndCharts!$A856+$A$11,0,1,1)","v":"00:00:00"},{"$f":"OFFSET(InputPriceData!G$10,CalculationsAndCharts!$A856+$A$11,0,1,1)","v":0},{"$f":"OFFSET(InputPriceData!C$10,CalculationsAndCharts!$A856+$A$11,0,1,1)","v":0},{"$f":"OFFSET(InputPriceData!D$10,CalculationsAndCharts!$A856+$A$11,0,1,1)","v":0},{"$f":"OFFSET(InputPriceData!E$10,CalculationsAndCharts!$A856+$A$11,0,1,1)","v":0},{"$f":"OFFSET(InputPriceData!F$10,CalculationsAndCharts!$A856+$A$11,0,1,1)","v":0},{"$f":"IF(AND(A856<=$B$20,$S$14),$T$14,0)","v":0},{"$f":"IF(AND(A856<=$B$20,$S$15),$T$15,0)","v":0},{"$f":"IF(AND(A856<=$B$20,$S$16),$T$16,0)","v":0},{"$f":"IF(AND(A856<=$B$20,$S$17),$T$17,0)","v":0},{"$f":"IF(AND(A856<=$B$20,$S$18),$T$18,0)","v":0},0,0,0,0,0,0,0,0,0,0,0,0,0]
[826,{"$f":"OFFSET(InputPriceData!B$10,CalculationsAndCharts!$A857+$A$11,0,1,1)","v":"00:00:00"},{"$f":"OFFSET(InputPriceData!G$10,CalculationsAndCharts!$A857+$A$11,0,1,1)","v":0},{"$f":"OFFSET(InputPriceData!C$10,CalculationsAndCharts!$A857+$A$11,0,1,1)","v":0},{"$f":"OFFSET(InputPriceData!D$10,CalculationsAndCharts!$A857+$A$11,0,1,1)","v":0},{"$f":"OFFSET(InputPriceData!E$10,CalculationsAndCharts!$A857+$A$11,0,1,1)","v":0},{"$f":"OFFSET(InputPriceData!F$10,CalculationsAndCharts!$A857+$A$11,0,1,1)","v":0},{"$f":"IF(AND(A857<=$B$20,$S$14),$T$14,0)","v":0},{"$f":"IF(AND(A857<=$B$20,$S$15),$T$15,0)","v":0},{"$f":"IF(AND(A857<=$B$20,$S$16),$T$16,0)","v":0},{"$f":"IF(AND(A857<=$B$20,$S$17),$T$17,0)","v":0},{"$f":"IF(AND(A857<=$B$20,$S$18),$T$18,0)","v":0},0,0,0,0,0,0,0,0,0,0,0,0,0]
[827,{"$f":"OFFSET(InputPriceData!B$10,CalculationsAndCharts!$A858+$A$11,0,1,1)","v":"00:00:00"},{"$f":"OFFSET(InputPriceData!G$10,CalculationsAndCharts!$A858+$A$11,0,1,1)","v":0},{"$f":"OFFSET(InputPriceData!C$10,CalculationsAndCharts!$A858+$A$11,0,1,1)","v":0},{"$f":"OFFSET(InputPriceData!D$10,CalculationsAndCharts!$A858+$A$11,0,1,1)","v":0},{"$f":"OFFSET(InputPriceData!E$10,CalculationsAndCharts!$A858+$A$11,0,1,1)","v":0},{"$f":"OFFSET(InputPriceData!F$10,CalculationsAndCharts!$A858+$A$11,0,1,1)","v":0},{"$f":"IF(AND(A858<=$B$20,$S$14),$T$14,0)","v":0},{"$f":"IF(AND(A858<=$B$20,$S$15),$T$15,0)","v":0},{"$f":"IF(AND(A858<=$B$20,$S$16),$T$16,0)","v":0},{"$f":"IF(AND(A858<=$B$20,$S$17),$T$17,0)","v":0},{"$f":"IF(AND(A858<=$B$20,$S$18),$T$18,0)","v":0},0,0,0,0,0,0,0,0,0,0,0,0,0]
[828,{"$f":"OFFSET(InputPriceData!B$10,CalculationsAndCharts!$A859+$A$11,0,1,1)","v":"00:00:00"},{"$f":"OFFSET(InputPriceData!G$10,CalculationsAndCharts!$A859+$A$11,0,1,1)","v":0},{"$f":"OFFSET(InputPriceData!C$10,CalculationsAndCharts!$A859+$A$11,0,1,1)","v":0},{"$f":"OFFSET(InputPriceData!D$10,CalculationsAndCharts!$A859+$A$11,0,1,1)","v":0},{"$f":"OFFSET(InputPriceData!E$10,CalculationsAndCharts!$A859+$A$11,0,1,1)","v":0},{"$f":"OFFSET(InputPriceData!F$10,CalculationsAndCharts!$A859+$A$11,0,1,1)","v":0},{"$f":"IF(AND(A859<=$B$20,$S$14),$T$14,0)","v":0},{"$f":"IF(AND(A859<=$B$20,$S$15),$T$15,0)","v":0},{"$f":"IF(AND(A859<=$B$20,$S$16),$T$16,0)","v":0},{"$f":"IF(AND(A859<=$B$20,$S$17),$T$17,0)","v":0},{"$f":"IF(AND(A859<=$B$20,$S$18),$T$18,0)","v":0},0,0,0,0,0,0,0,0,0,0,0,0,0]
[829,{"$f":"OFFSET(InputPriceData!B$10,CalculationsAndCharts!$A860+$A$11,0,1,1)","v":"00:00:00"},{"$f":"OFFSET(InputPriceData!G$10,CalculationsAndCharts!$A860+$A$11,0,1,1)","v":0},{"$f":"OFFSET(InputPriceData!C$10,CalculationsAndCharts!$A860+$A$11,0,1,1)","v":0},{"$f":"OFFSET(InputPriceData!D$10,CalculationsAndCharts!$A860+$A$11,0,1,1)","v":0},{"$f":"OFFSET(InputPriceData!E$10,CalculationsAndCharts!$A860+$A$11,0,1,1)","v":0},{"$f":"OFFSET(InputPriceData!F$10,CalculationsAndCharts!$A860+$A$11,0,1,1)","v":0},{"$f":"IF(AND(A860<=$B$20,$S$14),$T$14,0)","v":0},{"$f":"IF(AND(A860<=$B$20,$S$15),$T$15,0)","v":0},{"$f":"IF(AND(A860<=$B$20,$S$16),$T$16,0)","v":0},{"$f":"IF(AND(A860<=$B$20,$S$17),$T$17,0)","v":0},{"$f":"IF(AND(A860<=$B$20,$S$18),$T$18,0)","v":0},0,0,0,0,0,0,0,0,0,0,0,0,0]
[830,{"$f":"OFFSET(InputPriceData!B$10,CalculationsAndCharts!$A861+$A$11,0,1,1)","v":"00:00:00"},{"$f":"OFFSET(InputPriceData!G$10,CalculationsAndCharts!$A861+$A$11,0,1,1)","v":0},{"$f":"OFFSET(InputPriceData!C$10,CalculationsAndCharts!$A861+$A$11,0,1,1)","v":0},{"$f":"OFFSET(InputPriceData!D$10,CalculationsAndCharts!$A861+$A$11,0,1,1)","v":0},{"$f":"OFFSET(InputPriceData!E$10,CalculationsAndCharts!$A861+$A$11,0,1,1)","v":0},{"$f":"OFFSET(InputPriceData!F$10,CalculationsAndCharts!$A861+$A$11,0,1,1)","v":0},{"$f":"IF(AND(A861<=$B$20,$S$14),$T$14,0)","v":0},{"$f":"IF(AND(A861<=$B$20,$S$15),$T$15,0)","v":0},{"$f":"IF(AND(A861<=$B$20,$S$16),$T$16,0)","v":0},{"$f":"IF(AND(A861<=$B$20,$S$17),$T$17,0)","v":0},{"$f":"IF(AND(A861<=$B$20,$S$18),$T$18,0)","v":0},0,0,0,0,0,0,0,0,0,0,0,0,0]
[831,{"$f":"OFFSET(InputPriceData!B$10,CalculationsAndCharts!$A862+$A$11,0,1,1)","v":"00:00:00"},{"$f":"OFFSET(InputPriceData!G$10,CalculationsAndCharts!$A862+$A$11,0,1,1)","v":0},{"$f":"OFFSET(InputPriceData!C$10,CalculationsAndCharts!$A862+$A$11,0,1,1)","v":0},{"$f":"OFFSET(InputPriceData!D$10,CalculationsAndCharts!$A862+$A$11,0,1,1)","v":0},{"$f":"OFFSET(InputPriceData!E$10,CalculationsAndCharts!$A862+$A$11,0,1,1)","v":0},{"$f":"OFFSET(InputPriceData!F$10,CalculationsAndCharts!$A862+$A$11,0,1,1)","v":0},{"$f":"IF(AND(A862<=$B$20,$S$14),$T$14,0)","v":0},{"$f":"IF(AND(A862<=$B$20,$S$15),$T$15,0)","v":0},{"$f":"IF(AND(A862<=$B$20,$S$16),$T$16,0)","v":0},{"$f":"IF(AND(A862<=$B$20,$S$17),$T$17,0)","v":0},{"$f":"IF(AND(A862<=$B$20,$S$18),$T$18,0)","v":0},0,0,0,0,0,0,0,0,0,0,0,0,0]
[832,{"$f":"OFFSET(InputPriceData!B$10,CalculationsAndCharts!$A863+$A$11,0,1,1)","v":"00:00:00"},{"$f":"OFFSET(InputPriceData!G$10,CalculationsAndCharts!$A863+$A$11,0,1,1)","v":0},{"$f":"OFFSET(InputPriceData!C$10,CalculationsAndCharts!$A863+$A$11,0,1,1)","v":0},{"$f":"OFFSET(InputPriceData!D$10,CalculationsAndCharts!$A863+$A$11,0,1,1)","v":0},{"$f":"OFFSET(InputPriceData!E$10,CalculationsAndCharts!$A863+$A$11,0,1,1)","v":0},{"$f":"OFFSET(InputPriceData!F$10,CalculationsAndCharts!$A863+$A$11,0,1,1)","v":0},{"$f":"IF(AND(A863<=$B$20,$S$14),$T$14,0)","v":0},{"$f":"IF(AND(A863<=$B$20,$S$15),$T$15,0)","v":0},{"$f":"IF(AND(A863<=$B$20,$S$16),$T$16,0)","v":0},{"$f":"IF(AND(A863<=$B$20,$S$17),$T$17,0)","v":0},{"$f":"IF(AND(A863<=$B$20,$S$18),$T$18,0)","v":0},0,0,0,0,0,0,0,0,0,0,0,0,0]
[833,{"$f":"OFFSET(InputPriceData!B$10,CalculationsAndCharts!$A864+$A$11,0,1,1)","v":"00:00:00"},{"$f":"OFFSET(InputPriceData!G$10,CalculationsAndCharts!$A864+$A$11,0,1,1)","v":0},{"$f":"OFFSET(InputPriceData!C$10,CalculationsAndCharts!$A864+$A$11,0,1,1)","v":0},{"$f":"OFFSET(InputPriceData!D$10,CalculationsAndCharts!$A864+$A$11,0,1,1)","v":0},{"$f":"OFFSET(InputPriceData!E$10,CalculationsAndCharts!$A864+$A$11,0,1,1)","v":0},{"$f":"OFFSET(InputPriceData!F$10,CalculationsAndCharts!$A864+$A$11,0,1,1)","v":0},{"$f":"IF(AND(A864<=$B$20,$S$14),$T$14,0)","v":0},{"$f":"IF(AND(A864<=$B$20,$S$15),$T$15,0)","v":0},{"$f":"IF(AND(A864<=$B$20,$S$16),$T$16,0)","v":0},{"$f":"IF(AND(A864<=$B$20,$S$17),$T$17,0)","v":0},{"$f":"IF(AND(A864<=$B$20,$S$18),$T$18,0)","v":0},0,0,0,0,0,0,{"$f":"IF($A864=$B$28,S$31,0)","v":0},0,0,0,0,0,0]
[834,{"$f":"OFFSET(InputPriceData!B$10,CalculationsAndCharts!$A865+$A$11,0,1,1)","v":"00:00:00"},{"$f":"OFFSET(InputPriceData!G$10,CalculationsAndCharts!$A865+$A$11,0,1,1)","v":0},{"$f":"OFFSET(InputPriceData!C$10,CalculationsAndCharts!$A865+$A$11,0,1,1)","v":0},{"$f":"OFFSET(InputPriceData!D$10,CalculationsAndCharts!$A865+$A$11,0,1,1)","v":0},{"$f":"OFFSET(InputPriceData!E$10,CalculationsAndCharts!$A865+$A$11,0,1,1)","v":0},{"$f":"OFFSET(InputPriceData!F$10,CalculationsAndCharts!$A865+$A$11,0,1,1)","v":0},{"$f":"IF(AND(A865<=$B$20,$S$14),$T$14,0)","v":0},{"$f":"IF(AND(A865<=$B$20,$S$15),$T$15,0)","v":0},{"$f":"IF(AND(A865<=$B$20,$S$16),$T$16,0)","v":0},{"$f":"IF(AND(A865<=$B$20,$S$17),$T$17,0)","v":0},{"$f":"IF(AND(A865<=$B$20,$S$18),$T$18,0)","v":0},{"$f":"IF(AND(A865<=$B$20,$S$8),$T$8,0)","v":0},{"$f":"IF(AND(A865<=$B$20,$S$7),$T$7,0)","v":0},{"$f":"IF(AND(A865<=$B$20,$S$6),$T$6,0)","v":0},{"$f":"IF(AND(A865<=$B$20,$S$5),$T$5,0)","v":0},{"$f":"IF(AND(A865<=$B$20,$S$4),$T$4,0)","v":0},{"$f":"IF(AND(A865>$B$20,A865<=($B$20+$C$18)),$T$10-Y865,0)","v":0},0,{"$f":"IF($A865=$B$27,S$31,0)","v":0},{"$f":"IF(AND(A865<=$B$20,A865>($B$20-$C$18)),$F$11,0)","v":0},{"$f":"IF(AND($S$10,A865>$B$20,A865<=($B$20+$C$18)),$T$10,0)","v":0},{"$f":"IF(AND($S$11,A865>$B$20,A865<=($B$20+$C$18)),$T$11,0)","v":0},{"$f":"IF(AND($S$12,A865>$B$20,A865<=($B$20+$C$18)),$T$12,0)","v":0},{"$f":"IF(AND(A865>$B$20,A865<=($B$20+$C$18)),$T$12,0)","v":0}]
[835,{"$f":"OFFSET(InputPriceData!B$10,CalculationsAndCharts!$A866+$A$11,0,1,1)","v":"00:00:00"},{"$f":"OFFSET(InputPriceData!G$10,CalculationsAndCharts!$A866+$A$11,0,1,1)","v":0},{"$f":"OFFSET(InputPriceData!C$10,CalculationsAndCharts!$A866+$A$11,0,1,1)","v":0},{"$f":"OFFSET(InputPriceData!D$10,CalculationsAndCharts!$A866+$A$11,0,1,1)","v":0},{"$f":"OFFSET(InputPriceData!E$10,CalculationsAndCharts!$A866+$A$11,0,1,1)","v":0},{"$f":"OFFSET(InputPriceData!F$10,CalculationsAndCharts!$A866+$A$11,0,1,1)","v":0},{"$f":"IF(AND(A866<=$B$20,$S$14),$T$14,0)","v":0},{"$f":"IF(AND(A866<=$B$20,$S$15),$T$15,0)","v":0},{"$f":"IF(AND(A866<=$B$20,$S$16),$T$16,0)","v":0},{"$f":"IF(AND(A866<=$B$20,$S$17),$T$17,0)","v":0},{"$f":"IF(AND(A866<=$B$20,$S$18),$T$18,0)","v":0},0,0,0,0,0,0,0,0,0,0,0,0,0]
[836,{"$f":"OFFSET(InputPriceData!B$10,CalculationsAndCharts!$A867+$A$11,0,1,1)","v":"00:00:00"},{"$f":"OFFSET(InputPriceData!G$10,CalculationsAndCharts!$A867+$A$11,0,1,1)","v":0},{"$f":"OFFSET(InputPriceData!C$10,CalculationsAndCharts!$A867+$A$11,0,1,1)","v":0},{"$f":"OFFSET(InputPriceData!D$10,CalculationsAndCharts!$A867+$A$11,0,1,1)","v":0},{"$f":"OFFSET(InputPriceData!E$10,CalculationsAndCharts!$A867+$A$11,0,1,1)","v":0},{"$f":"OFFSET(InputPriceData!F$10,CalculationsAndCharts!$A867+$A$11,0,1,1)","v":0},{"$f":"IF(AND(A867<=$B$20,$S$14),$T$14,0)","v":0},{"$f":"IF(AND(A867<=$B$20,$S$15),$T$15,0)","v":0},{"$f":"IF(AND(A867<=$B$20,$S$16),$T$16,0)","v":0},{"$f":"IF(AND(A867<=$B$20,$S$17),$T$17,0)","v":0},{"$f":"IF(AND(A867<=$B$20,$S$18),$T$18,0)","v":0},0,0,0,0,0,0,0,0,0,0,0,0,0]
[837,{"$f":"OFFSET(InputPriceData!B$10,CalculationsAndCharts!$A868+$A$11,0,1,1)","v":"00:00:00"},{"$f":"OFFSET(InputPriceData!G$10,CalculationsAndCharts!$A868+$A$11,0,1,1)","v":0},{"$f":"OFFSET(InputPriceData!C$10,CalculationsAndCharts!$A868+$A$11,0,1,1)","v":0},{"$f":"OFFSET(InputPriceData!D$10,CalculationsAndCharts!$A868+$A$11,0,1,1)","v":0},{"$f":"OFFSET(InputPriceData!E$10,CalculationsAndCharts!$A868+$A$11,0,1,1)","v":0},{"$f":"OFFSET(InputPriceData!F$10,CalculationsAndCharts!$A868+$A$11,0,1,1)","v":0},{"$f":"IF(AND(A868<=$B$20,$S$14),$T$14,0)","v":0},{"$f":"IF(AND(A868<=$B$20,$S$15),$T$15,0)","v":0},{"$f":"IF(AND(A868<=$B$20,$S$16),$T$16,0)","v":0},{"$f":"IF(AND(A868<=$B$20,$S$17),$T$17,0)","v":0},{"$f":"IF(AND(A868<=$B$20,$S$18),$T$18,0)","v":0},0,0,0,0,0,0,0,0,0,0,0,0,0]
[838,{"$f":"OFFSET(InputPriceData!B$10,CalculationsAndCharts!$A869+$A$11,0,1,1)","v":"00:00:00"},{"$f":"OFFSET(InputPriceData!G$10,CalculationsAndCharts!$A869+$A$11,0,1,1)","v":0},{"$f":"OFFSET(InputPriceData!C$10,CalculationsAndCharts!$A869+$A$11,0,1,1)","v":0},{"$f":"OFFSET(InputPriceData!D$10,CalculationsAndCharts!$A869+$A$11,0,1,1)","v":0},{"$f":"OFFSET(InputPriceData!E$10,CalculationsAndCharts!$A869+$A$11,0,1,1)","v":0},{"$f":"OFFSET(InputPriceData!F$10,CalculationsAndCharts!$A869+$A$11,0,1,1)","v":0},{"$f":"IF(AND(A869<=$B$20,$S$14),$T$14,0)","v":0},{"$f":"IF(AND(A869<=$B$20,$S$15),$T$15,0)","v":0},{"$f":"IF(AND(A869<=$B$20,$S$16),$T$16,0)","v":0},{"$f":"IF(AND(A869<=$B$20,$S$17),$T$17,0)","v":0},{"$f":"IF(AND(A869<=$B$20,$S$18),$T$18,0)","v":0},0,0,0,0,0,0,0,0,0,0,0,0,0]
[839,{"$f":"OFFSET(InputPriceData!B$10,CalculationsAndCharts!$A870+$A$11,0,1,1)","v":"00:00:00"},{"$f":"OFFSET(InputPriceData!G$10,CalculationsAndCharts!$A870+$A$11,0,1,1)","v":0},{"$f":"OFFSET(InputPriceData!C$10,CalculationsAndCharts!$A870+$A$11,0,1,1)","v":0},{"$f":"OFFSET(InputPriceData!D$10,CalculationsAndCharts!$A870+$A$11,0,1,1)","v":0},{"$f":"OFFSET(InputPriceData!E$10,CalculationsAndCharts!$A870+$A$11,0,1,1)","v":0},{"$f":"OFFSET(InputPriceData!F$10,CalculationsAndCharts!$A870+$A$11,0,1,1)","v":0},{"$f":"IF(AND(A870<=$B$20,$S$14),$T$14,0)","v":0},{"$f":"IF(AND(A870<=$B$20,$S$15),$T$15,0)","v":0},{"$f":"IF(AND(A870<=$B$20,$S$16),$T$16,0)","v":0},{"$f":"IF(AND(A870<=$B$20,$S$17),$T$17,0)","v":0},{"$f":"IF(AND(A870<=$B$20,$S$18),$T$18,0)","v":0},0,0,0,0,0,0,0,0,0,0,0,0,0]
[840,{"$f":"OFFSET(InputPriceData!B$10,CalculationsAndCharts!$A871+$A$11,0,1,1)","v":"00:00:00"},{"$f":"OFFSET(InputPriceData!G$10,CalculationsAndCharts!$A871+$A$11,0,1,1)","v":0},{"$f":"OFFSET(InputPriceData!C$10,CalculationsAndCharts!$A871+$A$11,0,1,1)","v":0},{"$f":"OFFSET(InputPriceData!D$10,CalculationsAndCharts!$A871+$A$11,0,1,1)","v":0},{"$f":"OFFSET(InputPriceData!E$10,CalculationsAndCharts!$A871+$A$11,0,1,1)","v":0},{"$f":"OFFSET(InputPriceData!F$10,CalculationsAndCharts!$A871+$A$11,0,1,1)","v":0},{"$f":"IF(AND(A871<=$B$20,$S$14),$T$14,0)","v":0},{"$f":"IF(AND(A871<=$B$20,$S$15),$T$15,0)","v":0},{"$f":"IF(AND(A871<=$B$20,$S$16),$T$16,0)","v":0},{"$f":"IF(AND(A871<=$B$20,$S$17),$T$17,0)","v":0},{"$f":"IF(AND(A871<=$B$20,$S$18),$T$18,0)","v":0},0,0,0,0,0,0,0,0,0,0,0,0,0]
[841,{"$f":"OFFSET(InputPriceData!B$10,CalculationsAndCharts!$A872+$A$11,0,1,1)","v":"00:00:00"},{"$f":"OFFSET(InputPriceData!G$10,CalculationsAndCharts!$A872+$A$11,0,1,1)","v":0},{"$f":"OFFSET(InputPriceData!C$10,CalculationsAndCharts!$A872+$A$11,0,1,1)","v":0},{"$f":"OFFSET(InputPriceData!D$10,CalculationsAndCharts!$A872+$A$11,0,1,1)","v":0},{"$f":"OFFSET(InputPriceData!E$10,CalculationsAndCharts!$A872+$A$11,0,1,1)","v":0},{"$f":"OFFSET(InputPriceData!F$10,CalculationsAndCharts!$A872+$A$11,0,1,1)","v":0},{"$f":"IF(AND(A872<=$B$20,$S$14),$T$14,0)","v":0},{"$f":"IF(AND(A872<=$B$20,$S$15),$T$15,0)","v":0},{"$f":"IF(AND(A872<=$B$20,$S$16),$T$16,0)","v":0},{"$f":"IF(AND(A872<=$B$20,$S$17),$T$17,0)","v":0},{"$f":"IF(AND(A872<=$B$20,$S$18),$T$18,0)","v":0},0,0,0,0,0,0,0,0,0,0,0,0,0]